{"text_format":"1","workbook":"xlsx","n_sheets":23,"sheets":["Title","Key Locations Lots & Structures","Key Descriptions","Allocations Changes","Allocation Change Graph","Pivot Table Data","Print Inventory Forms","Print Occupancy Forms","Print QPass Forms","Graph By Neighborhood (A)","Graph By Neighborhood (B)","Graph By Neighborhood (V)","Graph By Neighborhood (S)","Graph By Neighborhood (SR)","Graph By Neighborhood (EV) ","By Area","By Surface Lot","By Neighborhood","By Structure","By Space Type","ADA By Location","EV By Location","Reserved By Location"],"not_rendered":{"charts":8,"images":0,"macros":1,"external_links":2,"defined_names":279,"comments":0,"pivot_tables":16},"unopened":[],"bounds":{"document_bytes":16777216,"sheet_cells":100000,"rows_first":2000,"rows_last":500,"rows_between":2000,"halvings":0,"cell_chars":16384,"cell_head_chars":4096},"cells_cut":0,"cells_raw":0,"read":"whole","date_system":"1900"}

{"sheet":"Title","index":0,"n_rows":15,"n_cols":4,"rows_kept":15,"cut":false,"hidden":false,"merged":[]}
[]
[]
[]
[]
[]
[]
[]
[]
[null,null,null,"Transportation Services"]
[]
[null,null,null,"Winter Quarter "]
[null,null,null,"Parking Space Occupancy Report"]
[]
[null,null,null,"University of California San Diego"]
[null,null,null,"March 17, 2025"]

{"sheet":"Key Locations Lots & Structures","index":1,"n_rows":43,"n_cols":22,"rows_kept":43,"cut":false,"hidden":false,"merged":[]}
[]
[null,"Location",null,"Location",null,null,null,null,null,null,null,null,null,null,null,null,"Location",null,null,null,null,"Location"]
[null,"La Jolla Campus",null," La Jolla Campus",null,null,null,null,null,null,null,null,null,null,null,null," La Jolla Campus",null,null,null,null,"Medical Center Hillcrest"]
[]
[null,"Area",null,"Area",null,null,null,null,null,null,null,null,null,null,null,null,"Area",null,null,null,null,"Area"]
[null,"Scripps Institution of Oceanography",null," West Campus",null,null,null,null,null,null,null,null,null,null,null,null," East Campus",null,null,null,null,"Medical Center Hillcrest"]
[]
[null,"Neighborhood",null,"Neighborhood",null,null,null,null,null,null,null,null,null,null,null,null,"Neighborhood",null,null,null,null,"Neighborhood"]
[null,null,null,"Revelle","Muir","N. Torrey Pines","Marshall","Roosevelt","North","Torrey Pines","Pepper ","University","Warren","Campus","Health ",null,"East","Health","Preuss","Science",null,"Medical Center Hillcrest"]
[null,"SIO",null,"College","College","Living &Learning","College","College","Campus","Center","Canyon","Center","College","Services","Sciences",null,"Recreation","Sciences","School","Research"]
[null,null,null,null,null,null,null,null,null,null,null,null,null,"Complex","West",null,null,"East",null,"Park"]
[null,"Lots & Structures",null,"Lots & Structures",null,null,null,null,null,null,null,null,null,null,null,null,"Lots & Structures",null,null,null,null,"Lots & Structures"]
[null,"P001",null,"P101","P113","Scholars","P302","P306","P351","TPC South","P401","P405","P418","P507","P601",null,"P701","P702","P706","P782",null,"Arbor"]
[null,"P002",null,"P103","P201","(P211-3)","P303","Hopkins","P352","(P381-3)","P402","P407","P502","P510","P602",null,null,"P703",null,"P785",null,"(P901-14)"]
[null,"P003",null,"P106","P202","TDLLC","P304","(P341-7)","P357","P384","P406","P408","P503",null,"P603",null,null,"P704",null,"Vela/",null,"First Ave"]
[null,"P004",null,"P107","P203",null,"P308","P353","P358","P385","P506","P410","P504",null,"P604",null,null,"P705",null,"Nuevo W."]
[null,"P005",null,"P108","P204",null,"P309","P354","P359","P386",null,"P411","P505",null,"P605",null,null,null,null,"(P791-3)",null,"P952"]
[null,"P006",null,"P110","P205",null,"P310","Pangea",null,"TPC North",null,"P412","P508",null,"P606",null,null,"P707",null,null,null,"P953"]
[null,"P007",null,"P112","P206",null,null,"(P371-6)",null,"(P391-5)",null,"P413","P509",null,"P607",null,null,"Campus Pt E.",null,null,null,"P954"]
[null,"P008",null,"P116","P414",null,null,null,null,null,null,"Gilman",null,null,"P608",null,null,"(P721-2)",null,null,null,"P955"]
[null,"P009",null,null,"P415",null,null,null,null,null,null,"(P451-6)",null,null,"P610",null,null,"Campus Pt W.",null,null,null,"P956"]
[null,"P010",null,null,"P416",null,null,null,null,null,null,"P501",null,null,"South ",null,null,"(P731-5)",null,null,null,"P957"]
[null,"P011",null,null,null,null,null,null,null,null,null,null,null,null,"(P651-5)",null,null,"Athena",null,null,null,"P958"]
[null,"P012",null,null,null,null,null,null,null,null,null,null,null,null,null,null,null,"(P741-7)",null,null,null,"P962"]
[null,"P013",null,null,null,null,null,null,null,null,null,null,null,null,null,null,null,"P751",null,null,null,"P963"]
[null,"P014",null,null,null,null,null,null,null,null,null,null,null,null,null,null,null,"P752",null,null,null,"P964"]
[null,"P015",null,null,null,null,null,null,null,null,null,null,null,null,null,null,null,"P753"]
[null,"P016",null,null,null,null,null,null,null,null,null,null,null,null,null,null,null,"P757"]
[null,"P017",null,null,null,null,null,null,null,null,null,null,null,null,null,null,null,"P758"]
[null,"P021",null,null,null,null,null,null,null,null,null,null,null,null,null,null,null,"P759"]
[null,null,null,null,null,null,null,null,null,null,null,null,null,null,null,null,null,"P760"]
[null,null,null,null,null,null,null,null,null,null,null,null,null,null,null,null,null,"P761"]
[null,null,null,null,null,null,null,null,null,null,null,null,null,null,null,null,null,"P762"]
[null,null,null,null,null,null,null,null,null,null,null,null,null,null,null,null,null,"P784"]
[]
[]
[null,"Lot Completely Closed"]
[null,"Total Inventory Numbers Affected by Construction"]
[null,"Closed for COVID-19 testing"]
[]
[null,"Partially Affected by Construction"]
[null,"Closed for Construction"]
[null,"Permanently Closed"]

{"sheet":"Key Descriptions","index":2,"n_rows":29,"n_cols":4,"rows_kept":29,"cut":false,"hidden":false,"merged":[[0,1,0,2]]}
[null,"Key 2: Parking Space Descriptions"]
[]
[null,"Parking Space Type","Description","Subtypes"]
[null,"A","\"A\" spaces are for individuals with \"A\" permits.","If no subtype is listed, any \"A\" permit holder can use the space without limitations. Other permits can upgrade to use these spaces."]
[null,null,"These spaces are stenciled with red blocks, 'A'; Or designated with 24/7 signage.","24/7 A spaces have signage indicating A permits are required at all times. Preuss A and Physician A require additional permits to use this spaces."]
[null,"B","\"B\" spaces are for individuals with \"B\" permits.","Preuss B and SIO B require additional permits to use this spaces."]
[null,null,"These spaces are stenciled with green blocks, 'B'."]
[null,"S","\"S\" spaces are for individuals with \"S\" permits.","SIO S require additional permits to use this spaces."]
[null,null,"These spaces are stenciled with yellow blocks, 'S'."]
[null,"SR","\"SR\" spaces are for individuals with \"SR\" permits."]
[null,null,"These spaces are stenciled with black and yellow 'SR' blocks."]
[null,"D","\"D\" spaces are for individuals with \"D\" permits or permit bought via ParkMobile."]
[null,null,"These spaces are not stenciled and are located at Regents lots, P703, P704, P705."]
[null,"$3.25 (SS)","\"$3.25\" (SS) spaces can be used by visitors or permit holders with permit bought via ParkMobile."]
[null,null,"Spaces have no stencil or color block."]
[null,"Visitor","\"Visitor\" spaces are for those without permits.","Subtypes include: Medical Patients, Birch Aquarium, Sanford Consortium, Police Visitor"]
[null,null,"These spaces are stenciled with white blocks, 'V'.","Payment at these subtype spaces is not subject to the same restrictions as Visitor spaces."]
[null,"Reserved","\"Reserved\" spaces are stenciled with numbers, 'Reserved', and/or signage."]
[null,null,"Spaces are paid for by departments or individuals."]
[null,"Allocated","\"Allocated\" spaces are special use spaces.","A full list of Allocated spaces is listed in the Allocated Summary table of this report. "]
[null,null,"These spaces are designated with signage or stenciled with description."]
[null,"Accessible","\"Accessible\" spaces are for individuals with disabilities.","Accessible spaces with Electric Vehicle charging access are listed seperately."]
[null,"Accessible (Van)"]
[null,"UC Vehicle","\"UC Vehicle\" spaces are for official university vehicles, stenciled 'UC Vehicle' or 'UC Cart'.","Subtype includes: UC Cart spaces."]
[null,"Service Yard","\"Service Yard\" spaces are stenciled 'Service Yard'."]
[null,"Loading","\"Loading\" spaces are stenciled 'Loading'.","If no subtype is listed, it is a Loading space marked only with the Loading Time Limit. Subtypes include: Bars (large areas not spaces), Docks, Commercial."]
[null,"Carpool","\"Carpool\" spaces have \"Reserved\" signage with notes on the type of carpool permit needed as well as hours of enforcement.","Subtypes include: 2-Person, A/B/S 3-Person, Electric Vehicle charging access."]
[null,"Electric Vehicle","\"Electric Vehicle\" spaces have signage with notes indicating time limit and permit requirements."]
[null,"Motorcycle","\"Motorcycle\" sections are designated with signage and/or stenciled 'Motorcycles'."]

{"sheet":"Allocations Changes","index":3,"n_rows":29,"n_cols":8,"rows_kept":29,"cut":false,"hidden":true,"merged":[]}
[null,null,null,{"$f":"SUBTOTAL(9, D3:D200)","v":-1539},null,{"$f":"SUBTOTAL(9, F3:F200)","v":1289}]
["Lot #","Location in Lot","Space Type From","Number of Stalls -","Space Type To","Number of Stalls +","Date Changes Made To Lot","Survey Period Changes Took Place"]
["Hopkins","Level 2","SR",-28,"S",28,45545,"Fall 2024/2025"]
["Scholars","Level 2","SR",-10,"B",10,45545,"Fall 2024/2025"]
["South","Level 1","SR",-95,"A",95,45545,"Fall 2024/2025"]
["Pangea","Level 2","SR",-199,"S",199,45545,"Fall 2024/2025"]
["P206","North end.  Middle row.","B 2 Hour",-12,"Commercial Loading",4,45566,"Fall 2024/2025"]
["P381","West end","B",-1,"Reserved",1,45599,"Fall 2024/2025"]
["P603","Various","A",-3,"Reserved",3,45599,"Fall 2024/2025"]
["P606","Various","Blank Reserved",-1,"Reserved",1,45599,"Fall 2024/2025"]
["P602","Various","A",-4,"Reserved",4,45599,"Fall 2024/2025"]
["P206","Various","B 2 Hour",-32,"A 2 Hour",32,45649,"Winter 2024/2025"]
["Athena","Level 1, 2","A",-21,"Patient / Visitor",21,45649,"Winter 2024/2025"]
["Athena","Level 3, 4","B",-104,"A",104,45649,"Winter 2024/2025"]
["Athena","Level 3","Reserved",-10,"A",10,45649,"Winter 2024/2025"]
["Athena","Level 3","B",-20,"Patient / Visitor",20,45649,"Winter 2024/2025"]
["TDLLN","Level 4","B",-12,"SR",12,45576,"Fall 2024/2025"]
["Mesa Canyon","Level 3","G Residential",-50,"B",50,45689,"Winter 2024/2025"]
["P760","All","All",-252,"-",0,45688,"Winter 2024/2025"]
["TDLLN","Level 2","Carpool",{"$f":"-(28+22)","v":-50},"A",50,45696,"Winter 2024/2025"]
["TDLLN","Level 2","Visitor",-56,"Carpool",56,45696,"Winter 2024/2025"]
["TDLLN","Level 3","A",-90,"B",90,45696,"Winter 2024/2025"]
["TDLLN","Level 4","B",-29,"SR",29,45696,"Winter 2024/2025"]
["South","Level 2","Carpool",-63,"A",63,45696,"Winter 2024/2025"]
["South","Level 4","B",-61,"Carpool",61,45696,"Winter 2024/2025"]
["South","Level 3","B",-24,"A",24,45696,"Winter 2024/2025"]
["Mesa Canyon","Level 3 / 4","B",-129,"G Residential",129,45710,"Winter 2024/2025"]
["P702","Entire Lot","S",-183,"B",183,45710,"Winter 2024/2025"]
["South",null,null,null,"EV",10,null,"Spring 2024"]

{"sheet":"Allocation Change Graph","index":4,"n_rows":20,"n_cols":59,"rows_kept":20,"cut":false,"hidden":true,"merged":[]}
["Row Labels","Sum of Inventory By Location","Sum of Max Open Stalls","Sum of Min Open Stalls",null,null,null,"Row Labels","Sum of Min % Occupancy","Sum of Max % Occupancy","Sum of Optimal %"]
["Health Sciences East",null,null,null,null,null,null,"Health Sciences East"]
["A",null,null,null,null,null,null,"A"]
["Athena",307,245,70,null,null,null,"Athena",0.20195439739413681,0.7719869706840391,0.9]
["Accessible",null,null,null,null,null,null,"Accessible"]
["Athena",71,60,10,null,null,null,"Athena",0.15492957746478872,0.85915492957746475,0.85,null,null,null,null,null,null,null,null,null,null,null,null,null,null,null,null,null,null,null,null,null,null,null,null,null,null,null,null,null,null,null,null,null,null,null,null,null,null,null,null,null,null,null,null,"Location","Space Type",null," + / - "]
["B",null,null,null,null,null,null,"B",null,null,null,null,null,null,null,null,null,null,null,null,null,null,null,null,null,null,null,null,null,null,null,null,null,null,null,null,null,null,null,null,null,null,null,null,null,null,null,null,null,null,null,null,null,null,null,null,null,{"$f":"BD7&BE7","v":""}]
["Athena",540,347.5,1,null,null,null,"Athena",0.35648148148148145,0.99814814814814812,0.9,null,null,null,null,null,null,null,null,null,null,null,null,null,null,null,null,null,null,null,null,null,null,null,null,null,null,null,null,null,null,null,null,null,null,null,null,null,null,null,null,null,null,null,null,null,null,{"$f":"BD8&BE8","v":""}]
["Electric Vehicle",null,null,null,null,null,null,"Electric Vehicle",null,null,null,null,null,null,null,null,null,null,null,null,null,null,null,null,null,null,null,null,null,null,null,null,null,null,null,null,null,null,null,null,null,null,null,null,null,null,null,null,null,null,null,null,null,null,null,null,null,""]
["Athena",45,39.25,10,null,null,null,"Athena",0.12777777777777777,0.77777777777777779,0.85,null,null,null,null,null,null,null,null,null,null,null,null,null,null,null,null,null,null,null,null,null,null,null,null,null,null,null,null,null,null,null,null,null,null,null,null,null,null,null,null,null,null,null,null,null,null,""]
["Motorcycle Section",null,null,null,null,null,null,"Motorcycle Section",null,null,null,null,null,null,null,null,null,null,null,null,null,null,null,null,null,null,null,null,null,null,null,null,null,null,null,null,null,null,null,null,null,null,null,null,null,null,null,null,null,null,null,null,null,null,null,null,null,""]
["Athena",30,30,20,null,null,null,"Athena",0,0.33333333333333331,0.85,null,null,null,null,null,null,null,null,null,null,null,null,null,null,null,null,null,null,null,null,null,null,null,null,null,null,null,null,null,null,null,null,null,null,null,null,null,null,null,null,null,null,null,null,null,null,""]
["Reserved",null,null,null,null,null,null,"Reserved",null,null,null,null,null,null,null,null,null,null,null,null,null,null,null,null,null,null,null,null,null,null,null,null,null,null,null,null,null,null,null,null,null,null,null,null,null,null,null,null,null,null,null,null,null,null,null,null,null,""]
["Athena",6,6,0,null,null,null,"Athena",0,1,0.85,null,null,null,null,null,null,null,null,null,null,null,null,null,null,null,null,null,null,null,null,null,null,null,null,null,null,null,null,null,null,null,null,null,null,null,null,null,null,null,null,null,null,null,null,null,null,""]
["Visitor",null,null,null,null,null,null,"Visitor",null,null,null,null,null,null,null,null,null,null,null,null,null,null,null,null,null,null,null,null,null,null,null,null,null,null,null,null,null,null,null,null,null,null,null,null,null,null,null,null,null,null,null,null,null,null,null,null,null,""]
["Athena",286,272,78,null,null,null,"Athena",4.8951048951048952E-2,0.72727272727272729,0.85,null,null,null,null,null,null,null,null,null,null,null,null,null,null,null,null,null,null,null,null,null,null,null,null,null,null,null,null,null,null,null,null,null,null,null,null,null,null,null,null,null,null,null,null,null,null,""]
["Accessible (Van)",null,null,null,null,null,null,"Accessible (Van)",null,null,null,null,null,null,null,null,null,null,null,null,null,null,null,null,null,null,null,null,null,null,null,null,null,null,null,null,null,null,null,null,null,null,null,null,null,null,null,null,null,null,null,null,null,null,null,null,null,""]
["Athena",8,8,3,null,null,null,"Athena",0,0.625,0.85,null,null,null,null,null,null,null,null,null,null,null,null,null,null,null,null,null,null,null,null,null,null,null,null,null,null,null,null,null,null,null,null,null,null,null,null,null,null,null,null,null,null,null,null,null,null,""]
[null,null,null,null,null,null,null,null,null,null,null,null,null,null,null,null,null,null,null,null,null,null,null,null,null,null,null,null,null,null,null,null,null,null,null,null,null,null,null,null,null,null,null,null,null,null,null,null,null,null,null,null,null,null,null,null,null,""]
[null,null,null,null,null,null,null,null,null,null,null,null,null,null,null,null,null,null,null,null,null,null,null,null,null,null,null,null,null,null,null,null,null,null,null,null,null,null,null,null,null,null,null,null,null,null,null,null,null,null,null,null,null,null,null,null,null,""]

{"sheet":"Pivot Table Data","index":5,"n_rows":1001,"n_cols":46,"rows_kept":1001,"cut":false,"hidden":true,"merged":[[1,0,1,1],[2,12,2,14]]}
[]
["Choose Quarter / Year\nof Survey",null,null,"Winter 2025","Count of Locations\n& Sum of Stalls",null,{"$f":"SUBTOTAL(3, G5:G1001)","v":944},{"$f":"SUBTOTAL(3, H5:H1001)","v":944},{"$f":"SUBTOTAL(3, I5:I1001)","v":944},null,null,null,{"$f":"SUBTOTAL(3, M5:M1001)","v":944},{"$f":"SUBTOTAL(3, N5:N1001)","v":631},{"$f":"SUBTOTAL(3, O5:O1001)","v":146},null,null,null,{"$f":"SUBTOTAL(9, S5:S1001)","v":20885},20885,0,null,null,0,276,20885,0,0,0,11529,8492,7006,6042,5576,5106,5403,6613,9082,11975.75,0,0,0,0,0,3509,14278.75]
[null,null,null,null,null,null,null,null,null,null,null,null,"Yes"]
["Date","Zone #","University Wide","La Jolla / Hillcrest","Area","Neighborhood","Structure","Lot #","Garage Level","Space Type","Space Subtype","Time Limit [minutes]","For Inventory Survey?","For Occupancy Survey?","For Qpass Survey?","Lot  / Structure","&","Type Count","Inventory By Locaton & Level","Inventory By Location","Theoretical Allocation Changes By Location  (+ / -)","Desired Percentage","Desired Car Count","Summer 2025","Fall 2025","Winter 2025","Spring 2025","6am","7am","8am","9am","10am","11am","12pm","1pm","2pm","3pm","4pm","5pm","6pm","7pm","8pm","9pm","10pm","Min Open Stalls","Max Open Stalls"]
[null,null,"University Wide","La Jolla Campus","East Campus","Health Sciences East","Athena","P741","Ground Floor","A",null,null,"Yes","Yes","Yes",{"$f":"IF(G5=\"Surface Lot\", H5, G5)","v":"Athena"},{"$f":"P5&J5&K5&L5","v":"AthenaA"},{"$f":"COUNTIF(Q$5:Q5, Q5 )","v":1},{"$f":"_xlfn.IFS(D$2=X$4, X5, D$2=Y$4, Y5,D$2=Z$4, Z5,D$2=AA$4, AA5)","v":4},{"$f":"IF(R5=1,SUMIF(Q:Q,Q5,S:S)+U5, \"\")","v":307},{"$f":"IF(R5=1, _xlfn.IFNA(VLOOKUP(Q5, 'Allocation Change Graph'!BF$7:BG$20, 2, FALSE), 0), 0)","v":0},0.9,{"$f":"IF(R5=1, V5*T5, \"\")","v":276.3},null,null,4,null,null,null,135,100,116,90,70,75,106,134,201,245,null,null,null,null,null,{"$f":"MIN($AB5:$AR5)+U5","v":70},{"$f":"MAX($AB5:$AR5)+U5","v":245}]
[null,null,"University Wide","La Jolla Campus","East Campus","Health Sciences East","Athena","P741","Ground Floor","Accessible",null,null,"Yes","Yes",null,"Athena","AthenaAccessible",{"$f":"COUNTIF(Q$5:Q6, Q6 )","v":1},{"$f":"_xlfn.IFS(D$2=X$4, X6, D$2=Y$4, Y6,D$2=Z$4, Z6,D$2=AA$4, AA6)","v":49},71,{"$f":"IF(R6=1, _xlfn.IFNA(VLOOKUP(Q6, 'Allocation Change Graph'!BF$7:BG$20, 2, FALSE), 0), 0)","v":0},0.85,60.35,null,null,49,null,null,null,30,20,15,10,15,18,13,16,49,60,null,null,null,null,null,10,60]
[null,null,"University Wide","La Jolla Campus","East Campus","Health Sciences East","Athena","P741","Ground Floor","Accessible (Van)",null,null,"Yes","Yes",null,"Athena","AthenaAccessible (Van)",{"$f":"COUNTIF(Q$5:Q7, Q7 )","v":1},{"$f":"_xlfn.IFS(D$2=X$4, X7, D$2=Y$4, Y7,D$2=Z$4, Z7,D$2=AA$4, AA7)","v":3},8,{"$f":"IF(R7=1, _xlfn.IFNA(VLOOKUP(Q7, 'Allocation Change Graph'!BF$7:BG$20, 2, FALSE), 0), 0)","v":0},0.85,6.8,null,null,3,null,null,null,3,4,5,3,6,5,5,5,8,8,null,null,null,null,null,3,8]
[null,null,"University Wide","La Jolla Campus","East Campus","Health Sciences East","Athena","P741","Ground Floor","Accessible (Van)",null,null,"Yes",null,null,"Athena","AthenaAccessible (Van)",{"$f":"COUNTIF(Q$5:Q8, Q8 )","v":2},{"$f":"_xlfn.IFS(D$2=X$4, X8, D$2=Y$4, Y8,D$2=Z$4, Z8,D$2=AA$4, AA8)","v":0},"",{"$f":"IF(R8=1, _xlfn.IFNA(VLOOKUP(Q8, 'Allocation Change Graph'!BF$7:BG$20, 2, FALSE), 0), 0)","v":0},null,"",null,null,0,null,null,null,null,null,null,null,null,null,null,null,null,{"$f":"AL8+(AL8*0.25)","v":0},null,null,null,null,null,0,0]
[null,null,"University Wide","La Jolla Campus","East Campus","Health Sciences East","Athena","P741","Ground Floor","Electric Vehicle","ADA",null,"Yes","Yes",null,"Athena","AthenaElectric VehicleADA",{"$f":"COUNTIF(Q$5:Q9, Q9 )","v":1},{"$f":"_xlfn.IFS(D$2=X$4, X9, D$2=Y$4, Y9,D$2=Z$4, Z9,D$2=AA$4, AA9)","v":2},2,{"$f":"IF(R9=1, _xlfn.IFNA(VLOOKUP(Q9, 'Allocation Change Graph'!BF$7:BG$20, 2, FALSE), 0), 0)","v":0},0.85,1.7,null,null,2,null,null,null,1,0,0,2,2,2,0,1,2,2,null,null,null,null,null,0,2]
[null,null,"University Wide","La Jolla Campus","East Campus","Health Sciences East","Athena","P741","Ground Floor","Electric Vehicle",null,null,"Yes","Yes",null,"Athena","AthenaElectric Vehicle",{"$f":"COUNTIF(Q$5:Q10, Q10 )","v":1},{"$f":"_xlfn.IFS(D$2=X$4, X10, D$2=Y$4, Y10,D$2=Z$4, Z10,D$2=AA$4, AA10)","v":16},16,{"$f":"IF(R10=1, _xlfn.IFNA(VLOOKUP(Q10, 'Allocation Change Graph'!BF$7:BG$20, 2, FALSE), 0), 0)","v":0},0.85,13.6,null,null,16,null,null,null,15,15,5,15,12,16,14,14,14,16,null,null,null,null,null,5,16]
[null,null,"University Wide","La Jolla Campus","East Campus","Health Sciences East","Athena","P741","Ground Floor","Motorcycle Section",null,null,"Yes","Yes",null,"Athena","AthenaMotorcycle Section",{"$f":"COUNTIF(Q$5:Q11, Q11 )","v":1},{"$f":"_xlfn.IFS(D$2=X$4, X11, D$2=Y$4, Y11,D$2=Z$4, Z11,D$2=AA$4, AA11)","v":0},30,{"$f":"IF(R11=1, _xlfn.IFNA(VLOOKUP(Q11, 'Allocation Change Graph'!BF$7:BG$20, 2, FALSE), 0), 0)","v":0},0.85,25.5,null,null,0,null,null,null,27,20,28,30,29,27,30,30,30,30,null,null,null,null,null,20,30]
[null,null,"University Wide","La Jolla Campus","East Campus","Health Sciences East","Athena","P741","Ground Floor","Visitor","Patient/Visitor Reserved","30 minutes","Yes","Yes","Yes","Athena","AthenaVisitorPatient/Visitor Reserved30 minutes",{"$f":"COUNTIF(Q$5:Q12, Q12 )","v":1},{"$f":"_xlfn.IFS(D$2=X$4, X12, D$2=Y$4, Y12,D$2=Z$4, Z12,D$2=AA$4, AA12)","v":9},9,{"$f":"IF(R12=1, _xlfn.IFNA(VLOOKUP(Q12, 'Allocation Change Graph'!BF$7:BG$20, 2, FALSE), 0), 0)","v":0},0.85,7.6499999999999995,null,null,9,null,null,null,5,4,5,2,3,6,5,7,9,2,null,null,null,null,null,2,9]
[null,null,"University Wide","La Jolla Campus","East Campus","Health Sciences East","Athena","P741","Ground Floor","Visitor",null,null,"Yes","Yes","Yes","Athena","AthenaVisitor",{"$f":"COUNTIF(Q$5:Q13, Q13 )","v":1},{"$f":"_xlfn.IFS(D$2=X$4, X13, D$2=Y$4, Y13,D$2=Z$4, Z13,D$2=AA$4, AA13)","v":64},237,{"$f":"IF(R13=1, _xlfn.IFNA(VLOOKUP(Q13, 'Allocation Change Graph'!BF$7:BG$20, 2, FALSE), 0), 0)","v":0},0.85,201.45,null,null,64,null,null,null,150,100,70,72,110,120,92,145,206,224,null,null,null,null,null,70,224]
[null,null,"University Wide","La Jolla Campus","East Campus","Health Sciences East","Athena","P742","L2","A",null,null,"Yes",null,null,"Athena","AthenaA",{"$f":"COUNTIF(Q$5:Q14, Q14 )","v":2},{"$f":"_xlfn.IFS(D$2=X$4, X14, D$2=Y$4, Y14,D$2=Z$4, Z14,D$2=AA$4, AA14)","v":9},"",{"$f":"IF(R14=1, _xlfn.IFNA(VLOOKUP(Q14, 'Allocation Change Graph'!BF$7:BG$20, 2, FALSE), 0), 0)","v":0},null,"",null,null,9,null,null,null,null,null,null,null,null,null,null,null,null,null,null,null,null,null,null,0,0]
[null,null,"University Wide","La Jolla Campus","East Campus","Health Sciences East","Athena","P742","L2","Accessible",null,null,"Yes",null,null,"Athena","AthenaAccessible",{"$f":"COUNTIF(Q$5:Q15, Q15 )","v":2},{"$f":"_xlfn.IFS(D$2=X$4, X15, D$2=Y$4, Y15,D$2=Z$4, Z15,D$2=AA$4, AA15)","v":15},"",{"$f":"IF(R15=1, _xlfn.IFNA(VLOOKUP(Q15, 'Allocation Change Graph'!BF$7:BG$20, 2, FALSE), 0), 0)","v":0},null,"",null,null,15,null,null,null,null,null,null,null,null,null,null,null,null,null,null,null,null,null,null,0,0]
[null,null,"University Wide","La Jolla Campus","East Campus","Health Sciences East","Athena","P742","L2","Accessible (Van)",null,null,"Yes",null,null,"Athena","AthenaAccessible (Van)",{"$f":"COUNTIF(Q$5:Q16, Q16 )","v":3},{"$f":"_xlfn.IFS(D$2=X$4, X16, D$2=Y$4, Y16,D$2=Z$4, Z16,D$2=AA$4, AA16)","v":3},"",{"$f":"IF(R16=1, _xlfn.IFNA(VLOOKUP(Q16, 'Allocation Change Graph'!BF$7:BG$20, 2, FALSE), 0), 0)","v":0},null,"",null,null,3,null,null,null,null,null,null,null,null,null,null,null,null,null,null,null,null,null,null,0,0]
[null,null,"University Wide","La Jolla Campus","East Campus","Health Sciences East","Athena","P742","L2","Motorcycle Section",null,null,"Yes",null,null,"Athena","AthenaMotorcycle Section",{"$f":"COUNTIF(Q$5:Q17, Q17 )","v":2},{"$f":"_xlfn.IFS(D$2=X$4, X17, D$2=Y$4, Y17,D$2=Z$4, Z17,D$2=AA$4, AA17)","v":10},"",{"$f":"IF(R17=1, _xlfn.IFNA(VLOOKUP(Q17, 'Allocation Change Graph'!BF$7:BG$20, 2, FALSE), 0), 0)","v":0},null,"",null,null,10,null,null,null,null,null,null,null,null,null,null,null,null,null,null,null,null,null,null,0,0]
[null,null,"University Wide","La Jolla Campus","East Campus","Health Sciences East","Athena","P742","L2","Motorcycle Section",null,null,"Yes",null,null,"Athena","AthenaMotorcycle Section",{"$f":"COUNTIF(Q$5:Q18, Q18 )","v":3},{"$f":"_xlfn.IFS(D$2=X$4, X18, D$2=Y$4, Y18,D$2=Z$4, Z18,D$2=AA$4, AA18)","v":2},"",{"$f":"IF(R18=1, _xlfn.IFNA(VLOOKUP(Q18, 'Allocation Change Graph'!BF$7:BG$20, 2, FALSE), 0), 0)","v":0},null,"",null,null,2,null,null,null,null,null,null,null,null,null,null,null,null,null,null,null,null,null,null,0,0]
[null,null,"University Wide","La Jolla Campus","East Campus","Health Sciences East","Athena","P742","L2","Visitor","Infusion",null,"Yes","Yes","Yes","Athena","AthenaVisitorInfusion",{"$f":"COUNTIF(Q$5:Q19, Q19 )","v":1},{"$f":"_xlfn.IFS(D$2=X$4, X19, D$2=Y$4, Y19,D$2=Z$4, Z19,D$2=AA$4, AA19)","v":30},30,{"$f":"IF(R19=1, _xlfn.IFNA(VLOOKUP(Q19, 'Allocation Change Graph'!BF$7:BG$20, 2, FALSE), 0), 0)","v":0},0.85,25.5,null,null,30,null,null,null,25,15,17,5,5,4,12,12,25,29,null,null,null,null,null,4,29]
[null,null,"University Wide","La Jolla Campus","East Campus","Health Sciences East","Athena","P742","L2","Visitor","Radiation",null,"Yes","Yes","Yes","Athena","AthenaVisitorRadiation",{"$f":"COUNTIF(Q$5:Q20, Q20 )","v":1},{"$f":"_xlfn.IFS(D$2=X$4, X20, D$2=Y$4, Y20,D$2=Z$4, Z20,D$2=AA$4, AA20)","v":10},10,{"$f":"IF(R20=1, _xlfn.IFNA(VLOOKUP(Q20, 'Allocation Change Graph'!BF$7:BG$20, 2, FALSE), 0), 0)","v":0},0.85,8.5,null,null,10,null,null,null,6,3,3,3,2,4,3,7,8,{"$f":"AL20+(AL20*0.25)","v":10},null,null,null,null,null,2,10]
[null,null,"University Wide","La Jolla Campus","East Campus","Health Sciences East","Athena","P742","L2","Visitor",null,null,"Yes",null,null,"Athena","AthenaVisitor",{"$f":"COUNTIF(Q$5:Q21, Q21 )","v":2},{"$f":"_xlfn.IFS(D$2=X$4, X21, D$2=Y$4, Y21,D$2=Z$4, Z21,D$2=AA$4, AA21)","v":115},"",{"$f":"IF(R21=1, _xlfn.IFNA(VLOOKUP(Q21, 'Allocation Change Graph'!BF$7:BG$20, 2, FALSE), 0), 0)","v":0},null,"",null,null,115,null,null,null,null,null,null,null,null,null,null,null,null,null,null,null,null,null,null,0,0]
[null,null,"University Wide","La Jolla Campus","East Campus","Health Sciences East","Athena","P743","L3","A",null,null,"Yes",null,null,"Athena","AthenaA",{"$f":"COUNTIF(Q$5:Q22, Q22 )","v":3},{"$f":"_xlfn.IFS(D$2=X$4, X22, D$2=Y$4, Y22,D$2=Z$4, Z22,D$2=AA$4, AA22)","v":147},"",{"$f":"IF(R22=1, _xlfn.IFNA(VLOOKUP(Q22, 'Allocation Change Graph'!BF$7:BG$20, 2, FALSE), 0), 0)","v":0},null,"",null,null,147,null,null,null,null,null,null,null,null,null,null,null,null,null,null,null,null,null,null,0,0]
[null,null,"University Wide","La Jolla Campus","East Campus","Health Sciences East","Athena","P743","L3","A",null,null,"Yes",null,null,"Athena","AthenaA",{"$f":"COUNTIF(Q$5:Q23, Q23 )","v":4},{"$f":"_xlfn.IFS(D$2=X$4, X23, D$2=Y$4, Y23,D$2=Z$4, Z23,D$2=AA$4, AA23)","v":0},"",{"$f":"IF(R23=1, _xlfn.IFNA(VLOOKUP(Q23, 'Allocation Change Graph'!BF$7:BG$20, 2, FALSE), 0), 0)","v":0},null,"",null,null,0,null,null,null,null,null,null,null,null,null,null,null,null,null,null,null,null,null,null,0,0]
[null,null,"University Wide","La Jolla Campus","East Campus","Health Sciences East","Athena","P743","L3","A",null,null,"Yes",null,null,"Athena","AthenaA",{"$f":"COUNTIF(Q$5:Q24, Q24 )","v":5},{"$f":"_xlfn.IFS(D$2=X$4, X24, D$2=Y$4, Y24,D$2=Z$4, Z24,D$2=AA$4, AA24)","v":0},"",{"$f":"IF(R24=1, _xlfn.IFNA(VLOOKUP(Q24, 'Allocation Change Graph'!BF$7:BG$20, 2, FALSE), 0), 0)","v":0},null,"",null,null,0,null,null,null,null,null,null,null,null,null,null,null,null,null,null,null,null,null,null,0,0]
[null,null,"University Wide","La Jolla Campus","East Campus","Health Sciences East","Athena","P743","L3","Accessible",null,null,"Yes",null,null,"Athena","AthenaAccessible",{"$f":"COUNTIF(Q$5:Q25, Q25 )","v":3},{"$f":"_xlfn.IFS(D$2=X$4, X25, D$2=Y$4, Y25,D$2=Z$4, Z25,D$2=AA$4, AA25)","v":7},"",{"$f":"IF(R25=1, _xlfn.IFNA(VLOOKUP(Q25, 'Allocation Change Graph'!BF$7:BG$20, 2, FALSE), 0), 0)","v":0},null,"",null,null,7,null,null,null,null,null,null,null,null,null,null,null,null,null,null,null,null,null,null,0,0]
[null,null,"University Wide","La Jolla Campus","East Campus","Health Sciences East","Athena","P743","L3","Accessible (Van)",null,null,"Yes",null,null,"Athena","AthenaAccessible (Van)",{"$f":"COUNTIF(Q$5:Q26, Q26 )","v":4},{"$f":"_xlfn.IFS(D$2=X$4, X26, D$2=Y$4, Y26,D$2=Z$4, Z26,D$2=AA$4, AA26)","v":2},"",{"$f":"IF(R26=1, _xlfn.IFNA(VLOOKUP(Q26, 'Allocation Change Graph'!BF$7:BG$20, 2, FALSE), 0), 0)","v":0},null,"",null,null,2,null,null,null,null,null,null,null,null,null,null,null,null,null,null,null,null,null,null,0,0]
[null,null,"University Wide","La Jolla Campus","East Campus","Health Sciences East","Athena","P743","L3","B",null,null,"Yes","Yes","Yes","Athena","AthenaB",{"$f":"COUNTIF(Q$5:Q27, Q27 )","v":1},{"$f":"_xlfn.IFS(D$2=X$4, X27, D$2=Y$4, Y27,D$2=Z$4, Z27,D$2=AA$4, AA27)","v":0},540,{"$f":"IF(R27=1, _xlfn.IFNA(VLOOKUP(Q27, 'Allocation Change Graph'!BF$7:BG$20, 2, FALSE), 0), 0)","v":0},0.9,486,null,null,0,null,null,null,217,150,30,1,6,10,18,122,278,{"$f":"AL27+(AL27*0.25)","v":347.5},null,null,null,null,null,1,347.5]
[null,null,"University Wide","La Jolla Campus","East Campus","Health Sciences East","Athena","P743","L3","Visitor",null,null,"Yes",null,null,"Athena","AthenaVisitor",{"$f":"COUNTIF(Q$5:Q28, Q28 )","v":3},{"$f":"_xlfn.IFS(D$2=X$4, X28, D$2=Y$4, Y28,D$2=Z$4, Z28,D$2=AA$4, AA28)","v":58},"",{"$f":"IF(R28=1, _xlfn.IFNA(VLOOKUP(Q28, 'Allocation Change Graph'!BF$7:BG$20, 2, FALSE), 0), 0)","v":0},null,"",null,null,58,null,null,null,null,null,null,null,null,null,null,null,null,null,null,null,null,null,null,0,0]
[null,null,"University Wide","La Jolla Campus","East Campus","Health Sciences East","Athena","P744","L4","A",null,null,"Yes",null,null,"Athena","AthenaA",{"$f":"COUNTIF(Q$5:Q29, Q29 )","v":6},{"$f":"_xlfn.IFS(D$2=X$4, X29, D$2=Y$4, Y29,D$2=Z$4, Z29,D$2=AA$4, AA29)","v":147},"",{"$f":"IF(R29=1, _xlfn.IFNA(VLOOKUP(Q29, 'Allocation Change Graph'!BF$7:BG$20, 2, FALSE), 0), 0)","v":0},null,"",null,null,147,null,null,null,null,null,null,null,null,null,null,null,null,null,null,null,null,null,null,0,0]
[null,null,"University Wide","La Jolla Campus","East Campus","Health Sciences East","Athena","P744","L4","B",null,null,"Yes",null,null,"Athena","AthenaB",{"$f":"COUNTIF(Q$5:Q30, Q30 )","v":2},{"$f":"_xlfn.IFS(D$2=X$4, X30, D$2=Y$4, Y30,D$2=Z$4, Z30,D$2=AA$4, AA30)","v":76},"",{"$f":"IF(R30=1, _xlfn.IFNA(VLOOKUP(Q30, 'Allocation Change Graph'!BF$7:BG$20, 2, FALSE), 0), 0)","v":0},null,"",null,null,76,null,null,null,null,null,null,null,null,null,null,null,null,null,null,null,null,null,null,0,0]
[null,null,"University Wide","La Jolla Campus","East Campus","Health Sciences East","Athena","P744","L4","Motorcycle Section",null,null,"Yes",null,null,"Athena","AthenaMotorcycle Section",{"$f":"COUNTIF(Q$5:Q31, Q31 )","v":4},{"$f":"_xlfn.IFS(D$2=X$4, X31, D$2=Y$4, Y31,D$2=Z$4, Z31,D$2=AA$4, AA31)","v":5},"",{"$f":"IF(R31=1, _xlfn.IFNA(VLOOKUP(Q31, 'Allocation Change Graph'!BF$7:BG$20, 2, FALSE), 0), 0)","v":0},null,"",null,null,5,null,null,null,null,null,null,null,null,null,null,null,null,null,null,null,null,null,null,0,0]
[null,null,"University Wide","La Jolla Campus","East Campus","Health Sciences East","Athena","P744","L4","Reserved",null,null,"Yes","Yes",null,"Athena","AthenaReserved",{"$f":"COUNTIF(Q$5:Q32, Q32 )","v":1},{"$f":"_xlfn.IFS(D$2=X$4, X32, D$2=Y$4, Y32,D$2=Z$4, Z32,D$2=AA$4, AA32)","v":6},6,{"$f":"IF(R32=1, _xlfn.IFNA(VLOOKUP(Q32, 'Allocation Change Graph'!BF$7:BG$20, 2, FALSE), 0), 0)","v":0},0.85,5.0999999999999996,null,null,6,null,null,null,3,5,4,0,2,4,4,5,6,6,null,null,null,null,null,0,6]
[null,null,"University Wide","La Jolla Campus","East Campus","Health Sciences East","Athena","P745","L5","B",null,null,"Yes",null,null,"Athena","AthenaB",{"$f":"COUNTIF(Q$5:Q33, Q33 )","v":3},{"$f":"_xlfn.IFS(D$2=X$4, X33, D$2=Y$4, Y33,D$2=Z$4, Z33,D$2=AA$4, AA33)","v":225},"",{"$f":"IF(R33=1, _xlfn.IFNA(VLOOKUP(Q33, 'Allocation Change Graph'!BF$7:BG$20, 2, FALSE), 0), 0)","v":0},null,"",null,null,225,null,null,null,null,null,null,null,null,null,null,null,null,null,null,null,null,null,null,0,0]
[null,null,"University Wide","La Jolla Campus","East Campus","Health Sciences East","Athena","P745","L5","Electric Vehicle",null,"12-Hour","Yes","Yes",null,"Athena","AthenaElectric Vehicle12-Hour",{"$f":"COUNTIF(Q$5:Q34, Q34 )","v":1},{"$f":"_xlfn.IFS(D$2=X$4, X34, D$2=Y$4, Y34,D$2=Z$4, Z34,D$2=AA$4, AA34)","v":0},27,{"$f":"IF(R34=1, _xlfn.IFNA(VLOOKUP(Q34, 'Allocation Change Graph'!BF$7:BG$20, 2, FALSE), 0), 0)","v":0},0.85,22.95,null,null,0,null,null,null,20,15,5,15,12,16,14,15,17,{"$f":"AL34+(AL34*0.25)","v":21.25},null,null,null,null,null,5,21.25]
[null,null,"University Wide","La Jolla Campus","East Campus","Health Sciences East","Athena","P745","L5","Motorcycle Section",null,null,"Yes",null,null,"Athena","AthenaMotorcycle Section",{"$f":"COUNTIF(Q$5:Q35, Q35 )","v":5},{"$f":"_xlfn.IFS(D$2=X$4, X35, D$2=Y$4, Y35,D$2=Z$4, Z35,D$2=AA$4, AA35)","v":5},"",{"$f":"IF(R35=1, _xlfn.IFNA(VLOOKUP(Q35, 'Allocation Change Graph'!BF$7:BG$20, 2, FALSE), 0), 0)","v":0},null,"",null,null,5,null,null,null,null,null,null,null,null,null,null,null,null,null,null,null,null,null,null,0,0]
[null,null,"University Wide","La Jolla Campus","East Campus","Health Sciences East","Athena","P746","L6","B",null,null,"Yes",null,null,"Athena","AthenaB",{"$f":"COUNTIF(Q$5:Q36, Q36 )","v":4},{"$f":"_xlfn.IFS(D$2=X$4, X36, D$2=Y$4, Y36,D$2=Z$4, Z36,D$2=AA$4, AA36)","v":133},"",{"$f":"IF(R36=1, _xlfn.IFNA(VLOOKUP(Q36, 'Allocation Change Graph'!BF$7:BG$20, 2, FALSE), 0), 0)","v":0},null,"",null,null,133,null,null,null,null,null,null,null,null,null,null,null,null,null,null,null,null,null,null,0,0]
[null,null,"University Wide","La Jolla Campus","East Campus","Health Sciences East","Athena","P746","L6","Electric Vehicle",null,"12-Hour","Yes",null,null,"Athena","AthenaElectric Vehicle12-Hour",{"$f":"COUNTIF(Q$5:Q37, Q37 )","v":2},{"$f":"_xlfn.IFS(D$2=X$4, X37, D$2=Y$4, Y37,D$2=Z$4, Z37,D$2=AA$4, AA37)","v":27},"",{"$f":"IF(R37=1, _xlfn.IFNA(VLOOKUP(Q37, 'Allocation Change Graph'!BF$7:BG$20, 2, FALSE), 0), 0)","v":0},null,"",null,null,27,null,null,null,null,null,null,null,null,null,null,null,null,null,null,null,null,null,null,0,0]
[null,null,"University Wide","La Jolla Campus","East Campus","Health Sciences East","Athena","P746","L6","Motorcycle Section",null,null,"Yes",null,null,"Athena","AthenaMotorcycle Section",{"$f":"COUNTIF(Q$5:Q38, Q38 )","v":6},{"$f":"_xlfn.IFS(D$2=X$4, X38, D$2=Y$4, Y38,D$2=Z$4, Z38,D$2=AA$4, AA38)","v":8},"",{"$f":"IF(R38=1, _xlfn.IFNA(VLOOKUP(Q38, 'Allocation Change Graph'!BF$7:BG$20, 2, FALSE), 0), 0)","v":0},null,"",null,null,8,null,null,null,null,null,null,null,null,null,null,null,null,null,null,null,null,null,null,0,0]
[null,null,"University Wide","La Jolla Campus","East Campus","Health Sciences East","Athena","P747","Roof","B",null,null,"Yes",null,null,"Athena","AthenaB",{"$f":"COUNTIF(Q$5:Q39, Q39 )","v":5},{"$f":"_xlfn.IFS(D$2=X$4, X39, D$2=Y$4, Y39,D$2=Z$4, Z39,D$2=AA$4, AA39)","v":106},"",{"$f":"IF(R39=1, _xlfn.IFNA(VLOOKUP(Q39, 'Allocation Change Graph'!BF$7:BG$20, 2, FALSE), 0), 0)","v":0},null,"",null,null,106,null,null,null,null,null,null,null,null,null,null,null,null,null,null,null,null,null,null,0,0]
[null,null,"University Wide","La Jolla Campus","East Campus","Health Sciences East","Campus Point East","P721","L1","A","24/7 Enforced",null,"Yes","Yes","Yes","Campus Point East","Campus Point EastA24/7 Enforced",{"$f":"COUNTIF(Q$5:Q40, Q40 )","v":1},{"$f":"_xlfn.IFS(D$2=X$4, X40, D$2=Y$4, Y40,D$2=Z$4, Z40,D$2=AA$4, AA40)","v":177},371,{"$f":"IF(R40=1, _xlfn.IFNA(VLOOKUP(Q40, 'Allocation Change Graph'!BF$7:BG$20, 2, FALSE), 0), 0)","v":0},0.9,333.90000000000003,null,null,177,null,null,null,51,2,0,1,3,2,3,22,117,198,null,null,null,null,null,0,198]
[null,null,"University Wide","La Jolla Campus","East Campus","Health Sciences East","Campus Point East","P722","L2","A","24/7 Enforced",null,"Yes",null,null,"Campus Point East","Campus Point EastA24/7 Enforced",{"$f":"COUNTIF(Q$5:Q41, Q41 )","v":2},{"$f":"_xlfn.IFS(D$2=X$4, X41, D$2=Y$4, Y41,D$2=Z$4, Z41,D$2=AA$4, AA41)","v":194},"",{"$f":"IF(R41=1, _xlfn.IFNA(VLOOKUP(Q41, 'Allocation Change Graph'!BF$7:BG$20, 2, FALSE), 0), 0)","v":0},null,"",null,null,194,null,null,null,null,null,null,null,null,null,null,null,null,null,null,null,null,null,null,0,0]
[null,null,"University Wide","La Jolla Campus","East Campus","Health Sciences East","Campus Point East","P722","L2","Accessible",null,null,"Yes","Yes",null,"Campus Point East","Campus Point EastAccessible",{"$f":"COUNTIF(Q$5:Q42, Q42 )","v":1},{"$f":"_xlfn.IFS(D$2=X$4, X42, D$2=Y$4, Y42,D$2=Z$4, Z42,D$2=AA$4, AA42)","v":11},11,{"$f":"IF(R42=1, _xlfn.IFNA(VLOOKUP(Q42, 'Allocation Change Graph'!BF$7:BG$20, 2, FALSE), 0), 0)","v":0},0.85,9.35,null,null,11,null,null,null,3,3,0,1,1,1,2,4,0,5,null,null,null,null,null,0,5]
[null,null,"University Wide","La Jolla Campus","East Campus","Health Sciences East","Campus Point East","P722","L2","Accessible (Van)",null,null,"Yes","Yes",null,"Campus Point East","Campus Point EastAccessible (Van)",{"$f":"COUNTIF(Q$5:Q43, Q43 )","v":1},{"$f":"_xlfn.IFS(D$2=X$4, X43, D$2=Y$4, Y43,D$2=Z$4, Z43,D$2=AA$4, AA43)","v":1},1,{"$f":"IF(R43=1, _xlfn.IFNA(VLOOKUP(Q43, 'Allocation Change Graph'!BF$7:BG$20, 2, FALSE), 0), 0)","v":0},0.85,0.85,null,null,1,null,null,null,0,0,0,0,0,1,0,0,0,1,null,null,null,null,null,0,1]
[null,null,"University Wide","La Jolla Campus","East Campus","Health Sciences East","Campus Point East","P722","L2","Electric Vehicle",null,null,"Yes","Yes",null,"Campus Point East","Campus Point EastElectric Vehicle",{"$f":"COUNTIF(Q$5:Q44, Q44 )","v":1},{"$f":"_xlfn.IFS(D$2=X$4, X44, D$2=Y$4, Y44,D$2=Z$4, Z44,D$2=AA$4, AA44)","v":3},3,{"$f":"IF(R44=1, _xlfn.IFNA(VLOOKUP(Q44, 'Allocation Change Graph'!BF$7:BG$20, 2, FALSE), 0), 0)","v":0},0.85,2.5499999999999998,null,null,3,null,null,null,0,0,0,0,1,1,1,0,0,2,null,null,null,null,null,0,2]
[null,null,"University Wide","La Jolla Campus","East Campus","Health Sciences East","Campus Point East","P722","L2","Motorcycle Section",null,null,"Yes","Yes",null,"Campus Point East","Campus Point EastMotorcycle Section",{"$f":"COUNTIF(Q$5:Q45, Q45 )","v":1},{"$f":"_xlfn.IFS(D$2=X$4, X45, D$2=Y$4, Y45,D$2=Z$4, Z45,D$2=AA$4, AA45)","v":8},8,{"$f":"IF(R45=1, _xlfn.IFNA(VLOOKUP(Q45, 'Allocation Change Graph'!BF$7:BG$20, 2, FALSE), 0), 0)","v":0},0.85,6.8,null,null,8,null,null,null,8,8,8,8,8,8,8,1,2,8,null,null,null,null,null,1,8]
[null,null,"University Wide","La Jolla Campus","East Campus","Health Sciences East","Campus Point East","P722","L2","Reserved",null,null,"Yes","Yes",null,"Campus Point East","Campus Point EastReserved",{"$f":"COUNTIF(Q$5:Q46, Q46 )","v":1},{"$f":"_xlfn.IFS(D$2=X$4, X46, D$2=Y$4, Y46,D$2=Z$4, Z46,D$2=AA$4, AA46)","v":40},40,{"$f":"IF(R46=1, _xlfn.IFNA(VLOOKUP(Q46, 'Allocation Change Graph'!BF$7:BG$20, 2, FALSE), 0), 0)","v":0},0.85,34,null,null,40,null,null,null,24,18,18,16,12,9,13,17,23,29,null,null,null,null,null,9,29]
[null,null,"University Wide","La Jolla Campus","East Campus","Health Sciences East","Campus Point East","P723","L3","Reserved","Valet",null,"Yes","Yes",null,"Campus Point East","Campus Point EastReservedValet",{"$f":"COUNTIF(Q$5:Q47, Q47 )","v":1},{"$f":"_xlfn.IFS(D$2=X$4, X47, D$2=Y$4, Y47,D$2=Z$4, Z47,D$2=AA$4, AA47)","v":127},127,{"$f":"IF(R47=1, _xlfn.IFNA(VLOOKUP(Q47, 'Allocation Change Graph'!BF$7:BG$20, 2, FALSE), 0), 0)","v":0},0.85,107.95,null,null,127,null,null,null,114,76,42,26,32,24,29,25,27,103,null,null,null,null,null,24,114]
[null,null,"University Wide","La Jolla Campus","East Campus","Health Sciences East","Campus Point East","P723","L3","Visitor",null,null,"Yes","Yes","Yes","Campus Point East","Campus Point EastVisitor",{"$f":"COUNTIF(Q$5:Q48, Q48 )","v":1},{"$f":"_xlfn.IFS(D$2=X$4, X48, D$2=Y$4, Y48,D$2=Z$4, Z48,D$2=AA$4, AA48)","v":138},138,{"$f":"IF(R48=1, _xlfn.IFNA(VLOOKUP(Q48, 'Allocation Change Graph'!BF$7:BG$20, 2, FALSE), 0), 0)","v":0},0.85,117.3,null,null,138,null,null,null,67,54,29,17,27,18,25,28,31,72,null,null,null,null,null,17,72]
[null,null,"University Wide","La Jolla Campus","East Campus","Health Sciences East","Campus Point West","P731","B3","Motorcycle Section",null,null,"Yes","Yes",null,"Campus Point West","Campus Point WestMotorcycle Section",{"$f":"COUNTIF(Q$5:Q49, Q49 )","v":1},{"$f":"_xlfn.IFS(D$2=X$4, X49, D$2=Y$4, Y49,D$2=Z$4, Z49,D$2=AA$4, AA49)","v":0},0,{"$f":"IF(R49=1, _xlfn.IFNA(VLOOKUP(Q49, 'Allocation Change Graph'!BF$7:BG$20, 2, FALSE), 0), 0)","v":0},0.85,0,null,null,null,null,null,null,0,0,0,0,0,0,0,0,0,0,null,null,null,null,null,0,0]
[null,null,"University Wide","La Jolla Campus","East Campus","Health Sciences East","Campus Point West","P731","B3","Visitor",null,null,"Yes","Yes","Yes","Campus Point West","Campus Point WestVisitor",{"$f":"COUNTIF(Q$5:Q50, Q50 )","v":1},{"$f":"_xlfn.IFS(D$2=X$4, X50, D$2=Y$4, Y50,D$2=Z$4, Z50,D$2=AA$4, AA50)","v":130},611,{"$f":"IF(R50=1, _xlfn.IFNA(VLOOKUP(Q50, 'Allocation Change Graph'!BF$7:BG$20, 2, FALSE), 0), 0)","v":0},0.85,519.35,null,null,130,null,null,null,252,212,184,107,111,124,132,156,148,483,null,null,null,null,null,107,483]
[null,null,"University Wide","La Jolla Campus","East Campus","Health Sciences East","Campus Point West","P732","B2","Motorcycle Section",null,null,"Yes",null,null,"Campus Point West","Campus Point WestMotorcycle Section",{"$f":"COUNTIF(Q$5:Q51, Q51 )","v":2},{"$f":"_xlfn.IFS(D$2=X$4, X51, D$2=Y$4, Y51,D$2=Z$4, Z51,D$2=AA$4, AA51)","v":0},"",{"$f":"IF(R51=1, _xlfn.IFNA(VLOOKUP(Q51, 'Allocation Change Graph'!BF$7:BG$20, 2, FALSE), 0), 0)","v":0},null,"",null,null,null,null,null,null,null,null,null,null,null,null,null,null,null,null,null,null,null,null,null,0,0]
[null,null,"University Wide","La Jolla Campus","East Campus","Health Sciences East","Campus Point West","P732","B2","Visitor",null,null,"Yes",null,null,"Campus Point West","Campus Point WestVisitor",{"$f":"COUNTIF(Q$5:Q52, Q52 )","v":2},{"$f":"_xlfn.IFS(D$2=X$4, X52, D$2=Y$4, Y52,D$2=Z$4, Z52,D$2=AA$4, AA52)","v":181},"",{"$f":"IF(R52=1, _xlfn.IFNA(VLOOKUP(Q52, 'Allocation Change Graph'!BF$7:BG$20, 2, FALSE), 0), 0)","v":0},null,"",null,null,181,null,null,null,null,null,null,null,null,null,null,null,null,null,null,null,null,null,null,0,0]
[null,null,"University Wide","La Jolla Campus","East Campus","Health Sciences East","Campus Point West","P733","B1","Accessible",null,null,"Yes","Yes",null,"Campus Point West","Campus Point WestAccessible",{"$f":"COUNTIF(Q$5:Q53, Q53 )","v":1},{"$f":"_xlfn.IFS(D$2=X$4, X53, D$2=Y$4, Y53,D$2=Z$4, Z53,D$2=AA$4, AA53)","v":31},87,{"$f":"IF(R53=1, _xlfn.IFNA(VLOOKUP(Q53, 'Allocation Change Graph'!BF$7:BG$20, 2, FALSE), 0), 0)","v":0},0.85,73.95,null,null,31,null,null,null,0,0,1,0,0,1,0,1,1,43,null,null,null,null,null,0,43]
[null,null,"University Wide","La Jolla Campus","East Campus","Health Sciences East","Campus Point West","P733","B1","Accessible (Van)",null,null,"Yes","Yes",null,"Campus Point West","Campus Point WestAccessible (Van)",{"$f":"COUNTIF(Q$5:Q54, Q54 )","v":1},{"$f":"_xlfn.IFS(D$2=X$4, X54, D$2=Y$4, Y54,D$2=Z$4, Z54,D$2=AA$4, AA54)","v":6},17,{"$f":"IF(R54=1, _xlfn.IFNA(VLOOKUP(Q54, 'Allocation Change Graph'!BF$7:BG$20, 2, FALSE), 0), 0)","v":0},0.85,14.45,null,null,6,null,null,null,0,0,0,0,0,0,2,1,0,13,null,null,null,null,null,0,13]
[null,null,"University Wide","La Jolla Campus","East Campus","Health Sciences East","Campus Point West","P733","B1","Electric Vehicle",null,null,"Yes","Yes",null,"Campus Point West","Campus Point WestElectric Vehicle",{"$f":"COUNTIF(Q$5:Q55, Q55 )","v":1},{"$f":"_xlfn.IFS(D$2=X$4, X55, D$2=Y$4, Y55,D$2=Z$4, Z55,D$2=AA$4, AA55)","v":6},6,{"$f":"IF(R55=1, _xlfn.IFNA(VLOOKUP(Q55, 'Allocation Change Graph'!BF$7:BG$20, 2, FALSE), 0), 0)","v":0},0.85,5.0999999999999996,null,null,6,null,null,null,0,1,0,0,0,2,1,0,1,4,null,null,null,null,null,0,4]
[null,null,"University Wide","La Jolla Campus","East Campus","Health Sciences East","Campus Point West","P733","B1","Visitor",null,null,"Yes",null,null,"Campus Point West","Campus Point WestVisitor",{"$f":"COUNTIF(Q$5:Q56, Q56 )","v":3},{"$f":"_xlfn.IFS(D$2=X$4, X56, D$2=Y$4, Y56,D$2=Z$4, Z56,D$2=AA$4, AA56)","v":109},"",{"$f":"IF(R56=1, _xlfn.IFNA(VLOOKUP(Q56, 'Allocation Change Graph'!BF$7:BG$20, 2, FALSE), 0), 0)","v":0},null,"",null,null,109,null,null,null,null,null,null,null,null,null,null,null,null,null,null,null,null,null,null,0,0]
[null,null,"University Wide","La Jolla Campus","East Campus","Health Sciences East","Campus Point West","P734","Ground Floor","A","24/7 Enforced",null,"Yes","Yes","Yes","Campus Point West","Campus Point WestA24/7 Enforced",{"$f":"COUNTIF(Q$5:Q57, Q57 )","v":1},{"$f":"_xlfn.IFS(D$2=X$4, X57, D$2=Y$4, Y57,D$2=Z$4, Z57,D$2=AA$4, AA57)","v":7},7,{"$f":"IF(R57=1, _xlfn.IFNA(VLOOKUP(Q57, 'Allocation Change Graph'!BF$7:BG$20, 2, FALSE), 0), 0)","v":0},0.9,6.3,null,null,7,null,null,null,1,2,0,0,0,1,0,2,1,5,null,null,null,null,null,0,5]
[null,null,"University Wide","La Jolla Campus","East Campus","Health Sciences East","Campus Point West","P734","Ground Floor","Accessible",null,null,"Yes",null,null,"Campus Point West","Campus Point WestAccessible",{"$f":"COUNTIF(Q$5:Q58, Q58 )","v":2},{"$f":"_xlfn.IFS(D$2=X$4, X58, D$2=Y$4, Y58,D$2=Z$4, Z58,D$2=AA$4, AA58)","v":24},"",{"$f":"IF(R58=1, _xlfn.IFNA(VLOOKUP(Q58, 'Allocation Change Graph'!BF$7:BG$20, 2, FALSE), 0), 0)","v":0},null,"",null,null,24,null,null,null,null,null,null,null,null,null,null,null,null,null,null,null,null,null,null,0,0]
[null,null,"University Wide","La Jolla Campus","East Campus","Health Sciences East","Campus Point West","P734","Ground Floor","Accessible (Van)",null,null,"Yes",null,null,"Campus Point West","Campus Point WestAccessible (Van)",{"$f":"COUNTIF(Q$5:Q59, Q59 )","v":2},{"$f":"_xlfn.IFS(D$2=X$4, X59, D$2=Y$4, Y59,D$2=Z$4, Z59,D$2=AA$4, AA59)","v":7},"",{"$f":"IF(R59=1, _xlfn.IFNA(VLOOKUP(Q59, 'Allocation Change Graph'!BF$7:BG$20, 2, FALSE), 0), 0)","v":0},null,"",null,null,7,null,null,null,null,null,null,null,null,null,null,null,null,null,null,null,null,null,null,0,0]
[null,null,"University Wide","La Jolla Campus","East Campus","Health Sciences East","Campus Point West","P734","Ground Floor","Motorcycle Section",null,null,"Yes",null,null,"Campus Point West","Campus Point WestMotorcycle Section",{"$f":"COUNTIF(Q$5:Q60, Q60 )","v":3},{"$f":"_xlfn.IFS(D$2=X$4, X60, D$2=Y$4, Y60,D$2=Z$4, Z60,D$2=AA$4, AA60)","v":0},"",{"$f":"IF(R60=1, _xlfn.IFNA(VLOOKUP(Q60, 'Allocation Change Graph'!BF$7:BG$20, 2, FALSE), 0), 0)","v":0},null,"",null,null,null,null,null,null,null,null,null,null,null,null,null,null,null,null,null,null,null,null,null,0,0]
[null,null,"University Wide","La Jolla Campus","East Campus","Health Sciences East","Campus Point West","P734","Ground Floor","Reserved","Emergency Room",null,"Yes","Yes",null,"Campus Point West","Campus Point WestReservedEmergency Room",{"$f":"COUNTIF(Q$5:Q61, Q61 )","v":1},{"$f":"_xlfn.IFS(D$2=X$4, X61, D$2=Y$4, Y61,D$2=Z$4, Z61,D$2=AA$4, AA61)","v":10},10,{"$f":"IF(R61=1, _xlfn.IFNA(VLOOKUP(Q61, 'Allocation Change Graph'!BF$7:BG$20, 2, FALSE), 0), 0)","v":0},0.85,8.5,null,null,10,null,null,null,0,0,0,1,0,2,1,0,0,3,null,null,null,null,null,0,3]
[null,null,"University Wide","La Jolla Campus","East Campus","Health Sciences East","Campus Point West","P734","Ground Floor","Reserved",null,null,"Yes","Yes",null,"Campus Point West","Campus Point WestReserved",{"$f":"COUNTIF(Q$5:Q62, Q62 )","v":1},{"$f":"_xlfn.IFS(D$2=X$4, X62, D$2=Y$4, Y62,D$2=Z$4, Z62,D$2=AA$4, AA62)","v":6},18,{"$f":"IF(R62=1, _xlfn.IFNA(VLOOKUP(Q62, 'Allocation Change Graph'!BF$7:BG$20, 2, FALSE), 0), 0)","v":0},0.85,15.299999999999999,null,null,6,null,null,null,11,6,11,11,12,10,11,8,5,13,null,null,null,null,null,5,13]
[null,null,"University Wide","La Jolla Campus","East Campus","Health Sciences East","Campus Point West","P734","Ground Floor","Reserved",null,null,"Yes",null,null,"Campus Point West","Campus Point WestReserved",{"$f":"COUNTIF(Q$5:Q63, Q63 )","v":2},{"$f":"_xlfn.IFS(D$2=X$4, X63, D$2=Y$4, Y63,D$2=Z$4, Z63,D$2=AA$4, AA63)","v":2},"",{"$f":"IF(R63=1, _xlfn.IFNA(VLOOKUP(Q63, 'Allocation Change Graph'!BF$7:BG$20, 2, FALSE), 0), 0)","v":0},null,"",null,null,2,null,null,null,null,null,null,null,null,null,null,null,null,null,null,null,null,null,null,0,0]
[null,null,"University Wide","La Jolla Campus","East Campus","Health Sciences East","Campus Point West","P734","Ground Floor","Reserved",null,null,"Yes",null,null,"Campus Point West","Campus Point WestReserved",{"$f":"COUNTIF(Q$5:Q64, Q64 )","v":3},{"$f":"_xlfn.IFS(D$2=X$4, X64, D$2=Y$4, Y64,D$2=Z$4, Z64,D$2=AA$4, AA64)","v":10},"",{"$f":"IF(R64=1, _xlfn.IFNA(VLOOKUP(Q64, 'Allocation Change Graph'!BF$7:BG$20, 2, FALSE), 0), 0)","v":0},null,"",null,null,10,null,null,null,null,null,null,null,null,null,null,null,null,null,null,null,null,null,null,0,0]
[null,null,"University Wide","La Jolla Campus","East Campus","Health Sciences East","Campus Point West","P734","Ground Floor","Visitor","Patient/Visitor Reserved","30 minutes","Yes","Yes","Yes","Campus Point West","Campus Point WestVisitorPatient/Visitor Reserved30 minutes",{"$f":"COUNTIF(Q$5:Q65, Q65 )","v":1},{"$f":"_xlfn.IFS(D$2=X$4, X65, D$2=Y$4, Y65,D$2=Z$4, Z65,D$2=AA$4, AA65)","v":1},1,{"$f":"IF(R65=1, _xlfn.IFNA(VLOOKUP(Q65, 'Allocation Change Graph'!BF$7:BG$20, 2, FALSE), 0), 0)","v":0},0.85,0.85,null,null,1,null,null,null,0,0,0,0,0,0,0,0,0,0,null,null,null,null,null,0,0]
[null,null,"University Wide","La Jolla Campus","East Campus","Health Sciences East","Campus Point West","P734","Ground Floor","Visitor",null,null,"Yes",null,null,"Campus Point West","Campus Point WestVisitor",{"$f":"COUNTIF(Q$5:Q66, Q66 )","v":4},{"$f":"_xlfn.IFS(D$2=X$4, X66, D$2=Y$4, Y66,D$2=Z$4, Z66,D$2=AA$4, AA66)","v":47},"",{"$f":"IF(R66=1, _xlfn.IFNA(VLOOKUP(Q66, 'Allocation Change Graph'!BF$7:BG$20, 2, FALSE), 0), 0)","v":0},null,"",null,null,47,null,null,null,null,null,null,null,null,null,null,null,null,null,null,null,null,null,null,0,0]
[null,null,"University Wide","La Jolla Campus","East Campus","Health Sciences East","Campus Point West","P734","Ground Floor","Visitor",null,null,"Yes",null,null,"Campus Point West","Campus Point WestVisitor",{"$f":"COUNTIF(Q$5:Q67, Q67 )","v":5},{"$f":"_xlfn.IFS(D$2=X$4, X67, D$2=Y$4, Y67,D$2=Z$4, Z67,D$2=AA$4, AA67)","v":18},"",{"$f":"IF(R67=1, _xlfn.IFNA(VLOOKUP(Q67, 'Allocation Change Graph'!BF$7:BG$20, 2, FALSE), 0), 0)","v":0},null,"",null,null,18,null,null,null,null,null,null,null,null,null,null,null,null,null,null,null,null,null,null,0,0]
[null,null,"University Wide","La Jolla Campus","East Campus","Health Sciences East","Campus Point West","P735","Roof","Accessible",null,null,"Yes",null,null,"Campus Point West","Campus Point WestAccessible",{"$f":"COUNTIF(Q$5:Q68, Q68 )","v":3},{"$f":"_xlfn.IFS(D$2=X$4, X68, D$2=Y$4, Y68,D$2=Z$4, Z68,D$2=AA$4, AA68)","v":32},"",{"$f":"IF(R68=1, _xlfn.IFNA(VLOOKUP(Q68, 'Allocation Change Graph'!BF$7:BG$20, 2, FALSE), 0), 0)","v":0},null,"",null,null,32,null,null,null,null,null,null,null,null,null,null,null,null,null,null,null,null,null,null,0,0]
[null,null,"University Wide","La Jolla Campus","East Campus","Health Sciences East","Campus Point West","P735","Roof","Accessible (Van)",null,null,"Yes",null,null,{"$f":"IF(G69=\"Surface Lot\", H69, G69)","v":"Campus Point West"},{"$f":"P69&J69&K69&L69","v":"Campus Point WestAccessible (Van)"},{"$f":"COUNTIF(Q$5:Q69, Q69 )","v":3},{"$f":"_xlfn.IFS(D$2=X$4, X69, D$2=Y$4, Y69,D$2=Z$4, Z69,D$2=AA$4, AA69)","v":4},{"$f":"IF(R69=1,SUMIF(Q:Q,Q69,S:S)+U69, \"\")","v":""},{"$f":"IF(R69=1, _xlfn.IFNA(VLOOKUP(Q69, 'Allocation Change Graph'!BF$7:BG$20, 2, FALSE), 0), 0)","v":0},null,{"$f":"IF(R69=1, V69*T69, \"\")","v":""},null,null,4,null,null,null,null,null,null,null,null,null,null,null,null,null,null,null,null,null,null,{"$f":"MIN($AB69:$AR69)+U69","v":0},{"$f":"MAX($AB69:$AR69)+U69","v":0}]
[null,null,"University Wide","La Jolla Campus","East Campus","Health Sciences East","Campus Point West","P735","Roof","Motorcycle Section",null,null,"Yes",null,null,"Campus Point West","Campus Point WestMotorcycle Section",{"$f":"COUNTIF(Q$5:Q70, Q70 )","v":4},{"$f":"_xlfn.IFS(D$2=X$4, X70, D$2=Y$4, Y70,D$2=Z$4, Z70,D$2=AA$4, AA70)","v":0},"",{"$f":"IF(R70=1, _xlfn.IFNA(VLOOKUP(Q70, 'Allocation Change Graph'!BF$7:BG$20, 2, FALSE), 0), 0)","v":0},null,"",null,null,null,null,null,null,null,null,null,null,null,null,null,null,null,null,null,null,null,null,null,0,0]
[null,null,"University Wide","La Jolla Campus","East Campus","Health Sciences East","Campus Point West","P735","Roof","Visitor",null,null,"Yes",null,null,"Campus Point West","Campus Point WestVisitor",{"$f":"COUNTIF(Q$5:Q71, Q71 )","v":6},{"$f":"_xlfn.IFS(D$2=X$4, X71, D$2=Y$4, Y71,D$2=Z$4, Z71,D$2=AA$4, AA71)","v":126},"",{"$f":"IF(R71=1, _xlfn.IFNA(VLOOKUP(Q71, 'Allocation Change Graph'!BF$7:BG$20, 2, FALSE), 0), 0)","v":0},null,"",null,null,126,null,null,null,null,null,null,null,null,null,null,null,null,null,null,null,null,null,null,0,0]
[null,null,"University Wide","La Jolla Campus","East Campus","Health Sciences East","Curb","Curb","-",null,null,null,"Yes","Yes",null,"Curb","Curb",{"$f":"COUNTIF(Q$5:Q72, Q72 )","v":1},{"$f":"_xlfn.IFS(D$2=X$4, X72, D$2=Y$4, Y72,D$2=Z$4, Z72,D$2=AA$4, AA72)","v":0},0,{"$f":"IF(R72=1, _xlfn.IFNA(VLOOKUP(Q72, 'Allocation Change Graph'!BF$7:BG$20, 2, FALSE), 0), 0)","v":0},0.9,0,null,null,null,null,null,null,0,0,0,0,0,0,0,0,0,0,null,null,null,null,null,0,0]
[null,null,"University Wide","La Jolla Campus","East Campus","Science Research Park","Mesa Canyon","PMC001","Ground","Accessible",null,null,"Yes","Yes",null,"Mesa Canyon","Mesa CanyonAccessible",{"$f":"COUNTIF(Q$5:Q73, Q73 )","v":1},{"$f":"_xlfn.IFS(D$2=X$4, X73, D$2=Y$4, Y73,D$2=Z$4, Z73,D$2=AA$4, AA73)","v":5},12,{"$f":"IF(R73=1, _xlfn.IFNA(VLOOKUP(Q73, 'Allocation Change Graph'!BF$7:BG$20, 2, FALSE), 0), 0)","v":0},0.85,10.199999999999999,null,null,5,null,null,null,7,5,10,5,7,6,6,4,4,4,null,null,null,null,null,4,10]
[null,null,"University Wide","La Jolla Campus","East Campus","Science Research Park","Mesa Canyon","PMC001","Ground","Accessible (Van)",null,null,"Yes","Yes",null,"Mesa Canyon","Mesa CanyonAccessible (Van)",{"$f":"COUNTIF(Q$5:Q74, Q74 )","v":1},{"$f":"_xlfn.IFS(D$2=X$4, X74, D$2=Y$4, Y74,D$2=Z$4, Z74,D$2=AA$4, AA74)","v":2},5,{"$f":"IF(R74=1, _xlfn.IFNA(VLOOKUP(Q74, 'Allocation Change Graph'!BF$7:BG$20, 2, FALSE), 0), 0)","v":0},0.85,4.25,null,null,2,null,null,null,3,2,2,3,5,4,0,0,4,4,null,null,null,null,null,0,5]
[null,null,"University Wide","La Jolla Campus","East Campus","Science Research Park","Mesa Canyon","PMC001","Ground","B",null,null,"Yes","Yes","Yes","Mesa Canyon","Mesa CanyonB",{"$f":"COUNTIF(Q$5:Q75, Q75 )","v":1},{"$f":"_xlfn.IFS(D$2=X$4, X75, D$2=Y$4, Y75,D$2=Z$4, Z75,D$2=AA$4, AA75)","v":148},497,{"$f":"IF(R75=1, _xlfn.IFNA(VLOOKUP(Q75, 'Allocation Change Graph'!BF$7:BG$20, 2, FALSE), 0), 0)","v":0},0.9,447.3,null,null,148,null,null,null,12,5,0,5,2,0,6,84,286,312,null,null,null,null,null,0,312]
[null,null,"University Wide","La Jolla Campus","East Campus","Science Research Park","Mesa Canyon","PMC001","Ground","Electric Vehicle",null,null,"Yes","Yes",null,"Mesa Canyon","Mesa CanyonElectric Vehicle",{"$f":"COUNTIF(Q$5:Q76, Q76 )","v":1},{"$f":"_xlfn.IFS(D$2=X$4, X76, D$2=Y$4, Y76,D$2=Z$4, Z76,D$2=AA$4, AA76)","v":18},33,{"$f":"IF(R76=1, _xlfn.IFNA(VLOOKUP(Q76, 'Allocation Change Graph'!BF$7:BG$20, 2, FALSE), 0), 0)","v":0},0.85,28.05,null,null,18,null,null,null,18,15,20,10,15,13,9,13,22,22,null,null,null,null,null,9,22]
[null,null,"University Wide","La Jolla Campus","East Campus","Science Research Park","Mesa Canyon","PMC001","Ground","G",null,null,"Yes","Yes",null,"Mesa Canyon","Mesa CanyonG",{"$f":"COUNTIF(Q$5:Q77, Q77 )","v":1},{"$f":"_xlfn.IFS(D$2=X$4, X77, D$2=Y$4, Y77,D$2=Z$4, Z77,D$2=AA$4, AA77)","v":0},578,{"$f":"IF(R77=1, _xlfn.IFNA(VLOOKUP(Q77, 'Allocation Change Graph'!BF$7:BG$20, 2, FALSE), 0), 0)","v":0},0.9,520.20000000000005,null,null,0,null,null,null,160,150,157,136,130,135,175,138,217,300,null,null,null,null,null,130,300]
[null,null,"University Wide","La Jolla Campus","East Campus","Science Research Park","Mesa Canyon","PMC001","Ground","Motorcycle Section",null,null,"Yes","Yes",null,"Mesa Canyon","Mesa CanyonMotorcycle Section",{"$f":"COUNTIF(Q$5:Q78, Q78 )","v":1},{"$f":"_xlfn.IFS(D$2=X$4, X78, D$2=Y$4, Y78,D$2=Z$4, Z78,D$2=AA$4, AA78)","v":6},16,{"$f":"IF(R78=1, _xlfn.IFNA(VLOOKUP(Q78, 'Allocation Change Graph'!BF$7:BG$20, 2, FALSE), 0), 0)","v":0},0.85,13.6,null,null,6,null,null,null,14,10,10,10,9,10,10,10,10,10,null,null,null,null,null,9,14]
[null,null,"University Wide","La Jolla Campus","East Campus","Science Research Park","Mesa Canyon","PMC002","L2","Accessible",null,null,"Yes",null,null,"Mesa Canyon","Mesa CanyonAccessible",{"$f":"COUNTIF(Q$5:Q79, Q79 )","v":2},{"$f":"_xlfn.IFS(D$2=X$4, X79, D$2=Y$4, Y79,D$2=Z$4, Z79,D$2=AA$4, AA79)","v":4},"",{"$f":"IF(R79=1, _xlfn.IFNA(VLOOKUP(Q79, 'Allocation Change Graph'!BF$7:BG$20, 2, FALSE), 0), 0)","v":0},null,"",null,null,4,null,null,null,null,null,null,null,null,null,null,null,null,null,null,null,null,null,null,0,0]
[null,null,"University Wide","La Jolla Campus","East Campus","Science Research Park","Mesa Canyon","PMC002","L2","Accessible (Van)",null,null,"Yes",null,null,"Mesa Canyon","Mesa CanyonAccessible (Van)",{"$f":"COUNTIF(Q$5:Q80, Q80 )","v":2},{"$f":"_xlfn.IFS(D$2=X$4, X80, D$2=Y$4, Y80,D$2=Z$4, Z80,D$2=AA$4, AA80)","v":1},"",{"$f":"IF(R80=1, _xlfn.IFNA(VLOOKUP(Q80, 'Allocation Change Graph'!BF$7:BG$20, 2, FALSE), 0), 0)","v":0},null,"",null,null,1,null,null,null,null,null,null,null,null,null,null,null,null,null,null,null,null,null,null,0,0]
[null,null,"University Wide","La Jolla Campus","East Campus","Science Research Park","Mesa Canyon","PMC002","L2","B",null,null,"Yes",null,null,"Mesa Canyon","Mesa CanyonB",{"$f":"COUNTIF(Q$5:Q81, Q81 )","v":2},{"$f":"_xlfn.IFS(D$2=X$4, X81, D$2=Y$4, Y81,D$2=Z$4, Z81,D$2=AA$4, AA81)","v":218},"",{"$f":"IF(R81=1, _xlfn.IFNA(VLOOKUP(Q81, 'Allocation Change Graph'!BF$7:BG$20, 2, FALSE), 0), 0)","v":0},null,"",null,null,218,null,null,null,null,null,null,null,null,null,null,null,null,null,null,null,null,null,null,0,0]
[null,null,"University Wide","La Jolla Campus","East Campus","Science Research Park","Mesa Canyon","PMC002","L2","Electric Vehicle",null,null,"Yes",null,null,"Mesa Canyon","Mesa CanyonElectric Vehicle",{"$f":"COUNTIF(Q$5:Q82, Q82 )","v":2},{"$f":"_xlfn.IFS(D$2=X$4, X82, D$2=Y$4, Y82,D$2=Z$4, Z82,D$2=AA$4, AA82)","v":6},"",{"$f":"IF(R82=1, _xlfn.IFNA(VLOOKUP(Q82, 'Allocation Change Graph'!BF$7:BG$20, 2, FALSE), 0), 0)","v":0},null,"",null,null,6,null,null,null,null,null,null,null,null,null,null,null,null,null,null,null,null,null,null,0,0]
[null,null,"University Wide","La Jolla Campus","East Campus","Science Research Park","Mesa Canyon","PMC002","L2","G",null,null,"Yes",null,null,"Mesa Canyon","Mesa CanyonG",{"$f":"COUNTIF(Q$5:Q83, Q83 )","v":2},{"$f":"_xlfn.IFS(D$2=X$4, X83, D$2=Y$4, Y83,D$2=Z$4, Z83,D$2=AA$4, AA83)","v":0},"",{"$f":"IF(R83=1, _xlfn.IFNA(VLOOKUP(Q83, 'Allocation Change Graph'!BF$7:BG$20, 2, FALSE), 0), 0)","v":0},null,"",null,null,0,null,null,null,null,null,null,null,null,null,null,null,null,null,null,null,null,null,null,0,0]
[null,null,"University Wide","La Jolla Campus","East Campus","Science Research Park","Mesa Canyon","PMC002","L2","Motorcycle Section",null,null,"Yes",null,null,"Mesa Canyon","Mesa CanyonMotorcycle Section",{"$f":"COUNTIF(Q$5:Q84, Q84 )","v":2},{"$f":"_xlfn.IFS(D$2=X$4, X84, D$2=Y$4, Y84,D$2=Z$4, Z84,D$2=AA$4, AA84)","v":0},"",{"$f":"IF(R84=1, _xlfn.IFNA(VLOOKUP(Q84, 'Allocation Change Graph'!BF$7:BG$20, 2, FALSE), 0), 0)","v":0},null,"",null,null,0,null,null,null,null,null,null,null,null,null,null,null,null,null,null,null,null,null,null,0,0]
[null,null,"University Wide","La Jolla Campus","East Campus","Science Research Park","Mesa Canyon","PMC003","L3","Accessible",null,null,"Yes",null,null,"Mesa Canyon","Mesa CanyonAccessible",{"$f":"COUNTIF(Q$5:Q85, Q85 )","v":3},{"$f":"_xlfn.IFS(D$2=X$4, X85, D$2=Y$4, Y85,D$2=Z$4, Z85,D$2=AA$4, AA85)","v":3},"",{"$f":"IF(R85=1, _xlfn.IFNA(VLOOKUP(Q85, 'Allocation Change Graph'!BF$7:BG$20, 2, FALSE), 0), 0)","v":0},null,"",null,null,3,null,null,null,null,null,null,null,null,null,null,null,null,null,null,null,null,null,null,0,0]
[null,null,"University Wide","La Jolla Campus","East Campus","Science Research Park","Mesa Canyon","PMC003","L3","Accessible (Van)",null,null,"Yes",null,null,"Mesa Canyon","Mesa CanyonAccessible (Van)",{"$f":"COUNTIF(Q$5:Q86, Q86 )","v":3},{"$f":"_xlfn.IFS(D$2=X$4, X86, D$2=Y$4, Y86,D$2=Z$4, Z86,D$2=AA$4, AA86)","v":2},"",{"$f":"IF(R86=1, _xlfn.IFNA(VLOOKUP(Q86, 'Allocation Change Graph'!BF$7:BG$20, 2, FALSE), 0), 0)","v":0},null,"",null,null,2,null,null,null,null,null,null,null,null,null,null,null,null,null,null,null,null,null,null,0,0]
[null,null,"University Wide","La Jolla Campus","East Campus","Science Research Park","Mesa Canyon","PMC003","L3","B",null,null,"Yes",null,null,"Mesa Canyon","Mesa CanyonB",{"$f":"COUNTIF(Q$5:Q87, Q87 )","v":3},{"$f":"_xlfn.IFS(D$2=X$4, X87, D$2=Y$4, Y87,D$2=Z$4, Z87,D$2=AA$4, AA87)","v":131},"",{"$f":"IF(R87=1, _xlfn.IFNA(VLOOKUP(Q87, 'Allocation Change Graph'!BF$7:BG$20, 2, FALSE), 0), 0)","v":0},null,"",null,null,{"$f":"198-67","v":131},null,null,null,null,null,null,null,null,null,null,null,null,null,null,null,null,null,null,0,0]
[null,null,"University Wide","La Jolla Campus","East Campus","Science Research Park","Mesa Canyon","PMC003","L3","Electric Vehicle",null,null,"Yes",null,null,"Mesa Canyon","Mesa CanyonElectric Vehicle",{"$f":"COUNTIF(Q$5:Q88, Q88 )","v":3},{"$f":"_xlfn.IFS(D$2=X$4, X88, D$2=Y$4, Y88,D$2=Z$4, Z88,D$2=AA$4, AA88)","v":7},"",{"$f":"IF(R88=1, _xlfn.IFNA(VLOOKUP(Q88, 'Allocation Change Graph'!BF$7:BG$20, 2, FALSE), 0), 0)","v":0},null,"",null,null,7,null,null,null,null,null,null,null,null,null,null,null,null,null,null,null,null,null,null,0,0]
[null,null,"University Wide","La Jolla Campus","East Campus","Science Research Park","Mesa Canyon","PMC003","L3","G",null,null,"Yes",null,null,"Mesa Canyon","Mesa CanyonG",{"$f":"COUNTIF(Q$5:Q89, Q89 )","v":3},{"$f":"_xlfn.IFS(D$2=X$4, X89, D$2=Y$4, Y89,D$2=Z$4, Z89,D$2=AA$4, AA89)","v":0},"",{"$f":"IF(R89=1, _xlfn.IFNA(VLOOKUP(Q89, 'Allocation Change Graph'!BF$7:BG$20, 2, FALSE), 0), 0)","v":0},null,"",null,null,0,null,null,null,null,null,null,null,null,null,null,null,null,null,null,null,null,null,null,0,0]
[null,null,"University Wide","La Jolla Campus","East Campus","Science Research Park","Mesa Canyon","PMC003","L3","Motorcycle Section",null,null,"Yes",null,null,"Mesa Canyon","Mesa CanyonMotorcycle Section",{"$f":"COUNTIF(Q$5:Q90, Q90 )","v":3},{"$f":"_xlfn.IFS(D$2=X$4, X90, D$2=Y$4, Y90,D$2=Z$4, Z90,D$2=AA$4, AA90)","v":10},"",{"$f":"IF(R90=1, _xlfn.IFNA(VLOOKUP(Q90, 'Allocation Change Graph'!BF$7:BG$20, 2, FALSE), 0), 0)","v":0},null,"",null,null,10,null,null,null,null,null,null,null,null,null,null,null,null,null,null,null,null,null,null,0,0]
[null,null,"University Wide","La Jolla Campus","East Campus","Science Research Park","Mesa Canyon","PMC004","L4","Accessible",null,null,"Yes",null,null,"Mesa Canyon","Mesa CanyonAccessible",{"$f":"COUNTIF(Q$5:Q91, Q91 )","v":4},{"$f":"_xlfn.IFS(D$2=X$4, X91, D$2=Y$4, Y91,D$2=Z$4, Z91,D$2=AA$4, AA91)","v":0},"",{"$f":"IF(R91=1, _xlfn.IFNA(VLOOKUP(Q91, 'Allocation Change Graph'!BF$7:BG$20, 2, FALSE), 0), 0)","v":0},null,"",null,null,0,null,null,null,null,null,null,null,null,null,null,null,null,null,null,null,null,null,null,0,0]
[null,null,"University Wide","La Jolla Campus","East Campus","Science Research Park","Mesa Canyon","PMC004","L4","Accessible (Van)",null,null,"Yes",null,null,"Mesa Canyon","Mesa CanyonAccessible (Van)",{"$f":"COUNTIF(Q$5:Q92, Q92 )","v":4},{"$f":"_xlfn.IFS(D$2=X$4, X92, D$2=Y$4, Y92,D$2=Z$4, Z92,D$2=AA$4, AA92)","v":0},"",{"$f":"IF(R92=1, _xlfn.IFNA(VLOOKUP(Q92, 'Allocation Change Graph'!BF$7:BG$20, 2, FALSE), 0), 0)","v":0},null,"",null,null,null,null,null,null,null,null,null,null,null,null,null,null,null,null,null,null,null,null,null,0,0]
[null,null,"University Wide","La Jolla Campus","East Campus","Science Research Park","Mesa Canyon","PMC004","L4","B",null,null,"Yes",null,null,"Mesa Canyon","Mesa CanyonB",{"$f":"COUNTIF(Q$5:Q93, Q93 )","v":4},{"$f":"_xlfn.IFS(D$2=X$4, X93, D$2=Y$4, Y93,D$2=Z$4, Z93,D$2=AA$4, AA93)","v":0},"",{"$f":"IF(R93=1, _xlfn.IFNA(VLOOKUP(Q93, 'Allocation Change Graph'!BF$7:BG$20, 2, FALSE), 0), 0)","v":0},null,"",null,null,{"$f":"62-62","v":0},null,null,null,null,null,null,null,null,null,null,null,null,null,null,null,null,null,null,0,0]
[null,null,"University Wide","La Jolla Campus","East Campus","Science Research Park","Mesa Canyon","PMC004","L4","Electric Vehicle",null,null,"Yes",null,null,"Mesa Canyon","Mesa CanyonElectric Vehicle",{"$f":"COUNTIF(Q$5:Q94, Q94 )","v":4},{"$f":"_xlfn.IFS(D$2=X$4, X94, D$2=Y$4, Y94,D$2=Z$4, Z94,D$2=AA$4, AA94)","v":2},"",{"$f":"IF(R94=1, _xlfn.IFNA(VLOOKUP(Q94, 'Allocation Change Graph'!BF$7:BG$20, 2, FALSE), 0), 0)","v":0},null,"",null,null,2,null,null,null,null,null,null,null,null,null,null,null,null,null,null,null,null,null,null,0,0]
[null,null,"University Wide","La Jolla Campus","East Campus","Science Research Park","Mesa Canyon","PMC004","L4","G",null,null,"Yes",null,null,"Mesa Canyon","Mesa CanyonG",{"$f":"COUNTIF(Q$5:Q95, Q95 )","v":4},{"$f":"_xlfn.IFS(D$2=X$4, X95, D$2=Y$4, Y95,D$2=Z$4, Z95,D$2=AA$4, AA95)","v":144},"",{"$f":"IF(R95=1, _xlfn.IFNA(VLOOKUP(Q95, 'Allocation Change Graph'!BF$7:BG$20, 2, FALSE), 0), 0)","v":0},null,"",null,null,144,null,null,null,null,null,null,null,null,null,null,null,null,null,null,null,null,null,null,0,0]
[null,null,"University Wide","La Jolla Campus","East Campus","Science Research Park","Mesa Canyon","PMC004","L4","Motorcycle Section",null,null,"Yes",null,null,"Mesa Canyon","Mesa CanyonMotorcycle Section",{"$f":"COUNTIF(Q$5:Q96, Q96 )","v":4},{"$f":"_xlfn.IFS(D$2=X$4, X96, D$2=Y$4, Y96,D$2=Z$4, Z96,D$2=AA$4, AA96)","v":0},"",{"$f":"IF(R96=1, _xlfn.IFNA(VLOOKUP(Q96, 'Allocation Change Graph'!BF$7:BG$20, 2, FALSE), 0), 0)","v":0},null,"",null,null,0,null,null,null,null,null,null,null,null,null,null,null,null,null,null,null,null,null,null,0,0]
[null,null,"University Wide","La Jolla Campus","East Campus","Science Research Park","Mesa Canyon","PMC005","L5","Accessible",null,null,"Yes",null,null,"Mesa Canyon","Mesa CanyonAccessible",{"$f":"COUNTIF(Q$5:Q97, Q97 )","v":5},{"$f":"_xlfn.IFS(D$2=X$4, X97, D$2=Y$4, Y97,D$2=Z$4, Z97,D$2=AA$4, AA97)","v":0},"",{"$f":"IF(R97=1, _xlfn.IFNA(VLOOKUP(Q97, 'Allocation Change Graph'!BF$7:BG$20, 2, FALSE), 0), 0)","v":0},null,"",null,null,0,null,null,null,null,null,null,null,null,null,null,null,null,null,null,null,null,null,null,0,0]
[null,null,"University Wide","La Jolla Campus","East Campus","Science Research Park","Mesa Canyon","PMC005","L5","Accessible (Van)",null,null,"Yes",null,null,"Mesa Canyon","Mesa CanyonAccessible (Van)",{"$f":"COUNTIF(Q$5:Q98, Q98 )","v":5},{"$f":"_xlfn.IFS(D$2=X$4, X98, D$2=Y$4, Y98,D$2=Z$4, Z98,D$2=AA$4, AA98)","v":0},"",{"$f":"IF(R98=1, _xlfn.IFNA(VLOOKUP(Q98, 'Allocation Change Graph'!BF$7:BG$20, 2, FALSE), 0), 0)","v":0},null,"",null,null,null,null,null,null,null,null,null,null,null,null,null,null,null,null,null,null,null,null,null,0,0]
[null,null,"University Wide","La Jolla Campus","East Campus","Science Research Park","Mesa Canyon","PMC005","L5","B",null,null,"Yes",null,null,"Mesa Canyon","Mesa CanyonB",{"$f":"COUNTIF(Q$5:Q99, Q99 )","v":5},{"$f":"_xlfn.IFS(D$2=X$4, X99, D$2=Y$4, Y99,D$2=Z$4, Z99,D$2=AA$4, AA99)","v":0},"",{"$f":"IF(R99=1, _xlfn.IFNA(VLOOKUP(Q99, 'Allocation Change Graph'!BF$7:BG$20, 2, FALSE), 0), 0)","v":0},null,"",null,null,0,null,null,null,null,null,null,null,null,null,null,null,null,null,null,null,null,null,null,0,0]
[null,null,"University Wide","La Jolla Campus","East Campus","Science Research Park","Mesa Canyon","PMC005","L5","Electric Vehicle",null,null,"Yes",null,null,"Mesa Canyon","Mesa CanyonElectric Vehicle",{"$f":"COUNTIF(Q$5:Q100, Q100 )","v":5},{"$f":"_xlfn.IFS(D$2=X$4, X100, D$2=Y$4, Y100,D$2=Z$4, Z100,D$2=AA$4, AA100)","v":0},"",{"$f":"IF(R100=1, _xlfn.IFNA(VLOOKUP(Q100, 'Allocation Change Graph'!BF$7:BG$20, 2, FALSE), 0), 0)","v":0},null,"",null,null,0,null,null,null,null,null,null,null,null,null,null,null,null,null,null,null,null,null,null,0,0]
[null,null,"University Wide","La Jolla Campus","East Campus","Science Research Park","Mesa Canyon","PMC005","L5","G",null,null,"Yes",null,null,"Mesa Canyon","Mesa CanyonG",{"$f":"COUNTIF(Q$5:Q101, Q101 )","v":5},{"$f":"_xlfn.IFS(D$2=X$4, X101, D$2=Y$4, Y101,D$2=Z$4, Z101,D$2=AA$4, AA101)","v":217},"",{"$f":"IF(R101=1, _xlfn.IFNA(VLOOKUP(Q101, 'Allocation Change Graph'!BF$7:BG$20, 2, FALSE), 0), 0)","v":0},null,"",null,null,217,null,null,null,null,null,null,null,null,null,null,null,null,null,null,null,null,null,null,0,0]
[null,null,"University Wide","La Jolla Campus","East Campus","Science Research Park","Mesa Canyon","PMC005","L5","Motorcycle Section",null,null,"Yes",null,null,"Mesa Canyon","Mesa CanyonMotorcycle Section",{"$f":"COUNTIF(Q$5:Q102, Q102 )","v":5},{"$f":"_xlfn.IFS(D$2=X$4, X102, D$2=Y$4, Y102,D$2=Z$4, Z102,D$2=AA$4, AA102)","v":0},"",{"$f":"IF(R102=1, _xlfn.IFNA(VLOOKUP(Q102, 'Allocation Change Graph'!BF$7:BG$20, 2, FALSE), 0), 0)","v":0},null,"",null,null,0,null,null,null,null,null,null,null,null,null,null,null,null,null,null,null,null,null,null,0,0]
[null,null,"University Wide","La Jolla Campus","East Campus","Science Research Park","Mesa Canyon","PMC006","L6","Accessible",null,null,"Yes",null,null,"Mesa Canyon","Mesa CanyonAccessible",{"$f":"COUNTIF(Q$5:Q103, Q103 )","v":6},{"$f":"_xlfn.IFS(D$2=X$4, X103, D$2=Y$4, Y103,D$2=Z$4, Z103,D$2=AA$4, AA103)","v":0},"",{"$f":"IF(R103=1, _xlfn.IFNA(VLOOKUP(Q103, 'Allocation Change Graph'!BF$7:BG$20, 2, FALSE), 0), 0)","v":0},null,"",null,null,0,null,null,null,null,null,null,null,null,null,null,null,null,null,null,null,null,null,null,0,0]
[null,null,"University Wide","La Jolla Campus","East Campus","Science Research Park","Mesa Canyon","PMC006","L6","Accessible (Van)",null,null,"Yes",null,null,"Mesa Canyon","Mesa CanyonAccessible (Van)",{"$f":"COUNTIF(Q$5:Q104, Q104 )","v":6},{"$f":"_xlfn.IFS(D$2=X$4, X104, D$2=Y$4, Y104,D$2=Z$4, Z104,D$2=AA$4, AA104)","v":0},"",{"$f":"IF(R104=1, _xlfn.IFNA(VLOOKUP(Q104, 'Allocation Change Graph'!BF$7:BG$20, 2, FALSE), 0), 0)","v":0},null,"",null,null,null,null,null,null,null,null,null,null,null,null,null,null,null,null,null,null,null,null,null,0,0]
[null,null,"University Wide","La Jolla Campus","East Campus","Science Research Park","Mesa Canyon","PMC006","L6","B",null,null,"Yes",null,null,"Mesa Canyon","Mesa CanyonB",{"$f":"COUNTIF(Q$5:Q105, Q105 )","v":6},{"$f":"_xlfn.IFS(D$2=X$4, X105, D$2=Y$4, Y105,D$2=Z$4, Z105,D$2=AA$4, AA105)","v":0},"",{"$f":"IF(R105=1, _xlfn.IFNA(VLOOKUP(Q105, 'Allocation Change Graph'!BF$7:BG$20, 2, FALSE), 0), 0)","v":0},null,"",null,null,0,null,null,null,null,null,null,null,null,null,null,null,null,null,null,null,null,null,null,0,0]
[null,null,"University Wide","La Jolla Campus","East Campus","Science Research Park","Mesa Canyon","PMC006","L6","Electric Vehicle",null,null,"Yes",null,null,"Mesa Canyon","Mesa CanyonElectric Vehicle",{"$f":"COUNTIF(Q$5:Q106, Q106 )","v":6},{"$f":"_xlfn.IFS(D$2=X$4, X106, D$2=Y$4, Y106,D$2=Z$4, Z106,D$2=AA$4, AA106)","v":0},"",{"$f":"IF(R106=1, _xlfn.IFNA(VLOOKUP(Q106, 'Allocation Change Graph'!BF$7:BG$20, 2, FALSE), 0), 0)","v":0},null,"",null,null,0,null,null,null,null,null,null,null,null,null,null,null,null,null,null,null,null,null,null,0,0]
[null,null,"University Wide","La Jolla Campus","East Campus","Science Research Park","Mesa Canyon","PMC006","L6","G",null,null,"Yes",null,null,"Mesa Canyon","Mesa CanyonG",{"$f":"COUNTIF(Q$5:Q107, Q107 )","v":6},{"$f":"_xlfn.IFS(D$2=X$4, X107, D$2=Y$4, Y107,D$2=Z$4, Z107,D$2=AA$4, AA107)","v":217},"",{"$f":"IF(R107=1, _xlfn.IFNA(VLOOKUP(Q107, 'Allocation Change Graph'!BF$7:BG$20, 2, FALSE), 0), 0)","v":0},null,"",null,null,217,null,null,null,null,null,null,null,null,null,null,null,null,null,null,null,null,null,null,0,0]
[null,null,"University Wide","La Jolla Campus","East Campus","Science Research Park","Mesa Canyon","PMC006","L6","Motorcycle Section",null,null,"Yes",null,null,"Mesa Canyon","Mesa CanyonMotorcycle Section",{"$f":"COUNTIF(Q$5:Q108, Q108 )","v":6},{"$f":"_xlfn.IFS(D$2=X$4, X108, D$2=Y$4, Y108,D$2=Z$4, Z108,D$2=AA$4, AA108)","v":0},"",{"$f":"IF(R108=1, _xlfn.IFNA(VLOOKUP(Q108, 'Allocation Change Graph'!BF$7:BG$20, 2, FALSE), 0), 0)","v":0},null,"",null,null,0,null,null,null,null,null,null,null,null,null,null,null,null,null,null,null,null,null,null,0,0]
[null,null,"University Wide","La Jolla Campus","East Campus","East Recreation","Surface Lot","P701","-","S",null,null,"Yes","Yes","Yes","P701","P701S",{"$f":"COUNTIF(Q$5:Q109, Q109 )","v":1},{"$f":"_xlfn.IFS(D$2=X$4, X109, D$2=Y$4, Y109,D$2=Z$4, Z109,D$2=AA$4, AA109)","v":378},378,{"$f":"IF(R109=1, _xlfn.IFNA(VLOOKUP(Q109, 'Allocation Change Graph'!BF$7:BG$20, 2, FALSE), 0), 0)","v":0},0.9,340.2,null,null,378,null,null,null,300,280,275,270,278,280,226,255,278,299,null,null,null,null,null,226,300]
[null,null,"University Wide","La Jolla Campus","East Campus","Health Sciences East","Surface Lot","P702","-","Accessible",null,null,"Yes","Yes",null,"P702","P702Accessible",{"$f":"COUNTIF(Q$5:Q110, Q110 )","v":1},{"$f":"_xlfn.IFS(D$2=X$4, X110, D$2=Y$4, Y110,D$2=Z$4, Z110,D$2=AA$4, AA110)","v":3},3,{"$f":"IF(R110=1, _xlfn.IFNA(VLOOKUP(Q110, 'Allocation Change Graph'!BF$7:BG$20, 2, FALSE), 0), 0)","v":0},0.9,2.7,null,null,3,null,null,null,3,1,1,2,3,2,1,1,1,1,null,null,null,null,null,1,3]
[null,null,"University Wide","La Jolla Campus","East Campus","Health Sciences East","Surface Lot","P702","-","Accessible (Van)",null,null,"Yes","Yes",null,"P702","P702Accessible (Van)",{"$f":"COUNTIF(Q$5:Q111, Q111 )","v":1},{"$f":"_xlfn.IFS(D$2=X$4, X111, D$2=Y$4, Y111,D$2=Z$4, Z111,D$2=AA$4, AA111)","v":3},3,{"$f":"IF(R111=1, _xlfn.IFNA(VLOOKUP(Q111, 'Allocation Change Graph'!BF$7:BG$20, 2, FALSE), 0), 0)","v":0},0.9,2.7,null,null,3,null,null,null,3,2,2,2,1,0,3,3,3,3,null,null,null,null,null,0,3]
[null,null,"University Wide","La Jolla Campus","East Campus","Health Sciences East","Surface Lot","P702","-","B",null,null,"Yes","Yes","Yes","P702","P702B",{"$f":"COUNTIF(Q$5:Q112, Q112 )","v":1},{"$f":"_xlfn.IFS(D$2=X$4, X112, D$2=Y$4, Y112,D$2=Z$4, Z112,D$2=AA$4, AA112)","v":183},183,{"$f":"IF(R112=1, _xlfn.IFNA(VLOOKUP(Q112, 'Allocation Change Graph'!BF$7:BG$20, 2, FALSE), 0), 0)","v":0},0.9,164.70000000000002,null,null,183,null,null,null,80,50,55,70,60,50,29,44,56,71,null,null,null,null,null,29,80]
[null,null,"University Wide","La Jolla Campus","East Campus","Health Sciences East","Surface Lot","P703","-","Accessible",null,null,"Yes","Yes",null,"P703","P703Accessible",{"$f":"COUNTIF(Q$5:Q113, Q113 )","v":1},{"$f":"_xlfn.IFS(D$2=X$4, X113, D$2=Y$4, Y113,D$2=Z$4, Z113,D$2=AA$4, AA113)","v":0},0,{"$f":"IF(R113=1, _xlfn.IFNA(VLOOKUP(Q113, 'Allocation Change Graph'!BF$7:BG$20, 2, FALSE), 0), 0)","v":0},0.9,0,null,null,0,null,null,null,0,0,0,0,0,0,0,0,0,0,null,null,null,null,null,0,0]
[null,null,"University Wide","La Jolla Campus","East Campus","Health Sciences East","Surface Lot","P703","-","Accessible (Van)",null,null,"Yes","Yes",null,"P703","P703Accessible (Van)",{"$f":"COUNTIF(Q$5:Q114, Q114 )","v":1},{"$f":"_xlfn.IFS(D$2=X$4, X114, D$2=Y$4, Y114,D$2=Z$4, Z114,D$2=AA$4, AA114)","v":11},11,{"$f":"IF(R114=1, _xlfn.IFNA(VLOOKUP(Q114, 'Allocation Change Graph'!BF$7:BG$20, 2, FALSE), 0), 0)","v":0},0.9,9.9,null,null,11,null,null,null,4,5,6,6,5,3,4,4,5,5,null,null,null,null,null,3,6]
[null,null,"University Wide","La Jolla Campus","East Campus","Health Sciences East","Surface Lot","P703","-","Allocated","Ambulance",null,"Yes","Yes",null,"P703","P703AllocatedAmbulance",{"$f":"COUNTIF(Q$5:Q115, Q115 )","v":1},{"$f":"_xlfn.IFS(D$2=X$4, X115, D$2=Y$4, Y115,D$2=Z$4, Z115,D$2=AA$4, AA115)","v":2},2,{"$f":"IF(R115=1, _xlfn.IFNA(VLOOKUP(Q115, 'Allocation Change Graph'!BF$7:BG$20, 2, FALSE), 0), 0)","v":0},0.9,1.8,null,null,2,null,null,null,2,2,1,1,1,0,2,2,2,2,null,null,null,null,null,0,2]
[null,null,"University Wide","La Jolla Campus","East Campus","Health Sciences East","Surface Lot","P703","-","D ($5.00)",null,null,"Yes","Yes","Yes","P703","P703D ($5.00)",{"$f":"COUNTIF(Q$5:Q116, Q116 )","v":1},{"$f":"_xlfn.IFS(D$2=X$4, X116, D$2=Y$4, Y116,D$2=Z$4, Z116,D$2=AA$4, AA116)","v":295},295,{"$f":"IF(R116=1, _xlfn.IFNA(VLOOKUP(Q116, 'Allocation Change Graph'!BF$7:BG$20, 2, FALSE), 0), 0)","v":0},0.9,265.5,null,null,295,null,null,null,50,40,43,60,55,48,69,71,85,99,null,null,null,null,null,40,99]
[null,null,"University Wide","La Jolla Campus","East Campus","Health Sciences East","Surface Lot","P703","-","Electric Vehicle",null,null,"Yes","Yes",null,"P703","P703Electric Vehicle",{"$f":"COUNTIF(Q$5:Q117, Q117 )","v":1},{"$f":"_xlfn.IFS(D$2=X$4, X117, D$2=Y$4, Y117,D$2=Z$4, Z117,D$2=AA$4, AA117)","v":12},12,{"$f":"IF(R117=1, _xlfn.IFNA(VLOOKUP(Q117, 'Allocation Change Graph'!BF$7:BG$20, 2, FALSE), 0), 0)","v":0},0.9,10.8,null,null,12,null,null,null,4,5,4,3,7,5,4,3,3,3,null,null,null,null,null,3,7]
[null,null,"University Wide","La Jolla Campus","East Campus","Health Sciences East","Surface Lot","P703","-","Loading",null,null,"Yes","Yes",null,"P703","P703Loading",{"$f":"COUNTIF(Q$5:Q118, Q118 )","v":1},{"$f":"_xlfn.IFS(D$2=X$4, X118, D$2=Y$4, Y118,D$2=Z$4, Z118,D$2=AA$4, AA118)","v":2},2,{"$f":"IF(R118=1, _xlfn.IFNA(VLOOKUP(Q118, 'Allocation Change Graph'!BF$7:BG$20, 2, FALSE), 0), 0)","v":0},0.9,1.8,null,null,2,null,null,null,2,2,2,2,1,1,1,1,1,1,null,null,null,null,null,1,2]
[null,null,"University Wide","La Jolla Campus","East Campus","Health Sciences East","Surface Lot","P703","-","Reserved","V2G",null,"Yes","Yes",null,"P703","P703ReservedV2G",{"$f":"COUNTIF(Q$5:Q119, Q119 )","v":1},{"$f":"_xlfn.IFS(D$2=X$4, X119, D$2=Y$4, Y119,D$2=Z$4, Z119,D$2=AA$4, AA119)","v":1},1,{"$f":"IF(R119=1, _xlfn.IFNA(VLOOKUP(Q119, 'Allocation Change Graph'!BF$7:BG$20, 2, FALSE), 0), 0)","v":0},0.9,0.9,null,null,1,null,null,null,1,1,1,0,0,1,0,1,1,1,null,null,null,null,null,0,1]
[null,null,"University Wide","La Jolla Campus","East Campus","Health Sciences East","Surface Lot","P703","-","Reserved",null,null,"Yes","Yes",null,"P703","P703Reserved",{"$f":"COUNTIF(Q$5:Q120, Q120 )","v":1},{"$f":"_xlfn.IFS(D$2=X$4, X120, D$2=Y$4, Y120,D$2=Z$4, Z120,D$2=AA$4, AA120)","v":1},1,{"$f":"IF(R120=1, _xlfn.IFNA(VLOOKUP(Q120, 'Allocation Change Graph'!BF$7:BG$20, 2, FALSE), 0), 0)","v":0},0.9,0.9,null,null,1,null,null,null,0,0,0,1,1,1,0,0,0,0,null,null,null,null,null,0,1]
[null,null,"University Wide","La Jolla Campus","East Campus","Health Sciences East","Surface Lot","P703","-","UC Vehicle","UC Cart",null,"Yes","Yes",null,"P703","P703UC VehicleUC Cart",{"$f":"COUNTIF(Q$5:Q121, Q121 )","v":1},{"$f":"_xlfn.IFS(D$2=X$4, X121, D$2=Y$4, Y121,D$2=Z$4, Z121,D$2=AA$4, AA121)","v":2},2,{"$f":"IF(R121=1, _xlfn.IFNA(VLOOKUP(Q121, 'Allocation Change Graph'!BF$7:BG$20, 2, FALSE), 0), 0)","v":0},0.9,1.8,null,null,2,null,null,null,2,1,1,1,2,0,2,2,2,2,null,null,null,null,null,0,2]
[null,null,"University Wide","La Jolla Campus","East Campus","Health Sciences East","Surface Lot","P703","-","UC Vehicle",null,null,"Yes","Yes",null,"P703","P703UC Vehicle",{"$f":"COUNTIF(Q$5:Q122, Q122 )","v":1},{"$f":"_xlfn.IFS(D$2=X$4, X122, D$2=Y$4, Y122,D$2=Z$4, Z122,D$2=AA$4, AA122)","v":19},19,{"$f":"IF(R122=1, _xlfn.IFNA(VLOOKUP(Q122, 'Allocation Change Graph'!BF$7:BG$20, 2, FALSE), 0), 0)","v":0},0.9,17.100000000000001,null,null,19,null,null,null,14,10,12,4,14,10,11,9,8,8,null,null,null,null,null,4,14]
[null,null,"University Wide","La Jolla Campus","East Campus","Health Sciences East","Surface Lot","P703","-","Visitor","Radiation Oncology Center Patient",null,"Yes","Yes","Yes","P703","P703VisitorRadiation Oncology Center Patient",{"$f":"COUNTIF(Q$5:Q123, Q123 )","v":1},{"$f":"_xlfn.IFS(D$2=X$4, X123, D$2=Y$4, Y123,D$2=Z$4, Z123,D$2=AA$4, AA123)","v":17},17,{"$f":"IF(R123=1, _xlfn.IFNA(VLOOKUP(Q123, 'Allocation Change Graph'!BF$7:BG$20, 2, FALSE), 0), 0)","v":0},0.9,15.3,null,null,17,null,null,null,12,5,7,8,4,5,7,10,11,12,null,null,null,null,null,4,12]
[null,null,"University Wide","La Jolla Campus","East Campus","Health Sciences East","Surface Lot","P704","-","D ($5.00)",null,null,"Yes","Yes","Yes","P704","P704D ($5.00)",{"$f":"COUNTIF(Q$5:Q124, Q124 )","v":1},{"$f":"_xlfn.IFS(D$2=X$4, X124, D$2=Y$4, Y124,D$2=Z$4, Z124,D$2=AA$4, AA124)","v":326},326,{"$f":"IF(R124=1, _xlfn.IFNA(VLOOKUP(Q124, 'Allocation Change Graph'!BF$7:BG$20, 2, FALSE), 0), 0)","v":0},0.9,293.40000000000003,null,null,326,null,null,null,200,125,140,150,130,137,185,215,209,227,null,null,null,null,null,125,227]
[null,null,"University Wide","La Jolla Campus","East Campus","Health Sciences East","Surface Lot","P705","-","D ($5.00)",null,null,"Yes","Yes","Yes","P705","P705D ($5.00)",{"$f":"COUNTIF(Q$5:Q125, Q125 )","v":1},{"$f":"_xlfn.IFS(D$2=X$4, X125, D$2=Y$4, Y125,D$2=Z$4, Z125,D$2=AA$4, AA125)","v":266},266,{"$f":"IF(R125=1, _xlfn.IFNA(VLOOKUP(Q125, 'Allocation Change Graph'!BF$7:BG$20, 2, FALSE), 0), 0)","v":0},0.9,239.4,null,null,266,null,null,null,145,120,100,110,113,106,148,150,158,181,null,null,null,null,null,100,181]
[null,null,"University Wide","La Jolla Campus","East Campus","Preuss School","Surface Lot","P706","-","A","Preuss",null,"Yes","Yes","Yes","P706","P706APreuss",{"$f":"COUNTIF(Q$5:Q126, Q126 )","v":1},{"$f":"_xlfn.IFS(D$2=X$4, X126, D$2=Y$4, Y126,D$2=Z$4, Z126,D$2=AA$4, AA126)","v":6},6,{"$f":"IF(R126=1, _xlfn.IFNA(VLOOKUP(Q126, 'Allocation Change Graph'!BF$7:BG$20, 2, FALSE), 0), 0)","v":0},0.9,5.4,null,null,6,null,null,null,4,1,1,3,2,2,1,2,3,3,null,null,null,null,null,1,4]
[null,null,"University Wide","La Jolla Campus","East Campus","Preuss School","Surface Lot","P706","-","Accessible",null,null,"Yes","Yes",null,"P706","P706Accessible",{"$f":"COUNTIF(Q$5:Q127, Q127 )","v":1},{"$f":"_xlfn.IFS(D$2=X$4, X127, D$2=Y$4, Y127,D$2=Z$4, Z127,D$2=AA$4, AA127)","v":1},1,{"$f":"IF(R127=1, _xlfn.IFNA(VLOOKUP(Q127, 'Allocation Change Graph'!BF$7:BG$20, 2, FALSE), 0), 0)","v":0},0.9,0.9,null,null,1,null,null,null,0,1,1,1,0,1,1,1,1,1,null,null,null,null,null,0,1]
[null,null,"University Wide","La Jolla Campus","East Campus","Preuss School","Surface Lot","P706","-","Accessible (Van)",null,null,"Yes","Yes",null,"P706","P706Accessible (Van)",{"$f":"COUNTIF(Q$5:Q128, Q128 )","v":1},{"$f":"_xlfn.IFS(D$2=X$4, X128, D$2=Y$4, Y128,D$2=Z$4, Z128,D$2=AA$4, AA128)","v":3},3,{"$f":"IF(R128=1, _xlfn.IFNA(VLOOKUP(Q128, 'Allocation Change Graph'!BF$7:BG$20, 2, FALSE), 0), 0)","v":0},0.9,2.7,null,null,3,null,null,null,0,2,3,3,2,1,3,3,3,3,null,null,null,null,null,0,3]
[null,null,"University Wide","La Jolla Campus","East Campus","Preuss School","Surface Lot","P706","-","B","Preuss",null,"Yes","Yes","Yes","P706","P706BPreuss",{"$f":"COUNTIF(Q$5:Q129, Q129 )","v":1},{"$f":"_xlfn.IFS(D$2=X$4, X129, D$2=Y$4, Y129,D$2=Z$4, Z129,D$2=AA$4, AA129)","v":59},59,{"$f":"IF(R129=1, _xlfn.IFNA(VLOOKUP(Q129, 'Allocation Change Graph'!BF$7:BG$20, 2, FALSE), 0), 0)","v":0},0.9,53.1,null,null,59,null,null,null,21,5,4,1,0,0,6,12,27,29,null,null,null,null,null,0,29]
[null,null,"University Wide","La Jolla Campus","East Campus","Preuss School","Surface Lot","P706","-","Loading",null,"30 minutes","Yes","Yes",null,"P706","P706Loading30 minutes",{"$f":"COUNTIF(Q$5:Q130, Q130 )","v":1},{"$f":"_xlfn.IFS(D$2=X$4, X130, D$2=Y$4, Y130,D$2=Z$4, Z130,D$2=AA$4, AA130)","v":3},3,{"$f":"IF(R130=1, _xlfn.IFNA(VLOOKUP(Q130, 'Allocation Change Graph'!BF$7:BG$20, 2, FALSE), 0), 0)","v":0},0.9,2.7,null,null,3,null,null,null,1,1,0,0,2,2,2,2,2,3,null,null,null,null,null,0,3]
[null,null,"University Wide","La Jolla Campus","East Campus","Health Sciences East","Surface Lot","P707","-","Accessible",null,null,"Yes","Yes",null,"P707","P707Accessible",{"$f":"COUNTIF(Q$5:Q131, Q131 )","v":1},{"$f":"_xlfn.IFS(D$2=X$4, X131, D$2=Y$4, Y131,D$2=Z$4, Z131,D$2=AA$4, AA131)","v":4},4,{"$f":"IF(R131=1, _xlfn.IFNA(VLOOKUP(Q131, 'Allocation Change Graph'!BF$7:BG$20, 2, FALSE), 0), 0)","v":0},0.9,3.6,null,null,4,null,null,null,4,3,4,4,2,3,2,2,4,4,null,null,null,null,null,2,4]
[null,null,"University Wide","La Jolla Campus","East Campus","Health Sciences East","Surface Lot","P707","-","Accessible (Van)",null,null,"Yes","Yes",null,"P707","P707Accessible (Van)",{"$f":"COUNTIF(Q$5:Q132, Q132 )","v":1},{"$f":"_xlfn.IFS(D$2=X$4, X132, D$2=Y$4, Y132,D$2=Z$4, Z132,D$2=AA$4, AA132)","v":3},3,{"$f":"IF(R132=1, _xlfn.IFNA(VLOOKUP(Q132, 'Allocation Change Graph'!BF$7:BG$20, 2, FALSE), 0), 0)","v":0},0.9,2.7,null,null,3,null,null,null,3,2,2,3,2,2,2,2,3,3,null,null,null,null,null,2,3]
[null,null,"University Wide","La Jolla Campus","East Campus","Health Sciences East","Surface Lot","P707","-","Electric Vehicle",null,null,"Yes","Yes",null,{"$f":"IF(G133=\"Surface Lot\", H133, G133)","v":"P707"},{"$f":"P133&J133&K133&L133","v":"P707Electric Vehicle"},{"$f":"COUNTIF(Q$5:Q133, Q133 )","v":1},{"$f":"_xlfn.IFS(D$2=X$4, X133, D$2=Y$4, Y133,D$2=Z$4, Z133,D$2=AA$4, AA133)","v":2},{"$f":"IF(R133=1,SUMIF(Q:Q,Q133,S:S)+U133, \"\")","v":2},{"$f":"IF(R133=1, _xlfn.IFNA(VLOOKUP(Q133, 'Allocation Change Graph'!BF$7:BG$20, 2, FALSE), 0), 0)","v":0},0.9,{"$f":"IF(R133=1, V133*T133, \"\")","v":1.8},null,null,2,null,null,null,2,1,1,1,2,2,2,2,2,2,null,null,null,null,null,{"$f":"MIN($AB133:$AR133)+U133","v":1},{"$f":"MAX($AB133:$AR133)+U133","v":2}]
[null,null,"University Wide","La Jolla Campus","East Campus","Health Sciences East","Surface Lot","P707","-","Reserved",null,null,"Yes","Yes",null,"P707","P707Reserved",{"$f":"COUNTIF(Q$5:Q134, Q134 )","v":1},{"$f":"_xlfn.IFS(D$2=X$4, X134, D$2=Y$4, Y134,D$2=Z$4, Z134,D$2=AA$4, AA134)","v":6},6,{"$f":"IF(R134=1, _xlfn.IFNA(VLOOKUP(Q134, 'Allocation Change Graph'!BF$7:BG$20, 2, FALSE), 0), 0)","v":0},0.9,5.4,null,null,6,null,null,null,5,4,3,5,6,6,6,6,6,6,null,null,null,null,null,3,6]
[null,null,"University Wide","La Jolla Campus","East Campus","Health Sciences East","Surface Lot","P707","-","S",null,null,"Yes","Yes","Yes","P707","P707S",{"$f":"COUNTIF(Q$5:Q135, Q135 )","v":1},{"$f":"_xlfn.IFS(D$2=X$4, X135, D$2=Y$4, Y135,D$2=Z$4, Z135,D$2=AA$4, AA135)","v":194},194,{"$f":"IF(R135=1, _xlfn.IFNA(VLOOKUP(Q135, 'Allocation Change Graph'!BF$7:BG$20, 2, FALSE), 0), 0)","v":0},0.9,174.6,null,null,194,null,null,null,70,60,50,52,55,50,35,42,54,68,null,null,null,null,null,35,70]
[null,null,"University Wide","La Jolla Campus","East Campus","Health Sciences East","Surface Lot","P751","-","Accessible",null,null,"Yes","Yes",null,"P751","P751Accessible",{"$f":"COUNTIF(Q$5:Q136, Q136 )","v":1},{"$f":"_xlfn.IFS(D$2=X$4, X136, D$2=Y$4, Y136,D$2=Z$4, Z136,D$2=AA$4, AA136)","v":2},2,{"$f":"IF(R136=1, _xlfn.IFNA(VLOOKUP(Q136, 'Allocation Change Graph'!BF$7:BG$20, 2, FALSE), 0), 0)","v":0},0.9,1.8,null,null,2,null,null,null,0,1,0,0,1,2,0,0,0,0,null,null,null,null,null,0,2]
[null,null,"University Wide","La Jolla Campus","East Campus","Health Sciences East","Surface Lot","P751","-","Accessible (Van)",null,null,"Yes","Yes",null,"P751","P751Accessible (Van)",{"$f":"COUNTIF(Q$5:Q137, Q137 )","v":1},{"$f":"_xlfn.IFS(D$2=X$4, X137, D$2=Y$4, Y137,D$2=Z$4, Z137,D$2=AA$4, AA137)","v":2},2,{"$f":"IF(R137=1, _xlfn.IFNA(VLOOKUP(Q137, 'Allocation Change Graph'!BF$7:BG$20, 2, FALSE), 0), 0)","v":0},0.9,1.8,null,null,2,null,null,null,1,1,1,0,0,1,0,0,0,0,null,null,null,null,null,0,1]
[null,null,"University Wide","La Jolla Campus","East Campus","Health Sciences East","Surface Lot","P751","-","Electric Vehicle",null,null,"Yes","Yes",null,"P751","P751Electric Vehicle",{"$f":"COUNTIF(Q$5:Q138, Q138 )","v":1},{"$f":"_xlfn.IFS(D$2=X$4, X138, D$2=Y$4, Y138,D$2=Z$4, Z138,D$2=AA$4, AA138)","v":0},0,{"$f":"IF(R138=1, _xlfn.IFNA(VLOOKUP(Q138, 'Allocation Change Graph'!BF$7:BG$20, 2, FALSE), 0), 0)","v":0},0.9,0,null,null,0,null,null,null,0,0,0,0,0,0,0,0,0,0,null,null,null,null,null,0,0]
[null,null,"University Wide","La Jolla Campus","East Campus","Health Sciences East","Surface Lot","P751","-","Reserved","Valet",null,"Yes","Yes",null,"P751","P751ReservedValet",{"$f":"COUNTIF(Q$5:Q139, Q139 )","v":1},{"$f":"_xlfn.IFS(D$2=X$4, X139, D$2=Y$4, Y139,D$2=Z$4, Z139,D$2=AA$4, AA139)","v":0},0,{"$f":"IF(R139=1, _xlfn.IFNA(VLOOKUP(Q139, 'Allocation Change Graph'!BF$7:BG$20, 2, FALSE), 0), 0)","v":0},0.9,0,null,null,0,null,null,null,0,0,0,0,0,0,0,0,0,0,null,null,null,null,null,0,0]
[null,null,"University Wide","La Jolla Campus","East Campus","Health Sciences East","Surface Lot","P751","-","Reserved",null,null,"Yes","Yes",null,"P751","P751Reserved",{"$f":"COUNTIF(Q$5:Q140, Q140 )","v":1},{"$f":"_xlfn.IFS(D$2=X$4, X140, D$2=Y$4, Y140,D$2=Z$4, Z140,D$2=AA$4, AA140)","v":0},0,{"$f":"IF(R140=1, _xlfn.IFNA(VLOOKUP(Q140, 'Allocation Change Graph'!BF$7:BG$20, 2, FALSE), 0), 0)","v":0},0.9,0,null,null,0,null,null,null,0,0,0,0,0,0,0,0,0,0,null,null,null,null,null,0,0]
[null,null,"University Wide","La Jolla Campus","East Campus","Health Sciences East","Surface Lot","P751","-","Visitor",null,"30 minutes","Yes","Yes","Yes","P751","P751Visitor30 minutes",{"$f":"COUNTIF(Q$5:Q141, Q141 )","v":1},{"$f":"_xlfn.IFS(D$2=X$4, X141, D$2=Y$4, Y141,D$2=Z$4, Z141,D$2=AA$4, AA141)","v":3},3,{"$f":"IF(R141=1, _xlfn.IFNA(VLOOKUP(Q141, 'Allocation Change Graph'!BF$7:BG$20, 2, FALSE), 0), 0)","v":0},0.9,2.7,null,null,3,null,null,null,1,2,2,0,0,0,0,0,0,0,null,null,null,null,null,0,2]
[null,null,"University Wide","La Jolla Campus","East Campus","Health Sciences East","Surface Lot","P752","-","Accessible",null,null,"Yes","Yes",null,"P752","P752Accessible",{"$f":"COUNTIF(Q$5:Q142, Q142 )","v":1},{"$f":"_xlfn.IFS(D$2=X$4, X142, D$2=Y$4, Y142,D$2=Z$4, Z142,D$2=AA$4, AA142)","v":0},0,{"$f":"IF(R142=1, _xlfn.IFNA(VLOOKUP(Q142, 'Allocation Change Graph'!BF$7:BG$20, 2, FALSE), 0), 0)","v":0},0.9,0,null,null,0,null,null,null,0,0,0,0,0,0,0,0,0,0,null,null,null,null,null,0,0]
[null,null,"University Wide","La Jolla Campus","East Campus","Health Sciences East","Surface Lot","P752","-","Accessible (Van)",null,null,"Yes","Yes",null,"P752","P752Accessible (Van)",{"$f":"COUNTIF(Q$5:Q143, Q143 )","v":1},{"$f":"_xlfn.IFS(D$2=X$4, X143, D$2=Y$4, Y143,D$2=Z$4, Z143,D$2=AA$4, AA143)","v":2},2,{"$f":"IF(R143=1, _xlfn.IFNA(VLOOKUP(Q143, 'Allocation Change Graph'!BF$7:BG$20, 2, FALSE), 0), 0)","v":0},0.9,1.8,null,null,2,null,null,null,0,0,1,1,1,0,0,0,0,0,null,null,null,null,null,0,1]
[null,null,"University Wide","La Jolla Campus","East Campus","Health Sciences East","Surface Lot","P752","-","Allocated","Physician On Call",null,"Yes","Yes",null,"P752","P752AllocatedPhysician On Call",{"$f":"COUNTIF(Q$5:Q144, Q144 )","v":1},{"$f":"_xlfn.IFS(D$2=X$4, X144, D$2=Y$4, Y144,D$2=Z$4, Z144,D$2=AA$4, AA144)","v":4},4,{"$f":"IF(R144=1, _xlfn.IFNA(VLOOKUP(Q144, 'Allocation Change Graph'!BF$7:BG$20, 2, FALSE), 0), 0)","v":0},0.9,3.6,null,null,4,null,null,null,2,1,1,2,2,1,1,1,0,0,null,null,null,null,null,0,2]
[null,null,"University Wide","La Jolla Campus","East Campus","Health Sciences East","Surface Lot","P752","-","Reserved","Valet",null,"Yes","Yes",null,"P752","P752ReservedValet",{"$f":"COUNTIF(Q$5:Q145, Q145 )","v":1},{"$f":"_xlfn.IFS(D$2=X$4, X145, D$2=Y$4, Y145,D$2=Z$4, Z145,D$2=AA$4, AA145)","v":23},23,{"$f":"IF(R145=1, _xlfn.IFNA(VLOOKUP(Q145, 'Allocation Change Graph'!BF$7:BG$20, 2, FALSE), 0), 0)","v":0},0.9,20.7,null,null,23,null,null,null,19,15,5,6,4,7,5,2,3,9,null,null,null,null,null,2,19]
[null,null,"University Wide","La Jolla Campus","East Campus","Health Sciences East","Surface Lot","P752","-","Reserved",null,null,"Yes","Yes",null,"P752","P752Reserved",{"$f":"COUNTIF(Q$5:Q146, Q146 )","v":1},{"$f":"_xlfn.IFS(D$2=X$4, X146, D$2=Y$4, Y146,D$2=Z$4, Z146,D$2=AA$4, AA146)","v":1},1,{"$f":"IF(R146=1, _xlfn.IFNA(VLOOKUP(Q146, 'Allocation Change Graph'!BF$7:BG$20, 2, FALSE), 0), 0)","v":0},0.9,0.9,null,null,1,null,null,null,0,0,0,1,0,0,0,0,0,0,null,null,null,null,null,0,1]
[null,null,"University Wide","La Jolla Campus","East Campus","Health Sciences East","Surface Lot","P753","-","Accessible",null,null,"Yes","Yes",null,"P753","P753Accessible",{"$f":"COUNTIF(Q$5:Q147, Q147 )","v":1},{"$f":"_xlfn.IFS(D$2=X$4, X147, D$2=Y$4, Y147,D$2=Z$4, Z147,D$2=AA$4, AA147)","v":0},0,{"$f":"IF(R147=1, _xlfn.IFNA(VLOOKUP(Q147, 'Allocation Change Graph'!BF$7:BG$20, 2, FALSE), 0), 0)","v":0},0.9,0,null,null,0,null,null,null,0,0,0,0,0,0,0,0,0,0,null,null,null,null,null,0,0]
[null,null,"University Wide","La Jolla Campus","East Campus","Health Sciences East","Surface Lot","P753","-","Accessible (Van)",null,null,"Yes","Yes",null,"P753","P753Accessible (Van)",{"$f":"COUNTIF(Q$5:Q148, Q148 )","v":1},{"$f":"_xlfn.IFS(D$2=X$4, X148, D$2=Y$4, Y148,D$2=Z$4, Z148,D$2=AA$4, AA148)","v":2},2,{"$f":"IF(R148=1, _xlfn.IFNA(VLOOKUP(Q148, 'Allocation Change Graph'!BF$7:BG$20, 2, FALSE), 0), 0)","v":0},0.9,1.8,null,null,2,null,null,null,0,0,0,1,2,1,0,0,1,1,null,null,null,null,null,0,2]
[null,null,"University Wide","La Jolla Campus","East Campus","Health Sciences East","Surface Lot","P753","-","Reserved",null,null,"Yes","Yes",null,"P753","P753Reserved",{"$f":"COUNTIF(Q$5:Q149, Q149 )","v":1},{"$f":"_xlfn.IFS(D$2=X$4, X149, D$2=Y$4, Y149,D$2=Z$4, Z149,D$2=AA$4, AA149)","v":32},32,{"$f":"IF(R149=1, _xlfn.IFNA(VLOOKUP(Q149, 'Allocation Change Graph'!BF$7:BG$20, 2, FALSE), 0), 0)","v":0},0.9,28.8,null,null,32,null,null,null,20,15,12,13,10,8,18,20,26,20,null,null,null,null,null,8,26]
[null,null,"University Wide","La Jolla Campus","East Campus","Health Sciences East","Surface Lot","P757","-","Loading","Shiley Surgery",20,"Yes","Yes",null,"P757","P757LoadingShiley Surgery20",{"$f":"COUNTIF(Q$5:Q150, Q150 )","v":1},{"$f":"_xlfn.IFS(D$2=X$4, X150, D$2=Y$4, Y150,D$2=Z$4, Z150,D$2=AA$4, AA150)","v":0},0,{"$f":"IF(R150=1, _xlfn.IFNA(VLOOKUP(Q150, 'Allocation Change Graph'!BF$7:BG$20, 2, FALSE), 0), 0)","v":0},0.9,0,null,null,0,null,null,null,0,0,0,0,0,0,0,0,0,0,null,null,null,null,null,0,0]
[null,null,"University Wide","La Jolla Campus","East Campus","Health Sciences East","Surface Lot","P757","-","Reserved",null,null,"Yes","Yes",null,"P757","P757Reserved",{"$f":"COUNTIF(Q$5:Q151, Q151 )","v":1},{"$f":"_xlfn.IFS(D$2=X$4, X151, D$2=Y$4, Y151,D$2=Z$4, Z151,D$2=AA$4, AA151)","v":0},0,{"$f":"IF(R151=1, _xlfn.IFNA(VLOOKUP(Q151, 'Allocation Change Graph'!BF$7:BG$20, 2, FALSE), 0), 0)","v":0},0.9,0,null,null,0,null,null,null,0,0,0,0,0,0,0,0,0,0,null,null,null,null,null,0,0]
[null,null,"University Wide","La Jolla Campus","East Campus","Health Sciences East","Surface Lot","P757","-","UC Vehicle",null,null,"Yes","Yes",null,"P757","P757UC Vehicle",{"$f":"COUNTIF(Q$5:Q152, Q152 )","v":1},{"$f":"_xlfn.IFS(D$2=X$4, X152, D$2=Y$4, Y152,D$2=Z$4, Z152,D$2=AA$4, AA152)","v":0},0,{"$f":"IF(R152=1, _xlfn.IFNA(VLOOKUP(Q152, 'Allocation Change Graph'!BF$7:BG$20, 2, FALSE), 0), 0)","v":0},0.9,0,null,null,0,null,null,null,0,0,0,0,0,0,0,0,0,0,null,null,null,null,null,0,0]
[null,null,"University Wide","La Jolla Campus","East Campus","Health Sciences East","Surface Lot","P758","-","Accessible",null,null,"Yes","Yes",null,"P758","P758Accessible",{"$f":"COUNTIF(Q$5:Q153, Q153 )","v":1},{"$f":"_xlfn.IFS(D$2=X$4, X153, D$2=Y$4, Y153,D$2=Z$4, Z153,D$2=AA$4, AA153)","v":2},2,{"$f":"IF(R153=1, _xlfn.IFNA(VLOOKUP(Q153, 'Allocation Change Graph'!BF$7:BG$20, 2, FALSE), 0), 0)","v":0},0.9,1.8,null,null,2,null,null,null,1,1,0,0,0,1,0,0,1,0,null,null,null,null,null,0,1]
[null,null,"University Wide","La Jolla Campus","East Campus","Health Sciences East","Surface Lot","P758","-","Accessible (Van)",null,null,"Yes","Yes",null,"P758","P758Accessible (Van)",{"$f":"COUNTIF(Q$5:Q154, Q154 )","v":1},{"$f":"_xlfn.IFS(D$2=X$4, X154, D$2=Y$4, Y154,D$2=Z$4, Z154,D$2=AA$4, AA154)","v":0},0,{"$f":"IF(R154=1, _xlfn.IFNA(VLOOKUP(Q154, 'Allocation Change Graph'!BF$7:BG$20, 2, FALSE), 0), 0)","v":0},0.9,0,null,null,null,null,null,null,0,0,0,0,0,0,0,0,0,0,null,null,null,null,null,0,0]
[null,null,"University Wide","La Jolla Campus","East Campus","Health Sciences East","Surface Lot","P758","-","Motorcycle Section",null,null,"Yes","Yes",null,"P758","P758Motorcycle Section",{"$f":"COUNTIF(Q$5:Q155, Q155 )","v":1},{"$f":"_xlfn.IFS(D$2=X$4, X155, D$2=Y$4, Y155,D$2=Z$4, Z155,D$2=AA$4, AA155)","v":0},0,{"$f":"IF(R155=1, _xlfn.IFNA(VLOOKUP(Q155, 'Allocation Change Graph'!BF$7:BG$20, 2, FALSE), 0), 0)","v":0},0.9,0,null,null,0,null,null,null,0,0,0,0,0,0,0,0,0,0,null,null,null,null,null,0,0]
[null,null,"University Wide","La Jolla Campus","East Campus","Health Sciences East","Surface Lot","P758","-","Reserved",null,null,"Yes","Yes",null,"P758","P758Reserved",{"$f":"COUNTIF(Q$5:Q156, Q156 )","v":1},{"$f":"_xlfn.IFS(D$2=X$4, X156, D$2=Y$4, Y156,D$2=Z$4, Z156,D$2=AA$4, AA156)","v":5},5,{"$f":"IF(R156=1, _xlfn.IFNA(VLOOKUP(Q156, 'Allocation Change Graph'!BF$7:BG$20, 2, FALSE), 0), 0)","v":0},0.9,4.5,null,null,5,null,null,null,2,3,2,2,1,0,1,1,2,2,null,null,null,null,null,0,3]
[null,null,"University Wide","La Jolla Campus","East Campus","Health Sciences East","Surface Lot","P759","-","A","Physician A",null,"Yes","Yes","Yes","P759","P759APhysician A",{"$f":"COUNTIF(Q$5:Q157, Q157 )","v":1},{"$f":"_xlfn.IFS(D$2=X$4, X157, D$2=Y$4, Y157,D$2=Z$4, Z157,D$2=AA$4, AA157)","v":87},87,{"$f":"IF(R157=1, _xlfn.IFNA(VLOOKUP(Q157, 'Allocation Change Graph'!BF$7:BG$20, 2, FALSE), 0), 0)","v":0},0.9,78.3,null,null,87,null,null,null,50,30,22,15,14,10,11,15,34,41,null,null,null,null,null,10,50]
[null,null,"University Wide","La Jolla Campus","East Campus","Health Sciences East","Surface Lot","P759","-","Accessible",null,null,"Yes","Yes",null,"P759","P759Accessible",{"$f":"COUNTIF(Q$5:Q158, Q158 )","v":1},{"$f":"_xlfn.IFS(D$2=X$4, X158, D$2=Y$4, Y158,D$2=Z$4, Z158,D$2=AA$4, AA158)","v":4},4,{"$f":"IF(R158=1, _xlfn.IFNA(VLOOKUP(Q158, 'Allocation Change Graph'!BF$7:BG$20, 2, FALSE), 0), 0)","v":0},0.9,3.6,null,null,4,null,null,null,3,2,2,1,1,3,1,1,2,2,null,null,null,null,null,1,3]
[null,null,"University Wide","La Jolla Campus","East Campus","Health Sciences East","Surface Lot","P759","-","Accessible (Van)",null,null,"Yes","Yes",null,"P759","P759Accessible (Van)",{"$f":"COUNTIF(Q$5:Q159, Q159 )","v":1},{"$f":"_xlfn.IFS(D$2=X$4, X159, D$2=Y$4, Y159,D$2=Z$4, Z159,D$2=AA$4, AA159)","v":5},5,{"$f":"IF(R159=1, _xlfn.IFNA(VLOOKUP(Q159, 'Allocation Change Graph'!BF$7:BG$20, 2, FALSE), 0), 0)","v":0},0.9,4.5,null,null,5,null,null,null,2,3,2,2,1,2,0,0,2,2,null,null,null,null,null,0,3]
[null,null,"University Wide","La Jolla Campus","East Campus","Health Sciences East","Surface Lot","P759","-","Motorcycle Section",null,null,"Yes","Yes",null,"P759","P759Motorcycle Section",{"$f":"COUNTIF(Q$5:Q160, Q160 )","v":1},{"$f":"_xlfn.IFS(D$2=X$4, X160, D$2=Y$4, Y160,D$2=Z$4, Z160,D$2=AA$4, AA160)","v":1},1,{"$f":"IF(R160=1, _xlfn.IFNA(VLOOKUP(Q160, 'Allocation Change Graph'!BF$7:BG$20, 2, FALSE), 0), 0)","v":0},0.9,0.9,null,null,1,null,null,null,1,1,0,0,1,1,1,1,1,1,null,null,null,null,null,0,1]
[null,null,"University Wide","La Jolla Campus","East Campus","Health Sciences East","Surface Lot","P759","-","Reserved","Alzheimer's Disease Research Center Patient",null,"Yes","Yes",null,"P759","P759ReservedAlzheimer's Disease Research Center Patient",{"$f":"COUNTIF(Q$5:Q161, Q161 )","v":1},{"$f":"_xlfn.IFS(D$2=X$4, X161, D$2=Y$4, Y161,D$2=Z$4, Z161,D$2=AA$4, AA161)","v":10},10,{"$f":"IF(R161=1, _xlfn.IFNA(VLOOKUP(Q161, 'Allocation Change Graph'!BF$7:BG$20, 2, FALSE), 0), 0)","v":0},0.9,9,null,null,10,null,null,null,6,4,3,4,5,5,6,7,7,9,null,null,null,null,null,3,9]
[null,null,"University Wide","La Jolla Campus","East Campus","Health Sciences East","Surface Lot","P759","-","Reserved","Brain Health and Memory Disorders",null,"Yes","Yes",null,"P759","P759ReservedBrain Health and Memory Disorders",{"$f":"COUNTIF(Q$5:Q162, Q162 )","v":1},{"$f":"_xlfn.IFS(D$2=X$4, X162, D$2=Y$4, Y162,D$2=Z$4, Z162,D$2=AA$4, AA162)","v":5},5,{"$f":"IF(R162=1, _xlfn.IFNA(VLOOKUP(Q162, 'Allocation Change Graph'!BF$7:BG$20, 2, FALSE), 0), 0)","v":0},0.9,4.5,null,null,5,null,null,null,3,2,2,1,3,2,2,3,4,4,null,null,null,null,null,1,4]
[null,null,"University Wide","La Jolla Campus","East Campus","Health Sciences East","Surface Lot","P759","-","Reserved","Huntington's Disease Clinical Research Center",null,"Yes","Yes",null,"P759","P759ReservedHuntington's Disease Clinical Research Center",{"$f":"COUNTIF(Q$5:Q163, Q163 )","v":1},{"$f":"_xlfn.IFS(D$2=X$4, X163, D$2=Y$4, Y163,D$2=Z$4, Z163,D$2=AA$4, AA163)","v":2},2,{"$f":"IF(R163=1, _xlfn.IFNA(VLOOKUP(Q163, 'Allocation Change Graph'!BF$7:BG$20, 2, FALSE), 0), 0)","v":0},0.9,1.8,null,null,2,null,null,null,1,2,0,0,1,2,1,1,1,1,null,null,null,null,null,0,2]
[null,null,"University Wide","La Jolla Campus","East Campus","Health Sciences East","Surface Lot","P761","-","UC Vehicle",null,null,"Yes","Yes",null,"P761","P761UC Vehicle",{"$f":"COUNTIF(Q$5:Q164, Q164 )","v":1},{"$f":"_xlfn.IFS(D$2=X$4, X164, D$2=Y$4, Y164,D$2=Z$4, Z164,D$2=AA$4, AA164)","v":3},3,{"$f":"IF(R164=1, _xlfn.IFNA(VLOOKUP(Q164, 'Allocation Change Graph'!BF$7:BG$20, 2, FALSE), 0), 0)","v":0},0.9,2.7,null,null,3,null,null,null,2,1,1,2,1,1,2,3,3,3,null,null,null,null,null,1,3]
[null,null,"University Wide","La Jolla Campus","East Campus","Health Sciences East","Surface Lot","P762","-","Loading",null,null,"Yes","Yes",null,"P762","P762Loading",{"$f":"COUNTIF(Q$5:Q165, Q165 )","v":1},{"$f":"_xlfn.IFS(D$2=X$4, X165, D$2=Y$4, Y165,D$2=Z$4, Z165,D$2=AA$4, AA165)","v":1},1,{"$f":"IF(R165=1, _xlfn.IFNA(VLOOKUP(Q165, 'Allocation Change Graph'!BF$7:BG$20, 2, FALSE), 0), 0)","v":0},0.9,0.9,null,null,1,null,null,null,1,1,0,1,1,0,0,0,1,1,null,null,null,null,null,0,1]
[null,null,"University Wide","La Jolla Campus","East Campus","Health Sciences East","Surface Lot","P762","-","Service Yard",null,null,"Yes","Yes",null,"P762","P762Service Yard",{"$f":"COUNTIF(Q$5:Q166, Q166 )","v":1},{"$f":"_xlfn.IFS(D$2=X$4, X166, D$2=Y$4, Y166,D$2=Z$4, Z166,D$2=AA$4, AA166)","v":3},3,{"$f":"IF(R166=1, _xlfn.IFNA(VLOOKUP(Q166, 'Allocation Change Graph'!BF$7:BG$20, 2, FALSE), 0), 0)","v":0},0.9,2.7,null,null,3,null,null,null,1,2,3,1,1,0,0,0,3,3,null,null,null,null,null,0,3]
[null,null,"University Wide","La Jolla Campus","East Campus","Science Research Park","Surface Lot","P782","-","SS ($3.25)",null,null,"Yes","Yes","Yes","P782","P782SS ($3.25)",{"$f":"COUNTIF(Q$5:Q167, Q167 )","v":1},{"$f":"_xlfn.IFS(D$2=X$4, X167, D$2=Y$4, Y167,D$2=Z$4, Z167,D$2=AA$4, AA167)","v":216},216,{"$f":"IF(R167=1, _xlfn.IFNA(VLOOKUP(Q167, 'Allocation Change Graph'!BF$7:BG$20, 2, FALSE), 0), 0)","v":0},0.9,194.4,null,null,216,null,null,null,160,120,100,110,115,130,61,168,157,169,null,null,null,null,null,61,169]
[null,null,"University Wide","La Jolla Campus","East Campus","Health Sciences East","Surface Lot","P784","-","Accessible",null,null,"Yes","Yes",null,"P784","P784Accessible",{"$f":"COUNTIF(Q$5:Q168, Q168 )","v":1},{"$f":"_xlfn.IFS(D$2=X$4, X168, D$2=Y$4, Y168,D$2=Z$4, Z168,D$2=AA$4, AA168)","v":6},6,{"$f":"IF(R168=1, _xlfn.IFNA(VLOOKUP(Q168, 'Allocation Change Graph'!BF$7:BG$20, 2, FALSE), 0), 0)","v":0},0.9,5.4,null,null,6,null,null,null,0,0,0,0,1,0,2,1,2,2,null,null,null,null,null,0,2]
[null,null,"University Wide","La Jolla Campus","East Campus","Health Sciences East","Surface Lot","P784","-","Accessible (Van)",null,null,"Yes","Yes",null,"P784","P784Accessible (Van)",{"$f":"COUNTIF(Q$5:Q169, Q169 )","v":1},{"$f":"_xlfn.IFS(D$2=X$4, X169, D$2=Y$4, Y169,D$2=Z$4, Z169,D$2=AA$4, AA169)","v":12},12,{"$f":"IF(R169=1, _xlfn.IFNA(VLOOKUP(Q169, 'Allocation Change Graph'!BF$7:BG$20, 2, FALSE), 0), 0)","v":0},0.9,10.8,null,null,12,null,null,null,0,0,0,1,0,0,0,0,3,3,null,null,null,null,null,0,3]
[null,null,"University Wide","La Jolla Campus","East Campus","Health Sciences East","Surface Lot","P784","-","B",null,null,"Yes","Yes","Yes","P784","P784B",{"$f":"COUNTIF(Q$5:Q170, Q170 )","v":1},{"$f":"_xlfn.IFS(D$2=X$4, X170, D$2=Y$4, Y170,D$2=Z$4, Z170,D$2=AA$4, AA170)","v":81},81,{"$f":"IF(R170=1, _xlfn.IFNA(VLOOKUP(Q170, 'Allocation Change Graph'!BF$7:BG$20, 2, FALSE), 0), 0)","v":0},0.9,72.900000000000006,null,null,81,null,null,null,0,0,0,0,1,1,0,11,13,28,null,null,null,null,null,0,28]
[null,null,"University Wide","La Jolla Campus","East Campus","Health Sciences East","Surface Lot","P784","-","Reserved","Valet",null,"Yes","Yes",null,"P784","P784ReservedValet",{"$f":"COUNTIF(Q$5:Q171, Q171 )","v":1},{"$f":"_xlfn.IFS(D$2=X$4, X171, D$2=Y$4, Y171,D$2=Z$4, Z171,D$2=AA$4, AA171)","v":9},9,{"$f":"IF(R171=1, _xlfn.IFNA(VLOOKUP(Q171, 'Allocation Change Graph'!BF$7:BG$20, 2, FALSE), 0), 0)","v":0},0.9,8.1,null,null,9,null,null,null,7,5,0,3,5,2,7,7,8,7,null,null,null,null,null,0,8]
[null,null,"University Wide","La Jolla Campus","East Campus","Health Sciences East","Surface Lot","P785","-","Accessible",null,null,"Yes","Yes",null,"P785","P785Accessible",{"$f":"COUNTIF(Q$5:Q172, Q172 )","v":1},{"$f":"_xlfn.IFS(D$2=X$4, X172, D$2=Y$4, Y172,D$2=Z$4, Z172,D$2=AA$4, AA172)","v":0},0,{"$f":"IF(R172=1, _xlfn.IFNA(VLOOKUP(Q172, 'Allocation Change Graph'!BF$7:BG$20, 2, FALSE), 0), 0)","v":0},0.9,0,null,null,0,null,null,null,0,0,0,0,0,0,0,0,0,0,null,null,null,null,null,0,0]
[null,null,"University Wide","La Jolla Campus","East Campus","Health Sciences East","Surface Lot","P785","-","Accessible (Van)",null,null,"Yes","Yes",null,"P785","P785Accessible (Van)",{"$f":"COUNTIF(Q$5:Q173, Q173 )","v":1},{"$f":"_xlfn.IFS(D$2=X$4, X173, D$2=Y$4, Y173,D$2=Z$4, Z173,D$2=AA$4, AA173)","v":8},8,{"$f":"IF(R173=1, _xlfn.IFNA(VLOOKUP(Q173, 'Allocation Change Graph'!BF$7:BG$20, 2, FALSE), 0), 0)","v":0},0.9,7.2,null,null,8,null,null,null,1,3,4,4,2,3,0,2,3,4,null,null,null,null,null,0,4]
[null,null,"University Wide","La Jolla Campus","East Campus","Health Sciences East","Surface Lot","P785","-","B",null,null,"Yes","Yes","Yes","P785","P785B",{"$f":"COUNTIF(Q$5:Q174, Q174 )","v":1},{"$f":"_xlfn.IFS(D$2=X$4, X174, D$2=Y$4, Y174,D$2=Z$4, Z174,D$2=AA$4, AA174)","v":384},384,{"$f":"IF(R174=1, _xlfn.IFNA(VLOOKUP(Q174, 'Allocation Change Graph'!BF$7:BG$20, 2, FALSE), 0), 0)","v":0},0.9,345.6,null,null,384,null,null,null,0,4,2,2,1,0,7,86,170,212,null,null,null,null,null,0,212]
[null,null,"University Wide","Medical Center Hillcrest","Medical Center Hillcrest","Medical Center Hillcrest","Arbor","P901","L1","Visitor",null,null,"Yes","Yes",null,"Arbor","ArborVisitor",{"$f":"COUNTIF(Q$5:Q175, Q175 )","v":1},{"$f":"_xlfn.IFS(D$2=X$4, X175, D$2=Y$4, Y175,D$2=Z$4, Z175,D$2=AA$4, AA175)","v":41},263,{"$f":"IF(R175=1, _xlfn.IFNA(VLOOKUP(Q175, 'Allocation Change Graph'!BF$7:BG$20, 2, FALSE), 0), 0)","v":0},0.85,223.54999999999998,null,null,41,null,null,null,201,143,111,92,76,84,105,137,177,181,null,null,null,null,null,76,201]
[null,null,"University Wide","Medical Center Hillcrest","Medical Center Hillcrest","Medical Center Hillcrest","Arbor","P902","L2","Visitor",null,null,"Yes",null,null,"Arbor","ArborVisitor",{"$f":"COUNTIF(Q$5:Q176, Q176 )","v":2},{"$f":"_xlfn.IFS(D$2=X$4, X176, D$2=Y$4, Y176,D$2=Z$4, Z176,D$2=AA$4, AA176)","v":41},"",{"$f":"IF(R176=1, _xlfn.IFNA(VLOOKUP(Q176, 'Allocation Change Graph'!BF$7:BG$20, 2, FALSE), 0), 0)","v":0},null,"",null,null,41,null,null,null,null,null,null,null,null,null,null,null,null,null,null,null,null,null,null,0,0]
[null,null,"University Wide","Medical Center Hillcrest","Medical Center Hillcrest","Medical Center Hillcrest","Arbor","P903","L3","Visitor",null,null,"Yes",null,null,"Arbor","ArborVisitor",{"$f":"COUNTIF(Q$5:Q177, Q177 )","v":3},{"$f":"_xlfn.IFS(D$2=X$4, X177, D$2=Y$4, Y177,D$2=Z$4, Z177,D$2=AA$4, AA177)","v":39},"",{"$f":"IF(R177=1, _xlfn.IFNA(VLOOKUP(Q177, 'Allocation Change Graph'!BF$7:BG$20, 2, FALSE), 0), 0)","v":0},null,"",null,null,39,null,null,null,null,null,null,null,null,null,null,null,null,null,null,null,null,null,null,0,0]
[null,null,"University Wide","Medical Center Hillcrest","Medical Center Hillcrest","Medical Center Hillcrest","Arbor","P904","L4","Visitor",null,null,"Yes",null,null,"Arbor","ArborVisitor",{"$f":"COUNTIF(Q$5:Q178, Q178 )","v":4},{"$f":"_xlfn.IFS(D$2=X$4, X178, D$2=Y$4, Y178,D$2=Z$4, Z178,D$2=AA$4, AA178)","v":39},"",{"$f":"IF(R178=1, _xlfn.IFNA(VLOOKUP(Q178, 'Allocation Change Graph'!BF$7:BG$20, 2, FALSE), 0), 0)","v":0},null,"",null,null,39,null,null,null,null,null,null,null,null,null,null,null,null,null,null,null,null,null,null,0,0]
[null,null,"University Wide","Medical Center Hillcrest","Medical Center Hillcrest","Medical Center Hillcrest","Arbor","P905","L5","Visitor",null,null,"Yes",null,null,"Arbor","ArborVisitor",{"$f":"COUNTIF(Q$5:Q179, Q179 )","v":5},{"$f":"_xlfn.IFS(D$2=X$4, X179, D$2=Y$4, Y179,D$2=Z$4, Z179,D$2=AA$4, AA179)","v":39},"",{"$f":"IF(R179=1, _xlfn.IFNA(VLOOKUP(Q179, 'Allocation Change Graph'!BF$7:BG$20, 2, FALSE), 0), 0)","v":0},null,"",null,null,39,null,null,null,null,null,null,null,null,null,null,null,null,null,null,null,null,null,null,0,0]
[null,null,"University Wide","Medical Center Hillcrest","Medical Center Hillcrest","Medical Center Hillcrest","Arbor","P906","L6","Visitor",null,null,"Yes",null,null,"Arbor","ArborVisitor",{"$f":"COUNTIF(Q$5:Q180, Q180 )","v":6},{"$f":"_xlfn.IFS(D$2=X$4, X180, D$2=Y$4, Y180,D$2=Z$4, Z180,D$2=AA$4, AA180)","v":39},"",{"$f":"IF(R180=1, _xlfn.IFNA(VLOOKUP(Q180, 'Allocation Change Graph'!BF$7:BG$20, 2, FALSE), 0), 0)","v":0},null,"",null,null,39,null,null,null,null,null,null,null,null,null,null,null,null,null,null,null,null,null,null,0,0]
[null,null,"University Wide","Medical Center Hillcrest","Medical Center Hillcrest","Medical Center Hillcrest","Arbor","P907","L7","Motorcycle Section",null,null,"Yes","Yes",null,"Arbor","ArborMotorcycle Section",{"$f":"COUNTIF(Q$5:Q181, Q181 )","v":1},{"$f":"_xlfn.IFS(D$2=X$4, X181, D$2=Y$4, Y181,D$2=Z$4, Z181,D$2=AA$4, AA181)","v":10},10,{"$f":"IF(R181=1, _xlfn.IFNA(VLOOKUP(Q181, 'Allocation Change Graph'!BF$7:BG$20, 2, FALSE), 0), 0)","v":0},0.85,8.5,null,null,10,null,null,null,9,9,8,8,9,10,9,9,10,10,null,null,null,null,null,8,10]
[null,null,"University Wide","Medical Center Hillcrest","Medical Center Hillcrest","Medical Center Hillcrest","Arbor","P907","L7","Visitor","Patient Visitor Reserved",null,"Yes","Yes",null,"Arbor","ArborVisitorPatient Visitor Reserved",{"$f":"COUNTIF(Q$5:Q182, Q182 )","v":1},{"$f":"_xlfn.IFS(D$2=X$4, X182, D$2=Y$4, Y182,D$2=Z$4, Z182,D$2=AA$4, AA182)","v":4},4,{"$f":"IF(R182=1, _xlfn.IFNA(VLOOKUP(Q182, 'Allocation Change Graph'!BF$7:BG$20, 2, FALSE), 0), 0)","v":0},0.85,3.4,null,null,4,null,null,null,3,2,1,1,2,2,1,2,3,3,null,null,null,null,null,1,3]
[null,null,"University Wide","Medical Center Hillcrest","Medical Center Hillcrest","Medical Center Hillcrest","Arbor","P907","L7","Visitor",null,null,"Yes",null,null,"Arbor","ArborVisitor",{"$f":"COUNTIF(Q$5:Q183, Q183 )","v":7},{"$f":"_xlfn.IFS(D$2=X$4, X183, D$2=Y$4, Y183,D$2=Z$4, Z183,D$2=AA$4, AA183)","v":25},"",{"$f":"IF(R183=1, _xlfn.IFNA(VLOOKUP(Q183, 'Allocation Change Graph'!BF$7:BG$20, 2, FALSE), 0), 0)","v":0},null,"",null,null,25,null,null,null,null,null,null,null,null,null,null,null,null,null,null,null,null,null,null,0,0]
[null,null,"University Wide","Medical Center Hillcrest","Medical Center Hillcrest","Medical Center Hillcrest","Arbor","P908","L8","Accessible",null,null,"Yes","Yes",null,"Arbor","ArborAccessible",{"$f":"COUNTIF(Q$5:Q184, Q184 )","v":1},{"$f":"_xlfn.IFS(D$2=X$4, X184, D$2=Y$4, Y184,D$2=Z$4, Z184,D$2=AA$4, AA184)","v":10},15,{"$f":"IF(R184=1, _xlfn.IFNA(VLOOKUP(Q184, 'Allocation Change Graph'!BF$7:BG$20, 2, FALSE), 0), 0)","v":0},0.85,12.75,null,null,10,null,null,null,11,9,6,5,6,8,4,3,5,8,null,null,null,null,null,3,11]
[null,null,"University Wide","Medical Center Hillcrest","Medical Center Hillcrest","Medical Center Hillcrest","Arbor","P908","L8","Accessible (Van)",null,null,"Yes","Yes",null,"Arbor","ArborAccessible (Van)",{"$f":"COUNTIF(Q$5:Q185, Q185 )","v":1},{"$f":"_xlfn.IFS(D$2=X$4, X185, D$2=Y$4, Y185,D$2=Z$4, Z185,D$2=AA$4, AA185)","v":0},0,{"$f":"IF(R185=1, _xlfn.IFNA(VLOOKUP(Q185, 'Allocation Change Graph'!BF$7:BG$20, 2, FALSE), 0), 0)","v":0},0.85,0,null,null,null,null,null,null,null,null,null,null,null,null,null,null,null,null,null,null,null,null,null,0,0]
[null,null,"University Wide","Medical Center Hillcrest","Medical Center Hillcrest","Medical Center Hillcrest","Arbor","P908","L8","Reserved","Transportation Office",null,"Yes","Yes",null,"Arbor","ArborReservedTransportation Office",{"$f":"COUNTIF(Q$5:Q186, Q186 )","v":1},{"$f":"_xlfn.IFS(D$2=X$4, X186, D$2=Y$4, Y186,D$2=Z$4, Z186,D$2=AA$4, AA186)","v":1},1,{"$f":"IF(R186=1, _xlfn.IFNA(VLOOKUP(Q186, 'Allocation Change Graph'!BF$7:BG$20, 2, FALSE), 0), 0)","v":0},0.85,0.85,null,null,1,null,null,null,0,0,0,0,0,1,1,1,1,1,null,null,null,null,null,0,1]
[null,null,"University Wide","Medical Center Hillcrest","Medical Center Hillcrest","Medical Center Hillcrest","Arbor","P908","L8","UC Vehicle",null,null,"Yes","Yes",null,"Arbor","ArborUC Vehicle",{"$f":"COUNTIF(Q$5:Q187, Q187 )","v":1},{"$f":"_xlfn.IFS(D$2=X$4, X187, D$2=Y$4, Y187,D$2=Z$4, Z187,D$2=AA$4, AA187)","v":2},2,{"$f":"IF(R187=1, _xlfn.IFNA(VLOOKUP(Q187, 'Allocation Change Graph'!BF$7:BG$20, 2, FALSE), 0), 0)","v":0},0.85,1.7,null,null,2,null,null,null,0,0,0,0,0,1,0,1,2,2,null,null,null,null,null,0,2]
[null,null,"University Wide","Medical Center Hillcrest","Medical Center Hillcrest","Medical Center Hillcrest","Arbor","P909","L9","Electric Vehicle",null,"4 Hours","Yes","Yes",null,"Arbor","ArborElectric Vehicle4 Hours",{"$f":"COUNTIF(Q$5:Q188, Q188 )","v":1},{"$f":"_xlfn.IFS(D$2=X$4, X188, D$2=Y$4, Y188,D$2=Z$4, Z188,D$2=AA$4, AA188)","v":12},12,{"$f":"IF(R188=1, _xlfn.IFNA(VLOOKUP(Q188, 'Allocation Change Graph'!BF$7:BG$20, 2, FALSE), 0), 0)","v":0},0.85,10.199999999999999,null,null,12,null,null,null,7,5,3,4,2,5,4,2,4,9,null,null,null,null,null,2,9]
[null,null,"University Wide","Medical Center Hillcrest","Medical Center Hillcrest","Medical Center Hillcrest","Arbor","P909","L9","Motorcycle Section",null,null,"Yes",null,null,"Arbor","ArborMotorcycle Section",{"$f":"COUNTIF(Q$5:Q189, Q189 )","v":2},{"$f":"_xlfn.IFS(D$2=X$4, X189, D$2=Y$4, Y189,D$2=Z$4, Z189,D$2=AA$4, AA189)","v":0},"",{"$f":"IF(R189=1, _xlfn.IFNA(VLOOKUP(Q189, 'Allocation Change Graph'!BF$7:BG$20, 2, FALSE), 0), 0)","v":0},null,"",null,null,null,null,null,null,null,null,null,null,null,null,null,null,null,null,null,null,null,null,null,0,0]
[null,null,"University Wide","Medical Center Hillcrest","Medical Center Hillcrest","Medical Center Hillcrest","Arbor","P909","L9","Reserved",null,null,"Yes","Yes",null,"Arbor","ArborReserved",{"$f":"COUNTIF(Q$5:Q190, Q190 )","v":1},{"$f":"_xlfn.IFS(D$2=X$4, X190, D$2=Y$4, Y190,D$2=Z$4, Z190,D$2=AA$4, AA190)","v":19},19,{"$f":"IF(R190=1, _xlfn.IFNA(VLOOKUP(Q190, 'Allocation Change Graph'!BF$7:BG$20, 2, FALSE), 0), 0)","v":0},0.85,16.149999999999999,null,null,19,null,null,null,9,7,4,3,3,5,14,16,14,18,null,null,null,null,null,3,18]
[null,null,"University Wide","Medical Center Hillcrest","Medical Center Hillcrest","Medical Center Hillcrest","Arbor","P910","L10","A",null,null,"Yes","Yes",null,"Arbor","ArborA",{"$f":"COUNTIF(Q$5:Q191, Q191 )","v":1},{"$f":"_xlfn.IFS(D$2=X$4, X191, D$2=Y$4, Y191,D$2=Z$4, Z191,D$2=AA$4, AA191)","v":44},226,{"$f":"IF(R191=1, _xlfn.IFNA(VLOOKUP(Q191, 'Allocation Change Graph'!BF$7:BG$20, 2, FALSE), 0), 0)","v":0},0.9,203.4,null,null,44,null,null,null,131,80,48,31,27,35,42,59,100,145,null,null,null,null,null,27,145]
[null,null,"University Wide","Medical Center Hillcrest","Medical Center Hillcrest","Medical Center Hillcrest","Arbor","P910","L10","Accessible",null,null,"Yes",null,null,"Arbor","ArborAccessible",{"$f":"COUNTIF(Q$5:Q192, Q192 )","v":2},{"$f":"_xlfn.IFS(D$2=X$4, X192, D$2=Y$4, Y192,D$2=Z$4, Z192,D$2=AA$4, AA192)","v":3},"",{"$f":"IF(R192=1, _xlfn.IFNA(VLOOKUP(Q192, 'Allocation Change Graph'!BF$7:BG$20, 2, FALSE), 0), 0)","v":0},null,"",null,null,3,null,null,null,null,null,null,null,null,null,null,null,null,null,null,null,null,null,null,0,0]
[null,null,"University Wide","Medical Center Hillcrest","Medical Center Hillcrest","Medical Center Hillcrest","Arbor","P910","L10","Accessible (Van)",null,null,"Yes",null,null,"Arbor","ArborAccessible (Van)",{"$f":"COUNTIF(Q$5:Q193, Q193 )","v":2},{"$f":"_xlfn.IFS(D$2=X$4, X193, D$2=Y$4, Y193,D$2=Z$4, Z193,D$2=AA$4, AA193)","v":0},"",{"$f":"IF(R193=1, _xlfn.IFNA(VLOOKUP(Q193, 'Allocation Change Graph'!BF$7:BG$20, 2, FALSE), 0), 0)","v":0},null,"",null,null,null,null,null,null,null,null,null,null,null,null,null,null,null,null,null,null,null,null,null,0,0]
[null,null,"University Wide","Medical Center Hillcrest","Medical Center Hillcrest","Medical Center Hillcrest","Arbor","P911","L11","A",null,null,"Yes",null,null,"Arbor","ArborA",{"$f":"COUNTIF(Q$5:Q194, Q194 )","v":2},{"$f":"_xlfn.IFS(D$2=X$4, X194, D$2=Y$4, Y194,D$2=Z$4, Z194,D$2=AA$4, AA194)","v":47},"",{"$f":"IF(R194=1, _xlfn.IFNA(VLOOKUP(Q194, 'Allocation Change Graph'!BF$7:BG$20, 2, FALSE), 0), 0)","v":0},null,"",null,null,47,null,null,null,null,null,null,null,null,null,null,null,null,null,null,null,null,null,null,0,0]
[null,null,"University Wide","Medical Center Hillcrest","Medical Center Hillcrest","Medical Center Hillcrest","Arbor","P912","L12","A",null,null,"Yes",null,null,"Arbor","ArborA",{"$f":"COUNTIF(Q$5:Q195, Q195 )","v":3},{"$f":"_xlfn.IFS(D$2=X$4, X195, D$2=Y$4, Y195,D$2=Z$4, Z195,D$2=AA$4, AA195)","v":45},"",{"$f":"IF(R195=1, _xlfn.IFNA(VLOOKUP(Q195, 'Allocation Change Graph'!BF$7:BG$20, 2, FALSE), 0), 0)","v":0},null,"",null,null,45,null,null,null,null,null,null,null,null,null,null,null,null,null,null,null,null,null,null,0,0]
[null,null,"University Wide","Medical Center Hillcrest","Medical Center Hillcrest","Medical Center Hillcrest","Arbor","P912","L12","Accessible",null,null,"Yes",null,null,"Arbor","ArborAccessible",{"$f":"COUNTIF(Q$5:Q196, Q196 )","v":3},{"$f":"_xlfn.IFS(D$2=X$4, X196, D$2=Y$4, Y196,D$2=Z$4, Z196,D$2=AA$4, AA196)","v":1},"",{"$f":"IF(R196=1, _xlfn.IFNA(VLOOKUP(Q196, 'Allocation Change Graph'!BF$7:BG$20, 2, FALSE), 0), 0)","v":0},null,"",null,null,1,null,null,null,null,null,null,null,null,null,null,null,null,null,null,null,null,null,null,0,0]
[null,null,"University Wide","Medical Center Hillcrest","Medical Center Hillcrest","Medical Center Hillcrest","Arbor","P912","L12","Accessible (Van)",null,null,"Yes",null,null,{"$f":"IF(G197=\"Surface Lot\", H197, G197)","v":"Arbor"},{"$f":"P197&J197&K197&L197","v":"ArborAccessible (Van)"},{"$f":"COUNTIF(Q$5:Q197, Q197 )","v":3},{"$f":"_xlfn.IFS(D$2=X$4, X197, D$2=Y$4, Y197,D$2=Z$4, Z197,D$2=AA$4, AA197)","v":0},{"$f":"IF(R197=1,SUMIF(Q:Q,Q197,S:S)+U197, \"\")","v":""},{"$f":"IF(R197=1, _xlfn.IFNA(VLOOKUP(Q197, 'Allocation Change Graph'!BF$7:BG$20, 2, FALSE), 0), 0)","v":0},null,{"$f":"IF(R197=1, V197*T197, \"\")","v":""},null,null,null,null,null,null,null,null,null,null,null,null,null,null,null,null,null,null,null,null,null,{"$f":"MIN($AB197:$AR197)+U197","v":0},{"$f":"MAX($AB197:$AR197)+U197","v":0}]
[null,null,"University Wide","Medical Center Hillcrest","Medical Center Hillcrest","Medical Center Hillcrest","Arbor","P913","L13","A",null,null,"Yes",null,null,"Arbor","ArborA",{"$f":"COUNTIF(Q$5:Q198, Q198 )","v":4},{"$f":"_xlfn.IFS(D$2=X$4, X198, D$2=Y$4, Y198,D$2=Z$4, Z198,D$2=AA$4, AA198)","v":47},"",{"$f":"IF(R198=1, _xlfn.IFNA(VLOOKUP(Q198, 'Allocation Change Graph'!BF$7:BG$20, 2, FALSE), 0), 0)","v":0},null,"",null,null,47,null,null,null,null,null,null,null,null,null,null,null,null,null,null,null,null,null,null,0,0]
[null,null,"University Wide","Medical Center Hillcrest","Medical Center Hillcrest","Medical Center Hillcrest","Arbor","P914","L14","A",null,null,"Yes",null,null,"Arbor","ArborA",{"$f":"COUNTIF(Q$5:Q199, Q199 )","v":5},{"$f":"_xlfn.IFS(D$2=X$4, X199, D$2=Y$4, Y199,D$2=Z$4, Z199,D$2=AA$4, AA199)","v":43},"",{"$f":"IF(R199=1, _xlfn.IFNA(VLOOKUP(Q199, 'Allocation Change Graph'!BF$7:BG$20, 2, FALSE), 0), 0)","v":0},null,"",null,null,43,null,null,null,null,null,null,null,null,null,null,null,null,null,null,null,null,null,null,0,0]
[null,null,"University Wide","Medical Center Hillcrest","Medical Center Hillcrest","Medical Center Hillcrest","Arbor","P914","L14","Accessible",null,null,"Yes",null,null,"Arbor","ArborAccessible",{"$f":"COUNTIF(Q$5:Q200, Q200 )","v":4},{"$f":"_xlfn.IFS(D$2=X$4, X200, D$2=Y$4, Y200,D$2=Z$4, Z200,D$2=AA$4, AA200)","v":1},"",{"$f":"IF(R200=1, _xlfn.IFNA(VLOOKUP(Q200, 'Allocation Change Graph'!BF$7:BG$20, 2, FALSE), 0), 0)","v":0},null,"",null,null,1,null,null,null,null,null,null,null,null,null,null,null,null,null,null,null,null,null,null,0,0]
[null,null,"University Wide","Medical Center Hillcrest","Medical Center Hillcrest","Medical Center Hillcrest","Arbor","P914","L14","Accessible (Van)",null,null,"Yes",null,null,"Arbor","ArborAccessible (Van)",{"$f":"COUNTIF(Q$5:Q201, Q201 )","v":4},{"$f":"_xlfn.IFS(D$2=X$4, X201, D$2=Y$4, Y201,D$2=Z$4, Z201,D$2=AA$4, AA201)","v":0},"",{"$f":"IF(R201=1, _xlfn.IFNA(VLOOKUP(Q201, 'Allocation Change Graph'!BF$7:BG$20, 2, FALSE), 0), 0)","v":0},null,"",null,null,null,null,null,null,null,null,null,null,null,null,null,null,null,null,null,null,null,null,null,0,0]
[null,null,"University Wide","Medical Center Hillcrest","Medical Center Hillcrest","Medical Center HIllcrest","First Ave","P920","B2 & Ramps to Next Level","Accessible","Construction",null,"Yes","Yes",null,"First Ave","First AveAccessibleConstruction",{"$f":"COUNTIF(Q$5:Q202, Q202 )","v":1},{"$f":"_xlfn.IFS(D$2=X$4, X202, D$2=Y$4, Y202,D$2=Z$4, Z202,D$2=AA$4, AA202)","v":5},9,{"$f":"IF(R202=1, _xlfn.IFNA(VLOOKUP(Q202, 'Allocation Change Graph'!BF$7:BG$20, 2, FALSE), 0), 0)","v":0},0.85,7.6499999999999995,null,null,5,null,null,null,5,4,3,3,4,3,3,1,1,2,null,null,null,null,null,1,5]
[null,null,"University Wide","Medical Center Hillcrest","Medical Center Hillcrest","Medical Center HIllcrest","First Ave","P920","B2 & Ramps to Next Level","Accessible (Van)",null,null,"Yes","Yes",null,"First Ave","First AveAccessible (Van)",{"$f":"COUNTIF(Q$5:Q203, Q203 )","v":1},{"$f":"_xlfn.IFS(D$2=X$4, X203, D$2=Y$4, Y203,D$2=Z$4, Z203,D$2=AA$4, AA203)","v":0},0,{"$f":"IF(R203=1, _xlfn.IFNA(VLOOKUP(Q203, 'Allocation Change Graph'!BF$7:BG$20, 2, FALSE), 0), 0)","v":0},0.85,0,null,null,null,null,null,null,null,null,null,null,null,null,null,null,null,null,null,null,null,null,null,0,0]
[null,null,"University Wide","Medical Center Hillcrest","Medical Center Hillcrest","Medical Center HIllcrest","First Ave","P920","B2 & Ramps to Next Level","B","Construction",null,"Yes","Yes",null,"First Ave","First AveBConstruction",{"$f":"COUNTIF(Q$5:Q204, Q204 )","v":1},{"$f":"_xlfn.IFS(D$2=X$4, X204, D$2=Y$4, Y204,D$2=Z$4, Z204,D$2=AA$4, AA204)","v":242},438,{"$f":"IF(R204=1, _xlfn.IFNA(VLOOKUP(Q204, 'Allocation Change Graph'!BF$7:BG$20, 2, FALSE), 0), 0)","v":0},0.9,394.2,null,null,242,null,null,null,147,98,82,71,93,81,35,180,220,282,null,null,null,null,null,35,282]
[null,null,"University Wide","Medical Center Hillcrest","Medical Center Hillcrest","Medical Center HIllcrest","First Ave","P920","B2 & Ramps to Next Level","Electric Vehicle","Construction",null,"Yes","Yes",null,"First Ave","First AveElectric VehicleConstruction",{"$f":"COUNTIF(Q$5:Q205, Q205 )","v":1},{"$f":"_xlfn.IFS(D$2=X$4, X205, D$2=Y$4, Y205,D$2=Z$4, Z205,D$2=AA$4, AA205)","v":0},0,{"$f":"IF(R205=1, _xlfn.IFNA(VLOOKUP(Q205, 'Allocation Change Graph'!BF$7:BG$20, 2, FALSE), 0), 0)","v":0},0.85,0,null,null,0,null,null,null,null,null,null,null,null,null,null,null,null,null,null,null,null,null,null,0,0]
[null,null,"University Wide","Medical Center Hillcrest","Medical Center Hillcrest","Medical Center HIllcrest","First Ave","P920","B2 & Ramps to Next Level","Motorcycle Section","Construction",null,"Yes","Yes",null,"First Ave","First AveMotorcycle SectionConstruction",{"$f":"COUNTIF(Q$5:Q206, Q206 )","v":1},{"$f":"_xlfn.IFS(D$2=X$4, X206, D$2=Y$4, Y206,D$2=Z$4, Z206,D$2=AA$4, AA206)","v":15},23,{"$f":"IF(R206=1, _xlfn.IFNA(VLOOKUP(Q206, 'Allocation Change Graph'!BF$7:BG$20, 2, FALSE), 0), 0)","v":0},0.85,19.55,null,null,15,null,null,null,12,7,6,7,5,7,6,5,6,6,null,null,null,null,null,5,12]
[null,null,"University Wide","Medical Center Hillcrest","Medical Center Hillcrest","Medical Center HIllcrest","First Ave","P920","B2 & Ramps to Next Level","Reserved",null,null,"Yes","Yes",null,"First Ave","First AveReserved",{"$f":"COUNTIF(Q$5:Q207, Q207 )","v":1},{"$f":"_xlfn.IFS(D$2=X$4, X207, D$2=Y$4, Y207,D$2=Z$4, Z207,D$2=AA$4, AA207)","v":8},8,{"$f":"IF(R207=1, _xlfn.IFNA(VLOOKUP(Q207, 'Allocation Change Graph'!BF$7:BG$20, 2, FALSE), 0), 0)","v":0},0.85,6.8,null,null,8,null,null,null,6,4,3,2,3,4,2,2,5,5,null,null,null,null,null,2,6]
[null,null,"University Wide","Medical Center Hillcrest","Medical Center Hillcrest","Medical Center HIllcrest","First Ave","P921","B1 & Ramps to Next Level","A","Construction",null,"Yes","Yes",null,"First Ave","First AveAConstruction",{"$f":"COUNTIF(Q$5:Q208, Q208 )","v":1},{"$f":"_xlfn.IFS(D$2=X$4, X208, D$2=Y$4, Y208,D$2=Z$4, Z208,D$2=AA$4, AA208)","v":0},0,{"$f":"IF(R208=1, _xlfn.IFNA(VLOOKUP(Q208, 'Allocation Change Graph'!BF$7:BG$20, 2, FALSE), 0), 0)","v":0},0.9,0,null,null,null,null,null,null,null,null,null,null,null,null,null,null,null,null,null,null,null,null,null,0,0]
[null,null,"University Wide","Medical Center Hillcrest","Medical Center Hillcrest","Medical Center HIllcrest","First Ave","P921","B1 & Ramps to Next Level","Accessible","Construction",null,"Yes",null,null,"First Ave","First AveAccessibleConstruction",{"$f":"COUNTIF(Q$5:Q209, Q209 )","v":2},{"$f":"_xlfn.IFS(D$2=X$4, X209, D$2=Y$4, Y209,D$2=Z$4, Z209,D$2=AA$4, AA209)","v":4},"",{"$f":"IF(R209=1, _xlfn.IFNA(VLOOKUP(Q209, 'Allocation Change Graph'!BF$7:BG$20, 2, FALSE), 0), 0)","v":0},null,"",null,null,4,null,null,null,null,null,null,null,null,null,null,null,null,null,null,null,null,null,null,0,0]
[null,null,"University Wide","Medical Center Hillcrest","Medical Center Hillcrest","Medical Center HIllcrest","First Ave","P921","B1 & Ramps to Next Level","Accessible (Van)",null,null,"Yes",null,null,"First Ave","First AveAccessible (Van)",{"$f":"COUNTIF(Q$5:Q210, Q210 )","v":2},{"$f":"_xlfn.IFS(D$2=X$4, X210, D$2=Y$4, Y210,D$2=Z$4, Z210,D$2=AA$4, AA210)","v":0},"",{"$f":"IF(R210=1, _xlfn.IFNA(VLOOKUP(Q210, 'Allocation Change Graph'!BF$7:BG$20, 2, FALSE), 0), 0)","v":0},null,"",null,null,null,null,null,null,null,null,null,null,null,null,null,null,null,null,null,null,null,null,null,0,0]
[null,null,"University Wide","Medical Center Hillcrest","Medical Center Hillcrest","Medical Center HIllcrest","First Ave","P921","B1 & Ramps to Next Level","B","Construction",null,"Yes",null,null,"First Ave","First AveBConstruction",{"$f":"COUNTIF(Q$5:Q211, Q211 )","v":2},{"$f":"_xlfn.IFS(D$2=X$4, X211, D$2=Y$4, Y211,D$2=Z$4, Z211,D$2=AA$4, AA211)","v":196},"",{"$f":"IF(R211=1, _xlfn.IFNA(VLOOKUP(Q211, 'Allocation Change Graph'!BF$7:BG$20, 2, FALSE), 0), 0)","v":0},null,"",null,null,196,null,null,null,null,null,null,null,null,null,null,null,null,null,null,null,null,null,null,0,0]
[null,null,"University Wide","Medical Center Hillcrest","Medical Center Hillcrest","Medical Center HIllcrest","First Ave","P921","B1 & Ramps to Next Level","Electric Vehicle","Construction",null,"Yes",null,null,"First Ave","First AveElectric VehicleConstruction",{"$f":"COUNTIF(Q$5:Q212, Q212 )","v":2},{"$f":"_xlfn.IFS(D$2=X$4, X212, D$2=Y$4, Y212,D$2=Z$4, Z212,D$2=AA$4, AA212)","v":0},"",{"$f":"IF(R212=1, _xlfn.IFNA(VLOOKUP(Q212, 'Allocation Change Graph'!BF$7:BG$20, 2, FALSE), 0), 0)","v":0},null,"",null,null,0,null,null,null,null,null,null,null,null,null,null,null,null,null,null,null,null,null,null,0,0]
[null,null,"University Wide","Medical Center Hillcrest","Medical Center Hillcrest","Medical Center HIllcrest","First Ave","P921","B1 & Ramps to Next Level","Motorcycle Section","Construction",null,"Yes",null,null,"First Ave","First AveMotorcycle SectionConstruction",{"$f":"COUNTIF(Q$5:Q213, Q213 )","v":2},{"$f":"_xlfn.IFS(D$2=X$4, X213, D$2=Y$4, Y213,D$2=Z$4, Z213,D$2=AA$4, AA213)","v":8},"",{"$f":"IF(R213=1, _xlfn.IFNA(VLOOKUP(Q213, 'Allocation Change Graph'!BF$7:BG$20, 2, FALSE), 0), 0)","v":0},null,"",null,null,8,null,null,null,null,null,null,null,null,null,null,null,null,null,null,null,null,null,null,0,0]
[null,null,"University Wide","Medical Center Hillcrest","Medical Center Hillcrest","Medical Center HIllcrest","First Ave","P921","B1 & Ramps to Next Level","Reserved",null,null,"Yes",null,null,"First Ave","First AveReserved",{"$f":"COUNTIF(Q$5:Q214, Q214 )","v":2},{"$f":"_xlfn.IFS(D$2=X$4, X214, D$2=Y$4, Y214,D$2=Z$4, Z214,D$2=AA$4, AA214)","v":0},"",{"$f":"IF(R214=1, _xlfn.IFNA(VLOOKUP(Q214, 'Allocation Change Graph'!BF$7:BG$20, 2, FALSE), 0), 0)","v":0},null,"",null,null,null,null,null,null,null,null,null,null,null,null,null,null,null,null,null,null,null,null,null,0,0]
[null,null,"University Wide","Medical Center Hillcrest","Medical Center Hillcrest","Medical Center HIllcrest","First Ave","P922","PL & Ramps to Next Level","A",null,null,"Yes","Yes",null,"First Ave","First AveA",{"$f":"COUNTIF(Q$5:Q215, Q215 )","v":1},{"$f":"_xlfn.IFS(D$2=X$4, X215, D$2=Y$4, Y215,D$2=Z$4, Z215,D$2=AA$4, AA215)","v":0},0,{"$f":"IF(R215=1, _xlfn.IFNA(VLOOKUP(Q215, 'Allocation Change Graph'!BF$7:BG$20, 2, FALSE), 0), 0)","v":0},0.9,0,null,null,null,null,null,null,null,null,null,null,null,null,null,null,null,null,null,null,null,null,null,0,0]
[null,null,"University Wide","Medical Center Hillcrest","Medical Center Hillcrest","Medical Center HIllcrest","First Ave","P922","PL & Ramps to Next Level","Accessible",null,null,"Yes","Yes",null,"First Ave","First AveAccessible",{"$f":"COUNTIF(Q$5:Q216, Q216 )","v":1},{"$f":"_xlfn.IFS(D$2=X$4, X216, D$2=Y$4, Y216,D$2=Z$4, Z216,D$2=AA$4, AA216)","v":6},50,{"$f":"IF(R216=1, _xlfn.IFNA(VLOOKUP(Q216, 'Allocation Change Graph'!BF$7:BG$20, 2, FALSE), 0), 0)","v":0},0.85,42.5,null,null,6,null,null,null,21,16,14,13,16,13,31,25,33,38,null,null,null,null,null,13,38]
[null,null,"University Wide","Medical Center Hillcrest","Medical Center Hillcrest","Medical Center HIllcrest","First Ave","P922","PL & Ramps to Next Level","Accessible (Van)",null,null,"Yes",null,null,"First Ave","First AveAccessible (Van)",{"$f":"COUNTIF(Q$5:Q217, Q217 )","v":3},{"$f":"_xlfn.IFS(D$2=X$4, X217, D$2=Y$4, Y217,D$2=Z$4, Z217,D$2=AA$4, AA217)","v":0},"",{"$f":"IF(R217=1, _xlfn.IFNA(VLOOKUP(Q217, 'Allocation Change Graph'!BF$7:BG$20, 2, FALSE), 0), 0)","v":0},null,"",null,null,null,null,null,null,null,null,null,null,null,null,null,null,null,null,null,null,null,null,null,0,0]
[null,null,"University Wide","Medical Center Hillcrest","Medical Center Hillcrest","Medical Center HIllcrest","First Ave","P922","PL & Ramps to Next Level","B",null,null,"Yes","Yes",null,"First Ave","First AveB",{"$f":"COUNTIF(Q$5:Q218, Q218 )","v":1},{"$f":"_xlfn.IFS(D$2=X$4, X218, D$2=Y$4, Y218,D$2=Z$4, Z218,D$2=AA$4, AA218)","v":193},1265,{"$f":"IF(R218=1, _xlfn.IFNA(VLOOKUP(Q218, 'Allocation Change Graph'!BF$7:BG$20, 2, FALSE), 0), 0)","v":0},0.9,1138.5,null,null,193,null,null,null,652,411,298,264,217,200,286,204,449,696,null,null,null,null,null,200,696]
[null,null,"University Wide","Medical Center Hillcrest","Medical Center Hillcrest","Medical Center HIllcrest","First Ave","P922","PL & Ramps to Next Level","Electric Vehicle",null,null,"Yes","Yes",null,"First Ave","First AveElectric Vehicle",{"$f":"COUNTIF(Q$5:Q219, Q219 )","v":1},{"$f":"_xlfn.IFS(D$2=X$4, X219, D$2=Y$4, Y219,D$2=Z$4, Z219,D$2=AA$4, AA219)","v":0},30,{"$f":"IF(R219=1, _xlfn.IFNA(VLOOKUP(Q219, 'Allocation Change Graph'!BF$7:BG$20, 2, FALSE), 0), 0)","v":0},0.85,25.5,null,null,0,null,null,null,16,12,11,9,7,9,15,19,29,17,null,null,null,null,null,7,29]
[null,null,"University Wide","Medical Center Hillcrest","Medical Center Hillcrest","Medical Center HIllcrest","First Ave","P922","PL & Ramps to Next Level","Motorcycle Section",null,null,"Yes","Yes",null,"First Ave","First AveMotorcycle Section",{"$f":"COUNTIF(Q$5:Q220, Q220 )","v":1},{"$f":"_xlfn.IFS(D$2=X$4, X220, D$2=Y$4, Y220,D$2=Z$4, Z220,D$2=AA$4, AA220)","v":1},42,{"$f":"IF(R220=1, _xlfn.IFNA(VLOOKUP(Q220, 'Allocation Change Graph'!BF$7:BG$20, 2, FALSE), 0), 0)","v":0},0.85,35.699999999999996,null,null,1,null,null,null,39,38,38,39,37,39,38,37,37,37,null,null,null,null,null,37,39]
[null,null,"University Wide","Medical Center Hillcrest","Medical Center Hillcrest","Medical Center HIllcrest","First Ave","P922","PL & Ramps to Next Level","Reserved",null,null,"Yes",null,null,"First Ave","First AveReserved",{"$f":"COUNTIF(Q$5:Q221, Q221 )","v":3},{"$f":"_xlfn.IFS(D$2=X$4, X221, D$2=Y$4, Y221,D$2=Z$4, Z221,D$2=AA$4, AA221)","v":0},"",{"$f":"IF(R221=1, _xlfn.IFNA(VLOOKUP(Q221, 'Allocation Change Graph'!BF$7:BG$20, 2, FALSE), 0), 0)","v":0},null,"",null,null,null,null,null,null,null,null,null,null,null,null,null,null,null,null,null,null,null,null,null,0,0]
[null,null,"University Wide","Medical Center Hillcrest","Medical Center Hillcrest","Medical Center HIllcrest","First Ave","P923","P0 & Ramps to Next Level","A",null,null,"Yes",null,null,"First Ave","First AveA",{"$f":"COUNTIF(Q$5:Q222, Q222 )","v":2},{"$f":"_xlfn.IFS(D$2=X$4, X222, D$2=Y$4, Y222,D$2=Z$4, Z222,D$2=AA$4, AA222)","v":0},"",{"$f":"IF(R222=1, _xlfn.IFNA(VLOOKUP(Q222, 'Allocation Change Graph'!BF$7:BG$20, 2, FALSE), 0), 0)","v":0},null,"",null,null,null,null,null,null,null,null,null,null,null,null,null,null,null,null,null,null,null,null,null,0,0]
[null,null,"University Wide","Medical Center Hillcrest","Medical Center Hillcrest","Medical Center HIllcrest","First Ave","P923","P0 & Ramps to Next Level","Accessible",null,null,"Yes",null,null,"First Ave","First AveAccessible",{"$f":"COUNTIF(Q$5:Q223, Q223 )","v":2},{"$f":"_xlfn.IFS(D$2=X$4, X223, D$2=Y$4, Y223,D$2=Z$4, Z223,D$2=AA$4, AA223)","v":8},"",{"$f":"IF(R223=1, _xlfn.IFNA(VLOOKUP(Q223, 'Allocation Change Graph'!BF$7:BG$20, 2, FALSE), 0), 0)","v":0},null,"",null,null,8,null,null,null,null,null,null,null,null,null,null,null,null,null,null,null,null,null,null,0,0]
[null,null,"University Wide","Medical Center Hillcrest","Medical Center Hillcrest","Medical Center HIllcrest","First Ave","P923","P0 & Ramps to Next Level","Accessible (Van)",null,null,"Yes",null,null,"First Ave","First AveAccessible (Van)",{"$f":"COUNTIF(Q$5:Q224, Q224 )","v":4},{"$f":"_xlfn.IFS(D$2=X$4, X224, D$2=Y$4, Y224,D$2=Z$4, Z224,D$2=AA$4, AA224)","v":0},"",{"$f":"IF(R224=1, _xlfn.IFNA(VLOOKUP(Q224, 'Allocation Change Graph'!BF$7:BG$20, 2, FALSE), 0), 0)","v":0},null,"",null,null,null,null,null,null,null,null,null,null,null,null,null,null,null,null,null,null,null,null,null,0,0]
[null,null,"University Wide","Medical Center Hillcrest","Medical Center Hillcrest","Medical Center HIllcrest","First Ave","P923","P0 & Ramps to Next Level","B",null,null,"Yes",null,null,"First Ave","First AveB",{"$f":"COUNTIF(Q$5:Q225, Q225 )","v":2},{"$f":"_xlfn.IFS(D$2=X$4, X225, D$2=Y$4, Y225,D$2=Z$4, Z225,D$2=AA$4, AA225)","v":179},"",{"$f":"IF(R225=1, _xlfn.IFNA(VLOOKUP(Q225, 'Allocation Change Graph'!BF$7:BG$20, 2, FALSE), 0), 0)","v":0},null,"",null,null,179,null,null,null,null,null,null,null,null,null,null,null,null,null,null,null,null,null,null,0,0]
[null,null,"University Wide","Medical Center Hillcrest","Medical Center Hillcrest","Medical Center HIllcrest","First Ave","P923","P0 & Ramps to Next Level","Electric Vehicle",null,null,"Yes",null,null,"First Ave","First AveElectric Vehicle",{"$f":"COUNTIF(Q$5:Q226, Q226 )","v":2},{"$f":"_xlfn.IFS(D$2=X$4, X226, D$2=Y$4, Y226,D$2=Z$4, Z226,D$2=AA$4, AA226)","v":10},"",{"$f":"IF(R226=1, _xlfn.IFNA(VLOOKUP(Q226, 'Allocation Change Graph'!BF$7:BG$20, 2, FALSE), 0), 0)","v":0},null,"",null,null,10,null,null,null,null,null,null,null,null,null,null,null,null,null,null,null,null,null,null,0,0]
[null,null,"University Wide","Medical Center Hillcrest","Medical Center Hillcrest","Medical Center HIllcrest","First Ave","P923","P0 & Ramps to Next Level","Motorcycle Section",null,null,"Yes",null,null,"First Ave","First AveMotorcycle Section",{"$f":"COUNTIF(Q$5:Q227, Q227 )","v":2},{"$f":"_xlfn.IFS(D$2=X$4, X227, D$2=Y$4, Y227,D$2=Z$4, Z227,D$2=AA$4, AA227)","v":8},"",{"$f":"IF(R227=1, _xlfn.IFNA(VLOOKUP(Q227, 'Allocation Change Graph'!BF$7:BG$20, 2, FALSE), 0), 0)","v":0},null,"",null,null,8,null,null,null,null,null,null,null,null,null,null,null,null,null,null,null,null,null,null,0,0]
[null,null,"University Wide","Medical Center Hillcrest","Medical Center Hillcrest","Medical Center HIllcrest","First Ave","P923","P0 & Ramps to Next Level","Reserved",null,null,"Yes",null,null,"First Ave","First AveReserved",{"$f":"COUNTIF(Q$5:Q228, Q228 )","v":4},{"$f":"_xlfn.IFS(D$2=X$4, X228, D$2=Y$4, Y228,D$2=Z$4, Z228,D$2=AA$4, AA228)","v":0},"",{"$f":"IF(R228=1, _xlfn.IFNA(VLOOKUP(Q228, 'Allocation Change Graph'!BF$7:BG$20, 2, FALSE), 0), 0)","v":0},null,"",null,null,null,null,null,null,null,null,null,null,null,null,null,null,null,null,null,null,null,null,null,0,0]
[null,null,"University Wide","Medical Center Hillcrest","Medical Center Hillcrest","Medical Center HIllcrest","First Ave","P924","P1 & Ramps to Next Level","A",null,null,"Yes",null,null,"First Ave","First AveA",{"$f":"COUNTIF(Q$5:Q229, Q229 )","v":3},{"$f":"_xlfn.IFS(D$2=X$4, X229, D$2=Y$4, Y229,D$2=Z$4, Z229,D$2=AA$4, AA229)","v":0},"",{"$f":"IF(R229=1, _xlfn.IFNA(VLOOKUP(Q229, 'Allocation Change Graph'!BF$7:BG$20, 2, FALSE), 0), 0)","v":0},null,"",null,null,null,null,null,null,null,null,null,null,null,null,null,null,null,null,null,null,null,null,null,0,0]
[null,null,"University Wide","Medical Center Hillcrest","Medical Center Hillcrest","Medical Center HIllcrest","First Ave","P924","P1 & Ramps to Next Level","B",null,null,"Yes",null,null,"First Ave","First AveB",{"$f":"COUNTIF(Q$5:Q230, Q230 )","v":3},{"$f":"_xlfn.IFS(D$2=X$4, X230, D$2=Y$4, Y230,D$2=Z$4, Z230,D$2=AA$4, AA230)","v":158},"",{"$f":"IF(R230=1, _xlfn.IFNA(VLOOKUP(Q230, 'Allocation Change Graph'!BF$7:BG$20, 2, FALSE), 0), 0)","v":0},null,"",null,null,158,null,null,null,null,null,null,null,null,null,null,null,null,null,null,null,null,null,null,0,0]
[null,null,"University Wide","Medical Center Hillcrest","Medical Center Hillcrest","Medical Center HIllcrest","First Ave","P924","P1 & Ramps to Next Level","Electric Vehicle",null,null,"Yes",null,null,"First Ave","First AveElectric Vehicle",{"$f":"COUNTIF(Q$5:Q231, Q231 )","v":3},{"$f":"_xlfn.IFS(D$2=X$4, X231, D$2=Y$4, Y231,D$2=Z$4, Z231,D$2=AA$4, AA231)","v":10},"",{"$f":"IF(R231=1, _xlfn.IFNA(VLOOKUP(Q231, 'Allocation Change Graph'!BF$7:BG$20, 2, FALSE), 0), 0)","v":0},null,"",null,null,10,null,null,null,null,null,null,null,null,null,null,null,null,null,null,null,null,null,null,0,0]
[null,null,"University Wide","Medical Center Hillcrest","Medical Center Hillcrest","Medical Center HIllcrest","First Ave","P924","P1 & Ramps to Next Level","Motorcycle Section",null,null,"Yes",null,null,"First Ave","First AveMotorcycle Section",{"$f":"COUNTIF(Q$5:Q232, Q232 )","v":3},{"$f":"_xlfn.IFS(D$2=X$4, X232, D$2=Y$4, Y232,D$2=Z$4, Z232,D$2=AA$4, AA232)","v":6},"",{"$f":"IF(R232=1, _xlfn.IFNA(VLOOKUP(Q232, 'Allocation Change Graph'!BF$7:BG$20, 2, FALSE), 0), 0)","v":0},null,"",null,null,6,null,null,null,null,null,null,null,null,null,null,null,null,null,null,null,null,null,null,0,0]
[null,null,"University Wide","Medical Center Hillcrest","Medical Center Hillcrest","Medical Center HIllcrest","First Ave","P924","P1 & Ramps to Next Level","Reserved",null,null,"Yes",null,null,"First Ave","First AveReserved",{"$f":"COUNTIF(Q$5:Q233, Q233 )","v":5},{"$f":"_xlfn.IFS(D$2=X$4, X233, D$2=Y$4, Y233,D$2=Z$4, Z233,D$2=AA$4, AA233)","v":0},"",{"$f":"IF(R233=1, _xlfn.IFNA(VLOOKUP(Q233, 'Allocation Change Graph'!BF$7:BG$20, 2, FALSE), 0), 0)","v":0},null,"",null,null,null,null,null,null,null,null,null,null,null,null,null,null,null,null,null,null,null,null,null,0,0]
[null,null,"University Wide","Medical Center Hillcrest","Medical Center Hillcrest","Medical Center HIllcrest","First Ave","P924","P2 & Ramps to Next Level","Accessible",null,null,"Yes",null,null,"First Ave","First AveAccessible",{"$f":"COUNTIF(Q$5:Q234, Q234 )","v":3},{"$f":"_xlfn.IFS(D$2=X$4, X234, D$2=Y$4, Y234,D$2=Z$4, Z234,D$2=AA$4, AA234)","v":6},"",{"$f":"IF(R234=1, _xlfn.IFNA(VLOOKUP(Q234, 'Allocation Change Graph'!BF$7:BG$20, 2, FALSE), 0), 0)","v":0},null,"",null,null,6,null,null,null,null,null,null,null,null,null,null,null,null,null,null,null,null,null,null,0,0]
[null,null,"University Wide","Medical Center Hillcrest","Medical Center Hillcrest","Medical Center HIllcrest","First Ave","P924","P2 & Ramps to Next Level","Accessible (Van)",null,null,"Yes",null,null,"First Ave","First AveAccessible (Van)",{"$f":"COUNTIF(Q$5:Q235, Q235 )","v":5},{"$f":"_xlfn.IFS(D$2=X$4, X235, D$2=Y$4, Y235,D$2=Z$4, Z235,D$2=AA$4, AA235)","v":0},"",{"$f":"IF(R235=1, _xlfn.IFNA(VLOOKUP(Q235, 'Allocation Change Graph'!BF$7:BG$20, 2, FALSE), 0), 0)","v":0},null,"",null,null,null,null,null,null,null,null,null,null,null,null,null,null,null,null,null,null,null,null,null,0,0]
[null,null,"University Wide","Medical Center Hillcrest","Medical Center Hillcrest","Medical Center HIllcrest","First Ave","P925","P2 & Ramps to Next Level","Accessible",null,null,"Yes",null,null,"First Ave","First AveAccessible",{"$f":"COUNTIF(Q$5:Q236, Q236 )","v":4},{"$f":"_xlfn.IFS(D$2=X$4, X236, D$2=Y$4, Y236,D$2=Z$4, Z236,D$2=AA$4, AA236)","v":8},"",{"$f":"IF(R236=1, _xlfn.IFNA(VLOOKUP(Q236, 'Allocation Change Graph'!BF$7:BG$20, 2, FALSE), 0), 0)","v":0},null,"",null,null,8,null,null,null,null,null,null,null,null,null,null,null,null,null,null,null,null,null,null,0,0]
[null,null,"University Wide","Medical Center Hillcrest","Medical Center Hillcrest","Medical Center HIllcrest","First Ave","P925","P2 & Ramps to Next Level","Accessible (Van)",null,null,"Yes",null,null,"First Ave","First AveAccessible (Van)",{"$f":"COUNTIF(Q$5:Q237, Q237 )","v":6},{"$f":"_xlfn.IFS(D$2=X$4, X237, D$2=Y$4, Y237,D$2=Z$4, Z237,D$2=AA$4, AA237)","v":0},"",{"$f":"IF(R237=1, _xlfn.IFNA(VLOOKUP(Q237, 'Allocation Change Graph'!BF$7:BG$20, 2, FALSE), 0), 0)","v":0},null,"",null,null,null,null,null,null,null,null,null,null,null,null,null,null,null,null,null,null,null,null,null,0,0]
[null,null,"University Wide","Medical Center Hillcrest","Medical Center Hillcrest","Medical Center HIllcrest","First Ave","P925","P2 & Ramps to Next Level","B",null,null,"Yes",null,null,"First Ave","First AveB",{"$f":"COUNTIF(Q$5:Q238, Q238 )","v":4},{"$f":"_xlfn.IFS(D$2=X$4, X238, D$2=Y$4, Y238,D$2=Z$4, Z238,D$2=AA$4, AA238)","v":192},"",{"$f":"IF(R238=1, _xlfn.IFNA(VLOOKUP(Q238, 'Allocation Change Graph'!BF$7:BG$20, 2, FALSE), 0), 0)","v":0},null,"",null,null,192,null,null,null,null,null,null,null,null,null,null,null,null,null,null,null,null,null,null,0,0]
[null,null,"University Wide","Medical Center Hillcrest","Medical Center Hillcrest","Medical Center HIllcrest","First Ave","P925","P2 & Ramps to Next Level","Electric Vehicle",null,null,"Yes",null,null,"First Ave","First AveElectric Vehicle",{"$f":"COUNTIF(Q$5:Q239, Q239 )","v":4},{"$f":"_xlfn.IFS(D$2=X$4, X239, D$2=Y$4, Y239,D$2=Z$4, Z239,D$2=AA$4, AA239)","v":10},"",{"$f":"IF(R239=1, _xlfn.IFNA(VLOOKUP(Q239, 'Allocation Change Graph'!BF$7:BG$20, 2, FALSE), 0), 0)","v":0},null,"",null,null,10,null,null,null,null,null,null,null,null,null,null,null,null,null,null,null,null,null,null,0,0]
[null,null,"University Wide","Medical Center Hillcrest","Medical Center Hillcrest","Medical Center HIllcrest","First Ave","P925","P2 & Ramps to Next Level","Motorcycle Section",null,null,"Yes",null,null,"First Ave","First AveMotorcycle Section",{"$f":"COUNTIF(Q$5:Q240, Q240 )","v":4},{"$f":"_xlfn.IFS(D$2=X$4, X240, D$2=Y$4, Y240,D$2=Z$4, Z240,D$2=AA$4, AA240)","v":6},"",{"$f":"IF(R240=1, _xlfn.IFNA(VLOOKUP(Q240, 'Allocation Change Graph'!BF$7:BG$20, 2, FALSE), 0), 0)","v":0},null,"",null,null,6,null,null,null,null,null,null,null,null,null,null,null,null,null,null,null,null,null,null,0,0]
[null,null,"University Wide","Medical Center Hillcrest","Medical Center Hillcrest","Medical Center HIllcrest","First Ave","P925","P2 & Ramps to Next Level","Reserved",null,null,"Yes",null,null,"First Ave","First AveReserved",{"$f":"COUNTIF(Q$5:Q241, Q241 )","v":6},{"$f":"_xlfn.IFS(D$2=X$4, X241, D$2=Y$4, Y241,D$2=Z$4, Z241,D$2=AA$4, AA241)","v":0},"",{"$f":"IF(R241=1, _xlfn.IFNA(VLOOKUP(Q241, 'Allocation Change Graph'!BF$7:BG$20, 2, FALSE), 0), 0)","v":0},null,"",null,null,null,null,null,null,null,null,null,null,null,null,null,null,null,null,null,null,null,null,null,0,0]
[null,null,"University Wide","Medical Center Hillcrest","Medical Center Hillcrest","Medical Center HIllcrest","First Ave","P925","P3 & Ramps to Next Level","A",null,null,"Yes",null,null,"First Ave","First AveA",{"$f":"COUNTIF(Q$5:Q242, Q242 )","v":4},{"$f":"_xlfn.IFS(D$2=X$4, X242, D$2=Y$4, Y242,D$2=Z$4, Z242,D$2=AA$4, AA242)","v":0},"",{"$f":"IF(R242=1, _xlfn.IFNA(VLOOKUP(Q242, 'Allocation Change Graph'!BF$7:BG$20, 2, FALSE), 0), 0)","v":0},null,"",null,null,null,null,null,null,null,null,null,null,null,null,null,null,null,null,null,null,null,null,null,0,0]
[null,null,"University Wide","Medical Center Hillcrest","Medical Center Hillcrest","Medical Center HIllcrest","First Ave","P926","P3 & Ramps to Next Level","Accessible",null,null,"Yes",null,null,"First Ave","First AveAccessible",{"$f":"COUNTIF(Q$5:Q243, Q243 )","v":5},{"$f":"_xlfn.IFS(D$2=X$4, X243, D$2=Y$4, Y243,D$2=Z$4, Z243,D$2=AA$4, AA243)","v":9},"",{"$f":"IF(R243=1, _xlfn.IFNA(VLOOKUP(Q243, 'Allocation Change Graph'!BF$7:BG$20, 2, FALSE), 0), 0)","v":0},null,"",null,null,9,null,null,null,null,null,null,null,null,null,null,null,null,null,null,null,null,null,null,0,0]
[null,null,"University Wide","Medical Center Hillcrest","Medical Center Hillcrest","Medical Center HIllcrest","First Ave","P926","P3 & Ramps to Next Level","Accessible (Van)",null,null,"Yes",null,null,"First Ave","First AveAccessible (Van)",{"$f":"COUNTIF(Q$5:Q244, Q244 )","v":7},{"$f":"_xlfn.IFS(D$2=X$4, X244, D$2=Y$4, Y244,D$2=Z$4, Z244,D$2=AA$4, AA244)","v":0},"",{"$f":"IF(R244=1, _xlfn.IFNA(VLOOKUP(Q244, 'Allocation Change Graph'!BF$7:BG$20, 2, FALSE), 0), 0)","v":0},null,"",null,null,null,null,null,null,null,null,null,null,null,null,null,null,null,null,null,null,null,null,null,0,0]
[null,null,"University Wide","Medical Center Hillcrest","Medical Center Hillcrest","Medical Center HIllcrest","First Ave","P926","P3 & Ramps to Next Level","B",null,null,"Yes",null,null,"First Ave","First AveB",{"$f":"COUNTIF(Q$5:Q245, Q245 )","v":5},{"$f":"_xlfn.IFS(D$2=X$4, X245, D$2=Y$4, Y245,D$2=Z$4, Z245,D$2=AA$4, AA245)","v":201},"",{"$f":"IF(R245=1, _xlfn.IFNA(VLOOKUP(Q245, 'Allocation Change Graph'!BF$7:BG$20, 2, FALSE), 0), 0)","v":0},null,"",null,null,201,null,null,null,null,null,null,null,null,null,null,null,null,null,null,null,null,null,null,0,0]
[null,null,"University Wide","Medical Center Hillcrest","Medical Center Hillcrest","Medical Center HIllcrest","First Ave","P926","P3 & Ramps to Next Level","Electric Vehicle",null,null,"Yes",null,null,"First Ave","First AveElectric Vehicle",{"$f":"COUNTIF(Q$5:Q246, Q246 )","v":5},{"$f":"_xlfn.IFS(D$2=X$4, X246, D$2=Y$4, Y246,D$2=Z$4, Z246,D$2=AA$4, AA246)","v":0},"",{"$f":"IF(R246=1, _xlfn.IFNA(VLOOKUP(Q246, 'Allocation Change Graph'!BF$7:BG$20, 2, FALSE), 0), 0)","v":0},null,"",null,null,0,null,null,null,null,null,null,null,null,null,null,null,null,null,null,null,null,null,null,0,0]
[null,null,"University Wide","Medical Center Hillcrest","Medical Center Hillcrest","Medical Center HIllcrest","First Ave","P926","P3 & Ramps to Next Level","Motorcycle Section",null,null,"Yes",null,null,"First Ave","First AveMotorcycle Section",{"$f":"COUNTIF(Q$5:Q247, Q247 )","v":5},{"$f":"_xlfn.IFS(D$2=X$4, X247, D$2=Y$4, Y247,D$2=Z$4, Z247,D$2=AA$4, AA247)","v":6},"",{"$f":"IF(R247=1, _xlfn.IFNA(VLOOKUP(Q247, 'Allocation Change Graph'!BF$7:BG$20, 2, FALSE), 0), 0)","v":0},null,"",null,null,6,null,null,null,null,null,null,null,null,null,null,null,null,null,null,null,null,null,null,0,0]
[null,null,"University Wide","Medical Center Hillcrest","Medical Center Hillcrest","Medical Center HIllcrest","First Ave","P926","P3 & Ramps to Next Level","Reserved",null,null,"Yes",null,null,"First Ave","First AveReserved",{"$f":"COUNTIF(Q$5:Q248, Q248 )","v":7},{"$f":"_xlfn.IFS(D$2=X$4, X248, D$2=Y$4, Y248,D$2=Z$4, Z248,D$2=AA$4, AA248)","v":0},"",{"$f":"IF(R248=1, _xlfn.IFNA(VLOOKUP(Q248, 'Allocation Change Graph'!BF$7:BG$20, 2, FALSE), 0), 0)","v":0},null,"",null,null,null,null,null,null,null,null,null,null,null,null,null,null,null,null,null,null,null,null,null,0,0]
[null,null,"University Wide","Medical Center Hillcrest","Medical Center Hillcrest","Medical Center HIllcrest","First Ave","P927","P4 & Ramps to Next Level","A",null,null,"Yes",null,null,"First Ave","First AveA",{"$f":"COUNTIF(Q$5:Q249, Q249 )","v":5},{"$f":"_xlfn.IFS(D$2=X$4, X249, D$2=Y$4, Y249,D$2=Z$4, Z249,D$2=AA$4, AA249)","v":0},"",{"$f":"IF(R249=1, _xlfn.IFNA(VLOOKUP(Q249, 'Allocation Change Graph'!BF$7:BG$20, 2, FALSE), 0), 0)","v":0},null,"",null,null,null,null,null,null,null,null,null,null,null,null,null,null,null,null,null,null,null,null,null,0,0]
[null,null,"University Wide","Medical Center Hillcrest","Medical Center Hillcrest","Medical Center HIllcrest","First Ave","P927","P4 & Ramps to Next Level","Accessible",null,null,"Yes",null,null,"First Ave","First AveAccessible",{"$f":"COUNTIF(Q$5:Q250, Q250 )","v":6},{"$f":"_xlfn.IFS(D$2=X$4, X250, D$2=Y$4, Y250,D$2=Z$4, Z250,D$2=AA$4, AA250)","v":8},"",{"$f":"IF(R250=1, _xlfn.IFNA(VLOOKUP(Q250, 'Allocation Change Graph'!BF$7:BG$20, 2, FALSE), 0), 0)","v":0},null,"",null,null,8,null,null,null,null,null,null,null,null,null,null,null,null,null,null,null,null,null,null,0,0]
[null,null,"University Wide","Medical Center Hillcrest","Medical Center Hillcrest","Medical Center HIllcrest","First Ave","P927","P4 & Ramps to Next Level","Accessible (Van)",null,null,"Yes",null,null,"First Ave","First AveAccessible (Van)",{"$f":"COUNTIF(Q$5:Q251, Q251 )","v":8},{"$f":"_xlfn.IFS(D$2=X$4, X251, D$2=Y$4, Y251,D$2=Z$4, Z251,D$2=AA$4, AA251)","v":0},"",{"$f":"IF(R251=1, _xlfn.IFNA(VLOOKUP(Q251, 'Allocation Change Graph'!BF$7:BG$20, 2, FALSE), 0), 0)","v":0},null,"",null,null,null,null,null,null,null,null,null,null,null,null,null,null,null,null,null,null,null,null,null,0,0]
[null,null,"University Wide","Medical Center Hillcrest","Medical Center Hillcrest","Medical Center HIllcrest","First Ave","P927","P4 & Ramps to Next Level","B",null,null,"Yes",null,null,"First Ave","First AveB",{"$f":"COUNTIF(Q$5:Q252, Q252 )","v":6},{"$f":"_xlfn.IFS(D$2=X$4, X252, D$2=Y$4, Y252,D$2=Z$4, Z252,D$2=AA$4, AA252)","v":204},"",{"$f":"IF(R252=1, _xlfn.IFNA(VLOOKUP(Q252, 'Allocation Change Graph'!BF$7:BG$20, 2, FALSE), 0), 0)","v":0},null,"",null,null,204,null,null,null,null,null,null,null,null,null,null,null,null,null,null,null,null,null,null,0,0]
[null,null,"University Wide","Medical Center Hillcrest","Medical Center Hillcrest","Medical Center HIllcrest","First Ave","P927","P4 & Ramps to Next Level","Electric Vehicle",null,null,"Yes",null,null,"First Ave","First AveElectric Vehicle",{"$f":"COUNTIF(Q$5:Q253, Q253 )","v":6},{"$f":"_xlfn.IFS(D$2=X$4, X253, D$2=Y$4, Y253,D$2=Z$4, Z253,D$2=AA$4, AA253)","v":0},"",{"$f":"IF(R253=1, _xlfn.IFNA(VLOOKUP(Q253, 'Allocation Change Graph'!BF$7:BG$20, 2, FALSE), 0), 0)","v":0},null,"",null,null,0,null,null,null,null,null,null,null,null,null,null,null,null,null,null,null,null,null,null,0,0]
[null,null,"University Wide","Medical Center Hillcrest","Medical Center Hillcrest","Medical Center HIllcrest","First Ave","P927","P4 & Ramps to Next Level","Motorcycle Section",null,null,"Yes",null,null,"First Ave","First AveMotorcycle Section",{"$f":"COUNTIF(Q$5:Q254, Q254 )","v":6},{"$f":"_xlfn.IFS(D$2=X$4, X254, D$2=Y$4, Y254,D$2=Z$4, Z254,D$2=AA$4, AA254)","v":7},"",{"$f":"IF(R254=1, _xlfn.IFNA(VLOOKUP(Q254, 'Allocation Change Graph'!BF$7:BG$20, 2, FALSE), 0), 0)","v":0},null,"",null,null,7,null,null,null,null,null,null,null,null,null,null,null,null,null,null,null,null,null,null,0,0]
[null,null,"University Wide","Medical Center Hillcrest","Medical Center Hillcrest","Medical Center HIllcrest","First Ave","P927","P4 & Ramps to Next Level","Reserved",null,null,"Yes",null,null,"First Ave","First AveReserved",{"$f":"COUNTIF(Q$5:Q255, Q255 )","v":8},{"$f":"_xlfn.IFS(D$2=X$4, X255, D$2=Y$4, Y255,D$2=Z$4, Z255,D$2=AA$4, AA255)","v":0},"",{"$f":"IF(R255=1, _xlfn.IFNA(VLOOKUP(Q255, 'Allocation Change Graph'!BF$7:BG$20, 2, FALSE), 0), 0)","v":0},null,"",null,null,null,null,null,null,null,null,null,null,null,null,null,null,null,null,null,null,null,null,null,0,0]
[null,null,"University Wide","Medical Center Hillcrest","Medical Center Hillcrest","Medical Center HIllcrest","First Ave","P928","P5 Roof","A",null,null,"Yes",null,null,"First Ave","First AveA",{"$f":"COUNTIF(Q$5:Q256, Q256 )","v":6},{"$f":"_xlfn.IFS(D$2=X$4, X256, D$2=Y$4, Y256,D$2=Z$4, Z256,D$2=AA$4, AA256)","v":0},"",{"$f":"IF(R256=1, _xlfn.IFNA(VLOOKUP(Q256, 'Allocation Change Graph'!BF$7:BG$20, 2, FALSE), 0), 0)","v":0},null,"",null,null,null,null,null,null,null,null,null,null,null,null,null,null,null,null,null,null,null,null,null,0,0]
[null,null,"University Wide","Medical Center Hillcrest","Medical Center Hillcrest","Medical Center HIllcrest","First Ave","P928","P5 Roof","Accessible",null,null,"Yes",null,null,"First Ave","First AveAccessible",{"$f":"COUNTIF(Q$5:Q257, Q257 )","v":7},{"$f":"_xlfn.IFS(D$2=X$4, X257, D$2=Y$4, Y257,D$2=Z$4, Z257,D$2=AA$4, AA257)","v":5},"",{"$f":"IF(R257=1, _xlfn.IFNA(VLOOKUP(Q257, 'Allocation Change Graph'!BF$7:BG$20, 2, FALSE), 0), 0)","v":0},null,"",null,null,5,null,null,null,null,null,null,null,null,null,null,null,null,null,null,null,null,null,null,0,0]
[null,null,"University Wide","Medical Center Hillcrest","Medical Center Hillcrest","Medical Center HIllcrest","First Ave","P928","P5 Roof","Accessible (Van)",null,null,"Yes",null,null,"First Ave","First AveAccessible (Van)",{"$f":"COUNTIF(Q$5:Q258, Q258 )","v":9},{"$f":"_xlfn.IFS(D$2=X$4, X258, D$2=Y$4, Y258,D$2=Z$4, Z258,D$2=AA$4, AA258)","v":0},"",{"$f":"IF(R258=1, _xlfn.IFNA(VLOOKUP(Q258, 'Allocation Change Graph'!BF$7:BG$20, 2, FALSE), 0), 0)","v":0},null,"",null,null,null,null,null,null,null,null,null,null,null,null,null,null,null,null,null,null,null,null,null,0,0]
[null,null,"University Wide","Medical Center Hillcrest","Medical Center Hillcrest","Medical Center HIllcrest","First Ave","P928","P5 Roof","B",null,null,"Yes",null,null,"First Ave","First AveB",{"$f":"COUNTIF(Q$5:Q259, Q259 )","v":7},{"$f":"_xlfn.IFS(D$2=X$4, X259, D$2=Y$4, Y259,D$2=Z$4, Z259,D$2=AA$4, AA259)","v":138},"",{"$f":"IF(R259=1, _xlfn.IFNA(VLOOKUP(Q259, 'Allocation Change Graph'!BF$7:BG$20, 2, FALSE), 0), 0)","v":0},null,"",null,null,138,null,null,null,null,null,null,null,null,null,null,null,null,null,null,null,null,null,null,0,0]
[null,null,"University Wide","Medical Center Hillcrest","Medical Center Hillcrest","Medical Center HIllcrest","First Ave","P928","P5 Roof","Electric Vehicle",null,null,"Yes",null,null,"First Ave","First AveElectric Vehicle",{"$f":"COUNTIF(Q$5:Q260, Q260 )","v":7},{"$f":"_xlfn.IFS(D$2=X$4, X260, D$2=Y$4, Y260,D$2=Z$4, Z260,D$2=AA$4, AA260)","v":0},"",{"$f":"IF(R260=1, _xlfn.IFNA(VLOOKUP(Q260, 'Allocation Change Graph'!BF$7:BG$20, 2, FALSE), 0), 0)","v":0},null,"",null,null,0,null,null,null,null,null,null,null,null,null,null,null,null,null,null,null,null,null,null,0,0]
[null,null,"University Wide","Medical Center Hillcrest","Medical Center Hillcrest","Medical Center HIllcrest","First Ave","P928","P5 Roof","Motorcycle Section",null,null,"Yes",null,null,{"$f":"IF(G261=\"Surface Lot\", H261, G261)","v":"First Ave"},{"$f":"P261&J261&K261&L261","v":"First AveMotorcycle Section"},{"$f":"COUNTIF(Q$5:Q261, Q261 )","v":7},{"$f":"_xlfn.IFS(D$2=X$4, X261, D$2=Y$4, Y261,D$2=Z$4, Z261,D$2=AA$4, AA261)","v":8},{"$f":"IF(R261=1,SUMIF(Q:Q,Q261,S:S)+U261, \"\")","v":""},{"$f":"IF(R261=1, _xlfn.IFNA(VLOOKUP(Q261, 'Allocation Change Graph'!BF$7:BG$20, 2, FALSE), 0), 0)","v":0},null,{"$f":"IF(R261=1, V261*T261, \"\")","v":""},null,null,8,null,null,null,null,null,null,null,null,null,null,null,null,null,null,null,null,null,null,{"$f":"MIN($AB261:$AR261)+U261","v":0},{"$f":"MAX($AB261:$AR261)+U261","v":0}]
[null,null,"University Wide","Medical Center Hillcrest","Medical Center Hillcrest","Medical Center HIllcrest","First Ave","P928","P5 Roof","Reserved",null,null,"Yes",null,null,"First Ave","First AveReserved",{"$f":"COUNTIF(Q$5:Q262, Q262 )","v":9},{"$f":"_xlfn.IFS(D$2=X$4, X262, D$2=Y$4, Y262,D$2=Z$4, Z262,D$2=AA$4, AA262)","v":0},"",{"$f":"IF(R262=1, _xlfn.IFNA(VLOOKUP(Q262, 'Allocation Change Graph'!BF$7:BG$20, 2, FALSE), 0), 0)","v":0},null,"",null,null,null,null,null,null,null,null,null,null,null,null,null,null,null,null,null,null,null,null,null,0,0]
[null,null,"University Wide","Medical Center Hillcrest","Medical Center Hillcrest","Medical Center Hillcrest","Surface Lot","P952","-","Allocated","Law Enforcement Transport Vehicle",null,"Yes","Yes",null,"P952","P952AllocatedLaw Enforcement Transport Vehicle",{"$f":"COUNTIF(Q$5:Q263, Q263 )","v":1},{"$f":"_xlfn.IFS(D$2=X$4, X263, D$2=Y$4, Y263,D$2=Z$4, Z263,D$2=AA$4, AA263)","v":4},4,{"$f":"IF(R263=1, _xlfn.IFNA(VLOOKUP(Q263, 'Allocation Change Graph'!BF$7:BG$20, 2, FALSE), 0), 0)","v":0},0.9,3.6,null,null,4,null,null,null,4,4,4,2,2,2,1,2,1,3,null,null,null,null,null,1,4]
[null,null,"University Wide","Medical Center Hillcrest","Medical Center Hillcrest","Medical Center Hillcrest","Surface Lot","P952","-","Allocated","Mortuary Vehicle",null,"Yes","Yes",null,"P952","P952AllocatedMortuary Vehicle",{"$f":"COUNTIF(Q$5:Q264, Q264 )","v":1},{"$f":"_xlfn.IFS(D$2=X$4, X264, D$2=Y$4, Y264,D$2=Z$4, Z264,D$2=AA$4, AA264)","v":1},1,{"$f":"IF(R264=1, _xlfn.IFNA(VLOOKUP(Q264, 'Allocation Change Graph'!BF$7:BG$20, 2, FALSE), 0), 0)","v":0},0.9,0.9,null,null,1,null,null,null,1,1,1,1,1,1,1,1,1,1,null,null,null,null,null,1,1]
[null,null,"University Wide","Medical Center Hillcrest","Medical Center Hillcrest","Medical Center Hillcrest","Surface Lot","P952","-","Loading",null,20,"Yes","Yes",null,"P952","P952Loading20",{"$f":"COUNTIF(Q$5:Q265, Q265 )","v":1},{"$f":"_xlfn.IFS(D$2=X$4, X265, D$2=Y$4, Y265,D$2=Z$4, Z265,D$2=AA$4, AA265)","v":2},2,{"$f":"IF(R265=1, _xlfn.IFNA(VLOOKUP(Q265, 'Allocation Change Graph'!BF$7:BG$20, 2, FALSE), 0), 0)","v":0},0.9,1.8,null,null,2,null,null,null,0,2,2,2,0,0,2,1,0,1,null,null,null,null,null,0,2]
[null,null,"University Wide","Medical Center Hillcrest","Medical Center Hillcrest","Medical Center Hillcrest","Surface Lot","P952","-","Service Yard",null,null,"Yes","Yes",null,"P952","P952Service Yard",{"$f":"COUNTIF(Q$5:Q266, Q266 )","v":1},{"$f":"_xlfn.IFS(D$2=X$4, X266, D$2=Y$4, Y266,D$2=Z$4, Z266,D$2=AA$4, AA266)","v":2},2,{"$f":"IF(R266=1, _xlfn.IFNA(VLOOKUP(Q266, 'Allocation Change Graph'!BF$7:BG$20, 2, FALSE), 0), 0)","v":0},0.9,1.8,null,null,2,null,null,null,1,1,1,0,0,1,0,1,1,1,null,null,null,null,null,0,1]
[null,null,"University Wide","Medical Center Hillcrest","Medical Center Hillcrest","Medical Center Hillcrest","Surface Lot","P952","-","UC Vehicle",null,null,"Yes","Yes",null,"P952","P952UC Vehicle",{"$f":"COUNTIF(Q$5:Q267, Q267 )","v":1},{"$f":"_xlfn.IFS(D$2=X$4, X267, D$2=Y$4, Y267,D$2=Z$4, Z267,D$2=AA$4, AA267)","v":2},2,{"$f":"IF(R267=1, _xlfn.IFNA(VLOOKUP(Q267, 'Allocation Change Graph'!BF$7:BG$20, 2, FALSE), 0), 0)","v":0},0.9,1.8,null,null,2,null,null,null,0,0,0,0,0,0,0,0,0,0,null,null,null,null,null,0,0]
[null,null,"University Wide","Medical Center Hillcrest","Medical Center Hillcrest","Medical Center Hillcrest","Surface Lot","P953","-","Accessible",null,null,"Yes","Yes",null,"P953","P953Accessible",{"$f":"COUNTIF(Q$5:Q268, Q268 )","v":1},{"$f":"_xlfn.IFS(D$2=X$4, X268, D$2=Y$4, Y268,D$2=Z$4, Z268,D$2=AA$4, AA268)","v":3},3,{"$f":"IF(R268=1, _xlfn.IFNA(VLOOKUP(Q268, 'Allocation Change Graph'!BF$7:BG$20, 2, FALSE), 0), 0)","v":0},0.9,2.7,null,null,3,null,null,null,1,0,0,0,0,1,1,1,0,1,null,null,null,null,null,0,1]
[null,null,"University Wide","Medical Center Hillcrest","Medical Center Hillcrest","Medical Center Hillcrest","Surface Lot","P953","-","Accessible (Van)",null,null,"Yes","Yes",null,"P953","P953Accessible (Van)",{"$f":"COUNTIF(Q$5:Q269, Q269 )","v":1},{"$f":"_xlfn.IFS(D$2=X$4, X269, D$2=Y$4, Y269,D$2=Z$4, Z269,D$2=AA$4, AA269)","v":0},0,{"$f":"IF(R269=1, _xlfn.IFNA(VLOOKUP(Q269, 'Allocation Change Graph'!BF$7:BG$20, 2, FALSE), 0), 0)","v":0},0.9,0,null,null,null,null,null,null,null,null,null,null,null,null,null,null,null,null,null,null,null,null,null,0,0]
[null,null,"University Wide","Medical Center Hillcrest","Medical Center Hillcrest","Medical Center Hillcrest","Surface Lot","P953","-","B",null,null,"Yes","Yes",null,"P953","P953B",{"$f":"COUNTIF(Q$5:Q270, Q270 )","v":1},{"$f":"_xlfn.IFS(D$2=X$4, X270, D$2=Y$4, Y270,D$2=Z$4, Z270,D$2=AA$4, AA270)","v":7},7,{"$f":"IF(R270=1, _xlfn.IFNA(VLOOKUP(Q270, 'Allocation Change Graph'!BF$7:BG$20, 2, FALSE), 0), 0)","v":0},0.9,6.3,null,null,7,null,null,null,1,0,0,0,0,0,1,2,1,2,null,null,null,null,null,0,2]
[null,null,"University Wide","Medical Center Hillcrest","Medical Center Hillcrest","Medical Center Hillcrest","Surface Lot","P953","-","Reserved",null,null,"Yes","Yes",null,"P953","P953Reserved",{"$f":"COUNTIF(Q$5:Q271, Q271 )","v":1},{"$f":"_xlfn.IFS(D$2=X$4, X271, D$2=Y$4, Y271,D$2=Z$4, Z271,D$2=AA$4, AA271)","v":7},7,{"$f":"IF(R271=1, _xlfn.IFNA(VLOOKUP(Q271, 'Allocation Change Graph'!BF$7:BG$20, 2, FALSE), 0), 0)","v":0},0.9,6.3,null,null,7,null,null,null,4,3,1,1,1,1,2,1,1,3,null,null,null,null,null,1,4]
[null,null,"University Wide","Medical Center Hillcrest","Medical Center Hillcrest","Medical Center Hillcrest","Surface Lot","P954","-","Accessible",null,null,"Yes","Yes",null,"P954","P954Accessible",{"$f":"COUNTIF(Q$5:Q272, Q272 )","v":1},{"$f":"_xlfn.IFS(D$2=X$4, X272, D$2=Y$4, Y272,D$2=Z$4, Z272,D$2=AA$4, AA272)","v":3},3,{"$f":"IF(R272=1, _xlfn.IFNA(VLOOKUP(Q272, 'Allocation Change Graph'!BF$7:BG$20, 2, FALSE), 0), 0)","v":0},0.9,2.7,null,null,3,null,null,null,1,1,0,0,1,0,1,1,2,2,null,null,null,null,null,0,2]
[null,null,"University Wide","Medical Center Hillcrest","Medical Center Hillcrest","Medical Center Hillcrest","Surface Lot","P954","-","Accessible (Van)",null,null,"Yes","Yes",null,"P954","P954Accessible (Van)",{"$f":"COUNTIF(Q$5:Q273, Q273 )","v":1},{"$f":"_xlfn.IFS(D$2=X$4, X273, D$2=Y$4, Y273,D$2=Z$4, Z273,D$2=AA$4, AA273)","v":0},0,{"$f":"IF(R273=1, _xlfn.IFNA(VLOOKUP(Q273, 'Allocation Change Graph'!BF$7:BG$20, 2, FALSE), 0), 0)","v":0},0.9,0,null,null,null,null,null,null,null,null,null,null,null,null,null,null,null,null,null,null,null,null,null,0,0]
[null,null,"University Wide","Medical Center Hillcrest","Medical Center Hillcrest","Medical Center Hillcrest","Surface Lot","P954","-","Allocated","Banister Family House",null,"Yes","Yes",null,"P954","P954AllocatedBanister Family House",{"$f":"COUNTIF(Q$5:Q274, Q274 )","v":1},{"$f":"_xlfn.IFS(D$2=X$4, X274, D$2=Y$4, Y274,D$2=Z$4, Z274,D$2=AA$4, AA274)","v":12},12,{"$f":"IF(R274=1, _xlfn.IFNA(VLOOKUP(Q274, 'Allocation Change Graph'!BF$7:BG$20, 2, FALSE), 0), 0)","v":0},0.9,10.8,null,null,12,null,null,null,8,7,3,5,4,3,4,4,3,9,null,null,null,null,null,3,9]
[null,null,"University Wide","Medical Center Hillcrest","Medical Center Hillcrest","Medical Center Hillcrest","Surface Lot","P954","-","Reserved",null,null,"Yes","Yes",null,"P954","P954Reserved",{"$f":"COUNTIF(Q$5:Q275, Q275 )","v":1},{"$f":"_xlfn.IFS(D$2=X$4, X275, D$2=Y$4, Y275,D$2=Z$4, Z275,D$2=AA$4, AA275)","v":25},25,{"$f":"IF(R275=1, _xlfn.IFNA(VLOOKUP(Q275, 'Allocation Change Graph'!BF$7:BG$20, 2, FALSE), 0), 0)","v":0},0.9,22.5,null,null,25,null,null,null,19,17,18,14,12,15,13,11,10,23,null,null,null,null,null,10,23]
[null,null,"University Wide","Medical Center Hillcrest","Medical Center Hillcrest","Medical Center Hillcrest","Surface Lot","P955","-","A",null,null,"Yes","Yes",null,"P955","P955A",{"$f":"COUNTIF(Q$5:Q276, Q276 )","v":1},{"$f":"_xlfn.IFS(D$2=X$4, X276, D$2=Y$4, Y276,D$2=Z$4, Z276,D$2=AA$4, AA276)","v":7},7,{"$f":"IF(R276=1, _xlfn.IFNA(VLOOKUP(Q276, 'Allocation Change Graph'!BF$7:BG$20, 2, FALSE), 0), 0)","v":0},0.9,6.3,null,null,7,null,null,null,0,0,0,0,0,0,0,0,0,4,null,null,null,null,null,0,4]
[null,null,"University Wide","Medical Center Hillcrest","Medical Center Hillcrest","Medical Center Hillcrest","Surface Lot","P955","-","Accessible",null,null,"Yes","Yes",null,"P955","P955Accessible",{"$f":"COUNTIF(Q$5:Q277, Q277 )","v":1},{"$f":"_xlfn.IFS(D$2=X$4, X277, D$2=Y$4, Y277,D$2=Z$4, Z277,D$2=AA$4, AA277)","v":1},1,{"$f":"IF(R277=1, _xlfn.IFNA(VLOOKUP(Q277, 'Allocation Change Graph'!BF$7:BG$20, 2, FALSE), 0), 0)","v":0},0.9,0.9,null,null,1,null,null,null,1,0,0,0,0,1,1,1,0,1,null,null,null,null,null,0,1]
[null,null,"University Wide","Medical Center Hillcrest","Medical Center Hillcrest","Medical Center Hillcrest","Surface Lot","P955","-","Accessible (Van)",null,null,"Yes","Yes",null,"P955","P955Accessible (Van)",{"$f":"COUNTIF(Q$5:Q278, Q278 )","v":1},{"$f":"_xlfn.IFS(D$2=X$4, X278, D$2=Y$4, Y278,D$2=Z$4, Z278,D$2=AA$4, AA278)","v":0},0,{"$f":"IF(R278=1, _xlfn.IFNA(VLOOKUP(Q278, 'Allocation Change Graph'!BF$7:BG$20, 2, FALSE), 0), 0)","v":0},0.9,0,null,null,null,null,null,null,null,null,null,null,null,null,null,null,null,null,null,null,null,null,null,0,0]
[null,null,"University Wide","Medical Center Hillcrest","Medical Center Hillcrest","Medical Center Hillcrest","Surface Lot","P955","-","Loading",null,null,"Yes","Yes",null,"P955","P955Loading",{"$f":"COUNTIF(Q$5:Q279, Q279 )","v":1},{"$f":"_xlfn.IFS(D$2=X$4, X279, D$2=Y$4, Y279,D$2=Z$4, Z279,D$2=AA$4, AA279)","v":2},2,{"$f":"IF(R279=1, _xlfn.IFNA(VLOOKUP(Q279, 'Allocation Change Graph'!BF$7:BG$20, 2, FALSE), 0), 0)","v":0},0.9,1.8,null,null,2,null,null,null,1,2,1,1,0,0,1,0,0,1,null,null,null,null,null,0,2]
[null,null,"University Wide","Medical Center Hillcrest","Medical Center Hillcrest","Medical Center Hillcrest","Surface Lot","P955","-","Motorcycle Section",null,null,"Yes","Yes",null,"P955","P955Motorcycle Section",{"$f":"COUNTIF(Q$5:Q280, Q280 )","v":1},{"$f":"_xlfn.IFS(D$2=X$4, X280, D$2=Y$4, Y280,D$2=Z$4, Z280,D$2=AA$4, AA280)","v":3},3,{"$f":"IF(R280=1, _xlfn.IFNA(VLOOKUP(Q280, 'Allocation Change Graph'!BF$7:BG$20, 2, FALSE), 0), 0)","v":0},0.9,2.7,null,null,3,null,null,null,3,3,3,3,3,3,3,3,3,3,null,null,null,null,null,3,3]
[null,null,"University Wide","Medical Center Hillcrest","Medical Center Hillcrest","Medical Center Hillcrest","Surface Lot","P955","-","Reserved",null,null,"Yes","Yes",null,"P955","P955Reserved",{"$f":"COUNTIF(Q$5:Q281, Q281 )","v":1},{"$f":"_xlfn.IFS(D$2=X$4, X281, D$2=Y$4, Y281,D$2=Z$4, Z281,D$2=AA$4, AA281)","v":21},21,{"$f":"IF(R281=1, _xlfn.IFNA(VLOOKUP(Q281, 'Allocation Change Graph'!BF$7:BG$20, 2, FALSE), 0), 0)","v":0},0.9,18.900000000000002,null,null,21,null,null,null,17,17,18,7,4,6,11,10,5,15,null,null,null,null,null,4,18]
[null,null,"University Wide","Medical Center Hillcrest","Medical Center Hillcrest","Medical Center Hillcrest","Surface Lot","P955","-","Service Yard",null,null,"Yes","Yes",null,"P955","P955Service Yard",{"$f":"COUNTIF(Q$5:Q282, Q282 )","v":1},{"$f":"_xlfn.IFS(D$2=X$4, X282, D$2=Y$4, Y282,D$2=Z$4, Z282,D$2=AA$4, AA282)","v":3},3,{"$f":"IF(R282=1, _xlfn.IFNA(VLOOKUP(Q282, 'Allocation Change Graph'!BF$7:BG$20, 2, FALSE), 0), 0)","v":0},0.9,2.7,null,null,3,null,null,null,1,1,1,1,0,1,1,0,1,0,null,null,null,null,null,0,1]
[null,null,"University Wide","Medical Center Hillcrest","Medical Center Hillcrest","Medical Center Hillcrest","Surface Lot","P955","-","UC Vehicle","UC Cart",null,"Yes","Yes",null,"P955","P955UC VehicleUC Cart",{"$f":"COUNTIF(Q$5:Q283, Q283 )","v":1},{"$f":"_xlfn.IFS(D$2=X$4, X283, D$2=Y$4, Y283,D$2=Z$4, Z283,D$2=AA$4, AA283)","v":1},1,{"$f":"IF(R283=1, _xlfn.IFNA(VLOOKUP(Q283, 'Allocation Change Graph'!BF$7:BG$20, 2, FALSE), 0), 0)","v":0},0.9,0.9,null,null,1,null,null,null,0,0,0,0,0,1,0,0,1,1,null,null,null,null,null,0,1]
[null,null,"University Wide","Medical Center Hillcrest","Medical Center Hillcrest","Medical Center Hillcrest","Surface Lot","P955","-","UC Vehicle",null,null,"Yes","Yes",null,"P955","P955UC Vehicle",{"$f":"COUNTIF(Q$5:Q284, Q284 )","v":1},{"$f":"_xlfn.IFS(D$2=X$4, X284, D$2=Y$4, Y284,D$2=Z$4, Z284,D$2=AA$4, AA284)","v":6},6,{"$f":"IF(R284=1, _xlfn.IFNA(VLOOKUP(Q284, 'Allocation Change Graph'!BF$7:BG$20, 2, FALSE), 0), 0)","v":0},0.9,5.4,null,null,6,null,null,null,2,1,1,4,4,3,2,1,2,3,null,null,null,null,null,1,4]
[null,null,"University Wide","Medical Center Hillcrest","Medical Center Hillcrest","Medical Center Hillcrest","Surface Lot","P956","-","A",null,null,"Yes","Yes",null,"P956","P956A",{"$f":"COUNTIF(Q$5:Q285, Q285 )","v":1},{"$f":"_xlfn.IFS(D$2=X$4, X285, D$2=Y$4, Y285,D$2=Z$4, Z285,D$2=AA$4, AA285)","v":2},2,{"$f":"IF(R285=1, _xlfn.IFNA(VLOOKUP(Q285, 'Allocation Change Graph'!BF$7:BG$20, 2, FALSE), 0), 0)","v":0},0.9,1.8,null,null,2,null,null,null,0,0,0,0,0,0,1,1,0,1,null,null,null,null,null,0,1]
[null,null,"University Wide","Medical Center Hillcrest","Medical Center Hillcrest","Medical Center Hillcrest","Surface Lot","P956","-","Service Yard",null,null,"Yes","Yes",null,"P956","P956Service Yard",{"$f":"COUNTIF(Q$5:Q286, Q286 )","v":1},{"$f":"_xlfn.IFS(D$2=X$4, X286, D$2=Y$4, Y286,D$2=Z$4, Z286,D$2=AA$4, AA286)","v":6},6,{"$f":"IF(R286=1, _xlfn.IFNA(VLOOKUP(Q286, 'Allocation Change Graph'!BF$7:BG$20, 2, FALSE), 0), 0)","v":0},0.9,5.4,null,null,6,null,null,null,5,5,5,1,1,2,4,2,3,4,null,null,null,null,null,1,5]
[null,null,"University Wide","Medical Center Hillcrest","Medical Center Hillcrest","Medical Center Hillcrest","Surface Lot","P957","-","Accessible",null,null,"Yes","Yes",null,"P957","P957Accessible",{"$f":"COUNTIF(Q$5:Q287, Q287 )","v":1},{"$f":"_xlfn.IFS(D$2=X$4, X287, D$2=Y$4, Y287,D$2=Z$4, Z287,D$2=AA$4, AA287)","v":7},7,{"$f":"IF(R287=1, _xlfn.IFNA(VLOOKUP(Q287, 'Allocation Change Graph'!BF$7:BG$20, 2, FALSE), 0), 0)","v":0},0.9,6.3,null,null,7,null,null,null,0,0,0,0,0,0,0,1,2,1,null,null,null,null,null,0,2]
[null,null,"University Wide","Medical Center Hillcrest","Medical Center Hillcrest","Medical Center Hillcrest","Surface Lot","P957","-","Accessible (Van)",null,null,"Yes","Yes",null,"P957","P957Accessible (Van)",{"$f":"COUNTIF(Q$5:Q288, Q288 )","v":1},{"$f":"_xlfn.IFS(D$2=X$4, X288, D$2=Y$4, Y288,D$2=Z$4, Z288,D$2=AA$4, AA288)","v":0},0,{"$f":"IF(R288=1, _xlfn.IFNA(VLOOKUP(Q288, 'Allocation Change Graph'!BF$7:BG$20, 2, FALSE), 0), 0)","v":0},0.9,0,null,null,null,null,null,null,null,null,null,null,null,null,null,null,null,null,null,null,null,null,null,0,0]
[null,null,"University Wide","Medical Center Hillcrest","Medical Center Hillcrest","Medical Center Hillcrest","Surface Lot","P957","-","Allocated","Mail Vehicle",null,"Yes","Yes",null,"P957","P957AllocatedMail Vehicle",{"$f":"COUNTIF(Q$5:Q289, Q289 )","v":1},{"$f":"_xlfn.IFS(D$2=X$4, X289, D$2=Y$4, Y289,D$2=Z$4, Z289,D$2=AA$4, AA289)","v":1},1,{"$f":"IF(R289=1, _xlfn.IFNA(VLOOKUP(Q289, 'Allocation Change Graph'!BF$7:BG$20, 2, FALSE), 0), 0)","v":0},0.9,0.9,null,null,1,null,null,null,0,0,0,0,0,0,0,0,0,0,null,null,null,null,null,0,0]
[null,null,"University Wide","Medical Center Hillcrest","Medical Center Hillcrest","Medical Center Hillcrest","Surface Lot","P957","-","Reserved","AVRC",null,"Yes","Yes",null,"P957","P957ReservedAVRC",{"$f":"COUNTIF(Q$5:Q290, Q290 )","v":1},{"$f":"_xlfn.IFS(D$2=X$4, X290, D$2=Y$4, Y290,D$2=Z$4, Z290,D$2=AA$4, AA290)","v":16},16,{"$f":"IF(R290=1, _xlfn.IFNA(VLOOKUP(Q290, 'Allocation Change Graph'!BF$7:BG$20, 2, FALSE), 0), 0)","v":0},0.9,14.4,null,null,16,null,null,null,11,11,10,7,12,13,12,12,10,14,null,null,null,null,null,7,14]
[null,null,"University Wide","Medical Center Hillcrest","Medical Center Hillcrest","Medical Center Hillcrest","Surface Lot","P957","-","Reserved","Emergency Room",null,"Yes","Yes",null,"P957","P957ReservedEmergency Room",{"$f":"COUNTIF(Q$5:Q291, Q291 )","v":1},{"$f":"_xlfn.IFS(D$2=X$4, X291, D$2=Y$4, Y291,D$2=Z$4, Z291,D$2=AA$4, AA291)","v":20},20,{"$f":"IF(R291=1, _xlfn.IFNA(VLOOKUP(Q291, 'Allocation Change Graph'!BF$7:BG$20, 2, FALSE), 0), 0)","v":0},0.9,18,null,null,20,null,null,null,9,9,4,2,2,0,1,0,0,5,null,null,null,null,null,0,9]
[null,null,"University Wide","Medical Center Hillcrest","Medical Center Hillcrest","Medical Center Hillcrest","Surface Lot","P957","-","Reserved","Valet",null,"Yes","Yes",null,"P957","P957ReservedValet",{"$f":"COUNTIF(Q$5:Q292, Q292 )","v":1},{"$f":"_xlfn.IFS(D$2=X$4, X292, D$2=Y$4, Y292,D$2=Z$4, Z292,D$2=AA$4, AA292)","v":10},10,{"$f":"IF(R292=1, _xlfn.IFNA(VLOOKUP(Q292, 'Allocation Change Graph'!BF$7:BG$20, 2, FALSE), 0), 0)","v":0},0.9,9,null,null,10,null,null,null,1,1,0,0,3,1,3,4,4,9,null,null,null,null,null,0,9]
[null,null,"University Wide","Medical Center Hillcrest","Medical Center Hillcrest","Medical Center Hillcrest","Surface Lot","P957","-","Reserved",null,null,"Yes","Yes",null,"P957","P957Reserved",{"$f":"COUNTIF(Q$5:Q293, Q293 )","v":1},{"$f":"_xlfn.IFS(D$2=X$4, X293, D$2=Y$4, Y293,D$2=Z$4, Z293,D$2=AA$4, AA293)","v":21},21,{"$f":"IF(R293=1, _xlfn.IFNA(VLOOKUP(Q293, 'Allocation Change Graph'!BF$7:BG$20, 2, FALSE), 0), 0)","v":0},0.9,18.900000000000002,null,null,21,null,null,null,9,9,9,5,8,2,6,7,8,10,null,null,null,null,null,2,10]
[null,null,"University Wide","Medical Center Hillcrest","Medical Center Hillcrest","Medical Center Hillcrest","Surface Lot","P957","-","UC Vehicle",null,null,"Yes","Yes",null,"P957","P957UC Vehicle",{"$f":"COUNTIF(Q$5:Q294, Q294 )","v":1},{"$f":"_xlfn.IFS(D$2=X$4, X294, D$2=Y$4, Y294,D$2=Z$4, Z294,D$2=AA$4, AA294)","v":2},2,{"$f":"IF(R294=1, _xlfn.IFNA(VLOOKUP(Q294, 'Allocation Change Graph'!BF$7:BG$20, 2, FALSE), 0), 0)","v":0},0.9,1.8,null,null,2,null,null,null,0,0,2,2,2,0,1,1,0,0,null,null,null,null,null,0,2]
[null,null,"University Wide","Medical Center Hillcrest","Medical Center Hillcrest","Medical Center Hillcrest","Surface Lot","P964","-","Accessible",null,null,"Yes","Yes",null,"P964","P964Accessible",{"$f":"COUNTIF(Q$5:Q295, Q295 )","v":1},{"$f":"_xlfn.IFS(D$2=X$4, X295, D$2=Y$4, Y295,D$2=Z$4, Z295,D$2=AA$4, AA295)","v":11},11,{"$f":"IF(R295=1, _xlfn.IFNA(VLOOKUP(Q295, 'Allocation Change Graph'!BF$7:BG$20, 2, FALSE), 0), 0)","v":0},0.9,9.9,null,null,11,null,null,null,0,0,0,0,0,0,0,0,1,3,null,null,null,null,null,0,3]
[null,null,"University Wide","Medical Center Hillcrest","Medical Center Hillcrest","Medical Center Hillcrest","Surface Lot","P964","-","Accessible (Van)",null,null,"Yes","Yes",null,"P964","P964Accessible (Van)",{"$f":"COUNTIF(Q$5:Q296, Q296 )","v":1},{"$f":"_xlfn.IFS(D$2=X$4, X296, D$2=Y$4, Y296,D$2=Z$4, Z296,D$2=AA$4, AA296)","v":0},0,{"$f":"IF(R296=1, _xlfn.IFNA(VLOOKUP(Q296, 'Allocation Change Graph'!BF$7:BG$20, 2, FALSE), 0), 0)","v":0},0.9,0,null,null,null,null,null,null,null,null,null,null,null,null,null,null,null,null,null,null,null,null,null,0,0]
[null,null,"University Wide","Medical Center Hillcrest","Medical Center Hillcrest","Medical Center Hillcrest","Surface Lot","P964","-","Allocated","Pulmonary Specialist",null,"Yes","Yes",null,"P964","P964AllocatedPulmonary Specialist",{"$f":"COUNTIF(Q$5:Q297, Q297 )","v":1},{"$f":"_xlfn.IFS(D$2=X$4, X297, D$2=Y$4, Y297,D$2=Z$4, Z297,D$2=AA$4, AA297)","v":12},12,{"$f":"IF(R297=1, _xlfn.IFNA(VLOOKUP(Q297, 'Allocation Change Graph'!BF$7:BG$20, 2, FALSE), 0), 0)","v":0},0.9,10.8,null,null,12,null,null,null,11,11,9,11,8,6,4,3,4,8,null,null,null,null,null,3,11]
[null,null,"University Wide","Medical Center Hillcrest","Medical Center Hillcrest","Medical Center Hillcrest","Surface Lot","P964","-","Allocated","Security",null,"Yes","Yes",null,"P964","P964AllocatedSecurity",{"$f":"COUNTIF(Q$5:Q298, Q298 )","v":1},{"$f":"_xlfn.IFS(D$2=X$4, X298, D$2=Y$4, Y298,D$2=Z$4, Z298,D$2=AA$4, AA298)","v":3},3,{"$f":"IF(R298=1, _xlfn.IFNA(VLOOKUP(Q298, 'Allocation Change Graph'!BF$7:BG$20, 2, FALSE), 0), 0)","v":0},0.9,2.7,null,null,3,null,null,null,2,2,1,2,2,1,0,0,1,3,null,null,null,null,null,0,3]
[null,null,"University Wide","Medical Center Hillcrest","Medical Center Hillcrest","Medical Center Hillcrest","Surface Lot","P964","-","Reserved","Valet",null,"Yes","Yes",null,"P964","P964ReservedValet",{"$f":"COUNTIF(Q$5:Q299, Q299 )","v":1},{"$f":"_xlfn.IFS(D$2=X$4, X299, D$2=Y$4, Y299,D$2=Z$4, Z299,D$2=AA$4, AA299)","v":37},37,{"$f":"IF(R299=1, _xlfn.IFNA(VLOOKUP(Q299, 'Allocation Change Graph'!BF$7:BG$20, 2, FALSE), 0), 0)","v":0},0.9,33.300000000000004,null,null,37,null,null,null,36,33,18,12,14,10,8,21,29,35,null,null,null,null,null,8,36]
[null,null,"University Wide","Medical Center Hillcrest","Medical Center Hillcrest","Medical Center Hillcrest","Surface Lot","P964","-","Visitor","Patient/Visitor",null,"Yes","Yes",null,"P964","P964VisitorPatient/Visitor",{"$f":"COUNTIF(Q$5:Q300, Q300 )","v":1},{"$f":"_xlfn.IFS(D$2=X$4, X300, D$2=Y$4, Y300,D$2=Z$4, Z300,D$2=AA$4, AA300)","v":41},41,{"$f":"IF(R300=1, _xlfn.IFNA(VLOOKUP(Q300, 'Allocation Change Graph'!BF$7:BG$20, 2, FALSE), 0), 0)","v":0},0.9,36.9,null,null,41,null,null,null,12,8,6,1,6,5,1,8,11,29,null,null,null,null,null,1,29]
[null,null,"University Wide","Medical Center Hillcrest","Medical Center Hillcrest","Medical Center Hillcrest","Surface Lot","P964","-","Visitor","Patient/Visitor Reserved",30,"Yes","Yes",null,"P964","P964VisitorPatient/Visitor Reserved30",{"$f":"COUNTIF(Q$5:Q301, Q301 )","v":1},{"$f":"_xlfn.IFS(D$2=X$4, X301, D$2=Y$4, Y301,D$2=Z$4, Z301,D$2=AA$4, AA301)","v":1},1,{"$f":"IF(R301=1, _xlfn.IFNA(VLOOKUP(Q301, 'Allocation Change Graph'!BF$7:BG$20, 2, FALSE), 0), 0)","v":0},0.9,0.9,null,null,1,null,null,null,0,0,0,1,0,0,0,1,0,1,null,null,null,null,null,0,1]
[null,null,"University Wide","La Jolla Campus","Scripps Institution of Oceanography","Scripps Institution of Oceanography","Surface Lot","P001","-","Accessible","Electric Vehicle",null,"Yes","Yes",null,"P001","P001AccessibleElectric Vehicle",{"$f":"COUNTIF(Q$5:Q302, Q302 )","v":1},{"$f":"_xlfn.IFS(D$2=X$4, X302, D$2=Y$4, Y302,D$2=Z$4, Z302,D$2=AA$4, AA302)","v":1},1,{"$f":"IF(R302=1, _xlfn.IFNA(VLOOKUP(Q302, 'Allocation Change Graph'!BF$7:BG$20, 2, FALSE), 0), 0)","v":0},0.9,0.9,null,null,1,null,null,null,1,1,0,0,1,1,1,1,1,1,null,null,null,null,null,0,1]
[null,null,"University Wide","La Jolla Campus","Scripps Institution of Oceanography","Scripps Institution of Oceanography","Surface Lot","P001","-","Accessible (Van)",null,null,"Yes","Yes",null,"P001","P001Accessible (Van)",{"$f":"COUNTIF(Q$5:Q303, Q303 )","v":1},{"$f":"_xlfn.IFS(D$2=X$4, X303, D$2=Y$4, Y303,D$2=Z$4, Z303,D$2=AA$4, AA303)","v":0},0,{"$f":"IF(R303=1, _xlfn.IFNA(VLOOKUP(Q303, 'Allocation Change Graph'!BF$7:BG$20, 2, FALSE), 0), 0)","v":0},0.9,0,null,null,null,null,null,null,0,0,0,0,0,0,0,0,0,0,null,null,null,null,null,0,0]
[null,null,"University Wide","La Jolla Campus","Scripps Institution of Oceanography","Scripps Institution of Oceanography","Surface Lot","P001","-","B","Scripps Institution of Oceanography",null,"Yes","Yes","Yes","P001","P001BScripps Institution of Oceanography",{"$f":"COUNTIF(Q$5:Q304, Q304 )","v":1},{"$f":"_xlfn.IFS(D$2=X$4, X304, D$2=Y$4, Y304,D$2=Z$4, Z304,D$2=AA$4, AA304)","v":0},0,{"$f":"IF(R304=1, _xlfn.IFNA(VLOOKUP(Q304, 'Allocation Change Graph'!BF$7:BG$20, 2, FALSE), 0), 0)","v":0},0.9,0,null,null,0,null,null,null,0,0,0,0,0,0,0,0,0,0,null,null,null,null,null,0,0]
[null,null,"University Wide","La Jolla Campus","Scripps Institution of Oceanography","Scripps Institution of Oceanography","Surface Lot","P001","-","Electric Vehicle",null,"4 hours","Yes","Yes",null,"P001","P001Electric Vehicle4 hours",{"$f":"COUNTIF(Q$5:Q305, Q305 )","v":1},{"$f":"_xlfn.IFS(D$2=X$4, X305, D$2=Y$4, Y305,D$2=Z$4, Z305,D$2=AA$4, AA305)","v":9},9,{"$f":"IF(R305=1, _xlfn.IFNA(VLOOKUP(Q305, 'Allocation Change Graph'!BF$7:BG$20, 2, FALSE), 0), 0)","v":0},0.9,8.1,null,null,9,null,null,null,9,7,7,8,8,8,8,8,6,6,null,null,null,null,null,6,9]
[null,null,"University Wide","La Jolla Campus","Scripps Institution of Oceanography","Scripps Institution of Oceanography","Surface Lot","P001","-","Loading","Oversized","20 minutes","Yes","Yes",null,"P001","P001LoadingOversized20 minutes",{"$f":"COUNTIF(Q$5:Q306, Q306 )","v":1},{"$f":"_xlfn.IFS(D$2=X$4, X306, D$2=Y$4, Y306,D$2=Z$4, Z306,D$2=AA$4, AA306)","v":1},1,{"$f":"IF(R306=1, _xlfn.IFNA(VLOOKUP(Q306, 'Allocation Change Graph'!BF$7:BG$20, 2, FALSE), 0), 0)","v":0},0.9,0.9,null,null,1,null,null,null,1,0,0,0,0,0,0,0,0,0,null,null,null,null,null,0,1]
[null,null,"University Wide","La Jolla Campus","Scripps Institution of Oceanography","Scripps Institution of Oceanography","Surface Lot","P001","-","Reserved",null,null,"Yes","Yes",null,"P001","P001Reserved",{"$f":"COUNTIF(Q$5:Q307, Q307 )","v":1},{"$f":"_xlfn.IFS(D$2=X$4, X307, D$2=Y$4, Y307,D$2=Z$4, Z307,D$2=AA$4, AA307)","v":1},1,{"$f":"IF(R307=1, _xlfn.IFNA(VLOOKUP(Q307, 'Allocation Change Graph'!BF$7:BG$20, 2, FALSE), 0), 0)","v":0},0.9,0.9,null,null,1,null,null,null,0,1,0,0,0,0,0,0,0,0,null,null,null,null,null,0,1]
[null,null,"University Wide","La Jolla Campus","Scripps Institution of Oceanography","Scripps Institution of Oceanography","Surface Lot","P002","-","Accessible",null,null,"Yes","Yes",null,"P002","P002Accessible",{"$f":"COUNTIF(Q$5:Q308, Q308 )","v":1},{"$f":"_xlfn.IFS(D$2=X$4, X308, D$2=Y$4, Y308,D$2=Z$4, Z308,D$2=AA$4, AA308)","v":2},2,{"$f":"IF(R308=1, _xlfn.IFNA(VLOOKUP(Q308, 'Allocation Change Graph'!BF$7:BG$20, 2, FALSE), 0), 0)","v":0},0.9,1.8,null,null,2,null,null,null,2,0,0,1,1,1,1,1,1,1,null,null,null,null,null,0,2]
[null,null,"University Wide","La Jolla Campus","Scripps Institution of Oceanography","Scripps Institution of Oceanography","Surface Lot","P002","-","Accessible (Van)",null,null,"Yes","Yes",null,"P002","P002Accessible (Van)",{"$f":"COUNTIF(Q$5:Q309, Q309 )","v":1},{"$f":"_xlfn.IFS(D$2=X$4, X309, D$2=Y$4, Y309,D$2=Z$4, Z309,D$2=AA$4, AA309)","v":0},0,{"$f":"IF(R309=1, _xlfn.IFNA(VLOOKUP(Q309, 'Allocation Change Graph'!BF$7:BG$20, 2, FALSE), 0), 0)","v":0},0.9,0,null,null,null,null,null,null,0,0,0,0,0,0,0,0,0,0,null,null,null,null,null,0,0]
[null,null,"University Wide","La Jolla Campus","Scripps Institution of Oceanography","Scripps Institution of Oceanography","Surface Lot","P002","-","B","Scripps Institution of Oceanography",null,"Yes","Yes","Yes","P002","P002BScripps Institution of Oceanography",{"$f":"COUNTIF(Q$5:Q310, Q310 )","v":1},{"$f":"_xlfn.IFS(D$2=X$4, X310, D$2=Y$4, Y310,D$2=Z$4, Z310,D$2=AA$4, AA310)","v":31},31,{"$f":"IF(R310=1, _xlfn.IFNA(VLOOKUP(Q310, 'Allocation Change Graph'!BF$7:BG$20, 2, FALSE), 0), 0)","v":0},0.9,27.900000000000002,null,null,31,null,null,null,26,15,9,11,8,4,7,10,12,18,null,null,null,null,null,4,26]
[null,null,"University Wide","La Jolla Campus","Scripps Institution of Oceanography","Scripps Institution of Oceanography","Surface Lot","P003","-","Accessible",null,null,"Yes","Yes",null,"P003","P003Accessible",{"$f":"COUNTIF(Q$5:Q311, Q311 )","v":1},{"$f":"_xlfn.IFS(D$2=X$4, X311, D$2=Y$4, Y311,D$2=Z$4, Z311,D$2=AA$4, AA311)","v":2},2,{"$f":"IF(R311=1, _xlfn.IFNA(VLOOKUP(Q311, 'Allocation Change Graph'!BF$7:BG$20, 2, FALSE), 0), 0)","v":0},0.9,1.8,null,null,2,null,null,null,1,0,0,0,0,0,0,0,1,1,null,null,null,null,null,0,1]
[null,null,"University Wide","La Jolla Campus","Scripps Institution of Oceanography","Scripps Institution of Oceanography","Surface Lot","P003","-","Accessible (Van)",null,null,"Yes","Yes",null,"P003","P003Accessible (Van)",{"$f":"COUNTIF(Q$5:Q312, Q312 )","v":1},{"$f":"_xlfn.IFS(D$2=X$4, X312, D$2=Y$4, Y312,D$2=Z$4, Z312,D$2=AA$4, AA312)","v":0},0,{"$f":"IF(R312=1, _xlfn.IFNA(VLOOKUP(Q312, 'Allocation Change Graph'!BF$7:BG$20, 2, FALSE), 0), 0)","v":0},0.9,0,null,null,null,null,null,null,0,0,0,0,0,0,0,0,0,0,null,null,null,null,null,0,0]
[null,null,"University Wide","La Jolla Campus","Scripps Institution of Oceanography","Scripps Institution of Oceanography","Surface Lot","P003","-","Allocated","Lifeguard",null,"Yes","Yes",null,"P003","P003AllocatedLifeguard",{"$f":"COUNTIF(Q$5:Q313, Q313 )","v":1},{"$f":"_xlfn.IFS(D$2=X$4, X313, D$2=Y$4, Y313,D$2=Z$4, Z313,D$2=AA$4, AA313)","v":1},1,{"$f":"IF(R313=1, _xlfn.IFNA(VLOOKUP(Q313, 'Allocation Change Graph'!BF$7:BG$20, 2, FALSE), 0), 0)","v":0},0.9,0.9,null,null,1,null,null,null,1,0,0,0,0,0,0,0,0,0,null,null,null,null,null,0,1]
[null,null,"University Wide","La Jolla Campus","Scripps Institution of Oceanography","Scripps Institution of Oceanography","Surface Lot","P003","-","B","Scripps Institution of Oceanography",null,"Yes","Yes","Yes","P003","P003BScripps Institution of Oceanography",{"$f":"COUNTIF(Q$5:Q314, Q314 )","v":1},{"$f":"_xlfn.IFS(D$2=X$4, X314, D$2=Y$4, Y314,D$2=Z$4, Z314,D$2=AA$4, AA314)","v":64},64,{"$f":"IF(R314=1, _xlfn.IFNA(VLOOKUP(Q314, 'Allocation Change Graph'!BF$7:BG$20, 2, FALSE), 0), 0)","v":0},0.9,57.6,null,null,64,null,null,null,51,45,27,10,11,5,4,5,14,29,null,null,null,null,null,4,51]
[null,null,"University Wide","La Jolla Campus","Scripps Institution of Oceanography","Scripps Institution of Oceanography","Surface Lot","P003","-","Loading","Commercial","20 minutes","Yes","Yes",null,"P003","P003LoadingCommercial20 minutes",{"$f":"COUNTIF(Q$5:Q315, Q315 )","v":1},{"$f":"_xlfn.IFS(D$2=X$4, X315, D$2=Y$4, Y315,D$2=Z$4, Z315,D$2=AA$4, AA315)","v":3},3,{"$f":"IF(R315=1, _xlfn.IFNA(VLOOKUP(Q315, 'Allocation Change Graph'!BF$7:BG$20, 2, FALSE), 0), 0)","v":0},0.9,2.7,null,null,3,null,null,null,3,3,2,1,0,0,1,0,1,1,null,null,null,null,null,0,3]
[null,null,"University Wide","La Jolla Campus","Scripps Institution of Oceanography","Scripps Institution of Oceanography","Surface Lot","P003","-","Loading",null,"20 minutes","Yes","Yes",null,"P003","P003Loading20 minutes",{"$f":"COUNTIF(Q$5:Q316, Q316 )","v":1},{"$f":"_xlfn.IFS(D$2=X$4, X316, D$2=Y$4, Y316,D$2=Z$4, Z316,D$2=AA$4, AA316)","v":2},2,{"$f":"IF(R316=1, _xlfn.IFNA(VLOOKUP(Q316, 'Allocation Change Graph'!BF$7:BG$20, 2, FALSE), 0), 0)","v":0},0.9,1.8,null,null,2,null,null,null,2,2,0,0,1,0,1,1,1,1,null,null,null,null,null,0,2]
[null,null,"University Wide","La Jolla Campus","Scripps Institution of Oceanography","Scripps Institution of Oceanography","Surface Lot","P003","-","Motorcycle Section",null,null,"Yes","Yes",null,"P003","P003Motorcycle Section",{"$f":"COUNTIF(Q$5:Q317, Q317 )","v":1},{"$f":"_xlfn.IFS(D$2=X$4, X317, D$2=Y$4, Y317,D$2=Z$4, Z317,D$2=AA$4, AA317)","v":0},0,{"$f":"IF(R317=1, _xlfn.IFNA(VLOOKUP(Q317, 'Allocation Change Graph'!BF$7:BG$20, 2, FALSE), 0), 0)","v":0},0.9,0,null,null,0,null,null,null,0,0,0,0,0,0,0,0,0,0,null,null,null,null,null,0,0]
[null,null,"University Wide","La Jolla Campus","Scripps Institution of Oceanography","Scripps Institution of Oceanography","Surface Lot","P004","-","Electric Vehicle",null,null,"Yes","Yes",null,"P004","P004Electric Vehicle",{"$f":"COUNTIF(Q$5:Q318, Q318 )","v":1},{"$f":"_xlfn.IFS(D$2=X$4, X318, D$2=Y$4, Y318,D$2=Z$4, Z318,D$2=AA$4, AA318)","v":1},1,{"$f":"IF(R318=1, _xlfn.IFNA(VLOOKUP(Q318, 'Allocation Change Graph'!BF$7:BG$20, 2, FALSE), 0), 0)","v":0},0.9,0.9,null,null,1,null,null,null,1,1,0,0,0,1,1,1,1,1,null,null,null,null,null,0,1]
[null,null,"University Wide","La Jolla Campus","Scripps Institution of Oceanography","Scripps Institution of Oceanography","Surface Lot","P004","-","Loading","Oversized Commercial","20 minutes","Yes","Yes",null,"P004","P004LoadingOversized Commercial20 minutes",{"$f":"COUNTIF(Q$5:Q319, Q319 )","v":1},{"$f":"_xlfn.IFS(D$2=X$4, X319, D$2=Y$4, Y319,D$2=Z$4, Z319,D$2=AA$4, AA319)","v":2},2,{"$f":"IF(R319=1, _xlfn.IFNA(VLOOKUP(Q319, 'Allocation Change Graph'!BF$7:BG$20, 2, FALSE), 0), 0)","v":0},0.9,1.8,null,null,2,null,null,null,1,1,0,0,0,0,1,1,1,1,null,null,null,null,null,0,1]
[null,null,"University Wide","La Jolla Campus","Scripps Institution of Oceanography","Scripps Institution of Oceanography","Surface Lot","P004","-","Loading",null,"20 minutes","Yes","Yes",null,"P004","P004Loading20 minutes",{"$f":"COUNTIF(Q$5:Q320, Q320 )","v":1},{"$f":"_xlfn.IFS(D$2=X$4, X320, D$2=Y$4, Y320,D$2=Z$4, Z320,D$2=AA$4, AA320)","v":5},5,{"$f":"IF(R320=1, _xlfn.IFNA(VLOOKUP(Q320, 'Allocation Change Graph'!BF$7:BG$20, 2, FALSE), 0), 0)","v":0},0.9,4.5,null,null,5,null,null,null,5,5,2,1,0,0,0,0,0,0,null,null,null,null,null,0,5]
[null,null,"University Wide","La Jolla Campus","Scripps Institution of Oceanography","Scripps Institution of Oceanography","Surface Lot","P004","-","Service Yard",null,null,"Yes","Yes",null,"P004","P004Service Yard",{"$f":"COUNTIF(Q$5:Q321, Q321 )","v":1},{"$f":"_xlfn.IFS(D$2=X$4, X321, D$2=Y$4, Y321,D$2=Z$4, Z321,D$2=AA$4, AA321)","v":1},1,{"$f":"IF(R321=1, _xlfn.IFNA(VLOOKUP(Q321, 'Allocation Change Graph'!BF$7:BG$20, 2, FALSE), 0), 0)","v":0},0.9,0.9,null,null,1,null,null,null,1,1,1,1,1,0,0,0,0,0,null,null,null,null,null,0,1]
[null,null,"University Wide","La Jolla Campus","Scripps Institution of Oceanography","Scripps Institution of Oceanography","Surface Lot","P004","-","UC Vehicle","UC Cart",null,"Yes","Yes",null,"P004","P004UC VehicleUC Cart",{"$f":"COUNTIF(Q$5:Q322, Q322 )","v":1},{"$f":"_xlfn.IFS(D$2=X$4, X322, D$2=Y$4, Y322,D$2=Z$4, Z322,D$2=AA$4, AA322)","v":1},1,{"$f":"IF(R322=1, _xlfn.IFNA(VLOOKUP(Q322, 'Allocation Change Graph'!BF$7:BG$20, 2, FALSE), 0), 0)","v":0},0.9,0.9,null,null,1,null,null,null,1,0,0,0,1,0,0,0,0,0,null,null,null,null,null,0,1]
[null,null,"University Wide","La Jolla Campus","Scripps Institution of Oceanography","Scripps Institution of Oceanography","Surface Lot","P004","-","UC Vehicle",null,null,"Yes","Yes",null,"P004","P004UC Vehicle",{"$f":"COUNTIF(Q$5:Q323, Q323 )","v":1},{"$f":"_xlfn.IFS(D$2=X$4, X323, D$2=Y$4, Y323,D$2=Z$4, Z323,D$2=AA$4, AA323)","v":5},5,{"$f":"IF(R323=1, _xlfn.IFNA(VLOOKUP(Q323, 'Allocation Change Graph'!BF$7:BG$20, 2, FALSE), 0), 0)","v":0},0.9,4.5,null,null,5,null,null,null,3,3,2,2,0,2,2,3,2,1,null,null,null,null,null,0,3]
[null,null,"University Wide","La Jolla Campus","Scripps Institution of Oceanography","Scripps Institution of Oceanography","Surface Lot","P005","-","Accessible",null,null,"Yes","Yes",null,"P005","P005Accessible",{"$f":"COUNTIF(Q$5:Q324, Q324 )","v":1},{"$f":"_xlfn.IFS(D$2=X$4, X324, D$2=Y$4, Y324,D$2=Z$4, Z324,D$2=AA$4, AA324)","v":1},1,{"$f":"IF(R324=1, _xlfn.IFNA(VLOOKUP(Q324, 'Allocation Change Graph'!BF$7:BG$20, 2, FALSE), 0), 0)","v":0},0.9,0.9,null,null,1,null,null,null,1,1,1,1,1,1,1,1,1,1,null,null,null,null,null,1,1]
[null,null,"University Wide","La Jolla Campus","Scripps Institution of Oceanography","Scripps Institution of Oceanography","Surface Lot","P005","-","Accessible (Van)",null,null,"Yes","Yes",null,{"$f":"IF(G325=\"Surface Lot\", H325, G325)","v":"P005"},{"$f":"P325&J325&K325&L325","v":"P005Accessible (Van)"},{"$f":"COUNTIF(Q$5:Q325, Q325 )","v":1},{"$f":"_xlfn.IFS(D$2=X$4, X325, D$2=Y$4, Y325,D$2=Z$4, Z325,D$2=AA$4, AA325)","v":0},{"$f":"IF(R325=1,SUMIF(Q:Q,Q325,S:S)+U325, \"\")","v":0},{"$f":"IF(R325=1, _xlfn.IFNA(VLOOKUP(Q325, 'Allocation Change Graph'!BF$7:BG$20, 2, FALSE), 0), 0)","v":0},0.9,{"$f":"IF(R325=1, V325*T325, \"\")","v":0},null,null,null,null,null,null,0,0,0,0,0,0,0,0,0,0,null,null,null,null,null,{"$f":"MIN($AB325:$AR325)+U325","v":0},{"$f":"MAX($AB325:$AR325)+U325","v":0}]
[null,null,"University Wide","La Jolla Campus","Scripps Institution of Oceanography","Scripps Institution of Oceanography","Surface Lot","P005","-","Loading","Bars","20 minutes","Yes","Yes",null,"P005","P005LoadingBars20 minutes",{"$f":"COUNTIF(Q$5:Q326, Q326 )","v":1},{"$f":"_xlfn.IFS(D$2=X$4, X326, D$2=Y$4, Y326,D$2=Z$4, Z326,D$2=AA$4, AA326)","v":1},1,{"$f":"IF(R326=1, _xlfn.IFNA(VLOOKUP(Q326, 'Allocation Change Graph'!BF$7:BG$20, 2, FALSE), 0), 0)","v":0},0.9,0.9,null,null,1,null,null,null,1,0,0,1,0,1,0,0,1,1,null,null,null,null,null,0,1]
[null,null,"University Wide","La Jolla Campus","Scripps Institution of Oceanography","Scripps Institution of Oceanography","Surface Lot","P005","-","Motorcycle Section",null,null,"Yes","Yes",null,"P005","P005Motorcycle Section",{"$f":"COUNTIF(Q$5:Q327, Q327 )","v":1},{"$f":"_xlfn.IFS(D$2=X$4, X327, D$2=Y$4, Y327,D$2=Z$4, Z327,D$2=AA$4, AA327)","v":2},2,{"$f":"IF(R327=1, _xlfn.IFNA(VLOOKUP(Q327, 'Allocation Change Graph'!BF$7:BG$20, 2, FALSE), 0), 0)","v":0},0.9,1.8,null,null,2,null,null,null,2,2,2,2,2,2,2,2,2,2,null,null,null,null,null,2,2]
[null,null,"University Wide","La Jolla Campus","Scripps Institution of Oceanography","Scripps Institution of Oceanography","Surface Lot","P005","-","Service Yard","Bars",null,"Yes","Yes",null,"P005","P005Service YardBars",{"$f":"COUNTIF(Q$5:Q328, Q328 )","v":1},{"$f":"_xlfn.IFS(D$2=X$4, X328, D$2=Y$4, Y328,D$2=Z$4, Z328,D$2=AA$4, AA328)","v":1},1,{"$f":"IF(R328=1, _xlfn.IFNA(VLOOKUP(Q328, 'Allocation Change Graph'!BF$7:BG$20, 2, FALSE), 0), 0)","v":0},0.9,0.9,null,null,1,null,null,null,1,0,0,1,0,1,0,0,1,1,null,null,null,null,null,0,1]
[null,null,"University Wide","La Jolla Campus","Scripps Institution of Oceanography","Scripps Institution of Oceanography","Surface Lot","P006","-","Accessible",null,null,"Yes","Yes",null,"P006","P006Accessible",{"$f":"COUNTIF(Q$5:Q329, Q329 )","v":1},{"$f":"_xlfn.IFS(D$2=X$4, X329, D$2=Y$4, Y329,D$2=Z$4, Z329,D$2=AA$4, AA329)","v":1},1,{"$f":"IF(R329=1, _xlfn.IFNA(VLOOKUP(Q329, 'Allocation Change Graph'!BF$7:BG$20, 2, FALSE), 0), 0)","v":0},0.9,0.9,null,null,1,null,null,null,1,1,1,0,1,1,0,0,0,0,null,null,null,null,null,0,1]
[null,null,"University Wide","La Jolla Campus","Scripps Institution of Oceanography","Scripps Institution of Oceanography","Surface Lot","P006","-","Accessible (Van)",null,null,"Yes","Yes",null,"P006","P006Accessible (Van)",{"$f":"COUNTIF(Q$5:Q330, Q330 )","v":1},{"$f":"_xlfn.IFS(D$2=X$4, X330, D$2=Y$4, Y330,D$2=Z$4, Z330,D$2=AA$4, AA330)","v":0},0,{"$f":"IF(R330=1, _xlfn.IFNA(VLOOKUP(Q330, 'Allocation Change Graph'!BF$7:BG$20, 2, FALSE), 0), 0)","v":0},0.9,0,null,null,null,null,null,null,0,0,0,0,0,0,0,0,0,0,null,null,null,null,null,0,0]
[null,null,"University Wide","La Jolla Campus","Scripps Institution of Oceanography","Scripps Institution of Oceanography","Surface Lot","P006","-","B","Scripps Institution of Oceanography",null,"Yes","Yes","Yes","P006","P006BScripps Institution of Oceanography",{"$f":"COUNTIF(Q$5:Q331, Q331 )","v":1},{"$f":"_xlfn.IFS(D$2=X$4, X331, D$2=Y$4, Y331,D$2=Z$4, Z331,D$2=AA$4, AA331)","v":6},6,{"$f":"IF(R331=1, _xlfn.IFNA(VLOOKUP(Q331, 'Allocation Change Graph'!BF$7:BG$20, 2, FALSE), 0), 0)","v":0},0.9,5.4,null,null,6,null,null,null,2,0,0,0,0,0,1,1,2,4,null,null,null,null,null,0,4]
[null,null,"University Wide","La Jolla Campus","Scripps Institution of Oceanography","Scripps Institution of Oceanography","Surface Lot","P007","-","Accessible",null,null,"Yes","Yes",null,"P007","P007Accessible",{"$f":"COUNTIF(Q$5:Q332, Q332 )","v":1},{"$f":"_xlfn.IFS(D$2=X$4, X332, D$2=Y$4, Y332,D$2=Z$4, Z332,D$2=AA$4, AA332)","v":3},3,{"$f":"IF(R332=1, _xlfn.IFNA(VLOOKUP(Q332, 'Allocation Change Graph'!BF$7:BG$20, 2, FALSE), 0), 0)","v":0},0.9,2.7,null,null,3,null,null,null,3,3,3,0,0,1,1,1,1,2,null,null,null,null,null,0,3]
[null,null,"University Wide","La Jolla Campus","Scripps Institution of Oceanography","Scripps Institution of Oceanography","Surface Lot","P007","-","Accessible (Van)",null,null,"Yes","Yes",null,"P007","P007Accessible (Van)",{"$f":"COUNTIF(Q$5:Q333, Q333 )","v":1},{"$f":"_xlfn.IFS(D$2=X$4, X333, D$2=Y$4, Y333,D$2=Z$4, Z333,D$2=AA$4, AA333)","v":0},0,{"$f":"IF(R333=1, _xlfn.IFNA(VLOOKUP(Q333, 'Allocation Change Graph'!BF$7:BG$20, 2, FALSE), 0), 0)","v":0},0.9,0,null,null,null,null,null,null,0,0,0,0,0,0,0,0,0,0,null,null,null,null,null,0,0]
[null,null,"University Wide","La Jolla Campus","Scripps Institution of Oceanography","Scripps Institution of Oceanography","Surface Lot","P007","-","B","Scripps Institution of Oceanography",null,"Yes","Yes","Yes","P007","P007BScripps Institution of Oceanography",{"$f":"COUNTIF(Q$5:Q334, Q334 )","v":1},{"$f":"_xlfn.IFS(D$2=X$4, X334, D$2=Y$4, Y334,D$2=Z$4, Z334,D$2=AA$4, AA334)","v":22},22,{"$f":"IF(R334=1, _xlfn.IFNA(VLOOKUP(Q334, 'Allocation Change Graph'!BF$7:BG$20, 2, FALSE), 0), 0)","v":0},0.9,19.8,null,null,22,null,null,null,9,5,0,0,0,1,0,1,7,13,null,null,null,null,null,0,13]
[null,null,"University Wide","La Jolla Campus","Scripps Institution of Oceanography","Scripps Institution of Oceanography","Surface Lot","P007","-","Electric Vehicle",null,null,"Yes","Yes",null,"P007","P007Electric Vehicle",{"$f":"COUNTIF(Q$5:Q335, Q335 )","v":1},{"$f":"_xlfn.IFS(D$2=X$4, X335, D$2=Y$4, Y335,D$2=Z$4, Z335,D$2=AA$4, AA335)","v":8},8,{"$f":"IF(R335=1, _xlfn.IFNA(VLOOKUP(Q335, 'Allocation Change Graph'!BF$7:BG$20, 2, FALSE), 0), 0)","v":0},0.9,7.2,null,null,8,null,null,null,8,6,4,1,0,1,2,3,3,5,null,null,null,null,null,0,8]
[null,null,"University Wide","La Jolla Campus","Scripps Institution of Oceanography","Scripps Institution of Oceanography","Surface Lot","P007","-","Loading","Dock","20 minutes","Yes","Yes",null,"P007","P007LoadingDock20 minutes",{"$f":"COUNTIF(Q$5:Q336, Q336 )","v":1},{"$f":"_xlfn.IFS(D$2=X$4, X336, D$2=Y$4, Y336,D$2=Z$4, Z336,D$2=AA$4, AA336)","v":1},1,{"$f":"IF(R336=1, _xlfn.IFNA(VLOOKUP(Q336, 'Allocation Change Graph'!BF$7:BG$20, 2, FALSE), 0), 0)","v":0},0.9,0.9,null,null,1,null,null,null,1,0,0,0,0,0,0,0,0,1,null,null,null,null,null,0,1]
[null,null,"University Wide","La Jolla Campus","Scripps Institution of Oceanography","Scripps Institution of Oceanography","Surface Lot","P007","-","Loading",null,"20 minutes","Yes","Yes",null,"P007","P007Loading20 minutes",{"$f":"COUNTIF(Q$5:Q337, Q337 )","v":1},{"$f":"_xlfn.IFS(D$2=X$4, X337, D$2=Y$4, Y337,D$2=Z$4, Z337,D$2=AA$4, AA337)","v":1},1,{"$f":"IF(R337=1, _xlfn.IFNA(VLOOKUP(Q337, 'Allocation Change Graph'!BF$7:BG$20, 2, FALSE), 0), 0)","v":0},0.9,0.9,null,null,1,null,null,null,0,1,1,1,1,0,0,0,0,1,null,null,null,null,null,0,1]
[null,null,"University Wide","La Jolla Campus","Scripps Institution of Oceanography","Scripps Institution of Oceanography","Surface Lot","P007","-","Motorcycle Section",null,null,"Yes","Yes",null,"P007","P007Motorcycle Section",{"$f":"COUNTIF(Q$5:Q338, Q338 )","v":1},{"$f":"_xlfn.IFS(D$2=X$4, X338, D$2=Y$4, Y338,D$2=Z$4, Z338,D$2=AA$4, AA338)","v":2},2,{"$f":"IF(R338=1, _xlfn.IFNA(VLOOKUP(Q338, 'Allocation Change Graph'!BF$7:BG$20, 2, FALSE), 0), 0)","v":0},0.9,1.8,null,null,2,null,null,null,2,2,0,0,2,2,2,2,2,2,null,null,null,null,null,0,2]
[null,null,"University Wide","La Jolla Campus","Scripps Institution of Oceanography","Scripps Institution of Oceanography","Surface Lot","P007","-","UC Vehicle","UC Cart Bar",null,"Yes","Yes",null,"P007","P007UC VehicleUC Cart Bar",{"$f":"COUNTIF(Q$5:Q339, Q339 )","v":1},{"$f":"_xlfn.IFS(D$2=X$4, X339, D$2=Y$4, Y339,D$2=Z$4, Z339,D$2=AA$4, AA339)","v":1},1,{"$f":"IF(R339=1, _xlfn.IFNA(VLOOKUP(Q339, 'Allocation Change Graph'!BF$7:BG$20, 2, FALSE), 0), 0)","v":0},0.9,0.9,null,null,1,null,null,null,0,0,0,0,0,0,0,0,0,0,null,null,null,null,null,0,0]
[null,null,"University Wide","La Jolla Campus","Scripps Institution of Oceanography","Scripps Institution of Oceanography","Surface Lot","P007","-","UC Vehicle",null,null,"Yes","Yes",null,"P007","P007UC Vehicle",{"$f":"COUNTIF(Q$5:Q340, Q340 )","v":1},{"$f":"_xlfn.IFS(D$2=X$4, X340, D$2=Y$4, Y340,D$2=Z$4, Z340,D$2=AA$4, AA340)","v":2},2,{"$f":"IF(R340=1, _xlfn.IFNA(VLOOKUP(Q340, 'Allocation Change Graph'!BF$7:BG$20, 2, FALSE), 0), 0)","v":0},0.9,1.8,null,null,2,null,null,null,0,0,0,0,1,0,0,0,0,0,null,null,null,null,null,0,1]
[null,null,"University Wide","La Jolla Campus","Scripps Institution of Oceanography","Scripps Institution of Oceanography","Surface Lot","P008","-","Accessible",null,null,"Yes","Yes",null,"P008","P008Accessible",{"$f":"COUNTIF(Q$5:Q341, Q341 )","v":1},{"$f":"_xlfn.IFS(D$2=X$4, X341, D$2=Y$4, Y341,D$2=Z$4, Z341,D$2=AA$4, AA341)","v":3},3,{"$f":"IF(R341=1, _xlfn.IFNA(VLOOKUP(Q341, 'Allocation Change Graph'!BF$7:BG$20, 2, FALSE), 0), 0)","v":0},0.9,2.7,null,null,3,null,null,null,3,3,0,0,0,0,0,0,2,2,null,null,null,null,null,0,3]
[null,null,"University Wide","La Jolla Campus","Scripps Institution of Oceanography","Scripps Institution of Oceanography","Surface Lot","P008","-","Accessible (Van)",null,null,"Yes","Yes",null,"P008","P008Accessible (Van)",{"$f":"COUNTIF(Q$5:Q342, Q342 )","v":1},{"$f":"_xlfn.IFS(D$2=X$4, X342, D$2=Y$4, Y342,D$2=Z$4, Z342,D$2=AA$4, AA342)","v":0},0,{"$f":"IF(R342=1, _xlfn.IFNA(VLOOKUP(Q342, 'Allocation Change Graph'!BF$7:BG$20, 2, FALSE), 0), 0)","v":0},0.9,0,null,null,null,null,null,null,0,0,0,0,0,0,0,0,0,0,null,null,null,null,null,0,0]
[null,null,"University Wide","La Jolla Campus","Scripps Institution of Oceanography","Scripps Institution of Oceanography","Surface Lot","P008","-","B","Scripps Institution of Oceanography",null,"Yes","Yes","Yes","P008","P008BScripps Institution of Oceanography",{"$f":"COUNTIF(Q$5:Q343, Q343 )","v":1},{"$f":"_xlfn.IFS(D$2=X$4, X343, D$2=Y$4, Y343,D$2=Z$4, Z343,D$2=AA$4, AA343)","v":26},26,{"$f":"IF(R343=1, _xlfn.IFNA(VLOOKUP(Q343, 'Allocation Change Graph'!BF$7:BG$20, 2, FALSE), 0), 0)","v":0},0.9,23.400000000000002,null,null,26,null,null,null,14,7,0,0,0,0,0,0,3,12,null,null,null,null,null,0,14]
[null,null,"University Wide","La Jolla Campus","Scripps Institution of Oceanography","Scripps Institution of Oceanography","Surface Lot","P008","-","Motorcycle Section",null,null,"Yes","Yes",null,"P008","P008Motorcycle Section",{"$f":"COUNTIF(Q$5:Q344, Q344 )","v":1},{"$f":"_xlfn.IFS(D$2=X$4, X344, D$2=Y$4, Y344,D$2=Z$4, Z344,D$2=AA$4, AA344)","v":1},1,{"$f":"IF(R344=1, _xlfn.IFNA(VLOOKUP(Q344, 'Allocation Change Graph'!BF$7:BG$20, 2, FALSE), 0), 0)","v":0},0.9,0.9,null,null,1,null,null,null,1,1,0,0,0,0,0,0,0,0,null,null,null,null,null,0,1]
[null,null,"University Wide","La Jolla Campus","Scripps Institution of Oceanography","Scripps Institution of Oceanography","Surface Lot","P009","-","Service Yard",null,null,"Yes","Yes",null,"P009","P009Service Yard",{"$f":"COUNTIF(Q$5:Q345, Q345 )","v":1},{"$f":"_xlfn.IFS(D$2=X$4, X345, D$2=Y$4, Y345,D$2=Z$4, Z345,D$2=AA$4, AA345)","v":2},2,{"$f":"IF(R345=1, _xlfn.IFNA(VLOOKUP(Q345, 'Allocation Change Graph'!BF$7:BG$20, 2, FALSE), 0), 0)","v":0},0.9,1.8,null,null,2,null,null,null,0,1,2,1,1,0,0,0,1,0,null,null,null,null,null,0,2]
[null,null,"University Wide","La Jolla Campus","Scripps Institution of Oceanography","Scripps Institution of Oceanography","Surface Lot","P010","-","Accessible",null,null,"Yes","Yes",null,"P010","P010Accessible",{"$f":"COUNTIF(Q$5:Q346, Q346 )","v":1},{"$f":"_xlfn.IFS(D$2=X$4, X346, D$2=Y$4, Y346,D$2=Z$4, Z346,D$2=AA$4, AA346)","v":1},1,{"$f":"IF(R346=1, _xlfn.IFNA(VLOOKUP(Q346, 'Allocation Change Graph'!BF$7:BG$20, 2, FALSE), 0), 0)","v":0},0.9,0.9,null,null,1,null,null,null,1,0,0,0,0,0,0,0,1,0,null,null,null,null,null,0,1]
[null,null,"University Wide","La Jolla Campus","Scripps Institution of Oceanography","Scripps Institution of Oceanography","Surface Lot","P010","-","Accessible (Van)",null,null,"Yes","Yes",null,"P010","P010Accessible (Van)",{"$f":"COUNTIF(Q$5:Q347, Q347 )","v":1},{"$f":"_xlfn.IFS(D$2=X$4, X347, D$2=Y$4, Y347,D$2=Z$4, Z347,D$2=AA$4, AA347)","v":0},0,{"$f":"IF(R347=1, _xlfn.IFNA(VLOOKUP(Q347, 'Allocation Change Graph'!BF$7:BG$20, 2, FALSE), 0), 0)","v":0},0.9,0,null,null,null,null,null,null,0,0,0,0,0,0,0,0,0,0,null,null,null,null,null,0,0]
[null,null,"University Wide","La Jolla Campus","Scripps Institution of Oceanography","Scripps Institution of Oceanography","Surface Lot","P010","-","B","Scripps Institution of Oceanography",null,"Yes","Yes","Yes","P010","P010BScripps Institution of Oceanography",{"$f":"COUNTIF(Q$5:Q348, Q348 )","v":1},{"$f":"_xlfn.IFS(D$2=X$4, X348, D$2=Y$4, Y348,D$2=Z$4, Z348,D$2=AA$4, AA348)","v":23},23,{"$f":"IF(R348=1, _xlfn.IFNA(VLOOKUP(Q348, 'Allocation Change Graph'!BF$7:BG$20, 2, FALSE), 0), 0)","v":0},0.9,20.7,null,null,23,null,null,null,19,14,1,0,0,1,2,2,6,13,null,null,null,null,null,0,19]
[null,null,"University Wide","La Jolla Campus","Scripps Institution of Oceanography","Scripps Institution of Oceanography","Surface Lot","P011","-","Accessible",null,null,"Yes","Yes",null,"P011","P011Accessible",{"$f":"COUNTIF(Q$5:Q349, Q349 )","v":1},{"$f":"_xlfn.IFS(D$2=X$4, X349, D$2=Y$4, Y349,D$2=Z$4, Z349,D$2=AA$4, AA349)","v":1},1,{"$f":"IF(R349=1, _xlfn.IFNA(VLOOKUP(Q349, 'Allocation Change Graph'!BF$7:BG$20, 2, FALSE), 0), 0)","v":0},0.9,0.9,null,null,1,null,null,null,1,1,1,1,0,1,0,1,1,1,null,null,null,null,null,0,1]
[null,null,"University Wide","La Jolla Campus","Scripps Institution of Oceanography","Scripps Institution of Oceanography","Surface Lot","P011","-","Accessible (Van)",null,null,"Yes","Yes",null,"P011","P011Accessible (Van)",{"$f":"COUNTIF(Q$5:Q350, Q350 )","v":1},{"$f":"_xlfn.IFS(D$2=X$4, X350, D$2=Y$4, Y350,D$2=Z$4, Z350,D$2=AA$4, AA350)","v":0},0,{"$f":"IF(R350=1, _xlfn.IFNA(VLOOKUP(Q350, 'Allocation Change Graph'!BF$7:BG$20, 2, FALSE), 0), 0)","v":0},0.9,0,null,null,null,null,null,null,0,0,0,0,0,0,0,0,0,0,null,null,null,null,null,0,0]
[null,null,"University Wide","La Jolla Campus","Scripps Institution of Oceanography","Scripps Institution of Oceanography","Surface Lot","P011","-","Allocated","Coastal Access","1 hour","Yes","Yes",null,"P011","P011AllocatedCoastal Access1 hour",{"$f":"COUNTIF(Q$5:Q351, Q351 )","v":1},{"$f":"_xlfn.IFS(D$2=X$4, X351, D$2=Y$4, Y351,D$2=Z$4, Z351,D$2=AA$4, AA351)","v":4},4,{"$f":"IF(R351=1, _xlfn.IFNA(VLOOKUP(Q351, 'Allocation Change Graph'!BF$7:BG$20, 2, FALSE), 0), 0)","v":0},0.9,3.6,null,null,4,null,null,null,3,0,1,0,0,0,0,0,0,1,null,null,null,null,null,0,3]
[null,null,"University Wide","La Jolla Campus","Scripps Institution of Oceanography","Scripps Institution of Oceanography","Surface Lot","P011","-","B","Scripps Institution of Oceanography",null,"Yes","Yes","Yes","P011","P011BScripps Institution of Oceanography",{"$f":"COUNTIF(Q$5:Q352, Q352 )","v":1},{"$f":"_xlfn.IFS(D$2=X$4, X352, D$2=Y$4, Y352,D$2=Z$4, Z352,D$2=AA$4, AA352)","v":15},15,{"$f":"IF(R352=1, _xlfn.IFNA(VLOOKUP(Q352, 'Allocation Change Graph'!BF$7:BG$20, 2, FALSE), 0), 0)","v":0},0.9,13.5,null,null,15,null,null,null,15,11,10,0,0,0,0,0,2,7,null,null,null,null,null,0,15]
[null,null,"University Wide","La Jolla Campus","Scripps Institution of Oceanography","Scripps Institution of Oceanography","Surface Lot","P011","-","Loading",null,"20 minutes","Yes","Yes",null,"P011","P011Loading20 minutes",{"$f":"COUNTIF(Q$5:Q353, Q353 )","v":1},{"$f":"_xlfn.IFS(D$2=X$4, X353, D$2=Y$4, Y353,D$2=Z$4, Z353,D$2=AA$4, AA353)","v":1},1,{"$f":"IF(R353=1, _xlfn.IFNA(VLOOKUP(Q353, 'Allocation Change Graph'!BF$7:BG$20, 2, FALSE), 0), 0)","v":0},0.9,0.9,null,null,1,null,null,null,1,0,0,1,0,1,0,0,1,1,null,null,null,null,null,0,1]
[null,null,"University Wide","La Jolla Campus","Scripps Institution of Oceanography","Scripps Institution of Oceanography","Surface Lot","P011","-","Motorcycle Section",null,null,"Yes","Yes",null,"P011","P011Motorcycle Section",{"$f":"COUNTIF(Q$5:Q354, Q354 )","v":1},{"$f":"_xlfn.IFS(D$2=X$4, X354, D$2=Y$4, Y354,D$2=Z$4, Z354,D$2=AA$4, AA354)","v":1},1,{"$f":"IF(R354=1, _xlfn.IFNA(VLOOKUP(Q354, 'Allocation Change Graph'!BF$7:BG$20, 2, FALSE), 0), 0)","v":0},0.9,0.9,null,null,1,null,null,null,1,1,1,1,1,1,0,0,1,1,null,null,null,null,null,0,1]
[null,null,"University Wide","La Jolla Campus","Scripps Institution of Oceanography","Scripps Institution of Oceanography","Surface Lot","P012","-","Accessible",null,null,"Yes","Yes",null,"P012","P012Accessible",{"$f":"COUNTIF(Q$5:Q355, Q355 )","v":1},{"$f":"_xlfn.IFS(D$2=X$4, X355, D$2=Y$4, Y355,D$2=Z$4, Z355,D$2=AA$4, AA355)","v":1},1,{"$f":"IF(R355=1, _xlfn.IFNA(VLOOKUP(Q355, 'Allocation Change Graph'!BF$7:BG$20, 2, FALSE), 0), 0)","v":0},0.9,0.9,null,null,1,null,null,null,1,1,0,0,0,1,0,0,0,1,null,null,null,null,null,0,1]
[null,null,"University Wide","La Jolla Campus","Scripps Institution of Oceanography","Scripps Institution of Oceanography","Surface Lot","P012","-","Accessible (Van)",null,null,"Yes","Yes",null,"P012","P012Accessible (Van)",{"$f":"COUNTIF(Q$5:Q356, Q356 )","v":1},{"$f":"_xlfn.IFS(D$2=X$4, X356, D$2=Y$4, Y356,D$2=Z$4, Z356,D$2=AA$4, AA356)","v":0},0,{"$f":"IF(R356=1, _xlfn.IFNA(VLOOKUP(Q356, 'Allocation Change Graph'!BF$7:BG$20, 2, FALSE), 0), 0)","v":0},0.9,0,null,null,null,null,null,null,0,0,0,0,0,0,0,0,0,0,null,null,null,null,null,0,0]
[null,null,"University Wide","La Jolla Campus","Scripps Institution of Oceanography","Scripps Institution of Oceanography","Surface Lot","P012","-","B","Scripps Institution of Oceanography",null,"Yes","Yes","Yes","P012","P012BScripps Institution of Oceanography",{"$f":"COUNTIF(Q$5:Q357, Q357 )","v":1},{"$f":"_xlfn.IFS(D$2=X$4, X357, D$2=Y$4, Y357,D$2=Z$4, Z357,D$2=AA$4, AA357)","v":12},12,{"$f":"IF(R357=1, _xlfn.IFNA(VLOOKUP(Q357, 'Allocation Change Graph'!BF$7:BG$20, 2, FALSE), 0), 0)","v":0},0.9,10.8,null,null,12,null,null,null,12,9,6,2,0,1,0,0,4,9,null,null,null,null,null,0,12]
[null,null,"University Wide","La Jolla Campus","Scripps Institution of Oceanography","Scripps Institution of Oceanography","Surface Lot","P013","-","Accessible",null,null,"Yes","Yes",null,"P013","P013Accessible",{"$f":"COUNTIF(Q$5:Q358, Q358 )","v":1},{"$f":"_xlfn.IFS(D$2=X$4, X358, D$2=Y$4, Y358,D$2=Z$4, Z358,D$2=AA$4, AA358)","v":1},1,{"$f":"IF(R358=1, _xlfn.IFNA(VLOOKUP(Q358, 'Allocation Change Graph'!BF$7:BG$20, 2, FALSE), 0), 0)","v":0},0.9,0.9,null,null,1,null,null,null,1,1,1,1,0,1,1,1,1,1,null,null,null,null,null,0,1]
[null,null,"University Wide","La Jolla Campus","Scripps Institution of Oceanography","Scripps Institution of Oceanography","Surface Lot","P013","-","Accessible (Van)",null,null,"Yes","Yes",null,"P013","P013Accessible (Van)",{"$f":"COUNTIF(Q$5:Q359, Q359 )","v":1},{"$f":"_xlfn.IFS(D$2=X$4, X359, D$2=Y$4, Y359,D$2=Z$4, Z359,D$2=AA$4, AA359)","v":0},0,{"$f":"IF(R359=1, _xlfn.IFNA(VLOOKUP(Q359, 'Allocation Change Graph'!BF$7:BG$20, 2, FALSE), 0), 0)","v":0},0.9,0,null,null,null,null,null,null,0,0,0,0,0,0,0,0,0,0,null,null,null,null,null,0,0]
[null,null,"University Wide","La Jolla Campus","Scripps Institution of Oceanography","Scripps Institution of Oceanography","Surface Lot","P013","-","B","Scripps Institution of Oceanography",null,"Yes","Yes","Yes","P013","P013BScripps Institution of Oceanography",{"$f":"COUNTIF(Q$5:Q360, Q360 )","v":1},{"$f":"_xlfn.IFS(D$2=X$4, X360, D$2=Y$4, Y360,D$2=Z$4, Z360,D$2=AA$4, AA360)","v":12},12,{"$f":"IF(R360=1, _xlfn.IFNA(VLOOKUP(Q360, 'Allocation Change Graph'!BF$7:BG$20, 2, FALSE), 0), 0)","v":0},0.9,10.8,null,null,12,null,null,null,12,7,5,0,0,2,0,2,4,7,null,null,null,null,null,0,12]
[null,null,"University Wide","La Jolla Campus","Scripps Institution of Oceanography","Scripps Institution of Oceanography","Surface Lot","P013","-","Electric Vehicle",null,null,"Yes","Yes",null,"P013","P013Electric Vehicle",{"$f":"COUNTIF(Q$5:Q361, Q361 )","v":1},{"$f":"_xlfn.IFS(D$2=X$4, X361, D$2=Y$4, Y361,D$2=Z$4, Z361,D$2=AA$4, AA361)","v":2},2,{"$f":"IF(R361=1, _xlfn.IFNA(VLOOKUP(Q361, 'Allocation Change Graph'!BF$7:BG$20, 2, FALSE), 0), 0)","v":0},0.9,1.8,null,null,2,null,null,null,1,2,2,2,2,1,0,1,1,0,null,null,null,null,null,0,2]
[null,null,"University Wide","La Jolla Campus","Scripps Institution of Oceanography","Scripps Institution of Oceanography","Surface Lot","P014","-","Accessible",null,null,"Yes","Yes",null,"P014","P014Accessible",{"$f":"COUNTIF(Q$5:Q362, Q362 )","v":1},{"$f":"_xlfn.IFS(D$2=X$4, X362, D$2=Y$4, Y362,D$2=Z$4, Z362,D$2=AA$4, AA362)","v":1},1,{"$f":"IF(R362=1, _xlfn.IFNA(VLOOKUP(Q362, 'Allocation Change Graph'!BF$7:BG$20, 2, FALSE), 0), 0)","v":0},0.9,0.9,null,null,1,null,null,null,1,1,1,1,1,1,1,1,1,1,null,null,null,null,null,1,1]
[null,null,"University Wide","La Jolla Campus","Scripps Institution of Oceanography","Scripps Institution of Oceanography","Surface Lot","P014","-","Accessible (Van)",null,null,"Yes","Yes",null,"P014","P014Accessible (Van)",{"$f":"COUNTIF(Q$5:Q363, Q363 )","v":1},{"$f":"_xlfn.IFS(D$2=X$4, X363, D$2=Y$4, Y363,D$2=Z$4, Z363,D$2=AA$4, AA363)","v":3},3,{"$f":"IF(R363=1, _xlfn.IFNA(VLOOKUP(Q363, 'Allocation Change Graph'!BF$7:BG$20, 2, FALSE), 0), 0)","v":0},0.9,2.7,null,null,3,null,null,null,3,3,2,3,3,3,3,3,3,3,null,null,null,null,null,2,3]
[null,null,"University Wide","La Jolla Campus","Scripps Institution of Oceanography","Scripps Institution of Oceanography","Surface Lot","P014","-","B","Scripps Institution of Oceanography",null,"Yes","Yes","Yes","P014","P014BScripps Institution of Oceanography",{"$f":"COUNTIF(Q$5:Q364, Q364 )","v":1},{"$f":"_xlfn.IFS(D$2=X$4, X364, D$2=Y$4, Y364,D$2=Z$4, Z364,D$2=AA$4, AA364)","v":69},69,{"$f":"IF(R364=1, _xlfn.IFNA(VLOOKUP(Q364, 'Allocation Change Graph'!BF$7:BG$20, 2, FALSE), 0), 0)","v":0},0.9,62.1,null,null,69,null,null,null,60,49,27,27,14,11,9,8,17,41,null,null,null,null,null,8,60]
[null,null,"University Wide","La Jolla Campus","Scripps Institution of Oceanography","Scripps Institution of Oceanography","Surface Lot","P014","-","Electric Vehicle",null,null,"Yes","Yes",null,"P014","P014Electric Vehicle",{"$f":"COUNTIF(Q$5:Q365, Q365 )","v":1},{"$f":"_xlfn.IFS(D$2=X$4, X365, D$2=Y$4, Y365,D$2=Z$4, Z365,D$2=AA$4, AA365)","v":2},2,{"$f":"IF(R365=1, _xlfn.IFNA(VLOOKUP(Q365, 'Allocation Change Graph'!BF$7:BG$20, 2, FALSE), 0), 0)","v":0},0.9,1.8,null,null,2,null,null,null,2,2,2,2,2,1,1,2,2,2,null,null,null,null,null,1,2]
[null,null,"University Wide","La Jolla Campus","Scripps Institution of Oceanography","Scripps Institution of Oceanography","Surface Lot","P014","-","Motorcycle Section",null,null,"Yes","Yes",null,"P014","P014Motorcycle Section",{"$f":"COUNTIF(Q$5:Q366, Q366 )","v":1},{"$f":"_xlfn.IFS(D$2=X$4, X366, D$2=Y$4, Y366,D$2=Z$4, Z366,D$2=AA$4, AA366)","v":8},8,{"$f":"IF(R366=1, _xlfn.IFNA(VLOOKUP(Q366, 'Allocation Change Graph'!BF$7:BG$20, 2, FALSE), 0), 0)","v":0},0.9,7.2,null,null,8,null,null,null,8,8,8,8,8,8,8,8,8,8,null,null,null,null,null,8,8]
[null,null,"University Wide","La Jolla Campus","Scripps Institution of Oceanography","Scripps Institution of Oceanography","Surface Lot","P014","-","Reserved",null,null,"Yes","Yes",null,"P014","P014Reserved",{"$f":"COUNTIF(Q$5:Q367, Q367 )","v":1},{"$f":"_xlfn.IFS(D$2=X$4, X367, D$2=Y$4, Y367,D$2=Z$4, Z367,D$2=AA$4, AA367)","v":0},0,{"$f":"IF(R367=1, _xlfn.IFNA(VLOOKUP(Q367, 'Allocation Change Graph'!BF$7:BG$20, 2, FALSE), 0), 0)","v":0},0.9,0,null,null,0,null,null,null,0,0,0,0,0,0,0,0,0,0,null,null,null,null,null,0,0]
[null,null,"University Wide","La Jolla Campus","Scripps Institution of Oceanography","Scripps Institution of Oceanography","Surface Lot","P014","-","S",null,null,"Yes","Yes","Yes","P014","P014S",{"$f":"COUNTIF(Q$5:Q368, Q368 )","v":1},{"$f":"_xlfn.IFS(D$2=X$4, X368, D$2=Y$4, Y368,D$2=Z$4, Z368,D$2=AA$4, AA368)","v":26},26,{"$f":"IF(R368=1, _xlfn.IFNA(VLOOKUP(Q368, 'Allocation Change Graph'!BF$7:BG$20, 2, FALSE), 0), 0)","v":0},0.9,23.400000000000002,null,null,26,null,null,null,23,19,13,10,7,5,7,8,10,13,null,null,null,null,null,5,23]
[null,null,"University Wide","La Jolla Campus","Scripps Institution of Oceanography","Scripps Institution of Oceanography","Surface Lot","P014","-","Visitor",null,null,"Yes","Yes","Yes","P014","P014Visitor",{"$f":"COUNTIF(Q$5:Q369, Q369 )","v":1},{"$f":"_xlfn.IFS(D$2=X$4, X369, D$2=Y$4, Y369,D$2=Z$4, Z369,D$2=AA$4, AA369)","v":4},4,{"$f":"IF(R369=1, _xlfn.IFNA(VLOOKUP(Q369, 'Allocation Change Graph'!BF$7:BG$20, 2, FALSE), 0), 0)","v":0},0.9,3.6,null,null,4,null,null,null,3,2,2,2,2,2,1,2,2,2,null,null,null,null,null,1,3]
[null,null,"University Wide","La Jolla Campus","Scripps Institution of Oceanography","Scripps Institution of Oceanography","Surface Lot","P015","-","Loading",null,null,"Yes","Yes",null,"P015","P015Loading",{"$f":"COUNTIF(Q$5:Q370, Q370 )","v":1},{"$f":"_xlfn.IFS(D$2=X$4, X370, D$2=Y$4, Y370,D$2=Z$4, Z370,D$2=AA$4, AA370)","v":1},1,{"$f":"IF(R370=1, _xlfn.IFNA(VLOOKUP(Q370, 'Allocation Change Graph'!BF$7:BG$20, 2, FALSE), 0), 0)","v":0},0.9,0.9,null,null,1,null,null,null,1,1,1,0,1,1,1,0,1,1,null,null,null,null,null,0,1]
[null,null,"University Wide","La Jolla Campus","Scripps Institution of Oceanography","Scripps Institution of Oceanography","Surface Lot","P016","-","Accessible",null,null,"Yes","Yes",null,"P016","P016Accessible",{"$f":"COUNTIF(Q$5:Q371, Q371 )","v":1},{"$f":"_xlfn.IFS(D$2=X$4, X371, D$2=Y$4, Y371,D$2=Z$4, Z371,D$2=AA$4, AA371)","v":2},2,{"$f":"IF(R371=1, _xlfn.IFNA(VLOOKUP(Q371, 'Allocation Change Graph'!BF$7:BG$20, 2, FALSE), 0), 0)","v":0},0.9,1.8,null,null,2,null,null,null,2,2,2,1,1,1,1,1,2,2,null,null,null,null,null,1,2]
[null,null,"University Wide","La Jolla Campus","Scripps Institution of Oceanography","Scripps Institution of Oceanography","Surface Lot","P016","-","Accessible (Van)",null,null,"Yes","Yes",null,"P016","P016Accessible (Van)",{"$f":"COUNTIF(Q$5:Q372, Q372 )","v":1},{"$f":"_xlfn.IFS(D$2=X$4, X372, D$2=Y$4, Y372,D$2=Z$4, Z372,D$2=AA$4, AA372)","v":0},0,{"$f":"IF(R372=1, _xlfn.IFNA(VLOOKUP(Q372, 'Allocation Change Graph'!BF$7:BG$20, 2, FALSE), 0), 0)","v":0},0.9,0,null,null,null,null,null,null,0,0,0,0,0,0,0,0,0,0,null,null,null,null,null,0,0]
[null,null,"University Wide","La Jolla Campus","Scripps Institution of Oceanography","Scripps Institution of Oceanography","Surface Lot","P016","-","Motorcycle Section",null,null,"Yes","Yes",null,"P016","P016Motorcycle Section",{"$f":"COUNTIF(Q$5:Q373, Q373 )","v":1},{"$f":"_xlfn.IFS(D$2=X$4, X373, D$2=Y$4, Y373,D$2=Z$4, Z373,D$2=AA$4, AA373)","v":1},1,{"$f":"IF(R373=1, _xlfn.IFNA(VLOOKUP(Q373, 'Allocation Change Graph'!BF$7:BG$20, 2, FALSE), 0), 0)","v":0},0.9,0.9,null,null,1,null,null,null,1,1,1,0,1,1,1,1,1,1,null,null,null,null,null,0,1]
[null,null,"University Wide","La Jolla Campus","Scripps Institution of Oceanography","Scripps Institution of Oceanography","Surface Lot","P016","-","S","Scripps Institution of Oceanography",null,"Yes","Yes","Yes","P016","P016SScripps Institution of Oceanography",{"$f":"COUNTIF(Q$5:Q374, Q374 )","v":1},{"$f":"_xlfn.IFS(D$2=X$4, X374, D$2=Y$4, Y374,D$2=Z$4, Z374,D$2=AA$4, AA374)","v":58},58,{"$f":"IF(R374=1, _xlfn.IFNA(VLOOKUP(Q374, 'Allocation Change Graph'!BF$7:BG$20, 2, FALSE), 0), 0)","v":0},0.9,52.2,null,null,58,null,null,null,47,42,38,17,19,23,14,16,27,50,null,null,null,null,null,14,50]
[null,null,"University Wide","La Jolla Campus","Scripps Institution of Oceanography","Scripps Institution of Oceanography","Surface Lot","P017","-","Accessible",null,null,"Yes","Yes",null,"P017","P017Accessible",{"$f":"COUNTIF(Q$5:Q375, Q375 )","v":1},{"$f":"_xlfn.IFS(D$2=X$4, X375, D$2=Y$4, Y375,D$2=Z$4, Z375,D$2=AA$4, AA375)","v":2},2,{"$f":"IF(R375=1, _xlfn.IFNA(VLOOKUP(Q375, 'Allocation Change Graph'!BF$7:BG$20, 2, FALSE), 0), 0)","v":0},0.9,1.8,null,null,2,null,null,null,2,2,2,2,1,1,1,1,1,2,null,null,null,null,null,1,2]
[null,null,"University Wide","La Jolla Campus","Scripps Institution of Oceanography","Scripps Institution of Oceanography","Surface Lot","P017","-","Accessible (Van)",null,null,"Yes","Yes",null,"P017","P017Accessible (Van)",{"$f":"COUNTIF(Q$5:Q376, Q376 )","v":1},{"$f":"_xlfn.IFS(D$2=X$4, X376, D$2=Y$4, Y376,D$2=Z$4, Z376,D$2=AA$4, AA376)","v":7},7,{"$f":"IF(R376=1, _xlfn.IFNA(VLOOKUP(Q376, 'Allocation Change Graph'!BF$7:BG$20, 2, FALSE), 0), 0)","v":0},0.9,6.3,null,null,7,null,null,null,7,6,6,4,1,5,3,4,5,7,null,null,null,null,null,1,7]
[null,null,"University Wide","La Jolla Campus","Scripps Institution of Oceanography","Scripps Institution of Oceanography","Surface Lot","P017","-","Electric Vehicle",null,null,"Yes","Yes",null,"P017","P017Electric Vehicle",{"$f":"COUNTIF(Q$5:Q377, Q377 )","v":1},{"$f":"_xlfn.IFS(D$2=X$4, X377, D$2=Y$4, Y377,D$2=Z$4, Z377,D$2=AA$4, AA377)","v":2},2,{"$f":"IF(R377=1, _xlfn.IFNA(VLOOKUP(Q377, 'Allocation Change Graph'!BF$7:BG$20, 2, FALSE), 0), 0)","v":0},0.9,1.8,null,null,2,null,null,null,2,2,0,0,0,1,0,0,1,2,null,null,null,null,null,0,2]
[null,null,"University Wide","La Jolla Campus","Scripps Institution of Oceanography","Scripps Institution of Oceanography","Surface Lot","P017","-","Visitor","Birch Aquarium",null,"Yes","Yes","Yes","P017","P017VisitorBirch Aquarium",{"$f":"COUNTIF(Q$5:Q378, Q378 )","v":1},{"$f":"_xlfn.IFS(D$2=X$4, X378, D$2=Y$4, Y378,D$2=Z$4, Z378,D$2=AA$4, AA378)","v":254},254,{"$f":"IF(R378=1, _xlfn.IFNA(VLOOKUP(Q378, 'Allocation Change Graph'!BF$7:BG$20, 2, FALSE), 0), 0)","v":0},0.9,228.6,null,null,254,null,null,null,204,148,100,112,61,48,92,97,143,221,null,null,null,null,null,48,221]
[null,null,"University Wide","La Jolla Campus","Scripps Institution of Oceanography","Scripps Institution of Oceanography","Surface Lot","P021","-","S","Scripps Institution of Oceanography",null,"Yes","Yes","Yes","P021","P021SScripps Institution of Oceanography",{"$f":"COUNTIF(Q$5:Q379, Q379 )","v":1},{"$f":"_xlfn.IFS(D$2=X$4, X379, D$2=Y$4, Y379,D$2=Z$4, Z379,D$2=AA$4, AA379)","v":75},75,{"$f":"IF(R379=1, _xlfn.IFNA(VLOOKUP(Q379, 'Allocation Change Graph'!BF$7:BG$20, 2, FALSE), 0), 0)","v":0},0.9,67.5,null,null,75,null,null,null,75,73,73,73,68,68,63,61,67,70,null,null,null,null,null,61,75]
[null,null,"University Wide","La Jolla Campus","Scripps Institution of Oceanography","Scripps Institution of Oceanography","Surface Lot","P032",":Lower Lot","Visitor","Scripps Institution of Oceanography",null,"Yes","Yes","Yes","P032","P032VisitorScripps Institution of Oceanography",{"$f":"COUNTIF(Q$5:Q380, Q380 )","v":1},{"$f":"_xlfn.IFS(D$2=X$4, X380, D$2=Y$4, Y380,D$2=Z$4, Z380,D$2=AA$4, AA380)","v":4},12,{"$f":"IF(R380=1, _xlfn.IFNA(VLOOKUP(Q380, 'Allocation Change Graph'!BF$7:BG$20, 2, FALSE), 0), 0)","v":0},0.9,10.8,null,null,4,null,null,null,null,null,null,null,null,null,null,null,null,null,null,null,null,null,null,0,0]
[null,null,"University Wide","La Jolla Campus","Scripps Institution of Oceanography","Scripps Institution of Oceanography","Surface Lot","P032","Loading Dock","Loading Zone","Scripps Institution of Oceanography",null,"Yes","Yes",null,"P032","P032Loading ZoneScripps Institution of Oceanography",{"$f":"COUNTIF(Q$5:Q381, Q381 )","v":1},{"$f":"_xlfn.IFS(D$2=X$4, X381, D$2=Y$4, Y381,D$2=Z$4, Z381,D$2=AA$4, AA381)","v":4},4,{"$f":"IF(R381=1, _xlfn.IFNA(VLOOKUP(Q381, 'Allocation Change Graph'!BF$7:BG$20, 2, FALSE), 0), 0)","v":0},0.9,3.6,null,null,4,null,null,null,null,null,null,null,null,null,null,null,null,null,null,null,null,null,null,0,0]
[null,null,"University Wide","La Jolla Campus","Scripps Institution of Oceanography","Scripps Institution of Oceanography","Surface Lot","P032","Lower Lot","Accessible","Scripps Institution of Oceanography",null,"Yes","Yes","Yes","P032","P032AccessibleScripps Institution of Oceanography",{"$f":"COUNTIF(Q$5:Q382, Q382 )","v":1},{"$f":"_xlfn.IFS(D$2=X$4, X382, D$2=Y$4, Y382,D$2=Z$4, Z382,D$2=AA$4, AA382)","v":1},3,{"$f":"IF(R382=1, _xlfn.IFNA(VLOOKUP(Q382, 'Allocation Change Graph'!BF$7:BG$20, 2, FALSE), 0), 0)","v":0},0.9,2.7,null,null,1,null,null,null,null,null,null,null,null,null,null,null,null,null,null,null,null,null,null,0,0]
[null,null,"University Wide","La Jolla Campus","Scripps Institution of Oceanography","Scripps Institution of Oceanography","Surface Lot","P032","Upper Lot","Accessible","Scripps Institution of Oceanography",null,"Yes","Yes","Yes","P032","P032AccessibleScripps Institution of Oceanography",{"$f":"COUNTIF(Q$5:Q383, Q383 )","v":2},{"$f":"_xlfn.IFS(D$2=X$4, X383, D$2=Y$4, Y383,D$2=Z$4, Z383,D$2=AA$4, AA383)","v":2},"",{"$f":"IF(R383=1, _xlfn.IFNA(VLOOKUP(Q383, 'Allocation Change Graph'!BF$7:BG$20, 2, FALSE), 0), 0)","v":0},0.9,"",null,null,2,null,null,null,null,null,null,null,null,null,null,null,null,null,null,null,null,null,null,0,0]
[null,null,"University Wide","La Jolla Campus","Scripps Institution of Oceanography","Scripps Institution of Oceanography","Surface Lot","P032","Upper Lot","B","Scripps Institution of Oceanography",null,"Yes","Yes","Yes","P032","P032BScripps Institution of Oceanography",{"$f":"COUNTIF(Q$5:Q384, Q384 )","v":1},{"$f":"_xlfn.IFS(D$2=X$4, X384, D$2=Y$4, Y384,D$2=Z$4, Z384,D$2=AA$4, AA384)","v":9},9,{"$f":"IF(R384=1, _xlfn.IFNA(VLOOKUP(Q384, 'Allocation Change Graph'!BF$7:BG$20, 2, FALSE), 0), 0)","v":0},0.9,8.1,null,null,9,null,null,null,null,null,null,null,null,null,null,null,null,null,null,null,null,null,null,0,0]
[null,null,"University Wide","La Jolla Campus","Scripps Institution of Oceanography","Scripps Institution of Oceanography","Surface Lot","P032","Upper Lot","Construction","Scripps Institution of Oceanography",null,"Yes","Yes",null,"P032","P032ConstructionScripps Institution of Oceanography",{"$f":"COUNTIF(Q$5:Q385, Q385 )","v":1},{"$f":"_xlfn.IFS(D$2=X$4, X385, D$2=Y$4, Y385,D$2=Z$4, Z385,D$2=AA$4, AA385)","v":4},4,{"$f":"IF(R385=1, _xlfn.IFNA(VLOOKUP(Q385, 'Allocation Change Graph'!BF$7:BG$20, 2, FALSE), 0), 0)","v":0},0.9,3.6,null,null,4,null,null,null,null,null,null,null,null,null,null,null,null,null,null,null,null,null,null,0,0]
[null,null,"University Wide","La Jolla Campus","Scripps Institution of Oceanography","Scripps Institution of Oceanography","Surface Lot","P032","Upper Lot","Electric Vehicle","Scripps Institution of Oceanography",null,"Yes","Yes","Yes","P032","P032Electric VehicleScripps Institution of Oceanography",{"$f":"COUNTIF(Q$5:Q386, Q386 )","v":1},{"$f":"_xlfn.IFS(D$2=X$4, X386, D$2=Y$4, Y386,D$2=Z$4, Z386,D$2=AA$4, AA386)","v":2},2,{"$f":"IF(R386=1, _xlfn.IFNA(VLOOKUP(Q386, 'Allocation Change Graph'!BF$7:BG$20, 2, FALSE), 0), 0)","v":0},0.9,1.8,null,null,2,null,null,null,null,null,null,null,null,null,null,null,null,null,null,null,null,null,null,0,0]
[null,null,"University Wide","La Jolla Campus","Scripps Institution of Oceanography","Scripps Institution of Oceanography","Surface Lot","P032","Upper Lot","Visitor","Scripps Institution of Oceanography",null,"Yes","Yes","Yes","P032","P032VisitorScripps Institution of Oceanography",{"$f":"COUNTIF(Q$5:Q387, Q387 )","v":2},{"$f":"_xlfn.IFS(D$2=X$4, X387, D$2=Y$4, Y387,D$2=Z$4, Z387,D$2=AA$4, AA387)","v":8},"",{"$f":"IF(R387=1, _xlfn.IFNA(VLOOKUP(Q387, 'Allocation Change Graph'!BF$7:BG$20, 2, FALSE), 0), 0)","v":0},0.9,"",null,null,8,null,null,null,null,null,null,null,null,null,null,null,null,null,null,null,null,null,null,0,0]
[null,null,"University Wide","La Jolla Campus","West Campus",8980,8980,"P8980-1","B2","A",null,null,"Yes","Yes","Yes",8980,"8980A",{"$f":"COUNTIF(Q$5:Q388, Q388 )","v":1},{"$f":"_xlfn.IFS(D$2=X$4, X388, D$2=Y$4, Y388,D$2=Z$4, Z388,D$2=AA$4, AA388)","v":0},26,{"$f":"IF(R388=1, _xlfn.IFNA(VLOOKUP(Q388, 'Allocation Change Graph'!BF$7:BG$20, 2, FALSE), 0), 0)","v":0},0.9,23.400000000000002,null,null,null,null,null,null,26,23,17,16,19,22,23,22,25,24,null,null,null,null,null,16,26]
[null,null,"University Wide","La Jolla Campus","West Campus",8980,8980,"P8980-1","B2","Accessible",null,null,"Yes","Yes",null,{"$f":"IF(G389=\"Surface Lot\", H389, G389)","v":8980},{"$f":"P389&J389&K389&L389","v":"8980Accessible"},{"$f":"COUNTIF(Q$5:Q389, Q389 )","v":1},{"$f":"_xlfn.IFS(D$2=X$4, X389, D$2=Y$4, Y389,D$2=Z$4, Z389,D$2=AA$4, AA389)","v":0},{"$f":"IF(R389=1,SUMIF(Q:Q,Q389,S:S)+U389, \"\")","v":9},{"$f":"IF(R389=1, _xlfn.IFNA(VLOOKUP(Q389, 'Allocation Change Graph'!BF$7:BG$20, 2, FALSE), 0), 0)","v":0},0.85,{"$f":"IF(R389=1, V389*T389, \"\")","v":7.6499999999999995},null,null,null,null,null,null,7,7,6,6,6,7,8,7,8,8,null,null,null,null,null,{"$f":"MIN($AB389:$AR389)+U389","v":6},{"$f":"MAX($AB389:$AR389)+U389","v":8}]
[null,null,"University Wide","La Jolla Campus","West Campus",8980,8980,"P8980-1","B2","Accessible (Van)",null,null,"Yes","Yes",null,8980,"8980Accessible (Van)",{"$f":"COUNTIF(Q$5:Q390, Q390 )","v":1},{"$f":"_xlfn.IFS(D$2=X$4, X390, D$2=Y$4, Y390,D$2=Z$4, Z390,D$2=AA$4, AA390)","v":0},0,{"$f":"IF(R390=1, _xlfn.IFNA(VLOOKUP(Q390, 'Allocation Change Graph'!BF$7:BG$20, 2, FALSE), 0), 0)","v":0},0.85,0,null,null,null,null,null,null,null,null,null,null,null,null,null,null,null,null,null,null,null,null,null,0,0]
[null,null,"University Wide","La Jolla Campus","West Campus",8980,8980,"P8980-1","B2","B",null,null,"Yes","Yes","Yes",8980,"8980B",{"$f":"COUNTIF(Q$5:Q391, Q391 )","v":1},{"$f":"_xlfn.IFS(D$2=X$4, X391, D$2=Y$4, Y391,D$2=Z$4, Z391,D$2=AA$4, AA391)","v":0},33,{"$f":"IF(R391=1, _xlfn.IFNA(VLOOKUP(Q391, 'Allocation Change Graph'!BF$7:BG$20, 2, FALSE), 0), 0)","v":0},0.9,29.7,null,null,null,null,null,null,28,26,20,18,19,21,22,26,27,23,null,null,null,null,null,18,28]
[null,null,"University Wide","La Jolla Campus","West Campus",8980,8980,"P8980-1","B2","Carpool",null,null,"Yes","Yes","Yes",8980,"8980Carpool",{"$f":"COUNTIF(Q$5:Q392, Q392 )","v":1},{"$f":"_xlfn.IFS(D$2=X$4, X392, D$2=Y$4, Y392,D$2=Z$4, Z392,D$2=AA$4, AA392)","v":0},19,{"$f":"IF(R392=1, _xlfn.IFNA(VLOOKUP(Q392, 'Allocation Change Graph'!BF$7:BG$20, 2, FALSE), 0), 0)","v":0},0.85,16.149999999999999,null,null,null,null,null,null,19,18,17,17,16,15,15,15,16,16,null,null,null,null,null,15,19]
[null,null,"University Wide","La Jolla Campus","West Campus",8980,8980,"P8980-1","B2","Electric Vehicle",null,null,"Yes","Yes",null,8980,"8980Electric Vehicle",{"$f":"COUNTIF(Q$5:Q393, Q393 )","v":1},{"$f":"_xlfn.IFS(D$2=X$4, X393, D$2=Y$4, Y393,D$2=Z$4, Z393,D$2=AA$4, AA393)","v":0},18,{"$f":"IF(R393=1, _xlfn.IFNA(VLOOKUP(Q393, 'Allocation Change Graph'!BF$7:BG$20, 2, FALSE), 0), 0)","v":0},0.85,15.299999999999999,null,null,null,null,null,null,14,14,14,13,13,12,11,15,17,18,null,null,null,null,null,11,18]
[null,null,"University Wide","La Jolla Campus","West Campus",8980,8980,"P8980-1","B2","Motorcycle Section",null,null,"Yes","Yes",null,8980,"8980Motorcycle Section",{"$f":"COUNTIF(Q$5:Q394, Q394 )","v":1},{"$f":"_xlfn.IFS(D$2=X$4, X394, D$2=Y$4, Y394,D$2=Z$4, Z394,D$2=AA$4, AA394)","v":0},10,{"$f":"IF(R394=1, _xlfn.IFNA(VLOOKUP(Q394, 'Allocation Change Graph'!BF$7:BG$20, 2, FALSE), 0), 0)","v":0},0.85,8.5,null,null,null,null,null,null,8,8,8,8,8,8,8,8,8,8,null,null,null,null,null,8,8]
[null,null,"University Wide","La Jolla Campus","West Campus",8980,8980,"P8980-1","B2","Reserved",null,null,"Yes","Yes",null,8980,"8980Reserved",{"$f":"COUNTIF(Q$5:Q395, Q395 )","v":1},{"$f":"_xlfn.IFS(D$2=X$4, X395, D$2=Y$4, Y395,D$2=Z$4, Z395,D$2=AA$4, AA395)","v":0},5,{"$f":"IF(R395=1, _xlfn.IFNA(VLOOKUP(Q395, 'Allocation Change Graph'!BF$7:BG$20, 2, FALSE), 0), 0)","v":0},0.85,4.25,null,null,null,null,null,null,3,4,3,3,3,3,3,3,2,2,null,null,null,null,null,2,4]
[null,null,"University Wide","La Jolla Campus","West Campus",8980,8980,"P8980-1","B2","S",null,null,"Yes","Yes","Yes",8980,"8980S",{"$f":"COUNTIF(Q$5:Q396, Q396 )","v":1},{"$f":"_xlfn.IFS(D$2=X$4, X396, D$2=Y$4, Y396,D$2=Z$4, Z396,D$2=AA$4, AA396)","v":57},98,{"$f":"IF(R396=1, _xlfn.IFNA(VLOOKUP(Q396, 'Allocation Change Graph'!BF$7:BG$20, 2, FALSE), 0), 0)","v":0},0.9,88.2,null,57,57,null,null,null,51,49,48,47,44,47,46,51,55,57,null,null,null,null,null,44,57]
[null,null,"University Wide","La Jolla Campus","West Campus",8980,8980,"P8980-1","B2","UC Cart",null,null,"Yes","Yes",null,8980,"8980UC Cart",{"$f":"COUNTIF(Q$5:Q397, Q397 )","v":1},{"$f":"_xlfn.IFS(D$2=X$4, X397, D$2=Y$4, Y397,D$2=Z$4, Z397,D$2=AA$4, AA397)","v":0},1,{"$f":"IF(R397=1, _xlfn.IFNA(VLOOKUP(Q397, 'Allocation Change Graph'!BF$7:BG$20, 2, FALSE), 0), 0)","v":0},0.85,0.85,null,null,null,null,null,null,0,0,0,0,0,0,0,0,0,0,null,null,null,null,null,0,0]
[null,null,"University Wide","La Jolla Campus","West Campus",8980,8980,"P8980-1","B2","UC Vehicle",null,null,"Yes","Yes",null,8980,"8980UC Vehicle",{"$f":"COUNTIF(Q$5:Q398, Q398 )","v":1},{"$f":"_xlfn.IFS(D$2=X$4, X398, D$2=Y$4, Y398,D$2=Z$4, Z398,D$2=AA$4, AA398)","v":0},1,{"$f":"IF(R398=1, _xlfn.IFNA(VLOOKUP(Q398, 'Allocation Change Graph'!BF$7:BG$20, 2, FALSE), 0), 0)","v":0},0.85,0.85,null,null,null,null,null,null,0,0,0,0,0,0,0,0,0,0,null,null,null,null,null,0,0]
[null,null,"University Wide","La Jolla Campus","West Campus",8980,8980,"P8980-1","B2","Visitor",null,null,"Yes","Yes","Yes",8980,"8980Visitor",{"$f":"COUNTIF(Q$5:Q399, Q399 )","v":1},{"$f":"_xlfn.IFS(D$2=X$4, X399, D$2=Y$4, Y399,D$2=Z$4, Z399,D$2=AA$4, AA399)","v":0},52,{"$f":"IF(R399=1, _xlfn.IFNA(VLOOKUP(Q399, 'Allocation Change Graph'!BF$7:BG$20, 2, FALSE), 0), 0)","v":0},0.85,44.199999999999996,null,null,null,null,null,null,13,13,12,10,9,9,11,12,13,13,null,null,null,null,null,9,13]
[null,null,"University Wide","La Jolla Campus","West Campus",8980,8980,"P8980-2","B1","A",null,null,"Yes",null,null,8980,"8980A",{"$f":"COUNTIF(Q$5:Q400, Q400 )","v":2},{"$f":"_xlfn.IFS(D$2=X$4, X400, D$2=Y$4, Y400,D$2=Z$4, Z400,D$2=AA$4, AA400)","v":26},"",{"$f":"IF(R400=1, _xlfn.IFNA(VLOOKUP(Q400, 'Allocation Change Graph'!BF$7:BG$20, 2, FALSE), 0), 0)","v":0},null,"",null,26,26,null,null,null,null,null,null,null,null,null,null,null,null,null,null,null,null,null,null,0,0]
[null,null,"University Wide","La Jolla Campus","West Campus",8980,8980,"P8980-2","B1","Accessible",null,null,"Yes",null,null,8980,"8980Accessible",{"$f":"COUNTIF(Q$5:Q401, Q401 )","v":2},{"$f":"_xlfn.IFS(D$2=X$4, X401, D$2=Y$4, Y401,D$2=Z$4, Z401,D$2=AA$4, AA401)","v":0},"",{"$f":"IF(R401=1, _xlfn.IFNA(VLOOKUP(Q401, 'Allocation Change Graph'!BF$7:BG$20, 2, FALSE), 0), 0)","v":0},null,"",null,null,null,null,null,null,null,null,null,null,null,null,null,null,null,null,null,null,null,null,null,0,0]
[null,null,"University Wide","La Jolla Campus","West Campus",8980,8980,"P8980-2","B1","Accessible (Van)",null,null,"Yes",null,null,8980,"8980Accessible (Van)",{"$f":"COUNTIF(Q$5:Q402, Q402 )","v":2},{"$f":"_xlfn.IFS(D$2=X$4, X402, D$2=Y$4, Y402,D$2=Z$4, Z402,D$2=AA$4, AA402)","v":0},"",{"$f":"IF(R402=1, _xlfn.IFNA(VLOOKUP(Q402, 'Allocation Change Graph'!BF$7:BG$20, 2, FALSE), 0), 0)","v":0},null,"",null,null,null,null,null,null,null,null,null,null,null,null,null,null,null,null,null,null,null,null,null,0,0]
[null,null,"University Wide","La Jolla Campus","West Campus",8980,8980,"P8980-2","B1","B",null,null,"Yes",null,null,8980,"8980B",{"$f":"COUNTIF(Q$5:Q403, Q403 )","v":2},{"$f":"_xlfn.IFS(D$2=X$4, X403, D$2=Y$4, Y403,D$2=Z$4, Z403,D$2=AA$4, AA403)","v":31},"",{"$f":"IF(R403=1, _xlfn.IFNA(VLOOKUP(Q403, 'Allocation Change Graph'!BF$7:BG$20, 2, FALSE), 0), 0)","v":0},null,"",null,31,31,null,null,null,null,null,null,null,null,null,null,null,null,null,null,null,null,null,null,0,0]
[null,null,"University Wide","La Jolla Campus","West Campus",8980,8980,"P8980-2","B1","Carpool",null,null,"Yes",null,null,8980,"8980Carpool",{"$f":"COUNTIF(Q$5:Q404, Q404 )","v":2},{"$f":"_xlfn.IFS(D$2=X$4, X404, D$2=Y$4, Y404,D$2=Z$4, Z404,D$2=AA$4, AA404)","v":0},"",{"$f":"IF(R404=1, _xlfn.IFNA(VLOOKUP(Q404, 'Allocation Change Graph'!BF$7:BG$20, 2, FALSE), 0), 0)","v":0},null,"",null,null,null,null,null,null,null,null,null,null,null,null,null,null,null,null,null,null,null,null,null,0,0]
[null,null,"University Wide","La Jolla Campus","West Campus",8980,8980,"P8980-2","B1","Electric Vehicle",null,null,"Yes",null,null,8980,"8980Electric Vehicle",{"$f":"COUNTIF(Q$5:Q405, Q405 )","v":2},{"$f":"_xlfn.IFS(D$2=X$4, X405, D$2=Y$4, Y405,D$2=Z$4, Z405,D$2=AA$4, AA405)","v":0},"",{"$f":"IF(R405=1, _xlfn.IFNA(VLOOKUP(Q405, 'Allocation Change Graph'!BF$7:BG$20, 2, FALSE), 0), 0)","v":0},null,"",null,null,null,null,null,null,null,null,null,null,null,null,null,null,null,null,null,null,null,null,null,0,0]
[null,null,"University Wide","La Jolla Campus","West Campus",8980,8980,"P8980-2","B1","Motorcycle Section",null,null,"Yes",null,null,8980,"8980Motorcycle Section",{"$f":"COUNTIF(Q$5:Q406, Q406 )","v":2},{"$f":"_xlfn.IFS(D$2=X$4, X406, D$2=Y$4, Y406,D$2=Z$4, Z406,D$2=AA$4, AA406)","v":0},"",{"$f":"IF(R406=1, _xlfn.IFNA(VLOOKUP(Q406, 'Allocation Change Graph'!BF$7:BG$20, 2, FALSE), 0), 0)","v":0},null,"",null,null,null,null,null,null,null,null,null,null,null,null,null,null,null,null,null,null,null,null,null,0,0]
[null,null,"University Wide","La Jolla Campus","West Campus",8980,8980,"P8980-2","B1","Reserved",null,null,"Yes",null,null,8980,"8980Reserved",{"$f":"COUNTIF(Q$5:Q407, Q407 )","v":2},{"$f":"_xlfn.IFS(D$2=X$4, X407, D$2=Y$4, Y407,D$2=Z$4, Z407,D$2=AA$4, AA407)","v":0},"",{"$f":"IF(R407=1, _xlfn.IFNA(VLOOKUP(Q407, 'Allocation Change Graph'!BF$7:BG$20, 2, FALSE), 0), 0)","v":0},null,"",null,null,null,null,null,null,null,null,null,null,null,null,null,null,null,null,null,null,null,null,null,0,0]
[null,null,"University Wide","La Jolla Campus","West Campus",8980,8980,"P8980-2","B1","S",null,null,"Yes",null,null,8980,"8980S",{"$f":"COUNTIF(Q$5:Q408, Q408 )","v":2},{"$f":"_xlfn.IFS(D$2=X$4, X408, D$2=Y$4, Y408,D$2=Z$4, Z408,D$2=AA$4, AA408)","v":0},"",{"$f":"IF(R408=1, _xlfn.IFNA(VLOOKUP(Q408, 'Allocation Change Graph'!BF$7:BG$20, 2, FALSE), 0), 0)","v":0},null,"",null,null,null,null,null,null,null,null,null,null,null,null,null,null,null,null,null,null,null,null,null,0,0]
[null,null,"University Wide","La Jolla Campus","West Campus",8980,8980,"P8980-2","B1","UC Cart",null,null,"Yes",null,null,8980,"8980UC Cart",{"$f":"COUNTIF(Q$5:Q409, Q409 )","v":2},{"$f":"_xlfn.IFS(D$2=X$4, X409, D$2=Y$4, Y409,D$2=Z$4, Z409,D$2=AA$4, AA409)","v":0},"",{"$f":"IF(R409=1, _xlfn.IFNA(VLOOKUP(Q409, 'Allocation Change Graph'!BF$7:BG$20, 2, FALSE), 0), 0)","v":0},null,"",null,null,null,null,null,null,null,null,null,null,null,null,null,null,null,null,null,null,null,null,null,0,0]
[null,null,"University Wide","La Jolla Campus","West Campus",8980,8980,"P8980-2","B1","UC Vehicle",null,null,"Yes",null,null,8980,"8980UC Vehicle",{"$f":"COUNTIF(Q$5:Q410, Q410 )","v":2},{"$f":"_xlfn.IFS(D$2=X$4, X410, D$2=Y$4, Y410,D$2=Z$4, Z410,D$2=AA$4, AA410)","v":0},"",{"$f":"IF(R410=1, _xlfn.IFNA(VLOOKUP(Q410, 'Allocation Change Graph'!BF$7:BG$20, 2, FALSE), 0), 0)","v":0},null,"",null,null,null,null,null,null,null,null,null,null,null,null,null,null,null,null,null,null,null,null,null,0,0]
[null,null,"University Wide","La Jolla Campus","West Campus",8980,8980,"P8980-2","B1","Visitor",null,null,"Yes",null,null,8980,"8980Visitor",{"$f":"COUNTIF(Q$5:Q411, Q411 )","v":2},{"$f":"_xlfn.IFS(D$2=X$4, X411, D$2=Y$4, Y411,D$2=Z$4, Z411,D$2=AA$4, AA411)","v":0},"",{"$f":"IF(R411=1, _xlfn.IFNA(VLOOKUP(Q411, 'Allocation Change Graph'!BF$7:BG$20, 2, FALSE), 0), 0)","v":0},null,"",null,null,null,null,null,null,null,null,null,null,null,null,null,null,null,null,null,null,null,null,null,0,0]
[null,null,"University Wide","La Jolla Campus","West Campus",8980,8980,"P8980-3","Ground Floor","A",null,null,"Yes",null,null,8980,"8980A",{"$f":"COUNTIF(Q$5:Q412, Q412 )","v":3},{"$f":"_xlfn.IFS(D$2=X$4, X412, D$2=Y$4, Y412,D$2=Z$4, Z412,D$2=AA$4, AA412)","v":0},"",{"$f":"IF(R412=1, _xlfn.IFNA(VLOOKUP(Q412, 'Allocation Change Graph'!BF$7:BG$20, 2, FALSE), 0), 0)","v":0},null,"",null,18,0,null,null,null,null,null,null,null,null,null,null,null,null,null,null,null,null,null,null,0,0]
[null,null,"University Wide","La Jolla Campus","West Campus",8980,8980,"P8980-3","Ground Floor","Accessible",null,null,"Yes",null,null,8980,"8980Accessible",{"$f":"COUNTIF(Q$5:Q413, Q413 )","v":3},{"$f":"_xlfn.IFS(D$2=X$4, X413, D$2=Y$4, Y413,D$2=Z$4, Z413,D$2=AA$4, AA413)","v":7},"",{"$f":"IF(R413=1, _xlfn.IFNA(VLOOKUP(Q413, 'Allocation Change Graph'!BF$7:BG$20, 2, FALSE), 0), 0)","v":0},null,"",null,7,7,null,null,null,null,null,null,null,null,null,null,null,null,null,null,null,null,null,null,0,0]
[null,null,"University Wide","La Jolla Campus","West Campus",8980,8980,"P8980-3","Ground Floor","Accessible (Van)",null,null,"Yes",null,null,8980,"8980Accessible (Van)",{"$f":"COUNTIF(Q$5:Q414, Q414 )","v":3},{"$f":"_xlfn.IFS(D$2=X$4, X414, D$2=Y$4, Y414,D$2=Z$4, Z414,D$2=AA$4, AA414)","v":0},"",{"$f":"IF(R414=1, _xlfn.IFNA(VLOOKUP(Q414, 'Allocation Change Graph'!BF$7:BG$20, 2, FALSE), 0), 0)","v":0},null,"",null,null,null,null,null,null,null,null,null,null,null,null,null,null,null,null,null,null,null,null,null,0,0]
[null,null,"University Wide","La Jolla Campus","West Campus",8980,8980,"P8980-3","Ground Floor","B",null,null,"Yes",null,null,8980,"8980B",{"$f":"COUNTIF(Q$5:Q415, Q415 )","v":3},{"$f":"_xlfn.IFS(D$2=X$4, X415, D$2=Y$4, Y415,D$2=Z$4, Z415,D$2=AA$4, AA415)","v":2},"",{"$f":"IF(R415=1, _xlfn.IFNA(VLOOKUP(Q415, 'Allocation Change Graph'!BF$7:BG$20, 2, FALSE), 0), 0)","v":0},null,"",null,2,2,null,null,null,null,null,null,null,null,null,null,null,null,null,null,null,null,null,null,0,0]
[null,null,"University Wide","La Jolla Campus","West Campus",8980,8980,"P8980-3","Ground Floor","Carpool",null,null,"Yes",null,null,8980,"8980Carpool",{"$f":"COUNTIF(Q$5:Q416, Q416 )","v":3},{"$f":"_xlfn.IFS(D$2=X$4, X416, D$2=Y$4, Y416,D$2=Z$4, Z416,D$2=AA$4, AA416)","v":0},"",{"$f":"IF(R416=1, _xlfn.IFNA(VLOOKUP(Q416, 'Allocation Change Graph'!BF$7:BG$20, 2, FALSE), 0), 0)","v":0},null,"",null,null,null,null,null,null,null,null,null,null,null,null,null,null,null,null,null,null,null,null,null,0,0]
[null,null,"University Wide","La Jolla Campus","West Campus",8980,8980,"P8980-3","Ground Floor","Electric Vehicle",null,null,"Yes",null,null,8980,"8980Electric Vehicle",{"$f":"COUNTIF(Q$5:Q417, Q417 )","v":3},{"$f":"_xlfn.IFS(D$2=X$4, X417, D$2=Y$4, Y417,D$2=Z$4, Z417,D$2=AA$4, AA417)","v":12},"",{"$f":"IF(R417=1, _xlfn.IFNA(VLOOKUP(Q417, 'Allocation Change Graph'!BF$7:BG$20, 2, FALSE), 0), 0)","v":0},null,"",null,12,12,null,null,null,null,null,null,null,null,null,null,null,null,null,null,null,null,null,null,0,0]
[null,null,"University Wide","La Jolla Campus","West Campus",8980,8980,"P8980-3","Ground Floor","Motorcycle Section",null,null,"Yes",null,null,8980,"8980Motorcycle Section",{"$f":"COUNTIF(Q$5:Q418, Q418 )","v":3},{"$f":"_xlfn.IFS(D$2=X$4, X418, D$2=Y$4, Y418,D$2=Z$4, Z418,D$2=AA$4, AA418)","v":10},"",{"$f":"IF(R418=1, _xlfn.IFNA(VLOOKUP(Q418, 'Allocation Change Graph'!BF$7:BG$20, 2, FALSE), 0), 0)","v":0},null,"",null,10,10,null,null,null,null,null,null,null,null,null,null,null,null,null,null,null,null,null,null,0,0]
[null,null,"University Wide","La Jolla Campus","West Campus",8980,8980,"P8980-3","Ground Floor","Reserved",null,null,"Yes",null,null,8980,"8980Reserved",{"$f":"COUNTIF(Q$5:Q419, Q419 )","v":3},{"$f":"_xlfn.IFS(D$2=X$4, X419, D$2=Y$4, Y419,D$2=Z$4, Z419,D$2=AA$4, AA419)","v":0},"",{"$f":"IF(R419=1, _xlfn.IFNA(VLOOKUP(Q419, 'Allocation Change Graph'!BF$7:BG$20, 2, FALSE), 0), 0)","v":0},null,"",null,null,null,null,null,null,null,null,null,null,null,null,null,null,null,null,null,null,null,null,null,0,0]
[null,null,"University Wide","La Jolla Campus","West Campus",8980,8980,"P8980-3","Ground Floor","S",null,null,"Yes",null,null,8980,"8980S",{"$f":"COUNTIF(Q$5:Q420, Q420 )","v":3},{"$f":"_xlfn.IFS(D$2=X$4, X420, D$2=Y$4, Y420,D$2=Z$4, Z420,D$2=AA$4, AA420)","v":0},"",{"$f":"IF(R420=1, _xlfn.IFNA(VLOOKUP(Q420, 'Allocation Change Graph'!BF$7:BG$20, 2, FALSE), 0), 0)","v":0},null,"",null,null,null,null,null,null,null,null,null,null,null,null,null,null,null,null,null,null,null,null,null,0,0]
[null,null,"University Wide","La Jolla Campus","West Campus",8980,8980,"P8980-3","Ground Floor","UC Cart",null,null,"Yes",null,null,8980,"8980UC Cart",{"$f":"COUNTIF(Q$5:Q421, Q421 )","v":3},{"$f":"_xlfn.IFS(D$2=X$4, X421, D$2=Y$4, Y421,D$2=Z$4, Z421,D$2=AA$4, AA421)","v":0},"",{"$f":"IF(R421=1, _xlfn.IFNA(VLOOKUP(Q421, 'Allocation Change Graph'!BF$7:BG$20, 2, FALSE), 0), 0)","v":0},null,"",null,null,null,null,null,null,null,null,null,null,null,null,null,null,null,null,null,null,null,null,null,0,0]
[null,null,"University Wide","La Jolla Campus","West Campus",8980,8980,"P8980-3","Ground Floor","UC Vehicle",null,null,"Yes",null,null,8980,"8980UC Vehicle",{"$f":"COUNTIF(Q$5:Q422, Q422 )","v":3},{"$f":"_xlfn.IFS(D$2=X$4, X422, D$2=Y$4, Y422,D$2=Z$4, Z422,D$2=AA$4, AA422)","v":0},"",{"$f":"IF(R422=1, _xlfn.IFNA(VLOOKUP(Q422, 'Allocation Change Graph'!BF$7:BG$20, 2, FALSE), 0), 0)","v":0},null,"",null,null,null,null,null,null,null,null,null,null,null,null,null,null,null,null,null,null,null,null,null,0,0]
[null,null,"University Wide","La Jolla Campus","West Campus",8980,8980,"P8980-3","Ground Floor","Visitor",null,null,"Yes",null,null,8980,"8980Visitor",{"$f":"COUNTIF(Q$5:Q423, Q423 )","v":3},{"$f":"_xlfn.IFS(D$2=X$4, X423, D$2=Y$4, Y423,D$2=Z$4, Z423,D$2=AA$4, AA423)","v":18},"",{"$f":"IF(R423=1, _xlfn.IFNA(VLOOKUP(Q423, 'Allocation Change Graph'!BF$7:BG$20, 2, FALSE), 0), 0)","v":0},null,"",null,null,18,null,null,null,null,null,null,null,null,null,null,null,null,null,null,null,null,null,null,0,0]
[null,null,"University Wide","La Jolla Campus","West Campus",8980,8980,"P8980-4","L2","A",null,null,"Yes",null,null,8980,"8980A",{"$f":"COUNTIF(Q$5:Q424, Q424 )","v":4},{"$f":"_xlfn.IFS(D$2=X$4, X424, D$2=Y$4, Y424,D$2=Z$4, Z424,D$2=AA$4, AA424)","v":0},"",{"$f":"IF(R424=1, _xlfn.IFNA(VLOOKUP(Q424, 'Allocation Change Graph'!BF$7:BG$20, 2, FALSE), 0), 0)","v":0},null,"",null,0,null,null,null,null,null,null,null,null,null,null,null,null,null,null,null,null,null,null,null,0,0]
[null,null,"University Wide","La Jolla Campus","West Campus",8980,8980,"P8980-4","L2","Accessible",null,null,"Yes",null,null,8980,"8980Accessible",{"$f":"COUNTIF(Q$5:Q425, Q425 )","v":4},{"$f":"_xlfn.IFS(D$2=X$4, X425, D$2=Y$4, Y425,D$2=Z$4, Z425,D$2=AA$4, AA425)","v":0},"",{"$f":"IF(R425=1, _xlfn.IFNA(VLOOKUP(Q425, 'Allocation Change Graph'!BF$7:BG$20, 2, FALSE), 0), 0)","v":0},null,"",null,null,null,null,null,null,null,null,null,null,null,null,null,null,null,null,null,null,null,null,null,0,0]
[null,null,"University Wide","La Jolla Campus","West Campus",8980,8980,"P8980-4","L2","Accessible (Van)",null,null,"Yes",null,null,8980,"8980Accessible (Van)",{"$f":"COUNTIF(Q$5:Q426, Q426 )","v":4},{"$f":"_xlfn.IFS(D$2=X$4, X426, D$2=Y$4, Y426,D$2=Z$4, Z426,D$2=AA$4, AA426)","v":0},"",{"$f":"IF(R426=1, _xlfn.IFNA(VLOOKUP(Q426, 'Allocation Change Graph'!BF$7:BG$20, 2, FALSE), 0), 0)","v":0},null,"",null,null,null,null,null,null,null,null,null,null,null,null,null,null,null,null,null,null,null,null,null,0,0]
[null,null,"University Wide","La Jolla Campus","West Campus",8980,8980,"P8980-4","L2","B",null,null,"Yes",null,null,8980,"8980B",{"$f":"COUNTIF(Q$5:Q427, Q427 )","v":4},{"$f":"_xlfn.IFS(D$2=X$4, X427, D$2=Y$4, Y427,D$2=Z$4, Z427,D$2=AA$4, AA427)","v":0},"",{"$f":"IF(R427=1, _xlfn.IFNA(VLOOKUP(Q427, 'Allocation Change Graph'!BF$7:BG$20, 2, FALSE), 0), 0)","v":0},null,"",null,40,0,null,null,null,null,null,null,null,null,null,null,null,null,null,null,null,null,null,null,0,0]
[null,null,"University Wide","La Jolla Campus","West Campus",8980,8980,"P8980-4","L2","Carpool",null,null,"Yes",null,null,8980,"8980Carpool",{"$f":"COUNTIF(Q$5:Q428, Q428 )","v":4},{"$f":"_xlfn.IFS(D$2=X$4, X428, D$2=Y$4, Y428,D$2=Z$4, Z428,D$2=AA$4, AA428)","v":19},"",{"$f":"IF(R428=1, _xlfn.IFNA(VLOOKUP(Q428, 'Allocation Change Graph'!BF$7:BG$20, 2, FALSE), 0), 0)","v":0},null,"",null,null,19,null,null,null,null,null,null,null,null,null,null,null,null,null,null,null,null,null,null,0,0]
[null,null,"University Wide","La Jolla Campus","West Campus",8980,8980,"P8980-4","L2","Electric Vehicle",null,null,"Yes",null,null,8980,"8980Electric Vehicle",{"$f":"COUNTIF(Q$5:Q429, Q429 )","v":4},{"$f":"_xlfn.IFS(D$2=X$4, X429, D$2=Y$4, Y429,D$2=Z$4, Z429,D$2=AA$4, AA429)","v":6},"",{"$f":"IF(R429=1, _xlfn.IFNA(VLOOKUP(Q429, 'Allocation Change Graph'!BF$7:BG$20, 2, FALSE), 0), 0)","v":0},null,"",null,6,6,null,null,null,null,null,null,null,null,null,null,null,null,null,null,null,null,null,null,0,0]
[null,null,"University Wide","La Jolla Campus","West Campus",8980,8980,"P8980-4","L2","Motorcycle Section",null,null,"Yes",null,null,8980,"8980Motorcycle Section",{"$f":"COUNTIF(Q$5:Q430, Q430 )","v":4},{"$f":"_xlfn.IFS(D$2=X$4, X430, D$2=Y$4, Y430,D$2=Z$4, Z430,D$2=AA$4, AA430)","v":0},"",{"$f":"IF(R430=1, _xlfn.IFNA(VLOOKUP(Q430, 'Allocation Change Graph'!BF$7:BG$20, 2, FALSE), 0), 0)","v":0},null,"",null,null,null,null,null,null,null,null,null,null,null,null,null,null,null,null,null,null,null,null,null,0,0]
[null,null,"University Wide","La Jolla Campus","West Campus",8980,8980,"P8980-4","L2","Reserved",null,null,"Yes",null,null,8980,"8980Reserved",{"$f":"COUNTIF(Q$5:Q431, Q431 )","v":4},{"$f":"_xlfn.IFS(D$2=X$4, X431, D$2=Y$4, Y431,D$2=Z$4, Z431,D$2=AA$4, AA431)","v":5},"",{"$f":"IF(R431=1, _xlfn.IFNA(VLOOKUP(Q431, 'Allocation Change Graph'!BF$7:BG$20, 2, FALSE), 0), 0)","v":0},null,"",null,5,5,null,null,null,null,null,null,null,null,null,null,null,null,null,null,null,null,null,null,0,0]
[null,null,"University Wide","La Jolla Campus","West Campus",8980,8980,"P8980-4","L2","S",null,null,"Yes",null,null,8980,"8980S",{"$f":"COUNTIF(Q$5:Q432, Q432 )","v":4},{"$f":"_xlfn.IFS(D$2=X$4, X432, D$2=Y$4, Y432,D$2=Z$4, Z432,D$2=AA$4, AA432)","v":0},"",{"$f":"IF(R432=1, _xlfn.IFNA(VLOOKUP(Q432, 'Allocation Change Graph'!BF$7:BG$20, 2, FALSE), 0), 0)","v":0},null,"",null,null,null,null,null,null,null,null,null,null,null,null,null,null,null,null,null,null,null,null,null,0,0]
[null,null,"University Wide","La Jolla Campus","West Campus",8980,8980,"P8980-4","L2","UC Cart",null,null,"Yes",null,null,8980,"8980UC Cart",{"$f":"COUNTIF(Q$5:Q433, Q433 )","v":4},{"$f":"_xlfn.IFS(D$2=X$4, X433, D$2=Y$4, Y433,D$2=Z$4, Z433,D$2=AA$4, AA433)","v":1},"",{"$f":"IF(R433=1, _xlfn.IFNA(VLOOKUP(Q433, 'Allocation Change Graph'!BF$7:BG$20, 2, FALSE), 0), 0)","v":0},null,"",null,1,1,null,null,null,null,null,null,null,null,null,null,null,null,null,null,null,null,null,null,0,0]
[null,null,"University Wide","La Jolla Campus","West Campus",8980,8980,"P8980-4","L2","UC Vehicle",null,null,"Yes",null,null,8980,"8980UC Vehicle",{"$f":"COUNTIF(Q$5:Q434, Q434 )","v":4},{"$f":"_xlfn.IFS(D$2=X$4, X434, D$2=Y$4, Y434,D$2=Z$4, Z434,D$2=AA$4, AA434)","v":1},"",{"$f":"IF(R434=1, _xlfn.IFNA(VLOOKUP(Q434, 'Allocation Change Graph'!BF$7:BG$20, 2, FALSE), 0), 0)","v":0},null,"",null,1,1,null,null,null,null,null,null,null,null,null,null,null,null,null,null,null,null,null,null,0,0]
[null,null,"University Wide","La Jolla Campus","West Campus",8980,8980,"P8980-4","L2","Visitor",null,null,"Yes",null,null,8980,"8980Visitor",{"$f":"COUNTIF(Q$5:Q435, Q435 )","v":4},{"$f":"_xlfn.IFS(D$2=X$4, X435, D$2=Y$4, Y435,D$2=Z$4, Z435,D$2=AA$4, AA435)","v":21},"",{"$f":"IF(R435=1, _xlfn.IFNA(VLOOKUP(Q435, 'Allocation Change Graph'!BF$7:BG$20, 2, FALSE), 0), 0)","v":0},null,"",null,null,21,null,null,null,null,null,null,null,null,null,null,null,null,null,null,null,null,null,null,0,0]
[null,null,"University Wide","La Jolla Campus","West Campus",8980,8980,"P8980-S","Ground","Accessible",null,null,"Yes",null,null,8980,"8980Accessible",{"$f":"COUNTIF(Q$5:Q436, Q436 )","v":5},{"$f":"_xlfn.IFS(D$2=X$4, X436, D$2=Y$4, Y436,D$2=Z$4, Z436,D$2=AA$4, AA436)","v":2},"",{"$f":"IF(R436=1, _xlfn.IFNA(VLOOKUP(Q436, 'Allocation Change Graph'!BF$7:BG$20, 2, FALSE), 0), 0)","v":0},null,"",null,2,2,null,null,null,null,null,null,null,null,null,null,null,null,null,null,null,null,null,null,0,0]
[null,null,"University Wide","La Jolla Campus","West Campus",8980,8980,"P8980-S","Ground","S",null,null,"Yes",null,null,8980,"8980S",{"$f":"COUNTIF(Q$5:Q437, Q437 )","v":5},{"$f":"_xlfn.IFS(D$2=X$4, X437, D$2=Y$4, Y437,D$2=Z$4, Z437,D$2=AA$4, AA437)","v":41},"",{"$f":"IF(R437=1, _xlfn.IFNA(VLOOKUP(Q437, 'Allocation Change Graph'!BF$7:BG$20, 2, FALSE), 0), 0)","v":0},null,"",null,41,41,null,null,null,null,null,null,null,null,null,null,null,null,null,null,null,null,null,null,0,0]
[null,null,"University Wide","La Jolla Campus","West Campus",8980,8980,"P8980-S","Ground","Visitor","Loading",20,"Yes","Yes","Yes",8980,"8980VisitorLoading20",{"$f":"COUNTIF(Q$5:Q438, Q438 )","v":1},{"$f":"_xlfn.IFS(D$2=X$4, X438, D$2=Y$4, Y438,D$2=Z$4, Z438,D$2=AA$4, AA438)","v":4},4,{"$f":"IF(R438=1, _xlfn.IFNA(VLOOKUP(Q438, 'Allocation Change Graph'!BF$7:BG$20, 2, FALSE), 0), 0)","v":0},0.85,3.4,null,4,4,null,null,null,null,null,null,null,null,null,null,null,null,null,null,null,null,null,null,0,0]
[null,null,"University Wide","La Jolla Campus","West Campus",8980,8980,"P8980-S","Ground","Visitor",null,null,"Yes",null,null,8980,"8980Visitor",{"$f":"COUNTIF(Q$5:Q439, Q439 )","v":5},{"$f":"_xlfn.IFS(D$2=X$4, X439, D$2=Y$4, Y439,D$2=Z$4, Z439,D$2=AA$4, AA439)","v":13},"",{"$f":"IF(R439=1, _xlfn.IFNA(VLOOKUP(Q439, 'Allocation Change Graph'!BF$7:BG$20, 2, FALSE), 0), 0)","v":0},null,"",null,13,13,null,null,null,null,null,null,null,null,null,null,null,null,null,null,null,null,null,null,0,0]
[null,null,"University Wide","La Jolla Campus","West Campus","University Center","Gilman","P451","Basement","Accessible",null,null,"Yes","Yes",null,"Gilman","GilmanAccessible",{"$f":"COUNTIF(Q$5:Q440, Q440 )","v":1},{"$f":"_xlfn.IFS(D$2=X$4, X440, D$2=Y$4, Y440,D$2=Z$4, Z440,D$2=AA$4, AA440)","v":11},32,{"$f":"IF(R440=1, _xlfn.IFNA(VLOOKUP(Q440, 'Allocation Change Graph'!BF$7:BG$20, 2, FALSE), 0), 0)","v":0},0.85,27.2,null,null,11,null,null,null,0,0,0,0,0,2,0,3,3,4,null,null,null,null,null,0,4]
[null,null,"University Wide","La Jolla Campus","West Campus","University Center","Gilman","P451","Basement","Accessible (Van)",null,null,"Yes","Yes",null,"Gilman","GilmanAccessible (Van)",{"$f":"COUNTIF(Q$5:Q441, Q441 )","v":1},{"$f":"_xlfn.IFS(D$2=X$4, X441, D$2=Y$4, Y441,D$2=Z$4, Z441,D$2=AA$4, AA441)","v":4},10,{"$f":"IF(R441=1, _xlfn.IFNA(VLOOKUP(Q441, 'Allocation Change Graph'!BF$7:BG$20, 2, FALSE), 0), 0)","v":0},0.85,8.5,null,null,4,null,null,null,0,0,0,0,1,0,0,0,0,2,null,null,null,null,null,0,2]
[null,null,"University Wide","La Jolla Campus","West Campus","University Center","Gilman","P451","Basement","Reserved","Credit Union Member",null,"Yes","Yes",null,"Gilman","GilmanReservedCredit Union Member",{"$f":"COUNTIF(Q$5:Q442, Q442 )","v":1},{"$f":"_xlfn.IFS(D$2=X$4, X442, D$2=Y$4, Y442,D$2=Z$4, Z442,D$2=AA$4, AA442)","v":10},10,{"$f":"IF(R442=1, _xlfn.IFNA(VLOOKUP(Q442, 'Allocation Change Graph'!BF$7:BG$20, 2, FALSE), 0), 0)","v":0},0.85,8.5,null,null,10,null,null,null,10,9,8,7,8,8,7,9,8,10,null,null,null,null,null,7,10]
[null,null,"University Wide","La Jolla Campus","West Campus","University Center","Gilman","P451","Basement","Reserved","Credit Union Staff",null,"Yes","Yes",null,"Gilman","GilmanReservedCredit Union Staff",{"$f":"COUNTIF(Q$5:Q443, Q443 )","v":1},{"$f":"_xlfn.IFS(D$2=X$4, X443, D$2=Y$4, Y443,D$2=Z$4, Z443,D$2=AA$4, AA443)","v":10},10,{"$f":"IF(R443=1, _xlfn.IFNA(VLOOKUP(Q443, 'Allocation Change Graph'!BF$7:BG$20, 2, FALSE), 0), 0)","v":0},0.85,8.5,null,null,10,null,null,null,10,7,4,5,3,4,6,3,4,4,null,null,null,null,null,3,10]
[null,null,"University Wide","La Jolla Campus","West Campus","University Center","Gilman","P451","Basement","Reserved","Target",null,"Yes","Yes",null,"Gilman","GilmanReservedTarget",{"$f":"COUNTIF(Q$5:Q444, Q444 )","v":1},{"$f":"_xlfn.IFS(D$2=X$4, X444, D$2=Y$4, Y444,D$2=Z$4, Z444,D$2=AA$4, AA444)","v":7},7,{"$f":"IF(R444=1, _xlfn.IFNA(VLOOKUP(Q444, 'Allocation Change Graph'!BF$7:BG$20, 2, FALSE), 0), 0)","v":0},0.85,5.95,null,null,7,null,null,null,6,6,4,4,4,5,5,3,3,4,null,null,null,null,null,3,6]
[null,null,"University Wide","La Jolla Campus","West Campus","University Center","Gilman","P451","Basement","Reserved",null,null,"Yes","Yes",null,"Gilman","GilmanReserved",{"$f":"COUNTIF(Q$5:Q445, Q445 )","v":1},{"$f":"_xlfn.IFS(D$2=X$4, X445, D$2=Y$4, Y445,D$2=Z$4, Z445,D$2=AA$4, AA445)","v":9},13,{"$f":"IF(R445=1, _xlfn.IFNA(VLOOKUP(Q445, 'Allocation Change Graph'!BF$7:BG$20, 2, FALSE), 0), 0)","v":0},0.85,11.049999999999999,null,null,9,null,null,null,12,12,11,6,7,5,7,5,9,5,null,null,null,null,null,5,12]
[null,null,"University Wide","La Jolla Campus","West Campus","University Center","Gilman","P451","Basement","Reserved",null,null,"Yes",null,null,"Gilman","GilmanReserved",{"$f":"COUNTIF(Q$5:Q446, Q446 )","v":2},{"$f":"_xlfn.IFS(D$2=X$4, X446, D$2=Y$4, Y446,D$2=Z$4, Z446,D$2=AA$4, AA446)","v":1},"",{"$f":"IF(R446=1, _xlfn.IFNA(VLOOKUP(Q446, 'Allocation Change Graph'!BF$7:BG$20, 2, FALSE), 0), 0)","v":0},null,"",null,null,1,null,null,null,null,null,null,null,null,null,null,null,null,null,null,null,null,null,null,0,0]
[null,null,"University Wide","La Jolla Campus","West Campus","University Center","Gilman","P451","Basement","Visitor","2 hour","2 hour","Yes","Yes","Yes","Gilman","GilmanVisitor2 hour2 hour",{"$f":"COUNTIF(Q$5:Q447, Q447 )","v":1},{"$f":"_xlfn.IFS(D$2=X$4, X447, D$2=Y$4, Y447,D$2=Z$4, Z447,D$2=AA$4, AA447)","v":48},145,{"$f":"IF(R447=1, _xlfn.IFNA(VLOOKUP(Q447, 'Allocation Change Graph'!BF$7:BG$20, 2, FALSE), 0), 0)","v":0},0.85,123.25,null,null,48,null,null,null,73,55,30,10,10,7,12,16,27,29,null,null,null,null,null,7,73]
[null,null,"University Wide","La Jolla Campus","West Campus","University Center","Gilman","P451","Basement","Visitor",null,null,"Yes","Yes","Yes","Gilman","GilmanVisitor",{"$f":"COUNTIF(Q$5:Q448, Q448 )","v":1},{"$f":"_xlfn.IFS(D$2=X$4, X448, D$2=Y$4, Y448,D$2=Z$4, Z448,D$2=AA$4, AA448)","v":31},31,{"$f":"IF(R448=1, _xlfn.IFNA(VLOOKUP(Q448, 'Allocation Change Graph'!BF$7:BG$20, 2, FALSE), 0), 0)","v":0},0.85,26.349999999999998,null,null,31,null,null,null,19,23,21,18,5,6,4,11,14,17,null,null,null,null,null,4,23]
[null,null,"University Wide","La Jolla Campus","West Campus","University Center","Gilman","P452","Ground Floor (Gilman)","Accessible",null,null,"Yes",null,null,"Gilman","GilmanAccessible",{"$f":"COUNTIF(Q$5:Q449, Q449 )","v":2},{"$f":"_xlfn.IFS(D$2=X$4, X449, D$2=Y$4, Y449,D$2=Z$4, Z449,D$2=AA$4, AA449)","v":21},"",{"$f":"IF(R449=1, _xlfn.IFNA(VLOOKUP(Q449, 'Allocation Change Graph'!BF$7:BG$20, 2, FALSE), 0), 0)","v":0},null,"",null,null,21,null,null,null,null,null,null,null,null,null,null,null,null,null,null,null,null,null,null,0,0]
[null,null,"University Wide","La Jolla Campus","West Campus","University Center","Gilman","P452","Ground Floor (Gilman)","Accessible (Van)",null,null,"Yes",null,null,"Gilman","GilmanAccessible (Van)",{"$f":"COUNTIF(Q$5:Q450, Q450 )","v":2},{"$f":"_xlfn.IFS(D$2=X$4, X450, D$2=Y$4, Y450,D$2=Z$4, Z450,D$2=AA$4, AA450)","v":6},"",{"$f":"IF(R450=1, _xlfn.IFNA(VLOOKUP(Q450, 'Allocation Change Graph'!BF$7:BG$20, 2, FALSE), 0), 0)","v":0},null,"",null,null,6,null,null,null,null,null,null,null,null,null,null,null,null,null,null,null,null,null,null,0,0]
[null,null,"University Wide","La Jolla Campus","West Campus","University Center","Gilman","P452","Ground Floor (Gilman)","Electric Vehicle","ADA",null,"Yes","Yes",null,"Gilman","GilmanElectric VehicleADA",{"$f":"COUNTIF(Q$5:Q451, Q451 )","v":1},{"$f":"_xlfn.IFS(D$2=X$4, X451, D$2=Y$4, Y451,D$2=Z$4, Z451,D$2=AA$4, AA451)","v":1},1,{"$f":"IF(R451=1, _xlfn.IFNA(VLOOKUP(Q451, 'Allocation Change Graph'!BF$7:BG$20, 2, FALSE), 0), 0)","v":0},0.85,0.85,null,null,1,null,null,null,0,0,0,0,0,0,0,0,0,0,null,null,null,null,null,0,0]
[null,null,"University Wide","La Jolla Campus","West Campus","University Center","Gilman","P452","Ground Floor (Gilman)","Electric Vehicle",null,null,"Yes","Yes",null,"Gilman","GilmanElectric Vehicle",{"$f":"COUNTIF(Q$5:Q452, Q452 )","v":1},{"$f":"_xlfn.IFS(D$2=X$4, X452, D$2=Y$4, Y452,D$2=Z$4, Z452,D$2=AA$4, AA452)","v":7},32,{"$f":"IF(R452=1, _xlfn.IFNA(VLOOKUP(Q452, 'Allocation Change Graph'!BF$7:BG$20, 2, FALSE), 0), 0)","v":0},0.85,27.2,null,null,7,null,null,null,12,4,5,4,5,2,4,8,7,13,null,null,null,null,null,2,13]
[null,null,"University Wide","La Jolla Campus","West Campus","University Center","Gilman","P452","Ground Floor (Gilman)","Motorcycle Section",null,null,"Yes","Yes",null,{"$f":"IF(G453=\"Surface Lot\", H453, G453)","v":"Gilman"},{"$f":"P453&J453&K453&L453","v":"GilmanMotorcycle Section"},{"$f":"COUNTIF(Q$5:Q453, Q453 )","v":1},{"$f":"_xlfn.IFS(D$2=X$4, X453, D$2=Y$4, Y453,D$2=Z$4, Z453,D$2=AA$4, AA453)","v":12},{"$f":"IF(R453=1,SUMIF(Q:Q,Q453,S:S)+U453, \"\")","v":12},{"$f":"IF(R453=1, _xlfn.IFNA(VLOOKUP(Q453, 'Allocation Change Graph'!BF$7:BG$20, 2, FALSE), 0), 0)","v":0},0.85,{"$f":"IF(R453=1, V453*T453, \"\")","v":10.199999999999999},null,null,12,null,null,null,0,0,0,0,0,0,0,1,0,0,null,null,null,null,null,{"$f":"MIN($AB453:$AR453)+U453","v":0},{"$f":"MAX($AB453:$AR453)+U453","v":1}]
[null,null,"University Wide","La Jolla Campus","West Campus","University Center","Gilman","P452","Ground Floor (Gilman)","Reserved","Curbside",null,"Yes","Yes",null,"Gilman","GilmanReservedCurbside",{"$f":"COUNTIF(Q$5:Q454, Q454 )","v":1},{"$f":"_xlfn.IFS(D$2=X$4, X454, D$2=Y$4, Y454,D$2=Z$4, Z454,D$2=AA$4, AA454)","v":5},5,{"$f":"IF(R454=1, _xlfn.IFNA(VLOOKUP(Q454, 'Allocation Change Graph'!BF$7:BG$20, 2, FALSE), 0), 0)","v":0},0.85,4.25,null,null,5,null,null,null,5,5,5,4,3,4,5,3,4,5,null,null,null,null,null,3,5]
[null,null,"University Wide","La Jolla Campus","West Campus","University Center","Gilman","P452","Ground Floor (Gilman)","Reserved","Enterprise",null,"Yes","Yes",null,"Gilman","GilmanReservedEnterprise",{"$f":"COUNTIF(Q$5:Q455, Q455 )","v":1},{"$f":"_xlfn.IFS(D$2=X$4, X455, D$2=Y$4, Y455,D$2=Z$4, Z455,D$2=AA$4, AA455)","v":3},3,{"$f":"IF(R455=1, _xlfn.IFNA(VLOOKUP(Q455, 'Allocation Change Graph'!BF$7:BG$20, 2, FALSE), 0), 0)","v":0},0.85,2.5499999999999998,null,null,3,null,null,null,0,0,0,0,3,3,3,2,2,2,null,null,null,null,null,0,3]
[null,null,"University Wide","La Jolla Campus","West Campus","University Center","Gilman","P452","Ground Floor (Gilman)","Reserved",null,null,"Yes",null,null,"Gilman","GilmanReserved",{"$f":"COUNTIF(Q$5:Q456, Q456 )","v":3},{"$f":"_xlfn.IFS(D$2=X$4, X456, D$2=Y$4, Y456,D$2=Z$4, Z456,D$2=AA$4, AA456)","v":3},"",{"$f":"IF(R456=1, _xlfn.IFNA(VLOOKUP(Q456, 'Allocation Change Graph'!BF$7:BG$20, 2, FALSE), 0), 0)","v":0},null,"",null,null,3,null,null,null,null,null,null,null,null,null,null,null,null,null,null,null,null,null,null,0,0]
[null,null,"University Wide","La Jolla Campus","West Campus","University Center","Gilman","P452","Ground Floor (Gilman)","UC Vehicle","UC Cart",null,"Yes","Yes",null,"Gilman","GilmanUC VehicleUC Cart",{"$f":"COUNTIF(Q$5:Q457, Q457 )","v":1},{"$f":"_xlfn.IFS(D$2=X$4, X457, D$2=Y$4, Y457,D$2=Z$4, Z457,D$2=AA$4, AA457)","v":1},12,{"$f":"IF(R457=1, _xlfn.IFNA(VLOOKUP(Q457, 'Allocation Change Graph'!BF$7:BG$20, 2, FALSE), 0), 0)","v":0},0.85,10.199999999999999,null,null,1,null,null,null,3,4,4,5,3,3,4,7,7,6,null,null,null,null,null,3,7]
[null,null,"University Wide","La Jolla Campus","West Campus","University Center","Gilman","P452","Ground Floor (Gilman)","Visitor","2 hour","2 hour","Yes",null,null,"Gilman","GilmanVisitor2 hour2 hour",{"$f":"COUNTIF(Q$5:Q458, Q458 )","v":2},{"$f":"_xlfn.IFS(D$2=X$4, X458, D$2=Y$4, Y458,D$2=Z$4, Z458,D$2=AA$4, AA458)","v":60},"",{"$f":"IF(R458=1, _xlfn.IFNA(VLOOKUP(Q458, 'Allocation Change Graph'!BF$7:BG$20, 2, FALSE), 0), 0)","v":0},null,"",null,null,60,null,null,null,null,null,null,null,null,null,null,null,null,null,null,null,null,null,null,0,0]
[null,null,"University Wide","La Jolla Campus","West Campus","University Center","Gilman","P452","Ground Floor (Gilman)","Visitor",null,null,"Yes",null,null,"Gilman","GilmanVisitor",{"$f":"COUNTIF(Q$5:Q459, Q459 )","v":2},{"$f":"_xlfn.IFS(D$2=X$4, X459, D$2=Y$4, Y459,D$2=Z$4, Z459,D$2=AA$4, AA459)","v":0},"",{"$f":"IF(R459=1, _xlfn.IFNA(VLOOKUP(Q459, 'Allocation Change Graph'!BF$7:BG$20, 2, FALSE), 0), 0)","v":0},null,"",null,null,0,null,null,null,null,null,null,null,null,null,null,null,null,null,null,null,null,null,null,0,0]
[null,null,"University Wide","La Jolla Campus","West Campus","University Center","Gilman","P453","L2","A",null,null,"Yes","Yes","Yes","Gilman","GilmanA",{"$f":"COUNTIF(Q$5:Q460, Q460 )","v":1},{"$f":"_xlfn.IFS(D$2=X$4, X460, D$2=Y$4, Y460,D$2=Z$4, Z460,D$2=AA$4, AA460)","v":93},401,{"$f":"IF(R460=1, _xlfn.IFNA(VLOOKUP(Q460, 'Allocation Change Graph'!BF$7:BG$20, 2, FALSE), 0), 0)","v":0},0.9,360.90000000000003,null,null,93,null,null,null,281,236,160,105,86,76,63,97,115,151,null,null,null,null,null,63,281]
[null,null,"University Wide","La Jolla Campus","West Campus","University Center","Gilman","P453","L2","Electric Vehicle",null,null,"Yes",null,null,"Gilman","GilmanElectric Vehicle",{"$f":"COUNTIF(Q$5:Q461, Q461 )","v":2},{"$f":"_xlfn.IFS(D$2=X$4, X461, D$2=Y$4, Y461,D$2=Z$4, Z461,D$2=AA$4, AA461)","v":25},"",{"$f":"IF(R461=1, _xlfn.IFNA(VLOOKUP(Q461, 'Allocation Change Graph'!BF$7:BG$20, 2, FALSE), 0), 0)","v":0},null,"",null,null,25,null,null,null,null,null,null,null,null,null,null,null,null,null,null,null,null,null,null,0,0]
[null,null,"University Wide","La Jolla Campus","West Campus","University Center","Gilman","P453","L2","UC Vehicle","UC Cart",null,"Yes",null,null,"Gilman","GilmanUC VehicleUC Cart",{"$f":"COUNTIF(Q$5:Q462, Q462 )","v":2},{"$f":"_xlfn.IFS(D$2=X$4, X462, D$2=Y$4, Y462,D$2=Z$4, Z462,D$2=AA$4, AA462)","v":4},"",{"$f":"IF(R462=1, _xlfn.IFNA(VLOOKUP(Q462, 'Allocation Change Graph'!BF$7:BG$20, 2, FALSE), 0), 0)","v":0},null,"",null,null,4,null,null,null,null,null,null,null,null,null,null,null,null,null,null,null,null,null,null,0,0]
[null,null,"University Wide","La Jolla Campus","West Campus","University Center","Gilman","P453","L2","Visitor","2 hour","2 hour","Yes",null,null,"Gilman","GilmanVisitor2 hour2 hour",{"$f":"COUNTIF(Q$5:Q463, Q463 )","v":3},{"$f":"_xlfn.IFS(D$2=X$4, X463, D$2=Y$4, Y463,D$2=Z$4, Z463,D$2=AA$4, AA463)","v":37},"",{"$f":"IF(R463=1, _xlfn.IFNA(VLOOKUP(Q463, 'Allocation Change Graph'!BF$7:BG$20, 2, FALSE), 0), 0)","v":0},null,"",null,null,37,null,null,null,null,null,null,null,null,null,null,null,null,null,null,null,null,null,null,0,0]
[null,null,"University Wide","La Jolla Campus","West Campus","University Center","Gilman","P453","L2","Visitor",null,null,"Yes",null,null,"Gilman","GilmanVisitor",{"$f":"COUNTIF(Q$5:Q464, Q464 )","v":3},{"$f":"_xlfn.IFS(D$2=X$4, X464, D$2=Y$4, Y464,D$2=Z$4, Z464,D$2=AA$4, AA464)","v":0},"",{"$f":"IF(R464=1, _xlfn.IFNA(VLOOKUP(Q464, 'Allocation Change Graph'!BF$7:BG$20, 2, FALSE), 0), 0)","v":0},null,"",null,null,0,null,null,null,null,null,null,null,null,null,null,null,null,null,null,null,null,null,null,0,0]
[null,null,"University Wide","La Jolla Campus","West Campus","University Center","Gilman","P454","L3","A",null,null,"Yes",null,null,"Gilman","GilmanA",{"$f":"COUNTIF(Q$5:Q465, Q465 )","v":2},{"$f":"_xlfn.IFS(D$2=X$4, X465, D$2=Y$4, Y465,D$2=Z$4, Z465,D$2=AA$4, AA465)","v":153},"",{"$f":"IF(R465=1, _xlfn.IFNA(VLOOKUP(Q465, 'Allocation Change Graph'!BF$7:BG$20, 2, FALSE), 0), 0)","v":0},null,"",null,null,153,null,null,null,null,null,null,null,null,null,null,null,null,null,null,null,null,null,null,0,0]
[null,null,"University Wide","La Jolla Campus","West Campus","University Center","Gilman","P454","L3","UC Vehicle","UC Cart",null,"Yes",null,null,"Gilman","GilmanUC VehicleUC Cart",{"$f":"COUNTIF(Q$5:Q466, Q466 )","v":3},{"$f":"_xlfn.IFS(D$2=X$4, X466, D$2=Y$4, Y466,D$2=Z$4, Z466,D$2=AA$4, AA466)","v":4},"",{"$f":"IF(R466=1, _xlfn.IFNA(VLOOKUP(Q466, 'Allocation Change Graph'!BF$7:BG$20, 2, FALSE), 0), 0)","v":0},null,"",null,null,4,null,null,null,null,null,null,null,null,null,null,null,null,null,null,null,null,null,null,0,0]
[null,null,"University Wide","La Jolla Campus","West Campus","University Center","Gilman","P455","L4","A",null,null,"Yes",null,null,"Gilman","GilmanA",{"$f":"COUNTIF(Q$5:Q467, Q467 )","v":3},{"$f":"_xlfn.IFS(D$2=X$4, X467, D$2=Y$4, Y467,D$2=Z$4, Z467,D$2=AA$4, AA467)","v":155},"",{"$f":"IF(R467=1, _xlfn.IFNA(VLOOKUP(Q467, 'Allocation Change Graph'!BF$7:BG$20, 2, FALSE), 0), 0)","v":0},null,"",null,null,155,null,null,null,null,null,null,null,null,null,null,null,null,null,null,null,null,null,null,0,0]
[null,null,"University Wide","La Jolla Campus","West Campus","University Center","Gilman","P455","L4","UC Vehicle","UC Cart",null,"Yes",null,null,"Gilman","GilmanUC VehicleUC Cart",{"$f":"COUNTIF(Q$5:Q468, Q468 )","v":4},{"$f":"_xlfn.IFS(D$2=X$4, X468, D$2=Y$4, Y468,D$2=Z$4, Z468,D$2=AA$4, AA468)","v":3},"",{"$f":"IF(R468=1, _xlfn.IFNA(VLOOKUP(Q468, 'Allocation Change Graph'!BF$7:BG$20, 2, FALSE), 0), 0)","v":0},null,"",null,null,3,null,null,null,null,null,null,null,null,null,null,null,null,null,null,null,null,null,null,0,0]
[null,null,"University Wide","La Jolla Campus","West Campus","University Center","Gilman","P456","Roof","B",null,null,"Yes","Yes","Yes","Gilman","GilmanB",{"$f":"COUNTIF(Q$5:Q469, Q469 )","v":1},{"$f":"_xlfn.IFS(D$2=X$4, X469, D$2=Y$4, Y469,D$2=Z$4, Z469,D$2=AA$4, AA469)","v":123},123,{"$f":"IF(R469=1, _xlfn.IFNA(VLOOKUP(Q469, 'Allocation Change Graph'!BF$7:BG$20, 2, FALSE), 0), 0)","v":0},0.9,110.7,null,null,123,null,null,null,0,0,0,0,0,0,9,17,22,25,null,null,null,null,null,0,25]
[null,null,"University Wide","La Jolla Campus","West Campus","Roosevelt College","Hopkins","P341","B2","Motorcycle Section",null,null,"Yes","Yes",null,"Hopkins","HopkinsMotorcycle Section",{"$f":"COUNTIF(Q$5:Q470, Q470 )","v":1},{"$f":"_xlfn.IFS(D$2=X$4, X470, D$2=Y$4, Y470,D$2=Z$4, Z470,D$2=AA$4, AA470)","v":7},21,{"$f":"IF(R470=1, _xlfn.IFNA(VLOOKUP(Q470, 'Allocation Change Graph'!BF$7:BG$20, 2, FALSE), 0), 0)","v":0},0.85,17.849999999999998,null,null,7,null,null,null,12,9,8,6,5,4,4,4,4,4,null,null,null,null,null,4,12]
[null,null,"University Wide","La Jolla Campus","West Campus","Roosevelt College","Hopkins","P341","B2","Reserved","V2G",null,"Yes","Yes",null,"Hopkins","HopkinsReservedV2G",{"$f":"COUNTIF(Q$5:Q471, Q471 )","v":1},{"$f":"_xlfn.IFS(D$2=X$4, X471, D$2=Y$4, Y471,D$2=Z$4, Z471,D$2=AA$4, AA471)","v":0},0,{"$f":"IF(R471=1, _xlfn.IFNA(VLOOKUP(Q471, 'Allocation Change Graph'!BF$7:BG$20, 2, FALSE), 0), 0)","v":0},0.85,0,null,null,0,null,null,null,0,0,0,0,0,0,0,0,0,0,null,null,null,null,null,0,0]
[null,null,"University Wide","La Jolla Campus","West Campus","Roosevelt College","Hopkins","P341","B2","S",null,null,"Yes","Yes","Yes","Hopkins","HopkinsS",{"$f":"COUNTIF(Q$5:Q472, Q472 )","v":1},{"$f":"_xlfn.IFS(D$2=X$4, X472, D$2=Y$4, Y472,D$2=Z$4, Z472,D$2=AA$4, AA472)","v":174},174,{"$f":"IF(R472=1, _xlfn.IFNA(VLOOKUP(Q472, 'Allocation Change Graph'!BF$7:BG$20, 2, FALSE), 0), 0)","v":0},0.9,156.6,null,null,174,null,null,null,142,11,99,81,77,1,8,6,26,34,null,null,null,null,null,1,142]
[null,null,"University Wide","La Jolla Campus","West Campus","Roosevelt College","Hopkins","P341","B2","SR",null,null,"Yes","Yes","Yes","Hopkins","HopkinsSR",{"$f":"COUNTIF(Q$5:Q473, Q473 )","v":1},{"$f":"_xlfn.IFS(D$2=X$4, X473, D$2=Y$4, Y473,D$2=Z$4, Z473,D$2=AA$4, AA473)","v":51},51,{"$f":"IF(R473=1, _xlfn.IFNA(VLOOKUP(Q473, 'Allocation Change Graph'!BF$7:BG$20, 2, FALSE), 0), 0)","v":0},0.9,45.9,null,null,51,null,null,null,21,16,11,9,8,12,12,16,8,24,null,null,null,null,null,8,24]
[null,null,"University Wide","La Jolla Campus","West Campus","Roosevelt College","Hopkins","P341","B2","UC Vehicle",null,null,"Yes","Yes",null,"Hopkins","HopkinsUC Vehicle",{"$f":"COUNTIF(Q$5:Q474, Q474 )","v":1},{"$f":"_xlfn.IFS(D$2=X$4, X474, D$2=Y$4, Y474,D$2=Z$4, Z474,D$2=AA$4, AA474)","v":9},9,{"$f":"IF(R474=1, _xlfn.IFNA(VLOOKUP(Q474, 'Allocation Change Graph'!BF$7:BG$20, 2, FALSE), 0), 0)","v":0},0.85,7.6499999999999995,null,null,9,null,null,null,7,5,5,4,4,8,8,7,8,8,null,null,null,null,null,4,8]
[null,null,"University Wide","La Jolla Campus","West Campus","Roosevelt College","Hopkins","P342","B1","Accessible",null,null,"Yes","Yes",null,"Hopkins","HopkinsAccessible",{"$f":"COUNTIF(Q$5:Q475, Q475 )","v":1},{"$f":"_xlfn.IFS(D$2=X$4, X475, D$2=Y$4, Y475,D$2=Z$4, Z475,D$2=AA$4, AA475)","v":3},17,{"$f":"IF(R475=1, _xlfn.IFNA(VLOOKUP(Q475, 'Allocation Change Graph'!BF$7:BG$20, 2, FALSE), 0), 0)","v":0},0.85,14.45,null,null,3,null,null,null,14,9,7,6,3,4,12,11,16,15,null,null,null,null,null,3,16]
[null,null,"University Wide","La Jolla Campus","West Campus","Roosevelt College","Hopkins","P342","B1","Accessible (Van)",null,null,"Yes","Yes",null,"Hopkins","HopkinsAccessible (Van)",{"$f":"COUNTIF(Q$5:Q476, Q476 )","v":1},{"$f":"_xlfn.IFS(D$2=X$4, X476, D$2=Y$4, Y476,D$2=Z$4, Z476,D$2=AA$4, AA476)","v":0},5,{"$f":"IF(R476=1, _xlfn.IFNA(VLOOKUP(Q476, 'Allocation Change Graph'!BF$7:BG$20, 2, FALSE), 0), 0)","v":0},0.85,4.25,null,null,null,null,null,null,5,3,3,2,2,2,1,3,2,3,null,null,null,null,null,1,5]
[null,null,"University Wide","La Jolla Campus","West Campus","Roosevelt College","Hopkins","P342","B1","Accessible (Van)",null,null,"Yes",null,null,"Hopkins","HopkinsAccessible (Van)",{"$f":"COUNTIF(Q$5:Q477, Q477 )","v":2},{"$f":"_xlfn.IFS(D$2=X$4, X477, D$2=Y$4, Y477,D$2=Z$4, Z477,D$2=AA$4, AA477)","v":0},"",{"$f":"IF(R477=1, _xlfn.IFNA(VLOOKUP(Q477, 'Allocation Change Graph'!BF$7:BG$20, 2, FALSE), 0), 0)","v":0},null,"",null,null,null,null,null,null,null,null,null,null,null,null,null,null,null,null,null,null,null,null,null,0,0]
[null,null,"University Wide","La Jolla Campus","West Campus","Roosevelt College","Hopkins","P342","B1","B",null,null,"Yes","Yes","Yes","Hopkins","HopkinsB",{"$f":"COUNTIF(Q$5:Q478, Q478 )","v":1},{"$f":"_xlfn.IFS(D$2=X$4, X478, D$2=Y$4, Y478,D$2=Z$4, Z478,D$2=AA$4, AA478)","v":93},639,{"$f":"IF(R478=1, _xlfn.IFNA(VLOOKUP(Q478, 'Allocation Change Graph'!BF$7:BG$20, 2, FALSE), 0), 0)","v":0},0.9,575.1,null,null,93,null,null,null,545,371,282,174,153,14,20,79,154,301,null,null,null,null,null,14,545]
[null,null,"University Wide","La Jolla Campus","West Campus","Roosevelt College","Hopkins","P342","B1","Carpool","2 Person",null,"Yes","Yes","Yes","Hopkins","HopkinsCarpool2 Person",{"$f":"COUNTIF(Q$5:Q479, Q479 )","v":1},{"$f":"_xlfn.IFS(D$2=X$4, X479, D$2=Y$4, Y479,D$2=Z$4, Z479,D$2=AA$4, AA479)","v":63},78,{"$f":"IF(R479=1, _xlfn.IFNA(VLOOKUP(Q479, 'Allocation Change Graph'!BF$7:BG$20, 2, FALSE), 0), 0)","v":0},0.85,66.3,null,null,63,null,null,null,61,47,39,32,24,26,25,24,26,26,null,null,null,null,null,24,61]
[null,null,"University Wide","La Jolla Campus","West Campus","Roosevelt College","Hopkins","P342","B1","Electric Vehicle","ADA",null,"Yes","Yes",null,"Hopkins","HopkinsElectric VehicleADA",{"$f":"COUNTIF(Q$5:Q480, Q480 )","v":1},{"$f":"_xlfn.IFS(D$2=X$4, X480, D$2=Y$4, Y480,D$2=Z$4, Z480,D$2=AA$4, AA480)","v":2},2,{"$f":"IF(R480=1, _xlfn.IFNA(VLOOKUP(Q480, 'Allocation Change Graph'!BF$7:BG$20, 2, FALSE), 0), 0)","v":0},0.85,1.7,null,null,2,null,null,null,2,0,0,0,0,0,0,2,2,2,null,null,null,null,null,0,2]
[null,null,"University Wide","La Jolla Campus","West Campus","Roosevelt College","Hopkins","P342","B1","Electric Vehicle",null,null,"Yes","Yes",null,"Hopkins","HopkinsElectric Vehicle",{"$f":"COUNTIF(Q$5:Q481, Q481 )","v":1},{"$f":"_xlfn.IFS(D$2=X$4, X481, D$2=Y$4, Y481,D$2=Z$4, Z481,D$2=AA$4, AA481)","v":20},20,{"$f":"IF(R481=1, _xlfn.IFNA(VLOOKUP(Q481, 'Allocation Change Graph'!BF$7:BG$20, 2, FALSE), 0), 0)","v":0},0.85,17,null,null,20,null,null,null,14,9,7,5,5,4,9,10,12,15,null,null,null,null,null,4,15]
[null,null,"University Wide","La Jolla Campus","West Campus","Roosevelt College","Hopkins","P342","B1","Motorcycle Section",null,null,"Yes",null,null,"Hopkins","HopkinsMotorcycle Section",{"$f":"COUNTIF(Q$5:Q482, Q482 )","v":2},{"$f":"_xlfn.IFS(D$2=X$4, X482, D$2=Y$4, Y482,D$2=Z$4, Z482,D$2=AA$4, AA482)","v":7},"",{"$f":"IF(R482=1, _xlfn.IFNA(VLOOKUP(Q482, 'Allocation Change Graph'!BF$7:BG$20, 2, FALSE), 0), 0)","v":0},null,"",null,null,7,null,null,null,null,null,null,null,null,null,null,null,null,null,null,null,null,null,null,0,0]
[null,null,"University Wide","La Jolla Campus","West Campus","Roosevelt College","Hopkins","P342","B1","Reserved",null,null,"Yes","Yes",null,"Hopkins","HopkinsReserved",{"$f":"COUNTIF(Q$5:Q483, Q483 )","v":1},{"$f":"_xlfn.IFS(D$2=X$4, X483, D$2=Y$4, Y483,D$2=Z$4, Z483,D$2=AA$4, AA483)","v":6},10,{"$f":"IF(R483=1, _xlfn.IFNA(VLOOKUP(Q483, 'Allocation Change Graph'!BF$7:BG$20, 2, FALSE), 0), 0)","v":0},0.85,8.5,null,null,6,null,null,null,4,3,2,1,1,6,4,5,6,6,null,null,null,null,null,1,6]
[null,null,"University Wide","La Jolla Campus","West Campus","Roosevelt College","Hopkins","P342","B1","S",null,null,"Yes",null,null,"Hopkins","HopkinsS",{"$f":"COUNTIF(Q$5:Q484, Q484 )","v":2},{"$f":"_xlfn.IFS(D$2=X$4, X484, D$2=Y$4, Y484,D$2=Z$4, Z484,D$2=AA$4, AA484)","v":0},"",{"$f":"IF(R484=1, _xlfn.IFNA(VLOOKUP(Q484, 'Allocation Change Graph'!BF$7:BG$20, 2, FALSE), 0), 0)","v":0},null,"",null,null,0,null,null,null,null,null,null,null,null,null,null,null,null,null,null,null,null,null,null,0,0]
[null,null,"University Wide","La Jolla Campus","West Campus","Roosevelt College","Hopkins","P342","B1","Visitor","5 Minute","5 minutes","Yes","Yes","Yes","Hopkins","HopkinsVisitor5 Minute5 minutes",{"$f":"COUNTIF(Q$5:Q485, Q485 )","v":1},{"$f":"_xlfn.IFS(D$2=X$4, X485, D$2=Y$4, Y485,D$2=Z$4, Z485,D$2=AA$4, AA485)","v":1},1,{"$f":"IF(R485=1, _xlfn.IFNA(VLOOKUP(Q485, 'Allocation Change Graph'!BF$7:BG$20, 2, FALSE), 0), 0)","v":0},0.85,0.85,null,null,1,null,null,null,1,1,1,1,1,1,1,1,1,1,null,null,null,null,null,1,1]
[null,null,"University Wide","La Jolla Campus","West Campus","Roosevelt College","Hopkins","P343","Ground Floor","B",null,null,"Yes",null,null,"Hopkins","HopkinsB",{"$f":"COUNTIF(Q$5:Q486, Q486 )","v":2},{"$f":"_xlfn.IFS(D$2=X$4, X486, D$2=Y$4, Y486,D$2=Z$4, Z486,D$2=AA$4, AA486)","v":197},"",{"$f":"IF(R486=1, _xlfn.IFNA(VLOOKUP(Q486, 'Allocation Change Graph'!BF$7:BG$20, 2, FALSE), 0), 0)","v":0},null,"",null,null,197,null,null,null,null,null,null,null,null,null,null,null,null,null,null,null,null,null,null,0,0]
[null,null,"University Wide","La Jolla Campus","West Campus","Roosevelt College","Hopkins","P343","Ground Floor","Carpool","2 Person",null,"Yes",null,null,"Hopkins","HopkinsCarpool2 Person",{"$f":"COUNTIF(Q$5:Q487, Q487 )","v":2},{"$f":"_xlfn.IFS(D$2=X$4, X487, D$2=Y$4, Y487,D$2=Z$4, Z487,D$2=AA$4, AA487)","v":15},"",{"$f":"IF(R487=1, _xlfn.IFNA(VLOOKUP(Q487, 'Allocation Change Graph'!BF$7:BG$20, 2, FALSE), 0), 0)","v":0},null,"",null,null,15,null,null,null,null,null,null,null,null,null,null,null,null,null,null,null,null,null,null,0,0]
[null,null,"University Wide","La Jolla Campus","West Campus","Roosevelt College","Hopkins","P344","L2","B",null,null,"Yes",null,null,"Hopkins","HopkinsB",{"$f":"COUNTIF(Q$5:Q488, Q488 )","v":3},{"$f":"_xlfn.IFS(D$2=X$4, X488, D$2=Y$4, Y488,D$2=Z$4, Z488,D$2=AA$4, AA488)","v":209},"",{"$f":"IF(R488=1, _xlfn.IFNA(VLOOKUP(Q488, 'Allocation Change Graph'!BF$7:BG$20, 2, FALSE), 0), 0)","v":0},null,"",null,null,209,null,null,null,null,null,null,null,null,null,null,null,null,null,null,null,null,null,null,0,0]
[null,null,"University Wide","La Jolla Campus","West Campus","Roosevelt College","Hopkins","P344","L2","Motorcycle Section",null,null,"Yes",null,null,"Hopkins","HopkinsMotorcycle Section",{"$f":"COUNTIF(Q$5:Q489, Q489 )","v":3},{"$f":"_xlfn.IFS(D$2=X$4, X489, D$2=Y$4, Y489,D$2=Z$4, Z489,D$2=AA$4, AA489)","v":7},"",{"$f":"IF(R489=1, _xlfn.IFNA(VLOOKUP(Q489, 'Allocation Change Graph'!BF$7:BG$20, 2, FALSE), 0), 0)","v":0},null,"",null,null,7,null,null,null,null,null,null,null,null,null,null,null,null,null,null,null,null,null,null,0,0]
[null,null,"University Wide","La Jolla Campus","West Campus","Roosevelt College","Hopkins","P345","L3","A",null,null,"Yes","Yes","Yes","Hopkins","HopkinsA",{"$f":"COUNTIF(Q$5:Q490, Q490 )","v":1},{"$f":"_xlfn.IFS(D$2=X$4, X490, D$2=Y$4, Y490,D$2=Z$4, Z490,D$2=AA$4, AA490)","v":62},295,{"$f":"IF(R490=1, _xlfn.IFNA(VLOOKUP(Q490, 'Allocation Change Graph'!BF$7:BG$20, 2, FALSE), 0), 0)","v":0},0.9,265.5,null,null,62,null,null,null,250,160,92,82,63,103,104,140,151,191,null,null,null,null,null,63,250]
[null,null,"University Wide","La Jolla Campus","West Campus","Roosevelt College","Hopkins","P345","L3","Accessible",null,null,"Yes",null,null,"Hopkins","HopkinsAccessible",{"$f":"COUNTIF(Q$5:Q491, Q491 )","v":2},{"$f":"_xlfn.IFS(D$2=X$4, X491, D$2=Y$4, Y491,D$2=Z$4, Z491,D$2=AA$4, AA491)","v":0},"",{"$f":"IF(R491=1, _xlfn.IFNA(VLOOKUP(Q491, 'Allocation Change Graph'!BF$7:BG$20, 2, FALSE), 0), 0)","v":0},null,"",null,null,0,null,null,null,null,null,null,null,null,null,null,null,null,null,null,null,null,null,null,0,0]
[null,null,"University Wide","La Jolla Campus","West Campus","Roosevelt College","Hopkins","P345","L3","Accessible (Van)",null,null,"Yes",null,null,"Hopkins","HopkinsAccessible (Van)",{"$f":"COUNTIF(Q$5:Q492, Q492 )","v":3},{"$f":"_xlfn.IFS(D$2=X$4, X492, D$2=Y$4, Y492,D$2=Z$4, Z492,D$2=AA$4, AA492)","v":0},"",{"$f":"IF(R492=1, _xlfn.IFNA(VLOOKUP(Q492, 'Allocation Change Graph'!BF$7:BG$20, 2, FALSE), 0), 0)","v":0},null,"",null,null,null,null,null,null,null,null,null,null,null,null,null,null,null,null,null,null,null,null,null,0,0]
[null,null,"University Wide","La Jolla Campus","West Campus","Roosevelt College","Hopkins","P345","L3","B",null,null,"Yes",null,null,"Hopkins","HopkinsB",{"$f":"COUNTIF(Q$5:Q493, Q493 )","v":4},{"$f":"_xlfn.IFS(D$2=X$4, X493, D$2=Y$4, Y493,D$2=Z$4, Z493,D$2=AA$4, AA493)","v":140},"",{"$f":"IF(R493=1, _xlfn.IFNA(VLOOKUP(Q493, 'Allocation Change Graph'!BF$7:BG$20, 2, FALSE), 0), 0)","v":0},null,"",null,null,140,null,null,null,null,null,null,null,null,null,null,null,null,null,null,null,null,null,null,0,0]
[null,null,"University Wide","La Jolla Campus","West Campus","Roosevelt College","Hopkins","P345","L3","Carpool","S 3-Person",null,"Yes","Yes","Yes","Hopkins","HopkinsCarpoolS 3-Person",{"$f":"COUNTIF(Q$5:Q494, Q494 )","v":1},{"$f":"_xlfn.IFS(D$2=X$4, X494, D$2=Y$4, Y494,D$2=Z$4, Z494,D$2=AA$4, AA494)","v":6},6,{"$f":"IF(R494=1, _xlfn.IFNA(VLOOKUP(Q494, 'Allocation Change Graph'!BF$7:BG$20, 2, FALSE), 0), 0)","v":0},0.85,5.0999999999999996,null,null,6,null,null,null,6,4,4,3,3,4,3,3,4,4,null,null,null,null,null,3,6]
[null,null,"University Wide","La Jolla Campus","West Campus","Roosevelt College","Hopkins","P345","L3","Carpool","S 3-Person",null,"Yes",null,null,"Hopkins","HopkinsCarpoolS 3-Person",{"$f":"COUNTIF(Q$5:Q495, Q495 )","v":2},{"$f":"_xlfn.IFS(D$2=X$4, X495, D$2=Y$4, Y495,D$2=Z$4, Z495,D$2=AA$4, AA495)","v":0},"",{"$f":"IF(R495=1, _xlfn.IFNA(VLOOKUP(Q495, 'Allocation Change Graph'!BF$7:BG$20, 2, FALSE), 0), 0)","v":0},null,"",null,null,0,null,null,null,null,null,null,null,null,null,null,null,null,null,null,null,null,null,null,0,0]
[null,null,"University Wide","La Jolla Campus","West Campus","Roosevelt College","Hopkins","P346","L4","A",null,null,"Yes",null,null,"Hopkins","HopkinsA",{"$f":"COUNTIF(Q$5:Q496, Q496 )","v":2},{"$f":"_xlfn.IFS(D$2=X$4, X496, D$2=Y$4, Y496,D$2=Z$4, Z496,D$2=AA$4, AA496)","v":175},"",{"$f":"IF(R496=1, _xlfn.IFNA(VLOOKUP(Q496, 'Allocation Change Graph'!BF$7:BG$20, 2, FALSE), 0), 0)","v":0},null,"",null,null,175,null,null,null,null,null,null,null,null,null,null,null,null,null,null,null,null,null,null,0,0]
[null,null,"University Wide","La Jolla Campus","West Campus","Roosevelt College","Hopkins","P346","L4","Accessible",null,null,"Yes",null,null,"Hopkins","HopkinsAccessible",{"$f":"COUNTIF(Q$5:Q497, Q497 )","v":3},{"$f":"_xlfn.IFS(D$2=X$4, X497, D$2=Y$4, Y497,D$2=Z$4, Z497,D$2=AA$4, AA497)","v":13},"",{"$f":"IF(R497=1, _xlfn.IFNA(VLOOKUP(Q497, 'Allocation Change Graph'!BF$7:BG$20, 2, FALSE), 0), 0)","v":0},null,"",null,null,13,null,null,null,null,null,null,null,null,null,null,null,null,null,null,null,null,null,null,0,0]
[null,null,"University Wide","La Jolla Campus","West Campus","Roosevelt College","Hopkins","P346","L4","Accessible (Van)",null,null,"Yes",null,null,"Hopkins","HopkinsAccessible (Van)",{"$f":"COUNTIF(Q$5:Q498, Q498 )","v":4},{"$f":"_xlfn.IFS(D$2=X$4, X498, D$2=Y$4, Y498,D$2=Z$4, Z498,D$2=AA$4, AA498)","v":2},"",{"$f":"IF(R498=1, _xlfn.IFNA(VLOOKUP(Q498, 'Allocation Change Graph'!BF$7:BG$20, 2, FALSE), 0), 0)","v":0},null,"",null,null,2,null,null,null,null,null,null,null,null,null,null,null,null,null,null,null,null,null,null,0,0]
[null,null,"University Wide","La Jolla Campus","West Campus","Roosevelt College","Hopkins","P346","L4","Reserved",null,null,"Yes",null,null,"Hopkins","HopkinsReserved",{"$f":"COUNTIF(Q$5:Q499, Q499 )","v":2},{"$f":"_xlfn.IFS(D$2=X$4, X499, D$2=Y$4, Y499,D$2=Z$4, Z499,D$2=AA$4, AA499)","v":1},"",{"$f":"IF(R499=1, _xlfn.IFNA(VLOOKUP(Q499, 'Allocation Change Graph'!BF$7:BG$20, 2, FALSE), 0), 0)","v":0},null,"",null,null,1,null,null,null,null,null,null,null,null,null,null,null,null,null,null,null,null,null,null,0,0]
[null,null,"University Wide","La Jolla Campus","West Campus","Roosevelt College","Hopkins","P347","Roof","A",null,null,"Yes",null,null,"Hopkins","HopkinsA",{"$f":"COUNTIF(Q$5:Q500, Q500 )","v":3},{"$f":"_xlfn.IFS(D$2=X$4, X500, D$2=Y$4, Y500,D$2=Z$4, Z500,D$2=AA$4, AA500)","v":58},"",{"$f":"IF(R500=1, _xlfn.IFNA(VLOOKUP(Q500, 'Allocation Change Graph'!BF$7:BG$20, 2, FALSE), 0), 0)","v":0},null,"",null,null,58,null,null,null,null,null,null,null,null,null,null,null,null,null,null,null,null,null,null,0,0]
[null,null,"University Wide","La Jolla Campus","West Campus","Roosevelt College","Hopkins","P347","Roof","Accessible",null,null,"Yes",null,null,"Hopkins","HopkinsAccessible",{"$f":"COUNTIF(Q$5:Q501, Q501 )","v":4},{"$f":"_xlfn.IFS(D$2=X$4, X501, D$2=Y$4, Y501,D$2=Z$4, Z501,D$2=AA$4, AA501)","v":1},"",{"$f":"IF(R501=1, _xlfn.IFNA(VLOOKUP(Q501, 'Allocation Change Graph'!BF$7:BG$20, 2, FALSE), 0), 0)","v":0},null,"",null,null,1,null,null,null,null,null,null,null,null,null,null,null,null,null,null,null,null,null,null,0,0]
[null,null,"University Wide","La Jolla Campus","West Campus","Roosevelt College","Hopkins","P347","Roof","Accessible (Van)",null,null,"Yes",null,null,"Hopkins","HopkinsAccessible (Van)",{"$f":"COUNTIF(Q$5:Q502, Q502 )","v":5},{"$f":"_xlfn.IFS(D$2=X$4, X502, D$2=Y$4, Y502,D$2=Z$4, Z502,D$2=AA$4, AA502)","v":3},"",{"$f":"IF(R502=1, _xlfn.IFNA(VLOOKUP(Q502, 'Allocation Change Graph'!BF$7:BG$20, 2, FALSE), 0), 0)","v":0},null,"",null,null,3,null,null,null,null,null,null,null,null,null,null,null,null,null,null,null,null,null,null,0,0]
[null,null,"University Wide","La Jolla Campus","West Campus","Roosevelt College","Hopkins","P347","Roof","Reserved",null,null,"Yes",null,null,"Hopkins","HopkinsReserved",{"$f":"COUNTIF(Q$5:Q503, Q503 )","v":3},{"$f":"_xlfn.IFS(D$2=X$4, X503, D$2=Y$4, Y503,D$2=Z$4, Z503,D$2=AA$4, AA503)","v":3},"",{"$f":"IF(R503=1, _xlfn.IFNA(VLOOKUP(Q503, 'Allocation Change Graph'!BF$7:BG$20, 2, FALSE), 0), 0)","v":0},null,"",null,null,3,null,null,null,null,null,null,null,null,null,null,null,null,null,null,null,null,null,null,0,0]
[null,null,"University Wide","La Jolla Campus","West Campus","Roosevelt College","Hopkins","P347","Roof","Visitor",null,null,"Yes","Yes","Yes","Hopkins","HopkinsVisitor",{"$f":"COUNTIF(Q$5:Q504, Q504 )","v":1},{"$f":"_xlfn.IFS(D$2=X$4, X504, D$2=Y$4, Y504,D$2=Z$4, Z504,D$2=AA$4, AA504)","v":90},90,{"$f":"IF(R504=1, _xlfn.IFNA(VLOOKUP(Q504, 'Allocation Change Graph'!BF$7:BG$20, 2, FALSE), 0), 0)","v":0},0.85,76.5,null,null,90,null,null,null,85,58,49,38,34,10,21,41,1,53,null,null,null,null,null,1,85]
[null,null,"University Wide","La Jolla Campus","West Campus","Roosevelt College","Pangea","P371","B5","S",null,null,"Yes","Yes","Yes","Pangea","PangeaS",{"$f":"COUNTIF(Q$5:Q505, Q505 )","v":1},{"$f":"_xlfn.IFS(D$2=X$4, X505, D$2=Y$4, Y505,D$2=Z$4, Z505,D$2=AA$4, AA505)","v":199},199,{"$f":"IF(R505=1, _xlfn.IFNA(VLOOKUP(Q505, 'Allocation Change Graph'!BF$7:BG$20, 2, FALSE), 0), 0)","v":0},0.9,179.1,null,null,199,null,null,null,75,22,24,0,0,18,20,36,60,110,null,null,null,null,null,0,110]
[null,null,"University Wide","La Jolla Campus","West Campus","Roosevelt College","Pangea","P371","B5","SR",null,null,"Yes","Yes","Yes","Pangea","PangeaSR",{"$f":"COUNTIF(Q$5:Q506, Q506 )","v":1},{"$f":"_xlfn.IFS(D$2=X$4, X506, D$2=Y$4, Y506,D$2=Z$4, Z506,D$2=AA$4, AA506)","v":0},184,{"$f":"IF(R506=1, _xlfn.IFNA(VLOOKUP(Q506, 'Allocation Change Graph'!BF$7:BG$20, 2, FALSE), 0), 0)","v":0},0.9,165.6,null,null,0,null,null,null,159,150,147,135,133,61,65,68,72,76,null,null,null,null,null,61,159]
[null,null,"University Wide","La Jolla Campus","West Campus","Roosevelt College","Pangea","P372","B4","S",null,null,"Yes",null,null,"Pangea","PangeaS",{"$f":"COUNTIF(Q$5:Q507, Q507 )","v":2},{"$f":"_xlfn.IFS(D$2=X$4, X507, D$2=Y$4, Y507,D$2=Z$4, Z507,D$2=AA$4, AA507)","v":0},"",{"$f":"IF(R507=1, _xlfn.IFNA(VLOOKUP(Q507, 'Allocation Change Graph'!BF$7:BG$20, 2, FALSE), 0), 0)","v":0},null,"",null,null,0,null,null,null,null,null,null,null,null,null,null,null,null,null,null,null,null,null,null,0,0]
[null,null,"University Wide","La Jolla Campus","West Campus","Roosevelt College","Pangea","P372","B4","SR",null,null,"Yes",null,null,"Pangea","PangeaSR",{"$f":"COUNTIF(Q$5:Q508, Q508 )","v":2},{"$f":"_xlfn.IFS(D$2=X$4, X508, D$2=Y$4, Y508,D$2=Z$4, Z508,D$2=AA$4, AA508)","v":184},"",{"$f":"IF(R508=1, _xlfn.IFNA(VLOOKUP(Q508, 'Allocation Change Graph'!BF$7:BG$20, 2, FALSE), 0), 0)","v":0},null,"",null,null,184,null,null,null,null,null,null,null,null,null,null,null,null,null,null,null,null,null,null,0,0]
[null,null,"University Wide","La Jolla Campus","West Campus","Roosevelt College","Pangea","P372","B4","UC Vehicle",null,null,"Yes","Yes",null,"Pangea","PangeaUC Vehicle",{"$f":"COUNTIF(Q$5:Q509, Q509 )","v":1},{"$f":"_xlfn.IFS(D$2=X$4, X509, D$2=Y$4, Y509,D$2=Z$4, Z509,D$2=AA$4, AA509)","v":1},3,{"$f":"IF(R509=1, _xlfn.IFNA(VLOOKUP(Q509, 'Allocation Change Graph'!BF$7:BG$20, 2, FALSE), 0), 0)","v":0},0.85,2.5499999999999998,null,null,1,null,null,null,2,1,1,1,0,2,3,3,3,3,null,null,null,null,null,0,3]
[null,null,"University Wide","La Jolla Campus","West Campus","Roosevelt College","Pangea","P373","B3","B",null,null,"Yes","Yes","Yes","Pangea","PangeaB",{"$f":"COUNTIF(Q$5:Q510, Q510 )","v":1},{"$f":"_xlfn.IFS(D$2=X$4, X510, D$2=Y$4, Y510,D$2=Z$4, Z510,D$2=AA$4, AA510)","v":189},387,{"$f":"IF(R510=1, _xlfn.IFNA(VLOOKUP(Q510, 'Allocation Change Graph'!BF$7:BG$20, 2, FALSE), 0), 0)","v":0},0.9,348.3,null,null,189,null,null,null,187,197,43,26,23,30,39,66,109,172,null,null,null,null,null,23,197]
[null,null,"University Wide","La Jolla Campus","West Campus","Roosevelt College","Pangea","P373","B3","Motorcycle Section",null,null,"Yes","Yes",null,"Pangea","PangeaMotorcycle Section",{"$f":"COUNTIF(Q$5:Q511, Q511 )","v":1},{"$f":"_xlfn.IFS(D$2=X$4, X511, D$2=Y$4, Y511,D$2=Z$4, Z511,D$2=AA$4, AA511)","v":30},30,{"$f":"IF(R511=1, _xlfn.IFNA(VLOOKUP(Q511, 'Allocation Change Graph'!BF$7:BG$20, 2, FALSE), 0), 0)","v":0},0.85,25.5,null,null,30,null,null,null,30,29,30,29,29,29,21,29,29,28,null,null,null,null,null,21,30]
[null,null,"University Wide","La Jolla Campus","West Campus","Roosevelt College","Pangea","P373","B3","S",null,null,"Yes",null,null,"Pangea","PangeaS",{"$f":"COUNTIF(Q$5:Q512, Q512 )","v":3},{"$f":"_xlfn.IFS(D$2=X$4, X512, D$2=Y$4, Y512,D$2=Z$4, Z512,D$2=AA$4, AA512)","v":0},"",{"$f":"IF(R512=1, _xlfn.IFNA(VLOOKUP(Q512, 'Allocation Change Graph'!BF$7:BG$20, 2, FALSE), 0), 0)","v":0},null,"",null,null,0,null,null,null,null,null,null,null,null,null,null,null,null,null,null,null,null,null,null,0,0]
[null,null,"University Wide","La Jolla Campus","West Campus","Roosevelt College","Pangea","P373","B3","SR",null,null,"Yes",null,null,"Pangea","PangeaSR",{"$f":"COUNTIF(Q$5:Q513, Q513 )","v":3},{"$f":"_xlfn.IFS(D$2=X$4, X513, D$2=Y$4, Y513,D$2=Z$4, Z513,D$2=AA$4, AA513)","v":0},"",{"$f":"IF(R513=1, _xlfn.IFNA(VLOOKUP(Q513, 'Allocation Change Graph'!BF$7:BG$20, 2, FALSE), 0), 0)","v":0},null,"",null,null,0,null,null,null,null,null,null,null,null,null,null,null,null,null,null,null,null,null,null,0,0]
[null,null,"University Wide","La Jolla Campus","West Campus","Roosevelt College","Pangea","P374","B2","B",null,null,"Yes",null,null,"Pangea","PangeaB",{"$f":"COUNTIF(Q$5:Q514, Q514 )","v":2},{"$f":"_xlfn.IFS(D$2=X$4, X514, D$2=Y$4, Y514,D$2=Z$4, Z514,D$2=AA$4, AA514)","v":175},"",{"$f":"IF(R514=1, _xlfn.IFNA(VLOOKUP(Q514, 'Allocation Change Graph'!BF$7:BG$20, 2, FALSE), 0), 0)","v":0},null,"",null,null,175,null,null,null,null,null,null,null,null,null,null,null,null,null,null,null,null,null,null,0,0]
[null,null,"University Wide","La Jolla Campus","West Campus","Roosevelt College","Pangea","P374","B2","Motorcycle Section",null,null,"Yes",null,null,"Pangea","PangeaMotorcycle Section",{"$f":"COUNTIF(Q$5:Q515, Q515 )","v":2},{"$f":"_xlfn.IFS(D$2=X$4, X515, D$2=Y$4, Y515,D$2=Z$4, Z515,D$2=AA$4, AA515)","v":0},"",{"$f":"IF(R515=1, _xlfn.IFNA(VLOOKUP(Q515, 'Allocation Change Graph'!BF$7:BG$20, 2, FALSE), 0), 0)","v":0},null,"",null,null,null,null,null,null,null,null,null,null,null,null,null,null,null,null,null,null,null,null,null,0,0]
[null,null,"University Wide","La Jolla Campus","West Campus","Roosevelt College","Pangea","P375","B1 (Pangea Ent)","A",null,null,"Yes","Yes","Yes","Pangea","PangeaA",{"$f":"COUNTIF(Q$5:Q516, Q516 )","v":1},{"$f":"_xlfn.IFS(D$2=X$4, X516, D$2=Y$4, Y516,D$2=Z$4, Z516,D$2=AA$4, AA516)","v":90},142,{"$f":"IF(R516=1, _xlfn.IFNA(VLOOKUP(Q516, 'Allocation Change Graph'!BF$7:BG$20, 2, FALSE), 0), 0)","v":0},0.9,127.8,null,null,90,null,null,null,97,26,20,46,43,78,90,97,112,102,null,null,null,null,null,20,112]
[null,null,"University Wide","La Jolla Campus","West Campus","Roosevelt College","Pangea","P375","B1 (Pangea Ent)","A",null,null,"Yes",null,null,{"$f":"IF(G517=\"Surface Lot\", H517, G517)","v":"Pangea"},{"$f":"P517&J517&K517&L517","v":"PangeaA"},{"$f":"COUNTIF(Q$5:Q517, Q517 )","v":2},{"$f":"_xlfn.IFS(D$2=X$4, X517, D$2=Y$4, Y517,D$2=Z$4, Z517,D$2=AA$4, AA517)","v":29},{"$f":"IF(R517=1,SUMIF(Q:Q,Q517,S:S)+U517, \"\")","v":""},{"$f":"IF(R517=1, _xlfn.IFNA(VLOOKUP(Q517, 'Allocation Change Graph'!BF$7:BG$20, 2, FALSE), 0), 0)","v":0},null,{"$f":"IF(R517=1, V517*T517, \"\")","v":""},null,null,29,null,null,null,null,null,null,null,null,null,null,null,null,null,null,null,null,null,null,{"$f":"MIN($AB517:$AR517)+U517","v":0},{"$f":"MAX($AB517:$AR517)+U517","v":0}]
[null,null,"University Wide","La Jolla Campus","West Campus","Roosevelt College","Pangea","P375","B1 (Pangea Ent)","Accessible",null,null,"Yes","Yes",null,"Pangea","PangeaAccessible",{"$f":"COUNTIF(Q$5:Q518, Q518 )","v":1},{"$f":"_xlfn.IFS(D$2=X$4, X518, D$2=Y$4, Y518,D$2=Z$4, Z518,D$2=AA$4, AA518)","v":7},17,{"$f":"IF(R518=1, _xlfn.IFNA(VLOOKUP(Q518, 'Allocation Change Graph'!BF$7:BG$20, 2, FALSE), 0), 0)","v":0},0.85,14.45,null,null,7,null,null,null,7,4,4,4,0,4,8,5,9,10,null,null,null,null,null,0,10]
[null,null,"University Wide","La Jolla Campus","West Campus","Roosevelt College","Pangea","P375","B1 (Pangea Ent)","Accessible (Van)",null,null,"Yes","Yes",null,"Pangea","PangeaAccessible (Van)",{"$f":"COUNTIF(Q$5:Q519, Q519 )","v":1},{"$f":"_xlfn.IFS(D$2=X$4, X519, D$2=Y$4, Y519,D$2=Z$4, Z519,D$2=AA$4, AA519)","v":0},0,{"$f":"IF(R519=1, _xlfn.IFNA(VLOOKUP(Q519, 'Allocation Change Graph'!BF$7:BG$20, 2, FALSE), 0), 0)","v":0},0.85,0,null,null,null,null,null,null,0,0,0,0,0,0,0,0,0,0,null,null,null,null,null,0,0]
[null,null,"University Wide","La Jolla Campus","West Campus","Roosevelt College","Pangea","P375","B1 (Pangea Ent)","B",null,null,"Yes",null,null,"Pangea","PangeaB",{"$f":"COUNTIF(Q$5:Q520, Q520 )","v":3},{"$f":"_xlfn.IFS(D$2=X$4, X520, D$2=Y$4, Y520,D$2=Z$4, Z520,D$2=AA$4, AA520)","v":23},"",{"$f":"IF(R520=1, _xlfn.IFNA(VLOOKUP(Q520, 'Allocation Change Graph'!BF$7:BG$20, 2, FALSE), 0), 0)","v":0},null,"",null,null,23,null,null,null,null,null,null,null,null,null,null,null,null,null,null,null,null,null,null,0,0]
[null,null,"University Wide","La Jolla Campus","West Campus","Roosevelt College","Pangea","P375","B1 (Pangea Ent)","Electric Vehicle",null,null,"Yes","Yes",null,"Pangea","PangeaElectric Vehicle",{"$f":"COUNTIF(Q$5:Q521, Q521 )","v":1},{"$f":"_xlfn.IFS(D$2=X$4, X521, D$2=Y$4, Y521,D$2=Z$4, Z521,D$2=AA$4, AA521)","v":4},4,{"$f":"IF(R521=1, _xlfn.IFNA(VLOOKUP(Q521, 'Allocation Change Graph'!BF$7:BG$20, 2, FALSE), 0), 0)","v":0},0.85,3.4,null,null,4,null,null,null,2,1,1,2,1,2,2,2,2,2,null,null,null,null,null,1,2]
[null,null,"University Wide","La Jolla Campus","West Campus","Roosevelt College","Pangea","P375","B1 (Pangea Ent)","Motorcycle Section",null,null,"Yes",null,null,"Pangea","PangeaMotorcycle Section",{"$f":"COUNTIF(Q$5:Q522, Q522 )","v":3},{"$f":"_xlfn.IFS(D$2=X$4, X522, D$2=Y$4, Y522,D$2=Z$4, Z522,D$2=AA$4, AA522)","v":0},"",{"$f":"IF(R522=1, _xlfn.IFNA(VLOOKUP(Q522, 'Allocation Change Graph'!BF$7:BG$20, 2, FALSE), 0), 0)","v":0},null,"",null,null,null,null,null,null,null,null,null,null,null,null,null,null,null,null,null,null,null,null,null,0,0]
[null,null,"University Wide","La Jolla Campus","West Campus","Roosevelt College","Pangea","P375","B1 (Pangea Ent)","Reserved",null,null,"Yes","Yes",null,"Pangea","PangeaReserved",{"$f":"COUNTIF(Q$5:Q523, Q523 )","v":1},{"$f":"_xlfn.IFS(D$2=X$4, X523, D$2=Y$4, Y523,D$2=Z$4, Z523,D$2=AA$4, AA523)","v":3},3,{"$f":"IF(R523=1, _xlfn.IFNA(VLOOKUP(Q523, 'Allocation Change Graph'!BF$7:BG$20, 2, FALSE), 0), 0)","v":0},0.85,2.5499999999999998,null,null,3,null,null,null,3,2,2,1,2,3,2,1,2,2,null,null,null,null,null,1,3]
[null,null,"University Wide","La Jolla Campus","West Campus","Roosevelt College","Pangea","P375","B1 (Pangea Ent)","UC Vehicle",null,null,"Yes",null,null,"Pangea","PangeaUC Vehicle",{"$f":"COUNTIF(Q$5:Q524, Q524 )","v":2},{"$f":"_xlfn.IFS(D$2=X$4, X524, D$2=Y$4, Y524,D$2=Z$4, Z524,D$2=AA$4, AA524)","v":2},"",{"$f":"IF(R524=1, _xlfn.IFNA(VLOOKUP(Q524, 'Allocation Change Graph'!BF$7:BG$20, 2, FALSE), 0), 0)","v":0},null,"",null,null,2,null,null,null,null,null,null,null,null,null,null,null,null,null,null,null,null,null,null,0,0]
[null,null,"University Wide","La Jolla Campus","West Campus","Roosevelt College","Pangea","P376","Roof (Ground at Scholars Dr)","A",null,null,"Yes",null,null,"Pangea","PangeaA",{"$f":"COUNTIF(Q$5:Q525, Q525 )","v":3},{"$f":"_xlfn.IFS(D$2=X$4, X525, D$2=Y$4, Y525,D$2=Z$4, Z525,D$2=AA$4, AA525)","v":23},"",{"$f":"IF(R525=1, _xlfn.IFNA(VLOOKUP(Q525, 'Allocation Change Graph'!BF$7:BG$20, 2, FALSE), 0), 0)","v":0},null,"",null,null,23,null,null,null,null,null,null,null,null,null,null,null,null,null,null,null,null,null,null,0,0]
[null,null,"University Wide","La Jolla Campus","West Campus","Roosevelt College","Pangea","P376","Roof (Ground at Scholars Dr)","Accessible",null,null,"Yes",null,null,"Pangea","PangeaAccessible",{"$f":"COUNTIF(Q$5:Q526, Q526 )","v":2},{"$f":"_xlfn.IFS(D$2=X$4, X526, D$2=Y$4, Y526,D$2=Z$4, Z526,D$2=AA$4, AA526)","v":10},"",{"$f":"IF(R526=1, _xlfn.IFNA(VLOOKUP(Q526, 'Allocation Change Graph'!BF$7:BG$20, 2, FALSE), 0), 0)","v":0},null,"",null,null,10,null,null,null,null,null,null,null,null,null,null,null,null,null,null,null,null,null,null,0,0]
[null,null,"University Wide","La Jolla Campus","West Campus","Roosevelt College","Pangea","P376","Roof (Ground at Scholars Dr)","Accessible (Van)",null,null,"Yes",null,null,"Pangea","PangeaAccessible (Van)",{"$f":"COUNTIF(Q$5:Q527, Q527 )","v":2},{"$f":"_xlfn.IFS(D$2=X$4, X527, D$2=Y$4, Y527,D$2=Z$4, Z527,D$2=AA$4, AA527)","v":0},"",{"$f":"IF(R527=1, _xlfn.IFNA(VLOOKUP(Q527, 'Allocation Change Graph'!BF$7:BG$20, 2, FALSE), 0), 0)","v":0},null,"",null,null,null,null,null,null,null,null,null,null,null,null,null,null,null,null,null,null,null,null,null,0,0]
[null,null,"University Wide","La Jolla Campus","West Campus","Roosevelt College","Pangea","P376","Roof (Ground at Scholars Dr)","Motorcycle Section",null,null,"Yes",null,null,"Pangea","PangeaMotorcycle Section",{"$f":"COUNTIF(Q$5:Q528, Q528 )","v":4},{"$f":"_xlfn.IFS(D$2=X$4, X528, D$2=Y$4, Y528,D$2=Z$4, Z528,D$2=AA$4, AA528)","v":0},"",{"$f":"IF(R528=1, _xlfn.IFNA(VLOOKUP(Q528, 'Allocation Change Graph'!BF$7:BG$20, 2, FALSE), 0), 0)","v":0},null,"",null,null,null,null,null,null,null,null,null,null,null,null,null,null,null,null,null,null,null,null,null,0,0]
[null,null,"University Wide","La Jolla Campus","West Campus","Roosevelt College","Pangea","P376","Roof (Ground at Scholars Dr)","Motorcycle Section",null,null,"Yes",null,null,"Pangea","PangeaMotorcycle Section",{"$f":"COUNTIF(Q$5:Q529, Q529 )","v":5},{"$f":"_xlfn.IFS(D$2=X$4, X529, D$2=Y$4, Y529,D$2=Z$4, Z529,D$2=AA$4, AA529)","v":0},"",{"$f":"IF(R529=1, _xlfn.IFNA(VLOOKUP(Q529, 'Allocation Change Graph'!BF$7:BG$20, 2, FALSE), 0), 0)","v":0},null,"",null,null,null,null,null,null,null,null,null,null,null,null,null,null,null,null,null,null,null,null,null,0,0]
[null,null,"University Wide","La Jolla Campus","West Campus","Roosevelt College","Pangea","P376","Roof (Ground at Scholars Dr)","Reserved","Enterprise",null,"Yes","Yes",null,"Pangea","PangeaReservedEnterprise",{"$f":"COUNTIF(Q$5:Q530, Q530 )","v":1},{"$f":"_xlfn.IFS(D$2=X$4, X530, D$2=Y$4, Y530,D$2=Z$4, Z530,D$2=AA$4, AA530)","v":4},4,{"$f":"IF(R530=1, _xlfn.IFNA(VLOOKUP(Q530, 'Allocation Change Graph'!BF$7:BG$20, 2, FALSE), 0), 0)","v":0},0.85,3.4,null,null,4,null,null,null,2,2,2,2,2,3,4,4,4,3,null,null,null,null,null,2,4]
[null,null,"University Wide","La Jolla Campus","West Campus","Roosevelt College","Pangea","P376","Roof (Ground at Scholars Dr)","Visitor",null,null,"Yes","Yes","Yes","Pangea","PangeaVisitor",{"$f":"COUNTIF(Q$5:Q531, Q531 )","v":1},{"$f":"_xlfn.IFS(D$2=X$4, X531, D$2=Y$4, Y531,D$2=Z$4, Z531,D$2=AA$4, AA531)","v":76},76,{"$f":"IF(R531=1, _xlfn.IFNA(VLOOKUP(Q531, 'Allocation Change Graph'!BF$7:BG$20, 2, FALSE), 0), 0)","v":0},0.85,64.599999999999994,null,null,76,null,null,null,69,44,43,26,29,27,36,44,52,43,null,null,null,null,null,26,69]
[null,null,"University Wide","La Jolla Campus","West Campus","North Torrey Pines Living and Learning","Scholars","P211","B2","Accessible",null,null,"Yes","Yes",null,"Scholars","ScholarsAccessible",{"$f":"COUNTIF(Q$5:Q532, Q532 )","v":1},{"$f":"_xlfn.IFS(D$2=X$4, X532, D$2=Y$4, Y532,D$2=Z$4, Z532,D$2=AA$4, AA532)","v":4},48,{"$f":"IF(R532=1, _xlfn.IFNA(VLOOKUP(Q532, 'Allocation Change Graph'!BF$7:BG$20, 2, FALSE), 0), 0)","v":0},0.85,40.799999999999997,null,null,4,null,null,null,33,29,27,24,17,8,7,11,25,32,null,null,null,null,null,7,33]
[null,null,"University Wide","La Jolla Campus","West Campus","North Torrey Pines Living and Learning","Scholars","P211","B2","Accessible (Van)",null,null,"Yes","Yes",null,"Scholars","ScholarsAccessible (Van)",{"$f":"COUNTIF(Q$5:Q533, Q533 )","v":1},{"$f":"_xlfn.IFS(D$2=X$4, X533, D$2=Y$4, Y533,D$2=Z$4, Z533,D$2=AA$4, AA533)","v":9},12,{"$f":"IF(R533=1, _xlfn.IFNA(VLOOKUP(Q533, 'Allocation Change Graph'!BF$7:BG$20, 2, FALSE), 0), 0)","v":0},0.85,10.199999999999999,null,null,9,null,null,null,9,8,8,7,7,6,5,7,8,10,null,null,null,null,null,5,10]
[null,null,"University Wide","La Jolla Campus","West Campus","North Torrey Pines Living and Learning","Scholars","P211","B2","B",null,null,"Yes","Yes","Yes","Scholars","ScholarsB",{"$f":"COUNTIF(Q$5:Q534, Q534 )","v":1},{"$f":"_xlfn.IFS(D$2=X$4, X534, D$2=Y$4, Y534,D$2=Z$4, Z534,D$2=AA$4, AA534)","v":341},381,{"$f":"IF(R534=1, _xlfn.IFNA(VLOOKUP(Q534, 'Allocation Change Graph'!BF$7:BG$20, 2, FALSE), 0), 0)","v":0},0.9,342.90000000000003,null,null,341,null,null,null,321,285,267,230,193,154,141,178,254,297,null,null,null,null,null,141,321]
[null,null,"University Wide","La Jolla Campus","West Campus","North Torrey Pines Living and Learning","Scholars","P211","B2","Motorcycle Section",null,null,"Yes","Yes",null,"Scholars","ScholarsMotorcycle Section",{"$f":"COUNTIF(Q$5:Q535, Q535 )","v":1},{"$f":"_xlfn.IFS(D$2=X$4, X535, D$2=Y$4, Y535,D$2=Z$4, Z535,D$2=AA$4, AA535)","v":30},30,{"$f":"IF(R535=1, _xlfn.IFNA(VLOOKUP(Q535, 'Allocation Change Graph'!BF$7:BG$20, 2, FALSE), 0), 0)","v":0},0.85,25.5,null,null,30,null,null,null,24,23,20,17,15,18,16,19,21,28,null,null,null,null,null,15,28]
[null,null,"University Wide","La Jolla Campus","West Campus","North Torrey Pines Living and Learning","Scholars","P211","B2","Reserved",null,null,"Yes","Yes",null,"Scholars","ScholarsReserved",{"$f":"COUNTIF(Q$5:Q536, Q536 )","v":1},{"$f":"_xlfn.IFS(D$2=X$4, X536, D$2=Y$4, Y536,D$2=Z$4, Z536,D$2=AA$4, AA536)","v":4},26,{"$f":"IF(R536=1, _xlfn.IFNA(VLOOKUP(Q536, 'Allocation Change Graph'!BF$7:BG$20, 2, FALSE), 0), 0)","v":0},0.85,22.099999999999998,null,null,4,null,null,null,21,20,19,15,14,12,10,13,16,18,null,null,null,null,null,10,21]
[null,null,"University Wide","La Jolla Campus","West Campus","North Torrey Pines Living and Learning","Scholars","P211","B2","SR",null,null,"Yes","Yes","Yes","Scholars","ScholarsSR",{"$f":"COUNTIF(Q$5:Q537, Q537 )","v":1},{"$f":"_xlfn.IFS(D$2=X$4, X537, D$2=Y$4, Y537,D$2=Z$4, Z537,D$2=AA$4, AA537)","v":103},103,{"$f":"IF(R537=1, _xlfn.IFNA(VLOOKUP(Q537, 'Allocation Change Graph'!BF$7:BG$20, 2, FALSE), 0), 0)","v":0},0.9,92.7,null,null,103,null,null,null,77,69,65,53,48,32,28,25,45,67,null,null,null,null,null,25,77]
[null,null,"University Wide","La Jolla Campus","West Campus","North Torrey Pines Living and Learning","Scholars","P212","B1","A",null,null,"Yes","Yes","Yes","Scholars","ScholarsA",{"$f":"COUNTIF(Q$5:Q538, Q538 )","v":1},{"$f":"_xlfn.IFS(D$2=X$4, X538, D$2=Y$4, Y538,D$2=Z$4, Z538,D$2=AA$4, AA538)","v":295},295,{"$f":"IF(R538=1, _xlfn.IFNA(VLOOKUP(Q538, 'Allocation Change Graph'!BF$7:BG$20, 2, FALSE), 0), 0)","v":0},0.9,265.5,null,null,295,null,null,null,252,227,217,189,102,98,119,12,156,195,null,null,null,null,null,12,252]
[null,null,"University Wide","La Jolla Campus","West Campus","North Torrey Pines Living and Learning","Scholars","P212","B1","Accessible",null,null,"Yes",null,null,"Scholars","ScholarsAccessible",{"$f":"COUNTIF(Q$5:Q539, Q539 )","v":2},{"$f":"_xlfn.IFS(D$2=X$4, X539, D$2=Y$4, Y539,D$2=Z$4, Z539,D$2=AA$4, AA539)","v":17},"",{"$f":"IF(R539=1, _xlfn.IFNA(VLOOKUP(Q539, 'Allocation Change Graph'!BF$7:BG$20, 2, FALSE), 0), 0)","v":0},null,"",null,null,17,null,null,null,null,null,null,null,null,null,null,null,null,null,null,null,null,null,null,0,0]
[null,null,"University Wide","La Jolla Campus","West Campus","North Torrey Pines Living and Learning","Scholars","P212","B1","Accessible (Van)",null,null,"Yes",null,null,"Scholars","ScholarsAccessible (Van)",{"$f":"COUNTIF(Q$5:Q540, Q540 )","v":2},{"$f":"_xlfn.IFS(D$2=X$4, X540, D$2=Y$4, Y540,D$2=Z$4, Z540,D$2=AA$4, AA540)","v":2},"",{"$f":"IF(R540=1, _xlfn.IFNA(VLOOKUP(Q540, 'Allocation Change Graph'!BF$7:BG$20, 2, FALSE), 0), 0)","v":0},null,"",null,null,2,null,null,null,null,null,null,null,null,null,null,null,null,null,null,null,null,null,null,0,0]
[null,null,"University Wide","La Jolla Campus","West Campus","North Torrey Pines Living and Learning","Scholars","P212","B1","B",null,null,"Yes",null,null,"Scholars","ScholarsB",{"$f":"COUNTIF(Q$5:Q541, Q541 )","v":2},{"$f":"_xlfn.IFS(D$2=X$4, X541, D$2=Y$4, Y541,D$2=Z$4, Z541,D$2=AA$4, AA541)","v":40},"",{"$f":"IF(R541=1, _xlfn.IFNA(VLOOKUP(Q541, 'Allocation Change Graph'!BF$7:BG$20, 2, FALSE), 0), 0)","v":0},null,"",null,null,40,null,null,null,null,null,null,null,null,null,null,null,null,null,null,null,null,null,null,0,0]
[null,null,"University Wide","La Jolla Campus","West Campus","North Torrey Pines Living and Learning","Scholars","P212","B1","Carpool","2 Person",null,"Yes","Yes","Yes","Scholars","ScholarsCarpool2 Person",{"$f":"COUNTIF(Q$5:Q542, Q542 )","v":1},{"$f":"_xlfn.IFS(D$2=X$4, X542, D$2=Y$4, Y542,D$2=Z$4, Z542,D$2=AA$4, AA542)","v":92},92,{"$f":"IF(R542=1, _xlfn.IFNA(VLOOKUP(Q542, 'Allocation Change Graph'!BF$7:BG$20, 2, FALSE), 0), 0)","v":0},0.85,78.2,null,null,92,null,null,null,73,69,67,63,54,48,53,65,62,71,null,null,null,null,null,48,73]
[null,null,"University Wide","La Jolla Campus","West Campus","North Torrey Pines Living and Learning","Scholars","P212","B1","Motorcycle Section",null,null,"Yes",null,null,"Scholars","ScholarsMotorcycle Section",{"$f":"COUNTIF(Q$5:Q543, Q543 )","v":2},{"$f":"_xlfn.IFS(D$2=X$4, X543, D$2=Y$4, Y543,D$2=Z$4, Z543,D$2=AA$4, AA543)","v":0},"",{"$f":"IF(R543=1, _xlfn.IFNA(VLOOKUP(Q543, 'Allocation Change Graph'!BF$7:BG$20, 2, FALSE), 0), 0)","v":0},null,"",null,null,null,null,null,null,null,null,null,null,null,null,null,null,null,null,null,null,null,null,null,0,0]
[null,null,"University Wide","La Jolla Campus","West Campus","North Torrey Pines Living and Learning","Scholars","P212","B1","Reserved",null,null,"Yes",null,null,"Scholars","ScholarsReserved",{"$f":"COUNTIF(Q$5:Q544, Q544 )","v":2},{"$f":"_xlfn.IFS(D$2=X$4, X544, D$2=Y$4, Y544,D$2=Z$4, Z544,D$2=AA$4, AA544)","v":8},"",{"$f":"IF(R544=1, _xlfn.IFNA(VLOOKUP(Q544, 'Allocation Change Graph'!BF$7:BG$20, 2, FALSE), 0), 0)","v":0},null,"",null,null,8,null,null,null,null,null,null,null,null,null,null,null,null,null,null,null,null,null,null,0,0]
[null,null,"University Wide","La Jolla Campus","West Campus","North Torrey Pines Living and Learning","Scholars","P212","B1","Service Yard",null,null,"Yes","Yes",null,"Scholars","ScholarsService Yard",{"$f":"COUNTIF(Q$5:Q545, Q545 )","v":1},{"$f":"_xlfn.IFS(D$2=X$4, X545, D$2=Y$4, Y545,D$2=Z$4, Z545,D$2=AA$4, AA545)","v":4},4,{"$f":"IF(R545=1, _xlfn.IFNA(VLOOKUP(Q545, 'Allocation Change Graph'!BF$7:BG$20, 2, FALSE), 0), 0)","v":0},0.85,3.4,null,null,4,null,null,null,4,3,3,3,2,1,1,2,3,4,null,null,null,null,null,1,4]
[null,null,"University Wide","La Jolla Campus","West Campus","North Torrey Pines Living and Learning","Scholars","P212","B1","Visitor",null,null,"Yes","Yes","Yes","Scholars","ScholarsVisitor",{"$f":"COUNTIF(Q$5:Q546, Q546 )","v":1},{"$f":"_xlfn.IFS(D$2=X$4, X546, D$2=Y$4, Y546,D$2=Z$4, Z546,D$2=AA$4, AA546)","v":42},42,{"$f":"IF(R546=1, _xlfn.IFNA(VLOOKUP(Q546, 'Allocation Change Graph'!BF$7:BG$20, 2, FALSE), 0), 0)","v":0},0.85,35.699999999999996,null,null,42,null,null,null,37,35,32,27,24,7,5,12,20,25,null,null,null,null,null,5,37]
[null,null,"University Wide","La Jolla Campus","West Campus","North Torrey Pines Living and Learning","Scholars","P213","Ground","Accessible",null,null,"Yes",null,null,"Scholars","ScholarsAccessible",{"$f":"COUNTIF(Q$5:Q547, Q547 )","v":3},{"$f":"_xlfn.IFS(D$2=X$4, X547, D$2=Y$4, Y547,D$2=Z$4, Z547,D$2=AA$4, AA547)","v":27},"",{"$f":"IF(R547=1, _xlfn.IFNA(VLOOKUP(Q547, 'Allocation Change Graph'!BF$7:BG$20, 2, FALSE), 0), 0)","v":0},null,"",null,null,27,null,null,null,null,null,null,null,null,null,null,null,null,null,null,null,null,null,null,0,0]
[null,null,"University Wide","La Jolla Campus","West Campus","North Torrey Pines Living and Learning","Scholars","P213","Ground","Accessible (Van)",null,"4-Hours","Yes","Yes",null,"Scholars","ScholarsAccessible (Van)4-Hours",{"$f":"COUNTIF(Q$5:Q548, Q548 )","v":1},{"$f":"_xlfn.IFS(D$2=X$4, X548, D$2=Y$4, Y548,D$2=Z$4, Z548,D$2=AA$4, AA548)","v":0},0,{"$f":"IF(R548=1, _xlfn.IFNA(VLOOKUP(Q548, 'Allocation Change Graph'!BF$7:BG$20, 2, FALSE), 0), 0)","v":0},0.85,0,null,null,0,null,null,null,0,0,0,0,0,0,0,0,0,0,null,null,null,null,null,0,0]
[null,null,"University Wide","La Jolla Campus","West Campus","North Torrey Pines Living and Learning","Scholars","P213","Ground","Accessible (Van)",null,null,"Yes",null,null,"Scholars","ScholarsAccessible (Van)",{"$f":"COUNTIF(Q$5:Q549, Q549 )","v":3},{"$f":"_xlfn.IFS(D$2=X$4, X549, D$2=Y$4, Y549,D$2=Z$4, Z549,D$2=AA$4, AA549)","v":1},"",{"$f":"IF(R549=1, _xlfn.IFNA(VLOOKUP(Q549, 'Allocation Change Graph'!BF$7:BG$20, 2, FALSE), 0), 0)","v":0},null,"",null,null,1,null,null,null,null,null,null,null,null,null,null,null,null,null,null,null,null,null,null,0,0]
[null,null,"University Wide","La Jolla Campus","West Campus","North Torrey Pines Living and Learning","Scholars","P213","Ground","Electric Vehicle","ADA","4-Hours","Yes","Yes",null,"Scholars","ScholarsElectric VehicleADA4-Hours",{"$f":"COUNTIF(Q$5:Q550, Q550 )","v":1},{"$f":"_xlfn.IFS(D$2=X$4, X550, D$2=Y$4, Y550,D$2=Z$4, Z550,D$2=AA$4, AA550)","v":5},5,{"$f":"IF(R550=1, _xlfn.IFNA(VLOOKUP(Q550, 'Allocation Change Graph'!BF$7:BG$20, 2, FALSE), 0), 0)","v":0},0.85,4.25,null,null,5,null,null,null,4,4,3,3,3,0,3,2,1,4,null,null,null,null,null,0,4]
[null,null,"University Wide","La Jolla Campus","West Campus","North Torrey Pines Living and Learning","Scholars","P213","Ground","Electric Vehicle",null,null,"Yes","Yes",null,"Scholars","ScholarsElectric Vehicle",{"$f":"COUNTIF(Q$5:Q551, Q551 )","v":1},{"$f":"_xlfn.IFS(D$2=X$4, X551, D$2=Y$4, Y551,D$2=Z$4, Z551,D$2=AA$4, AA551)","v":30},30,{"$f":"IF(R551=1, _xlfn.IFNA(VLOOKUP(Q551, 'Allocation Change Graph'!BF$7:BG$20, 2, FALSE), 0), 0)","v":0},0.85,25.5,null,null,30,null,null,null,23,22,20,18,15,7,8,11,14,21,null,null,null,null,null,7,23]
[null,null,"University Wide","La Jolla Campus","West Campus","North Torrey Pines Living and Learning","Scholars","P213","Ground","Motorcycle Section",null,null,"Yes",null,null,"Scholars","ScholarsMotorcycle Section",{"$f":"COUNTIF(Q$5:Q552, Q552 )","v":3},{"$f":"_xlfn.IFS(D$2=X$4, X552, D$2=Y$4, Y552,D$2=Z$4, Z552,D$2=AA$4, AA552)","v":0},"",{"$f":"IF(R552=1, _xlfn.IFNA(VLOOKUP(Q552, 'Allocation Change Graph'!BF$7:BG$20, 2, FALSE), 0), 0)","v":0},null,"",null,null,null,null,null,null,null,null,null,null,null,null,null,null,null,null,null,null,null,null,null,0,0]
[null,null,"University Wide","La Jolla Campus","West Campus","North Torrey Pines Living and Learning","Scholars","P213","Ground","Reserved","Food Pickup",15,"Yes","Yes",null,"Scholars","ScholarsReservedFood Pickup15",{"$f":"COUNTIF(Q$5:Q553, Q553 )","v":1},{"$f":"_xlfn.IFS(D$2=X$4, X553, D$2=Y$4, Y553,D$2=Z$4, Z553,D$2=AA$4, AA553)","v":3},3,{"$f":"IF(R553=1, _xlfn.IFNA(VLOOKUP(Q553, 'Allocation Change Graph'!BF$7:BG$20, 2, FALSE), 0), 0)","v":0},0.85,2.5499999999999998,null,null,3,null,null,null,2,2,2,1,2,1,1,2,1,2,null,null,null,null,null,1,2]
[null,null,"University Wide","La Jolla Campus","West Campus","North Torrey Pines Living and Learning","Scholars","P213","Ground","Reserved",null,null,"Yes",null,null,"Scholars","ScholarsReserved",{"$f":"COUNTIF(Q$5:Q554, Q554 )","v":3},{"$f":"_xlfn.IFS(D$2=X$4, X554, D$2=Y$4, Y554,D$2=Z$4, Z554,D$2=AA$4, AA554)","v":14},"",{"$f":"IF(R554=1, _xlfn.IFNA(VLOOKUP(Q554, 'Allocation Change Graph'!BF$7:BG$20, 2, FALSE), 0), 0)","v":0},null,"",null,null,14,null,null,null,null,null,null,null,null,null,null,null,null,null,null,null,null,null,null,0,0]
[null,null,"University Wide","La Jolla Campus","West Campus","North Torrey Pines Living and Learning","Scholars","P213","Ground","Visitor","2-Hour Limit",60,"Yes","Yes","Yes","Scholars","ScholarsVisitor2-Hour Limit60",{"$f":"COUNTIF(Q$5:Q555, Q555 )","v":1},{"$f":"_xlfn.IFS(D$2=X$4, X555, D$2=Y$4, Y555,D$2=Z$4, Z555,D$2=AA$4, AA555)","v":111},111,{"$f":"IF(R555=1, _xlfn.IFNA(VLOOKUP(Q555, 'Allocation Change Graph'!BF$7:BG$20, 2, FALSE), 0), 0)","v":0},0.85,94.35,null,null,111,null,null,null,72,68,65,58,52,29,25,32,68,81,null,null,null,null,null,25,81]
[null,null,"University Wide","La Jolla Campus","West Campus","Health Sciences West","South","P651","Basement (Level 1)","A",null,null,"Yes","Yes","Yes","South","SouthA",{"$f":"COUNTIF(Q$5:Q556, Q556 )","v":1},{"$f":"_xlfn.IFS(D$2=X$4, X556, D$2=Y$4, Y556,D$2=Z$4, Z556,D$2=AA$4, AA556)","v":185},449,{"$f":"IF(R556=1, _xlfn.IFNA(VLOOKUP(Q556, 'Allocation Change Graph'!BF$7:BG$20, 2, FALSE), 0), 0)","v":0},0.9,404.1,null,null,185,null,null,null,208,147,180,172,139,94,105,141,189,267,null,null,null,null,null,94,267]
[null,null,"University Wide","La Jolla Campus","West Campus","Health Sciences West","South","P651","Basement (Level 1)","Accessible",null,null,"Yes","Yes",null,"South","SouthAccessible",{"$f":"COUNTIF(Q$5:Q557, Q557 )","v":1},{"$f":"_xlfn.IFS(D$2=X$4, X557, D$2=Y$4, Y557,D$2=Z$4, Z557,D$2=AA$4, AA557)","v":1},22,{"$f":"IF(R557=1, _xlfn.IFNA(VLOOKUP(Q557, 'Allocation Change Graph'!BF$7:BG$20, 2, FALSE), 0), 0)","v":0},0.85,18.7,null,null,1,null,null,null,12,9,10,8,9,8,4,4,7,10,null,null,null,null,null,4,12]
[null,null,"University Wide","La Jolla Campus","West Campus","Health Sciences West","South","P651","Basement (Level 1)","Accessible (Van)",null,null,"Yes","Yes",null,"South","SouthAccessible (Van)",{"$f":"COUNTIF(Q$5:Q558, Q558 )","v":1},{"$f":"_xlfn.IFS(D$2=X$4, X558, D$2=Y$4, Y558,D$2=Z$4, Z558,D$2=AA$4, AA558)","v":0},1,{"$f":"IF(R558=1, _xlfn.IFNA(VLOOKUP(Q558, 'Allocation Change Graph'!BF$7:BG$20, 2, FALSE), 0), 0)","v":0},0.85,0.85,null,null,0,null,null,null,1,0,0,0,0,0,0,0,1,1,null,null,null,null,null,0,1]
[null,null,"University Wide","La Jolla Campus","West Campus","Health Sciences West","South","P651","Basement (Level 1)","Electric Vehicle",null,null,"Yes","Yes",null,"South","SouthElectric Vehicle",{"$f":"COUNTIF(Q$5:Q559, Q559 )","v":1},{"$f":"_xlfn.IFS(D$2=X$4, X559, D$2=Y$4, Y559,D$2=Z$4, Z559,D$2=AA$4, AA559)","v":8},30,{"$f":"IF(R559=1, _xlfn.IFNA(VLOOKUP(Q559, 'Allocation Change Graph'!BF$7:BG$20, 2, FALSE), 0), 0)","v":0},0.85,25.5,null,null,8,null,null,null,12,10,13,17,17,17,14,12,18,20,null,null,null,null,null,10,20]
[null,null,"University Wide","La Jolla Campus","West Campus","Health Sciences West","South","P651","Basement (Level 1)","Motorcycle Section",null,null,"Yes","Yes",null,"South","SouthMotorcycle Section",{"$f":"COUNTIF(Q$5:Q560, Q560 )","v":1},{"$f":"_xlfn.IFS(D$2=X$4, X560, D$2=Y$4, Y560,D$2=Z$4, Z560,D$2=AA$4, AA560)","v":3},15,{"$f":"IF(R560=1, _xlfn.IFNA(VLOOKUP(Q560, 'Allocation Change Graph'!BF$7:BG$20, 2, FALSE), 0), 0)","v":0},0.85,12.75,null,null,3,null,null,null,13,13,14,15,15,10,10,11,12,12,null,null,null,null,null,10,15]
[null,null,"University Wide","La Jolla Campus","West Campus","Health Sciences West","South","P651","Basement (Level 1)","S",null,null,"Yes","Yes","Yes","South","SouthS",{"$f":"COUNTIF(Q$5:Q561, Q561 )","v":1},{"$f":"_xlfn.IFS(D$2=X$4, X561, D$2=Y$4, Y561,D$2=Z$4, Z561,D$2=AA$4, AA561)","v":1},1,{"$f":"IF(R561=1, _xlfn.IFNA(VLOOKUP(Q561, 'Allocation Change Graph'!BF$7:BG$20, 2, FALSE), 0), 0)","v":0},0.9,0.9,null,null,1,null,null,null,1,1,1,0,0,0,0,0,0,0,null,null,null,null,null,0,1]
[null,null,"University Wide","La Jolla Campus","West Campus","Health Sciences West","South","P651","Basement (Level 1)","Service Yard",null,null,"Yes","Yes",null,"South","SouthService Yard",{"$f":"COUNTIF(Q$5:Q562, Q562 )","v":1},{"$f":"_xlfn.IFS(D$2=X$4, X562, D$2=Y$4, Y562,D$2=Z$4, Z562,D$2=AA$4, AA562)","v":2},2,{"$f":"IF(R562=1, _xlfn.IFNA(VLOOKUP(Q562, 'Allocation Change Graph'!BF$7:BG$20, 2, FALSE), 0), 0)","v":0},0.85,1.7,null,null,2,null,null,null,2,2,2,2,1,1,1,1,1,1,null,null,null,null,null,1,2]
[null,null,"University Wide","La Jolla Campus","West Campus","Health Sciences West","South","P651","Basement (Level 1)","SR",null,null,"Yes","Yes","Yes","South","SouthSR",{"$f":"COUNTIF(Q$5:Q563, Q563 )","v":1},{"$f":"_xlfn.IFS(D$2=X$4, X563, D$2=Y$4, Y563,D$2=Z$4, Z563,D$2=AA$4, AA563)","v":68},68,{"$f":"IF(R563=1, _xlfn.IFNA(VLOOKUP(Q563, 'Allocation Change Graph'!BF$7:BG$20, 2, FALSE), 0), 0)","v":0},0.9,61.2,null,null,68,null,null,null,31,28,30,26,24,15,14,16,28,29,null,null,null,null,null,14,31]
[null,null,"University Wide","La Jolla Campus","West Campus","Health Sciences West","South","P651","Basement (Level 1)","UC Vehicle","UC Cart",null,"Yes","Yes",null,"South","SouthUC VehicleUC Cart",{"$f":"COUNTIF(Q$5:Q564, Q564 )","v":1},{"$f":"_xlfn.IFS(D$2=X$4, X564, D$2=Y$4, Y564,D$2=Z$4, Z564,D$2=AA$4, AA564)","v":3},9,{"$f":"IF(R564=1, _xlfn.IFNA(VLOOKUP(Q564, 'Allocation Change Graph'!BF$7:BG$20, 2, FALSE), 0), 0)","v":0},0.85,7.6499999999999995,null,null,3,null,null,null,9,9,9,9,9,5,6,5,5,4,null,null,null,null,null,4,9]
[null,null,"University Wide","La Jolla Campus","West Campus","Health Sciences West","South","P651","Basement (Level 1)","UC Vehicle",null,null,"Yes","Yes",null,"South","SouthUC Vehicle",{"$f":"COUNTIF(Q$5:Q565, Q565 )","v":1},{"$f":"_xlfn.IFS(D$2=X$4, X565, D$2=Y$4, Y565,D$2=Z$4, Z565,D$2=AA$4, AA565)","v":4},4,{"$f":"IF(R565=1, _xlfn.IFNA(VLOOKUP(Q565, 'Allocation Change Graph'!BF$7:BG$20, 2, FALSE), 0), 0)","v":0},0.85,3.4,null,null,4,null,null,null,4,4,4,4,4,4,3,3,3,3,null,null,null,null,null,3,4]
[null,null,"University Wide","La Jolla Campus","West Campus","Health Sciences West","South","P652","Level 2","A",null,null,"Yes",null,null,"South","SouthA",{"$f":"COUNTIF(Q$5:Q566, Q566 )","v":2},{"$f":"_xlfn.IFS(D$2=X$4, X566, D$2=Y$4, Y566,D$2=Z$4, Z566,D$2=AA$4, AA566)","v":240},"",{"$f":"IF(R566=1, _xlfn.IFNA(VLOOKUP(Q566, 'Allocation Change Graph'!BF$7:BG$20, 2, FALSE), 0), 0)","v":0},null,"",null,null,{"$f":"177+63","v":240},null,null,null,null,null,null,null,null,null,null,null,null,null,null,null,null,null,null,0,0]
[null,null,"University Wide","La Jolla Campus","West Campus","Health Sciences West","South","P652","Level 2","Accessible",null,null,"Yes",null,null,"South","SouthAccessible",{"$f":"COUNTIF(Q$5:Q567, Q567 )","v":2},{"$f":"_xlfn.IFS(D$2=X$4, X567, D$2=Y$4, Y567,D$2=Z$4, Z567,D$2=AA$4, AA567)","v":5},"",{"$f":"IF(R567=1, _xlfn.IFNA(VLOOKUP(Q567, 'Allocation Change Graph'!BF$7:BG$20, 2, FALSE), 0), 0)","v":0},null,"",null,null,5,null,null,null,null,null,null,null,null,null,null,null,null,null,null,null,null,null,null,0,0]
[null,null,"University Wide","La Jolla Campus","West Campus","Health Sciences West","South","P652","Level 2","Accessible (Van)",null,null,"Yes",null,null,"South","SouthAccessible (Van)",{"$f":"COUNTIF(Q$5:Q568, Q568 )","v":2},{"$f":"_xlfn.IFS(D$2=X$4, X568, D$2=Y$4, Y568,D$2=Z$4, Z568,D$2=AA$4, AA568)","v":0},"",{"$f":"IF(R568=1, _xlfn.IFNA(VLOOKUP(Q568, 'Allocation Change Graph'!BF$7:BG$20, 2, FALSE), 0), 0)","v":0},null,"",null,null,0,null,null,null,null,null,null,null,null,null,null,null,null,null,null,null,null,null,null,0,0]
[null,null,"University Wide","La Jolla Campus","West Campus","Health Sciences West","South","P652","Level 2","B",null,null,"Yes","Yes","Yes","South","SouthB",{"$f":"COUNTIF(Q$5:Q569, Q569 )","v":1},{"$f":"_xlfn.IFS(D$2=X$4, X569, D$2=Y$4, Y569,D$2=Z$4, Z569,D$2=AA$4, AA569)","v":0},537,{"$f":"IF(R569=1, _xlfn.IFNA(VLOOKUP(Q569, 'Allocation Change Graph'!BF$7:BG$20, 2, FALSE), 0), 0)","v":0},0.9,483.3,null,null,0,null,null,null,287,201,165,123,77,8,12,34,26,58,null,null,null,null,null,8,287]
[null,null,"University Wide","La Jolla Campus","West Campus","Health Sciences West","South","P652","Level 2","Carpool","2 Person Carpool",null,"Yes","Yes","Yes","South","SouthCarpool2 Person Carpool",{"$f":"COUNTIF(Q$5:Q570, Q570 )","v":1},{"$f":"_xlfn.IFS(D$2=X$4, X570, D$2=Y$4, Y570,D$2=Z$4, Z570,D$2=AA$4, AA570)","v":0},61,{"$f":"IF(R570=1, _xlfn.IFNA(VLOOKUP(Q570, 'Allocation Change Graph'!BF$7:BG$20, 2, FALSE), 0), 0)","v":0},0.85,51.85,null,null,{"$f":"63-63","v":0},null,null,null,41,34,31,30,32,0,4,6,4,20,null,null,null,null,null,0,41]
[null,null,"University Wide","La Jolla Campus","West Campus","Health Sciences West","South","P652","Level 2","Electric Vehicle",null,null,"Yes",null,null,"South","SouthElectric Vehicle",{"$f":"COUNTIF(Q$5:Q571, Q571 )","v":2},{"$f":"_xlfn.IFS(D$2=X$4, X571, D$2=Y$4, Y571,D$2=Z$4, Z571,D$2=AA$4, AA571)","v":8},"",{"$f":"IF(R571=1, _xlfn.IFNA(VLOOKUP(Q571, 'Allocation Change Graph'!BF$7:BG$20, 2, FALSE), 0), 0)","v":0},null,"",null,null,8,null,null,null,null,null,null,null,null,null,null,null,null,null,null,null,null,null,null,0,0]
[null,null,"University Wide","La Jolla Campus","West Campus","Health Sciences West","South","P652","Level 2","Motorcycle Section",null,null,"Yes",null,null,"South","SouthMotorcycle Section",{"$f":"COUNTIF(Q$5:Q572, Q572 )","v":2},{"$f":"_xlfn.IFS(D$2=X$4, X572, D$2=Y$4, Y572,D$2=Z$4, Z572,D$2=AA$4, AA572)","v":3},"",{"$f":"IF(R572=1, _xlfn.IFNA(VLOOKUP(Q572, 'Allocation Change Graph'!BF$7:BG$20, 2, FALSE), 0), 0)","v":0},null,"",null,null,3,null,null,null,null,null,null,null,null,null,null,null,null,null,null,null,null,null,null,0,0]
[null,null,"University Wide","La Jolla Campus","West Campus","Health Sciences West","South","P652","Level 2","S",null,null,"Yes",null,null,"South","SouthS",{"$f":"COUNTIF(Q$5:Q573, Q573 )","v":2},{"$f":"_xlfn.IFS(D$2=X$4, X573, D$2=Y$4, Y573,D$2=Z$4, Z573,D$2=AA$4, AA573)","v":0},"",{"$f":"IF(R573=1, _xlfn.IFNA(VLOOKUP(Q573, 'Allocation Change Graph'!BF$7:BG$20, 2, FALSE), 0), 0)","v":0},null,"",null,null,0,null,null,null,null,null,null,null,null,null,null,null,null,null,null,null,null,null,null,0,0]
[null,null,"University Wide","La Jolla Campus","West Campus","Health Sciences West","South","P652","Level 2","UC Vehicle","UC Cart",null,"Yes",null,null,"South","SouthUC VehicleUC Cart",{"$f":"COUNTIF(Q$5:Q574, Q574 )","v":2},{"$f":"_xlfn.IFS(D$2=X$4, X574, D$2=Y$4, Y574,D$2=Z$4, Z574,D$2=AA$4, AA574)","v":2},"",{"$f":"IF(R574=1, _xlfn.IFNA(VLOOKUP(Q574, 'Allocation Change Graph'!BF$7:BG$20, 2, FALSE), 0), 0)","v":0},null,"",null,null,2,null,null,null,null,null,null,null,null,null,null,null,null,null,null,null,null,null,null,0,0]
[null,null,"University Wide","La Jolla Campus","West Campus","Health Sciences West","South","P653","Level 3","A",null,null,"Yes","Yes","Yes","South","SouthA",{"$f":"COUNTIF(Q$5:Q575, Q575 )","v":3},{"$f":"_xlfn.IFS(D$2=X$4, X575, D$2=Y$4, Y575,D$2=Z$4, Z575,D$2=AA$4, AA575)","v":24},"",{"$f":"IF(R575=1, _xlfn.IFNA(VLOOKUP(Q575, 'Allocation Change Graph'!BF$7:BG$20, 2, FALSE), 0), 0)","v":0},null,"",null,null,{"$f":"0+24","v":24},null,null,null,null,null,null,null,null,null,null,null,null,null,null,null,null,null,null,0,0]
[null,null,"University Wide","La Jolla Campus","West Campus","Health Sciences West","South","P653","Level 3","Accessible",null,null,"Yes",null,null,"South","SouthAccessible",{"$f":"COUNTIF(Q$5:Q576, Q576 )","v":3},{"$f":"_xlfn.IFS(D$2=X$4, X576, D$2=Y$4, Y576,D$2=Z$4, Z576,D$2=AA$4, AA576)","v":5},"",{"$f":"IF(R576=1, _xlfn.IFNA(VLOOKUP(Q576, 'Allocation Change Graph'!BF$7:BG$20, 2, FALSE), 0), 0)","v":0},null,"",null,null,5,null,null,null,null,null,null,null,null,null,null,null,null,null,null,null,null,null,null,0,0]
[null,null,"University Wide","La Jolla Campus","West Campus","Health Sciences West","South","P653","Level 3","Accessible (Van)",null,null,"Yes",null,null,"South","SouthAccessible (Van)",{"$f":"COUNTIF(Q$5:Q577, Q577 )","v":3},{"$f":"_xlfn.IFS(D$2=X$4, X577, D$2=Y$4, Y577,D$2=Z$4, Z577,D$2=AA$4, AA577)","v":1},"",{"$f":"IF(R577=1, _xlfn.IFNA(VLOOKUP(Q577, 'Allocation Change Graph'!BF$7:BG$20, 2, FALSE), 0), 0)","v":0},null,"",null,null,1,null,null,null,null,null,null,null,null,null,null,null,null,null,null,null,null,null,null,0,0]
[null,null,"University Wide","La Jolla Campus","West Campus","Health Sciences West","South","P653","Level 3","B",null,null,"Yes",null,null,"South","SouthB",{"$f":"COUNTIF(Q$5:Q578, Q578 )","v":2},{"$f":"_xlfn.IFS(D$2=X$4, X578, D$2=Y$4, Y578,D$2=Z$4, Z578,D$2=AA$4, AA578)","v":92},"",{"$f":"IF(R578=1, _xlfn.IFNA(VLOOKUP(Q578, 'Allocation Change Graph'!BF$7:BG$20, 2, FALSE), 0), 0)","v":0},null,"",null,null,{"$f":"116-24","v":92},null,null,null,null,null,null,null,null,null,null,null,null,null,null,null,null,null,null,0,0]
[null,null,"University Wide","La Jolla Campus","West Campus","Health Sciences West","South","P653","Level 3","Carpool","B 3-Person",null,"Yes","Yes","Yes","South","SouthCarpoolB 3-Person",{"$f":"COUNTIF(Q$5:Q579, Q579 )","v":1},{"$f":"_xlfn.IFS(D$2=X$4, X579, D$2=Y$4, Y579,D$2=Z$4, Z579,D$2=AA$4, AA579)","v":3},3,{"$f":"IF(R579=1, _xlfn.IFNA(VLOOKUP(Q579, 'Allocation Change Graph'!BF$7:BG$20, 2, FALSE), 0), 0)","v":0},0.85,2.5499999999999998,null,null,3,null,null,null,2,2,1,2,1,0,0,1,2,3,null,null,null,null,null,0,3]
[null,null,"University Wide","La Jolla Campus","West Campus","Health Sciences West","South","P653","Level 3","Electric Vehicle",null,null,"Yes",null,null,"South","SouthElectric Vehicle",{"$f":"COUNTIF(Q$5:Q580, Q580 )","v":3},{"$f":"_xlfn.IFS(D$2=X$4, X580, D$2=Y$4, Y580,D$2=Z$4, Z580,D$2=AA$4, AA580)","v":6},"",{"$f":"IF(R580=1, _xlfn.IFNA(VLOOKUP(Q580, 'Allocation Change Graph'!BF$7:BG$20, 2, FALSE), 0), 0)","v":0},null,"",null,null,6,null,null,null,null,null,null,null,null,null,null,null,null,null,null,null,null,null,null,0,0]
[null,null,"University Wide","La Jolla Campus","West Campus","Health Sciences West","South","P653","Level 3","Motorcycle Section",null,null,"Yes",null,null,{"$f":"IF(G581=\"Surface Lot\", H581, G581)","v":"South"},{"$f":"P581&J581&K581&L581","v":"SouthMotorcycle Section"},{"$f":"COUNTIF(Q$5:Q581, Q581 )","v":3},{"$f":"_xlfn.IFS(D$2=X$4, X581, D$2=Y$4, Y581,D$2=Z$4, Z581,D$2=AA$4, AA581)","v":3},{"$f":"IF(R581=1,SUMIF(Q:Q,Q581,S:S)+U581, \"\")","v":""},{"$f":"IF(R581=1, _xlfn.IFNA(VLOOKUP(Q581, 'Allocation Change Graph'!BF$7:BG$20, 2, FALSE), 0), 0)","v":0},null,{"$f":"IF(R581=1, V581*T581, \"\")","v":""},null,null,3,null,null,null,null,null,null,null,null,null,null,null,null,null,null,null,null,null,null,{"$f":"MIN($AB581:$AR581)+U581","v":0},{"$f":"MAX($AB581:$AR581)+U581","v":0}]
[null,null,"University Wide","La Jolla Campus","West Campus","Health Sciences West","South","P653","Level 3","Reserved",null,null,"Yes","Yes",null,"South","SouthReserved",{"$f":"COUNTIF(Q$5:Q582, Q582 )","v":1},{"$f":"_xlfn.IFS(D$2=X$4, X582, D$2=Y$4, Y582,D$2=Z$4, Z582,D$2=AA$4, AA582)","v":5},5,{"$f":"IF(R582=1, _xlfn.IFNA(VLOOKUP(Q582, 'Allocation Change Graph'!BF$7:BG$20, 2, FALSE), 0), 0)","v":0},0.85,4.25,null,null,5,null,null,null,3,1,1,2,3,5,5,5,5,5,null,null,null,null,null,1,5]
[null,null,"University Wide","La Jolla Campus","West Campus","Health Sciences West","South","P653","Level 3","UC Vehicle","UC Cart",null,"Yes",null,null,"South","SouthUC VehicleUC Cart",{"$f":"COUNTIF(Q$5:Q583, Q583 )","v":3},{"$f":"_xlfn.IFS(D$2=X$4, X583, D$2=Y$4, Y583,D$2=Z$4, Z583,D$2=AA$4, AA583)","v":2},"",{"$f":"IF(R583=1, _xlfn.IFNA(VLOOKUP(Q583, 'Allocation Change Graph'!BF$7:BG$20, 2, FALSE), 0), 0)","v":0},null,"",null,null,2,null,null,null,null,null,null,null,null,null,null,null,null,null,null,null,null,null,null,0,0]
[null,null,"University Wide","La Jolla Campus","West Campus","Health Sciences West","South","P653","Level 3","Visitor",null,null,"Yes","Yes","Yes","South","SouthVisitor",{"$f":"COUNTIF(Q$5:Q584, Q584 )","v":1},{"$f":"_xlfn.IFS(D$2=X$4, X584, D$2=Y$4, Y584,D$2=Z$4, Z584,D$2=AA$4, AA584)","v":113},113,{"$f":"IF(R584=1, _xlfn.IFNA(VLOOKUP(Q584, 'Allocation Change Graph'!BF$7:BG$20, 2, FALSE), 0), 0)","v":0},0.85,96.05,null,null,113,null,null,null,57,49,52,36,31,27,28,37,58,47,null,null,null,null,null,27,58]
[null,null,"University Wide","La Jolla Campus","West Campus","Health Sciences West","South","P654","Level 4","A",null,null,"Yes",null,null,"South","SouthA",{"$f":"COUNTIF(Q$5:Q585, Q585 )","v":4},{"$f":"_xlfn.IFS(D$2=X$4, X585, D$2=Y$4, Y585,D$2=Z$4, Z585,D$2=AA$4, AA585)","v":0},"",{"$f":"IF(R585=1, _xlfn.IFNA(VLOOKUP(Q585, 'Allocation Change Graph'!BF$7:BG$20, 2, FALSE), 0), 0)","v":0},null,"",null,null,0,null,null,null,null,null,null,null,null,null,null,null,null,null,null,null,null,null,null,0,0]
[null,null,"University Wide","La Jolla Campus","West Campus","Health Sciences West","South","P654","Level 4","Accessible",null,null,"Yes",null,null,"South","SouthAccessible",{"$f":"COUNTIF(Q$5:Q586, Q586 )","v":4},{"$f":"_xlfn.IFS(D$2=X$4, X586, D$2=Y$4, Y586,D$2=Z$4, Z586,D$2=AA$4, AA586)","v":6},"",{"$f":"IF(R586=1, _xlfn.IFNA(VLOOKUP(Q586, 'Allocation Change Graph'!BF$7:BG$20, 2, FALSE), 0), 0)","v":0},null,"",null,null,6,null,null,null,null,null,null,null,null,null,null,null,null,null,null,null,null,null,null,0,0]
[null,null,"University Wide","La Jolla Campus","West Campus","Health Sciences West","South","P654","Level 4","Accessible (Van)",null,null,"Yes",null,null,"South","SouthAccessible (Van)",{"$f":"COUNTIF(Q$5:Q587, Q587 )","v":4},{"$f":"_xlfn.IFS(D$2=X$4, X587, D$2=Y$4, Y587,D$2=Z$4, Z587,D$2=AA$4, AA587)","v":0},"",{"$f":"IF(R587=1, _xlfn.IFNA(VLOOKUP(Q587, 'Allocation Change Graph'!BF$7:BG$20, 2, FALSE), 0), 0)","v":0},null,"",null,null,0,null,null,null,null,null,null,null,null,null,null,null,null,null,null,null,null,null,null,0,0]
[null,null,"University Wide","La Jolla Campus","West Campus","Health Sciences West","South","P654","Level 4","B",null,null,"Yes",null,null,"South","SouthB",{"$f":"COUNTIF(Q$5:Q588, Q588 )","v":3},{"$f":"_xlfn.IFS(D$2=X$4, X588, D$2=Y$4, Y588,D$2=Z$4, Z588,D$2=AA$4, AA588)","v":183},"",{"$f":"IF(R588=1, _xlfn.IFNA(VLOOKUP(Q588, 'Allocation Change Graph'!BF$7:BG$20, 2, FALSE), 0), 0)","v":0},null,"",null,null,{"$f":"244-61","v":183},null,null,null,null,null,null,null,null,null,null,null,null,null,null,null,null,null,null,0,0]
[null,null,"University Wide","La Jolla Campus","West Campus","Health Sciences West","South","P654","Level 4","Carpool","2 Person Carpool",null,"Yes",null,null,"South","SouthCarpool2 Person Carpool",{"$f":"COUNTIF(Q$5:Q589, Q589 )","v":2},{"$f":"_xlfn.IFS(D$2=X$4, X589, D$2=Y$4, Y589,D$2=Z$4, Z589,D$2=AA$4, AA589)","v":61},"",{"$f":"IF(R589=1, _xlfn.IFNA(VLOOKUP(Q589, 'Allocation Change Graph'!BF$7:BG$20, 2, FALSE), 0), 0)","v":0},null,"",null,null,{"$f":"0+61","v":61},null,null,null,null,null,null,null,null,null,null,null,null,null,null,null,null,null,null,0,0]
[null,null,"University Wide","La Jolla Campus","West Campus","Health Sciences West","South","P654","Level 4","Electric Vehicle",null,null,"Yes",null,null,"South","SouthElectric Vehicle",{"$f":"COUNTIF(Q$5:Q590, Q590 )","v":4},{"$f":"_xlfn.IFS(D$2=X$4, X590, D$2=Y$4, Y590,D$2=Z$4, Z590,D$2=AA$4, AA590)","v":8},"",{"$f":"IF(R590=1, _xlfn.IFNA(VLOOKUP(Q590, 'Allocation Change Graph'!BF$7:BG$20, 2, FALSE), 0), 0)","v":0},null,"",null,null,8,null,null,null,null,null,null,null,null,null,null,null,null,null,null,null,null,null,null,0,0]
[null,null,"University Wide","La Jolla Campus","West Campus","Health Sciences West","South","P654","Level 4","Motorcycle Section",null,null,"Yes",null,null,"South","SouthMotorcycle Section",{"$f":"COUNTIF(Q$5:Q591, Q591 )","v":4},{"$f":"_xlfn.IFS(D$2=X$4, X591, D$2=Y$4, Y591,D$2=Z$4, Z591,D$2=AA$4, AA591)","v":3},"",{"$f":"IF(R591=1, _xlfn.IFNA(VLOOKUP(Q591, 'Allocation Change Graph'!BF$7:BG$20, 2, FALSE), 0), 0)","v":0},null,"",null,null,3,null,null,null,null,null,null,null,null,null,null,null,null,null,null,null,null,null,null,0,0]
[null,null,"University Wide","La Jolla Campus","West Campus","Health Sciences West","South","P654","Level 4","UC Vehicle","UC Cart",null,"Yes",null,null,"South","SouthUC VehicleUC Cart",{"$f":"COUNTIF(Q$5:Q592, Q592 )","v":4},{"$f":"_xlfn.IFS(D$2=X$4, X592, D$2=Y$4, Y592,D$2=Z$4, Z592,D$2=AA$4, AA592)","v":1},"",{"$f":"IF(R592=1, _xlfn.IFNA(VLOOKUP(Q592, 'Allocation Change Graph'!BF$7:BG$20, 2, FALSE), 0), 0)","v":0},null,"",null,null,1,null,null,null,null,null,null,null,null,null,null,null,null,null,null,null,null,null,null,0,0]
[null,null,"University Wide","La Jolla Campus","West Campus","Health Sciences West","South","P655","Level 5","Accessible",null,null,"Yes",null,null,"South","SouthAccessible",{"$f":"COUNTIF(Q$5:Q593, Q593 )","v":5},{"$f":"_xlfn.IFS(D$2=X$4, X593, D$2=Y$4, Y593,D$2=Z$4, Z593,D$2=AA$4, AA593)","v":5},"",{"$f":"IF(R593=1, _xlfn.IFNA(VLOOKUP(Q593, 'Allocation Change Graph'!BF$7:BG$20, 2, FALSE), 0), 0)","v":0},null,"",null,null,5,null,null,null,null,null,null,null,null,null,null,null,null,null,null,null,null,null,null,0,0]
[null,null,"University Wide","La Jolla Campus","West Campus","Health Sciences West","South","P655","Level 5","Accessible (Van)",null,null,"Yes",null,null,"South","SouthAccessible (Van)",{"$f":"COUNTIF(Q$5:Q594, Q594 )","v":5},{"$f":"_xlfn.IFS(D$2=X$4, X594, D$2=Y$4, Y594,D$2=Z$4, Z594,D$2=AA$4, AA594)","v":0},"",{"$f":"IF(R594=1, _xlfn.IFNA(VLOOKUP(Q594, 'Allocation Change Graph'!BF$7:BG$20, 2, FALSE), 0), 0)","v":0},null,"",null,null,0,null,null,null,null,null,null,null,null,null,null,null,null,null,null,null,null,null,null,0,0]
[null,null,"University Wide","La Jolla Campus","West Campus","Health Sciences West","South","P655","Level 5","B",null,null,"Yes",null,null,"South","SouthB",{"$f":"COUNTIF(Q$5:Q595, Q595 )","v":4},{"$f":"_xlfn.IFS(D$2=X$4, X595, D$2=Y$4, Y595,D$2=Z$4, Z595,D$2=AA$4, AA595)","v":262},"",{"$f":"IF(R595=1, _xlfn.IFNA(VLOOKUP(Q595, 'Allocation Change Graph'!BF$7:BG$20, 2, FALSE), 0), 0)","v":0},null,"",null,null,262,null,null,null,null,null,null,null,null,null,null,null,null,null,null,null,null,null,null,0,0]
[null,null,"University Wide","La Jolla Campus","West Campus","Health Sciences West","South","P655","Level 5","Motorcycle Section",null,null,"Yes",null,null,"South","SouthMotorcycle Section",{"$f":"COUNTIF(Q$5:Q596, Q596 )","v":5},{"$f":"_xlfn.IFS(D$2=X$4, X596, D$2=Y$4, Y596,D$2=Z$4, Z596,D$2=AA$4, AA596)","v":3},"",{"$f":"IF(R596=1, _xlfn.IFNA(VLOOKUP(Q596, 'Allocation Change Graph'!BF$7:BG$20, 2, FALSE), 0), 0)","v":0},null,"",null,null,3,null,null,null,null,null,null,null,null,null,null,null,null,null,null,null,null,null,null,0,0]
[null,null,"University Wide","La Jolla Campus","West Campus","Health Sciences West","South","P655","Level 5","UC Vehicle","UC Cart",null,"Yes",null,null,"South","SouthUC VehicleUC Cart",{"$f":"COUNTIF(Q$5:Q597, Q597 )","v":5},{"$f":"_xlfn.IFS(D$2=X$4, X597, D$2=Y$4, Y597,D$2=Z$4, Z597,D$2=AA$4, AA597)","v":1},"",{"$f":"IF(R597=1, _xlfn.IFNA(VLOOKUP(Q597, 'Allocation Change Graph'!BF$7:BG$20, 2, FALSE), 0), 0)","v":0},null,"",null,null,1,null,null,null,null,null,null,null,null,null,null,null,null,null,null,null,null,null,null,0,0]
[null,null,"University Wide","La Jolla Campus","West Campus","Revelle College ","Surface Lot","-","-","Loading","Curb",30,"Yes","Yes",null,"-","-LoadingCurb30",{"$f":"COUNTIF(Q$5:Q598, Q598 )","v":1},{"$f":"_xlfn.IFS(D$2=X$4, X598, D$2=Y$4, Y598,D$2=Z$4, Z598,D$2=AA$4, AA598)","v":10},10,{"$f":"IF(R598=1, _xlfn.IFNA(VLOOKUP(Q598, 'Allocation Change Graph'!BF$7:BG$20, 2, FALSE), 0), 0)","v":0},0.9,9,null,null,10,null,null,null,7,7,8,7,8,6,7,8,9,9,null,null,null,null,null,6,9]
[null,null,"University Wide","La Jolla Campus","West Campus","Revelle College ","Surface Lot","-","-","Reserved",null,null,"Yes","Yes",null,"-","-Reserved",{"$f":"COUNTIF(Q$5:Q599, Q599 )","v":1},{"$f":"_xlfn.IFS(D$2=X$4, X599, D$2=Y$4, Y599,D$2=Z$4, Z599,D$2=AA$4, AA599)","v":0},0,{"$f":"IF(R599=1, _xlfn.IFNA(VLOOKUP(Q599, 'Allocation Change Graph'!BF$7:BG$20, 2, FALSE), 0), 0)","v":0},0.9,0,null,null,0,null,null,null,null,null,null,null,null,null,null,null,null,null,null,null,null,null,null,0,0]
[null,null,"University Wide","La Jolla Campus","West Campus","Revelle College ","Surface Lot","P101","-","Accessible",null,null,"Yes","Yes",null,"P101","P101Accessible",{"$f":"COUNTIF(Q$5:Q600, Q600 )","v":1},{"$f":"_xlfn.IFS(D$2=X$4, X600, D$2=Y$4, Y600,D$2=Z$4, Z600,D$2=AA$4, AA600)","v":10},10,{"$f":"IF(R600=1, _xlfn.IFNA(VLOOKUP(Q600, 'Allocation Change Graph'!BF$7:BG$20, 2, FALSE), 0), 0)","v":0},0.9,9,null,null,10,null,null,null,0,0,0,1,0,0,0,0,1,0,null,null,null,null,null,0,1]
[null,null,"University Wide","La Jolla Campus","West Campus","Revelle College ","Surface Lot","P101","-","Accessible (Van)",null,null,"Yes","Yes",null,"P101","P101Accessible (Van)",{"$f":"COUNTIF(Q$5:Q601, Q601 )","v":1},{"$f":"_xlfn.IFS(D$2=X$4, X601, D$2=Y$4, Y601,D$2=Z$4, Z601,D$2=AA$4, AA601)","v":2},2,{"$f":"IF(R601=1, _xlfn.IFNA(VLOOKUP(Q601, 'Allocation Change Graph'!BF$7:BG$20, 2, FALSE), 0), 0)","v":0},0.9,1.8,null,null,2,null,null,null,1,1,0,1,1,0,0,0,1,0,null,null,null,null,null,0,1]
[null,null,"University Wide","La Jolla Campus","West Campus","Revelle College ","Surface Lot","P101","-","Reserved",null,null,"Yes","Yes",null,"P101","P101Reserved",{"$f":"COUNTIF(Q$5:Q602, Q602 )","v":1},{"$f":"_xlfn.IFS(D$2=X$4, X602, D$2=Y$4, Y602,D$2=Z$4, Z602,D$2=AA$4, AA602)","v":1},1,{"$f":"IF(R602=1, _xlfn.IFNA(VLOOKUP(Q602, 'Allocation Change Graph'!BF$7:BG$20, 2, FALSE), 0), 0)","v":0},0.9,0.9,null,null,1,null,null,null,1,1,0,0,0,0,0,0,0,1,null,null,null,null,null,0,1]
[null,null,"University Wide","La Jolla Campus","West Campus","Revelle College ","Surface Lot","P106","-","Accessible",null,null,"Yes","Yes",null,"P106","P106Accessible",{"$f":"COUNTIF(Q$5:Q603, Q603 )","v":1},{"$f":"_xlfn.IFS(D$2=X$4, X603, D$2=Y$4, Y603,D$2=Z$4, Z603,D$2=AA$4, AA603)","v":0},0,{"$f":"IF(R603=1, _xlfn.IFNA(VLOOKUP(Q603, 'Allocation Change Graph'!BF$7:BG$20, 2, FALSE), 0), 0)","v":0},0.9,0,null,null,0,null,null,null,null,null,null,null,null,null,null,null,null,null,null,null,null,null,null,0,0]
[null,null,"University Wide","La Jolla Campus","West Campus","Revelle College ","Surface Lot","P106","-","Accessible (Van)",null,null,"Yes","Yes",null,"P106","P106Accessible (Van)",{"$f":"COUNTIF(Q$5:Q604, Q604 )","v":1},{"$f":"_xlfn.IFS(D$2=X$4, X604, D$2=Y$4, Y604,D$2=Z$4, Z604,D$2=AA$4, AA604)","v":1},1,{"$f":"IF(R604=1, _xlfn.IFNA(VLOOKUP(Q604, 'Allocation Change Graph'!BF$7:BG$20, 2, FALSE), 0), 0)","v":0},0.9,0.9,null,null,1,null,null,null,1,1,1,1,0,1,1,1,1,1,null,null,null,null,null,0,1]
[null,null,"University Wide","La Jolla Campus","West Campus","Revelle College ","Surface Lot","P106","-","Motorcycle Section",null,null,"Yes","Yes",null,"P106","P106Motorcycle Section",{"$f":"COUNTIF(Q$5:Q605, Q605 )","v":1},{"$f":"_xlfn.IFS(D$2=X$4, X605, D$2=Y$4, Y605,D$2=Z$4, Z605,D$2=AA$4, AA605)","v":2},2,{"$f":"IF(R605=1, _xlfn.IFNA(VLOOKUP(Q605, 'Allocation Change Graph'!BF$7:BG$20, 2, FALSE), 0), 0)","v":0},0.9,1.8,null,null,2,null,null,null,2,2,2,1,2,0,0,2,2,2,null,null,null,null,null,0,2]
[null,null,"University Wide","La Jolla Campus","West Campus","Revelle College ","Surface Lot","P106","-","Reserved",null,null,"Yes","Yes",null,"P106","P106Reserved",{"$f":"COUNTIF(Q$5:Q606, Q606 )","v":1},{"$f":"_xlfn.IFS(D$2=X$4, X606, D$2=Y$4, Y606,D$2=Z$4, Z606,D$2=AA$4, AA606)","v":5},5,{"$f":"IF(R606=1, _xlfn.IFNA(VLOOKUP(Q606, 'Allocation Change Graph'!BF$7:BG$20, 2, FALSE), 0), 0)","v":0},0.9,4.5,null,null,5,null,null,null,5,5,4,4,4,3,3,4,4,2,null,null,null,null,null,2,5]
[null,null,"University Wide","La Jolla Campus","West Campus","Revelle College ","Surface Lot","P106","-","Visitor",null,null,"Yes","Yes","Yes","P106","P106Visitor",{"$f":"COUNTIF(Q$5:Q607, Q607 )","v":1},{"$f":"_xlfn.IFS(D$2=X$4, X607, D$2=Y$4, Y607,D$2=Z$4, Z607,D$2=AA$4, AA607)","v":1},1,{"$f":"IF(R607=1, _xlfn.IFNA(VLOOKUP(Q607, 'Allocation Change Graph'!BF$7:BG$20, 2, FALSE), 0), 0)","v":0},0.9,0.9,null,null,1,null,null,null,1,1,0,1,1,0,1,1,0,0,null,null,null,null,null,0,1]
[null,null,"University Wide","La Jolla Campus","West Campus","Revelle College ","Surface Lot","P110","-","Service Yard",null,null,"Yes","Yes",null,"P110","P110Service Yard",{"$f":"COUNTIF(Q$5:Q608, Q608 )","v":1},{"$f":"_xlfn.IFS(D$2=X$4, X608, D$2=Y$4, Y608,D$2=Z$4, Z608,D$2=AA$4, AA608)","v":5},5,{"$f":"IF(R608=1, _xlfn.IFNA(VLOOKUP(Q608, 'Allocation Change Graph'!BF$7:BG$20, 2, FALSE), 0), 0)","v":0},0.9,4.5,null,null,5,null,null,null,1,2,2,1,1,1,1,3,3,3,null,null,null,null,null,1,3]
[null,null,"University Wide","La Jolla Campus","West Campus","Revelle College ","Surface Lot","P112","-","Service Yard",null,null,"Yes","Yes",null,"P112","P112Service Yard",{"$f":"COUNTIF(Q$5:Q609, Q609 )","v":1},{"$f":"_xlfn.IFS(D$2=X$4, X609, D$2=Y$4, Y609,D$2=Z$4, Z609,D$2=AA$4, AA609)","v":6},6,{"$f":"IF(R609=1, _xlfn.IFNA(VLOOKUP(Q609, 'Allocation Change Graph'!BF$7:BG$20, 2, FALSE), 0), 0)","v":0},0.9,5.4,null,null,6,null,null,null,3,3,3,2,2,3,4,0,4,5,null,null,null,null,null,0,5]
[null,null,"University Wide","La Jolla Campus","West Campus","Muir College","Surface Lot","P113","-","Accessible",null,null,"Yes","Yes",null,"P113","P113Accessible",{"$f":"COUNTIF(Q$5:Q610, Q610 )","v":1},{"$f":"_xlfn.IFS(D$2=X$4, X610, D$2=Y$4, Y610,D$2=Z$4, Z610,D$2=AA$4, AA610)","v":0},0,{"$f":"IF(R610=1, _xlfn.IFNA(VLOOKUP(Q610, 'Allocation Change Graph'!BF$7:BG$20, 2, FALSE), 0), 0)","v":0},0.9,0,null,null,0,null,null,null,null,null,null,null,null,null,null,null,null,null,null,null,null,null,null,0,0]
[null,null,"University Wide","La Jolla Campus","West Campus","Muir College","Surface Lot","P113","-","Accessible (Van)",null,null,"Yes","Yes",null,"P113","P113Accessible (Van)",{"$f":"COUNTIF(Q$5:Q611, Q611 )","v":1},{"$f":"_xlfn.IFS(D$2=X$4, X611, D$2=Y$4, Y611,D$2=Z$4, Z611,D$2=AA$4, AA611)","v":2},2,{"$f":"IF(R611=1, _xlfn.IFNA(VLOOKUP(Q611, 'Allocation Change Graph'!BF$7:BG$20, 2, FALSE), 0), 0)","v":0},0.9,1.8,null,null,2,null,null,null,1,1,0,1,1,0,0,0,0,0,null,null,null,null,null,0,1]
[null,null,"University Wide","La Jolla Campus","West Campus","Muir College","Surface Lot","P113","-","Loading",null,null,"Yes","Yes",null,"P113","P113Loading",{"$f":"COUNTIF(Q$5:Q612, Q612 )","v":1},{"$f":"_xlfn.IFS(D$2=X$4, X612, D$2=Y$4, Y612,D$2=Z$4, Z612,D$2=AA$4, AA612)","v":1},1,{"$f":"IF(R612=1, _xlfn.IFNA(VLOOKUP(Q612, 'Allocation Change Graph'!BF$7:BG$20, 2, FALSE), 0), 0)","v":0},0.9,0.9,null,null,1,null,null,null,1,0,0,0,0,0,0,0,0,0,null,null,null,null,null,0,1]
[null,null,"University Wide","La Jolla Campus","West Campus","Muir College","Surface Lot","P113","-","Motorcycle Section",null,null,"Yes","Yes",null,"P113","P113Motorcycle Section",{"$f":"COUNTIF(Q$5:Q613, Q613 )","v":1},{"$f":"_xlfn.IFS(D$2=X$4, X613, D$2=Y$4, Y613,D$2=Z$4, Z613,D$2=AA$4, AA613)","v":1},1,{"$f":"IF(R613=1, _xlfn.IFNA(VLOOKUP(Q613, 'Allocation Change Graph'!BF$7:BG$20, 2, FALSE), 0), 0)","v":0},0.9,0.9,null,null,1,null,null,null,1,1,1,1,1,0,0,0,0,0,null,null,null,null,null,0,1]
[null,null,"University Wide","La Jolla Campus","West Campus","Muir College","Surface Lot","P113","-","Reserved","Food Pick-Up","15 min","Yes","Yes",null,"P113","P113ReservedFood Pick-Up15 min",{"$f":"COUNTIF(Q$5:Q614, Q614 )","v":1},{"$f":"_xlfn.IFS(D$2=X$4, X614, D$2=Y$4, Y614,D$2=Z$4, Z614,D$2=AA$4, AA614)","v":3},3,{"$f":"IF(R614=1, _xlfn.IFNA(VLOOKUP(Q614, 'Allocation Change Graph'!BF$7:BG$20, 2, FALSE), 0), 0)","v":0},0.9,2.7,null,null,3,null,null,null,3,3,0,0,0,0,0,0,2,0,null,null,null,null,null,0,3]
[null,null,"University Wide","La Jolla Campus","West Campus","Muir College","Surface Lot","P113","-","Reserved",null,null,"Yes","Yes",null,"P113","P113Reserved",{"$f":"COUNTIF(Q$5:Q615, Q615 )","v":1},{"$f":"_xlfn.IFS(D$2=X$4, X615, D$2=Y$4, Y615,D$2=Z$4, Z615,D$2=AA$4, AA615)","v":1},1,{"$f":"IF(R615=1, _xlfn.IFNA(VLOOKUP(Q615, 'Allocation Change Graph'!BF$7:BG$20, 2, FALSE), 0), 0)","v":0},0.9,0.9,null,null,1,null,null,null,1,1,0,0,0,0,1,0,0,0,null,null,null,null,null,0,1]
[null,null,"University Wide","La Jolla Campus","West Campus","Muir College","Surface Lot","P113","-","Visitor",null,"2 hours","Yes","Yes","Yes","P113","P113Visitor2 hours",{"$f":"COUNTIF(Q$5:Q616, Q616 )","v":1},{"$f":"_xlfn.IFS(D$2=X$4, X616, D$2=Y$4, Y616,D$2=Z$4, Z616,D$2=AA$4, AA616)","v":22},22,{"$f":"IF(R616=1, _xlfn.IFNA(VLOOKUP(Q616, 'Allocation Change Graph'!BF$7:BG$20, 2, FALSE), 0), 0)","v":0},0.9,19.8,null,null,22,null,null,null,13,11,5,5,9,5,0,0,5,1,null,null,null,null,null,0,13]
[null,null,"University Wide","La Jolla Campus","West Campus","Revelle College ","Surface Lot","P116","-","Allocated","Catering Vehicle",null,"Yes","Yes",null,"P116","P116AllocatedCatering Vehicle",{"$f":"COUNTIF(Q$5:Q617, Q617 )","v":1},{"$f":"_xlfn.IFS(D$2=X$4, X617, D$2=Y$4, Y617,D$2=Z$4, Z617,D$2=AA$4, AA617)","v":5},5,{"$f":"IF(R617=1, _xlfn.IFNA(VLOOKUP(Q617, 'Allocation Change Graph'!BF$7:BG$20, 2, FALSE), 0), 0)","v":0},0.9,4.5,null,null,5,null,null,null,0,0,1,0,0,2,0,0,0,0,null,null,null,null,null,0,2]
[null,null,"University Wide","La Jolla Campus","West Campus","Revelle College ","Surface Lot","P116","-","Allocated","Housing, Dining, and Hospitality Vehicle",null,"Yes","Yes",null,"P116","P116AllocatedHousing, Dining, and Hospitality Vehicle",{"$f":"COUNTIF(Q$5:Q618, Q618 )","v":1},{"$f":"_xlfn.IFS(D$2=X$4, X618, D$2=Y$4, Y618,D$2=Z$4, Z618,D$2=AA$4, AA618)","v":5},5,{"$f":"IF(R618=1, _xlfn.IFNA(VLOOKUP(Q618, 'Allocation Change Graph'!BF$7:BG$20, 2, FALSE), 0), 0)","v":0},0.9,4.5,null,null,5,null,null,null,1,1,0,1,2,1,0,2,1,0,null,null,null,null,null,0,2]
[null,null,"University Wide","La Jolla Campus","West Campus","Revelle College ","Surface Lot","P116","-","Allocated","UC Vehicle #0796",null,"Yes","Yes",null,"P116","P116AllocatedUC Vehicle #0796",{"$f":"COUNTIF(Q$5:Q619, Q619 )","v":1},{"$f":"_xlfn.IFS(D$2=X$4, X619, D$2=Y$4, Y619,D$2=Z$4, Z619,D$2=AA$4, AA619)","v":1},1,{"$f":"IF(R619=1, _xlfn.IFNA(VLOOKUP(Q619, 'Allocation Change Graph'!BF$7:BG$20, 2, FALSE), 0), 0)","v":0},0.9,0.9,null,null,1,null,null,null,0,0,0,0,0,0,0,0,0,0,null,null,null,null,null,0,0]
[null,null,"University Wide","La Jolla Campus","West Campus","Revelle College ","Surface Lot","P116","-","UC Vehicle","Electric Vehicle","4-Hour","Yes","Yes",null,"P116","P116UC VehicleElectric Vehicle4-Hour",{"$f":"COUNTIF(Q$5:Q620, Q620 )","v":1},{"$f":"_xlfn.IFS(D$2=X$4, X620, D$2=Y$4, Y620,D$2=Z$4, Z620,D$2=AA$4, AA620)","v":2},2,{"$f":"IF(R620=1, _xlfn.IFNA(VLOOKUP(Q620, 'Allocation Change Graph'!BF$7:BG$20, 2, FALSE), 0), 0)","v":0},0.9,1.8,null,null,2,null,null,null,0,0,1,1,0,0,0,0,0,0,null,null,null,null,null,0,1]
[null,null,"University Wide","La Jolla Campus","West Campus","Muir College","Surface Lot","P201","-","A",null,null,"Yes","Yes","Yes","P201","P201A",{"$f":"COUNTIF(Q$5:Q621, Q621 )","v":1},{"$f":"_xlfn.IFS(D$2=X$4, X621, D$2=Y$4, Y621,D$2=Z$4, Z621,D$2=AA$4, AA621)","v":11},11,{"$f":"IF(R621=1, _xlfn.IFNA(VLOOKUP(Q621, 'Allocation Change Graph'!BF$7:BG$20, 2, FALSE), 0), 0)","v":0},0.9,9.9,null,null,11,null,null,null,8,7,7,5,4,0,1,3,5,8,null,null,null,null,null,0,8]
[null,null,"University Wide","La Jolla Campus","West Campus","Muir College","Surface Lot","P201","-","Accessible",null,null,"Yes","Yes",null,"P201","P201Accessible",{"$f":"COUNTIF(Q$5:Q622, Q622 )","v":1},{"$f":"_xlfn.IFS(D$2=X$4, X622, D$2=Y$4, Y622,D$2=Z$4, Z622,D$2=AA$4, AA622)","v":2},2,{"$f":"IF(R622=1, _xlfn.IFNA(VLOOKUP(Q622, 'Allocation Change Graph'!BF$7:BG$20, 2, FALSE), 0), 0)","v":0},0.9,1.8,null,null,2,null,null,null,2,2,1,1,1,0,0,1,1,2,null,null,null,null,null,0,2]
[null,null,"University Wide","La Jolla Campus","West Campus","Muir College","Surface Lot","P201","-","Accessible (Van)",null,null,"Yes","Yes",null,"P201","P201Accessible (Van)",{"$f":"COUNTIF(Q$5:Q623, Q623 )","v":1},{"$f":"_xlfn.IFS(D$2=X$4, X623, D$2=Y$4, Y623,D$2=Z$4, Z623,D$2=AA$4, AA623)","v":1},1,{"$f":"IF(R623=1, _xlfn.IFNA(VLOOKUP(Q623, 'Allocation Change Graph'!BF$7:BG$20, 2, FALSE), 0), 0)","v":0},0.9,0.9,null,null,1,null,null,null,1,1,1,0,0,0,0,0,1,1,null,null,null,null,null,0,1]
[null,null,"University Wide","La Jolla Campus","West Campus","Muir College","Surface Lot","P201","-","Loading","Space",15,"Yes","Yes",null,"P201","P201LoadingSpace15",{"$f":"COUNTIF(Q$5:Q624, Q624 )","v":1},{"$f":"_xlfn.IFS(D$2=X$4, X624, D$2=Y$4, Y624,D$2=Z$4, Z624,D$2=AA$4, AA624)","v":8},8,{"$f":"IF(R624=1, _xlfn.IFNA(VLOOKUP(Q624, 'Allocation Change Graph'!BF$7:BG$20, 2, FALSE), 0), 0)","v":0},0.9,7.2,null,null,8,null,null,null,8,8,7,6,4,2,2,3,5,6,null,null,null,null,null,2,8]
[null,null,"University Wide","La Jolla Campus","West Campus","Muir College","Surface Lot","P201","-","Motorcycle Section",null,null,"Yes","Yes",null,"P201","P201Motorcycle Section",{"$f":"COUNTIF(Q$5:Q625, Q625 )","v":1},{"$f":"_xlfn.IFS(D$2=X$4, X625, D$2=Y$4, Y625,D$2=Z$4, Z625,D$2=AA$4, AA625)","v":3},3,{"$f":"IF(R625=1, _xlfn.IFNA(VLOOKUP(Q625, 'Allocation Change Graph'!BF$7:BG$20, 2, FALSE), 0), 0)","v":0},0.9,2.7,null,null,3,null,null,null,2,1,1,1,1,2,2,1,2,3,null,null,null,null,null,1,3]
[null,null,"University Wide","La Jolla Campus","West Campus","Muir College","Surface Lot","P202","-","Accessible",null,null,"Yes","Yes",null,"P202","P202Accessible",{"$f":"COUNTIF(Q$5:Q626, Q626 )","v":1},{"$f":"_xlfn.IFS(D$2=X$4, X626, D$2=Y$4, Y626,D$2=Z$4, Z626,D$2=AA$4, AA626)","v":0},0,{"$f":"IF(R626=1, _xlfn.IFNA(VLOOKUP(Q626, 'Allocation Change Graph'!BF$7:BG$20, 2, FALSE), 0), 0)","v":0},0.9,0,null,null,0,null,null,null,null,null,null,null,null,null,null,null,null,null,null,null,null,null,null,0,0]
[null,null,"University Wide","La Jolla Campus","West Campus","Muir College","Surface Lot","P202","-","Accessible (Van)",null,null,"Yes","Yes",null,"P202","P202Accessible (Van)",{"$f":"COUNTIF(Q$5:Q627, Q627 )","v":1},{"$f":"_xlfn.IFS(D$2=X$4, X627, D$2=Y$4, Y627,D$2=Z$4, Z627,D$2=AA$4, AA627)","v":2},2,{"$f":"IF(R627=1, _xlfn.IFNA(VLOOKUP(Q627, 'Allocation Change Graph'!BF$7:BG$20, 2, FALSE), 0), 0)","v":0},0.9,1.8,null,null,2,null,null,null,2,2,1,1,0,1,0,1,2,2,null,null,null,null,null,0,2]
[null,null,"University Wide","La Jolla Campus","West Campus","Muir College","Surface Lot","P202","-","Loading","Space",20,"Yes","Yes",null,"P202","P202LoadingSpace20",{"$f":"COUNTIF(Q$5:Q628, Q628 )","v":1},{"$f":"_xlfn.IFS(D$2=X$4, X628, D$2=Y$4, Y628,D$2=Z$4, Z628,D$2=AA$4, AA628)","v":4},4,{"$f":"IF(R628=1, _xlfn.IFNA(VLOOKUP(Q628, 'Allocation Change Graph'!BF$7:BG$20, 2, FALSE), 0), 0)","v":0},0.9,3.6,null,null,4,null,null,null,3,3,3,2,2,0,0,2,1,3,null,null,null,null,null,0,3]
[null,null,"University Wide","La Jolla Campus","West Campus","Muir College","Surface Lot","P202","-","Reserved",null,null,"Yes","Yes",null,"P202","P202Reserved",{"$f":"COUNTIF(Q$5:Q629, Q629 )","v":1},{"$f":"_xlfn.IFS(D$2=X$4, X629, D$2=Y$4, Y629,D$2=Z$4, Z629,D$2=AA$4, AA629)","v":1},1,{"$f":"IF(R629=1, _xlfn.IFNA(VLOOKUP(Q629, 'Allocation Change Graph'!BF$7:BG$20, 2, FALSE), 0), 0)","v":0},0.9,0.9,null,null,1,null,null,null,1,1,1,1,0,0,1,1,1,1,null,null,null,null,null,0,1]
[null,null,"University Wide","La Jolla Campus","West Campus","Muir College","Surface Lot","P202","-","Service Yard",null,null,"Yes","Yes",null,"P202","P202Service Yard",{"$f":"COUNTIF(Q$5:Q630, Q630 )","v":1},{"$f":"_xlfn.IFS(D$2=X$4, X630, D$2=Y$4, Y630,D$2=Z$4, Z630,D$2=AA$4, AA630)","v":2},2,{"$f":"IF(R630=1, _xlfn.IFNA(VLOOKUP(Q630, 'Allocation Change Graph'!BF$7:BG$20, 2, FALSE), 0), 0)","v":0},0.9,1.8,null,null,2,null,null,null,2,2,2,2,2,0,1,2,2,2,null,null,null,null,null,0,2]
[null,null,"University Wide","La Jolla Campus","West Campus","Muir College","Surface Lot","P203","-","Reserved",null,null,"Yes","Yes",null,"P203","P203Reserved",{"$f":"COUNTIF(Q$5:Q631, Q631 )","v":1},{"$f":"_xlfn.IFS(D$2=X$4, X631, D$2=Y$4, Y631,D$2=Z$4, Z631,D$2=AA$4, AA631)","v":6},6,{"$f":"IF(R631=1, _xlfn.IFNA(VLOOKUP(Q631, 'Allocation Change Graph'!BF$7:BG$20, 2, FALSE), 0), 0)","v":0},0.9,5.4,null,null,6,null,null,null,5,5,4,3,3,1,2,1,3,5,null,null,null,null,null,1,5]
[null,null,"University Wide","La Jolla Campus","West Campus","Muir College","Surface Lot","P204","-","Allocated","Housing/Dining Maintenance Vehicle",null,"Yes","Yes",null,"P204","P204AllocatedHousing/Dining Maintenance Vehicle",{"$f":"COUNTIF(Q$5:Q632, Q632 )","v":1},{"$f":"_xlfn.IFS(D$2=X$4, X632, D$2=Y$4, Y632,D$2=Z$4, Z632,D$2=AA$4, AA632)","v":2},2,{"$f":"IF(R632=1, _xlfn.IFNA(VLOOKUP(Q632, 'Allocation Change Graph'!BF$7:BG$20, 2, FALSE), 0), 0)","v":0},0.9,1.8,null,null,2,null,null,null,2,1,2,2,1,1,0,1,2,2,null,null,null,null,null,0,2]
[null,null,"University Wide","La Jolla Campus","West Campus","Muir College","Surface Lot","P205","-","Service Yard",null,null,"Yes","Yes",null,"P205","P205Service Yard",{"$f":"COUNTIF(Q$5:Q633, Q633 )","v":1},{"$f":"_xlfn.IFS(D$2=X$4, X633, D$2=Y$4, Y633,D$2=Z$4, Z633,D$2=AA$4, AA633)","v":4},4,{"$f":"IF(R633=1, _xlfn.IFNA(VLOOKUP(Q633, 'Allocation Change Graph'!BF$7:BG$20, 2, FALSE), 0), 0)","v":0},0.9,3.6,null,null,4,null,null,null,3,2,3,3,2,0,1,2,2,3,null,null,null,null,null,0,3]
[null,null,"University Wide","La Jolla Campus","West Campus","Muir College","Surface Lot","P206","-","A",null,"2 Hour","Yes","Yes","Yes","P206","P206A2 Hour",{"$f":"COUNTIF(Q$5:Q634, Q634 )","v":1},{"$f":"_xlfn.IFS(D$2=X$4, X634, D$2=Y$4, Y634,D$2=Z$4, Z634,D$2=AA$4, AA634)","v":32},32,{"$f":"IF(R634=1, _xlfn.IFNA(VLOOKUP(Q634, 'Allocation Change Graph'!BF$7:BG$20, 2, FALSE), 0), 0)","v":0},0.9,28.8,null,null,32,null,null,null,28,26,24,19,17,7,11,10,16,27,null,null,null,null,null,7,28]
[null,null,"University Wide","La Jolla Campus","West Campus","Muir College","Surface Lot","P206","-","Accessible",null,null,"Yes","Yes",null,"P206","P206Accessible",{"$f":"COUNTIF(Q$5:Q635, Q635 )","v":1},{"$f":"_xlfn.IFS(D$2=X$4, X635, D$2=Y$4, Y635,D$2=Z$4, Z635,D$2=AA$4, AA635)","v":4},4,{"$f":"IF(R635=1, _xlfn.IFNA(VLOOKUP(Q635, 'Allocation Change Graph'!BF$7:BG$20, 2, FALSE), 0), 0)","v":0},0.9,3.6,null,null,4,null,null,null,4,3,3,2,2,3,0,1,2,2,null,null,null,null,null,0,4]
[null,null,"University Wide","La Jolla Campus","West Campus","Muir College","Surface Lot","P206","-","Accessible (Van)",null,null,"Yes","Yes",null,"P206","P206Accessible (Van)",{"$f":"COUNTIF(Q$5:Q636, Q636 )","v":1},{"$f":"_xlfn.IFS(D$2=X$4, X636, D$2=Y$4, Y636,D$2=Z$4, Z636,D$2=AA$4, AA636)","v":2},2,{"$f":"IF(R636=1, _xlfn.IFNA(VLOOKUP(Q636, 'Allocation Change Graph'!BF$7:BG$20, 2, FALSE), 0), 0)","v":0},0.9,1.8,null,null,2,null,null,null,2,2,2,1,1,1,1,1,1,2,null,null,null,null,null,1,2]
[null,null,"University Wide","La Jolla Campus","West Campus","Muir College","Surface Lot","P206","-","B",null,"2 Hour","Yes","Yes","Yes","P206","P206B2 Hour",{"$f":"COUNTIF(Q$5:Q637, Q637 )","v":1},{"$f":"_xlfn.IFS(D$2=X$4, X637, D$2=Y$4, Y637,D$2=Z$4, Z637,D$2=AA$4, AA637)","v":0},0,{"$f":"IF(R637=1, _xlfn.IFNA(VLOOKUP(Q637, 'Allocation Change Graph'!BF$7:BG$20, 2, FALSE), 0), 0)","v":0},0.9,0,null,null,0,null,null,null,null,null,null,null,null,null,null,null,null,null,null,null,null,null,null,0,0]
[null,null,"University Wide","La Jolla Campus","West Campus","Muir College","Surface Lot","P206","-","Commercial Loading",null,null,"Yes","Yes",null,"P206","P206Commercial Loading",{"$f":"COUNTIF(Q$5:Q638, Q638 )","v":1},{"$f":"_xlfn.IFS(D$2=X$4, X638, D$2=Y$4, Y638,D$2=Z$4, Z638,D$2=AA$4, AA638)","v":4},4,{"$f":"IF(R638=1, _xlfn.IFNA(VLOOKUP(Q638, 'Allocation Change Graph'!BF$7:BG$20, 2, FALSE), 0), 0)","v":0},0.9,3.6,null,null,4,null,null,null,4,3,3,2,2,3,2,3,3,4,null,null,null,null,null,2,4]
[null,null,"University Wide","La Jolla Campus","West Campus","Muir College","Surface Lot","P206","-","Electric Vehicle",null,"4-Hour","Yes","Yes",null,"P206","P206Electric Vehicle4-Hour",{"$f":"COUNTIF(Q$5:Q639, Q639 )","v":1},{"$f":"_xlfn.IFS(D$2=X$4, X639, D$2=Y$4, Y639,D$2=Z$4, Z639,D$2=AA$4, AA639)","v":2},2,{"$f":"IF(R639=1, _xlfn.IFNA(VLOOKUP(Q639, 'Allocation Change Graph'!BF$7:BG$20, 2, FALSE), 0), 0)","v":0},0.9,1.8,null,null,2,null,null,null,2,2,2,1,1,1,1,1,1,2,null,null,null,null,null,1,2]
[null,null,"University Wide","La Jolla Campus","West Campus","Muir College","Surface Lot","P206","-","Loading Zone",null,"5 Min","Yes","Yes",null,"P206","P206Loading Zone5 Min",{"$f":"COUNTIF(Q$5:Q640, Q640 )","v":1},{"$f":"_xlfn.IFS(D$2=X$4, X640, D$2=Y$4, Y640,D$2=Z$4, Z640,D$2=AA$4, AA640)","v":1},1,{"$f":"IF(R640=1, _xlfn.IFNA(VLOOKUP(Q640, 'Allocation Change Graph'!BF$7:BG$20, 2, FALSE), 0), 0)","v":0},0.9,0.9,null,null,1,null,null,null,1,1,1,1,1,0,0,1,1,1,null,null,null,null,null,0,1]
[null,null,"University Wide","La Jolla Campus","West Campus","Muir College","Surface Lot","P206","-","UC Vehicle",null,null,"Yes","Yes",null,"P206","P206UC Vehicle",{"$f":"COUNTIF(Q$5:Q641, Q641 )","v":1},{"$f":"_xlfn.IFS(D$2=X$4, X641, D$2=Y$4, Y641,D$2=Z$4, Z641,D$2=AA$4, AA641)","v":4},4,{"$f":"IF(R641=1, _xlfn.IFNA(VLOOKUP(Q641, 'Allocation Change Graph'!BF$7:BG$20, 2, FALSE), 0), 0)","v":0},0.9,3.6,null,null,4,null,null,null,4,3,2,1,1,4,2,1,3,4,null,null,null,null,null,1,4]
[null,null,"University Wide","La Jolla Campus","West Campus","Muir College","Surface Lot","P206","-","Visitor",null,"2 Hour","Yes","Yes","Yes","P206","P206Visitor2 Hour",{"$f":"COUNTIF(Q$5:Q642, Q642 )","v":1},{"$f":"_xlfn.IFS(D$2=X$4, X642, D$2=Y$4, Y642,D$2=Z$4, Z642,D$2=AA$4, AA642)","v":5},5,{"$f":"IF(R642=1, _xlfn.IFNA(VLOOKUP(Q642, 'Allocation Change Graph'!BF$7:BG$20, 2, FALSE), 0), 0)","v":0},0.9,4.5,null,null,5,null,null,null,4,3,3,2,2,3,3,2,4,4,null,null,null,null,null,2,4]
[null,null,"University Wide","La Jolla Campus","West Campus","Marshall College","Surface Lot","P303","-","A",null,null,"Yes","Yes","Yes","P303","P303A",{"$f":"COUNTIF(Q$5:Q643, Q643 )","v":1},{"$f":"_xlfn.IFS(D$2=X$4, X643, D$2=Y$4, Y643,D$2=Z$4, Z643,D$2=AA$4, AA643)","v":88},88,{"$f":"IF(R643=1, _xlfn.IFNA(VLOOKUP(Q643, 'Allocation Change Graph'!BF$7:BG$20, 2, FALSE), 0), 0)","v":0},0.9,79.2,null,null,88,null,null,null,79,78,70,67,67,65,32,48,51,58,null,null,null,null,null,32,79]
[null,null,"University Wide","La Jolla Campus","West Campus","Marshall College","Surface Lot","P303","-","Accessible",null,null,"Yes","Yes",null,"P303","P303Accessible",{"$f":"COUNTIF(Q$5:Q644, Q644 )","v":1},{"$f":"_xlfn.IFS(D$2=X$4, X644, D$2=Y$4, Y644,D$2=Z$4, Z644,D$2=AA$4, AA644)","v":5},5,{"$f":"IF(R644=1, _xlfn.IFNA(VLOOKUP(Q644, 'Allocation Change Graph'!BF$7:BG$20, 2, FALSE), 0), 0)","v":0},0.9,4.5,null,null,5,null,null,null,4,4,3,3,4,3,4,2,3,5,null,null,null,null,null,2,5]
[null,null,"University Wide","La Jolla Campus","West Campus","Marshall College","Surface Lot","P303","-","Accessible (Van)",null,null,"Yes","Yes",null,{"$f":"IF(G645=\"Surface Lot\", H645, G645)","v":"P303"},{"$f":"P645&J645&K645&L645","v":"P303Accessible (Van)"},{"$f":"COUNTIF(Q$5:Q645, Q645 )","v":1},{"$f":"_xlfn.IFS(D$2=X$4, X645, D$2=Y$4, Y645,D$2=Z$4, Z645,D$2=AA$4, AA645)","v":1},{"$f":"IF(R645=1,SUMIF(Q:Q,Q645,S:S)+U645, \"\")","v":1},{"$f":"IF(R645=1, _xlfn.IFNA(VLOOKUP(Q645, 'Allocation Change Graph'!BF$7:BG$20, 2, FALSE), 0), 0)","v":0},0.9,{"$f":"IF(R645=1, V645*T645, \"\")","v":0.9},null,null,1,null,null,null,1,1,0,0,1,1,0,1,1,1,null,null,null,null,null,{"$f":"MIN($AB645:$AR645)+U645","v":0},{"$f":"MAX($AB645:$AR645)+U645","v":1}]
[null,null,"University Wide","La Jolla Campus","West Campus","Marshall College","Surface Lot","P303","-","Loading",null,"20 minutes","Yes","Yes",null,"P303","P303Loading20 minutes",{"$f":"COUNTIF(Q$5:Q646, Q646 )","v":1},{"$f":"_xlfn.IFS(D$2=X$4, X646, D$2=Y$4, Y646,D$2=Z$4, Z646,D$2=AA$4, AA646)","v":2},2,{"$f":"IF(R646=1, _xlfn.IFNA(VLOOKUP(Q646, 'Allocation Change Graph'!BF$7:BG$20, 2, FALSE), 0), 0)","v":0},0.9,1.8,null,null,2,null,null,null,2,0,1,2,0,1,0,0,1,2,null,null,null,null,null,0,2]
[null,null,"University Wide","La Jolla Campus","West Campus","Marshall College","Surface Lot","P303","-","Reserved",null,null,"Yes","Yes",null,"P303","P303Reserved",{"$f":"COUNTIF(Q$5:Q647, Q647 )","v":1},{"$f":"_xlfn.IFS(D$2=X$4, X647, D$2=Y$4, Y647,D$2=Z$4, Z647,D$2=AA$4, AA647)","v":5},5,{"$f":"IF(R647=1, _xlfn.IFNA(VLOOKUP(Q647, 'Allocation Change Graph'!BF$7:BG$20, 2, FALSE), 0), 0)","v":0},0.9,4.5,null,null,5,null,null,null,5,0,0,1,1,3,1,2,3,3,null,null,null,null,null,0,5]
[null,null,"University Wide","La Jolla Campus","West Campus","Marshall College","Surface Lot","P303","-","Service Yard",null,null,"Yes","Yes",null,"P303","P303Service Yard",{"$f":"COUNTIF(Q$5:Q648, Q648 )","v":1},{"$f":"_xlfn.IFS(D$2=X$4, X648, D$2=Y$4, Y648,D$2=Z$4, Z648,D$2=AA$4, AA648)","v":2},2,{"$f":"IF(R648=1, _xlfn.IFNA(VLOOKUP(Q648, 'Allocation Change Graph'!BF$7:BG$20, 2, FALSE), 0), 0)","v":0},0.9,1.8,null,null,2,null,null,null,2,1,1,2,1,2,2,1,1,2,null,null,null,null,null,1,2]
[null,null,"University Wide","La Jolla Campus","West Campus","Marshall College","Surface Lot","P303","-","Visitor","5 Minute","5 minutes","Yes","Yes","Yes","P303","P303Visitor5 Minute5 minutes",{"$f":"COUNTIF(Q$5:Q649, Q649 )","v":1},{"$f":"_xlfn.IFS(D$2=X$4, X649, D$2=Y$4, Y649,D$2=Z$4, Z649,D$2=AA$4, AA649)","v":2},2,{"$f":"IF(R649=1, _xlfn.IFNA(VLOOKUP(Q649, 'Allocation Change Graph'!BF$7:BG$20, 2, FALSE), 0), 0)","v":0},0.9,1.8,null,null,2,null,null,null,2,1,1,2,1,2,2,1,1,2,null,null,null,null,null,1,2]
[null,null,"University Wide","La Jolla Campus","West Campus","Marshall College","Surface Lot","P303","-","Visitor",null,null,"Yes","Yes","Yes","P303","P303Visitor",{"$f":"COUNTIF(Q$5:Q650, Q650 )","v":1},{"$f":"_xlfn.IFS(D$2=X$4, X650, D$2=Y$4, Y650,D$2=Z$4, Z650,D$2=AA$4, AA650)","v":28},28,{"$f":"IF(R650=1, _xlfn.IFNA(VLOOKUP(Q650, 'Allocation Change Graph'!BF$7:BG$20, 2, FALSE), 0), 0)","v":0},0.9,25.2,null,null,28,null,null,null,26,18,17,17,14,6,8,15,23,25,null,null,null,null,null,6,26]
[null,null,"University Wide","La Jolla Campus","West Campus","Marshall College","Surface Lot","P304","-","Accessible",null,null,"Yes","Yes",null,"P304","P304Accessible",{"$f":"COUNTIF(Q$5:Q651, Q651 )","v":1},{"$f":"_xlfn.IFS(D$2=X$4, X651, D$2=Y$4, Y651,D$2=Z$4, Z651,D$2=AA$4, AA651)","v":1},1,{"$f":"IF(R651=1, _xlfn.IFNA(VLOOKUP(Q651, 'Allocation Change Graph'!BF$7:BG$20, 2, FALSE), 0), 0)","v":0},0.9,0.9,null,null,1,null,null,null,1,1,1,1,1,0,0,1,0,1,null,null,null,null,null,0,1]
[null,null,"University Wide","La Jolla Campus","West Campus","Marshall College","Surface Lot","P304","-","Accessible (Van)",null,null,"Yes","Yes",null,"P304","P304Accessible (Van)",{"$f":"COUNTIF(Q$5:Q652, Q652 )","v":1},{"$f":"_xlfn.IFS(D$2=X$4, X652, D$2=Y$4, Y652,D$2=Z$4, Z652,D$2=AA$4, AA652)","v":1},1,{"$f":"IF(R652=1, _xlfn.IFNA(VLOOKUP(Q652, 'Allocation Change Graph'!BF$7:BG$20, 2, FALSE), 0), 0)","v":0},0.9,0.9,null,null,1,null,null,null,1,0,0,1,1,0,0,1,0,1,null,null,null,null,null,0,1]
[null,null,"University Wide","La Jolla Campus","West Campus","Marshall College","Surface Lot","P304","-","B",null,null,"Yes","Yes","Yes","P304","P304B",{"$f":"COUNTIF(Q$5:Q653, Q653 )","v":1},{"$f":"_xlfn.IFS(D$2=X$4, X653, D$2=Y$4, Y653,D$2=Z$4, Z653,D$2=AA$4, AA653)","v":0},0,{"$f":"IF(R653=1, _xlfn.IFNA(VLOOKUP(Q653, 'Allocation Change Graph'!BF$7:BG$20, 2, FALSE), 0), 0)","v":0},0.9,0,null,null,0,null,null,null,null,null,null,null,null,null,null,null,null,null,null,null,null,null,null,0,0]
[null,null,"University Wide","La Jolla Campus","West Campus","Marshall College","Surface Lot","P304","-","Loading",null,"20 minutes","Yes","Yes",null,"P304","P304Loading20 minutes",{"$f":"COUNTIF(Q$5:Q654, Q654 )","v":1},{"$f":"_xlfn.IFS(D$2=X$4, X654, D$2=Y$4, Y654,D$2=Z$4, Z654,D$2=AA$4, AA654)","v":2},2,{"$f":"IF(R654=1, _xlfn.IFNA(VLOOKUP(Q654, 'Allocation Change Graph'!BF$7:BG$20, 2, FALSE), 0), 0)","v":0},0.9,1.8,null,null,2,null,null,null,1,1,2,1,1,1,0,1,1,2,null,null,null,null,null,0,2]
[null,null,"University Wide","La Jolla Campus","West Campus","Marshall College","Surface Lot","P304","-","Motorcycle Section",null,null,"Yes","Yes",null,"P304","P304Motorcycle Section",{"$f":"COUNTIF(Q$5:Q655, Q655 )","v":1},{"$f":"_xlfn.IFS(D$2=X$4, X655, D$2=Y$4, Y655,D$2=Z$4, Z655,D$2=AA$4, AA655)","v":5},5,{"$f":"IF(R655=1, _xlfn.IFNA(VLOOKUP(Q655, 'Allocation Change Graph'!BF$7:BG$20, 2, FALSE), 0), 0)","v":0},0.9,4.5,null,null,5,null,null,null,4,0,1,0,0,5,1,3,2,4,null,null,null,null,null,0,5]
[null,null,"University Wide","La Jolla Campus","West Campus","Marshall College","Surface Lot","P304","-","S",null,null,"Yes","Yes","Yes","P304","P304S",{"$f":"COUNTIF(Q$5:Q656, Q656 )","v":1},{"$f":"_xlfn.IFS(D$2=X$4, X656, D$2=Y$4, Y656,D$2=Z$4, Z656,D$2=AA$4, AA656)","v":72},72,{"$f":"IF(R656=1, _xlfn.IFNA(VLOOKUP(Q656, 'Allocation Change Graph'!BF$7:BG$20, 2, FALSE), 0), 0)","v":0},0.9,64.8,null,null,72,null,null,null,68,65,60,57,52,2,7,14,47,63,null,null,null,null,null,2,68]
[null,null,"University Wide","La Jolla Campus","West Campus","Marshall College","Surface Lot","P304","-","Service Yard",null,null,"Yes","Yes",null,"P304","P304Service Yard",{"$f":"COUNTIF(Q$5:Q657, Q657 )","v":1},{"$f":"_xlfn.IFS(D$2=X$4, X657, D$2=Y$4, Y657,D$2=Z$4, Z657,D$2=AA$4, AA657)","v":2},2,{"$f":"IF(R657=1, _xlfn.IFNA(VLOOKUP(Q657, 'Allocation Change Graph'!BF$7:BG$20, 2, FALSE), 0), 0)","v":0},0.9,1.8,null,null,2,null,null,null,2,2,1,2,2,1,1,2,1,1,null,null,null,null,null,1,2]
[null,null,"University Wide","La Jolla Campus","West Campus","Roosevelt College","Surface Lot","P306","-","Accessible",null,null,"Yes","Yes",null,"P306","P306Accessible",{"$f":"COUNTIF(Q$5:Q658, Q658 )","v":1},{"$f":"_xlfn.IFS(D$2=X$4, X658, D$2=Y$4, Y658,D$2=Z$4, Z658,D$2=AA$4, AA658)","v":3},3,{"$f":"IF(R658=1, _xlfn.IFNA(VLOOKUP(Q658, 'Allocation Change Graph'!BF$7:BG$20, 2, FALSE), 0), 0)","v":0},0.9,2.7,null,null,3,null,null,null,2,2,1,1,0,0,0,1,0,2,null,null,null,null,null,0,2]
[null,null,"University Wide","La Jolla Campus","West Campus","Roosevelt College","Surface Lot","P306","-","Accessible (Van)",null,null,"Yes","Yes",null,"P306","P306Accessible (Van)",{"$f":"COUNTIF(Q$5:Q659, Q659 )","v":1},{"$f":"_xlfn.IFS(D$2=X$4, X659, D$2=Y$4, Y659,D$2=Z$4, Z659,D$2=AA$4, AA659)","v":0},0,{"$f":"IF(R659=1, _xlfn.IFNA(VLOOKUP(Q659, 'Allocation Change Graph'!BF$7:BG$20, 2, FALSE), 0), 0)","v":0},0.9,0,null,null,null,null,null,null,null,null,null,null,null,null,null,null,null,null,null,null,null,null,null,0,0]
[null,null,"University Wide","La Jolla Campus","West Campus","Roosevelt College","Surface Lot","P306","-","Loading",null,"20 minutes","Yes","Yes",null,"P306","P306Loading20 minutes",{"$f":"COUNTIF(Q$5:Q660, Q660 )","v":1},{"$f":"_xlfn.IFS(D$2=X$4, X660, D$2=Y$4, Y660,D$2=Z$4, Z660,D$2=AA$4, AA660)","v":4},4,{"$f":"IF(R660=1, _xlfn.IFNA(VLOOKUP(Q660, 'Allocation Change Graph'!BF$7:BG$20, 2, FALSE), 0), 0)","v":0},0.9,3.6,null,null,4,null,null,null,3,3,0,0,0,2,2,3,0,3,null,null,null,null,null,0,3]
[null,null,"University Wide","La Jolla Campus","West Campus","Roosevelt College","Surface Lot","P306","-","Reserved",null,null,"Yes","Yes",null,"P306","P306Reserved",{"$f":"COUNTIF(Q$5:Q661, Q661 )","v":1},{"$f":"_xlfn.IFS(D$2=X$4, X661, D$2=Y$4, Y661,D$2=Z$4, Z661,D$2=AA$4, AA661)","v":4},4,{"$f":"IF(R661=1, _xlfn.IFNA(VLOOKUP(Q661, 'Allocation Change Graph'!BF$7:BG$20, 2, FALSE), 0), 0)","v":0},0.9,3.6,null,null,4,null,null,null,4,3,2,1,1,1,2,1,3,2,null,null,null,null,null,1,4]
[null,null,"University Wide","La Jolla Campus","West Campus","Roosevelt College","Surface Lot","P306","-","UC Vehicle",null,null,"Yes","Yes",null,"P306","P306UC Vehicle",{"$f":"COUNTIF(Q$5:Q662, Q662 )","v":1},{"$f":"_xlfn.IFS(D$2=X$4, X662, D$2=Y$4, Y662,D$2=Z$4, Z662,D$2=AA$4, AA662)","v":3},3,{"$f":"IF(R662=1, _xlfn.IFNA(VLOOKUP(Q662, 'Allocation Change Graph'!BF$7:BG$20, 2, FALSE), 0), 0)","v":0},0.9,2.7,null,null,3,null,null,null,2,2,1,1,1,3,3,2,1,3,null,null,null,null,null,1,3]
[null,null,"University Wide","La Jolla Campus","West Campus","Marshall College","Surface Lot","P310","-","Accessible",null,null,"Yes","Yes",null,"P310","P310Accessible",{"$f":"COUNTIF(Q$5:Q663, Q663 )","v":1},{"$f":"_xlfn.IFS(D$2=X$4, X663, D$2=Y$4, Y663,D$2=Z$4, Z663,D$2=AA$4, AA663)","v":2},2,{"$f":"IF(R663=1, _xlfn.IFNA(VLOOKUP(Q663, 'Allocation Change Graph'!BF$7:BG$20, 2, FALSE), 0), 0)","v":0},0.9,1.8,null,null,2,null,null,null,2,1,1,1,1,2,1,2,1,1,null,null,null,null,null,1,2]
[null,null,"University Wide","La Jolla Campus","West Campus","Marshall College","Surface Lot","P310","-","Accessible (Van)",null,null,"Yes","Yes",null,"P310","P310Accessible (Van)",{"$f":"COUNTIF(Q$5:Q664, Q664 )","v":1},{"$f":"_xlfn.IFS(D$2=X$4, X664, D$2=Y$4, Y664,D$2=Z$4, Z664,D$2=AA$4, AA664)","v":0},0,{"$f":"IF(R664=1, _xlfn.IFNA(VLOOKUP(Q664, 'Allocation Change Graph'!BF$7:BG$20, 2, FALSE), 0), 0)","v":0},0.9,0,null,null,null,null,null,null,null,null,null,null,null,null,null,null,null,null,null,null,null,null,null,0,0]
[null,null,"University Wide","La Jolla Campus","West Campus","Marshall College","Surface Lot","P310","-","Loading",null,"20 minutes","Yes","Yes",null,"P310","P310Loading20 minutes",{"$f":"COUNTIF(Q$5:Q665, Q665 )","v":1},{"$f":"_xlfn.IFS(D$2=X$4, X665, D$2=Y$4, Y665,D$2=Z$4, Z665,D$2=AA$4, AA665)","v":2},2,{"$f":"IF(R665=1, _xlfn.IFNA(VLOOKUP(Q665, 'Allocation Change Graph'!BF$7:BG$20, 2, FALSE), 0), 0)","v":0},0.9,1.8,null,null,2,null,null,null,1,2,1,2,2,2,2,1,2,2,null,null,null,null,null,1,2]
[null,null,"University Wide","La Jolla Campus","West Campus","North Campus","Surface Lot","P351","-","A",null,null,"Yes","Yes","Yes","P351","P351A",{"$f":"COUNTIF(Q$5:Q666, Q666 )","v":1},{"$f":"_xlfn.IFS(D$2=X$4, X666, D$2=Y$4, Y666,D$2=Z$4, Z666,D$2=AA$4, AA666)","v":22},22,{"$f":"IF(R666=1, _xlfn.IFNA(VLOOKUP(Q666, 'Allocation Change Graph'!BF$7:BG$20, 2, FALSE), 0), 0)","v":0},0.9,19.8,null,null,22,null,null,null,16,4,1,3,5,2,0,4,7,15,null,null,null,null,null,0,16]
[null,null,"University Wide","La Jolla Campus","West Campus","North Campus","Surface Lot","P351","-","Reserved","Rady School",null,"Yes","Yes",null,"P351","P351ReservedRady School",{"$f":"COUNTIF(Q$5:Q667, Q667 )","v":1},{"$f":"_xlfn.IFS(D$2=X$4, X667, D$2=Y$4, Y667,D$2=Z$4, Z667,D$2=AA$4, AA667)","v":3},3,{"$f":"IF(R667=1, _xlfn.IFNA(VLOOKUP(Q667, 'Allocation Change Graph'!BF$7:BG$20, 2, FALSE), 0), 0)","v":0},0.9,2.7,null,null,3,null,null,null,0,0,0,0,1,3,3,3,3,3,null,null,null,null,null,0,3]
[null,null,"University Wide","La Jolla Campus","West Campus","North Campus","Surface Lot","P351","-","Reserved",null,null,"Yes","Yes",null,"P351","P351Reserved",{"$f":"COUNTIF(Q$5:Q668, Q668 )","v":1},{"$f":"_xlfn.IFS(D$2=X$4, X668, D$2=Y$4, Y668,D$2=Z$4, Z668,D$2=AA$4, AA668)","v":7},7,{"$f":"IF(R668=1, _xlfn.IFNA(VLOOKUP(Q668, 'Allocation Change Graph'!BF$7:BG$20, 2, FALSE), 0), 0)","v":0},0.9,6.3,null,null,7,null,null,null,4,3,3,3,3,3,3,1,4,4,null,null,null,null,null,1,4]
[null,null,"University Wide","La Jolla Campus","West Campus","North Campus","Surface Lot","P352","-","Accessible",null,null,"Yes","Yes",null,"P352","P352Accessible",{"$f":"COUNTIF(Q$5:Q669, Q669 )","v":1},{"$f":"_xlfn.IFS(D$2=X$4, X669, D$2=Y$4, Y669,D$2=Z$4, Z669,D$2=AA$4, AA669)","v":0},0,{"$f":"IF(R669=1, _xlfn.IFNA(VLOOKUP(Q669, 'Allocation Change Graph'!BF$7:BG$20, 2, FALSE), 0), 0)","v":0},0.9,0,null,null,0,null,null,null,null,null,null,null,null,null,null,null,null,null,null,null,null,null,null,0,0]
[null,null,"University Wide","La Jolla Campus","West Campus","North Campus","Surface Lot","P352","-","Accessible (Van)",null,null,"Yes","Yes",null,"P352","P352Accessible (Van)",{"$f":"COUNTIF(Q$5:Q670, Q670 )","v":1},{"$f":"_xlfn.IFS(D$2=X$4, X670, D$2=Y$4, Y670,D$2=Z$4, Z670,D$2=AA$4, AA670)","v":1},1,{"$f":"IF(R670=1, _xlfn.IFNA(VLOOKUP(Q670, 'Allocation Change Graph'!BF$7:BG$20, 2, FALSE), 0), 0)","v":0},0.9,0.9,null,null,1,null,null,null,0,0,0,0,1,1,1,0,0,0,null,null,null,null,null,0,1]
[null,null,"University Wide","La Jolla Campus","West Campus","North Campus","Surface Lot","P352","-","Loading",null,"20 minutes","Yes","Yes",null,"P352","P352Loading20 minutes",{"$f":"COUNTIF(Q$5:Q671, Q671 )","v":1},{"$f":"_xlfn.IFS(D$2=X$4, X671, D$2=Y$4, Y671,D$2=Z$4, Z671,D$2=AA$4, AA671)","v":1},1,{"$f":"IF(R671=1, _xlfn.IFNA(VLOOKUP(Q671, 'Allocation Change Graph'!BF$7:BG$20, 2, FALSE), 0), 0)","v":0},0.9,0.9,null,null,1,null,null,null,0,0,1,0,0,1,0,0,1,0,null,null,null,null,null,0,1]
[null,null,"University Wide","La Jolla Campus","West Campus","North Campus","Surface Lot","P352","-","Service Yard",null,null,"Yes","Yes",null,"P352","P352Service Yard",{"$f":"COUNTIF(Q$5:Q672, Q672 )","v":1},{"$f":"_xlfn.IFS(D$2=X$4, X672, D$2=Y$4, Y672,D$2=Z$4, Z672,D$2=AA$4, AA672)","v":2},2,{"$f":"IF(R672=1, _xlfn.IFNA(VLOOKUP(Q672, 'Allocation Change Graph'!BF$7:BG$20, 2, FALSE), 0), 0)","v":0},0.9,1.8,null,null,2,null,null,null,0,0,1,1,0,0,1,1,0,1,null,null,null,null,null,0,1]
[null,null,"University Wide","La Jolla Campus","West Campus","North Campus","Surface Lot","P353","-","Accessible",null,null,"Yes","Yes",null,"P353","P353Accessible",{"$f":"COUNTIF(Q$5:Q673, Q673 )","v":1},{"$f":"_xlfn.IFS(D$2=X$4, X673, D$2=Y$4, Y673,D$2=Z$4, Z673,D$2=AA$4, AA673)","v":3},3,{"$f":"IF(R673=1, _xlfn.IFNA(VLOOKUP(Q673, 'Allocation Change Graph'!BF$7:BG$20, 2, FALSE), 0), 0)","v":0},0.9,2.7,null,null,3,null,null,null,2,1,0,1,2,1,2,2,2,2,null,null,null,null,null,0,2]
[null,null,"University Wide","La Jolla Campus","West Campus","North Campus","Surface Lot","P353","-","Accessible (Van)",null,null,"Yes","Yes",null,"P353","P353Accessible (Van)",{"$f":"COUNTIF(Q$5:Q674, Q674 )","v":1},{"$f":"_xlfn.IFS(D$2=X$4, X674, D$2=Y$4, Y674,D$2=Z$4, Z674,D$2=AA$4, AA674)","v":1},1,{"$f":"IF(R674=1, _xlfn.IFNA(VLOOKUP(Q674, 'Allocation Change Graph'!BF$7:BG$20, 2, FALSE), 0), 0)","v":0},0.9,0.9,null,null,1,null,null,null,1,0,1,0,1,0,0,0,0,1,null,null,null,null,null,0,1]
[null,null,"University Wide","La Jolla Campus","West Campus","North Campus","Surface Lot","P353","-","Allocated","Fuel-efficient Vehicle",null,"Yes","Yes",null,"P353","P353AllocatedFuel-efficient Vehicle",{"$f":"COUNTIF(Q$5:Q675, Q675 )","v":1},{"$f":"_xlfn.IFS(D$2=X$4, X675, D$2=Y$4, Y675,D$2=Z$4, Z675,D$2=AA$4, AA675)","v":1},1,{"$f":"IF(R675=1, _xlfn.IFNA(VLOOKUP(Q675, 'Allocation Change Graph'!BF$7:BG$20, 2, FALSE), 0), 0)","v":0},0.9,0.9,null,null,1,null,null,null,0,0,1,1,1,0,0,1,1,1,null,null,null,null,null,0,1]
[null,null,"University Wide","La Jolla Campus","West Campus","North Campus","Surface Lot","P353","-","Loading",null,"20 minutes","Yes","Yes",null,"P353","P353Loading20 minutes",{"$f":"COUNTIF(Q$5:Q676, Q676 )","v":1},{"$f":"_xlfn.IFS(D$2=X$4, X676, D$2=Y$4, Y676,D$2=Z$4, Z676,D$2=AA$4, AA676)","v":17},17,{"$f":"IF(R676=1, _xlfn.IFNA(VLOOKUP(Q676, 'Allocation Change Graph'!BF$7:BG$20, 2, FALSE), 0), 0)","v":0},0.9,15.3,null,null,17,null,null,null,12,4,4,0,6,4,2,2,2,2,null,null,null,null,null,0,12]
[null,null,"University Wide","La Jolla Campus","West Campus","North Campus","Surface Lot","P353","-","UC Vehicle",null,null,"Yes","Yes",null,"P353","P353UC Vehicle",{"$f":"COUNTIF(Q$5:Q677, Q677 )","v":1},{"$f":"_xlfn.IFS(D$2=X$4, X677, D$2=Y$4, Y677,D$2=Z$4, Z677,D$2=AA$4, AA677)","v":3},3,{"$f":"IF(R677=1, _xlfn.IFNA(VLOOKUP(Q677, 'Allocation Change Graph'!BF$7:BG$20, 2, FALSE), 0), 0)","v":0},0.9,2.7,null,null,3,null,null,null,2,1,1,0,2,3,3,3,3,3,null,null,null,null,null,0,3]
[null,null,"University Wide","La Jolla Campus","West Campus","Roosevelt College","Surface Lot","P354","-","Accessible",null,null,"Yes","Yes",null,"P354","P354Accessible",{"$f":"COUNTIF(Q$5:Q678, Q678 )","v":1},{"$f":"_xlfn.IFS(D$2=X$4, X678, D$2=Y$4, Y678,D$2=Z$4, Z678,D$2=AA$4, AA678)","v":4},4,{"$f":"IF(R678=1, _xlfn.IFNA(VLOOKUP(Q678, 'Allocation Change Graph'!BF$7:BG$20, 2, FALSE), 0), 0)","v":0},0.9,3.6,null,null,4,null,null,null,2,0,0,0,0,1,2,2,2,2,null,null,null,null,null,0,2]
[null,null,"University Wide","La Jolla Campus","West Campus","Roosevelt College","Surface Lot","P354","-","Accessible (Van)",null,null,"Yes","Yes",null,"P354","P354Accessible (Van)",{"$f":"COUNTIF(Q$5:Q679, Q679 )","v":1},{"$f":"_xlfn.IFS(D$2=X$4, X679, D$2=Y$4, Y679,D$2=Z$4, Z679,D$2=AA$4, AA679)","v":0},0,{"$f":"IF(R679=1, _xlfn.IFNA(VLOOKUP(Q679, 'Allocation Change Graph'!BF$7:BG$20, 2, FALSE), 0), 0)","v":0},0.9,0,null,null,null,null,null,null,null,null,null,null,null,null,null,null,null,null,null,null,null,null,null,0,0]
[null,null,"University Wide","La Jolla Campus","West Campus","Roosevelt College","Surface Lot","P354","-","Reserved",null,null,"Yes","Yes",null,"P354","P354Reserved",{"$f":"COUNTIF(Q$5:Q680, Q680 )","v":1},{"$f":"_xlfn.IFS(D$2=X$4, X680, D$2=Y$4, Y680,D$2=Z$4, Z680,D$2=AA$4, AA680)","v":1},1,{"$f":"IF(R680=1, _xlfn.IFNA(VLOOKUP(Q680, 'Allocation Change Graph'!BF$7:BG$20, 2, FALSE), 0), 0)","v":0},0.9,0.9,null,null,1,null,null,null,1,0,0,1,0,0,0,1,1,1,null,null,null,null,null,0,1]
[null,null,"University Wide","La Jolla Campus","West Campus","Roosevelt College","Surface Lot","P354","-","Service Yard",null,null,"Yes","Yes",null,"P354","P354Service Yard",{"$f":"COUNTIF(Q$5:Q681, Q681 )","v":1},{"$f":"_xlfn.IFS(D$2=X$4, X681, D$2=Y$4, Y681,D$2=Z$4, Z681,D$2=AA$4, AA681)","v":8},8,{"$f":"IF(R681=1, _xlfn.IFNA(VLOOKUP(Q681, 'Allocation Change Graph'!BF$7:BG$20, 2, FALSE), 0), 0)","v":0},0.9,7.2,null,null,8,null,null,null,4,3,0,1,1,4,3,1,1,3,null,null,null,null,null,0,4]
[null,null,"University Wide","La Jolla Campus","West Campus","Roosevelt College","Surface Lot","P354","-","UC Vehicle",null,null,"Yes","Yes",null,"P354","P354UC Vehicle",{"$f":"COUNTIF(Q$5:Q682, Q682 )","v":1},{"$f":"_xlfn.IFS(D$2=X$4, X682, D$2=Y$4, Y682,D$2=Z$4, Z682,D$2=AA$4, AA682)","v":2},2,{"$f":"IF(R682=1, _xlfn.IFNA(VLOOKUP(Q682, 'Allocation Change Graph'!BF$7:BG$20, 2, FALSE), 0), 0)","v":0},0.9,1.8,null,null,2,null,null,null,0,0,0,0,1,0,0,0,1,1,null,null,null,null,null,0,1]
[null,null,"University Wide","La Jolla Campus","West Campus","North Campus","Surface Lot","P357","-","Accessible",null,null,"Yes","Yes",null,"P357","P357Accessible",{"$f":"COUNTIF(Q$5:Q683, Q683 )","v":1},{"$f":"_xlfn.IFS(D$2=X$4, X683, D$2=Y$4, Y683,D$2=Z$4, Z683,D$2=AA$4, AA683)","v":2},2,{"$f":"IF(R683=1, _xlfn.IFNA(VLOOKUP(Q683, 'Allocation Change Graph'!BF$7:BG$20, 2, FALSE), 0), 0)","v":0},0.9,1.8,null,null,2,null,null,null,0,0,0,0,0,2,0,1,0,2,null,null,null,null,null,0,2]
[null,null,"University Wide","La Jolla Campus","West Campus","North Campus","Surface Lot","P357","-","Accessible (Van)",null,null,"Yes","Yes",null,"P357","P357Accessible (Van)",{"$f":"COUNTIF(Q$5:Q684, Q684 )","v":1},{"$f":"_xlfn.IFS(D$2=X$4, X684, D$2=Y$4, Y684,D$2=Z$4, Z684,D$2=AA$4, AA684)","v":3},3,{"$f":"IF(R684=1, _xlfn.IFNA(VLOOKUP(Q684, 'Allocation Change Graph'!BF$7:BG$20, 2, FALSE), 0), 0)","v":0},0.9,2.7,null,null,3,null,null,null,2,0,0,0,0,0,0,0,0,1,null,null,null,null,null,0,2]
[null,null,"University Wide","La Jolla Campus","West Campus","North Campus","Surface Lot","P357","-","B",null,null,"Yes","Yes","Yes","P357","P357B",{"$f":"COUNTIF(Q$5:Q685, Q685 )","v":1},{"$f":"_xlfn.IFS(D$2=X$4, X685, D$2=Y$4, Y685,D$2=Z$4, Z685,D$2=AA$4, AA685)","v":117},117,{"$f":"IF(R685=1, _xlfn.IFNA(VLOOKUP(Q685, 'Allocation Change Graph'!BF$7:BG$20, 2, FALSE), 0), 0)","v":0},0.9,105.3,null,null,117,null,null,null,61,9,0,0,0,3,1,2,10,31,null,null,null,null,null,0,61]
[null,null,"University Wide","La Jolla Campus","West Campus","North Campus","Surface Lot","P357","-","Electric Vehicle",null,"4-Hour","Yes","Yes",null,"P357","P357Electric Vehicle4-Hour",{"$f":"COUNTIF(Q$5:Q686, Q686 )","v":1},{"$f":"_xlfn.IFS(D$2=X$4, X686, D$2=Y$4, Y686,D$2=Z$4, Z686,D$2=AA$4, AA686)","v":10},10,{"$f":"IF(R686=1, _xlfn.IFNA(VLOOKUP(Q686, 'Allocation Change Graph'!BF$7:BG$20, 2, FALSE), 0), 0)","v":0},0.9,9,null,null,10,null,null,null,6,1,0,1,0,0,0,1,3,8,null,null,null,null,null,0,8]
[null,null,"University Wide","La Jolla Campus","West Campus","North Campus","Surface Lot","P357","-","Motorcycle Section",null,null,"Yes","Yes",null,"P357","P357Motorcycle Section",{"$f":"COUNTIF(Q$5:Q687, Q687 )","v":1},{"$f":"_xlfn.IFS(D$2=X$4, X687, D$2=Y$4, Y687,D$2=Z$4, Z687,D$2=AA$4, AA687)","v":12},12,{"$f":"IF(R687=1, _xlfn.IFNA(VLOOKUP(Q687, 'Allocation Change Graph'!BF$7:BG$20, 2, FALSE), 0), 0)","v":0},0.9,10.8,null,null,12,null,null,null,12,12,10,10,10,3,2,12,11,12,null,null,null,null,null,2,12]
[null,null,"University Wide","La Jolla Campus","West Campus","North Campus","Surface Lot","P357","-","Reserved",null,null,"Yes","Yes",null,"P357","P357Reserved",{"$f":"COUNTIF(Q$5:Q688, Q688 )","v":1},{"$f":"_xlfn.IFS(D$2=X$4, X688, D$2=Y$4, Y688,D$2=Z$4, Z688,D$2=AA$4, AA688)","v":4},4,{"$f":"IF(R688=1, _xlfn.IFNA(VLOOKUP(Q688, 'Allocation Change Graph'!BF$7:BG$20, 2, FALSE), 0), 0)","v":0},0.9,3.6,null,null,4,null,null,null,2,1,2,0,0,0,0,1,0,4,null,null,null,null,null,0,4]
[null,null,"University Wide","La Jolla Campus","West Campus","North Campus","Surface Lot","P357","-","Service Yard",null,null,"Yes","Yes",null,"P357","P357Service Yard",{"$f":"COUNTIF(Q$5:Q689, Q689 )","v":1},{"$f":"_xlfn.IFS(D$2=X$4, X689, D$2=Y$4, Y689,D$2=Z$4, Z689,D$2=AA$4, AA689)","v":2},2,{"$f":"IF(R689=1, _xlfn.IFNA(VLOOKUP(Q689, 'Allocation Change Graph'!BF$7:BG$20, 2, FALSE), 0), 0)","v":0},0.9,1.8,null,null,2,null,null,null,1,2,1,1,1,2,0,0,1,1,null,null,null,null,null,0,2]
[null,null,"University Wide","La Jolla Campus","West Campus","North Campus","Surface Lot","P357","-","Visitor",null,null,"Yes","Yes","Yes","P357","P357Visitor",{"$f":"COUNTIF(Q$5:Q690, Q690 )","v":1},{"$f":"_xlfn.IFS(D$2=X$4, X690, D$2=Y$4, Y690,D$2=Z$4, Z690,D$2=AA$4, AA690)","v":13},13,{"$f":"IF(R690=1, _xlfn.IFNA(VLOOKUP(Q690, 'Allocation Change Graph'!BF$7:BG$20, 2, FALSE), 0), 0)","v":0},0.9,11.700000000000001,null,null,13,null,null,null,6,1,2,0,7,3,0,0,0,0,null,null,null,null,null,0,7]
[null,null,"University Wide","La Jolla Campus","West Campus","North Campus","Surface Lot","P358","-","UC Vehicle",null,null,"Yes","Yes",null,"P358","P358UC Vehicle",{"$f":"COUNTIF(Q$5:Q691, Q691 )","v":1},{"$f":"_xlfn.IFS(D$2=X$4, X691, D$2=Y$4, Y691,D$2=Z$4, Z691,D$2=AA$4, AA691)","v":1},1,{"$f":"IF(R691=1, _xlfn.IFNA(VLOOKUP(Q691, 'Allocation Change Graph'!BF$7:BG$20, 2, FALSE), 0), 0)","v":0},0.9,0.9,null,null,1,null,null,null,0,0,1,0,0,0,0,0,1,1,null,null,null,null,null,0,1]
[null,null,"University Wide","La Jolla Campus","West Campus","North Campus","Surface Lot","P359","-","B",null,null,"Yes","Yes","Yes","P359","P359B",{"$f":"COUNTIF(Q$5:Q692, Q692 )","v":1},{"$f":"_xlfn.IFS(D$2=X$4, X692, D$2=Y$4, Y692,D$2=Z$4, Z692,D$2=AA$4, AA692)","v":49},49,{"$f":"IF(R692=1, _xlfn.IFNA(VLOOKUP(Q692, 'Allocation Change Graph'!BF$7:BG$20, 2, FALSE), 0), 0)","v":0},0.9,44.1,null,null,49,null,null,null,15,10,11,3,0,1,1,5,7,16,null,null,null,null,null,0,16]
[null,null,"University Wide","La Jolla Campus","West Campus","North Campus","Surface Lot","P359","-","UC Vehicle",null,null,"Yes","Yes",null,"P359","P359UC Vehicle",{"$f":"COUNTIF(Q$5:Q693, Q693 )","v":1},{"$f":"_xlfn.IFS(D$2=X$4, X693, D$2=Y$4, Y693,D$2=Z$4, Z693,D$2=AA$4, AA693)","v":7},7,{"$f":"IF(R693=1, _xlfn.IFNA(VLOOKUP(Q693, 'Allocation Change Graph'!BF$7:BG$20, 2, FALSE), 0), 0)","v":0},0.9,6.3,null,null,7,null,null,null,3,2,1,1,1,1,2,3,2,2,null,null,null,null,null,1,3]
[null,null,"University Wide","La Jolla Campus","West Campus","Torrey Pines Center","Surface Lot","P384","-","Allocated","SCRM",null,"Yes","Yes",null,"P384","P384AllocatedSCRM",{"$f":"COUNTIF(Q$5:Q694, Q694 )","v":1},{"$f":"_xlfn.IFS(D$2=X$4, X694, D$2=Y$4, Y694,D$2=Z$4, Z694,D$2=AA$4, AA694)","v":0},0,{"$f":"IF(R694=1, _xlfn.IFNA(VLOOKUP(Q694, 'Allocation Change Graph'!BF$7:BG$20, 2, FALSE), 0), 0)","v":0},0.9,0,null,null,0,null,null,null,null,null,null,null,null,null,null,null,null,null,null,null,null,null,null,0,0]
[null,null,"University Wide","La Jolla Campus","West Campus","Torrey Pines Center","Surface Lot","P384","-","B","Sanford Consortium",null,"Yes","Yes","Yes","P384","P384BSanford Consortium",{"$f":"COUNTIF(Q$5:Q695, Q695 )","v":1},{"$f":"_xlfn.IFS(D$2=X$4, X695, D$2=Y$4, Y695,D$2=Z$4, Z695,D$2=AA$4, AA695)","v":175},175,{"$f":"IF(R695=1, _xlfn.IFNA(VLOOKUP(Q695, 'Allocation Change Graph'!BF$7:BG$20, 2, FALSE), 0), 0)","v":0},0.9,157.5,null,null,175,null,null,null,90,33,16,50,63,5,6,19,50,99,null,null,null,null,null,5,99]
[null,null,"University Wide","La Jolla Campus","West Campus","Torrey Pines Center","Surface Lot","P384","-","Motorcycle Section",null,null,"Yes","Yes",null,"P384","P384Motorcycle Section",{"$f":"COUNTIF(Q$5:Q696, Q696 )","v":1},{"$f":"_xlfn.IFS(D$2=X$4, X696, D$2=Y$4, Y696,D$2=Z$4, Z696,D$2=AA$4, AA696)","v":4},4,{"$f":"IF(R696=1, _xlfn.IFNA(VLOOKUP(Q696, 'Allocation Change Graph'!BF$7:BG$20, 2, FALSE), 0), 0)","v":0},0.9,3.6,null,null,4,null,null,null,4,3,3,4,3,2,3,4,4,4,null,null,null,null,null,2,4]
[null,null,"University Wide","La Jolla Campus","West Campus","Torrey Pines Center","Surface Lot","P385","-","Accessible",null,null,"Yes","Yes",null,"P385","P385Accessible",{"$f":"COUNTIF(Q$5:Q697, Q697 )","v":1},{"$f":"_xlfn.IFS(D$2=X$4, X697, D$2=Y$4, Y697,D$2=Z$4, Z697,D$2=AA$4, AA697)","v":3},3,{"$f":"IF(R697=1, _xlfn.IFNA(VLOOKUP(Q697, 'Allocation Change Graph'!BF$7:BG$20, 2, FALSE), 0), 0)","v":0},0.9,2.7,null,null,3,null,null,null,1,0,1,1,1,2,2,2,3,3,null,null,null,null,null,0,3]
[null,null,"University Wide","La Jolla Campus","West Campus","Torrey Pines Center","Surface Lot","P385","-","Accessible (Van)",null,null,"Yes","Yes",null,"P385","P385Accessible (Van)",{"$f":"COUNTIF(Q$5:Q698, Q698 )","v":1},{"$f":"_xlfn.IFS(D$2=X$4, X698, D$2=Y$4, Y698,D$2=Z$4, Z698,D$2=AA$4, AA698)","v":7},7,{"$f":"IF(R698=1, _xlfn.IFNA(VLOOKUP(Q698, 'Allocation Change Graph'!BF$7:BG$20, 2, FALSE), 0), 0)","v":0},0.9,6.3,null,null,7,null,null,null,4,2,5,5,5,6,6,6,5,5,null,null,null,null,null,2,6]
[null,null,"University Wide","La Jolla Campus","West Campus","Torrey Pines Center","Surface Lot","P385","-","Reserved",null,null,"Yes","Yes",null,"P385","P385Reserved",{"$f":"COUNTIF(Q$5:Q699, Q699 )","v":1},{"$f":"_xlfn.IFS(D$2=X$4, X699, D$2=Y$4, Y699,D$2=Z$4, Z699,D$2=AA$4, AA699)","v":11},11,{"$f":"IF(R699=1, _xlfn.IFNA(VLOOKUP(Q699, 'Allocation Change Graph'!BF$7:BG$20, 2, FALSE), 0), 0)","v":0},0.9,9.9,null,null,11,null,null,null,6,5,5,6,9,11,11,11,11,11,null,null,null,null,null,5,11]
[null,null,"University Wide","La Jolla Campus","West Campus","Torrey Pines Center","Surface Lot","P385","-","Visitor","Sanford Consortium",null,"Yes","Yes","Yes","P385","P385VisitorSanford Consortium",{"$f":"COUNTIF(Q$5:Q700, Q700 )","v":1},{"$f":"_xlfn.IFS(D$2=X$4, X700, D$2=Y$4, Y700,D$2=Z$4, Z700,D$2=AA$4, AA700)","v":202},202,{"$f":"IF(R700=1, _xlfn.IFNA(VLOOKUP(Q700, 'Allocation Change Graph'!BF$7:BG$20, 2, FALSE), 0), 0)","v":0},0.9,181.8,null,null,202,null,null,null,24,67,60,56,78,56,62,75,96,112,null,null,null,null,null,24,112]
[null,null,"University Wide","La Jolla Campus","West Campus","Torrey Pines Center","Surface Lot","P386 (Gliderport)","-","SS ($3.25)",null,null,"Yes","Yes","Yes","P386 (Gliderport)","P386 (Gliderport)SS ($3.25)",{"$f":"COUNTIF(Q$5:Q701, Q701 )","v":1},{"$f":"_xlfn.IFS(D$2=X$4, X701, D$2=Y$4, Y701,D$2=Z$4, Z701,D$2=AA$4, AA701)","v":335},335,{"$f":"IF(R701=1, _xlfn.IFNA(VLOOKUP(Q701, 'Allocation Change Graph'!BF$7:BG$20, 2, FALSE), 0), 0)","v":0},0.9,301.5,null,null,335,null,null,null,155,89,80,140,118,289,301,292,309,306,null,null,null,null,null,80,309]
[null,null,"University Wide","La Jolla Campus","West Campus","Pepper Canyon","Surface Lot","P401","-","Accessible",null,null,"Yes","Yes",null,"P401","P401Accessible",{"$f":"COUNTIF(Q$5:Q702, Q702 )","v":1},{"$f":"_xlfn.IFS(D$2=X$4, X702, D$2=Y$4, Y702,D$2=Z$4, Z702,D$2=AA$4, AA702)","v":0},0,{"$f":"IF(R702=1, _xlfn.IFNA(VLOOKUP(Q702, 'Allocation Change Graph'!BF$7:BG$20, 2, FALSE), 0), 0)","v":0},0.9,0,null,null,0,null,null,null,null,null,null,null,null,null,null,null,null,null,null,null,null,null,null,0,0]
[null,null,"University Wide","La Jolla Campus","West Campus","Pepper Canyon","Surface Lot","P401","-","Accessible (Van)",null,null,"Yes","Yes",null,"P401","P401Accessible (Van)",{"$f":"COUNTIF(Q$5:Q703, Q703 )","v":1},{"$f":"_xlfn.IFS(D$2=X$4, X703, D$2=Y$4, Y703,D$2=Z$4, Z703,D$2=AA$4, AA703)","v":1},1,{"$f":"IF(R703=1, _xlfn.IFNA(VLOOKUP(Q703, 'Allocation Change Graph'!BF$7:BG$20, 2, FALSE), 0), 0)","v":0},0.9,0.9,null,null,1,null,null,null,0,0,0,0,0,0,0,0,0,0,null,null,null,null,null,0,0]
[null,null,"University Wide","La Jolla Campus","West Campus","Pepper Canyon","Surface Lot","P401","-","Loading",null,20,"Yes","Yes",null,"P401","P401Loading20",{"$f":"COUNTIF(Q$5:Q704, Q704 )","v":1},{"$f":"_xlfn.IFS(D$2=X$4, X704, D$2=Y$4, Y704,D$2=Z$4, Z704,D$2=AA$4, AA704)","v":2},2,{"$f":"IF(R704=1, _xlfn.IFNA(VLOOKUP(Q704, 'Allocation Change Graph'!BF$7:BG$20, 2, FALSE), 0), 0)","v":0},0.9,1.8,null,null,2,null,null,null,1,1,0,0,0,2,2,2,1,2,null,null,null,null,null,0,2]
[null,null,"University Wide","La Jolla Campus","West Campus","Pepper Canyon","Surface Lot","P401","-","SR",null,null,"Yes","Yes","Yes","P401","P401SR",{"$f":"COUNTIF(Q$5:Q705, Q705 )","v":1},{"$f":"_xlfn.IFS(D$2=X$4, X705, D$2=Y$4, Y705,D$2=Z$4, Z705,D$2=AA$4, AA705)","v":96},96,{"$f":"IF(R705=1, _xlfn.IFNA(VLOOKUP(Q705, 'Allocation Change Graph'!BF$7:BG$20, 2, FALSE), 0), 0)","v":0},0.9,86.4,null,null,96,null,null,null,46,3,3,2,2,3,5,1,9,9,null,null,null,null,null,1,46]
[null,null,"University Wide","La Jolla Campus","West Campus","Pepper Canyon","Surface Lot","P402","-","A","24/7 Enforced",null,"Yes","Yes","Yes","P402","P402A24/7 Enforced",{"$f":"COUNTIF(Q$5:Q706, Q706 )","v":1},{"$f":"_xlfn.IFS(D$2=X$4, X706, D$2=Y$4, Y706,D$2=Z$4, Z706,D$2=AA$4, AA706)","v":4},4,{"$f":"IF(R706=1, _xlfn.IFNA(VLOOKUP(Q706, 'Allocation Change Graph'!BF$7:BG$20, 2, FALSE), 0), 0)","v":0},0.9,3.6,null,null,4,null,null,null,1,0,1,1,2,1,0,2,2,3,null,null,null,null,null,0,3]
[null,null,"University Wide","La Jolla Campus","West Campus","Pepper Canyon","Surface Lot","P402","-","Accessible",null,null,"Yes","Yes",null,"P402","P402Accessible",{"$f":"COUNTIF(Q$5:Q707, Q707 )","v":1},{"$f":"_xlfn.IFS(D$2=X$4, X707, D$2=Y$4, Y707,D$2=Z$4, Z707,D$2=AA$4, AA707)","v":2},2,{"$f":"IF(R707=1, _xlfn.IFNA(VLOOKUP(Q707, 'Allocation Change Graph'!BF$7:BG$20, 2, FALSE), 0), 0)","v":0},0.9,1.8,null,null,2,null,null,null,1,0,0,0,0,0,0,0,0,0,null,null,null,null,null,0,1]
[null,null,"University Wide","La Jolla Campus","West Campus","Pepper Canyon","Surface Lot","P402","-","Accessible (Van)",null,null,"Yes","Yes",null,"P402","P402Accessible (Van)",{"$f":"COUNTIF(Q$5:Q708, Q708 )","v":1},{"$f":"_xlfn.IFS(D$2=X$4, X708, D$2=Y$4, Y708,D$2=Z$4, Z708,D$2=AA$4, AA708)","v":1},1,{"$f":"IF(R708=1, _xlfn.IFNA(VLOOKUP(Q708, 'Allocation Change Graph'!BF$7:BG$20, 2, FALSE), 0), 0)","v":0},0.9,0.9,null,null,1,null,null,null,0,0,0,0,0,0,0,0,0,0,null,null,null,null,null,0,0]
[null,null,"University Wide","La Jolla Campus","West Campus","Pepper Canyon","Surface Lot","P402","-","Loading",null,"20 minutes","Yes","Yes",null,{"$f":"IF(G709=\"Surface Lot\", H709, G709)","v":"P402"},{"$f":"P709&J709&K709&L709","v":"P402Loading20 minutes"},{"$f":"COUNTIF(Q$5:Q709, Q709 )","v":1},{"$f":"_xlfn.IFS(D$2=X$4, X709, D$2=Y$4, Y709,D$2=Z$4, Z709,D$2=AA$4, AA709)","v":7},{"$f":"IF(R709=1,SUMIF(Q:Q,Q709,S:S)+U709, \"\")","v":7},{"$f":"IF(R709=1, _xlfn.IFNA(VLOOKUP(Q709, 'Allocation Change Graph'!BF$7:BG$20, 2, FALSE), 0), 0)","v":0},0.9,{"$f":"IF(R709=1, V709*T709, \"\")","v":6.3},null,null,7,null,null,null,4,2,2,1,3,6,5,5,6,5,null,null,null,null,null,{"$f":"MIN($AB709:$AR709)+U709","v":1},{"$f":"MAX($AB709:$AR709)+U709","v":6}]
[null,null,"University Wide","La Jolla Campus","West Campus","Pepper Canyon","Surface Lot","P402","-","Motorcycle Section",null,null,"Yes","Yes",null,"P402","P402Motorcycle Section",{"$f":"COUNTIF(Q$5:Q710, Q710 )","v":1},{"$f":"_xlfn.IFS(D$2=X$4, X710, D$2=Y$4, Y710,D$2=Z$4, Z710,D$2=AA$4, AA710)","v":2},2,{"$f":"IF(R710=1, _xlfn.IFNA(VLOOKUP(Q710, 'Allocation Change Graph'!BF$7:BG$20, 2, FALSE), 0), 0)","v":0},0.9,1.8,null,null,2,null,null,null,2,2,2,2,1,2,2,2,2,2,null,null,null,null,null,1,2]
[null,null,"University Wide","La Jolla Campus","West Campus","Pepper Canyon","Surface Lot","P402","-","Reserved",null,null,"Yes","Yes",null,"P402","P402Reserved",{"$f":"COUNTIF(Q$5:Q711, Q711 )","v":1},{"$f":"_xlfn.IFS(D$2=X$4, X711, D$2=Y$4, Y711,D$2=Z$4, Z711,D$2=AA$4, AA711)","v":4},4,{"$f":"IF(R711=1, _xlfn.IFNA(VLOOKUP(Q711, 'Allocation Change Graph'!BF$7:BG$20, 2, FALSE), 0), 0)","v":0},0.9,3.6,null,null,4,null,null,null,2,1,1,3,3,1,1,1,1,0,null,null,null,null,null,0,3]
[null,null,"University Wide","La Jolla Campus","West Campus","Pepper Canyon","Surface Lot","P402","-","Service Yard",null,null,"Yes","Yes",null,"P402","P402Service Yard",{"$f":"COUNTIF(Q$5:Q712, Q712 )","v":1},{"$f":"_xlfn.IFS(D$2=X$4, X712, D$2=Y$4, Y712,D$2=Z$4, Z712,D$2=AA$4, AA712)","v":2},2,{"$f":"IF(R712=1, _xlfn.IFNA(VLOOKUP(Q712, 'Allocation Change Graph'!BF$7:BG$20, 2, FALSE), 0), 0)","v":0},0.9,1.8,null,null,2,null,null,null,0,0,1,1,1,1,1,1,2,2,null,null,null,null,null,0,2]
[null,null,"University Wide","La Jolla Campus","West Campus","Pepper Canyon","Surface Lot","P402","-","UC Vehicle",null,null,"Yes","Yes",null,"P402","P402UC Vehicle",{"$f":"COUNTIF(Q$5:Q713, Q713 )","v":1},{"$f":"_xlfn.IFS(D$2=X$4, X713, D$2=Y$4, Y713,D$2=Z$4, Z713,D$2=AA$4, AA713)","v":2},2,{"$f":"IF(R713=1, _xlfn.IFNA(VLOOKUP(Q713, 'Allocation Change Graph'!BF$7:BG$20, 2, FALSE), 0), 0)","v":0},0.9,1.8,null,null,2,null,null,null,0,0,1,2,0,1,0,0,1,1,null,null,null,null,null,0,2]
[null,null,"University Wide","La Jolla Campus","West Campus","Pepper Canyon","Surface Lot","P402","-","Visitor",null,null,"Yes","Yes","Yes","P402","P402Visitor",{"$f":"COUNTIF(Q$5:Q714, Q714 )","v":1},{"$f":"_xlfn.IFS(D$2=X$4, X714, D$2=Y$4, Y714,D$2=Z$4, Z714,D$2=AA$4, AA714)","v":3},3,{"$f":"IF(R714=1, _xlfn.IFNA(VLOOKUP(Q714, 'Allocation Change Graph'!BF$7:BG$20, 2, FALSE), 0), 0)","v":0},0.9,2.7,null,null,3,null,null,null,1,0,0,0,2,1,3,3,3,2,null,null,null,null,null,0,3]
[null,null,"University Wide","La Jolla Campus","West Campus","University Center","Surface Lot","P405","-","Loading","Commercial",30,"Yes","Yes",null,"P405","P405LoadingCommercial30",{"$f":"COUNTIF(Q$5:Q715, Q715 )","v":1},{"$f":"_xlfn.IFS(D$2=X$4, X715, D$2=Y$4, Y715,D$2=Z$4, Z715,D$2=AA$4, AA715)","v":6},6,{"$f":"IF(R715=1, _xlfn.IFNA(VLOOKUP(Q715, 'Allocation Change Graph'!BF$7:BG$20, 2, FALSE), 0), 0)","v":0},0.9,5.4,null,null,6,null,null,null,3,1,1,3,4,6,6,6,6,6,null,null,null,null,null,1,6]
[null,null,"University Wide","La Jolla Campus","West Campus","University Center","Surface Lot","P405","-","Loading",null,20,"Yes","Yes",null,"P405","P405Loading20",{"$f":"COUNTIF(Q$5:Q716, Q716 )","v":1},{"$f":"_xlfn.IFS(D$2=X$4, X716, D$2=Y$4, Y716,D$2=Z$4, Z716,D$2=AA$4, AA716)","v":6},6,{"$f":"IF(R716=1, _xlfn.IFNA(VLOOKUP(Q716, 'Allocation Change Graph'!BF$7:BG$20, 2, FALSE), 0), 0)","v":0},0.9,5.4,null,null,6,null,null,null,4,2,3,3,2,0,0,4,3,3,null,null,null,null,null,0,4]
[null,null,"University Wide","La Jolla Campus","West Campus","University Center","Surface Lot","P405","-","Reserved",null,null,"Yes","Yes",null,"P405","P405Reserved",{"$f":"COUNTIF(Q$5:Q717, Q717 )","v":1},{"$f":"_xlfn.IFS(D$2=X$4, X717, D$2=Y$4, Y717,D$2=Z$4, Z717,D$2=AA$4, AA717)","v":1},1,{"$f":"IF(R717=1, _xlfn.IFNA(VLOOKUP(Q717, 'Allocation Change Graph'!BF$7:BG$20, 2, FALSE), 0), 0)","v":0},0.9,0.9,null,null,1,null,null,null,1,1,0,0,1,1,0,1,1,1,null,null,null,null,null,0,1]
[null,null,"University Wide","La Jolla Campus","West Campus","University Center","Surface Lot","P405","-","Service Yard",null,null,"Yes","Yes",null,"P405","P405Service Yard",{"$f":"COUNTIF(Q$5:Q718, Q718 )","v":1},{"$f":"_xlfn.IFS(D$2=X$4, X718, D$2=Y$4, Y718,D$2=Z$4, Z718,D$2=AA$4, AA718)","v":10},10,{"$f":"IF(R718=1, _xlfn.IFNA(VLOOKUP(Q718, 'Allocation Change Graph'!BF$7:BG$20, 2, FALSE), 0), 0)","v":0},0.9,9,null,null,10,null,null,null,6,3,3,7,6,3,3,5,5,5,null,null,null,null,null,3,7]
[null,null,"University Wide","La Jolla Campus","West Campus","Pepper Canyon","Surface Lot","P406","-","Accessible",null,null,"Yes","Yes",null,"P406","P406Accessible",{"$f":"COUNTIF(Q$5:Q719, Q719 )","v":1},{"$f":"_xlfn.IFS(D$2=X$4, X719, D$2=Y$4, Y719,D$2=Z$4, Z719,D$2=AA$4, AA719)","v":2},2,{"$f":"IF(R719=1, _xlfn.IFNA(VLOOKUP(Q719, 'Allocation Change Graph'!BF$7:BG$20, 2, FALSE), 0), 0)","v":0},0.9,1.8,null,null,2,null,null,null,2,1,1,0,0,1,1,1,2,2,null,null,null,null,null,0,2]
[null,null,"University Wide","La Jolla Campus","West Campus","Pepper Canyon","Surface Lot","P406","-","Accessible (Van)",null,null,"Yes","Yes",null,"P406","P406Accessible (Van)",{"$f":"COUNTIF(Q$5:Q720, Q720 )","v":1},{"$f":"_xlfn.IFS(D$2=X$4, X720, D$2=Y$4, Y720,D$2=Z$4, Z720,D$2=AA$4, AA720)","v":0},0,{"$f":"IF(R720=1, _xlfn.IFNA(VLOOKUP(Q720, 'Allocation Change Graph'!BF$7:BG$20, 2, FALSE), 0), 0)","v":0},0.9,0,null,null,null,null,null,null,null,null,null,null,null,null,null,null,null,null,null,null,null,null,null,0,0]
[null,null,"University Wide","La Jolla Campus","West Campus","Pepper Canyon","Surface Lot","P406","-","B",null,null,"Yes","Yes","Yes","P406","P406B",{"$f":"COUNTIF(Q$5:Q721, Q721 )","v":1},{"$f":"_xlfn.IFS(D$2=X$4, X721, D$2=Y$4, Y721,D$2=Z$4, Z721,D$2=AA$4, AA721)","v":18},18,{"$f":"IF(R721=1, _xlfn.IFNA(VLOOKUP(Q721, 'Allocation Change Graph'!BF$7:BG$20, 2, FALSE), 0), 0)","v":0},0.9,16.2,null,null,18,null,null,null,14,4,0,0,0,0,3,0,3,3,null,null,null,null,null,0,14]
[null,null,"University Wide","La Jolla Campus","West Campus","Pepper Canyon","Surface Lot","P406","-","Loading",null,null,"Yes","Yes",null,"P406","P406Loading",{"$f":"COUNTIF(Q$5:Q722, Q722 )","v":1},{"$f":"_xlfn.IFS(D$2=X$4, X722, D$2=Y$4, Y722,D$2=Z$4, Z722,D$2=AA$4, AA722)","v":2},2,{"$f":"IF(R722=1, _xlfn.IFNA(VLOOKUP(Q722, 'Allocation Change Graph'!BF$7:BG$20, 2, FALSE), 0), 0)","v":0},0.9,1.8,null,null,2,null,null,null,2,0,0,0,0,0,0,0,1,0,null,null,null,null,null,0,2]
[null,null,"University Wide","La Jolla Campus","West Campus","Pepper Canyon","Surface Lot","P406","-","Motorcycle Section",null,null,"Yes","Yes",null,"P406","P406Motorcycle Section",{"$f":"COUNTIF(Q$5:Q723, Q723 )","v":1},{"$f":"_xlfn.IFS(D$2=X$4, X723, D$2=Y$4, Y723,D$2=Z$4, Z723,D$2=AA$4, AA723)","v":3},3,{"$f":"IF(R723=1, _xlfn.IFNA(VLOOKUP(Q723, 'Allocation Change Graph'!BF$7:BG$20, 2, FALSE), 0), 0)","v":0},0.9,2.7,null,null,3,null,null,null,3,3,3,3,3,3,3,3,3,3,null,null,null,null,null,3,3]
[null,null,"University Wide","La Jolla Campus","West Campus","University Center","Surface Lot","P407","-","Loading","Dock",null,"Yes","Yes",null,"P407","P407LoadingDock",{"$f":"COUNTIF(Q$5:Q724, Q724 )","v":1},{"$f":"_xlfn.IFS(D$2=X$4, X724, D$2=Y$4, Y724,D$2=Z$4, Z724,D$2=AA$4, AA724)","v":1},1,{"$f":"IF(R724=1, _xlfn.IFNA(VLOOKUP(Q724, 'Allocation Change Graph'!BF$7:BG$20, 2, FALSE), 0), 0)","v":0},0.9,0.9,null,null,1,null,null,null,1,0,0,0,1,0,0,0,0,0,null,null,null,null,null,0,1]
[null,null,"University Wide","La Jolla Campus","West Campus","University Center","Surface Lot","P407","-","Service Yard",null,null,"Yes","Yes",null,"P407","P407Service Yard",{"$f":"COUNTIF(Q$5:Q725, Q725 )","v":1},{"$f":"_xlfn.IFS(D$2=X$4, X725, D$2=Y$4, Y725,D$2=Z$4, Z725,D$2=AA$4, AA725)","v":3},3,{"$f":"IF(R725=1, _xlfn.IFNA(VLOOKUP(Q725, 'Allocation Change Graph'!BF$7:BG$20, 2, FALSE), 0), 0)","v":0},0.9,2.7,null,null,3,null,null,null,1,0,0,2,2,0,1,0,1,1,null,null,null,null,null,0,2]
[null,null,"University Wide","La Jolla Campus","West Campus","Muir College","Surface Lot","P414","-","A",null,null,"Yes","Yes","Yes","P414","P414A",{"$f":"COUNTIF(Q$5:Q726, Q726 )","v":1},{"$f":"_xlfn.IFS(D$2=X$4, X726, D$2=Y$4, Y726,D$2=Z$4, Z726,D$2=AA$4, AA726)","v":3},3,{"$f":"IF(R726=1, _xlfn.IFNA(VLOOKUP(Q726, 'Allocation Change Graph'!BF$7:BG$20, 2, FALSE), 0), 0)","v":0},0.9,2.7,null,null,3,null,null,null,2,1,0,0,0,1,2,3,3,3,null,null,null,null,null,0,3]
[null,null,"University Wide","La Jolla Campus","West Campus","Muir College","Surface Lot","P414","-","Loading",null,null,"Yes","Yes",null,"P414","P414Loading",{"$f":"COUNTIF(Q$5:Q727, Q727 )","v":1},{"$f":"_xlfn.IFS(D$2=X$4, X727, D$2=Y$4, Y727,D$2=Z$4, Z727,D$2=AA$4, AA727)","v":7},7,{"$f":"IF(R727=1, _xlfn.IFNA(VLOOKUP(Q727, 'Allocation Change Graph'!BF$7:BG$20, 2, FALSE), 0), 0)","v":0},0.9,6.3,null,null,7,null,null,null,5,3,3,2,2,2,2,3,3,1,null,null,null,null,null,1,5]
[null,null,"University Wide","La Jolla Campus","West Campus","Muir College","Surface Lot","P414","-","Reserved",null,null,"Yes","Yes",null,"P414","P414Reserved",{"$f":"COUNTIF(Q$5:Q728, Q728 )","v":1},{"$f":"_xlfn.IFS(D$2=X$4, X728, D$2=Y$4, Y728,D$2=Z$4, Z728,D$2=AA$4, AA728)","v":2},2,{"$f":"IF(R728=1, _xlfn.IFNA(VLOOKUP(Q728, 'Allocation Change Graph'!BF$7:BG$20, 2, FALSE), 0), 0)","v":0},0.9,1.8,null,null,2,null,null,null,2,1,1,1,1,2,1,1,2,2,null,null,null,null,null,1,2]
[null,null,"University Wide","La Jolla Campus","West Campus","Muir College","Surface Lot","P414","-","Service Yard",null,null,"Yes","Yes",null,"P414","P414Service Yard",{"$f":"COUNTIF(Q$5:Q729, Q729 )","v":1},{"$f":"_xlfn.IFS(D$2=X$4, X729, D$2=Y$4, Y729,D$2=Z$4, Z729,D$2=AA$4, AA729)","v":4},4,{"$f":"IF(R729=1, _xlfn.IFNA(VLOOKUP(Q729, 'Allocation Change Graph'!BF$7:BG$20, 2, FALSE), 0), 0)","v":0},0.9,3.6,null,null,4,null,null,null,3,2,3,3,3,3,2,2,3,3,null,null,null,null,null,2,3]
[null,null,"University Wide","La Jolla Campus","West Campus","Muir College","Surface Lot","P415","-","Accessible",null,null,"Yes","Yes",null,"P415","P415Accessible",{"$f":"COUNTIF(Q$5:Q730, Q730 )","v":1},{"$f":"_xlfn.IFS(D$2=X$4, X730, D$2=Y$4, Y730,D$2=Z$4, Z730,D$2=AA$4, AA730)","v":1},1,{"$f":"IF(R730=1, _xlfn.IFNA(VLOOKUP(Q730, 'Allocation Change Graph'!BF$7:BG$20, 2, FALSE), 0), 0)","v":0},0.9,0.9,null,null,1,null,null,null,1,0,0,0,0,0,1,0,0,0,null,null,null,null,null,0,1]
[null,null,"University Wide","La Jolla Campus","West Campus","Muir College","Surface Lot","P415","-","Accessible (Van)",null,null,"Yes","Yes",null,"P415","P415Accessible (Van)",{"$f":"COUNTIF(Q$5:Q731, Q731 )","v":1},{"$f":"_xlfn.IFS(D$2=X$4, X731, D$2=Y$4, Y731,D$2=Z$4, Z731,D$2=AA$4, AA731)","v":0},0,{"$f":"IF(R731=1, _xlfn.IFNA(VLOOKUP(Q731, 'Allocation Change Graph'!BF$7:BG$20, 2, FALSE), 0), 0)","v":0},0.9,0,null,null,null,null,null,null,null,null,null,null,null,null,null,null,null,null,null,null,null,null,null,0,0]
[null,null,"University Wide","La Jolla Campus","West Campus","Muir College","Surface Lot","P415","-","Reserved","Student Health Patient",null,"Yes","Yes",null,"P415","P415ReservedStudent Health Patient",{"$f":"COUNTIF(Q$5:Q732, Q732 )","v":1},{"$f":"_xlfn.IFS(D$2=X$4, X732, D$2=Y$4, Y732,D$2=Z$4, Z732,D$2=AA$4, AA732)","v":5},5,{"$f":"IF(R732=1, _xlfn.IFNA(VLOOKUP(Q732, 'Allocation Change Graph'!BF$7:BG$20, 2, FALSE), 0), 0)","v":0},0.9,4.5,null,null,5,null,null,null,3,1,4,3,3,2,3,4,2,3,null,null,null,null,null,1,4]
[null,null,"University Wide","La Jolla Campus","West Campus","Muir College","Surface Lot","P415","-","Reserved",null,null,"Yes","Yes",null,"P415","P415Reserved",{"$f":"COUNTIF(Q$5:Q733, Q733 )","v":1},{"$f":"_xlfn.IFS(D$2=X$4, X733, D$2=Y$4, Y733,D$2=Z$4, Z733,D$2=AA$4, AA733)","v":3},3,{"$f":"IF(R733=1, _xlfn.IFNA(VLOOKUP(Q733, 'Allocation Change Graph'!BF$7:BG$20, 2, FALSE), 0), 0)","v":0},0.9,2.7,null,null,3,null,null,null,2,2,2,2,2,1,1,2,1,2,null,null,null,null,null,1,2]
[null,null,"University Wide","La Jolla Campus","West Campus","Muir College","Surface Lot","P416","-","Accessible",null,null,"Yes","Yes",null,"P416","P416Accessible",{"$f":"COUNTIF(Q$5:Q734, Q734 )","v":1},{"$f":"_xlfn.IFS(D$2=X$4, X734, D$2=Y$4, Y734,D$2=Z$4, Z734,D$2=AA$4, AA734)","v":14},14,{"$f":"IF(R734=1, _xlfn.IFNA(VLOOKUP(Q734, 'Allocation Change Graph'!BF$7:BG$20, 2, FALSE), 0), 0)","v":0},0.9,12.6,null,null,14,null,null,null,11,5,3,3,5,0,8,8,4,12,null,null,null,null,null,0,12]
[null,null,"University Wide","La Jolla Campus","West Campus","Muir College","Surface Lot","P416","-","Accessible (Van)",null,null,"Yes","Yes",null,"P416","P416Accessible (Van)",{"$f":"COUNTIF(Q$5:Q735, Q735 )","v":1},{"$f":"_xlfn.IFS(D$2=X$4, X735, D$2=Y$4, Y735,D$2=Z$4, Z735,D$2=AA$4, AA735)","v":9},9,{"$f":"IF(R735=1, _xlfn.IFNA(VLOOKUP(Q735, 'Allocation Change Graph'!BF$7:BG$20, 2, FALSE), 0), 0)","v":0},0.9,8.1,null,null,9,null,null,null,7,4,4,2,2,0,2,2,2,8,null,null,null,null,null,0,8]
[null,null,"University Wide","La Jolla Campus","West Campus","Muir College","Surface Lot","P416","-","Loading","Curb",null,"Yes","Yes",null,"P416","P416LoadingCurb",{"$f":"COUNTIF(Q$5:Q736, Q736 )","v":1},{"$f":"_xlfn.IFS(D$2=X$4, X736, D$2=Y$4, Y736,D$2=Z$4, Z736,D$2=AA$4, AA736)","v":1},1,{"$f":"IF(R736=1, _xlfn.IFNA(VLOOKUP(Q736, 'Allocation Change Graph'!BF$7:BG$20, 2, FALSE), 0), 0)","v":0},0.9,0.9,null,null,1,null,null,null,1,0,1,0,0,0,1,0,0,1,null,null,null,null,null,0,1]
[null,null,"University Wide","La Jolla Campus","West Campus","Muir College","Surface Lot","P416","-","Reserved","Blue Reserved",null,"Yes","Yes",null,"P416","P416ReservedBlue Reserved",{"$f":"COUNTIF(Q$5:Q737, Q737 )","v":1},{"$f":"_xlfn.IFS(D$2=X$4, X737, D$2=Y$4, Y737,D$2=Z$4, Z737,D$2=AA$4, AA737)","v":21},21,{"$f":"IF(R737=1, _xlfn.IFNA(VLOOKUP(Q737, 'Allocation Change Graph'!BF$7:BG$20, 2, FALSE), 0), 0)","v":0},0.9,18.900000000000002,null,null,21,null,null,null,18,7,13,11,12,13,12,14,13,17,null,null,null,null,null,7,18]
[null,null,"University Wide","La Jolla Campus","West Campus","Muir College","Surface Lot","P416","-","Reserved","Gold Reserved",null,"Yes","Yes",null,"P416","P416ReservedGold Reserved",{"$f":"COUNTIF(Q$5:Q738, Q738 )","v":1},{"$f":"_xlfn.IFS(D$2=X$4, X738, D$2=Y$4, Y738,D$2=Z$4, Z738,D$2=AA$4, AA738)","v":22},22,{"$f":"IF(R738=1, _xlfn.IFNA(VLOOKUP(Q738, 'Allocation Change Graph'!BF$7:BG$20, 2, FALSE), 0), 0)","v":0},0.9,19.8,null,null,22,null,null,null,17,8,12,13,16,16,17,19,18,20,null,null,null,null,null,8,20]
[null,null,"University Wide","La Jolla Campus","West Campus","Muir College","Surface Lot","P416","-","Reserved","Target",null,"Yes","Yes",null,"P416","P416ReservedTarget",{"$f":"COUNTIF(Q$5:Q739, Q739 )","v":1},{"$f":"_xlfn.IFS(D$2=X$4, X739, D$2=Y$4, Y739,D$2=Z$4, Z739,D$2=AA$4, AA739)","v":1},1,{"$f":"IF(R739=1, _xlfn.IFNA(VLOOKUP(Q739, 'Allocation Change Graph'!BF$7:BG$20, 2, FALSE), 0), 0)","v":0},0.9,0.9,null,null,1,null,null,null,1,1,1,1,0,0,0,0,0,0,null,null,null,null,null,0,1]
[null,null,"University Wide","La Jolla Campus","West Campus","Warren College","Surface Lot","P418","-","Accessible",null,null,"Yes","Yes",null,"P418","P418Accessible",{"$f":"COUNTIF(Q$5:Q740, Q740 )","v":1},{"$f":"_xlfn.IFS(D$2=X$4, X740, D$2=Y$4, Y740,D$2=Z$4, Z740,D$2=AA$4, AA740)","v":4},4,{"$f":"IF(R740=1, _xlfn.IFNA(VLOOKUP(Q740, 'Allocation Change Graph'!BF$7:BG$20, 2, FALSE), 0), 0)","v":0},0.9,3.6,null,null,4,null,null,null,3,2,1,0,0,0,1,3,3,4,null,null,null,null,null,0,4]
[null,null,"University Wide","La Jolla Campus","West Campus","Warren College","Surface Lot","P418","-","Accessible (Van)",null,null,"Yes","Yes",null,"P418","P418Accessible (Van)",{"$f":"COUNTIF(Q$5:Q741, Q741 )","v":1},{"$f":"_xlfn.IFS(D$2=X$4, X741, D$2=Y$4, Y741,D$2=Z$4, Z741,D$2=AA$4, AA741)","v":2},2,{"$f":"IF(R741=1, _xlfn.IFNA(VLOOKUP(Q741, 'Allocation Change Graph'!BF$7:BG$20, 2, FALSE), 0), 0)","v":0},0.9,1.8,null,null,2,null,null,null,2,1,0,0,0,0,0,0,0,0,null,null,null,null,null,0,2]
[null,null,"University Wide","La Jolla Campus","West Campus","Warren College","Surface Lot","P418","-","Loading",null,"20 minutes","Yes","Yes",null,"P418","P418Loading20 minutes",{"$f":"COUNTIF(Q$5:Q742, Q742 )","v":1},{"$f":"_xlfn.IFS(D$2=X$4, X742, D$2=Y$4, Y742,D$2=Z$4, Z742,D$2=AA$4, AA742)","v":1},1,{"$f":"IF(R742=1, _xlfn.IFNA(VLOOKUP(Q742, 'Allocation Change Graph'!BF$7:BG$20, 2, FALSE), 0), 0)","v":0},0.9,0.9,null,null,1,null,null,null,1,0,0,0,0,0,0,0,1,0,null,null,null,null,null,0,1]
[null,null,"University Wide","La Jolla Campus","West Campus","University Center","Surface Lot","P501","-","Accessible",null,null,"Yes","Yes",null,"P501","P501Accessible",{"$f":"COUNTIF(Q$5:Q743, Q743 )","v":1},{"$f":"_xlfn.IFS(D$2=X$4, X743, D$2=Y$4, Y743,D$2=Z$4, Z743,D$2=AA$4, AA743)","v":1},1,{"$f":"IF(R743=1, _xlfn.IFNA(VLOOKUP(Q743, 'Allocation Change Graph'!BF$7:BG$20, 2, FALSE), 0), 0)","v":0},0.9,0.9,null,null,1,null,null,null,1,1,0,0,0,0,1,1,1,1,null,null,null,null,null,0,1]
[null,null,"University Wide","La Jolla Campus","West Campus","University Center","Surface Lot","P501","-","Accessible (Van)",null,null,"Yes","Yes",null,"P501","P501Accessible (Van)",{"$f":"COUNTIF(Q$5:Q744, Q744 )","v":1},{"$f":"_xlfn.IFS(D$2=X$4, X744, D$2=Y$4, Y744,D$2=Z$4, Z744,D$2=AA$4, AA744)","v":4},4,{"$f":"IF(R744=1, _xlfn.IFNA(VLOOKUP(Q744, 'Allocation Change Graph'!BF$7:BG$20, 2, FALSE), 0), 0)","v":0},0.9,3.6,null,null,4,null,null,null,0,0,0,0,0,4,4,4,4,4,null,null,null,null,null,0,4]
[null,null,"University Wide","La Jolla Campus","West Campus","University Center","Surface Lot","P501","-","Loading","Dock",null,"Yes","Yes",null,"P501","P501LoadingDock",{"$f":"COUNTIF(Q$5:Q745, Q745 )","v":1},{"$f":"_xlfn.IFS(D$2=X$4, X745, D$2=Y$4, Y745,D$2=Z$4, Z745,D$2=AA$4, AA745)","v":1},1,{"$f":"IF(R745=1, _xlfn.IFNA(VLOOKUP(Q745, 'Allocation Change Graph'!BF$7:BG$20, 2, FALSE), 0), 0)","v":0},0.9,0.9,null,null,1,null,null,null,1,1,1,1,0,1,1,1,1,1,null,null,null,null,null,0,1]
[null,null,"University Wide","La Jolla Campus","West Campus","University Center","Surface Lot","P501","-","Service Yard",null,null,"Yes","Yes",null,"P501","P501Service Yard",{"$f":"COUNTIF(Q$5:Q746, Q746 )","v":1},{"$f":"_xlfn.IFS(D$2=X$4, X746, D$2=Y$4, Y746,D$2=Z$4, Z746,D$2=AA$4, AA746)","v":6},6,{"$f":"IF(R746=1, _xlfn.IFNA(VLOOKUP(Q746, 'Allocation Change Graph'!BF$7:BG$20, 2, FALSE), 0), 0)","v":0},0.9,5.4,null,null,6,null,null,null,4,3,0,0,1,3,3,4,4,4,null,null,null,null,null,0,4]
[null,null,"University Wide","La Jolla Campus","West Campus","Warren College","Surface Lot","P502","-","Loading",null,"20 minutes","Yes","Yes",null,"P502","P502Loading20 minutes",{"$f":"COUNTIF(Q$5:Q747, Q747 )","v":1},{"$f":"_xlfn.IFS(D$2=X$4, X747, D$2=Y$4, Y747,D$2=Z$4, Z747,D$2=AA$4, AA747)","v":4},4,{"$f":"IF(R747=1, _xlfn.IFNA(VLOOKUP(Q747, 'Allocation Change Graph'!BF$7:BG$20, 2, FALSE), 0), 0)","v":0},0.9,3.6,null,null,4,null,null,null,4,2,1,0,0,0,1,0,0,0,null,null,null,null,null,0,4]
[null,null,"University Wide","La Jolla Campus","West Campus","Warren College","Surface Lot","P502","-","Reserved",null,null,"Yes","Yes",null,"P502","P502Reserved",{"$f":"COUNTIF(Q$5:Q748, Q748 )","v":1},{"$f":"_xlfn.IFS(D$2=X$4, X748, D$2=Y$4, Y748,D$2=Z$4, Z748,D$2=AA$4, AA748)","v":6},6,{"$f":"IF(R748=1, _xlfn.IFNA(VLOOKUP(Q748, 'Allocation Change Graph'!BF$7:BG$20, 2, FALSE), 0), 0)","v":0},0.9,5.4,null,null,6,null,null,null,4,2,1,3,2,3,4,4,2,3,null,null,null,null,null,1,4]
[null,null,"University Wide","La Jolla Campus","West Campus","Warren College","Surface Lot","P503","-","A",null,"4 hours","Yes","Yes","Yes","P503","P503A4 hours",{"$f":"COUNTIF(Q$5:Q749, Q749 )","v":1},{"$f":"_xlfn.IFS(D$2=X$4, X749, D$2=Y$4, Y749,D$2=Z$4, Z749,D$2=AA$4, AA749)","v":8},8,{"$f":"IF(R749=1, _xlfn.IFNA(VLOOKUP(Q749, 'Allocation Change Graph'!BF$7:BG$20, 2, FALSE), 0), 0)","v":0},0.9,7.2,null,null,8,null,null,null,7,5,0,0,1,1,0,0,0,3,null,null,null,null,null,0,7]
[null,null,"University Wide","La Jolla Campus","West Campus","Warren College","Surface Lot","P503","-","Accessible",null,null,"Yes","Yes",null,"P503","P503Accessible",{"$f":"COUNTIF(Q$5:Q750, Q750 )","v":1},{"$f":"_xlfn.IFS(D$2=X$4, X750, D$2=Y$4, Y750,D$2=Z$4, Z750,D$2=AA$4, AA750)","v":1},1,{"$f":"IF(R750=1, _xlfn.IFNA(VLOOKUP(Q750, 'Allocation Change Graph'!BF$7:BG$20, 2, FALSE), 0), 0)","v":0},0.9,0.9,null,null,1,null,null,null,1,1,0,1,0,1,1,0,1,1,null,null,null,null,null,0,1]
[null,null,"University Wide","La Jolla Campus","West Campus","Warren College","Surface Lot","P503","-","Accessible (Van)",null,null,"Yes","Yes",null,"P503","P503Accessible (Van)",{"$f":"COUNTIF(Q$5:Q751, Q751 )","v":1},{"$f":"_xlfn.IFS(D$2=X$4, X751, D$2=Y$4, Y751,D$2=Z$4, Z751,D$2=AA$4, AA751)","v":5},5,{"$f":"IF(R751=1, _xlfn.IFNA(VLOOKUP(Q751, 'Allocation Change Graph'!BF$7:BG$20, 2, FALSE), 0), 0)","v":0},0.9,4.5,null,null,5,null,null,null,0,0,0,0,0,2,4,1,4,1,null,null,null,null,null,0,4]
[null,null,"University Wide","La Jolla Campus","West Campus","Warren College","Surface Lot","P503","-","B",null,"1 hour","Yes","Yes","Yes","P503","P503B1 hour",{"$f":"COUNTIF(Q$5:Q752, Q752 )","v":1},{"$f":"_xlfn.IFS(D$2=X$4, X752, D$2=Y$4, Y752,D$2=Z$4, Z752,D$2=AA$4, AA752)","v":2},2,{"$f":"IF(R752=1, _xlfn.IFNA(VLOOKUP(Q752, 'Allocation Change Graph'!BF$7:BG$20, 2, FALSE), 0), 0)","v":0},0.9,1.8,null,null,2,null,null,null,2,1,1,0,1,0,0,0,0,0,null,null,null,null,null,0,2]
[null,null,"University Wide","La Jolla Campus","West Campus","Warren College","Surface Lot","P503","-","Motorcycle Section",null,null,"Yes","Yes",null,"P503","P503Motorcycle Section",{"$f":"COUNTIF(Q$5:Q753, Q753 )","v":1},{"$f":"_xlfn.IFS(D$2=X$4, X753, D$2=Y$4, Y753,D$2=Z$4, Z753,D$2=AA$4, AA753)","v":5},5,{"$f":"IF(R753=1, _xlfn.IFNA(VLOOKUP(Q753, 'Allocation Change Graph'!BF$7:BG$20, 2, FALSE), 0), 0)","v":0},0.9,4.5,null,null,5,null,null,null,5,5,5,4,5,4,5,4,5,5,null,null,null,null,null,4,5]
[null,null,"University Wide","La Jolla Campus","West Campus","Warren College","Surface Lot","P503","-","Reserved",null,null,"Yes","Yes",null,"P503","P503Reserved",{"$f":"COUNTIF(Q$5:Q754, Q754 )","v":1},{"$f":"_xlfn.IFS(D$2=X$4, X754, D$2=Y$4, Y754,D$2=Z$4, Z754,D$2=AA$4, AA754)","v":23},23,{"$f":"IF(R754=1, _xlfn.IFNA(VLOOKUP(Q754, 'Allocation Change Graph'!BF$7:BG$20, 2, FALSE), 0), 0)","v":0},0.9,20.7,null,null,23,null,null,null,17,12,13,11,12,19,18,16,9,18,null,null,null,null,null,9,19]
[null,null,"University Wide","La Jolla Campus","West Campus","Warren College","Surface Lot","P503","-","Visitor",null,"3 hours","Yes","Yes","Yes","P503","P503Visitor3 hours",{"$f":"COUNTIF(Q$5:Q755, Q755 )","v":1},{"$f":"_xlfn.IFS(D$2=X$4, X755, D$2=Y$4, Y755,D$2=Z$4, Z755,D$2=AA$4, AA755)","v":10},10,{"$f":"IF(R755=1, _xlfn.IFNA(VLOOKUP(Q755, 'Allocation Change Graph'!BF$7:BG$20, 2, FALSE), 0), 0)","v":0},0.9,9,null,null,10,null,null,null,5,5,2,0,0,0,0,0,3,4,null,null,null,null,null,0,5]
[null,null,"University Wide","La Jolla Campus","West Campus","Warren College","Surface Lot","P504","-","Accessible",null,null,"Yes","Yes",null,"P504","P504Accessible",{"$f":"COUNTIF(Q$5:Q756, Q756 )","v":1},{"$f":"_xlfn.IFS(D$2=X$4, X756, D$2=Y$4, Y756,D$2=Z$4, Z756,D$2=AA$4, AA756)","v":4},4,{"$f":"IF(R756=1, _xlfn.IFNA(VLOOKUP(Q756, 'Allocation Change Graph'!BF$7:BG$20, 2, FALSE), 0), 0)","v":0},0.9,3.6,null,null,4,null,null,null,4,0,0,0,0,0,0,0,1,0,null,null,null,null,null,0,4]
[null,null,"University Wide","La Jolla Campus","West Campus","Warren College","Surface Lot","P504","-","Accessible (Van)",null,null,"Yes","Yes",null,"P504","P504Accessible (Van)",{"$f":"COUNTIF(Q$5:Q757, Q757 )","v":1},{"$f":"_xlfn.IFS(D$2=X$4, X757, D$2=Y$4, Y757,D$2=Z$4, Z757,D$2=AA$4, AA757)","v":2},2,{"$f":"IF(R757=1, _xlfn.IFNA(VLOOKUP(Q757, 'Allocation Change Graph'!BF$7:BG$20, 2, FALSE), 0), 0)","v":0},0.9,1.8,null,null,2,null,null,null,2,0,0,0,0,0,0,0,0,0,null,null,null,null,null,0,2]
[null,null,"University Wide","La Jolla Campus","West Campus","Warren College","Surface Lot","P504","-","Loading",null,null,"Yes","Yes",null,"P504","P504Loading",{"$f":"COUNTIF(Q$5:Q758, Q758 )","v":1},{"$f":"_xlfn.IFS(D$2=X$4, X758, D$2=Y$4, Y758,D$2=Z$4, Z758,D$2=AA$4, AA758)","v":8},8,{"$f":"IF(R758=1, _xlfn.IFNA(VLOOKUP(Q758, 'Allocation Change Graph'!BF$7:BG$20, 2, FALSE), 0), 0)","v":0},0.9,7.2,null,null,8,null,null,null,8,8,8,7,8,2,0,1,0,0,null,null,null,null,null,0,8]
[null,null,"University Wide","La Jolla Campus","West Campus","Warren College","Surface Lot","P504","-","Motorcycle Section",null,null,"Yes","Yes",null,"P504","P504Motorcycle Section",{"$f":"COUNTIF(Q$5:Q759, Q759 )","v":1},{"$f":"_xlfn.IFS(D$2=X$4, X759, D$2=Y$4, Y759,D$2=Z$4, Z759,D$2=AA$4, AA759)","v":1},1,{"$f":"IF(R759=1, _xlfn.IFNA(VLOOKUP(Q759, 'Allocation Change Graph'!BF$7:BG$20, 2, FALSE), 0), 0)","v":0},0.9,0.9,null,null,1,null,null,null,1,1,1,1,1,1,1,1,1,1,null,null,null,null,null,1,1]
[null,null,"University Wide","La Jolla Campus","West Campus","Warren College","Surface Lot","P504","-","Reserved",null,null,"Yes","Yes",null,"P504","P504Reserved",{"$f":"COUNTIF(Q$5:Q760, Q760 )","v":1},{"$f":"_xlfn.IFS(D$2=X$4, X760, D$2=Y$4, Y760,D$2=Z$4, Z760,D$2=AA$4, AA760)","v":6},6,{"$f":"IF(R760=1, _xlfn.IFNA(VLOOKUP(Q760, 'Allocation Change Graph'!BF$7:BG$20, 2, FALSE), 0), 0)","v":0},0.9,5.4,null,null,6,null,null,null,4,3,2,2,1,3,3,1,2,3,null,null,null,null,null,1,4]
[null,null,"University Wide","La Jolla Campus","West Campus","Warren College","Surface Lot","P504","-","SR",null,null,"Yes","Yes","Yes","P504","P504SR",{"$f":"COUNTIF(Q$5:Q761, Q761 )","v":1},{"$f":"_xlfn.IFS(D$2=X$4, X761, D$2=Y$4, Y761,D$2=Z$4, Z761,D$2=AA$4, AA761)","v":27},27,{"$f":"IF(R761=1, _xlfn.IFNA(VLOOKUP(Q761, 'Allocation Change Graph'!BF$7:BG$20, 2, FALSE), 0), 0)","v":0},0.9,24.3,null,null,27,null,null,null,2,2,1,0,1,1,0,1,0,3,null,null,null,null,null,0,3]
[null,null,"University Wide","La Jolla Campus","West Campus","Warren College","Surface Lot","P504","-","Visitor",null,null,"Yes","Yes","Yes","P504","P504Visitor",{"$f":"COUNTIF(Q$5:Q762, Q762 )","v":1},{"$f":"_xlfn.IFS(D$2=X$4, X762, D$2=Y$4, Y762,D$2=Z$4, Z762,D$2=AA$4, AA762)","v":6},6,{"$f":"IF(R762=1, _xlfn.IFNA(VLOOKUP(Q762, 'Allocation Change Graph'!BF$7:BG$20, 2, FALSE), 0), 0)","v":0},0.9,5.4,null,null,6,null,null,null,4,3,2,2,1,3,3,1,2,3,null,null,null,null,null,1,4]
[null,null,"University Wide","La Jolla Campus","West Campus","Warren College","Surface Lot","P505","-","Loading","Dock",null,"Yes","Yes",null,"P505","P505LoadingDock",{"$f":"COUNTIF(Q$5:Q763, Q763 )","v":1},{"$f":"_xlfn.IFS(D$2=X$4, X763, D$2=Y$4, Y763,D$2=Z$4, Z763,D$2=AA$4, AA763)","v":1},1,{"$f":"IF(R763=1, _xlfn.IFNA(VLOOKUP(Q763, 'Allocation Change Graph'!BF$7:BG$20, 2, FALSE), 0), 0)","v":0},0.9,0.9,null,null,1,null,null,null,0,0,0,1,0,1,1,1,1,1,null,null,null,null,null,0,1]
[null,null,"University Wide","La Jolla Campus","West Campus","Warren College","Surface Lot","P505","-","Reserved",null,null,"Yes","Yes",null,"P505","P505Reserved",{"$f":"COUNTIF(Q$5:Q764, Q764 )","v":1},{"$f":"_xlfn.IFS(D$2=X$4, X764, D$2=Y$4, Y764,D$2=Z$4, Z764,D$2=AA$4, AA764)","v":4},4,{"$f":"IF(R764=1, _xlfn.IFNA(VLOOKUP(Q764, 'Allocation Change Graph'!BF$7:BG$20, 2, FALSE), 0), 0)","v":0},0.9,3.6,null,null,4,null,null,null,4,4,2,2,3,4,3,3,3,3,null,null,null,null,null,2,4]
[null,null,"University Wide","La Jolla Campus","West Campus","Warren College","Surface Lot","P505","-","Service Yard",null,null,"Yes","Yes",null,"P505","P505Service Yard",{"$f":"COUNTIF(Q$5:Q765, Q765 )","v":1},{"$f":"_xlfn.IFS(D$2=X$4, X765, D$2=Y$4, Y765,D$2=Z$4, Z765,D$2=AA$4, AA765)","v":2},2,{"$f":"IF(R765=1, _xlfn.IFNA(VLOOKUP(Q765, 'Allocation Change Graph'!BF$7:BG$20, 2, FALSE), 0), 0)","v":0},0.9,1.8,null,null,2,null,null,null,0,0,1,1,1,2,2,2,2,2,null,null,null,null,null,0,2]
[null,null,"University Wide","La Jolla Campus","West Campus","Warren College","Surface Lot","P506","-","A",null,"3 hours","Yes","Yes","Yes","P506","P506A3 hours",{"$f":"COUNTIF(Q$5:Q766, Q766 )","v":1},{"$f":"_xlfn.IFS(D$2=X$4, X766, D$2=Y$4, Y766,D$2=Z$4, Z766,D$2=AA$4, AA766)","v":3},3,{"$f":"IF(R766=1, _xlfn.IFNA(VLOOKUP(Q766, 'Allocation Change Graph'!BF$7:BG$20, 2, FALSE), 0), 0)","v":0},0.9,2.7,null,null,3,null,null,null,3,2,0,0,0,0,0,0,0,0,null,null,null,null,null,0,3]
[null,null,"University Wide","La Jolla Campus","West Campus","Warren College","Surface Lot","P506","-","Accessible",null,null,"Yes","Yes",null,"P506","P506Accessible",{"$f":"COUNTIF(Q$5:Q767, Q767 )","v":1},{"$f":"_xlfn.IFS(D$2=X$4, X767, D$2=Y$4, Y767,D$2=Z$4, Z767,D$2=AA$4, AA767)","v":1},1,{"$f":"IF(R767=1, _xlfn.IFNA(VLOOKUP(Q767, 'Allocation Change Graph'!BF$7:BG$20, 2, FALSE), 0), 0)","v":0},0.9,0.9,null,null,1,null,null,null,1,1,0,0,1,0,1,1,1,1,null,null,null,null,null,0,1]
[null,null,"University Wide","La Jolla Campus","West Campus","Warren College","Surface Lot","P506","-","Accessible (Van)",null,null,"Yes","Yes",null,"P506","P506Accessible (Van)",{"$f":"COUNTIF(Q$5:Q768, Q768 )","v":1},{"$f":"_xlfn.IFS(D$2=X$4, X768, D$2=Y$4, Y768,D$2=Z$4, Z768,D$2=AA$4, AA768)","v":1},1,{"$f":"IF(R768=1, _xlfn.IFNA(VLOOKUP(Q768, 'Allocation Change Graph'!BF$7:BG$20, 2, FALSE), 0), 0)","v":0},0.9,0.9,null,null,1,null,null,null,1,1,0,0,0,1,1,1,0,1,null,null,null,null,null,0,1]
[null,null,"University Wide","La Jolla Campus","West Campus","Warren College","Surface Lot","P506","-","Motorcycle Section",null,null,"Yes","Yes",null,"P506","P506Motorcycle Section",{"$f":"COUNTIF(Q$5:Q769, Q769 )","v":1},{"$f":"_xlfn.IFS(D$2=X$4, X769, D$2=Y$4, Y769,D$2=Z$4, Z769,D$2=AA$4, AA769)","v":1},1,{"$f":"IF(R769=1, _xlfn.IFNA(VLOOKUP(Q769, 'Allocation Change Graph'!BF$7:BG$20, 2, FALSE), 0), 0)","v":0},0.9,0.9,null,null,1,null,null,null,1,1,1,1,1,1,1,1,1,1,null,null,null,null,null,1,1]
[null,null,"University Wide","La Jolla Campus","West Campus","Warren College","Surface Lot","P506","-","Service Yard",null,null,"Yes","Yes",null,"P506","P506Service Yard",{"$f":"COUNTIF(Q$5:Q770, Q770 )","v":1},{"$f":"_xlfn.IFS(D$2=X$4, X770, D$2=Y$4, Y770,D$2=Z$4, Z770,D$2=AA$4, AA770)","v":1},1,{"$f":"IF(R770=1, _xlfn.IFNA(VLOOKUP(Q770, 'Allocation Change Graph'!BF$7:BG$20, 2, FALSE), 0), 0)","v":0},0.9,0.9,null,null,1,null,null,null,1,0,0,1,1,0,0,0,0,0,null,null,null,null,null,0,1]
[null,null,"University Wide","La Jolla Campus","West Campus","Warren College","Surface Lot","P506","-","UC Vehicle",null,null,"Yes","Yes",null,"P506","P506UC Vehicle",{"$f":"COUNTIF(Q$5:Q771, Q771 )","v":1},{"$f":"_xlfn.IFS(D$2=X$4, X771, D$2=Y$4, Y771,D$2=Z$4, Z771,D$2=AA$4, AA771)","v":2},2,{"$f":"IF(R771=1, _xlfn.IFNA(VLOOKUP(Q771, 'Allocation Change Graph'!BF$7:BG$20, 2, FALSE), 0), 0)","v":0},0.9,1.8,null,null,2,null,null,null,2,1,0,1,0,0,0,0,1,1,null,null,null,null,null,0,2]
[null,null,"University Wide","La Jolla Campus","West Campus","Warren College","Surface Lot","P506","-","Visitor",null,"3 hours","Yes","Yes","Yes","P506","P506Visitor3 hours",{"$f":"COUNTIF(Q$5:Q772, Q772 )","v":1},{"$f":"_xlfn.IFS(D$2=X$4, X772, D$2=Y$4, Y772,D$2=Z$4, Z772,D$2=AA$4, AA772)","v":12},12,{"$f":"IF(R772=1, _xlfn.IFNA(VLOOKUP(Q772, 'Allocation Change Graph'!BF$7:BG$20, 2, FALSE), 0), 0)","v":0},0.9,10.8,null,null,12,null,null,null,9,5,0,3,0,3,3,2,4,4,null,null,null,null,null,0,9]
[null,null,"University Wide","La Jolla Campus","West Campus","Campus Services","Surface Lot","P507","-","Accessible",null,null,"Yes","Yes",null,{"$f":"IF(G773=\"Surface Lot\", H773, G773)","v":"P507"},{"$f":"P773&J773&K773&L773","v":"P507Accessible"},{"$f":"COUNTIF(Q$5:Q773, Q773 )","v":1},{"$f":"_xlfn.IFS(D$2=X$4, X773, D$2=Y$4, Y773,D$2=Z$4, Z773,D$2=AA$4, AA773)","v":8},{"$f":"IF(R773=1,SUMIF(Q:Q,Q773,S:S)+U773, \"\")","v":8},{"$f":"IF(R773=1, _xlfn.IFNA(VLOOKUP(Q773, 'Allocation Change Graph'!BF$7:BG$20, 2, FALSE), 0), 0)","v":0},0.9,{"$f":"IF(R773=1, V773*T773, \"\")","v":7.2},null,null,8,null,null,null,7,6,0,0,0,0,0,6,8,7,null,null,null,null,null,{"$f":"MIN($AB773:$AR773)+U773","v":0},{"$f":"MAX($AB773:$AR773)+U773","v":8}]
[null,null,"University Wide","La Jolla Campus","West Campus","Campus Services","Surface Lot","P507","-","Accessible (Van)",null,null,"Yes","Yes",null,"P507","P507Accessible (Van)",{"$f":"COUNTIF(Q$5:Q774, Q774 )","v":1},{"$f":"_xlfn.IFS(D$2=X$4, X774, D$2=Y$4, Y774,D$2=Z$4, Z774,D$2=AA$4, AA774)","v":1},1,{"$f":"IF(R774=1, _xlfn.IFNA(VLOOKUP(Q774, 'Allocation Change Graph'!BF$7:BG$20, 2, FALSE), 0), 0)","v":0},0.9,0.9,null,null,1,null,null,null,1,1,0,0,0,0,0,0,0,0,null,null,null,null,null,0,1]
[null,null,"University Wide","La Jolla Campus","West Campus","Campus Services","Surface Lot","P507","-","Allocated","Key Pick Up",null,"Yes","Yes",null,"P507","P507AllocatedKey Pick Up",{"$f":"COUNTIF(Q$5:Q775, Q775 )","v":1},{"$f":"_xlfn.IFS(D$2=X$4, X775, D$2=Y$4, Y775,D$2=Z$4, Z775,D$2=AA$4, AA775)","v":1},1,{"$f":"IF(R775=1, _xlfn.IFNA(VLOOKUP(Q775, 'Allocation Change Graph'!BF$7:BG$20, 2, FALSE), 0), 0)","v":0},0.9,0.9,null,null,1,null,null,null,1,1,1,1,1,1,1,1,1,1,null,null,null,null,null,1,1]
[null,null,"University Wide","La Jolla Campus","West Campus","Campus Services","Surface Lot","P507","-","B",null,null,"Yes","Yes","Yes","P507","P507B",{"$f":"COUNTIF(Q$5:Q776, Q776 )","v":1},{"$f":"_xlfn.IFS(D$2=X$4, X776, D$2=Y$4, Y776,D$2=Z$4, Z776,D$2=AA$4, AA776)","v":63},63,{"$f":"IF(R776=1, _xlfn.IFNA(VLOOKUP(Q776, 'Allocation Change Graph'!BF$7:BG$20, 2, FALSE), 0), 0)","v":0},0.9,56.7,null,null,63,null,null,null,0,0,1,1,2,9,11,44,53,57,null,null,null,null,null,0,57]
[null,null,"University Wide","La Jolla Campus","West Campus","Campus Services","Surface Lot","P507","-","Electric Vehicle",null,null,"Yes","Yes",null,"P507","P507Electric Vehicle",{"$f":"COUNTIF(Q$5:Q777, Q777 )","v":1},{"$f":"_xlfn.IFS(D$2=X$4, X777, D$2=Y$4, Y777,D$2=Z$4, Z777,D$2=AA$4, AA777)","v":2},2,{"$f":"IF(R777=1, _xlfn.IFNA(VLOOKUP(Q777, 'Allocation Change Graph'!BF$7:BG$20, 2, FALSE), 0), 0)","v":0},0.9,1.8,null,null,2,null,null,null,2,2,2,2,2,2,2,1,1,1,null,null,null,null,null,1,2]
[null,null,"University Wide","La Jolla Campus","West Campus","Campus Services","Surface Lot","P507","-","Loading",null,null,"Yes","Yes",null,"P507","P507Loading",{"$f":"COUNTIF(Q$5:Q778, Q778 )","v":1},{"$f":"_xlfn.IFS(D$2=X$4, X778, D$2=Y$4, Y778,D$2=Z$4, Z778,D$2=AA$4, AA778)","v":3},3,{"$f":"IF(R778=1, _xlfn.IFNA(VLOOKUP(Q778, 'Allocation Change Graph'!BF$7:BG$20, 2, FALSE), 0), 0)","v":0},0.9,2.7,null,null,3,null,null,null,2,2,3,2,3,3,2,1,1,1,null,null,null,null,null,1,3]
[null,null,"University Wide","La Jolla Campus","West Campus","Campus Services","Surface Lot","P507","-","Motorcycle Section",null,null,"Yes","Yes",null,"P507","P507Motorcycle Section",{"$f":"COUNTIF(Q$5:Q779, Q779 )","v":1},{"$f":"_xlfn.IFS(D$2=X$4, X779, D$2=Y$4, Y779,D$2=Z$4, Z779,D$2=AA$4, AA779)","v":5},5,{"$f":"IF(R779=1, _xlfn.IFNA(VLOOKUP(Q779, 'Allocation Change Graph'!BF$7:BG$20, 2, FALSE), 0), 0)","v":0},0.9,4.5,null,null,5,null,null,null,5,5,4,5,5,5,5,5,5,5,null,null,null,null,null,4,5]
[null,null,"University Wide","La Jolla Campus","West Campus","Campus Services","Surface Lot","P507","-","Service Yard",null,null,"Yes","Yes",null,"P507","P507Service Yard",{"$f":"COUNTIF(Q$5:Q780, Q780 )","v":1},{"$f":"_xlfn.IFS(D$2=X$4, X780, D$2=Y$4, Y780,D$2=Z$4, Z780,D$2=AA$4, AA780)","v":12},12,{"$f":"IF(R780=1, _xlfn.IFNA(VLOOKUP(Q780, 'Allocation Change Graph'!BF$7:BG$20, 2, FALSE), 0), 0)","v":0},0.9,10.8,null,null,12,null,null,null,9,6,4,2,2,0,4,1,1,1,null,null,null,null,null,0,9]
[null,null,"University Wide","La Jolla Campus","West Campus","Campus Services","Surface Lot","P507","-","UC Vehicle","Reserved",null,"Yes","Yes",null,"P507","P507UC VehicleReserved",{"$f":"COUNTIF(Q$5:Q781, Q781 )","v":1},{"$f":"_xlfn.IFS(D$2=X$4, X781, D$2=Y$4, Y781,D$2=Z$4, Z781,D$2=AA$4, AA781)","v":2},2,{"$f":"IF(R781=1, _xlfn.IFNA(VLOOKUP(Q781, 'Allocation Change Graph'!BF$7:BG$20, 2, FALSE), 0), 0)","v":0},0.9,1.8,null,null,2,null,null,null,1,1,1,1,2,1,0,1,1,1,null,null,null,null,null,0,2]
[null,null,"University Wide","La Jolla Campus","West Campus","Campus Services","Surface Lot","P507","-","UC Vehicle",null,null,"Yes","Yes",null,"P507","P507UC Vehicle",{"$f":"COUNTIF(Q$5:Q782, Q782 )","v":1},{"$f":"_xlfn.IFS(D$2=X$4, X782, D$2=Y$4, Y782,D$2=Z$4, Z782,D$2=AA$4, AA782)","v":133},133,{"$f":"IF(R782=1, _xlfn.IFNA(VLOOKUP(Q782, 'Allocation Change Graph'!BF$7:BG$20, 2, FALSE), 0), 0)","v":0},0.9,119.7,null,null,133,null,null,null,47,50,38,41,48,37,28,32,39,30,null,null,null,null,null,28,50]
[null,null,"University Wide","La Jolla Campus","West Campus","Campus Services","Surface Lot","P507","-","Visitor","Police Visitor",null,"Yes","Yes","Yes","P507","P507VisitorPolice Visitor",{"$f":"COUNTIF(Q$5:Q783, Q783 )","v":1},{"$f":"_xlfn.IFS(D$2=X$4, X783, D$2=Y$4, Y783,D$2=Z$4, Z783,D$2=AA$4, AA783)","v":4},4,{"$f":"IF(R783=1, _xlfn.IFNA(VLOOKUP(Q783, 'Allocation Change Graph'!BF$7:BG$20, 2, FALSE), 0), 0)","v":0},0.9,3.6,null,null,4,null,null,null,3,3,3,3,3,3,3,3,2,2,null,null,null,null,null,2,3]
[null,null,"University Wide","La Jolla Campus","West Campus","Campus Services","Surface Lot","P507","-","Visitor",null,null,"Yes","Yes","Yes","P507","P507Visitor",{"$f":"COUNTIF(Q$5:Q784, Q784 )","v":1},{"$f":"_xlfn.IFS(D$2=X$4, X784, D$2=Y$4, Y784,D$2=Z$4, Z784,D$2=AA$4, AA784)","v":16},16,{"$f":"IF(R784=1, _xlfn.IFNA(VLOOKUP(Q784, 'Allocation Change Graph'!BF$7:BG$20, 2, FALSE), 0), 0)","v":0},0.9,14.4,null,null,16,null,null,null,12,2,0,2,2,3,2,2,9,10,null,null,null,null,null,0,12]
[null,null,"University Wide","La Jolla Campus","West Campus","Warren College","Surface Lot","P508","-","A","24/7 Enforced",null,"Yes","Yes","Yes","P508","P508A24/7 Enforced",{"$f":"COUNTIF(Q$5:Q785, Q785 )","v":1},{"$f":"_xlfn.IFS(D$2=X$4, X785, D$2=Y$4, Y785,D$2=Z$4, Z785,D$2=AA$4, AA785)","v":1},1,{"$f":"IF(R785=1, _xlfn.IFNA(VLOOKUP(Q785, 'Allocation Change Graph'!BF$7:BG$20, 2, FALSE), 0), 0)","v":0},0.9,0.9,null,null,1,null,null,null,1,1,1,1,1,1,1,1,1,1,null,null,null,null,null,1,1]
[null,null,"University Wide","La Jolla Campus","West Campus","Warren College","Surface Lot","P508","-","Accessible",null,null,"Yes","Yes",null,"P508","P508Accessible",{"$f":"COUNTIF(Q$5:Q786, Q786 )","v":1},{"$f":"_xlfn.IFS(D$2=X$4, X786, D$2=Y$4, Y786,D$2=Z$4, Z786,D$2=AA$4, AA786)","v":3},3,{"$f":"IF(R786=1, _xlfn.IFNA(VLOOKUP(Q786, 'Allocation Change Graph'!BF$7:BG$20, 2, FALSE), 0), 0)","v":0},0.9,2.7,null,null,3,null,null,null,3,1,0,0,0,1,0,0,2,1,null,null,null,null,null,0,3]
[null,null,"University Wide","La Jolla Campus","West Campus","Warren College","Surface Lot","P508","-","Accessible (Van)",null,null,"Yes","Yes",null,"P508","P508Accessible (Van)",{"$f":"COUNTIF(Q$5:Q787, Q787 )","v":1},{"$f":"_xlfn.IFS(D$2=X$4, X787, D$2=Y$4, Y787,D$2=Z$4, Z787,D$2=AA$4, AA787)","v":7},7,{"$f":"IF(R787=1, _xlfn.IFNA(VLOOKUP(Q787, 'Allocation Change Graph'!BF$7:BG$20, 2, FALSE), 0), 0)","v":0},0.9,6.3,null,null,7,null,null,null,7,1,0,0,0,0,0,0,1,1,null,null,null,null,null,0,7]
[null,null,"University Wide","La Jolla Campus","West Campus","Warren College","Surface Lot","P508","-","Loading",null,"20 minutes","Yes","Yes",null,"P508","P508Loading20 minutes",{"$f":"COUNTIF(Q$5:Q788, Q788 )","v":1},{"$f":"_xlfn.IFS(D$2=X$4, X788, D$2=Y$4, Y788,D$2=Z$4, Z788,D$2=AA$4, AA788)","v":0},0,{"$f":"IF(R788=1, _xlfn.IFNA(VLOOKUP(Q788, 'Allocation Change Graph'!BF$7:BG$20, 2, FALSE), 0), 0)","v":0},0.9,0,null,null,0,null,null,null,null,null,null,null,null,null,null,null,null,null,null,null,null,null,null,0,0]
[null,null,"University Wide","La Jolla Campus","West Campus","Warren College","Surface Lot","P508","-","Reserved",null,null,"Yes","Yes",null,"P508","P508Reserved",{"$f":"COUNTIF(Q$5:Q789, Q789 )","v":1},{"$f":"_xlfn.IFS(D$2=X$4, X789, D$2=Y$4, Y789,D$2=Z$4, Z789,D$2=AA$4, AA789)","v":25},25,{"$f":"IF(R789=1, _xlfn.IFNA(VLOOKUP(Q789, 'Allocation Change Graph'!BF$7:BG$20, 2, FALSE), 0), 0)","v":0},0.9,22.5,null,null,25,null,null,null,23,15,14,16,17,16,14,12,12,12,null,null,null,null,null,12,23]
[null,null,"University Wide","La Jolla Campus","West Campus","Warren College","Surface Lot","P508","-","Visitor",null,null,"Yes","Yes","Yes","P508","P508Visitor",{"$f":"COUNTIF(Q$5:Q790, Q790 )","v":1},{"$f":"_xlfn.IFS(D$2=X$4, X790, D$2=Y$4, Y790,D$2=Z$4, Z790,D$2=AA$4, AA790)","v":0},0,{"$f":"IF(R790=1, _xlfn.IFNA(VLOOKUP(Q790, 'Allocation Change Graph'!BF$7:BG$20, 2, FALSE), 0), 0)","v":0},0.9,0,null,null,0,null,null,null,null,null,null,null,null,null,null,null,null,null,null,null,null,null,null,0,0]
[null,null,"University Wide","La Jolla Campus","West Campus","Warren College","Surface Lot","P509","-","Loading","Dock",null,"Yes","Yes",null,"P509","P509LoadingDock",{"$f":"COUNTIF(Q$5:Q791, Q791 )","v":1},{"$f":"_xlfn.IFS(D$2=X$4, X791, D$2=Y$4, Y791,D$2=Z$4, Z791,D$2=AA$4, AA791)","v":1},1,{"$f":"IF(R791=1, _xlfn.IFNA(VLOOKUP(Q791, 'Allocation Change Graph'!BF$7:BG$20, 2, FALSE), 0), 0)","v":0},0.9,0.9,null,null,1,null,null,null,1,1,1,0,0,1,1,1,0,1,null,null,null,null,null,0,1]
[null,null,"University Wide","La Jolla Campus","West Campus","Warren College","Surface Lot","P509","-","Reserved",null,null,"Yes","Yes",null,"P509","P509Reserved",{"$f":"COUNTIF(Q$5:Q792, Q792 )","v":1},{"$f":"_xlfn.IFS(D$2=X$4, X792, D$2=Y$4, Y792,D$2=Z$4, Z792,D$2=AA$4, AA792)","v":1},1,{"$f":"IF(R792=1, _xlfn.IFNA(VLOOKUP(Q792, 'Allocation Change Graph'!BF$7:BG$20, 2, FALSE), 0), 0)","v":0},0.9,0.9,null,null,1,null,null,null,1,1,1,1,0,1,1,1,1,1,null,null,null,null,null,0,1]
[null,null,"University Wide","La Jolla Campus","West Campus","Warren College","Surface Lot","P509","-","Service Yard",null,null,"Yes","Yes",null,"P509","P509Service Yard",{"$f":"COUNTIF(Q$5:Q793, Q793 )","v":1},{"$f":"_xlfn.IFS(D$2=X$4, X793, D$2=Y$4, Y793,D$2=Z$4, Z793,D$2=AA$4, AA793)","v":4},4,{"$f":"IF(R793=1, _xlfn.IFNA(VLOOKUP(Q793, 'Allocation Change Graph'!BF$7:BG$20, 2, FALSE), 0), 0)","v":0},0.9,3.6,null,null,4,null,null,null,4,4,4,2,4,2,4,2,2,2,null,null,null,null,null,2,4]
[null,null,"University Wide","La Jolla Campus","West Campus","Warren College","Surface Lot","P509","-","UC Vehicle","UC Cart",null,"Yes","Yes",null,"P509","P509UC VehicleUC Cart",{"$f":"COUNTIF(Q$5:Q794, Q794 )","v":1},{"$f":"_xlfn.IFS(D$2=X$4, X794, D$2=Y$4, Y794,D$2=Z$4, Z794,D$2=AA$4, AA794)","v":1},1,{"$f":"IF(R794=1, _xlfn.IFNA(VLOOKUP(Q794, 'Allocation Change Graph'!BF$7:BG$20, 2, FALSE), 0), 0)","v":0},0.9,0.9,null,null,1,null,null,null,1,1,1,1,1,1,1,1,1,1,null,null,null,null,null,1,1]
[null,null,"University Wide","La Jolla Campus","West Campus","Campus Services","Surface Lot","P510","-","A",null,null,"Yes","Yes","Yes","P510","P510A",{"$f":"COUNTIF(Q$5:Q795, Q795 )","v":1},{"$f":"_xlfn.IFS(D$2=X$4, X795, D$2=Y$4, Y795,D$2=Z$4, Z795,D$2=AA$4, AA795)","v":26},26,{"$f":"IF(R795=1, _xlfn.IFNA(VLOOKUP(Q795, 'Allocation Change Graph'!BF$7:BG$20, 2, FALSE), 0), 0)","v":0},0.9,23.400000000000002,null,null,26,null,null,null,20,0,0,0,0,4,0,3,5,6,null,null,null,null,null,0,20]
[null,null,"University Wide","La Jolla Campus","West Campus","Campus Services","Surface Lot","P510","-","B",null,null,"Yes","Yes","Yes","P510","P510B",{"$f":"COUNTIF(Q$5:Q796, Q796 )","v":1},{"$f":"_xlfn.IFS(D$2=X$4, X796, D$2=Y$4, Y796,D$2=Z$4, Z796,D$2=AA$4, AA796)","v":157},157,{"$f":"IF(R796=1, _xlfn.IFNA(VLOOKUP(Q796, 'Allocation Change Graph'!BF$7:BG$20, 2, FALSE), 0), 0)","v":0},0.9,141.30000000000001,null,null,157,null,null,null,1,0,0,0,0,4,0,3,5,7,null,null,null,null,null,0,7]
[null,null,"University Wide","La Jolla Campus","West Campus","Campus Services","Surface Lot","P510","-","Motorcycle Section",null,null,"Yes","Yes",null,"P510","P510Motorcycle Section",{"$f":"COUNTIF(Q$5:Q797, Q797 )","v":1},{"$f":"_xlfn.IFS(D$2=X$4, X797, D$2=Y$4, Y797,D$2=Z$4, Z797,D$2=AA$4, AA797)","v":3},3,{"$f":"IF(R797=1, _xlfn.IFNA(VLOOKUP(Q797, 'Allocation Change Graph'!BF$7:BG$20, 2, FALSE), 0), 0)","v":0},0.9,2.7,null,null,3,null,null,null,3,3,3,3,3,3,2,3,3,3,null,null,null,null,null,2,3]
[null,null,"University Wide","La Jolla Campus","West Campus","Campus Services","Surface Lot","P510","-","Reserved",null,null,"Yes","Yes",null,"P510","P510Reserved",{"$f":"COUNTIF(Q$5:Q798, Q798 )","v":1},{"$f":"_xlfn.IFS(D$2=X$4, X798, D$2=Y$4, Y798,D$2=Z$4, Z798,D$2=AA$4, AA798)","v":3},3,{"$f":"IF(R798=1, _xlfn.IFNA(VLOOKUP(Q798, 'Allocation Change Graph'!BF$7:BG$20, 2, FALSE), 0), 0)","v":0},0.9,2.7,null,null,3,null,null,null,0,0,0,0,0,0,0,0,0,0,null,null,null,null,null,0,0]
[null,null,"University Wide","La Jolla Campus","West Campus","Campus Services","Surface Lot","P510","-","Service Yard",null,null,"Yes","Yes",null,"P510","P510Service Yard",{"$f":"COUNTIF(Q$5:Q799, Q799 )","v":1},{"$f":"_xlfn.IFS(D$2=X$4, X799, D$2=Y$4, Y799,D$2=Z$4, Z799,D$2=AA$4, AA799)","v":1},1,{"$f":"IF(R799=1, _xlfn.IFNA(VLOOKUP(Q799, 'Allocation Change Graph'!BF$7:BG$20, 2, FALSE), 0), 0)","v":0},0.9,0.9,null,null,1,null,null,null,0,0,0,0,1,0,0,0,0,0,null,null,null,null,null,0,1]
[null,null,"University Wide","La Jolla Campus","West Campus","Campus Services","Surface Lot","P510","-","Visitor",null,null,"Yes","Yes","Yes","P510","P510Visitor",{"$f":"COUNTIF(Q$5:Q800, Q800 )","v":1},{"$f":"_xlfn.IFS(D$2=X$4, X800, D$2=Y$4, Y800,D$2=Z$4, Z800,D$2=AA$4, AA800)","v":9},9,{"$f":"IF(R800=1, _xlfn.IFNA(VLOOKUP(Q800, 'Allocation Change Graph'!BF$7:BG$20, 2, FALSE), 0), 0)","v":0},0.9,8.1,null,null,9,null,null,null,0,0,0,3,3,0,0,4,2,2,null,null,null,null,null,0,4]
[null,null,"University Wide","La Jolla Campus","West Campus","Health Sciences West","Surface Lot","P601","-","Accessible",null,null,"Yes","Yes",null,"P601","P601Accessible",{"$f":"COUNTIF(Q$5:Q801, Q801 )","v":1},{"$f":"_xlfn.IFS(D$2=X$4, X801, D$2=Y$4, Y801,D$2=Z$4, Z801,D$2=AA$4, AA801)","v":7},7,{"$f":"IF(R801=1, _xlfn.IFNA(VLOOKUP(Q801, 'Allocation Change Graph'!BF$7:BG$20, 2, FALSE), 0), 0)","v":0},0.9,6.3,null,null,7,null,null,null,4,0,0,0,0,2,3,3,5,5,null,null,null,null,null,0,5]
[null,null,"University Wide","La Jolla Campus","West Campus","Health Sciences West","Surface Lot","P601","-","Accessible (Van)",null,null,"Yes","Yes",null,"P601","P601Accessible (Van)",{"$f":"COUNTIF(Q$5:Q802, Q802 )","v":1},{"$f":"_xlfn.IFS(D$2=X$4, X802, D$2=Y$4, Y802,D$2=Z$4, Z802,D$2=AA$4, AA802)","v":3},3,{"$f":"IF(R802=1, _xlfn.IFNA(VLOOKUP(Q802, 'Allocation Change Graph'!BF$7:BG$20, 2, FALSE), 0), 0)","v":0},0.9,2.7,null,null,3,null,null,null,2,0,0,0,0,0,0,0,1,1,null,null,null,null,null,0,2]
[null,null,"University Wide","La Jolla Campus","West Campus","Health Sciences West","Surface Lot","P601","-","Loading","Dock",null,"Yes","Yes",null,"P601","P601LoadingDock",{"$f":"COUNTIF(Q$5:Q803, Q803 )","v":1},{"$f":"_xlfn.IFS(D$2=X$4, X803, D$2=Y$4, Y803,D$2=Z$4, Z803,D$2=AA$4, AA803)","v":1},1,{"$f":"IF(R803=1, _xlfn.IFNA(VLOOKUP(Q803, 'Allocation Change Graph'!BF$7:BG$20, 2, FALSE), 0), 0)","v":0},0.9,0.9,null,null,1,null,null,null,1,0,0,1,1,1,0,1,1,1,null,null,null,null,null,0,1]
[null,null,"University Wide","La Jolla Campus","West Campus","Health Sciences West","Surface Lot","P602","-","A","2hr",120,"Yes","Yes","Yes","P602","P602A2hr120",{"$f":"COUNTIF(Q$5:Q804, Q804 )","v":1},{"$f":"_xlfn.IFS(D$2=X$4, X804, D$2=Y$4, Y804,D$2=Z$4, Z804,D$2=AA$4, AA804)","v":36},36,{"$f":"IF(R804=1, _xlfn.IFNA(VLOOKUP(Q804, 'Allocation Change Graph'!BF$7:BG$20, 2, FALSE), 0), 0)","v":0},0.9,32.4,null,null,36,null,null,null,28,19,12,2,0,0,2,4,13,22,null,null,null,null,null,0,28]
[null,null,"University Wide","La Jolla Campus","West Campus","Health Sciences West","Surface Lot","P602","-","A",null,null,"Yes","Yes","Yes","P602","P602A",{"$f":"COUNTIF(Q$5:Q805, Q805 )","v":1},{"$f":"_xlfn.IFS(D$2=X$4, X805, D$2=Y$4, Y805,D$2=Z$4, Z805,D$2=AA$4, AA805)","v":73},73,{"$f":"IF(R805=1, _xlfn.IFNA(VLOOKUP(Q805, 'Allocation Change Graph'!BF$7:BG$20, 2, FALSE), 0), 0)","v":0},0.9,65.7,null,null,73,null,null,null,53,34,30,21,8,0,4,11,21,47,null,null,null,null,null,0,53]
[null,null,"University Wide","La Jolla Campus","West Campus","Health Sciences West","Surface Lot","P602","-","Accessible",null,null,"Yes","Yes",null,"P602","P602Accessible",{"$f":"COUNTIF(Q$5:Q806, Q806 )","v":1},{"$f":"_xlfn.IFS(D$2=X$4, X806, D$2=Y$4, Y806,D$2=Z$4, Z806,D$2=AA$4, AA806)","v":2},2,{"$f":"IF(R806=1, _xlfn.IFNA(VLOOKUP(Q806, 'Allocation Change Graph'!BF$7:BG$20, 2, FALSE), 0), 0)","v":0},0.9,1.8,null,null,2,null,null,null,0,0,0,0,0,0,0,1,2,2,null,null,null,null,null,0,2]
[null,null,"University Wide","La Jolla Campus","West Campus","Health Sciences West","Surface Lot","P602","-","Accessible (Van)",null,null,"Yes","Yes",null,"P602","P602Accessible (Van)",{"$f":"COUNTIF(Q$5:Q807, Q807 )","v":1},{"$f":"_xlfn.IFS(D$2=X$4, X807, D$2=Y$4, Y807,D$2=Z$4, Z807,D$2=AA$4, AA807)","v":2},2,{"$f":"IF(R807=1, _xlfn.IFNA(VLOOKUP(Q807, 'Allocation Change Graph'!BF$7:BG$20, 2, FALSE), 0), 0)","v":0},0.9,1.8,null,null,2,null,null,null,0,0,0,0,0,0,0,1,2,2,null,null,null,null,null,0,2]
[null,null,"University Wide","La Jolla Campus","West Campus","Health Sciences West","Surface Lot","P602","-","Carpool","B 3-Person",null,"Yes","Yes","Yes","P602","P602CarpoolB 3-Person",{"$f":"COUNTIF(Q$5:Q808, Q808 )","v":1},{"$f":"_xlfn.IFS(D$2=X$4, X808, D$2=Y$4, Y808,D$2=Z$4, Z808,D$2=AA$4, AA808)","v":9},9,{"$f":"IF(R808=1, _xlfn.IFNA(VLOOKUP(Q808, 'Allocation Change Graph'!BF$7:BG$20, 2, FALSE), 0), 0)","v":0},0.9,8.1,null,null,9,null,null,null,9,6,6,0,0,0,0,0,3,4,null,null,null,null,null,0,9]
[null,null,"University Wide","La Jolla Campus","West Campus","Health Sciences West","Surface Lot","P602","-","Electric Vehicle",null,null,"Yes","Yes",null,"P602","P602Electric Vehicle",{"$f":"COUNTIF(Q$5:Q809, Q809 )","v":1},{"$f":"_xlfn.IFS(D$2=X$4, X809, D$2=Y$4, Y809,D$2=Z$4, Z809,D$2=AA$4, AA809)","v":4},4,{"$f":"IF(R809=1, _xlfn.IFNA(VLOOKUP(Q809, 'Allocation Change Graph'!BF$7:BG$20, 2, FALSE), 0), 0)","v":0},0.9,3.6,null,null,4,null,null,null,3,0,0,2,1,0,0,0,1,3,null,null,null,null,null,0,3]
[null,null,"University Wide","La Jolla Campus","West Campus","Health Sciences West","Surface Lot","P602","-","Reserved",null,null,"Yes","Yes",null,"P602","P602Reserved",{"$f":"COUNTIF(Q$5:Q810, Q810 )","v":1},{"$f":"_xlfn.IFS(D$2=X$4, X810, D$2=Y$4, Y810,D$2=Z$4, Z810,D$2=AA$4, AA810)","v":90},90,{"$f":"IF(R810=1, _xlfn.IFNA(VLOOKUP(Q810, 'Allocation Change Graph'!BF$7:BG$20, 2, FALSE), 0), 0)","v":0},0.9,81,null,null,90,null,null,null,60,41,34,38,40,64,71,46,80,78,null,null,null,null,null,34,80]
[null,null,"University Wide","La Jolla Campus","West Campus","Health Sciences West","Surface Lot","P602","-","UC Vehicle",null,null,"Yes","Yes",null,"P602","P602UC Vehicle",{"$f":"COUNTIF(Q$5:Q811, Q811 )","v":1},{"$f":"_xlfn.IFS(D$2=X$4, X811, D$2=Y$4, Y811,D$2=Z$4, Z811,D$2=AA$4, AA811)","v":2},2,{"$f":"IF(R811=1, _xlfn.IFNA(VLOOKUP(Q811, 'Allocation Change Graph'!BF$7:BG$20, 2, FALSE), 0), 0)","v":0},0.9,1.8,null,null,2,null,null,null,2,1,1,1,1,1,0,0,1,1,null,null,null,null,null,0,2]
[null,null,"University Wide","La Jolla Campus","West Campus","Health Sciences West","Surface Lot","P602","-","Visitor",null,null,"Yes","Yes","Yes","P602","P602Visitor",{"$f":"COUNTIF(Q$5:Q812, Q812 )","v":1},{"$f":"_xlfn.IFS(D$2=X$4, X812, D$2=Y$4, Y812,D$2=Z$4, Z812,D$2=AA$4, AA812)","v":12},12,{"$f":"IF(R812=1, _xlfn.IFNA(VLOOKUP(Q812, 'Allocation Change Graph'!BF$7:BG$20, 2, FALSE), 0), 0)","v":0},0.9,10.8,null,null,12,null,null,null,8,4,4,0,0,2,4,5,5,9,null,null,null,null,null,0,9]
[null,null,"University Wide","La Jolla Campus","West Campus","Health Sciences West","Surface Lot","P603","-","A",null,null,"Yes","Yes","Yes","P603","P603A",{"$f":"COUNTIF(Q$5:Q813, Q813 )","v":1},{"$f":"_xlfn.IFS(D$2=X$4, X813, D$2=Y$4, Y813,D$2=Z$4, Z813,D$2=AA$4, AA813)","v":0},0,{"$f":"IF(R813=1, _xlfn.IFNA(VLOOKUP(Q813, 'Allocation Change Graph'!BF$7:BG$20, 2, FALSE), 0), 0)","v":0},0.9,0,null,null,0,null,null,null,null,null,null,null,null,null,null,null,null,null,null,null,null,null,null,0,0]
[null,null,"University Wide","La Jolla Campus","West Campus","Health Sciences West","Surface Lot","P603","-","Accessible",null,null,"Yes","Yes",null,"P603","P603Accessible",{"$f":"COUNTIF(Q$5:Q814, Q814 )","v":1},{"$f":"_xlfn.IFS(D$2=X$4, X814, D$2=Y$4, Y814,D$2=Z$4, Z814,D$2=AA$4, AA814)","v":6},6,{"$f":"IF(R814=1, _xlfn.IFNA(VLOOKUP(Q814, 'Allocation Change Graph'!BF$7:BG$20, 2, FALSE), 0), 0)","v":0},0.9,5.4,null,null,6,null,null,null,5,0,0,0,6,2,2,2,5,6,null,null,null,null,null,0,6]
[null,null,"University Wide","La Jolla Campus","West Campus","Health Sciences West","Surface Lot","P603","-","Accessible (Van)",null,null,"Yes","Yes",null,"P603","P603Accessible (Van)",{"$f":"COUNTIF(Q$5:Q815, Q815 )","v":1},{"$f":"_xlfn.IFS(D$2=X$4, X815, D$2=Y$4, Y815,D$2=Z$4, Z815,D$2=AA$4, AA815)","v":9},9,{"$f":"IF(R815=1, _xlfn.IFNA(VLOOKUP(Q815, 'Allocation Change Graph'!BF$7:BG$20, 2, FALSE), 0), 0)","v":0},0.9,8.1,null,null,9,null,null,null,7,0,0,0,0,1,0,0,1,3,null,null,null,null,null,0,7]
[null,null,"University Wide","La Jolla Campus","West Campus","Health Sciences West","Surface Lot","P603","-","Loading",null,null,"Yes","Yes",null,"P603","P603Loading",{"$f":"COUNTIF(Q$5:Q816, Q816 )","v":1},{"$f":"_xlfn.IFS(D$2=X$4, X816, D$2=Y$4, Y816,D$2=Z$4, Z816,D$2=AA$4, AA816)","v":4},4,{"$f":"IF(R816=1, _xlfn.IFNA(VLOOKUP(Q816, 'Allocation Change Graph'!BF$7:BG$20, 2, FALSE), 0), 0)","v":0},0.9,3.6,null,null,4,null,null,null,1,2,3,4,4,2,0,2,1,3,null,null,null,null,null,0,4]
[null,null,"University Wide","La Jolla Campus","West Campus","Health Sciences West","Surface Lot","P603","-","Motorcycle Section",null,null,"Yes","Yes",null,"P603","P603Motorcycle Section",{"$f":"COUNTIF(Q$5:Q817, Q817 )","v":1},{"$f":"_xlfn.IFS(D$2=X$4, X817, D$2=Y$4, Y817,D$2=Z$4, Z817,D$2=AA$4, AA817)","v":0},0,{"$f":"IF(R817=1, _xlfn.IFNA(VLOOKUP(Q817, 'Allocation Change Graph'!BF$7:BG$20, 2, FALSE), 0), 0)","v":0},0.9,0,null,null,0,null,null,null,null,null,null,null,null,null,null,null,null,null,null,null,null,null,null,0,0]
[null,null,"University Wide","La Jolla Campus","West Campus","Health Sciences West","Surface Lot","P603","-","Reserved","Enterprise",null,"Yes","Yes",null,"P603","P603ReservedEnterprise",{"$f":"COUNTIF(Q$5:Q818, Q818 )","v":1},{"$f":"_xlfn.IFS(D$2=X$4, X818, D$2=Y$4, Y818,D$2=Z$4, Z818,D$2=AA$4, AA818)","v":0},0,{"$f":"IF(R818=1, _xlfn.IFNA(VLOOKUP(Q818, 'Allocation Change Graph'!BF$7:BG$20, 2, FALSE), 0), 0)","v":0},0.9,0,null,null,0,null,null,null,null,null,null,null,null,null,null,null,null,null,null,null,null,null,null,0,0]
[null,null,"University Wide","La Jolla Campus","West Campus","Health Sciences West","Surface Lot","P603","-","Reserved",null,null,"Yes","Yes",null,"P603","P603Reserved",{"$f":"COUNTIF(Q$5:Q819, Q819 )","v":1},{"$f":"_xlfn.IFS(D$2=X$4, X819, D$2=Y$4, Y819,D$2=Z$4, Z819,D$2=AA$4, AA819)","v":0},0,{"$f":"IF(R819=1, _xlfn.IFNA(VLOOKUP(Q819, 'Allocation Change Graph'!BF$7:BG$20, 2, FALSE), 0), 0)","v":0},0.9,0,null,null,0,null,null,null,null,null,null,null,null,null,null,null,null,null,null,null,null,null,null,0,0]
[null,null,"University Wide","La Jolla Campus","West Campus","Health Sciences West","Surface Lot","P603","-","Service Yard",null,null,"Yes","Yes",null,"P603","P603Service Yard",{"$f":"COUNTIF(Q$5:Q820, Q820 )","v":1},{"$f":"_xlfn.IFS(D$2=X$4, X820, D$2=Y$4, Y820,D$2=Z$4, Z820,D$2=AA$4, AA820)","v":2},2,{"$f":"IF(R820=1, _xlfn.IFNA(VLOOKUP(Q820, 'Allocation Change Graph'!BF$7:BG$20, 2, FALSE), 0), 0)","v":0},0.9,1.8,null,null,2,null,null,null,2,1,1,1,2,1,0,0,0,0,null,null,null,null,null,0,2]
[null,null,"University Wide","La Jolla Campus","West Campus","Health Sciences West","Surface Lot","P603","-","Visitor",null,null,"Yes","Yes","Yes","P603","P603Visitor",{"$f":"COUNTIF(Q$5:Q821, Q821 )","v":1},{"$f":"_xlfn.IFS(D$2=X$4, X821, D$2=Y$4, Y821,D$2=Z$4, Z821,D$2=AA$4, AA821)","v":36},36,{"$f":"IF(R821=1, _xlfn.IFNA(VLOOKUP(Q821, 'Allocation Change Graph'!BF$7:BG$20, 2, FALSE), 0), 0)","v":0},0.9,32.4,null,null,36,null,null,null,19,14,16,12,15,10,16,20,26,23,null,null,null,null,null,10,26]
[null,null,"University Wide","La Jolla Campus","West Campus","Health Sciences West","Surface Lot","P604","-","Accessible",null,null,"Yes","Yes",null,"P604","P604Accessible",{"$f":"COUNTIF(Q$5:Q822, Q822 )","v":1},{"$f":"_xlfn.IFS(D$2=X$4, X822, D$2=Y$4, Y822,D$2=Z$4, Z822,D$2=AA$4, AA822)","v":0},0,{"$f":"IF(R822=1, _xlfn.IFNA(VLOOKUP(Q822, 'Allocation Change Graph'!BF$7:BG$20, 2, FALSE), 0), 0)","v":0},0.9,0,null,null,0,null,null,null,null,null,null,null,null,null,null,null,null,null,null,null,null,null,null,0,0]
[null,null,"University Wide","La Jolla Campus","West Campus","Health Sciences West","Surface Lot","P604","-","Accessible (Van)",null,null,"Yes","Yes",null,"P604","P604Accessible (Van)",{"$f":"COUNTIF(Q$5:Q823, Q823 )","v":1},{"$f":"_xlfn.IFS(D$2=X$4, X823, D$2=Y$4, Y823,D$2=Z$4, Z823,D$2=AA$4, AA823)","v":0},0,{"$f":"IF(R823=1, _xlfn.IFNA(VLOOKUP(Q823, 'Allocation Change Graph'!BF$7:BG$20, 2, FALSE), 0), 0)","v":0},0.9,0,null,null,null,null,null,null,null,null,null,null,null,null,null,null,null,null,null,null,null,null,null,0,0]
[null,null,"University Wide","La Jolla Campus","West Campus","Health Sciences West","Surface Lot","P604","-","B",null,null,"Yes","Yes","Yes","P604","P604B",{"$f":"COUNTIF(Q$5:Q824, Q824 )","v":1},{"$f":"_xlfn.IFS(D$2=X$4, X824, D$2=Y$4, Y824,D$2=Z$4, Z824,D$2=AA$4, AA824)","v":0},0,{"$f":"IF(R824=1, _xlfn.IFNA(VLOOKUP(Q824, 'Allocation Change Graph'!BF$7:BG$20, 2, FALSE), 0), 0)","v":0},0.9,0,null,null,0,null,null,null,null,null,null,null,null,null,null,null,null,null,null,null,null,null,null,0,0]
[null,null,"University Wide","La Jolla Campus","West Campus","Health Sciences West","Surface Lot","P605","-","Accessible",null,null,"Yes","Yes",null,"P605","P605Accessible",{"$f":"COUNTIF(Q$5:Q825, Q825 )","v":1},{"$f":"_xlfn.IFS(D$2=X$4, X825, D$2=Y$4, Y825,D$2=Z$4, Z825,D$2=AA$4, AA825)","v":1},1,{"$f":"IF(R825=1, _xlfn.IFNA(VLOOKUP(Q825, 'Allocation Change Graph'!BF$7:BG$20, 2, FALSE), 0), 0)","v":0},0.9,0.9,null,null,1,null,null,null,1,1,1,1,0,0,0,0,0,1,null,null,null,null,null,0,1]
[null,null,"University Wide","La Jolla Campus","West Campus","Health Sciences West","Surface Lot","P605","-","Accessible (Van)",null,null,"Yes","Yes",null,"P605","P605Accessible (Van)",{"$f":"COUNTIF(Q$5:Q826, Q826 )","v":1},{"$f":"_xlfn.IFS(D$2=X$4, X826, D$2=Y$4, Y826,D$2=Z$4, Z826,D$2=AA$4, AA826)","v":0},0,{"$f":"IF(R826=1, _xlfn.IFNA(VLOOKUP(Q826, 'Allocation Change Graph'!BF$7:BG$20, 2, FALSE), 0), 0)","v":0},0.9,0,null,null,null,null,null,null,null,null,null,null,null,null,null,null,null,null,null,null,null,null,null,0,0]
[null,null,"University Wide","La Jolla Campus","West Campus","Health Sciences West","Surface Lot","P605","-","Reserved",null,null,"Yes","Yes",null,"P605","P605Reserved",{"$f":"COUNTIF(Q$5:Q827, Q827 )","v":1},{"$f":"_xlfn.IFS(D$2=X$4, X827, D$2=Y$4, Y827,D$2=Z$4, Z827,D$2=AA$4, AA827)","v":8},8,{"$f":"IF(R827=1, _xlfn.IFNA(VLOOKUP(Q827, 'Allocation Change Graph'!BF$7:BG$20, 2, FALSE), 0), 0)","v":0},0.9,7.2,null,null,8,null,null,null,7,2,3,5,4,4,4,5,7,7,null,null,null,null,null,2,7]
[null,null,"University Wide","La Jolla Campus","West Campus","Health Sciences West","Surface Lot","P605","-","UC Vehicle",null,null,"Yes","Yes",null,"P605","P605UC Vehicle",{"$f":"COUNTIF(Q$5:Q828, Q828 )","v":1},{"$f":"_xlfn.IFS(D$2=X$4, X828, D$2=Y$4, Y828,D$2=Z$4, Z828,D$2=AA$4, AA828)","v":7},7,{"$f":"IF(R828=1, _xlfn.IFNA(VLOOKUP(Q828, 'Allocation Change Graph'!BF$7:BG$20, 2, FALSE), 0), 0)","v":0},0.9,6.3,null,null,7,null,null,null,7,3,5,4,5,0,0,2,2,2,null,null,null,null,null,0,7]
[null,null,"University Wide","La Jolla Campus","West Campus","Health Sciences West","Surface Lot","P606","-","Accessible",null,null,"Yes","Yes",null,"P606","P606Accessible",{"$f":"COUNTIF(Q$5:Q829, Q829 )","v":1},{"$f":"_xlfn.IFS(D$2=X$4, X829, D$2=Y$4, Y829,D$2=Z$4, Z829,D$2=AA$4, AA829)","v":0},0,{"$f":"IF(R829=1, _xlfn.IFNA(VLOOKUP(Q829, 'Allocation Change Graph'!BF$7:BG$20, 2, FALSE), 0), 0)","v":0},0.9,0,null,null,0,null,null,null,null,null,null,null,null,null,null,null,null,null,null,null,null,null,null,0,0]
[null,null,"University Wide","La Jolla Campus","West Campus","Health Sciences West","Surface Lot","P606","-","Accessible (Van)",null,null,"Yes","Yes",null,"P606","P606Accessible (Van)",{"$f":"COUNTIF(Q$5:Q830, Q830 )","v":1},{"$f":"_xlfn.IFS(D$2=X$4, X830, D$2=Y$4, Y830,D$2=Z$4, Z830,D$2=AA$4, AA830)","v":2},2,{"$f":"IF(R830=1, _xlfn.IFNA(VLOOKUP(Q830, 'Allocation Change Graph'!BF$7:BG$20, 2, FALSE), 0), 0)","v":0},0.9,1.8,null,null,2,null,null,null,1,2,0,0,0,2,2,2,1,2,null,null,null,null,null,0,2]
[null,null,"University Wide","La Jolla Campus","West Campus","Health Sciences West","Surface Lot","P606","-","Loading","Dock",null,"Yes","Yes",null,"P606","P606LoadingDock",{"$f":"COUNTIF(Q$5:Q831, Q831 )","v":1},{"$f":"_xlfn.IFS(D$2=X$4, X831, D$2=Y$4, Y831,D$2=Z$4, Z831,D$2=AA$4, AA831)","v":2},2,{"$f":"IF(R831=1, _xlfn.IFNA(VLOOKUP(Q831, 'Allocation Change Graph'!BF$7:BG$20, 2, FALSE), 0), 0)","v":0},0.9,1.8,null,null,2,null,null,null,2,2,1,1,0,0,0,2,2,2,null,null,null,null,null,0,2]
[null,null,"University Wide","La Jolla Campus","West Campus","Health Sciences West","Surface Lot","P606","-","Reserved",null,null,"Yes","Yes",null,"P606","P606Reserved",{"$f":"COUNTIF(Q$5:Q832, Q832 )","v":1},{"$f":"_xlfn.IFS(D$2=X$4, X832, D$2=Y$4, Y832,D$2=Z$4, Z832,D$2=AA$4, AA832)","v":6},6,{"$f":"IF(R832=1, _xlfn.IFNA(VLOOKUP(Q832, 'Allocation Change Graph'!BF$7:BG$20, 2, FALSE), 0), 0)","v":0},0.9,5.4,null,null,6,null,null,null,5,5,1,3,2,2,4,4,4,4,null,null,null,null,null,1,5]
[null,null,"University Wide","La Jolla Campus","West Campus","Health Sciences West","Surface Lot","P607","-","Service Yard","Dock",null,"Yes","Yes",null,"P607","P607Service YardDock",{"$f":"COUNTIF(Q$5:Q833, Q833 )","v":1},{"$f":"_xlfn.IFS(D$2=X$4, X833, D$2=Y$4, Y833,D$2=Z$4, Z833,D$2=AA$4, AA833)","v":5},5,{"$f":"IF(R833=1, _xlfn.IFNA(VLOOKUP(Q833, 'Allocation Change Graph'!BF$7:BG$20, 2, FALSE), 0), 0)","v":0},0.9,4.5,null,null,5,null,null,null,4,2,2,5,4,2,3,2,4,4,null,null,null,null,null,2,5]
[null,null,"University Wide","La Jolla Campus","West Campus","Health Sciences West","Surface Lot","P608","-","Accessible",null,null,"Yes","Yes",null,"P608","P608Accessible",{"$f":"COUNTIF(Q$5:Q834, Q834 )","v":1},{"$f":"_xlfn.IFS(D$2=X$4, X834, D$2=Y$4, Y834,D$2=Z$4, Z834,D$2=AA$4, AA834)","v":2},2,{"$f":"IF(R834=1, _xlfn.IFNA(VLOOKUP(Q834, 'Allocation Change Graph'!BF$7:BG$20, 2, FALSE), 0), 0)","v":0},0.9,1.8,null,null,2,null,null,null,1,0,0,0,0,0,1,1,1,1,null,null,null,null,null,0,1]
[null,null,"University Wide","La Jolla Campus","West Campus","Health Sciences West","Surface Lot","P608","-","Accessible (Van)",null,null,"Yes","Yes",null,"P608","P608Accessible (Van)",{"$f":"COUNTIF(Q$5:Q835, Q835 )","v":1},{"$f":"_xlfn.IFS(D$2=X$4, X835, D$2=Y$4, Y835,D$2=Z$4, Z835,D$2=AA$4, AA835)","v":0},0,{"$f":"IF(R835=1, _xlfn.IFNA(VLOOKUP(Q835, 'Allocation Change Graph'!BF$7:BG$20, 2, FALSE), 0), 0)","v":0},0.9,0,null,null,null,null,null,null,null,null,null,null,null,null,null,null,null,null,null,null,null,null,null,0,0]
[null,null,"University Wide","La Jolla Campus","West Campus","Health Sciences West","Surface Lot","P608","-","Loading",null,null,"Yes","Yes",null,"P608","P608Loading",{"$f":"COUNTIF(Q$5:Q836, Q836 )","v":1},{"$f":"_xlfn.IFS(D$2=X$4, X836, D$2=Y$4, Y836,D$2=Z$4, Z836,D$2=AA$4, AA836)","v":8},8,{"$f":"IF(R836=1, _xlfn.IFNA(VLOOKUP(Q836, 'Allocation Change Graph'!BF$7:BG$20, 2, FALSE), 0), 0)","v":0},0.9,7.2,null,null,8,null,null,null,6,7,7,8,5,0,2,2,3,2,null,null,null,null,null,0,8]
[null,null,"University Wide","La Jolla Campus","West Campus","Health Sciences West","Surface Lot","P608","-","Reserved",null,null,"Yes","Yes",null,{"$f":"IF(G837=\"Surface Lot\", H837, G837)","v":"P608"},{"$f":"P837&J837&K837&L837","v":"P608Reserved"},{"$f":"COUNTIF(Q$5:Q837, Q837 )","v":1},{"$f":"_xlfn.IFS(D$2=X$4, X837, D$2=Y$4, Y837,D$2=Z$4, Z837,D$2=AA$4, AA837)","v":1},{"$f":"IF(R837=1,SUMIF(Q:Q,Q837,S:S)+U837, \"\")","v":1},{"$f":"IF(R837=1, _xlfn.IFNA(VLOOKUP(Q837, 'Allocation Change Graph'!BF$7:BG$20, 2, FALSE), 0), 0)","v":0},0.9,{"$f":"IF(R837=1, V837*T837, \"\")","v":0.9},null,null,1,null,null,null,1,1,1,1,1,1,0,0,1,1,null,null,null,null,null,{"$f":"MIN($AB837:$AR837)+U837","v":0},{"$f":"MAX($AB837:$AR837)+U837","v":1}]
[null,null,"University Wide","La Jolla Campus","West Campus","Health Sciences West","Surface Lot","P610","-","A",null,null,"Yes","Yes","Yes","P610","P610A",{"$f":"COUNTIF(Q$5:Q838, Q838 )","v":1},{"$f":"_xlfn.IFS(D$2=X$4, X838, D$2=Y$4, Y838,D$2=Z$4, Z838,D$2=AA$4, AA838)","v":113},113,{"$f":"IF(R838=1, _xlfn.IFNA(VLOOKUP(Q838, 'Allocation Change Graph'!BF$7:BG$20, 2, FALSE), 0), 0)","v":0},0.9,101.7,null,null,113,null,null,null,63,0,0,0,0,2,8,14,14,27,null,null,null,null,null,0,63]
[null,null,"University Wide","La Jolla Campus","West Campus","Health Sciences West","Surface Lot","P610","-","Accessible",null,null,"Yes","Yes",null,"P610","P610Accessible",{"$f":"COUNTIF(Q$5:Q839, Q839 )","v":1},{"$f":"_xlfn.IFS(D$2=X$4, X839, D$2=Y$4, Y839,D$2=Z$4, Z839,D$2=AA$4, AA839)","v":0},0,{"$f":"IF(R839=1, _xlfn.IFNA(VLOOKUP(Q839, 'Allocation Change Graph'!BF$7:BG$20, 2, FALSE), 0), 0)","v":0},0.9,0,null,null,0,null,null,null,null,null,null,null,null,null,null,null,null,null,null,null,null,null,null,0,0]
[null,null,"University Wide","La Jolla Campus","West Campus","Health Sciences West","Surface Lot","P610","-","Accessible (Van)",null,null,"Yes","Yes",null,"P610","P610Accessible (Van)",{"$f":"COUNTIF(Q$5:Q840, Q840 )","v":1},{"$f":"_xlfn.IFS(D$2=X$4, X840, D$2=Y$4, Y840,D$2=Z$4, Z840,D$2=AA$4, AA840)","v":5},5,{"$f":"IF(R840=1, _xlfn.IFNA(VLOOKUP(Q840, 'Allocation Change Graph'!BF$7:BG$20, 2, FALSE), 0), 0)","v":0},0.9,4.5,null,null,5,null,null,null,1,0,0,0,0,0,2,0,1,0,null,null,null,null,null,0,2]
[null,null,"University Wide","La Jolla Campus","West Campus","Health Sciences West","Surface Lot","P610","-","Carpool","A 3-Person",null,"Yes","Yes","Yes","P610","P610CarpoolA 3-Person",{"$f":"COUNTIF(Q$5:Q841, Q841 )","v":1},{"$f":"_xlfn.IFS(D$2=X$4, X841, D$2=Y$4, Y841,D$2=Z$4, Z841,D$2=AA$4, AA841)","v":2},2,{"$f":"IF(R841=1, _xlfn.IFNA(VLOOKUP(Q841, 'Allocation Change Graph'!BF$7:BG$20, 2, FALSE), 0), 0)","v":0},0.9,1.8,null,null,2,null,null,null,1,0,0,0,0,0,0,0,1,1,null,null,null,null,null,0,1]
[null,null,"University Wide","La Jolla Campus","West Campus","Health Sciences West","Surface Lot","P610","-","Electric Vehicle",null,null,"Yes","Yes",null,"P610","P610Electric Vehicle",{"$f":"COUNTIF(Q$5:Q842, Q842 )","v":1},{"$f":"_xlfn.IFS(D$2=X$4, X842, D$2=Y$4, Y842,D$2=Z$4, Z842,D$2=AA$4, AA842)","v":6},6,{"$f":"IF(R842=1, _xlfn.IFNA(VLOOKUP(Q842, 'Allocation Change Graph'!BF$7:BG$20, 2, FALSE), 0), 0)","v":0},0.9,5.4,null,null,6,null,null,null,4,0,1,2,0,0,0,0,1,3,null,null,null,null,null,0,4]
[null,null,"University Wide","La Jolla Campus","West Campus","Health Sciences West","Surface Lot","P610","-","Reserved","Enterprise",null,"Yes","Yes",null,"P610","P610ReservedEnterprise",{"$f":"COUNTIF(Q$5:Q843, Q843 )","v":1},{"$f":"_xlfn.IFS(D$2=X$4, X843, D$2=Y$4, Y843,D$2=Z$4, Z843,D$2=AA$4, AA843)","v":4},4,{"$f":"IF(R843=1, _xlfn.IFNA(VLOOKUP(Q843, 'Allocation Change Graph'!BF$7:BG$20, 2, FALSE), 0), 0)","v":0},0.9,3.6,null,null,4,null,null,null,2,2,2,2,1,4,2,2,2,2,null,null,null,null,null,1,4]
[null,null,"University Wide","La Jolla Campus","West Campus","Health Sciences West","Surface Lot","P610","-","Reserved","EXCITE LAB",null,"Yes","Yes",null,"P610","P610ReservedEXCITE LAB",{"$f":"COUNTIF(Q$5:Q844, Q844 )","v":1},{"$f":"_xlfn.IFS(D$2=X$4, X844, D$2=Y$4, Y844,D$2=Z$4, Z844,D$2=AA$4, AA844)","v":10},10,{"$f":"IF(R844=1, _xlfn.IFNA(VLOOKUP(Q844, 'Allocation Change Graph'!BF$7:BG$20, 2, FALSE), 0), 0)","v":0},0.9,9,null,null,10,null,null,null,7,0,0,0,2,0,0,0,0,0,null,null,null,null,null,0,7]
[null,null,"University Wide","La Jolla Campus","West Campus","Health Sciences West","Surface Lot","P610","-","Reserved",null,null,"Yes","Yes",null,"P610","P610Reserved",{"$f":"COUNTIF(Q$5:Q845, Q845 )","v":1},{"$f":"_xlfn.IFS(D$2=X$4, X845, D$2=Y$4, Y845,D$2=Z$4, Z845,D$2=AA$4, AA845)","v":9},9,{"$f":"IF(R845=1, _xlfn.IFNA(VLOOKUP(Q845, 'Allocation Change Graph'!BF$7:BG$20, 2, FALSE), 0), 0)","v":0},0.9,8.1,null,null,9,null,null,null,6,4,2,3,2,5,5,6,6,7,null,null,null,null,null,2,7]
[null,null,"University Wide","La Jolla Campus","West Campus","Theater District Living & Learning","TDLLN","TDLLN","L1","Accessible",null,null,"Yes","Yes",null,"TDLLN","TDLLNAccessible",{"$f":"COUNTIF(Q$5:Q846, Q846 )","v":1},{"$f":"_xlfn.IFS(D$2=X$4, X846, D$2=Y$4, Y846,D$2=Z$4, Z846,D$2=AA$4, AA846)","v":17},17,{"$f":"IF(R846=1, _xlfn.IFNA(VLOOKUP(Q846, 'Allocation Change Graph'!BF$7:BG$20, 2, FALSE), 0), 0)","v":0},0.85,14.45,null,null,17,null,null,null,3,2,1,1,1,1,5,1,6,5,null,null,null,null,null,1,6]
[null,null,"University Wide","La Jolla Campus","West Campus","Theater District Living & Learning","TDLLN","TDLLN","L1","Accessible (Van)",null,null,"Yes","Yes",null,"TDLLN","TDLLNAccessible (Van)",{"$f":"COUNTIF(Q$5:Q847, Q847 )","v":1},{"$f":"_xlfn.IFS(D$2=X$4, X847, D$2=Y$4, Y847,D$2=Z$4, Z847,D$2=AA$4, AA847)","v":5},5,{"$f":"IF(R847=1, _xlfn.IFNA(VLOOKUP(Q847, 'Allocation Change Graph'!BF$7:BG$20, 2, FALSE), 0), 0)","v":0},0.85,4.25,null,null,5,null,null,null,5,5,5,5,5,0,0,0,2,1,null,null,null,null,null,0,5]
[null,null,"University Wide","La Jolla Campus","West Campus","Theater District Living & Learning","TDLLN","TDLLN","L1","B",null,null,"Yes","Yes","Yes","TDLLN","TDLLNB",{"$f":"COUNTIF(Q$5:Q848, Q848 )","v":1},{"$f":"_xlfn.IFS(D$2=X$4, X848, D$2=Y$4, Y848,D$2=Z$4, Z848,D$2=AA$4, AA848)","v":0},393,{"$f":"IF(R848=1, _xlfn.IFNA(VLOOKUP(Q848, 'Allocation Change Graph'!BF$7:BG$20, 2, FALSE), 0), 0)","v":0},0.9,353.7,null,null,null,null,null,null,260,127,42,21,16,6,16,16,87,168,null,null,null,null,null,6,260]
[null,null,"University Wide","La Jolla Campus","West Campus","Theater District Living & Learning","TDLLN","TDLLN","L1","Carpool",null,null,"Yes","Yes","Yes","TDLLN","TDLLNCarpool",{"$f":"COUNTIF(Q$5:Q849, Q849 )","v":1},{"$f":"_xlfn.IFS(D$2=X$4, X849, D$2=Y$4, Y849,D$2=Z$4, Z849,D$2=AA$4, AA849)","v":0},87,{"$f":"IF(R849=1, _xlfn.IFNA(VLOOKUP(Q849, 'Allocation Change Graph'!BF$7:BG$20, 2, FALSE), 0), 0)","v":0},0.85,73.95,null,null,null,null,null,null,87,84,75,6,5,8,15,15,24,30,null,null,null,null,null,5,87]
[null,null,"University Wide","La Jolla Campus","West Campus","Theater District Living & Learning","TDLLN","TDLLN","L1","Electric Vehicle","ADA",null,"Yes","Yes",null,"TDLLN","TDLLNElectric VehicleADA",{"$f":"COUNTIF(Q$5:Q850, Q850 )","v":1},{"$f":"_xlfn.IFS(D$2=X$4, X850, D$2=Y$4, Y850,D$2=Z$4, Z850,D$2=AA$4, AA850)","v":5},5,{"$f":"IF(R850=1, _xlfn.IFNA(VLOOKUP(Q850, 'Allocation Change Graph'!BF$7:BG$20, 2, FALSE), 0), 0)","v":0},0.85,4.25,null,null,5,null,null,null,5,4,5,1,1,2,0,1,1,0,null,null,null,null,null,0,5]
[null,null,"University Wide","La Jolla Campus","West Campus","Theater District Living & Learning","TDLLN","TDLLN","L1","Electric Vehicle",null,null,"Yes","Yes",null,"TDLLN","TDLLNElectric Vehicle",{"$f":"COUNTIF(Q$5:Q851, Q851 )","v":1},{"$f":"_xlfn.IFS(D$2=X$4, X851, D$2=Y$4, Y851,D$2=Z$4, Z851,D$2=AA$4, AA851)","v":34},92,{"$f":"IF(R851=1, _xlfn.IFNA(VLOOKUP(Q851, 'Allocation Change Graph'!BF$7:BG$20, 2, FALSE), 0), 0)","v":0},0.85,78.2,null,null,34,null,null,null,84,84,34,16,14,78,79,83,81,85,null,null,null,null,null,14,85]
[null,null,"University Wide","La Jolla Campus","West Campus","Theater District Living & Learning","TDLLN","TDLLN","L1","Motorcycle Section",null,null,"Yes","Yes",null,"TDLLN","TDLLNMotorcycle Section",{"$f":"COUNTIF(Q$5:Q852, Q852 )","v":1},{"$f":"_xlfn.IFS(D$2=X$4, X852, D$2=Y$4, Y852,D$2=Z$4, Z852,D$2=AA$4, AA852)","v":0},0,{"$f":"IF(R852=1, _xlfn.IFNA(VLOOKUP(Q852, 'Allocation Change Graph'!BF$7:BG$20, 2, FALSE), 0), 0)","v":0},0.85,0,null,null,null,null,null,null,null,null,null,null,null,null,null,null,null,null,null,null,null,null,null,0,0]
[null,null,"University Wide","La Jolla Campus","West Campus","Theater District Living & Learning","TDLLN","TDLLN","L1","Reserved",null,null,"Yes","Yes",null,"TDLLN","TDLLNReserved",{"$f":"COUNTIF(Q$5:Q853, Q853 )","v":1},{"$f":"_xlfn.IFS(D$2=X$4, X853, D$2=Y$4, Y853,D$2=Z$4, Z853,D$2=AA$4, AA853)","v":0},0,{"$f":"IF(R853=1, _xlfn.IFNA(VLOOKUP(Q853, 'Allocation Change Graph'!BF$7:BG$20, 2, FALSE), 0), 0)","v":0},0.85,0,null,null,null,null,null,null,null,null,null,null,null,null,null,null,null,null,null,null,null,null,null,0,0]
[null,null,"University Wide","La Jolla Campus","West Campus","Theater District Living & Learning","TDLLN","TDLLN","L1","Service Yard",null,null,"Yes","Yes",null,"TDLLN","TDLLNService Yard",{"$f":"COUNTIF(Q$5:Q854, Q854 )","v":1},{"$f":"_xlfn.IFS(D$2=X$4, X854, D$2=Y$4, Y854,D$2=Z$4, Z854,D$2=AA$4, AA854)","v":5},5,{"$f":"IF(R854=1, _xlfn.IFNA(VLOOKUP(Q854, 'Allocation Change Graph'!BF$7:BG$20, 2, FALSE), 0), 0)","v":0},0.85,4.25,null,null,5,null,null,null,5,5,5,4,3,5,4,1,3,3,null,null,null,null,null,1,5]
[null,null,"University Wide","La Jolla Campus","West Campus","Theater District Living & Learning","TDLLN","TDLLN","L1","SR",null,null,"Yes","Yes","Yes","TDLLN","TDLLNSR",{"$f":"COUNTIF(Q$5:Q855, Q855 )","v":1},{"$f":"_xlfn.IFS(D$2=X$4, X855, D$2=Y$4, Y855,D$2=Z$4, Z855,D$2=AA$4, AA855)","v":0},91,{"$f":"IF(R855=1, _xlfn.IFNA(VLOOKUP(Q855, 'Allocation Change Graph'!BF$7:BG$20, 2, FALSE), 0), 0)","v":0},0.9,81.900000000000006,null,null,null,null,null,null,2,3,1,3,1,1,3,1,5,17,null,null,null,null,null,1,17]
[null,null,"University Wide","La Jolla Campus","West Campus","Theater District Living & Learning","TDLLN","TDLLN","L1","UC Cart",null,null,"Yes","Yes",null,"TDLLN","TDLLNUC Cart",{"$f":"COUNTIF(Q$5:Q856, Q856 )","v":1},{"$f":"_xlfn.IFS(D$2=X$4, X856, D$2=Y$4, Y856,D$2=Z$4, Z856,D$2=AA$4, AA856)","v":15},15,{"$f":"IF(R856=1, _xlfn.IFNA(VLOOKUP(Q856, 'Allocation Change Graph'!BF$7:BG$20, 2, FALSE), 0), 0)","v":0},0.85,12.75,null,null,15,null,null,null,10,10,10,1,1,6,8,7,8,7,null,null,null,null,null,1,10]
[null,null,"University Wide","La Jolla Campus","West Campus","Theater District Living & Learning","TDLLN","TDLLN","L1","UC Vehicle",null,null,"Yes","Yes",null,"TDLLN","TDLLNUC Vehicle",{"$f":"COUNTIF(Q$5:Q857, Q857 )","v":1},{"$f":"_xlfn.IFS(D$2=X$4, X857, D$2=Y$4, Y857,D$2=Z$4, Z857,D$2=AA$4, AA857)","v":0},0,{"$f":"IF(R857=1, _xlfn.IFNA(VLOOKUP(Q857, 'Allocation Change Graph'!BF$7:BG$20, 2, FALSE), 0), 0)","v":0},0.85,0,null,null,null,null,null,null,null,null,null,null,null,null,null,null,null,null,null,null,null,null,null,0,0]
[null,null,"University Wide","La Jolla Campus","West Campus","Theater District Living & Learning","TDLLN","TDLLN","L1","Visitor",null,null,"Yes","Yes","Yes","TDLLN","TDLLNVisitor",{"$f":"COUNTIF(Q$5:Q858, Q858 )","v":1},{"$f":"_xlfn.IFS(D$2=X$4, X858, D$2=Y$4, Y858,D$2=Z$4, Z858,D$2=AA$4, AA858)","v":132},156,{"$f":"IF(R858=1, _xlfn.IFNA(VLOOKUP(Q858, 'Allocation Change Graph'!BF$7:BG$20, 2, FALSE), 0), 0)","v":0},0.85,132.6,null,null,132,null,null,null,122,127,125,115,66,39,48,33,41,46,null,null,null,null,null,33,127]
[null,null,"University Wide","La Jolla Campus","West Campus","Theater District Living & Learning","TDLLN","TDLLN","L1","Visitor",null,null,"Yes","Yes",null,"TDLLN","TDLLNVisitor",{"$f":"COUNTIF(Q$5:Q859, Q859 )","v":2},{"$f":"_xlfn.IFS(D$2=X$4, X859, D$2=Y$4, Y859,D$2=Z$4, Z859,D$2=AA$4, AA859)","v":0},"",{"$f":"IF(R859=1, _xlfn.IFNA(VLOOKUP(Q859, 'Allocation Change Graph'!BF$7:BG$20, 2, FALSE), 0), 0)","v":0},null,"",null,null,null,null,null,null,null,null,null,null,null,null,null,null,null,null,null,null,null,null,null,0,0]
[null,null,"University Wide","La Jolla Campus","West Campus","Theater District Living & Learning","TDLLN","TDLLN","L2","A",null,null,"Yes","Yes","Yes","TDLLN","TDLLNA",{"$f":"COUNTIF(Q$5:Q860, Q860 )","v":1},{"$f":"_xlfn.IFS(D$2=X$4, X860, D$2=Y$4, Y860,D$2=Z$4, Z860,D$2=AA$4, AA860)","v":134},182,{"$f":"IF(R860=1, _xlfn.IFNA(VLOOKUP(Q860, 'Allocation Change Graph'!BF$7:BG$20, 2, FALSE), 0), 0)","v":0},0.9,163.80000000000001,null,null,{"$f":"84+28+22","v":134},null,null,null,144,101,70,78,83,96,94,117,130,156,null,null,null,null,null,70,156]
[null,null,"University Wide","La Jolla Campus","West Campus","Theater District Living & Learning","TDLLN","TDLLN","L2","Accessible",null,null,"Yes",null,null,"TDLLN","TDLLNAccessible",{"$f":"COUNTIF(Q$5:Q861, Q861 )","v":2},{"$f":"_xlfn.IFS(D$2=X$4, X861, D$2=Y$4, Y861,D$2=Z$4, Z861,D$2=AA$4, AA861)","v":0},"",{"$f":"IF(R861=1, _xlfn.IFNA(VLOOKUP(Q861, 'Allocation Change Graph'!BF$7:BG$20, 2, FALSE), 0), 0)","v":0},null,"",null,null,null,null,null,null,null,null,null,null,null,null,null,null,null,null,null,null,null,null,null,0,0]
[null,null,"University Wide","La Jolla Campus","West Campus","Theater District Living & Learning","TDLLN","TDLLN","L2","Accessible (Van)",null,null,"Yes",null,null,"TDLLN","TDLLNAccessible (Van)",{"$f":"COUNTIF(Q$5:Q862, Q862 )","v":2},{"$f":"_xlfn.IFS(D$2=X$4, X862, D$2=Y$4, Y862,D$2=Z$4, Z862,D$2=AA$4, AA862)","v":0},"",{"$f":"IF(R862=1, _xlfn.IFNA(VLOOKUP(Q862, 'Allocation Change Graph'!BF$7:BG$20, 2, FALSE), 0), 0)","v":0},null,"",null,null,null,null,null,null,null,null,null,null,null,null,null,null,null,null,null,null,null,null,null,0,0]
[null,null,"University Wide","La Jolla Campus","West Campus","Theater District Living & Learning","TDLLN","TDLLN","L2","B",null,null,"Yes",null,null,"TDLLN","TDLLNB",{"$f":"COUNTIF(Q$5:Q863, Q863 )","v":2},{"$f":"_xlfn.IFS(D$2=X$4, X863, D$2=Y$4, Y863,D$2=Z$4, Z863,D$2=AA$4, AA863)","v":0},"",{"$f":"IF(R863=1, _xlfn.IFNA(VLOOKUP(Q863, 'Allocation Change Graph'!BF$7:BG$20, 2, FALSE), 0), 0)","v":0},null,"",null,null,null,null,null,null,null,null,null,null,null,null,null,null,null,null,null,null,null,null,null,0,0]
[null,null,"University Wide","La Jolla Campus","West Campus","Theater District Living & Learning","TDLLN","TDLLN","L2","Carpool",null,null,"Yes",null,null,"TDLLN","TDLLNCarpool",{"$f":"COUNTIF(Q$5:Q864, Q864 )","v":2},{"$f":"_xlfn.IFS(D$2=X$4, X864, D$2=Y$4, Y864,D$2=Z$4, Z864,D$2=AA$4, AA864)","v":87},"",{"$f":"IF(R864=1, _xlfn.IFNA(VLOOKUP(Q864, 'Allocation Change Graph'!BF$7:BG$20, 2, FALSE), 0), 0)","v":0},null,"",null,null,{"$f":"81-22-28+21+35","v":87},null,null,null,null,null,null,null,null,null,null,null,null,null,null,null,null,null,null,0,0]
[null,null,"University Wide","La Jolla Campus","West Campus","Theater District Living & Learning","TDLLN","TDLLN","L2","Electric Vehicle","ADA",null,"Yes",null,null,"TDLLN","TDLLNElectric VehicleADA",{"$f":"COUNTIF(Q$5:Q865, Q865 )","v":2},{"$f":"_xlfn.IFS(D$2=X$4, X865, D$2=Y$4, Y865,D$2=Z$4, Z865,D$2=AA$4, AA865)","v":0},"",{"$f":"IF(R865=1, _xlfn.IFNA(VLOOKUP(Q865, 'Allocation Change Graph'!BF$7:BG$20, 2, FALSE), 0), 0)","v":0},null,"",null,null,null,null,null,null,null,null,null,null,null,null,null,null,null,null,null,null,null,null,null,0,0]
[null,null,"University Wide","La Jolla Campus","West Campus","Theater District Living & Learning","TDLLN","TDLLN","L2","Electric Vehicle",null,null,"Yes",null,null,"TDLLN","TDLLNElectric Vehicle",{"$f":"COUNTIF(Q$5:Q866, Q866 )","v":2},{"$f":"_xlfn.IFS(D$2=X$4, X866, D$2=Y$4, Y866,D$2=Z$4, Z866,D$2=AA$4, AA866)","v":58},"",{"$f":"IF(R866=1, _xlfn.IFNA(VLOOKUP(Q866, 'Allocation Change Graph'!BF$7:BG$20, 2, FALSE), 0), 0)","v":0},null,"",null,null,58,null,null,null,null,null,null,null,null,null,null,null,null,null,null,null,null,null,null,0,0]
[null,null,"University Wide","La Jolla Campus","West Campus","Theater District Living & Learning","TDLLN","TDLLN","L2","Motorcycle Section",null,null,"Yes",null,null,"TDLLN","TDLLNMotorcycle Section",{"$f":"COUNTIF(Q$5:Q867, Q867 )","v":2},{"$f":"_xlfn.IFS(D$2=X$4, X867, D$2=Y$4, Y867,D$2=Z$4, Z867,D$2=AA$4, AA867)","v":0},"",{"$f":"IF(R867=1, _xlfn.IFNA(VLOOKUP(Q867, 'Allocation Change Graph'!BF$7:BG$20, 2, FALSE), 0), 0)","v":0},null,"",null,null,null,null,null,null,null,null,null,null,null,null,null,null,null,null,null,null,null,null,null,0,0]
[null,null,"University Wide","La Jolla Campus","West Campus","Theater District Living & Learning","TDLLN","TDLLN","L2","Reserved",null,null,"Yes",null,null,"TDLLN","TDLLNReserved",{"$f":"COUNTIF(Q$5:Q868, Q868 )","v":2},{"$f":"_xlfn.IFS(D$2=X$4, X868, D$2=Y$4, Y868,D$2=Z$4, Z868,D$2=AA$4, AA868)","v":0},"",{"$f":"IF(R868=1, _xlfn.IFNA(VLOOKUP(Q868, 'Allocation Change Graph'!BF$7:BG$20, 2, FALSE), 0), 0)","v":0},null,"",null,null,null,null,null,null,null,null,null,null,null,null,null,null,null,null,null,null,null,null,null,0,0]
[null,null,"University Wide","La Jolla Campus","West Campus","Theater District Living & Learning","TDLLN","TDLLN","L2","Service Yard",null,null,"Yes",null,null,"TDLLN","TDLLNService Yard",{"$f":"COUNTIF(Q$5:Q869, Q869 )","v":2},{"$f":"_xlfn.IFS(D$2=X$4, X869, D$2=Y$4, Y869,D$2=Z$4, Z869,D$2=AA$4, AA869)","v":0},"",{"$f":"IF(R869=1, _xlfn.IFNA(VLOOKUP(Q869, 'Allocation Change Graph'!BF$7:BG$20, 2, FALSE), 0), 0)","v":0},null,"",null,null,null,null,null,null,null,null,null,null,null,null,null,null,null,null,null,null,null,null,null,0,0]
[null,null,"University Wide","La Jolla Campus","West Campus","Theater District Living & Learning","TDLLN","TDLLN","L2","SR",null,null,"Yes",null,null,"TDLLN","TDLLNSR",{"$f":"COUNTIF(Q$5:Q870, Q870 )","v":2},{"$f":"_xlfn.IFS(D$2=X$4, X870, D$2=Y$4, Y870,D$2=Z$4, Z870,D$2=AA$4, AA870)","v":0},"",{"$f":"IF(R870=1, _xlfn.IFNA(VLOOKUP(Q870, 'Allocation Change Graph'!BF$7:BG$20, 2, FALSE), 0), 0)","v":0},null,"",null,null,null,null,null,null,null,null,null,null,null,null,null,null,null,null,null,null,null,null,null,0,0]
[null,null,"University Wide","La Jolla Campus","West Campus","Theater District Living & Learning","TDLLN","TDLLN","L2","UC Cart",null,null,"Yes",null,null,"TDLLN","TDLLNUC Cart",{"$f":"COUNTIF(Q$5:Q871, Q871 )","v":2},{"$f":"_xlfn.IFS(D$2=X$4, X871, D$2=Y$4, Y871,D$2=Z$4, Z871,D$2=AA$4, AA871)","v":0},"",{"$f":"IF(R871=1, _xlfn.IFNA(VLOOKUP(Q871, 'Allocation Change Graph'!BF$7:BG$20, 2, FALSE), 0), 0)","v":0},null,"",null,null,null,null,null,null,null,null,null,null,null,null,null,null,null,null,null,null,null,null,null,0,0]
[null,null,"University Wide","La Jolla Campus","West Campus","Theater District Living & Learning","TDLLN","TDLLN","L2","Visitor",null,null,"Yes",null,null,"TDLLN","TDLLNVisitor",{"$f":"COUNTIF(Q$5:Q872, Q872 )","v":3},{"$f":"_xlfn.IFS(D$2=X$4, X872, D$2=Y$4, Y872,D$2=Z$4, Z872,D$2=AA$4, AA872)","v":24},"",{"$f":"IF(R872=1, _xlfn.IFNA(VLOOKUP(Q872, 'Allocation Change Graph'!BF$7:BG$20, 2, FALSE), 0), 0)","v":0},null,"",null,null,{"$f":"80-21-35","v":24},null,null,null,null,null,null,null,null,null,null,null,null,null,null,null,null,null,null,0,0]
[null,null,"University Wide","La Jolla Campus","West Campus","Theater District Living & Learning","TDLLN","TDLLN","L3","A",null,null,"Yes",null,null,"TDLLN","TDLLNA",{"$f":"COUNTIF(Q$5:Q873, Q873 )","v":2},{"$f":"_xlfn.IFS(D$2=X$4, X873, D$2=Y$4, Y873,D$2=Z$4, Z873,D$2=AA$4, AA873)","v":48},"",{"$f":"IF(R873=1, _xlfn.IFNA(VLOOKUP(Q873, 'Allocation Change Graph'!BF$7:BG$20, 2, FALSE), 0), 0)","v":0},null,"",null,null,{"$f":"138-90","v":48},null,null,null,null,null,null,null,null,null,null,null,null,null,null,null,null,null,null,0,0]
[null,null,"University Wide","La Jolla Campus","West Campus","Theater District Living & Learning","TDLLN","TDLLN","L3","Accessible",null,null,"Yes",null,null,"TDLLN","TDLLNAccessible",{"$f":"COUNTIF(Q$5:Q874, Q874 )","v":3},{"$f":"_xlfn.IFS(D$2=X$4, X874, D$2=Y$4, Y874,D$2=Z$4, Z874,D$2=AA$4, AA874)","v":0},"",{"$f":"IF(R874=1, _xlfn.IFNA(VLOOKUP(Q874, 'Allocation Change Graph'!BF$7:BG$20, 2, FALSE), 0), 0)","v":0},null,"",null,null,null,null,null,null,null,null,null,null,null,null,null,null,null,null,null,null,null,null,null,0,0]
[null,null,"University Wide","La Jolla Campus","West Campus","Theater District Living & Learning","TDLLN","TDLLN","L3","Accessible (Van)",null,null,"Yes",null,null,"TDLLN","TDLLNAccessible (Van)",{"$f":"COUNTIF(Q$5:Q875, Q875 )","v":3},{"$f":"_xlfn.IFS(D$2=X$4, X875, D$2=Y$4, Y875,D$2=Z$4, Z875,D$2=AA$4, AA875)","v":0},"",{"$f":"IF(R875=1, _xlfn.IFNA(VLOOKUP(Q875, 'Allocation Change Graph'!BF$7:BG$20, 2, FALSE), 0), 0)","v":0},null,"",null,null,null,null,null,null,null,null,null,null,null,null,null,null,null,null,null,null,null,null,null,0,0]
[null,null,"University Wide","La Jolla Campus","West Campus","Theater District Living & Learning","TDLLN","TDLLN","L3","B",null,null,"Yes",null,null,"TDLLN","TDLLNB",{"$f":"COUNTIF(Q$5:Q876, Q876 )","v":3},{"$f":"_xlfn.IFS(D$2=X$4, X876, D$2=Y$4, Y876,D$2=Z$4, Z876,D$2=AA$4, AA876)","v":197},"",{"$f":"IF(R876=1, _xlfn.IFNA(VLOOKUP(Q876, 'Allocation Change Graph'!BF$7:BG$20, 2, FALSE), 0), 0)","v":0},null,"",null,null,{"$f":"107+90","v":197},null,null,null,null,null,null,null,null,null,null,null,null,null,null,null,null,null,null,0,0]
[null,null,"University Wide","La Jolla Campus","West Campus","Theater District Living & Learning","TDLLN","TDLLN","L3","Carpool",null,null,"Yes",null,null,"TDLLN","TDLLNCarpool",{"$f":"COUNTIF(Q$5:Q877, Q877 )","v":3},{"$f":"_xlfn.IFS(D$2=X$4, X877, D$2=Y$4, Y877,D$2=Z$4, Z877,D$2=AA$4, AA877)","v":0},"",{"$f":"IF(R877=1, _xlfn.IFNA(VLOOKUP(Q877, 'Allocation Change Graph'!BF$7:BG$20, 2, FALSE), 0), 0)","v":0},null,"",null,null,null,null,null,null,null,null,null,null,null,null,null,null,null,null,null,null,null,null,null,0,0]
[null,null,"University Wide","La Jolla Campus","West Campus","Theater District Living & Learning","TDLLN","TDLLN","L3","Electric Vehicle","ADA",null,"Yes",null,null,"TDLLN","TDLLNElectric VehicleADA",{"$f":"COUNTIF(Q$5:Q878, Q878 )","v":3},{"$f":"_xlfn.IFS(D$2=X$4, X878, D$2=Y$4, Y878,D$2=Z$4, Z878,D$2=AA$4, AA878)","v":0},"",{"$f":"IF(R878=1, _xlfn.IFNA(VLOOKUP(Q878, 'Allocation Change Graph'!BF$7:BG$20, 2, FALSE), 0), 0)","v":0},null,"",null,null,null,null,null,null,null,null,null,null,null,null,null,null,null,null,null,null,null,null,null,0,0]
[null,null,"University Wide","La Jolla Campus","West Campus","Theater District Living & Learning","TDLLN","TDLLN","L3","Electric Vehicle",null,null,"Yes",null,null,"TDLLN","TDLLNElectric Vehicle",{"$f":"COUNTIF(Q$5:Q879, Q879 )","v":3},{"$f":"_xlfn.IFS(D$2=X$4, X879, D$2=Y$4, Y879,D$2=Z$4, Z879,D$2=AA$4, AA879)","v":0},"",{"$f":"IF(R879=1, _xlfn.IFNA(VLOOKUP(Q879, 'Allocation Change Graph'!BF$7:BG$20, 2, FALSE), 0), 0)","v":0},null,"",null,null,null,null,null,null,null,null,null,null,null,null,null,null,null,null,null,null,null,null,null,0,0]
[null,null,"University Wide","La Jolla Campus","West Campus","Theater District Living & Learning","TDLLN","TDLLN","L3","Motorcycle Section",null,null,"Yes",null,null,"TDLLN","TDLLNMotorcycle Section",{"$f":"COUNTIF(Q$5:Q880, Q880 )","v":3},{"$f":"_xlfn.IFS(D$2=X$4, X880, D$2=Y$4, Y880,D$2=Z$4, Z880,D$2=AA$4, AA880)","v":0},"",{"$f":"IF(R880=1, _xlfn.IFNA(VLOOKUP(Q880, 'Allocation Change Graph'!BF$7:BG$20, 2, FALSE), 0), 0)","v":0},null,"",null,null,null,null,null,null,null,null,null,null,null,null,null,null,null,null,null,null,null,null,null,0,0]
[null,null,"University Wide","La Jolla Campus","West Campus","Theater District Living & Learning","TDLLN","TDLLN","L3","Reserved",null,null,"Yes",null,null,"TDLLN","TDLLNReserved",{"$f":"COUNTIF(Q$5:Q881, Q881 )","v":3},{"$f":"_xlfn.IFS(D$2=X$4, X881, D$2=Y$4, Y881,D$2=Z$4, Z881,D$2=AA$4, AA881)","v":0},"",{"$f":"IF(R881=1, _xlfn.IFNA(VLOOKUP(Q881, 'Allocation Change Graph'!BF$7:BG$20, 2, FALSE), 0), 0)","v":0},null,"",null,null,null,null,null,null,null,null,null,null,null,null,null,null,null,null,null,null,null,null,null,0,0]
[null,null,"University Wide","La Jolla Campus","West Campus","Theater District Living & Learning","TDLLN","TDLLN","L3","Service Yard",null,null,"Yes",null,null,"TDLLN","TDLLNService Yard",{"$f":"COUNTIF(Q$5:Q882, Q882 )","v":3},{"$f":"_xlfn.IFS(D$2=X$4, X882, D$2=Y$4, Y882,D$2=Z$4, Z882,D$2=AA$4, AA882)","v":0},"",{"$f":"IF(R882=1, _xlfn.IFNA(VLOOKUP(Q882, 'Allocation Change Graph'!BF$7:BG$20, 2, FALSE), 0), 0)","v":0},null,"",null,null,null,null,null,null,null,null,null,null,null,null,null,null,null,null,null,null,null,null,null,0,0]
[null,null,"University Wide","La Jolla Campus","West Campus","Theater District Living & Learning","TDLLN","TDLLN","L3","SR",null,null,"Yes",null,null,"TDLLN","TDLLNSR",{"$f":"COUNTIF(Q$5:Q883, Q883 )","v":3},{"$f":"_xlfn.IFS(D$2=X$4, X883, D$2=Y$4, Y883,D$2=Z$4, Z883,D$2=AA$4, AA883)","v":0},"",{"$f":"IF(R883=1, _xlfn.IFNA(VLOOKUP(Q883, 'Allocation Change Graph'!BF$7:BG$20, 2, FALSE), 0), 0)","v":0},null,"",null,null,null,null,null,null,null,null,null,null,null,null,null,null,null,null,null,null,null,null,null,0,0]
[null,null,"University Wide","La Jolla Campus","West Campus","Theater District Living & Learning","TDLLN","TDLLN","L3","UC Cart",null,null,"Yes",null,null,"TDLLN","TDLLNUC Cart",{"$f":"COUNTIF(Q$5:Q884, Q884 )","v":3},{"$f":"_xlfn.IFS(D$2=X$4, X884, D$2=Y$4, Y884,D$2=Z$4, Z884,D$2=AA$4, AA884)","v":0},"",{"$f":"IF(R884=1, _xlfn.IFNA(VLOOKUP(Q884, 'Allocation Change Graph'!BF$7:BG$20, 2, FALSE), 0), 0)","v":0},null,"",null,null,null,null,null,null,null,null,null,null,null,null,null,null,null,null,null,null,null,null,null,0,0]
[null,null,"University Wide","La Jolla Campus","West Campus","Theater District Living & Learning","TDLLN","TDLLN","L3","UC Vehicle",null,null,"Yes","Yes",null,"TDLLN","TDLLNUC Vehicle",{"$f":"COUNTIF(Q$5:Q885, Q885 )","v":2},{"$f":"_xlfn.IFS(D$2=X$4, X885, D$2=Y$4, Y885,D$2=Z$4, Z885,D$2=AA$4, AA885)","v":0},"",{"$f":"IF(R885=1, _xlfn.IFNA(VLOOKUP(Q885, 'Allocation Change Graph'!BF$7:BG$20, 2, FALSE), 0), 0)","v":0},null,"",null,null,null,null,null,null,null,null,null,null,null,null,null,null,null,null,null,null,null,null,null,0,0]
[null,null,"University Wide","La Jolla Campus","West Campus","Theater District Living & Learning","TDLLN","TDLLN","L3","Visitor",null,null,"Yes",null,null,"TDLLN","TDLLNVisitor",{"$f":"COUNTIF(Q$5:Q886, Q886 )","v":4},{"$f":"_xlfn.IFS(D$2=X$4, X886, D$2=Y$4, Y886,D$2=Z$4, Z886,D$2=AA$4, AA886)","v":0},"",{"$f":"IF(R886=1, _xlfn.IFNA(VLOOKUP(Q886, 'Allocation Change Graph'!BF$7:BG$20, 2, FALSE), 0), 0)","v":0},null,"",null,null,null,null,null,null,null,null,null,null,null,null,null,null,null,null,null,null,null,null,null,0,0]
[null,null,"University Wide","La Jolla Campus","West Campus","Theater District Living & Learning","TDLLN","TDLLN","L4","A",null,null,"Yes",null,null,"TDLLN","TDLLNA",{"$f":"COUNTIF(Q$5:Q887, Q887 )","v":3},{"$f":"_xlfn.IFS(D$2=X$4, X887, D$2=Y$4, Y887,D$2=Z$4, Z887,D$2=AA$4, AA887)","v":0},"",{"$f":"IF(R887=1, _xlfn.IFNA(VLOOKUP(Q887, 'Allocation Change Graph'!BF$7:BG$20, 2, FALSE), 0), 0)","v":0},null,"",null,null,null,null,null,null,null,null,null,null,null,null,null,null,null,null,null,null,null,null,null,0,0]
[null,null,"University Wide","La Jolla Campus","West Campus","Theater District Living & Learning","TDLLN","TDLLN","L4","Accessible",null,null,"Yes",null,null,"TDLLN","TDLLNAccessible",{"$f":"COUNTIF(Q$5:Q888, Q888 )","v":4},{"$f":"_xlfn.IFS(D$2=X$4, X888, D$2=Y$4, Y888,D$2=Z$4, Z888,D$2=AA$4, AA888)","v":0},"",{"$f":"IF(R888=1, _xlfn.IFNA(VLOOKUP(Q888, 'Allocation Change Graph'!BF$7:BG$20, 2, FALSE), 0), 0)","v":0},null,"",null,null,null,null,null,null,null,null,null,null,null,null,null,null,null,null,null,null,null,null,null,0,0]
[null,null,"University Wide","La Jolla Campus","West Campus","Theater District Living & Learning","TDLLN","TDLLN","L4","Accessible (Van)",null,null,"Yes",null,null,"TDLLN","TDLLNAccessible (Van)",{"$f":"COUNTIF(Q$5:Q889, Q889 )","v":4},{"$f":"_xlfn.IFS(D$2=X$4, X889, D$2=Y$4, Y889,D$2=Z$4, Z889,D$2=AA$4, AA889)","v":0},"",{"$f":"IF(R889=1, _xlfn.IFNA(VLOOKUP(Q889, 'Allocation Change Graph'!BF$7:BG$20, 2, FALSE), 0), 0)","v":0},null,"",null,null,null,null,null,null,null,null,null,null,null,null,null,null,null,null,null,null,null,null,null,0,0]
[null,null,"University Wide","La Jolla Campus","West Campus","Theater District Living & Learning","TDLLN","TDLLN","L4","B",null,null,"Yes",null,null,"TDLLN","TDLLNB",{"$f":"COUNTIF(Q$5:Q890, Q890 )","v":4},{"$f":"_xlfn.IFS(D$2=X$4, X890, D$2=Y$4, Y890,D$2=Z$4, Z890,D$2=AA$4, AA890)","v":196},"",{"$f":"IF(R890=1, _xlfn.IFNA(VLOOKUP(Q890, 'Allocation Change Graph'!BF$7:BG$20, 2, FALSE), 0), 0)","v":0},null,"",null,null,{"$f":"237-12-29","v":196},null,null,null,null,null,null,null,null,null,null,null,null,null,null,null,null,null,null,0,0]
[null,null,"University Wide","La Jolla Campus","West Campus","Theater District Living & Learning","TDLLN","TDLLN","L4","Carpool",null,null,"Yes",null,null,"TDLLN","TDLLNCarpool",{"$f":"COUNTIF(Q$5:Q891, Q891 )","v":4},{"$f":"_xlfn.IFS(D$2=X$4, X891, D$2=Y$4, Y891,D$2=Z$4, Z891,D$2=AA$4, AA891)","v":0},"",{"$f":"IF(R891=1, _xlfn.IFNA(VLOOKUP(Q891, 'Allocation Change Graph'!BF$7:BG$20, 2, FALSE), 0), 0)","v":0},null,"",null,null,null,null,null,null,null,null,null,null,null,null,null,null,null,null,null,null,null,null,null,0,0]
[null,null,"University Wide","La Jolla Campus","West Campus","Theater District Living & Learning","TDLLN","TDLLN","L4","Electric Vehicle","ADA",null,"Yes",null,null,"TDLLN","TDLLNElectric VehicleADA",{"$f":"COUNTIF(Q$5:Q892, Q892 )","v":4},{"$f":"_xlfn.IFS(D$2=X$4, X892, D$2=Y$4, Y892,D$2=Z$4, Z892,D$2=AA$4, AA892)","v":0},"",{"$f":"IF(R892=1, _xlfn.IFNA(VLOOKUP(Q892, 'Allocation Change Graph'!BF$7:BG$20, 2, FALSE), 0), 0)","v":0},null,"",null,null,null,null,null,null,null,null,null,null,null,null,null,null,null,null,null,null,null,null,null,0,0]
[null,null,"University Wide","La Jolla Campus","West Campus","Theater District Living & Learning","TDLLN","TDLLN","L4","Electric Vehicle",null,null,"Yes",null,null,"TDLLN","TDLLNElectric Vehicle",{"$f":"COUNTIF(Q$5:Q893, Q893 )","v":4},{"$f":"_xlfn.IFS(D$2=X$4, X893, D$2=Y$4, Y893,D$2=Z$4, Z893,D$2=AA$4, AA893)","v":0},"",{"$f":"IF(R893=1, _xlfn.IFNA(VLOOKUP(Q893, 'Allocation Change Graph'!BF$7:BG$20, 2, FALSE), 0), 0)","v":0},null,"",null,null,null,null,null,null,null,null,null,null,null,null,null,null,null,null,null,null,null,null,null,0,0]
[null,null,"University Wide","La Jolla Campus","West Campus","Theater District Living & Learning","TDLLN","TDLLN","L4","Motorcycle Section",null,null,"Yes",null,null,"TDLLN","TDLLNMotorcycle Section",{"$f":"COUNTIF(Q$5:Q894, Q894 )","v":4},{"$f":"_xlfn.IFS(D$2=X$4, X894, D$2=Y$4, Y894,D$2=Z$4, Z894,D$2=AA$4, AA894)","v":0},"",{"$f":"IF(R894=1, _xlfn.IFNA(VLOOKUP(Q894, 'Allocation Change Graph'!BF$7:BG$20, 2, FALSE), 0), 0)","v":0},null,"",null,null,null,null,null,null,null,null,null,null,null,null,null,null,null,null,null,null,null,null,null,0,0]
[null,null,"University Wide","La Jolla Campus","West Campus","Theater District Living & Learning","TDLLN","TDLLN","L4","Reserved",null,null,"Yes",null,null,"TDLLN","TDLLNReserved",{"$f":"COUNTIF(Q$5:Q895, Q895 )","v":4},{"$f":"_xlfn.IFS(D$2=X$4, X895, D$2=Y$4, Y895,D$2=Z$4, Z895,D$2=AA$4, AA895)","v":0},"",{"$f":"IF(R895=1, _xlfn.IFNA(VLOOKUP(Q895, 'Allocation Change Graph'!BF$7:BG$20, 2, FALSE), 0), 0)","v":0},null,"",null,null,null,null,null,null,null,null,null,null,null,null,null,null,null,null,null,null,null,null,null,0,0]
[null,null,"University Wide","La Jolla Campus","West Campus","Theater District Living & Learning","TDLLN","TDLLN","L4","Service Yard",null,null,"Yes",null,null,"TDLLN","TDLLNService Yard",{"$f":"COUNTIF(Q$5:Q896, Q896 )","v":4},{"$f":"_xlfn.IFS(D$2=X$4, X896, D$2=Y$4, Y896,D$2=Z$4, Z896,D$2=AA$4, AA896)","v":0},"",{"$f":"IF(R896=1, _xlfn.IFNA(VLOOKUP(Q896, 'Allocation Change Graph'!BF$7:BG$20, 2, FALSE), 0), 0)","v":0},null,"",null,null,null,null,null,null,null,null,null,null,null,null,null,null,null,null,null,null,null,null,null,0,0]
[null,null,"University Wide","La Jolla Campus","West Campus","Theater District Living & Learning","TDLLN","TDLLN","L4","SR",null,null,"Yes",null,null,"TDLLN","TDLLNSR",{"$f":"COUNTIF(Q$5:Q897, Q897 )","v":4},{"$f":"_xlfn.IFS(D$2=X$4, X897, D$2=Y$4, Y897,D$2=Z$4, Z897,D$2=AA$4, AA897)","v":91},"",{"$f":"IF(R897=1, _xlfn.IFNA(VLOOKUP(Q897, 'Allocation Change Graph'!BF$7:BG$20, 2, FALSE), 0), 0)","v":0},null,"",null,null,{"$f":"50+12+29","v":91},null,null,null,null,null,null,null,null,null,null,null,null,null,null,null,null,null,null,0,0]
[null,null,"University Wide","La Jolla Campus","West Campus","Theater District Living & Learning","TDLLN","TDLLN","L4","UC Cart",null,null,"Yes",null,null,"TDLLN","TDLLNUC Cart",{"$f":"COUNTIF(Q$5:Q898, Q898 )","v":4},{"$f":"_xlfn.IFS(D$2=X$4, X898, D$2=Y$4, Y898,D$2=Z$4, Z898,D$2=AA$4, AA898)","v":0},"",{"$f":"IF(R898=1, _xlfn.IFNA(VLOOKUP(Q898, 'Allocation Change Graph'!BF$7:BG$20, 2, FALSE), 0), 0)","v":0},null,"",null,null,null,null,null,null,null,null,null,null,null,null,null,null,null,null,null,null,null,null,null,0,0]
[null,null,"University Wide","La Jolla Campus","West Campus","Theater District Living & Learning","TDLLN","TDLLN","L4","UC Vehicle",null,null,"Yes",null,null,"TDLLN","TDLLNUC Vehicle",{"$f":"COUNTIF(Q$5:Q899, Q899 )","v":3},{"$f":"_xlfn.IFS(D$2=X$4, X899, D$2=Y$4, Y899,D$2=Z$4, Z899,D$2=AA$4, AA899)","v":0},"",{"$f":"IF(R899=1, _xlfn.IFNA(VLOOKUP(Q899, 'Allocation Change Graph'!BF$7:BG$20, 2, FALSE), 0), 0)","v":0},null,"",null,null,null,null,null,null,null,null,null,null,null,null,null,null,null,null,null,null,null,null,null,0,0]
[null,null,"University Wide","La Jolla Campus","West Campus","Theater District Living & Learning","TDLLN","TDLLN","L4","Visitor",null,null,"Yes",null,null,"TDLLN","TDLLNVisitor",{"$f":"COUNTIF(Q$5:Q900, Q900 )","v":5},{"$f":"_xlfn.IFS(D$2=X$4, X900, D$2=Y$4, Y900,D$2=Z$4, Z900,D$2=AA$4, AA900)","v":0},"",{"$f":"IF(R900=1, _xlfn.IFNA(VLOOKUP(Q900, 'Allocation Change Graph'!BF$7:BG$20, 2, FALSE), 0), 0)","v":0},null,"",null,null,null,null,null,null,null,null,null,null,null,null,null,null,null,null,null,null,null,null,null,0,0]
[null,null,"University Wide","La Jolla Campus","West Campus","Torrey Pines Center","Torrey Pines Center North","P391","-","Accessible",null,null,"Yes","Yes",null,{"$f":"IF(G901=\"Surface Lot\", H901, G901)","v":"Torrey Pines Center North"},{"$f":"P901&J901&K901&L901","v":"Torrey Pines Center NorthAccessible"},{"$f":"COUNTIF(Q$5:Q901, Q901 )","v":1},{"$f":"_xlfn.IFS(D$2=X$4, X901, D$2=Y$4, Y901,D$2=Z$4, Z901,D$2=AA$4, AA901)","v":1},{"$f":"IF(R901=1,SUMIF(Q:Q,Q901,S:S)+U901, \"\")","v":3},{"$f":"IF(R901=1, _xlfn.IFNA(VLOOKUP(Q901, 'Allocation Change Graph'!BF$7:BG$20, 2, FALSE), 0), 0)","v":0},0.85,{"$f":"IF(R901=1, V901*T901, \"\")","v":2.5499999999999998},null,null,1,null,null,null,3,3,3,3,3,2,3,2,3,3,null,null,null,null,null,{"$f":"MIN($AB901:$AR901)+U901","v":2},{"$f":"MAX($AB901:$AR901)+U901","v":3}]
[null,null,"University Wide","La Jolla Campus","West Campus","Torrey Pines Center","Torrey Pines Center North","P391","-","Accessible (Van)",null,null,"Yes","Yes",null,"Torrey Pines Center North","Torrey Pines Center NorthAccessible (Van)",{"$f":"COUNTIF(Q$5:Q902, Q902 )","v":1},{"$f":"_xlfn.IFS(D$2=X$4, X902, D$2=Y$4, Y902,D$2=Z$4, Z902,D$2=AA$4, AA902)","v":2},2,{"$f":"IF(R902=1, _xlfn.IFNA(VLOOKUP(Q902, 'Allocation Change Graph'!BF$7:BG$20, 2, FALSE), 0), 0)","v":0},0.85,1.7,null,null,2,null,null,null,2,2,2,2,2,2,2,2,1,2,null,null,null,null,null,1,2]
[null,null,"University Wide","La Jolla Campus","West Campus","Torrey Pines Center","Torrey Pines Center North","P391","-","B","Oversized",null,"Yes","Yes","Yes","Torrey Pines Center North","Torrey Pines Center NorthBOversized",{"$f":"COUNTIF(Q$5:Q903, Q903 )","v":1},{"$f":"_xlfn.IFS(D$2=X$4, X903, D$2=Y$4, Y903,D$2=Z$4, Z903,D$2=AA$4, AA903)","v":5},5,{"$f":"IF(R903=1, _xlfn.IFNA(VLOOKUP(Q903, 'Allocation Change Graph'!BF$7:BG$20, 2, FALSE), 0), 0)","v":0},0.9,4.5,null,null,5,null,null,null,0,0,0,0,0,0,0,1,1,1,null,null,null,null,null,0,1]
[null,null,"University Wide","La Jolla Campus","West Campus","Torrey Pines Center","Torrey Pines Center North","P391","-","B",null,null,"Yes","Yes","Yes","Torrey Pines Center North","Torrey Pines Center NorthB",{"$f":"COUNTIF(Q$5:Q904, Q904 )","v":1},{"$f":"_xlfn.IFS(D$2=X$4, X904, D$2=Y$4, Y904,D$2=Z$4, Z904,D$2=AA$4, AA904)","v":18},183,{"$f":"IF(R904=1, _xlfn.IFNA(VLOOKUP(Q904, 'Allocation Change Graph'!BF$7:BG$20, 2, FALSE), 0), 0)","v":0},0.9,164.70000000000002,null,null,18,null,null,null,172,170,160,114,111,87,94,142,157,164,null,null,null,null,null,87,172]
[null,null,"University Wide","La Jolla Campus","West Campus","Torrey Pines Center","Torrey Pines Center North","P391","-","Loading",null,null,"Yes","Yes",null,"Torrey Pines Center North","Torrey Pines Center NorthLoading",{"$f":"COUNTIF(Q$5:Q905, Q905 )","v":1},{"$f":"_xlfn.IFS(D$2=X$4, X905, D$2=Y$4, Y905,D$2=Z$4, Z905,D$2=AA$4, AA905)","v":1},1,{"$f":"IF(R905=1, _xlfn.IFNA(VLOOKUP(Q905, 'Allocation Change Graph'!BF$7:BG$20, 2, FALSE), 0), 0)","v":0},0.85,0.85,null,null,1,null,null,null,1,1,1,1,1,1,1,1,1,1,null,null,null,null,null,1,1]
[null,null,"University Wide","La Jolla Campus","West Campus","Torrey Pines Center","Torrey Pines Center North","P391","-","Reserved",null,null,"Yes","Yes",null,"Torrey Pines Center North","Torrey Pines Center NorthReserved",{"$f":"COUNTIF(Q$5:Q906, Q906 )","v":1},{"$f":"_xlfn.IFS(D$2=X$4, X906, D$2=Y$4, Y906,D$2=Z$4, Z906,D$2=AA$4, AA906)","v":7},10,{"$f":"IF(R906=1, _xlfn.IFNA(VLOOKUP(Q906, 'Allocation Change Graph'!BF$7:BG$20, 2, FALSE), 0), 0)","v":0},0.85,8.5,null,null,7,null,null,null,1,1,1,1,1,1,1,1,1,1,null,null,null,null,null,1,1]
[null,null,"University Wide","La Jolla Campus","West Campus","Torrey Pines Center","Torrey Pines Center North","P391","-","Service Yard",null,null,"Yes","Yes",null,"Torrey Pines Center North","Torrey Pines Center NorthService Yard",{"$f":"COUNTIF(Q$5:Q907, Q907 )","v":1},{"$f":"_xlfn.IFS(D$2=X$4, X907, D$2=Y$4, Y907,D$2=Z$4, Z907,D$2=AA$4, AA907)","v":1},1,{"$f":"IF(R907=1, _xlfn.IFNA(VLOOKUP(Q907, 'Allocation Change Graph'!BF$7:BG$20, 2, FALSE), 0), 0)","v":0},0.85,0.85,null,null,1,null,null,null,1,1,1,1,1,1,1,1,1,1,null,null,null,null,null,1,1]
[null,null,"University Wide","La Jolla Campus","West Campus","Torrey Pines Center","Torrey Pines Center North","P392","-","B",null,null,"Yes",null,null,"Torrey Pines Center North","Torrey Pines Center NorthB",{"$f":"COUNTIF(Q$5:Q908, Q908 )","v":2},{"$f":"_xlfn.IFS(D$2=X$4, X908, D$2=Y$4, Y908,D$2=Z$4, Z908,D$2=AA$4, AA908)","v":80},"",{"$f":"IF(R908=1, _xlfn.IFNA(VLOOKUP(Q908, 'Allocation Change Graph'!BF$7:BG$20, 2, FALSE), 0), 0)","v":0},null,"",null,null,80,null,null,null,null,null,null,null,null,null,null,null,null,null,null,null,null,null,null,0,0]
[null,null,"University Wide","La Jolla Campus","West Campus","Torrey Pines Center","Torrey Pines Center North","P392","-","Carpool","A 3-Person",null,"Yes","Yes","Yes","Torrey Pines Center North","Torrey Pines Center NorthCarpoolA 3-Person",{"$f":"COUNTIF(Q$5:Q909, Q909 )","v":1},{"$f":"_xlfn.IFS(D$2=X$4, X909, D$2=Y$4, Y909,D$2=Z$4, Z909,D$2=AA$4, AA909)","v":1},1,{"$f":"IF(R909=1, _xlfn.IFNA(VLOOKUP(Q909, 'Allocation Change Graph'!BF$7:BG$20, 2, FALSE), 0), 0)","v":0},0.85,0.85,null,null,1,null,null,null,1,1,1,0,0,0,0,0,0,0,null,null,null,null,null,0,1]
[null,null,"University Wide","La Jolla Campus","West Campus","Torrey Pines Center","Torrey Pines Center North","P392","-","Motorcycle Section",null,null,"Yes","Yes",null,"Torrey Pines Center North","Torrey Pines Center NorthMotorcycle Section",{"$f":"COUNTIF(Q$5:Q910, Q910 )","v":1},{"$f":"_xlfn.IFS(D$2=X$4, X910, D$2=Y$4, Y910,D$2=Z$4, Z910,D$2=AA$4, AA910)","v":2},2,{"$f":"IF(R910=1, _xlfn.IFNA(VLOOKUP(Q910, 'Allocation Change Graph'!BF$7:BG$20, 2, FALSE), 0), 0)","v":0},0.85,1.7,null,null,2,null,null,null,2,1,1,1,1,1,1,2,2,2,null,null,null,null,null,1,2]
[null,null,"University Wide","La Jolla Campus","West Campus","Torrey Pines Center","Torrey Pines Center North","P393","-","B",null,null,"Yes",null,null,"Torrey Pines Center North","Torrey Pines Center NorthB",{"$f":"COUNTIF(Q$5:Q911, Q911 )","v":3},{"$f":"_xlfn.IFS(D$2=X$4, X911, D$2=Y$4, Y911,D$2=Z$4, Z911,D$2=AA$4, AA911)","v":29},"",{"$f":"IF(R911=1, _xlfn.IFNA(VLOOKUP(Q911, 'Allocation Change Graph'!BF$7:BG$20, 2, FALSE), 0), 0)","v":0},null,"",null,null,29,null,null,null,null,null,null,null,null,null,null,null,null,null,null,null,null,null,null,0,0]
[null,null,"University Wide","La Jolla Campus","West Campus","Torrey Pines Center","Torrey Pines Center North","P393","-","S",null,null,"Yes","Yes","Yes","Torrey Pines Center North","Torrey Pines Center NorthS",{"$f":"COUNTIF(Q$5:Q912, Q912 )","v":1},{"$f":"_xlfn.IFS(D$2=X$4, X912, D$2=Y$4, Y912,D$2=Z$4, Z912,D$2=AA$4, AA912)","v":5},5,{"$f":"IF(R912=1, _xlfn.IFNA(VLOOKUP(Q912, 'Allocation Change Graph'!BF$7:BG$20, 2, FALSE), 0), 0)","v":0},0.9,4.5,null,null,5,null,null,null,5,4,5,3,3,2,3,2,3,4,null,null,null,null,null,2,5]
[null,null,"University Wide","La Jolla Campus","West Campus","Torrey Pines Center","Torrey Pines Center North","P394","-","B",null,null,"Yes",null,null,"Torrey Pines Center North","Torrey Pines Center NorthB",{"$f":"COUNTIF(Q$5:Q913, Q913 )","v":4},{"$f":"_xlfn.IFS(D$2=X$4, X913, D$2=Y$4, Y913,D$2=Z$4, Z913,D$2=AA$4, AA913)","v":55},"",{"$f":"IF(R913=1, _xlfn.IFNA(VLOOKUP(Q913, 'Allocation Change Graph'!BF$7:BG$20, 2, FALSE), 0), 0)","v":0},null,"",null,null,55,null,null,null,null,null,null,null,null,null,null,null,null,null,null,null,null,null,null,0,0]
[null,null,"University Wide","La Jolla Campus","West Campus","Torrey Pines Center","Torrey Pines Center North","P395","-","Accessible",null,null,"Yes",null,null,"Torrey Pines Center North","Torrey Pines Center NorthAccessible",{"$f":"COUNTIF(Q$5:Q914, Q914 )","v":2},{"$f":"_xlfn.IFS(D$2=X$4, X914, D$2=Y$4, Y914,D$2=Z$4, Z914,D$2=AA$4, AA914)","v":2},"",{"$f":"IF(R914=1, _xlfn.IFNA(VLOOKUP(Q914, 'Allocation Change Graph'!BF$7:BG$20, 2, FALSE), 0), 0)","v":0},null,"",null,null,2,null,null,null,null,null,null,null,null,null,null,null,null,null,null,null,null,null,null,0,0]
[null,null,"University Wide","La Jolla Campus","West Campus","Torrey Pines Center","Torrey Pines Center North","P395","-","Accessible (Van)",null,null,"Yes",null,null,"Torrey Pines Center North","Torrey Pines Center NorthAccessible (Van)",{"$f":"COUNTIF(Q$5:Q915, Q915 )","v":2},{"$f":"_xlfn.IFS(D$2=X$4, X915, D$2=Y$4, Y915,D$2=Z$4, Z915,D$2=AA$4, AA915)","v":0},"",{"$f":"IF(R915=1, _xlfn.IFNA(VLOOKUP(Q915, 'Allocation Change Graph'!BF$7:BG$20, 2, FALSE), 0), 0)","v":0},null,"",null,null,null,null,null,null,null,null,null,null,null,null,null,null,null,null,null,null,null,null,null,0,0]
[null,null,"University Wide","La Jolla Campus","West Campus","Torrey Pines Center","Torrey Pines Center North","P395","-","B",null,null,"Yes",null,null,"Torrey Pines Center North","Torrey Pines Center NorthB",{"$f":"COUNTIF(Q$5:Q916, Q916 )","v":5},{"$f":"_xlfn.IFS(D$2=X$4, X916, D$2=Y$4, Y916,D$2=Z$4, Z916,D$2=AA$4, AA916)","v":1},"",{"$f":"IF(R916=1, _xlfn.IFNA(VLOOKUP(Q916, 'Allocation Change Graph'!BF$7:BG$20, 2, FALSE), 0), 0)","v":0},null,"",null,null,1,null,null,null,null,null,null,null,null,null,null,null,null,null,null,null,null,null,null,0,0]
[null,null,"University Wide","La Jolla Campus","West Campus","Torrey Pines Center","Torrey Pines Center North","P395","-","Reserved","Vanpool",null,"Yes","Yes",null,"Torrey Pines Center North","Torrey Pines Center NorthReservedVanpool",{"$f":"COUNTIF(Q$5:Q917, Q917 )","v":1},{"$f":"_xlfn.IFS(D$2=X$4, X917, D$2=Y$4, Y917,D$2=Z$4, Z917,D$2=AA$4, AA917)","v":1},1,{"$f":"IF(R917=1, _xlfn.IFNA(VLOOKUP(Q917, 'Allocation Change Graph'!BF$7:BG$20, 2, FALSE), 0), 0)","v":0},0.85,0.85,null,null,1,null,null,null,1,1,1,1,1,0,1,1,1,1,null,null,null,null,null,0,1]
[null,null,"University Wide","La Jolla Campus","West Campus","Torrey Pines Center","Torrey Pines Center North","P395","-","Reserved",null,null,"Yes",null,null,"Torrey Pines Center North","Torrey Pines Center NorthReserved",{"$f":"COUNTIF(Q$5:Q918, Q918 )","v":2},{"$f":"_xlfn.IFS(D$2=X$4, X918, D$2=Y$4, Y918,D$2=Z$4, Z918,D$2=AA$4, AA918)","v":3},"",{"$f":"IF(R918=1, _xlfn.IFNA(VLOOKUP(Q918, 'Allocation Change Graph'!BF$7:BG$20, 2, FALSE), 0), 0)","v":0},null,"",null,null,3,null,null,null,null,null,null,null,null,null,null,null,null,null,null,null,null,null,null,0,0]
[null,null,"University Wide","La Jolla Campus","West Campus","Torrey Pines Center","Torrey Pines Center North","P395","-","Visitor",null,null,"Yes","Yes","Yes","Torrey Pines Center North","Torrey Pines Center NorthVisitor",{"$f":"COUNTIF(Q$5:Q919, Q919 )","v":1},{"$f":"_xlfn.IFS(D$2=X$4, X919, D$2=Y$4, Y919,D$2=Z$4, Z919,D$2=AA$4, AA919)","v":10},10,{"$f":"IF(R919=1, _xlfn.IFNA(VLOOKUP(Q919, 'Allocation Change Graph'!BF$7:BG$20, 2, FALSE), 0), 0)","v":0},0.85,8.5,null,null,10,null,null,null,10,9,5,6,9,8,7,10,9,10,null,null,null,null,null,5,10]
[null,null,"University Wide","La Jolla Campus","West Campus","Torrey Pines Center","Torrey Pines Center South","P381","Ground (Level 2)","Accessible",null,null,"Yes","Yes",null,"Torrey Pines Center South","Torrey Pines Center SouthAccessible",{"$f":"COUNTIF(Q$5:Q920, Q920 )","v":1},{"$f":"_xlfn.IFS(D$2=X$4, X920, D$2=Y$4, Y920,D$2=Z$4, Z920,D$2=AA$4, AA920)","v":6},16,{"$f":"IF(R920=1, _xlfn.IFNA(VLOOKUP(Q920, 'Allocation Change Graph'!BF$7:BG$20, 2, FALSE), 0), 0)","v":0},0.85,13.6,null,null,6,null,null,null,15,11,8,7,8,7,8,10,10,12,null,null,null,null,null,7,15]
[null,null,"University Wide","La Jolla Campus","West Campus","Torrey Pines Center","Torrey Pines Center South","P381","Ground (Level 2)","Accessible (Van)",null,null,"Yes","Yes",null,"Torrey Pines Center South","Torrey Pines Center SouthAccessible (Van)",{"$f":"COUNTIF(Q$5:Q921, Q921 )","v":1},{"$f":"_xlfn.IFS(D$2=X$4, X921, D$2=Y$4, Y921,D$2=Z$4, Z921,D$2=AA$4, AA921)","v":0},0,{"$f":"IF(R921=1, _xlfn.IFNA(VLOOKUP(Q921, 'Allocation Change Graph'!BF$7:BG$20, 2, FALSE), 0), 0)","v":0},0.85,0,null,null,null,null,null,null,null,null,null,null,null,null,null,null,null,null,null,null,null,null,null,0,0]
[null,null,"University Wide","La Jolla Campus","West Campus","Torrey Pines Center","Torrey Pines Center South","P381","Ground (Level 2)","B",null,null,"Yes","Yes","Yes","Torrey Pines Center South","Torrey Pines Center SouthB",{"$f":"COUNTIF(Q$5:Q922, Q922 )","v":1},{"$f":"_xlfn.IFS(D$2=X$4, X922, D$2=Y$4, Y922,D$2=Z$4, Z922,D$2=AA$4, AA922)","v":98},373,{"$f":"IF(R922=1, _xlfn.IFNA(VLOOKUP(Q922, 'Allocation Change Graph'!BF$7:BG$20, 2, FALSE), 0), 0)","v":0},0.9,335.7,null,null,98,null,null,null,268,160,129,75,77,70,80,92,102,168,null,null,null,null,null,70,268]
[null,null,"University Wide","La Jolla Campus","West Campus","Torrey Pines Center","Torrey Pines Center South","P381","Ground (Level 2)","Carpool","B 3-Person",null,"Yes","Yes","Yes","Torrey Pines Center South","Torrey Pines Center SouthCarpoolB 3-Person",{"$f":"COUNTIF(Q$5:Q923, Q923 )","v":1},{"$f":"_xlfn.IFS(D$2=X$4, X923, D$2=Y$4, Y923,D$2=Z$4, Z923,D$2=AA$4, AA923)","v":4},10,{"$f":"IF(R923=1, _xlfn.IFNA(VLOOKUP(Q923, 'Allocation Change Graph'!BF$7:BG$20, 2, FALSE), 0), 0)","v":0},0.85,8.5,null,null,4,null,null,null,8,10,10,10,10,9,9,9,10,10,null,null,null,null,null,8,10]
[null,null,"University Wide","La Jolla Campus","West Campus","Torrey Pines Center","Torrey Pines Center South","P381","Ground (Level 2)","Loading",null,"20 minutes","Yes","Yes",null,"Torrey Pines Center South","Torrey Pines Center SouthLoading20 minutes",{"$f":"COUNTIF(Q$5:Q924, Q924 )","v":1},{"$f":"_xlfn.IFS(D$2=X$4, X924, D$2=Y$4, Y924,D$2=Z$4, Z924,D$2=AA$4, AA924)","v":2},2,{"$f":"IF(R924=1, _xlfn.IFNA(VLOOKUP(Q924, 'Allocation Change Graph'!BF$7:BG$20, 2, FALSE), 0), 0)","v":0},0.85,1.7,null,null,2,null,null,null,0,0,1,0,0,1,0,0,0,1,null,null,null,null,null,0,1]
[null,null,"University Wide","La Jolla Campus","West Campus","Torrey Pines Center","Torrey Pines Center South","P381","Ground (Level 2)","Motorcycle Section",null,null,"Yes","Yes",null,"Torrey Pines Center South","Torrey Pines Center SouthMotorcycle Section",{"$f":"COUNTIF(Q$5:Q925, Q925 )","v":1},{"$f":"_xlfn.IFS(D$2=X$4, X925, D$2=Y$4, Y925,D$2=Z$4, Z925,D$2=AA$4, AA925)","v":2},10,{"$f":"IF(R925=1, _xlfn.IFNA(VLOOKUP(Q925, 'Allocation Change Graph'!BF$7:BG$20, 2, FALSE), 0), 0)","v":0},0.85,8.5,null,null,2,null,null,null,7,4,4,4,4,6,7,8,9,9,null,null,null,null,null,4,9]
[null,null,"University Wide","La Jolla Campus","West Campus","Torrey Pines Center","Torrey Pines Center South","P381","Ground (Level 2)","Reserved","EH&S",null,"Yes","Yes",null,"Torrey Pines Center South","Torrey Pines Center SouthReservedEH&S",{"$f":"COUNTIF(Q$5:Q926, Q926 )","v":1},{"$f":"_xlfn.IFS(D$2=X$4, X926, D$2=Y$4, Y926,D$2=Z$4, Z926,D$2=AA$4, AA926)","v":3},3,{"$f":"IF(R926=1, _xlfn.IFNA(VLOOKUP(Q926, 'Allocation Change Graph'!BF$7:BG$20, 2, FALSE), 0), 0)","v":0},0.85,2.5499999999999998,null,null,3,null,null,null,2,2,2,2,2,1,2,2,2,3,null,null,null,null,null,1,3]
[null,null,"University Wide","La Jolla Campus","West Campus","Torrey Pines Center","Torrey Pines Center South","P381","Ground (Level 2)","Reserved","Emergency Response Veh",null,"Yes","Yes",null,"Torrey Pines Center South","Torrey Pines Center SouthReservedEmergency Response Veh",{"$f":"COUNTIF(Q$5:Q927, Q927 )","v":1},{"$f":"_xlfn.IFS(D$2=X$4, X927, D$2=Y$4, Y927,D$2=Z$4, Z927,D$2=AA$4, AA927)","v":1},2,{"$f":"IF(R927=1, _xlfn.IFNA(VLOOKUP(Q927, 'Allocation Change Graph'!BF$7:BG$20, 2, FALSE), 0), 0)","v":0},0.85,1.7,null,null,1,null,null,null,0,0,0,0,0,0,0,0,0,0,null,null,null,null,null,0,0]
[null,null,"University Wide","La Jolla Campus","West Campus","Torrey Pines Center","Torrey Pines Center South","P381","Ground (Level 2)","Reserved","Office",null,"Yes","Yes",null,"Torrey Pines Center South","Torrey Pines Center SouthReservedOffice",{"$f":"COUNTIF(Q$5:Q928, Q928 )","v":1},{"$f":"_xlfn.IFS(D$2=X$4, X928, D$2=Y$4, Y928,D$2=Z$4, Z928,D$2=AA$4, AA928)","v":2},2,{"$f":"IF(R928=1, _xlfn.IFNA(VLOOKUP(Q928, 'Allocation Change Graph'!BF$7:BG$20, 2, FALSE), 0), 0)","v":0},0.85,1.7,null,null,2,null,null,null,0,0,0,0,0,0,0,1,1,2,null,null,null,null,null,0,2]
[null,null,"University Wide","La Jolla Campus","West Campus","Torrey Pines Center","Torrey Pines Center South","P381","Ground (Level 2)","Reserved","Property Manager",null,"Yes","Yes",null,"Torrey Pines Center South","Torrey Pines Center SouthReservedProperty Manager",{"$f":"COUNTIF(Q$5:Q929, Q929 )","v":1},{"$f":"_xlfn.IFS(D$2=X$4, X929, D$2=Y$4, Y929,D$2=Z$4, Z929,D$2=AA$4, AA929)","v":3},3,{"$f":"IF(R929=1, _xlfn.IFNA(VLOOKUP(Q929, 'Allocation Change Graph'!BF$7:BG$20, 2, FALSE), 0), 0)","v":0},0.85,2.5499999999999998,null,null,3,null,null,null,3,3,3,3,3,3,3,3,3,3,null,null,null,null,null,3,3]
[null,null,"University Wide","La Jolla Campus","West Campus","Torrey Pines Center","Torrey Pines Center South","P381","Ground (Level 2)","UC Vehicle","UC Electric Cart",null,"Yes","Yes",null,"Torrey Pines Center South","Torrey Pines Center SouthUC VehicleUC Electric Cart",{"$f":"COUNTIF(Q$5:Q930, Q930 )","v":1},{"$f":"_xlfn.IFS(D$2=X$4, X930, D$2=Y$4, Y930,D$2=Z$4, Z930,D$2=AA$4, AA930)","v":6},12,{"$f":"IF(R930=1, _xlfn.IFNA(VLOOKUP(Q930, 'Allocation Change Graph'!BF$7:BG$20, 2, FALSE), 0), 0)","v":0},0.85,10.199999999999999,null,null,6,null,null,null,4,6,6,6,7,5,4,4,6,8,null,null,null,null,null,4,8]
[null,null,"University Wide","La Jolla Campus","West Campus","Torrey Pines Center","Torrey Pines Center South","P381","Ground (Level 2)","UC Vehicle",null,null,"Yes","Yes",null,"Torrey Pines Center South","Torrey Pines Center SouthUC Vehicle",{"$f":"COUNTIF(Q$5:Q931, Q931 )","v":1},{"$f":"_xlfn.IFS(D$2=X$4, X931, D$2=Y$4, Y931,D$2=Z$4, Z931,D$2=AA$4, AA931)","v":2},20,{"$f":"IF(R931=1, _xlfn.IFNA(VLOOKUP(Q931, 'Allocation Change Graph'!BF$7:BG$20, 2, FALSE), 0), 0)","v":0},0.85,17,null,null,2,null,null,null,8,5,5,6,6,4,4,7,10,11,null,null,null,null,null,4,11]
[null,null,"University Wide","La Jolla Campus","West Campus","Torrey Pines Center","Torrey Pines Center South","P381","Ground (Level 2)","UC Vehicle",null,null,"Yes",null,null,"Torrey Pines Center South","Torrey Pines Center SouthUC Vehicle",{"$f":"COUNTIF(Q$5:Q932, Q932 )","v":2},{"$f":"_xlfn.IFS(D$2=X$4, X932, D$2=Y$4, Y932,D$2=Z$4, Z932,D$2=AA$4, AA932)","v":10},"",{"$f":"IF(R932=1, _xlfn.IFNA(VLOOKUP(Q932, 'Allocation Change Graph'!BF$7:BG$20, 2, FALSE), 0), 0)","v":0},null,"",null,null,10,null,null,null,null,null,null,null,null,null,null,null,null,null,null,null,null,null,null,0,0]
[null,null,"University Wide","La Jolla Campus","West Campus","Torrey Pines Center","Torrey Pines Center South","P382","Basement (Level 1)","Accessible",null,null,"Yes",null,null,"Torrey Pines Center South","Torrey Pines Center SouthAccessible",{"$f":"COUNTIF(Q$5:Q933, Q933 )","v":2},{"$f":"_xlfn.IFS(D$2=X$4, X933, D$2=Y$4, Y933,D$2=Z$4, Z933,D$2=AA$4, AA933)","v":4},"",{"$f":"IF(R933=1, _xlfn.IFNA(VLOOKUP(Q933, 'Allocation Change Graph'!BF$7:BG$20, 2, FALSE), 0), 0)","v":0},null,"",null,null,4,null,null,null,null,null,null,null,null,null,null,null,null,null,null,null,null,null,null,0,0]
[null,null,"University Wide","La Jolla Campus","West Campus","Torrey Pines Center","Torrey Pines Center South","P382","Basement (Level 1)","Accessible (Van)",null,null,"Yes",null,null,"Torrey Pines Center South","Torrey Pines Center SouthAccessible (Van)",{"$f":"COUNTIF(Q$5:Q934, Q934 )","v":2},{"$f":"_xlfn.IFS(D$2=X$4, X934, D$2=Y$4, Y934,D$2=Z$4, Z934,D$2=AA$4, AA934)","v":0},"",{"$f":"IF(R934=1, _xlfn.IFNA(VLOOKUP(Q934, 'Allocation Change Graph'!BF$7:BG$20, 2, FALSE), 0), 0)","v":0},null,"",null,null,0,null,null,null,null,null,null,null,null,null,null,null,null,null,null,null,null,null,null,0,0]
[null,null,"University Wide","La Jolla Campus","West Campus","Torrey Pines Center","Torrey Pines Center South","P382","Basement (Level 1)","B",null,null,"Yes",null,null,"Torrey Pines Center South","Torrey Pines Center SouthB",{"$f":"COUNTIF(Q$5:Q935, Q935 )","v":2},{"$f":"_xlfn.IFS(D$2=X$4, X935, D$2=Y$4, Y935,D$2=Z$4, Z935,D$2=AA$4, AA935)","v":275},"",{"$f":"IF(R935=1, _xlfn.IFNA(VLOOKUP(Q935, 'Allocation Change Graph'!BF$7:BG$20, 2, FALSE), 0), 0)","v":0},null,"",null,null,275,null,null,null,null,null,null,null,null,null,null,null,null,null,null,null,null,null,null,0,0]
[null,null,"University Wide","La Jolla Campus","West Campus","Torrey Pines Center","Torrey Pines Center South","P382","Basement (Level 1)","Carpool","B 3-Person",null,"Yes",null,null,"Torrey Pines Center South","Torrey Pines Center SouthCarpoolB 3-Person",{"$f":"COUNTIF(Q$5:Q936, Q936 )","v":2},{"$f":"_xlfn.IFS(D$2=X$4, X936, D$2=Y$4, Y936,D$2=Z$4, Z936,D$2=AA$4, AA936)","v":6},"",{"$f":"IF(R936=1, _xlfn.IFNA(VLOOKUP(Q936, 'Allocation Change Graph'!BF$7:BG$20, 2, FALSE), 0), 0)","v":0},null,"",null,null,6,null,null,null,null,null,null,null,null,null,null,null,null,null,null,null,null,null,null,0,0]
[null,null,"University Wide","La Jolla Campus","West Campus","Torrey Pines Center","Torrey Pines Center South","P382","Basement (Level 1)","Electric Vehicle",null,null,"Yes","Yes",null,"Torrey Pines Center South","Torrey Pines Center SouthElectric Vehicle",{"$f":"COUNTIF(Q$5:Q937, Q937 )","v":1},{"$f":"_xlfn.IFS(D$2=X$4, X937, D$2=Y$4, Y937,D$2=Z$4, Z937,D$2=AA$4, AA937)","v":10},10,{"$f":"IF(R937=1, _xlfn.IFNA(VLOOKUP(Q937, 'Allocation Change Graph'!BF$7:BG$20, 2, FALSE), 0), 0)","v":0},0.85,8.5,null,null,10,null,null,null,10,9,8,8,7,5,4,6,5,5,null,null,null,null,null,4,10]
[null,null,"University Wide","La Jolla Campus","West Campus","Torrey Pines Center","Torrey Pines Center South","P382","Basement (Level 1)","Motorcycle Section",null,null,"Yes",null,null,"Torrey Pines Center South","Torrey Pines Center SouthMotorcycle Section",{"$f":"COUNTIF(Q$5:Q938, Q938 )","v":2},{"$f":"_xlfn.IFS(D$2=X$4, X938, D$2=Y$4, Y938,D$2=Z$4, Z938,D$2=AA$4, AA938)","v":8},"",{"$f":"IF(R938=1, _xlfn.IFNA(VLOOKUP(Q938, 'Allocation Change Graph'!BF$7:BG$20, 2, FALSE), 0), 0)","v":0},null,"",null,null,8,null,null,null,null,null,null,null,null,null,null,null,null,null,null,null,null,null,null,0,0]
[null,null,"University Wide","La Jolla Campus","West Campus","Torrey Pines Center","Torrey Pines Center South","P382","Basement (Level 1)","Reserved","Emergency Response Veh",null,"Yes",null,null,"Torrey Pines Center South","Torrey Pines Center SouthReservedEmergency Response Veh",{"$f":"COUNTIF(Q$5:Q939, Q939 )","v":2},{"$f":"_xlfn.IFS(D$2=X$4, X939, D$2=Y$4, Y939,D$2=Z$4, Z939,D$2=AA$4, AA939)","v":1},"",{"$f":"IF(R939=1, _xlfn.IFNA(VLOOKUP(Q939, 'Allocation Change Graph'!BF$7:BG$20, 2, FALSE), 0), 0)","v":0},null,"",null,null,1,null,null,null,null,null,null,null,null,null,null,null,null,null,null,null,null,null,null,0,0]
[null,null,"University Wide","La Jolla Campus","West Campus","Torrey Pines Center","Torrey Pines Center South","P382","Basement (Level 1)","Reserved",null,null,"Yes","Yes",null,"Torrey Pines Center South","Torrey Pines Center SouthReserved",{"$f":"COUNTIF(Q$5:Q940, Q940 )","v":1},{"$f":"_xlfn.IFS(D$2=X$4, X940, D$2=Y$4, Y940,D$2=Z$4, Z940,D$2=AA$4, AA940)","v":2},2,{"$f":"IF(R940=1, _xlfn.IFNA(VLOOKUP(Q940, 'Allocation Change Graph'!BF$7:BG$20, 2, FALSE), 0), 0)","v":0},0.85,1.7,null,null,2,null,null,null,1,1,1,1,1,0,0,0,0,0,null,null,null,null,null,0,1]
[null,null,"University Wide","La Jolla Campus","West Campus","Torrey Pines Center","Torrey Pines Center South","P382","Basement (Level 1)","S",null,null,"Yes","Yes","Yes","Torrey Pines Center South","Torrey Pines Center SouthS",{"$f":"COUNTIF(Q$5:Q941, Q941 )","v":1},{"$f":"_xlfn.IFS(D$2=X$4, X941, D$2=Y$4, Y941,D$2=Z$4, Z941,D$2=AA$4, AA941)","v":0},0,{"$f":"IF(R941=1, _xlfn.IFNA(VLOOKUP(Q941, 'Allocation Change Graph'!BF$7:BG$20, 2, FALSE), 0), 0)","v":0},0.9,0,null,null,0,null,null,null,null,null,null,null,null,null,null,null,null,null,null,null,null,null,null,0,0]
[null,null,"University Wide","La Jolla Campus","West Campus","Torrey Pines Center","Torrey Pines Center South","P382","Basement (Level 1)","UC Vehicle","UC Electric Cart",null,"Yes",null,null,"Torrey Pines Center South","Torrey Pines Center SouthUC VehicleUC Electric Cart",{"$f":"COUNTIF(Q$5:Q942, Q942 )","v":2},{"$f":"_xlfn.IFS(D$2=X$4, X942, D$2=Y$4, Y942,D$2=Z$4, Z942,D$2=AA$4, AA942)","v":6},"",{"$f":"IF(R942=1, _xlfn.IFNA(VLOOKUP(Q942, 'Allocation Change Graph'!BF$7:BG$20, 2, FALSE), 0), 0)","v":0},null,"",null,null,6,null,null,null,null,null,null,null,null,null,null,null,null,null,null,null,null,null,null,0,0]
[null,null,"University Wide","La Jolla Campus","West Campus","Torrey Pines Center","Torrey Pines Center South","P382","Basement (Level 1)","Visitor",null,null,"Yes","Yes","Yes","Torrey Pines Center South","Torrey Pines Center SouthVisitor",{"$f":"COUNTIF(Q$5:Q943, Q943 )","v":1},{"$f":"_xlfn.IFS(D$2=X$4, X943, D$2=Y$4, Y943,D$2=Z$4, Z943,D$2=AA$4, AA943)","v":9},17,{"$f":"IF(R943=1, _xlfn.IFNA(VLOOKUP(Q943, 'Allocation Change Graph'!BF$7:BG$20, 2, FALSE), 0), 0)","v":0},0.85,14.45,null,null,9,null,null,null,13,15,15,14,12,15,11,10,12,13,null,null,null,null,null,10,15]
[null,null,"University Wide","La Jolla Campus","West Campus","Torrey Pines Center","Torrey Pines Center South","P383","Surface Lot (Ground Level)","Accessible",null,null,"Yes",null,null,"Torrey Pines Center South","Torrey Pines Center SouthAccessible",{"$f":"COUNTIF(Q$5:Q944, Q944 )","v":3},{"$f":"_xlfn.IFS(D$2=X$4, X944, D$2=Y$4, Y944,D$2=Z$4, Z944,D$2=AA$4, AA944)","v":6},"",{"$f":"IF(R944=1, _xlfn.IFNA(VLOOKUP(Q944, 'Allocation Change Graph'!BF$7:BG$20, 2, FALSE), 0), 0)","v":0},null,"",null,null,6,null,null,null,null,null,null,null,null,null,null,null,null,null,null,null,null,null,null,0,0]
[null,null,"University Wide","La Jolla Campus","West Campus","Torrey Pines Center","Torrey Pines Center South","P383","Surface Lot (Ground Level)","Accessible (Van)",null,null,"Yes",null,null,"Torrey Pines Center South","Torrey Pines Center SouthAccessible (Van)",{"$f":"COUNTIF(Q$5:Q945, Q945 )","v":3},{"$f":"_xlfn.IFS(D$2=X$4, X945, D$2=Y$4, Y945,D$2=Z$4, Z945,D$2=AA$4, AA945)","v":0},"",{"$f":"IF(R945=1, _xlfn.IFNA(VLOOKUP(Q945, 'Allocation Change Graph'!BF$7:BG$20, 2, FALSE), 0), 0)","v":0},null,"",null,null,0,null,null,null,null,null,null,null,null,null,null,null,null,null,null,null,null,null,null,0,0]
[null,null,"University Wide","La Jolla Campus","West Campus","Torrey Pines Center","Torrey Pines Center South","P383","Surface Lot (Ground Level)","Loading","Bars","20 minutes","Yes","Yes",null,"Torrey Pines Center South","Torrey Pines Center SouthLoadingBars20 minutes",{"$f":"COUNTIF(Q$5:Q946, Q946 )","v":1},{"$f":"_xlfn.IFS(D$2=X$4, X946, D$2=Y$4, Y946,D$2=Z$4, Z946,D$2=AA$4, AA946)","v":4},4,{"$f":"IF(R946=1, _xlfn.IFNA(VLOOKUP(Q946, 'Allocation Change Graph'!BF$7:BG$20, 2, FALSE), 0), 0)","v":0},0.85,3.4,null,null,4,null,null,null,3,2,3,3,3,4,4,4,4,2,null,null,null,null,null,{"$f":"MIN($AB946:$AR946)+U946","v":2},{"$f":"MAX($AB946:$AR946)+U946","v":4}]
[null,null,"University Wide","La Jolla Campus","West Campus","Torrey Pines Center","Torrey Pines Center South","P383","Surface Lot (Ground Level)","UC Vehicle",null,null,"Yes",null,null,"Torrey Pines Center South","Torrey Pines Center SouthUC Vehicle",{"$f":"COUNTIF(Q$5:Q947, Q947 )","v":3},{"$f":"_xlfn.IFS(D$2=X$4, X947, D$2=Y$4, Y947,D$2=Z$4, Z947,D$2=AA$4, AA947)","v":8},"",{"$f":"IF(R947=1, _xlfn.IFNA(VLOOKUP(Q947, 'Allocation Change Graph'!BF$7:BG$20, 2, FALSE), 0), 0)","v":0},null,"",null,null,8,null,null,null,null,null,null,null,null,null,null,null,null,null,null,null,null,null,null,0,0]
[null,null,"University Wide","La Jolla Campus","West Campus","Torrey Pines Center","Torrey Pines Center South","P383","Surface Lot (Ground Level)","Visitor",null,null,"Yes",null,null,"Torrey Pines Center South","Torrey Pines Center SouthVisitor",{"$f":"COUNTIF(Q$5:Q948, Q948 )","v":2},{"$f":"_xlfn.IFS(D$2=X$4, X948, D$2=Y$4, Y948,D$2=Z$4, Z948,D$2=AA$4, AA948)","v":8},"",{"$f":"IF(R948=1, _xlfn.IFNA(VLOOKUP(Q948, 'Allocation Change Graph'!BF$7:BG$20, 2, FALSE), 0), 0)","v":0},null,"",null,null,8,null,null,null,null,null,null,null,null,null,null,null,null,null,null,null,null,null,null,{"$f":"MIN($AB948:$AR948)+U948","v":0},{"$f":"MAX($AB948:$AR948)+U948","v":0}]
[null,null,null,null,null,null,null,null,null,null,null,null,null,null,null,null,null,null,null,null,null,null,null,null,null,null,null,null,null,null,null,null,null,null,null,null,null,null,null,null,null,null,null,null,0,0]
[null,null,null,null,null,null,null,null,null,null,null,null,null,null,null,{"$f":"IF(G950=\"Surface Lot\", H950, G950)","v":0},{"$f":"P950&J950&K950&L950","v":"0"},{"$f":"COUNTIF(Q$5:Q950, Q950 )","v":1},{"$f":"_xlfn.IFS(D$2=X$4, X950, D$2=Y$4, Y950,D$2=Z$4, Z950,D$2=AA$4, AA950)","v":0},{"$f":"IF(R950=1,SUMIF(Q:Q,Q950,S:S)+U950, \"\")","v":0},{"$f":"IF(R950=1, _xlfn.IFNA(VLOOKUP(Q950, 'Allocation Change Graph'!BF$7:BG$20, 2, FALSE), 0), 0)","v":0},null,{"$f":"IF(R950=1, V950*T950, \"\")","v":0},null,null,null,null,null,null,null,null,null,null,null,null,null,null,null,null,null,null,null,null,null,0,0]
[null,null,null,null,null,null,null,null,null,null,null,null,null,null,null,0,"0",{"$f":"COUNTIF(Q$5:Q951, Q951 )","v":2},{"$f":"_xlfn.IFS(D$2=X$4, X951, D$2=Y$4, Y951,D$2=Z$4, Z951,D$2=AA$4, AA951)","v":0},"",{"$f":"IF(R951=1, _xlfn.IFNA(VLOOKUP(Q951, 'Allocation Change Graph'!BF$7:BG$20, 2, FALSE), 0), 0)","v":0},null,"",null,null,null,null,null,null,null,null,null,null,null,null,null,null,null,null,null,null,null,null,null,0,0]
[null,null,null,null,null,null,null,null,null,null,null,null,null,null,null,0,"0",{"$f":"COUNTIF(Q$5:Q952, Q952 )","v":3},{"$f":"_xlfn.IFS(D$2=X$4, X952, D$2=Y$4, Y952,D$2=Z$4, Z952,D$2=AA$4, AA952)","v":0},"",{"$f":"IF(R952=1, _xlfn.IFNA(VLOOKUP(Q952, 'Allocation Change Graph'!BF$7:BG$20, 2, FALSE), 0), 0)","v":0},null,"",null,null,null,null,null,null,null,null,null,null,null,null,null,null,null,null,null,null,null,null,null,0,0]
[null,null,null,null,null,null,null,null,null,null,null,null,null,null,null,0,"0",{"$f":"COUNTIF(Q$5:Q953, Q953 )","v":4},{"$f":"_xlfn.IFS(D$2=X$4, X953, D$2=Y$4, Y953,D$2=Z$4, Z953,D$2=AA$4, AA953)","v":0},"",{"$f":"IF(R953=1, _xlfn.IFNA(VLOOKUP(Q953, 'Allocation Change Graph'!BF$7:BG$20, 2, FALSE), 0), 0)","v":0},null,"",null,null,null,null,null,null,null,null,null,null,null,null,null,null,null,null,null,null,null,null,null,0,0]
[null,null,null,null,null,null,null,null,null,null,null,null,null,null,null,0,"0",{"$f":"COUNTIF(Q$5:Q954, Q954 )","v":5},{"$f":"_xlfn.IFS(D$2=X$4, X954, D$2=Y$4, Y954,D$2=Z$4, Z954,D$2=AA$4, AA954)","v":0},"",{"$f":"IF(R954=1, _xlfn.IFNA(VLOOKUP(Q954, 'Allocation Change Graph'!BF$7:BG$20, 2, FALSE), 0), 0)","v":0},null,"",null,null,null,null,null,null,null,null,null,null,null,null,null,null,null,null,null,null,null,null,null,0,0]
[null,null,null,null,null,null,null,null,null,null,null,null,null,null,null,0,"0",{"$f":"COUNTIF(Q$5:Q955, Q955 )","v":6},{"$f":"_xlfn.IFS(D$2=X$4, X955, D$2=Y$4, Y955,D$2=Z$4, Z955,D$2=AA$4, AA955)","v":0},"",{"$f":"IF(R955=1, _xlfn.IFNA(VLOOKUP(Q955, 'Allocation Change Graph'!BF$7:BG$20, 2, FALSE), 0), 0)","v":0},null,"",null,null,null,null,null,null,null,null,null,null,null,null,null,null,null,null,null,null,null,null,null,0,0]
[null,null,null,null,null,null,null,null,null,null,null,null,null,null,null,0,"0",{"$f":"COUNTIF(Q$5:Q956, Q956 )","v":7},{"$f":"_xlfn.IFS(D$2=X$4, X956, D$2=Y$4, Y956,D$2=Z$4, Z956,D$2=AA$4, AA956)","v":0},"",{"$f":"IF(R956=1, _xlfn.IFNA(VLOOKUP(Q956, 'Allocation Change Graph'!BF$7:BG$20, 2, FALSE), 0), 0)","v":0},null,"",null,null,null,null,null,null,null,null,null,null,null,null,null,null,null,null,null,null,null,null,null,0,0]
[null,null,null,null,null,null,null,null,null,null,null,null,null,null,null,0,"0",{"$f":"COUNTIF(Q$5:Q957, Q957 )","v":8},{"$f":"_xlfn.IFS(D$2=X$4, X957, D$2=Y$4, Y957,D$2=Z$4, Z957,D$2=AA$4, AA957)","v":0},"",{"$f":"IF(R957=1, _xlfn.IFNA(VLOOKUP(Q957, 'Allocation Change Graph'!BF$7:BG$20, 2, FALSE), 0), 0)","v":0},null,"",null,null,null,null,null,null,null,null,null,null,null,null,null,null,null,null,null,null,null,null,null,0,0]
[null,null,null,null,null,null,null,null,null,null,null,null,null,null,null,0,"0",{"$f":"COUNTIF(Q$5:Q958, Q958 )","v":9},{"$f":"_xlfn.IFS(D$2=X$4, X958, D$2=Y$4, Y958,D$2=Z$4, Z958,D$2=AA$4, AA958)","v":0},"",{"$f":"IF(R958=1, _xlfn.IFNA(VLOOKUP(Q958, 'Allocation Change Graph'!BF$7:BG$20, 2, FALSE), 0), 0)","v":0},null,"",null,null,null,null,null,null,null,null,null,null,null,null,null,null,null,null,null,null,null,null,null,0,0]
[null,null,null,null,null,null,null,null,null,null,null,null,null,null,null,0,"0",{"$f":"COUNTIF(Q$5:Q959, Q959 )","v":10},{"$f":"_xlfn.IFS(D$2=X$4, X959, D$2=Y$4, Y959,D$2=Z$4, Z959,D$2=AA$4, AA959)","v":0},"",{"$f":"IF(R959=1, _xlfn.IFNA(VLOOKUP(Q959, 'Allocation Change Graph'!BF$7:BG$20, 2, FALSE), 0), 0)","v":0},null,"",null,null,null,null,null,null,null,null,null,null,null,null,null,null,null,null,null,null,null,null,null,0,0]
[null,null,null,null,null,null,null,null,null,null,null,null,null,null,null,0,"0",{"$f":"COUNTIF(Q$5:Q960, Q960 )","v":11},{"$f":"_xlfn.IFS(D$2=X$4, X960, D$2=Y$4, Y960,D$2=Z$4, Z960,D$2=AA$4, AA960)","v":0},"",{"$f":"IF(R960=1, _xlfn.IFNA(VLOOKUP(Q960, 'Allocation Change Graph'!BF$7:BG$20, 2, FALSE), 0), 0)","v":0},null,"",null,null,null,null,null,null,null,null,null,null,null,null,null,null,null,null,null,null,null,null,null,0,0]
[null,null,null,null,null,null,null,null,null,null,null,null,null,null,null,0,"0",{"$f":"COUNTIF(Q$5:Q961, Q961 )","v":12},{"$f":"_xlfn.IFS(D$2=X$4, X961, D$2=Y$4, Y961,D$2=Z$4, Z961,D$2=AA$4, AA961)","v":0},"",{"$f":"IF(R961=1, _xlfn.IFNA(VLOOKUP(Q961, 'Allocation Change Graph'!BF$7:BG$20, 2, FALSE), 0), 0)","v":0},null,"",null,null,null,null,null,null,null,null,null,null,null,null,null,null,null,null,null,null,null,null,null,0,0]
[null,null,null,null,null,null,null,null,null,null,null,null,null,null,null,0,"0",{"$f":"COUNTIF(Q$5:Q962, Q962 )","v":13},{"$f":"_xlfn.IFS(D$2=X$4, X962, D$2=Y$4, Y962,D$2=Z$4, Z962,D$2=AA$4, AA962)","v":0},"",{"$f":"IF(R962=1, _xlfn.IFNA(VLOOKUP(Q962, 'Allocation Change Graph'!BF$7:BG$20, 2, FALSE), 0), 0)","v":0},null,"",null,null,null,null,null,null,null,null,null,null,null,null,null,null,null,null,null,null,null,null,null,0,0]
[null,null,null,null,null,null,null,null,null,null,null,null,null,null,null,0,"0",{"$f":"COUNTIF(Q$5:Q963, Q963 )","v":14},{"$f":"_xlfn.IFS(D$2=X$4, X963, D$2=Y$4, Y963,D$2=Z$4, Z963,D$2=AA$4, AA963)","v":0},"",{"$f":"IF(R963=1, _xlfn.IFNA(VLOOKUP(Q963, 'Allocation Change Graph'!BF$7:BG$20, 2, FALSE), 0), 0)","v":0},null,"",null,null,null,null,null,null,null,null,null,null,null,null,null,null,null,null,null,null,null,null,null,0,0]
[null,null,null,null,null,null,null,null,null,null,null,null,null,null,null,0,"0",{"$f":"COUNTIF(Q$5:Q964, Q964 )","v":15},{"$f":"_xlfn.IFS(D$2=X$4, X964, D$2=Y$4, Y964,D$2=Z$4, Z964,D$2=AA$4, AA964)","v":0},"",{"$f":"IF(R964=1, _xlfn.IFNA(VLOOKUP(Q964, 'Allocation Change Graph'!BF$7:BG$20, 2, FALSE), 0), 0)","v":0},null,"",null,null,null,null,null,null,null,null,null,null,null,null,null,null,null,null,null,null,null,null,null,0,0]
[null,null,null,null,null,null,null,null,null,null,null,null,null,null,null,0,"0",{"$f":"COUNTIF(Q$5:Q965, Q965 )","v":16},{"$f":"_xlfn.IFS(D$2=X$4, X965, D$2=Y$4, Y965,D$2=Z$4, Z965,D$2=AA$4, AA965)","v":0},"",{"$f":"IF(R965=1, _xlfn.IFNA(VLOOKUP(Q965, 'Allocation Change Graph'!BF$7:BG$20, 2, FALSE), 0), 0)","v":0},null,"",null,null,null,null,null,null,null,null,null,null,null,null,null,null,null,null,null,null,null,null,null,{"$f":"MIN($AB965:$AR965)+U965","v":0},{"$f":"MAX($AB965:$AR965)+U965","v":0}]
[null,null,null,null,null,null,null,null,null,null,null,null,null,null,null,0,"0",{"$f":"COUNTIF(Q$5:Q966, Q966 )","v":17},{"$f":"_xlfn.IFS(D$2=X$4, X966, D$2=Y$4, Y966,D$2=Z$4, Z966,D$2=AA$4, AA966)","v":0},"",{"$f":"IF(R966=1, _xlfn.IFNA(VLOOKUP(Q966, 'Allocation Change Graph'!BF$7:BG$20, 2, FALSE), 0), 0)","v":0},null,"",null,null,null,null,null,null,null,null,null,null,null,null,null,null,null,null,null,null,null,null,null,0,0]
[null,null,null,null,null,null,null,null,null,null,null,null,null,null,null,0,"0",{"$f":"COUNTIF(Q$5:Q967, Q967 )","v":18},{"$f":"_xlfn.IFS(D$2=X$4, X967, D$2=Y$4, Y967,D$2=Z$4, Z967,D$2=AA$4, AA967)","v":0},"",{"$f":"IF(R967=1, _xlfn.IFNA(VLOOKUP(Q967, 'Allocation Change Graph'!BF$7:BG$20, 2, FALSE), 0), 0)","v":0},null,"",null,null,null,null,null,null,null,null,null,null,null,null,null,null,null,null,null,null,null,null,null,0,0]
[null,null,null,null,null,null,null,null,null,null,null,null,null,null,null,0,"0",{"$f":"COUNTIF(Q$5:Q968, Q968 )","v":19},{"$f":"_xlfn.IFS(D$2=X$4, X968, D$2=Y$4, Y968,D$2=Z$4, Z968,D$2=AA$4, AA968)","v":0},"",{"$f":"IF(R968=1, _xlfn.IFNA(VLOOKUP(Q968, 'Allocation Change Graph'!BF$7:BG$20, 2, FALSE), 0), 0)","v":0},null,"",null,null,null,null,null,null,null,null,null,null,null,null,null,null,null,null,null,null,null,null,null,0,0]
[null,null,null,null,null,null,null,null,null,null,null,null,null,null,null,0,"0",{"$f":"COUNTIF(Q$5:Q969, Q969 )","v":20},{"$f":"_xlfn.IFS(D$2=X$4, X969, D$2=Y$4, Y969,D$2=Z$4, Z969,D$2=AA$4, AA969)","v":0},"",{"$f":"IF(R969=1, _xlfn.IFNA(VLOOKUP(Q969, 'Allocation Change Graph'!BF$7:BG$20, 2, FALSE), 0), 0)","v":0},null,"",null,null,null,null,null,null,null,null,null,null,null,null,null,null,null,null,null,null,null,null,null,0,0]
[null,null,null,null,null,null,null,null,null,null,null,null,null,null,null,0,"0",{"$f":"COUNTIF(Q$5:Q970, Q970 )","v":21},{"$f":"_xlfn.IFS(D$2=X$4, X970, D$2=Y$4, Y970,D$2=Z$4, Z970,D$2=AA$4, AA970)","v":0},"",{"$f":"IF(R970=1, _xlfn.IFNA(VLOOKUP(Q970, 'Allocation Change Graph'!BF$7:BG$20, 2, FALSE), 0), 0)","v":0},null,"",null,null,null,null,null,null,null,null,null,null,null,null,null,null,null,null,null,null,null,null,null,0,0]
[null,null,null,null,null,null,null,null,null,null,null,null,null,null,null,0,"0",{"$f":"COUNTIF(Q$5:Q971, Q971 )","v":22},{"$f":"_xlfn.IFS(D$2=X$4, X971, D$2=Y$4, Y971,D$2=Z$4, Z971,D$2=AA$4, AA971)","v":0},"",{"$f":"IF(R971=1, _xlfn.IFNA(VLOOKUP(Q971, 'Allocation Change Graph'!BF$7:BG$20, 2, FALSE), 0), 0)","v":0},null,"",null,null,null,null,null,null,null,null,null,null,null,null,null,null,null,null,null,null,null,null,null,0,0]
[null,null,null,null,null,null,null,null,null,null,null,null,null,null,null,0,"0",{"$f":"COUNTIF(Q$5:Q972, Q972 )","v":23},{"$f":"_xlfn.IFS(D$2=X$4, X972, D$2=Y$4, Y972,D$2=Z$4, Z972,D$2=AA$4, AA972)","v":0},"",{"$f":"IF(R972=1, _xlfn.IFNA(VLOOKUP(Q972, 'Allocation Change Graph'!BF$7:BG$20, 2, FALSE), 0), 0)","v":0},null,"",null,null,null,null,null,null,null,null,null,null,null,null,null,null,null,null,null,null,null,null,null,0,0]
[null,null,null,null,null,null,null,null,null,null,null,null,null,null,null,0,"0",{"$f":"COUNTIF(Q$5:Q973, Q973 )","v":24},{"$f":"_xlfn.IFS(D$2=X$4, X973, D$2=Y$4, Y973,D$2=Z$4, Z973,D$2=AA$4, AA973)","v":0},"",{"$f":"IF(R973=1, _xlfn.IFNA(VLOOKUP(Q973, 'Allocation Change Graph'!BF$7:BG$20, 2, FALSE), 0), 0)","v":0},null,"",null,null,null,null,null,null,null,null,null,null,null,null,null,null,null,null,null,null,null,null,null,0,0]
[null,null,null,null,null,null,null,null,null,null,null,null,null,null,null,0,"0",{"$f":"COUNTIF(Q$5:Q974, Q974 )","v":25},{"$f":"_xlfn.IFS(D$2=X$4, X974, D$2=Y$4, Y974,D$2=Z$4, Z974,D$2=AA$4, AA974)","v":0},"",{"$f":"IF(R974=1, _xlfn.IFNA(VLOOKUP(Q974, 'Allocation Change Graph'!BF$7:BG$20, 2, FALSE), 0), 0)","v":0},null,"",null,null,null,null,null,null,null,null,null,null,null,null,null,null,null,null,null,null,null,null,null,0,0]
[null,null,null,null,null,null,null,null,null,null,null,null,null,null,null,0,"0",{"$f":"COUNTIF(Q$5:Q975, Q975 )","v":26},{"$f":"_xlfn.IFS(D$2=X$4, X975, D$2=Y$4, Y975,D$2=Z$4, Z975,D$2=AA$4, AA975)","v":0},"",{"$f":"IF(R975=1, _xlfn.IFNA(VLOOKUP(Q975, 'Allocation Change Graph'!BF$7:BG$20, 2, FALSE), 0), 0)","v":0},null,"",null,null,null,null,null,null,null,null,null,null,null,null,null,null,null,null,null,null,null,null,null,0,0]
[null,null,null,null,null,null,null,null,null,null,null,null,null,null,null,0,"0",{"$f":"COUNTIF(Q$5:Q976, Q976 )","v":27},{"$f":"_xlfn.IFS(D$2=X$4, X976, D$2=Y$4, Y976,D$2=Z$4, Z976,D$2=AA$4, AA976)","v":0},"",{"$f":"IF(R976=1, _xlfn.IFNA(VLOOKUP(Q976, 'Allocation Change Graph'!BF$7:BG$20, 2, FALSE), 0), 0)","v":0},null,"",null,null,null,null,null,null,null,null,null,null,null,null,null,null,null,null,null,null,null,null,null,0,0]
[null,null,null,null,null,null,null,null,null,null,null,null,null,null,null,0,"0",{"$f":"COUNTIF(Q$5:Q977, Q977 )","v":28},{"$f":"_xlfn.IFS(D$2=X$4, X977, D$2=Y$4, Y977,D$2=Z$4, Z977,D$2=AA$4, AA977)","v":0},"",{"$f":"IF(R977=1, _xlfn.IFNA(VLOOKUP(Q977, 'Allocation Change Graph'!BF$7:BG$20, 2, FALSE), 0), 0)","v":0},null,"",null,null,null,null,null,null,null,null,null,null,null,null,null,null,null,null,null,null,null,null,null,0,0]
[null,null,null,null,null,null,null,null,null,null,null,null,null,null,null,0,"0",{"$f":"COUNTIF(Q$5:Q978, Q978 )","v":29},{"$f":"_xlfn.IFS(D$2=X$4, X978, D$2=Y$4, Y978,D$2=Z$4, Z978,D$2=AA$4, AA978)","v":0},"",{"$f":"IF(R978=1, _xlfn.IFNA(VLOOKUP(Q978, 'Allocation Change Graph'!BF$7:BG$20, 2, FALSE), 0), 0)","v":0},null,"",null,null,null,null,null,null,null,null,null,null,null,null,null,null,null,null,null,null,null,null,null,0,0]
[null,null,null,null,null,null,null,null,null,null,null,null,null,null,null,0,"0",{"$f":"COUNTIF(Q$5:Q979, Q979 )","v":30},{"$f":"_xlfn.IFS(D$2=X$4, X979, D$2=Y$4, Y979,D$2=Z$4, Z979,D$2=AA$4, AA979)","v":0},"",{"$f":"IF(R979=1, _xlfn.IFNA(VLOOKUP(Q979, 'Allocation Change Graph'!BF$7:BG$20, 2, FALSE), 0), 0)","v":0},null,"",null,null,null,null,null,null,null,null,null,null,null,null,null,null,null,null,null,null,null,null,null,0,0]
[null,null,null,null,null,null,null,null,null,null,null,null,null,null,null,0,"0",{"$f":"COUNTIF(Q$5:Q980, Q980 )","v":31},{"$f":"_xlfn.IFS(D$2=X$4, X980, D$2=Y$4, Y980,D$2=Z$4, Z980,D$2=AA$4, AA980)","v":0},"",{"$f":"IF(R980=1, _xlfn.IFNA(VLOOKUP(Q980, 'Allocation Change Graph'!BF$7:BG$20, 2, FALSE), 0), 0)","v":0},null,"",null,null,null,null,null,null,null,null,null,null,null,null,null,null,null,null,null,null,null,null,null,0,0]
[null,null,null,null,null,null,null,null,null,null,null,null,null,null,null,0,"0",{"$f":"COUNTIF(Q$5:Q981, Q981 )","v":32},{"$f":"_xlfn.IFS(D$2=X$4, X981, D$2=Y$4, Y981,D$2=Z$4, Z981,D$2=AA$4, AA981)","v":0},"",{"$f":"IF(R981=1, _xlfn.IFNA(VLOOKUP(Q981, 'Allocation Change Graph'!BF$7:BG$20, 2, FALSE), 0), 0)","v":0},null,"",null,null,null,null,null,null,null,null,null,null,null,null,null,null,null,null,null,null,null,null,null,0,0]
[null,null,null,null,null,null,null,null,null,null,null,null,null,null,null,{"$f":"IF(G982=\"Surface Lot\", H982, G982)","v":0},{"$f":"P982&J982&K982&L982","v":"0"},{"$f":"COUNTIF(Q$5:Q982, Q982 )","v":33},{"$f":"_xlfn.IFS(D$2=X$4, X982, D$2=Y$4, Y982,D$2=Z$4, Z982,D$2=AA$4, AA982)","v":0},{"$f":"IF(R982=1,SUMIF(Q:Q,Q982,S:S)+U982, \"\")","v":""},{"$f":"IF(R982=1, _xlfn.IFNA(VLOOKUP(Q982, 'Allocation Change Graph'!BF$7:BG$20, 2, FALSE), 0), 0)","v":0},null,{"$f":"IF(R982=1, V982*T982, \"\")","v":""},null,null,null,null,null,null,null,null,null,null,null,null,null,null,null,null,null,null,null,null,null,0,0]
[null,null,null,null,null,null,null,null,null,null,null,null,null,null,null,0,"0",{"$f":"COUNTIF(Q$5:Q983, Q983 )","v":34},{"$f":"_xlfn.IFS(D$2=X$4, X983, D$2=Y$4, Y983,D$2=Z$4, Z983,D$2=AA$4, AA983)","v":0},"",{"$f":"IF(R983=1, _xlfn.IFNA(VLOOKUP(Q983, 'Allocation Change Graph'!BF$7:BG$20, 2, FALSE), 0), 0)","v":0},null,"",null,null,null,null,null,null,null,null,null,null,null,null,null,null,null,null,null,null,null,null,null,0,0]
[null,null,null,null,null,null,null,null,null,null,null,null,null,null,null,0,"0",{"$f":"COUNTIF(Q$5:Q984, Q984 )","v":35},{"$f":"_xlfn.IFS(D$2=X$4, X984, D$2=Y$4, Y984,D$2=Z$4, Z984,D$2=AA$4, AA984)","v":0},"",{"$f":"IF(R984=1, _xlfn.IFNA(VLOOKUP(Q984, 'Allocation Change Graph'!BF$7:BG$20, 2, FALSE), 0), 0)","v":0},null,"",null,null,null,null,null,null,null,null,null,null,null,null,null,null,null,null,null,null,null,null,null,0,0]
[null,null,null,null,null,null,null,null,null,null,null,null,null,null,null,0,"0",{"$f":"COUNTIF(Q$5:Q985, Q985 )","v":36},{"$f":"_xlfn.IFS(D$2=X$4, X985, D$2=Y$4, Y985,D$2=Z$4, Z985,D$2=AA$4, AA985)","v":0},"",{"$f":"IF(R985=1, _xlfn.IFNA(VLOOKUP(Q985, 'Allocation Change Graph'!BF$7:BG$20, 2, FALSE), 0), 0)","v":0},null,"",null,null,null,null,null,null,null,null,null,null,null,null,null,null,null,null,null,null,null,null,null,0,0]
[null,null,null,null,null,null,null,null,null,null,null,null,null,null,null,0,"0",{"$f":"COUNTIF(Q$5:Q986, Q986 )","v":37},{"$f":"_xlfn.IFS(D$2=X$4, X986, D$2=Y$4, Y986,D$2=Z$4, Z986,D$2=AA$4, AA986)","v":0},"",{"$f":"IF(R986=1, _xlfn.IFNA(VLOOKUP(Q986, 'Allocation Change Graph'!BF$7:BG$20, 2, FALSE), 0), 0)","v":0},null,"",null,null,null,null,null,null,null,null,null,null,null,null,null,null,null,null,null,null,null,null,null,0,0]
[null,null,null,null,null,null,null,null,null,null,null,null,null,null,null,0,"0",{"$f":"COUNTIF(Q$5:Q987, Q987 )","v":38},{"$f":"_xlfn.IFS(D$2=X$4, X987, D$2=Y$4, Y987,D$2=Z$4, Z987,D$2=AA$4, AA987)","v":0},"",{"$f":"IF(R987=1, _xlfn.IFNA(VLOOKUP(Q987, 'Allocation Change Graph'!BF$7:BG$20, 2, FALSE), 0), 0)","v":0},null,"",null,null,null,null,null,null,null,null,null,null,null,null,null,null,null,null,null,null,null,null,null,0,0]
[null,null,null,null,null,null,null,null,null,null,null,null,null,null,null,0,"0",{"$f":"COUNTIF(Q$5:Q988, Q988 )","v":39},{"$f":"_xlfn.IFS(D$2=X$4, X988, D$2=Y$4, Y988,D$2=Z$4, Z988,D$2=AA$4, AA988)","v":0},"",{"$f":"IF(R988=1, _xlfn.IFNA(VLOOKUP(Q988, 'Allocation Change Graph'!BF$7:BG$20, 2, FALSE), 0), 0)","v":0},null,"",null,null,null,null,null,null,null,null,null,null,null,null,null,null,null,null,null,null,null,null,null,0,0]
[null,null,null,null,null,null,null,null,null,null,null,null,null,null,null,0,"0",{"$f":"COUNTIF(Q$5:Q989, Q989 )","v":40},{"$f":"_xlfn.IFS(D$2=X$4, X989, D$2=Y$4, Y989,D$2=Z$4, Z989,D$2=AA$4, AA989)","v":0},"",{"$f":"IF(R989=1, _xlfn.IFNA(VLOOKUP(Q989, 'Allocation Change Graph'!BF$7:BG$20, 2, FALSE), 0), 0)","v":0},null,"",null,null,null,null,null,null,null,null,null,null,null,null,null,null,null,null,null,null,null,null,null,0,0]
[null,null,null,null,null,null,null,null,null,null,null,null,null,null,null,0,"0",{"$f":"COUNTIF(Q$5:Q990, Q990 )","v":41},{"$f":"_xlfn.IFS(D$2=X$4, X990, D$2=Y$4, Y990,D$2=Z$4, Z990,D$2=AA$4, AA990)","v":0},"",{"$f":"IF(R990=1, _xlfn.IFNA(VLOOKUP(Q990, 'Allocation Change Graph'!BF$7:BG$20, 2, FALSE), 0), 0)","v":0},null,"",null,null,null,null,null,null,null,null,null,null,null,null,null,null,null,null,null,null,null,null,null,0,0]
[null,null,null,null,null,null,null,null,null,null,null,null,null,null,null,0,"0",{"$f":"COUNTIF(Q$5:Q991, Q991 )","v":42},{"$f":"_xlfn.IFS(D$2=X$4, X991, D$2=Y$4, Y991,D$2=Z$4, Z991,D$2=AA$4, AA991)","v":0},"",{"$f":"IF(R991=1, _xlfn.IFNA(VLOOKUP(Q991, 'Allocation Change Graph'!BF$7:BG$20, 2, FALSE), 0), 0)","v":0},null,"",null,null,null,null,null,null,null,null,null,null,null,null,null,null,null,null,null,null,null,null,null,0,0]
[null,null,null,null,null,null,null,null,null,null,null,null,null,null,null,0,"0",{"$f":"COUNTIF(Q$5:Q992, Q992 )","v":43},{"$f":"_xlfn.IFS(D$2=X$4, X992, D$2=Y$4, Y992,D$2=Z$4, Z992,D$2=AA$4, AA992)","v":0},"",{"$f":"IF(R992=1, _xlfn.IFNA(VLOOKUP(Q992, 'Allocation Change Graph'!BF$7:BG$20, 2, FALSE), 0), 0)","v":0},null,"",null,null,null,null,null,null,null,null,null,null,null,null,null,null,null,null,null,null,null,null,null,0,0]
[null,null,null,null,null,null,null,null,null,null,null,null,null,null,null,0,"0",{"$f":"COUNTIF(Q$5:Q993, Q993 )","v":44},{"$f":"_xlfn.IFS(D$2=X$4, X993, D$2=Y$4, Y993,D$2=Z$4, Z993,D$2=AA$4, AA993)","v":0},"",{"$f":"IF(R993=1, _xlfn.IFNA(VLOOKUP(Q993, 'Allocation Change Graph'!BF$7:BG$20, 2, FALSE), 0), 0)","v":0},null,"",null,null,null,null,null,null,null,null,null,null,null,null,null,null,null,null,null,null,null,null,null,0,0]
[null,null,null,null,null,null,null,null,null,null,null,null,null,null,null,0,"0",{"$f":"COUNTIF(Q$5:Q994, Q994 )","v":45},{"$f":"_xlfn.IFS(D$2=X$4, X994, D$2=Y$4, Y994,D$2=Z$4, Z994,D$2=AA$4, AA994)","v":0},"",{"$f":"IF(R994=1, _xlfn.IFNA(VLOOKUP(Q994, 'Allocation Change Graph'!BF$7:BG$20, 2, FALSE), 0), 0)","v":0},null,"",null,null,null,null,null,null,null,null,null,null,null,null,null,null,null,null,null,null,null,null,null,0,0]
[null,null,null,null,null,null,null,null,null,null,null,null,null,null,null,0,"0",{"$f":"COUNTIF(Q$5:Q995, Q995 )","v":46},{"$f":"_xlfn.IFS(D$2=X$4, X995, D$2=Y$4, Y995,D$2=Z$4, Z995,D$2=AA$4, AA995)","v":0},"",{"$f":"IF(R995=1, _xlfn.IFNA(VLOOKUP(Q995, 'Allocation Change Graph'!BF$7:BG$20, 2, FALSE), 0), 0)","v":0},null,"",null,null,null,null,null,null,null,null,null,null,null,null,null,null,null,null,null,null,null,null,null,0,0]
[null,null,null,null,null,null,null,null,null,null,null,null,null,null,null,0,"0",{"$f":"COUNTIF(Q$5:Q996, Q996 )","v":47},{"$f":"_xlfn.IFS(D$2=X$4, X996, D$2=Y$4, Y996,D$2=Z$4, Z996,D$2=AA$4, AA996)","v":0},"",{"$f":"IF(R996=1, _xlfn.IFNA(VLOOKUP(Q996, 'Allocation Change Graph'!BF$7:BG$20, 2, FALSE), 0), 0)","v":0},null,"",null,null,null,null,null,null,null,null,null,null,null,null,null,null,null,null,null,null,null,null,null,0,0]
[null,null,null,null,null,null,null,null,null,null,null,null,null,null,null,0,"0",{"$f":"COUNTIF(Q$5:Q997, Q997 )","v":48},{"$f":"_xlfn.IFS(D$2=X$4, X997, D$2=Y$4, Y997,D$2=Z$4, Z997,D$2=AA$4, AA997)","v":0},"",{"$f":"IF(R997=1, _xlfn.IFNA(VLOOKUP(Q997, 'Allocation Change Graph'!BF$7:BG$20, 2, FALSE), 0), 0)","v":0},null,"",null,null,null,null,null,null,null,null,null,null,null,null,null,null,null,null,null,null,null,null,null,0,0]
[null,null,null,null,null,null,null,null,null,null,null,null,null,null,null,0,"0",{"$f":"COUNTIF(Q$5:Q998, Q998 )","v":49},{"$f":"_xlfn.IFS(D$2=X$4, X998, D$2=Y$4, Y998,D$2=Z$4, Z998,D$2=AA$4, AA998)","v":0},"",{"$f":"IF(R998=1, _xlfn.IFNA(VLOOKUP(Q998, 'Allocation Change Graph'!BF$7:BG$20, 2, FALSE), 0), 0)","v":0},null,"",null,null,null,null,null,null,null,null,null,null,null,null,null,null,null,null,null,null,null,null,null,0,0]
[null,null,null,null,null,null,null,null,null,null,null,null,null,null,null,0,"0",{"$f":"COUNTIF(Q$5:Q999, Q999 )","v":50},{"$f":"_xlfn.IFS(D$2=X$4, X999, D$2=Y$4, Y999,D$2=Z$4, Z999,D$2=AA$4, AA999)","v":0},"",{"$f":"IF(R999=1, _xlfn.IFNA(VLOOKUP(Q999, 'Allocation Change Graph'!BF$7:BG$20, 2, FALSE), 0), 0)","v":0},null,"",null,null,null,null,null,null,null,null,null,null,null,null,null,null,null,null,null,null,null,null,null,0,0]
[null,null,null,null,null,null,null,null,null,null,null,null,null,null,null,0,"0",{"$f":"COUNTIF(Q$5:Q1000, Q1000 )","v":51},{"$f":"_xlfn.IFS(D$2=X$4, X1000, D$2=Y$4, Y1000,D$2=Z$4, Z1000,D$2=AA$4, AA1000)","v":0},"",{"$f":"IF(R1000=1, _xlfn.IFNA(VLOOKUP(Q1000, 'Allocation Change Graph'!BF$7:BG$20, 2, FALSE), 0), 0)","v":0},null,"",null,null,null,null,null,null,null,null,null,null,null,null,null,null,null,null,null,null,null,null,null,0,0]
[null,null,null,null,null,null,null,null,null,null,null,null,null,null,null,0,"0",{"$f":"COUNTIF(Q$5:Q1001, Q1001 )","v":52},{"$f":"_xlfn.IFS(D$2=X$4, X1001, D$2=Y$4, Y1001,D$2=Z$4, Z1001,D$2=AA$4, AA1001)","v":0},"",{"$f":"IF(R1001=1, _xlfn.IFNA(VLOOKUP(Q1001, 'Allocation Change Graph'!BF$7:BG$20, 2, FALSE), 0), 0)","v":0},null,"",null,null,null,null,null,null,null,null,null,null,null,null,null,null,null,null,null,null,null,null,null,0,0]

{"sheet":"Print Inventory Forms","index":6,"n_rows":1001,"n_cols":28,"rows_kept":1001,"cut":false,"hidden":true,"merged":[[0,0,0,1]]}
["Day / Date :",null,null,null,"Name(s) :"]
[]
[null,null,null,null,null,null,null,null,null,null,null,null,"* Only enter the number of open spaces"]
[{"$f":"'Pivot Table Data'!B4","v":"Zone #"},{"$f":"'Pivot Table Data'!F4","v":"Neighborhood"},{"$f":"'Pivot Table Data'!P4","v":"Lot  / Structure"},{"$f":"'Pivot Table Data'!I4","v":"Garage Level"},{"$f":"'Pivot Table Data'!J4","v":"Space Type"},{"$f":"'Pivot Table Data'!K4","v":"Space Subtype"},{"$f":"'Pivot Table Data'!L4","v":"Time Limit [minutes]"},"Stall Count (Inventory)","Stall Count (Occupancy)","Stall Count (QPass)",{"$f":"'Pivot Table Data'!AB4","v":"6am"},{"$f":"'Pivot Table Data'!AC4","v":"7am"},{"$f":"'Pivot Table Data'!AD4","v":"8am"},{"$f":"'Pivot Table Data'!AE4","v":"9am"},{"$f":"'Pivot Table Data'!AF4","v":"10am"},{"$f":"'Pivot Table Data'!AG4","v":"11am"},{"$f":"'Pivot Table Data'!AH4","v":"12pm"},{"$f":"'Pivot Table Data'!AI4","v":"1pm"},{"$f":"'Pivot Table Data'!AJ4","v":"2pm"},{"$f":"'Pivot Table Data'!AK4","v":"3pm"},{"$f":"'Pivot Table Data'!AL4","v":"4pm"},{"$f":"'Pivot Table Data'!AM4","v":"5pm"},{"$f":"'Pivot Table Data'!AN4","v":"6pm"},{"$f":"'Pivot Table Data'!AO4","v":"7pm"},{"$f":"'Pivot Table Data'!AP4","v":"8pm"},{"$f":"'Pivot Table Data'!AQ4","v":"9pm"},{"$f":"'Pivot Table Data'!AR4","v":"10pm"},"Notes"]
[{"$f":"'Pivot Table Data'!B5","v":0},{"$f":"'Pivot Table Data'!F5","v":"Health Sciences East"},{"$f":"'Pivot Table Data'!P5","v":"Athena"},{"$f":"'Pivot Table Data'!I5","v":"Ground Floor"},{"$f":"'Pivot Table Data'!J5","v":"A"},{"$f":"'Pivot Table Data'!K5","v":0},{"$f":"'Pivot Table Data'!L5","v":0},{"$f":"'Pivot Table Data'!S5","v":4},{"$f":"'Pivot Table Data'!T5","v":307},{"$f":"IF('Pivot Table Data'!O5=\"Yes\", 'Pivot Table Data'!T5, \"\")","v":307}]
[{"$f":"'Pivot Table Data'!B6","v":0},{"$f":"'Pivot Table Data'!F6","v":"Health Sciences East"},{"$f":"'Pivot Table Data'!P6","v":"Athena"},{"$f":"'Pivot Table Data'!I6","v":"Ground Floor"},{"$f":"'Pivot Table Data'!J6","v":"Accessible"},{"$f":"'Pivot Table Data'!K6","v":0},{"$f":"'Pivot Table Data'!L6","v":0},{"$f":"'Pivot Table Data'!S6","v":49},{"$f":"'Pivot Table Data'!T6","v":71},{"$f":"IF('Pivot Table Data'!O6=\"Yes\", 'Pivot Table Data'!T6, \"\")","v":""}]
[{"$f":"'Pivot Table Data'!B7","v":0},{"$f":"'Pivot Table Data'!F7","v":"Health Sciences East"},{"$f":"'Pivot Table Data'!P7","v":"Athena"},{"$f":"'Pivot Table Data'!I7","v":"Ground Floor"},{"$f":"'Pivot Table Data'!J7","v":"Accessible (Van)"},{"$f":"'Pivot Table Data'!K7","v":0},{"$f":"'Pivot Table Data'!L7","v":0},{"$f":"'Pivot Table Data'!S7","v":3},{"$f":"'Pivot Table Data'!T7","v":8},{"$f":"IF('Pivot Table Data'!O7=\"Yes\", 'Pivot Table Data'!T7, \"\")","v":""}]
[{"$f":"'Pivot Table Data'!B8","v":0},{"$f":"'Pivot Table Data'!F8","v":"Health Sciences East"},{"$f":"'Pivot Table Data'!P8","v":"Athena"},{"$f":"'Pivot Table Data'!I8","v":"Ground Floor"},{"$f":"'Pivot Table Data'!J8","v":"Accessible (Van)"},{"$f":"'Pivot Table Data'!K8","v":0},{"$f":"'Pivot Table Data'!L8","v":0},{"$f":"'Pivot Table Data'!S8","v":0},{"$f":"'Pivot Table Data'!T8","v":""},{"$f":"IF('Pivot Table Data'!O8=\"Yes\", 'Pivot Table Data'!T8, \"\")","v":""}]
[{"$f":"'Pivot Table Data'!B9","v":0},{"$f":"'Pivot Table Data'!F9","v":"Health Sciences East"},{"$f":"'Pivot Table Data'!P9","v":"Athena"},{"$f":"'Pivot Table Data'!I9","v":"Ground Floor"},{"$f":"'Pivot Table Data'!J9","v":"Electric Vehicle"},{"$f":"'Pivot Table Data'!K9","v":"ADA"},{"$f":"'Pivot Table Data'!L9","v":0},{"$f":"'Pivot Table Data'!S9","v":2},{"$f":"'Pivot Table Data'!T9","v":2},{"$f":"IF('Pivot Table Data'!O9=\"Yes\", 'Pivot Table Data'!T9, \"\")","v":""}]
[{"$f":"'Pivot Table Data'!B10","v":0},{"$f":"'Pivot Table Data'!F10","v":"Health Sciences East"},{"$f":"'Pivot Table Data'!P10","v":"Athena"},{"$f":"'Pivot Table Data'!I10","v":"Ground Floor"},{"$f":"'Pivot Table Data'!J10","v":"Electric Vehicle"},{"$f":"'Pivot Table Data'!K10","v":0},{"$f":"'Pivot Table Data'!L10","v":0},{"$f":"'Pivot Table Data'!S10","v":16},{"$f":"'Pivot Table Data'!T10","v":16},{"$f":"IF('Pivot Table Data'!O10=\"Yes\", 'Pivot Table Data'!T10, \"\")","v":""}]
[{"$f":"'Pivot Table Data'!B11","v":0},{"$f":"'Pivot Table Data'!F11","v":"Health Sciences East"},{"$f":"'Pivot Table Data'!P11","v":"Athena"},{"$f":"'Pivot Table Data'!I11","v":"Ground Floor"},{"$f":"'Pivot Table Data'!J11","v":"Motorcycle Section"},{"$f":"'Pivot Table Data'!K11","v":0},{"$f":"'Pivot Table Data'!L11","v":0},{"$f":"'Pivot Table Data'!S11","v":0},{"$f":"'Pivot Table Data'!T11","v":30},{"$f":"IF('Pivot Table Data'!O11=\"Yes\", 'Pivot Table Data'!T11, \"\")","v":""}]
[{"$f":"'Pivot Table Data'!B12","v":0},{"$f":"'Pivot Table Data'!F12","v":"Health Sciences East"},{"$f":"'Pivot Table Data'!P12","v":"Athena"},{"$f":"'Pivot Table Data'!I12","v":"Ground Floor"},{"$f":"'Pivot Table Data'!J12","v":"Visitor"},{"$f":"'Pivot Table Data'!K12","v":"Patient/Visitor Reserved"},{"$f":"'Pivot Table Data'!L12","v":"30 minutes"},{"$f":"'Pivot Table Data'!S12","v":9},{"$f":"'Pivot Table Data'!T12","v":9},{"$f":"IF('Pivot Table Data'!O12=\"Yes\", 'Pivot Table Data'!T12, \"\")","v":9}]
[{"$f":"'Pivot Table Data'!B13","v":0},{"$f":"'Pivot Table Data'!F13","v":"Health Sciences East"},{"$f":"'Pivot Table Data'!P13","v":"Athena"},{"$f":"'Pivot Table Data'!I13","v":"Ground Floor"},{"$f":"'Pivot Table Data'!J13","v":"Visitor"},{"$f":"'Pivot Table Data'!K13","v":0},{"$f":"'Pivot Table Data'!L13","v":0},{"$f":"'Pivot Table Data'!S13","v":64},{"$f":"'Pivot Table Data'!T13","v":237},{"$f":"IF('Pivot Table Data'!O13=\"Yes\", 'Pivot Table Data'!T13, \"\")","v":237}]
[{"$f":"'Pivot Table Data'!B14","v":0},{"$f":"'Pivot Table Data'!F14","v":"Health Sciences East"},{"$f":"'Pivot Table Data'!P14","v":"Athena"},{"$f":"'Pivot Table Data'!I14","v":"L2"},{"$f":"'Pivot Table Data'!J14","v":"A"},{"$f":"'Pivot Table Data'!K14","v":0},{"$f":"'Pivot Table Data'!L14","v":0},{"$f":"'Pivot Table Data'!S14","v":9},{"$f":"'Pivot Table Data'!T14","v":""},{"$f":"IF('Pivot Table Data'!O14=\"Yes\", 'Pivot Table Data'!T14, \"\")","v":""}]
[{"$f":"'Pivot Table Data'!B15","v":0},{"$f":"'Pivot Table Data'!F15","v":"Health Sciences East"},{"$f":"'Pivot Table Data'!P15","v":"Athena"},{"$f":"'Pivot Table Data'!I15","v":"L2"},{"$f":"'Pivot Table Data'!J15","v":"Accessible"},{"$f":"'Pivot Table Data'!K15","v":0},{"$f":"'Pivot Table Data'!L15","v":0},{"$f":"'Pivot Table Data'!S15","v":15},{"$f":"'Pivot Table Data'!T15","v":""},{"$f":"IF('Pivot Table Data'!O15=\"Yes\", 'Pivot Table Data'!T15, \"\")","v":""}]
[{"$f":"'Pivot Table Data'!B16","v":0},{"$f":"'Pivot Table Data'!F16","v":"Health Sciences East"},{"$f":"'Pivot Table Data'!P16","v":"Athena"},{"$f":"'Pivot Table Data'!I16","v":"L2"},{"$f":"'Pivot Table Data'!J16","v":"Accessible (Van)"},{"$f":"'Pivot Table Data'!K16","v":0},{"$f":"'Pivot Table Data'!L16","v":0},{"$f":"'Pivot Table Data'!S16","v":3},{"$f":"'Pivot Table Data'!T16","v":""},{"$f":"IF('Pivot Table Data'!O16=\"Yes\", 'Pivot Table Data'!T16, \"\")","v":""}]
[{"$f":"'Pivot Table Data'!B17","v":0},{"$f":"'Pivot Table Data'!F17","v":"Health Sciences East"},{"$f":"'Pivot Table Data'!P17","v":"Athena"},{"$f":"'Pivot Table Data'!I17","v":"L2"},{"$f":"'Pivot Table Data'!J17","v":"Motorcycle Section"},{"$f":"'Pivot Table Data'!K17","v":0},{"$f":"'Pivot Table Data'!L17","v":0},{"$f":"'Pivot Table Data'!S17","v":10},{"$f":"'Pivot Table Data'!T17","v":""},{"$f":"IF('Pivot Table Data'!O17=\"Yes\", 'Pivot Table Data'!T17, \"\")","v":""}]
[{"$f":"'Pivot Table Data'!B18","v":0},{"$f":"'Pivot Table Data'!F18","v":"Health Sciences East"},{"$f":"'Pivot Table Data'!P18","v":"Athena"},{"$f":"'Pivot Table Data'!I18","v":"L2"},{"$f":"'Pivot Table Data'!J18","v":"Motorcycle Section"},{"$f":"'Pivot Table Data'!K18","v":0},{"$f":"'Pivot Table Data'!L18","v":0},{"$f":"'Pivot Table Data'!S18","v":2},{"$f":"'Pivot Table Data'!T18","v":""},{"$f":"IF('Pivot Table Data'!O18=\"Yes\", 'Pivot Table Data'!T18, \"\")","v":""}]
[{"$f":"'Pivot Table Data'!B19","v":0},{"$f":"'Pivot Table Data'!F19","v":"Health Sciences East"},{"$f":"'Pivot Table Data'!P19","v":"Athena"},{"$f":"'Pivot Table Data'!I19","v":"L2"},{"$f":"'Pivot Table Data'!J19","v":"Visitor"},{"$f":"'Pivot Table Data'!K19","v":"Infusion"},{"$f":"'Pivot Table Data'!L19","v":0},{"$f":"'Pivot Table Data'!S19","v":30},{"$f":"'Pivot Table Data'!T19","v":30},{"$f":"IF('Pivot Table Data'!O19=\"Yes\", 'Pivot Table Data'!T19, \"\")","v":30}]
[{"$f":"'Pivot Table Data'!B20","v":0},{"$f":"'Pivot Table Data'!F20","v":"Health Sciences East"},{"$f":"'Pivot Table Data'!P20","v":"Athena"},{"$f":"'Pivot Table Data'!I20","v":"L2"},{"$f":"'Pivot Table Data'!J20","v":"Visitor"},{"$f":"'Pivot Table Data'!K20","v":"Radiation"},{"$f":"'Pivot Table Data'!L20","v":0},{"$f":"'Pivot Table Data'!S20","v":10},{"$f":"'Pivot Table Data'!T20","v":10},{"$f":"IF('Pivot Table Data'!O20=\"Yes\", 'Pivot Table Data'!T20, \"\")","v":10}]
[{"$f":"'Pivot Table Data'!B21","v":0},{"$f":"'Pivot Table Data'!F21","v":"Health Sciences East"},{"$f":"'Pivot Table Data'!P21","v":"Athena"},{"$f":"'Pivot Table Data'!I21","v":"L2"},{"$f":"'Pivot Table Data'!J21","v":"Visitor"},{"$f":"'Pivot Table Data'!K21","v":0},{"$f":"'Pivot Table Data'!L21","v":0},{"$f":"'Pivot Table Data'!S21","v":115},{"$f":"'Pivot Table Data'!T21","v":""},{"$f":"IF('Pivot Table Data'!O21=\"Yes\", 'Pivot Table Data'!T21, \"\")","v":""}]
[{"$f":"'Pivot Table Data'!B22","v":0},{"$f":"'Pivot Table Data'!F22","v":"Health Sciences East"},{"$f":"'Pivot Table Data'!P22","v":"Athena"},{"$f":"'Pivot Table Data'!I22","v":"L3"},{"$f":"'Pivot Table Data'!J22","v":"A"},{"$f":"'Pivot Table Data'!K22","v":0},{"$f":"'Pivot Table Data'!L22","v":0},{"$f":"'Pivot Table Data'!S22","v":147},{"$f":"'Pivot Table Data'!T22","v":""},{"$f":"IF('Pivot Table Data'!O22=\"Yes\", 'Pivot Table Data'!T22, \"\")","v":""}]
[{"$f":"'Pivot Table Data'!B23","v":0},{"$f":"'Pivot Table Data'!F23","v":"Health Sciences East"},{"$f":"'Pivot Table Data'!P23","v":"Athena"},{"$f":"'Pivot Table Data'!I23","v":"L3"},{"$f":"'Pivot Table Data'!J23","v":"A"},{"$f":"'Pivot Table Data'!K23","v":0},{"$f":"'Pivot Table Data'!L23","v":0},{"$f":"'Pivot Table Data'!S23","v":0},{"$f":"'Pivot Table Data'!T23","v":""},{"$f":"IF('Pivot Table Data'!O23=\"Yes\", 'Pivot Table Data'!T23, \"\")","v":""}]
[{"$f":"'Pivot Table Data'!B24","v":0},{"$f":"'Pivot Table Data'!F24","v":"Health Sciences East"},{"$f":"'Pivot Table Data'!P24","v":"Athena"},{"$f":"'Pivot Table Data'!I24","v":"L3"},{"$f":"'Pivot Table Data'!J24","v":"A"},{"$f":"'Pivot Table Data'!K24","v":0},{"$f":"'Pivot Table Data'!L24","v":0},{"$f":"'Pivot Table Data'!S24","v":0},{"$f":"'Pivot Table Data'!T24","v":""},{"$f":"IF('Pivot Table Data'!O24=\"Yes\", 'Pivot Table Data'!T24, \"\")","v":""}]
[{"$f":"'Pivot Table Data'!B25","v":0},{"$f":"'Pivot Table Data'!F25","v":"Health Sciences East"},{"$f":"'Pivot Table Data'!P25","v":"Athena"},{"$f":"'Pivot Table Data'!I25","v":"L3"},{"$f":"'Pivot Table Data'!J25","v":"Accessible"},{"$f":"'Pivot Table Data'!K25","v":0},{"$f":"'Pivot Table Data'!L25","v":0},{"$f":"'Pivot Table Data'!S25","v":7},{"$f":"'Pivot Table Data'!T25","v":""},{"$f":"IF('Pivot Table Data'!O25=\"Yes\", 'Pivot Table Data'!T25, \"\")","v":""}]
[{"$f":"'Pivot Table Data'!B26","v":0},{"$f":"'Pivot Table Data'!F26","v":"Health Sciences East"},{"$f":"'Pivot Table Data'!P26","v":"Athena"},{"$f":"'Pivot Table Data'!I26","v":"L3"},{"$f":"'Pivot Table Data'!J26","v":"Accessible (Van)"},{"$f":"'Pivot Table Data'!K26","v":0},{"$f":"'Pivot Table Data'!L26","v":0},{"$f":"'Pivot Table Data'!S26","v":2},{"$f":"'Pivot Table Data'!T26","v":""},{"$f":"IF('Pivot Table Data'!O26=\"Yes\", 'Pivot Table Data'!T26, \"\")","v":""}]
[{"$f":"'Pivot Table Data'!B27","v":0},{"$f":"'Pivot Table Data'!F27","v":"Health Sciences East"},{"$f":"'Pivot Table Data'!P27","v":"Athena"},{"$f":"'Pivot Table Data'!I27","v":"L3"},{"$f":"'Pivot Table Data'!J27","v":"B"},{"$f":"'Pivot Table Data'!K27","v":0},{"$f":"'Pivot Table Data'!L27","v":0},{"$f":"'Pivot Table Data'!S27","v":0},{"$f":"'Pivot Table Data'!T27","v":540},{"$f":"IF('Pivot Table Data'!O27=\"Yes\", 'Pivot Table Data'!T27, \"\")","v":540}]
[{"$f":"'Pivot Table Data'!B28","v":0},{"$f":"'Pivot Table Data'!F28","v":"Health Sciences East"},{"$f":"'Pivot Table Data'!P28","v":"Athena"},{"$f":"'Pivot Table Data'!I28","v":"L3"},{"$f":"'Pivot Table Data'!J28","v":"Visitor"},{"$f":"'Pivot Table Data'!K28","v":0},{"$f":"'Pivot Table Data'!L28","v":0},{"$f":"'Pivot Table Data'!S28","v":58},{"$f":"'Pivot Table Data'!T28","v":""},{"$f":"IF('Pivot Table Data'!O28=\"Yes\", 'Pivot Table Data'!T28, \"\")","v":""}]
[{"$f":"'Pivot Table Data'!B29","v":0},{"$f":"'Pivot Table Data'!F29","v":"Health Sciences East"},{"$f":"'Pivot Table Data'!P29","v":"Athena"},{"$f":"'Pivot Table Data'!I29","v":"L4"},{"$f":"'Pivot Table Data'!J29","v":"A"},{"$f":"'Pivot Table Data'!K29","v":0},{"$f":"'Pivot Table Data'!L29","v":0},{"$f":"'Pivot Table Data'!S29","v":147},{"$f":"'Pivot Table Data'!T29","v":""},{"$f":"IF('Pivot Table Data'!O29=\"Yes\", 'Pivot Table Data'!T29, \"\")","v":""}]
[{"$f":"'Pivot Table Data'!B30","v":0},{"$f":"'Pivot Table Data'!F30","v":"Health Sciences East"},{"$f":"'Pivot Table Data'!P30","v":"Athena"},{"$f":"'Pivot Table Data'!I30","v":"L4"},{"$f":"'Pivot Table Data'!J30","v":"B"},{"$f":"'Pivot Table Data'!K30","v":0},{"$f":"'Pivot Table Data'!L30","v":0},{"$f":"'Pivot Table Data'!S30","v":76},{"$f":"'Pivot Table Data'!T30","v":""},{"$f":"IF('Pivot Table Data'!O30=\"Yes\", 'Pivot Table Data'!T30, \"\")","v":""}]
[{"$f":"'Pivot Table Data'!B31","v":0},{"$f":"'Pivot Table Data'!F31","v":"Health Sciences East"},{"$f":"'Pivot Table Data'!P31","v":"Athena"},{"$f":"'Pivot Table Data'!I31","v":"L4"},{"$f":"'Pivot Table Data'!J31","v":"Motorcycle Section"},{"$f":"'Pivot Table Data'!K31","v":0},{"$f":"'Pivot Table Data'!L31","v":0},{"$f":"'Pivot Table Data'!S31","v":5},{"$f":"'Pivot Table Data'!T31","v":""},{"$f":"IF('Pivot Table Data'!O31=\"Yes\", 'Pivot Table Data'!T31, \"\")","v":""}]
[{"$f":"'Pivot Table Data'!B32","v":0},{"$f":"'Pivot Table Data'!F32","v":"Health Sciences East"},{"$f":"'Pivot Table Data'!P32","v":"Athena"},{"$f":"'Pivot Table Data'!I32","v":"L4"},{"$f":"'Pivot Table Data'!J32","v":"Reserved"},{"$f":"'Pivot Table Data'!K32","v":0},{"$f":"'Pivot Table Data'!L32","v":0},{"$f":"'Pivot Table Data'!S32","v":6},{"$f":"'Pivot Table Data'!T32","v":6},{"$f":"IF('Pivot Table Data'!O32=\"Yes\", 'Pivot Table Data'!T32, \"\")","v":""}]
[{"$f":"'Pivot Table Data'!B33","v":0},{"$f":"'Pivot Table Data'!F33","v":"Health Sciences East"},{"$f":"'Pivot Table Data'!P33","v":"Athena"},{"$f":"'Pivot Table Data'!I33","v":"L5"},{"$f":"'Pivot Table Data'!J33","v":"B"},{"$f":"'Pivot Table Data'!K33","v":0},{"$f":"'Pivot Table Data'!L33","v":0},{"$f":"'Pivot Table Data'!S33","v":225},{"$f":"'Pivot Table Data'!T33","v":""},{"$f":"IF('Pivot Table Data'!O33=\"Yes\", 'Pivot Table Data'!T33, \"\")","v":""}]
[{"$f":"'Pivot Table Data'!B34","v":0},{"$f":"'Pivot Table Data'!F34","v":"Health Sciences East"},{"$f":"'Pivot Table Data'!P34","v":"Athena"},{"$f":"'Pivot Table Data'!I34","v":"L5"},{"$f":"'Pivot Table Data'!J34","v":"Electric Vehicle"},{"$f":"'Pivot Table Data'!K34","v":0},{"$f":"'Pivot Table Data'!L34","v":"12-Hour"},{"$f":"'Pivot Table Data'!S34","v":0},{"$f":"'Pivot Table Data'!T34","v":27},{"$f":"IF('Pivot Table Data'!O34=\"Yes\", 'Pivot Table Data'!T34, \"\")","v":""}]
[{"$f":"'Pivot Table Data'!B35","v":0},{"$f":"'Pivot Table Data'!F35","v":"Health Sciences East"},{"$f":"'Pivot Table Data'!P35","v":"Athena"},{"$f":"'Pivot Table Data'!I35","v":"L5"},{"$f":"'Pivot Table Data'!J35","v":"Motorcycle Section"},{"$f":"'Pivot Table Data'!K35","v":0},{"$f":"'Pivot Table Data'!L35","v":0},{"$f":"'Pivot Table Data'!S35","v":5},{"$f":"'Pivot Table Data'!T35","v":""},{"$f":"IF('Pivot Table Data'!O35=\"Yes\", 'Pivot Table Data'!T35, \"\")","v":""}]
[{"$f":"'Pivot Table Data'!B36","v":0},{"$f":"'Pivot Table Data'!F36","v":"Health Sciences East"},{"$f":"'Pivot Table Data'!P36","v":"Athena"},{"$f":"'Pivot Table Data'!I36","v":"L6"},{"$f":"'Pivot Table Data'!J36","v":"B"},{"$f":"'Pivot Table Data'!K36","v":0},{"$f":"'Pivot Table Data'!L36","v":0},{"$f":"'Pivot Table Data'!S36","v":133},{"$f":"'Pivot Table Data'!T36","v":""},{"$f":"IF('Pivot Table Data'!O36=\"Yes\", 'Pivot Table Data'!T36, \"\")","v":""}]
[{"$f":"'Pivot Table Data'!B37","v":0},{"$f":"'Pivot Table Data'!F37","v":"Health Sciences East"},{"$f":"'Pivot Table Data'!P37","v":"Athena"},{"$f":"'Pivot Table Data'!I37","v":"L6"},{"$f":"'Pivot Table Data'!J37","v":"Electric Vehicle"},{"$f":"'Pivot Table Data'!K37","v":0},{"$f":"'Pivot Table Data'!L37","v":"12-Hour"},{"$f":"'Pivot Table Data'!S37","v":27},{"$f":"'Pivot Table Data'!T37","v":""},{"$f":"IF('Pivot Table Data'!O37=\"Yes\", 'Pivot Table Data'!T37, \"\")","v":""}]
[{"$f":"'Pivot Table Data'!B38","v":0},{"$f":"'Pivot Table Data'!F38","v":"Health Sciences East"},{"$f":"'Pivot Table Data'!P38","v":"Athena"},{"$f":"'Pivot Table Data'!I38","v":"L6"},{"$f":"'Pivot Table Data'!J38","v":"Motorcycle Section"},{"$f":"'Pivot Table Data'!K38","v":0},{"$f":"'Pivot Table Data'!L38","v":0},{"$f":"'Pivot Table Data'!S38","v":8},{"$f":"'Pivot Table Data'!T38","v":""},{"$f":"IF('Pivot Table Data'!O38=\"Yes\", 'Pivot Table Data'!T38, \"\")","v":""}]
[{"$f":"'Pivot Table Data'!B39","v":0},{"$f":"'Pivot Table Data'!F39","v":"Health Sciences East"},{"$f":"'Pivot Table Data'!P39","v":"Athena"},{"$f":"'Pivot Table Data'!I39","v":"Roof"},{"$f":"'Pivot Table Data'!J39","v":"B"},{"$f":"'Pivot Table Data'!K39","v":0},{"$f":"'Pivot Table Data'!L39","v":0},{"$f":"'Pivot Table Data'!S39","v":106},{"$f":"'Pivot Table Data'!T39","v":""},{"$f":"IF('Pivot Table Data'!O39=\"Yes\", 'Pivot Table Data'!T39, \"\")","v":""}]
[{"$f":"'Pivot Table Data'!B40","v":0},{"$f":"'Pivot Table Data'!F40","v":"Health Sciences East"},{"$f":"'Pivot Table Data'!P40","v":"Campus Point East"},{"$f":"'Pivot Table Data'!I40","v":"L1"},{"$f":"'Pivot Table Data'!J40","v":"A"},{"$f":"'Pivot Table Data'!K40","v":"24/7 Enforced"},{"$f":"'Pivot Table Data'!L40","v":0},{"$f":"'Pivot Table Data'!S40","v":177},{"$f":"'Pivot Table Data'!T40","v":371},{"$f":"IF('Pivot Table Data'!O40=\"Yes\", 'Pivot Table Data'!T40, \"\")","v":371}]
[{"$f":"'Pivot Table Data'!B41","v":0},{"$f":"'Pivot Table Data'!F41","v":"Health Sciences East"},{"$f":"'Pivot Table Data'!P41","v":"Campus Point East"},{"$f":"'Pivot Table Data'!I41","v":"L2"},{"$f":"'Pivot Table Data'!J41","v":"A"},{"$f":"'Pivot Table Data'!K41","v":"24/7 Enforced"},{"$f":"'Pivot Table Data'!L41","v":0},{"$f":"'Pivot Table Data'!S41","v":194},{"$f":"'Pivot Table Data'!T41","v":""},{"$f":"IF('Pivot Table Data'!O41=\"Yes\", 'Pivot Table Data'!T41, \"\")","v":""}]
[{"$f":"'Pivot Table Data'!B42","v":0},{"$f":"'Pivot Table Data'!F42","v":"Health Sciences East"},{"$f":"'Pivot Table Data'!P42","v":"Campus Point East"},{"$f":"'Pivot Table Data'!I42","v":"L2"},{"$f":"'Pivot Table Data'!J42","v":"Accessible"},{"$f":"'Pivot Table Data'!K42","v":0},{"$f":"'Pivot Table Data'!L42","v":0},{"$f":"'Pivot Table Data'!S42","v":11},{"$f":"'Pivot Table Data'!T42","v":11},{"$f":"IF('Pivot Table Data'!O42=\"Yes\", 'Pivot Table Data'!T42, \"\")","v":""}]
[{"$f":"'Pivot Table Data'!B43","v":0},{"$f":"'Pivot Table Data'!F43","v":"Health Sciences East"},{"$f":"'Pivot Table Data'!P43","v":"Campus Point East"},{"$f":"'Pivot Table Data'!I43","v":"L2"},{"$f":"'Pivot Table Data'!J43","v":"Accessible (Van)"},{"$f":"'Pivot Table Data'!K43","v":0},{"$f":"'Pivot Table Data'!L43","v":0},{"$f":"'Pivot Table Data'!S43","v":1},{"$f":"'Pivot Table Data'!T43","v":1},{"$f":"IF('Pivot Table Data'!O43=\"Yes\", 'Pivot Table Data'!T43, \"\")","v":""}]
[{"$f":"'Pivot Table Data'!B44","v":0},{"$f":"'Pivot Table Data'!F44","v":"Health Sciences East"},{"$f":"'Pivot Table Data'!P44","v":"Campus Point East"},{"$f":"'Pivot Table Data'!I44","v":"L2"},{"$f":"'Pivot Table Data'!J44","v":"Electric Vehicle"},{"$f":"'Pivot Table Data'!K44","v":0},{"$f":"'Pivot Table Data'!L44","v":0},{"$f":"'Pivot Table Data'!S44","v":3},{"$f":"'Pivot Table Data'!T44","v":3},{"$f":"IF('Pivot Table Data'!O44=\"Yes\", 'Pivot Table Data'!T44, \"\")","v":""}]
[{"$f":"'Pivot Table Data'!B45","v":0},{"$f":"'Pivot Table Data'!F45","v":"Health Sciences East"},{"$f":"'Pivot Table Data'!P45","v":"Campus Point East"},{"$f":"'Pivot Table Data'!I45","v":"L2"},{"$f":"'Pivot Table Data'!J45","v":"Motorcycle Section"},{"$f":"'Pivot Table Data'!K45","v":0},{"$f":"'Pivot Table Data'!L45","v":0},{"$f":"'Pivot Table Data'!S45","v":8},{"$f":"'Pivot Table Data'!T45","v":8},{"$f":"IF('Pivot Table Data'!O45=\"Yes\", 'Pivot Table Data'!T45, \"\")","v":""}]
[{"$f":"'Pivot Table Data'!B46","v":0},{"$f":"'Pivot Table Data'!F46","v":"Health Sciences East"},{"$f":"'Pivot Table Data'!P46","v":"Campus Point East"},{"$f":"'Pivot Table Data'!I46","v":"L2"},{"$f":"'Pivot Table Data'!J46","v":"Reserved"},{"$f":"'Pivot Table Data'!K46","v":0},{"$f":"'Pivot Table Data'!L46","v":0},{"$f":"'Pivot Table Data'!S46","v":40},{"$f":"'Pivot Table Data'!T46","v":40},{"$f":"IF('Pivot Table Data'!O46=\"Yes\", 'Pivot Table Data'!T46, \"\")","v":""}]
[{"$f":"'Pivot Table Data'!B47","v":0},{"$f":"'Pivot Table Data'!F47","v":"Health Sciences East"},{"$f":"'Pivot Table Data'!P47","v":"Campus Point East"},{"$f":"'Pivot Table Data'!I47","v":"L3"},{"$f":"'Pivot Table Data'!J47","v":"Reserved"},{"$f":"'Pivot Table Data'!K47","v":"Valet"},{"$f":"'Pivot Table Data'!L47","v":0},{"$f":"'Pivot Table Data'!S47","v":127},{"$f":"'Pivot Table Data'!T47","v":127},{"$f":"IF('Pivot Table Data'!O47=\"Yes\", 'Pivot Table Data'!T47, \"\")","v":""}]
[{"$f":"'Pivot Table Data'!B48","v":0},{"$f":"'Pivot Table Data'!F48","v":"Health Sciences East"},{"$f":"'Pivot Table Data'!P48","v":"Campus Point East"},{"$f":"'Pivot Table Data'!I48","v":"L3"},{"$f":"'Pivot Table Data'!J48","v":"Visitor"},{"$f":"'Pivot Table Data'!K48","v":0},{"$f":"'Pivot Table Data'!L48","v":0},{"$f":"'Pivot Table Data'!S48","v":138},{"$f":"'Pivot Table Data'!T48","v":138},{"$f":"IF('Pivot Table Data'!O48=\"Yes\", 'Pivot Table Data'!T48, \"\")","v":138}]
[{"$f":"'Pivot Table Data'!B49","v":0},{"$f":"'Pivot Table Data'!F49","v":"Health Sciences East"},{"$f":"'Pivot Table Data'!P49","v":"Campus Point West"},{"$f":"'Pivot Table Data'!I49","v":"B3"},{"$f":"'Pivot Table Data'!J49","v":"Motorcycle Section"},{"$f":"'Pivot Table Data'!K49","v":0},{"$f":"'Pivot Table Data'!L49","v":0},{"$f":"'Pivot Table Data'!S49","v":0},{"$f":"'Pivot Table Data'!T49","v":0},{"$f":"IF('Pivot Table Data'!O49=\"Yes\", 'Pivot Table Data'!T49, \"\")","v":""}]
[{"$f":"'Pivot Table Data'!B50","v":0},{"$f":"'Pivot Table Data'!F50","v":"Health Sciences East"},{"$f":"'Pivot Table Data'!P50","v":"Campus Point West"},{"$f":"'Pivot Table Data'!I50","v":"B3"},{"$f":"'Pivot Table Data'!J50","v":"Visitor"},{"$f":"'Pivot Table Data'!K50","v":0},{"$f":"'Pivot Table Data'!L50","v":0},{"$f":"'Pivot Table Data'!S50","v":130},{"$f":"'Pivot Table Data'!T50","v":611},{"$f":"IF('Pivot Table Data'!O50=\"Yes\", 'Pivot Table Data'!T50, \"\")","v":611}]
[{"$f":"'Pivot Table Data'!B51","v":0},{"$f":"'Pivot Table Data'!F51","v":"Health Sciences East"},{"$f":"'Pivot Table Data'!P51","v":"Campus Point West"},{"$f":"'Pivot Table Data'!I51","v":"B2"},{"$f":"'Pivot Table Data'!J51","v":"Motorcycle Section"},{"$f":"'Pivot Table Data'!K51","v":0},{"$f":"'Pivot Table Data'!L51","v":0},{"$f":"'Pivot Table Data'!S51","v":0},{"$f":"'Pivot Table Data'!T51","v":""},{"$f":"IF('Pivot Table Data'!O51=\"Yes\", 'Pivot Table Data'!T51, \"\")","v":""}]
[{"$f":"'Pivot Table Data'!B52","v":0},{"$f":"'Pivot Table Data'!F52","v":"Health Sciences East"},{"$f":"'Pivot Table Data'!P52","v":"Campus Point West"},{"$f":"'Pivot Table Data'!I52","v":"B2"},{"$f":"'Pivot Table Data'!J52","v":"Visitor"},{"$f":"'Pivot Table Data'!K52","v":0},{"$f":"'Pivot Table Data'!L52","v":0},{"$f":"'Pivot Table Data'!S52","v":181},{"$f":"'Pivot Table Data'!T52","v":""},{"$f":"IF('Pivot Table Data'!O52=\"Yes\", 'Pivot Table Data'!T52, \"\")","v":""}]
[{"$f":"'Pivot Table Data'!B53","v":0},{"$f":"'Pivot Table Data'!F53","v":"Health Sciences East"},{"$f":"'Pivot Table Data'!P53","v":"Campus Point West"},{"$f":"'Pivot Table Data'!I53","v":"B1"},{"$f":"'Pivot Table Data'!J53","v":"Accessible"},{"$f":"'Pivot Table Data'!K53","v":0},{"$f":"'Pivot Table Data'!L53","v":0},{"$f":"'Pivot Table Data'!S53","v":31},{"$f":"'Pivot Table Data'!T53","v":87},{"$f":"IF('Pivot Table Data'!O53=\"Yes\", 'Pivot Table Data'!T53, \"\")","v":""}]
[{"$f":"'Pivot Table Data'!B54","v":0},{"$f":"'Pivot Table Data'!F54","v":"Health Sciences East"},{"$f":"'Pivot Table Data'!P54","v":"Campus Point West"},{"$f":"'Pivot Table Data'!I54","v":"B1"},{"$f":"'Pivot Table Data'!J54","v":"Accessible (Van)"},{"$f":"'Pivot Table Data'!K54","v":0},{"$f":"'Pivot Table Data'!L54","v":0},{"$f":"'Pivot Table Data'!S54","v":6},{"$f":"'Pivot Table Data'!T54","v":17},{"$f":"IF('Pivot Table Data'!O54=\"Yes\", 'Pivot Table Data'!T54, \"\")","v":""}]
[{"$f":"'Pivot Table Data'!B55","v":0},{"$f":"'Pivot Table Data'!F55","v":"Health Sciences East"},{"$f":"'Pivot Table Data'!P55","v":"Campus Point West"},{"$f":"'Pivot Table Data'!I55","v":"B1"},{"$f":"'Pivot Table Data'!J55","v":"Electric Vehicle"},{"$f":"'Pivot Table Data'!K55","v":0},{"$f":"'Pivot Table Data'!L55","v":0},{"$f":"'Pivot Table Data'!S55","v":6},{"$f":"'Pivot Table Data'!T55","v":6},{"$f":"IF('Pivot Table Data'!O55=\"Yes\", 'Pivot Table Data'!T55, \"\")","v":""}]
[{"$f":"'Pivot Table Data'!B56","v":0},{"$f":"'Pivot Table Data'!F56","v":"Health Sciences East"},{"$f":"'Pivot Table Data'!P56","v":"Campus Point West"},{"$f":"'Pivot Table Data'!I56","v":"B1"},{"$f":"'Pivot Table Data'!J56","v":"Visitor"},{"$f":"'Pivot Table Data'!K56","v":0},{"$f":"'Pivot Table Data'!L56","v":0},{"$f":"'Pivot Table Data'!S56","v":109},{"$f":"'Pivot Table Data'!T56","v":""},{"$f":"IF('Pivot Table Data'!O56=\"Yes\", 'Pivot Table Data'!T56, \"\")","v":""}]
[{"$f":"'Pivot Table Data'!B57","v":0},{"$f":"'Pivot Table Data'!F57","v":"Health Sciences East"},{"$f":"'Pivot Table Data'!P57","v":"Campus Point West"},{"$f":"'Pivot Table Data'!I57","v":"Ground Floor"},{"$f":"'Pivot Table Data'!J57","v":"A"},{"$f":"'Pivot Table Data'!K57","v":"24/7 Enforced"},{"$f":"'Pivot Table Data'!L57","v":0},{"$f":"'Pivot Table Data'!S57","v":7},{"$f":"'Pivot Table Data'!T57","v":7},{"$f":"IF('Pivot Table Data'!O57=\"Yes\", 'Pivot Table Data'!T57, \"\")","v":7}]
[{"$f":"'Pivot Table Data'!B58","v":0},{"$f":"'Pivot Table Data'!F58","v":"Health Sciences East"},{"$f":"'Pivot Table Data'!P58","v":"Campus Point West"},{"$f":"'Pivot Table Data'!I58","v":"Ground Floor"},{"$f":"'Pivot Table Data'!J58","v":"Accessible"},{"$f":"'Pivot Table Data'!K58","v":0},{"$f":"'Pivot Table Data'!L58","v":0},{"$f":"'Pivot Table Data'!S58","v":24},{"$f":"'Pivot Table Data'!T58","v":""},{"$f":"IF('Pivot Table Data'!O58=\"Yes\", 'Pivot Table Data'!T58, \"\")","v":""}]
[{"$f":"'Pivot Table Data'!B59","v":0},{"$f":"'Pivot Table Data'!F59","v":"Health Sciences East"},{"$f":"'Pivot Table Data'!P59","v":"Campus Point West"},{"$f":"'Pivot Table Data'!I59","v":"Ground Floor"},{"$f":"'Pivot Table Data'!J59","v":"Accessible (Van)"},{"$f":"'Pivot Table Data'!K59","v":0},{"$f":"'Pivot Table Data'!L59","v":0},{"$f":"'Pivot Table Data'!S59","v":7},{"$f":"'Pivot Table Data'!T59","v":""},{"$f":"IF('Pivot Table Data'!O59=\"Yes\", 'Pivot Table Data'!T59, \"\")","v":""}]
[{"$f":"'Pivot Table Data'!B60","v":0},{"$f":"'Pivot Table Data'!F60","v":"Health Sciences East"},{"$f":"'Pivot Table Data'!P60","v":"Campus Point West"},{"$f":"'Pivot Table Data'!I60","v":"Ground Floor"},{"$f":"'Pivot Table Data'!J60","v":"Motorcycle Section"},{"$f":"'Pivot Table Data'!K60","v":0},{"$f":"'Pivot Table Data'!L60","v":0},{"$f":"'Pivot Table Data'!S60","v":0},{"$f":"'Pivot Table Data'!T60","v":""},{"$f":"IF('Pivot Table Data'!O60=\"Yes\", 'Pivot Table Data'!T60, \"\")","v":""}]
[{"$f":"'Pivot Table Data'!B61","v":0},{"$f":"'Pivot Table Data'!F61","v":"Health Sciences East"},{"$f":"'Pivot Table Data'!P61","v":"Campus Point West"},{"$f":"'Pivot Table Data'!I61","v":"Ground Floor"},{"$f":"'Pivot Table Data'!J61","v":"Reserved"},{"$f":"'Pivot Table Data'!K61","v":"Emergency Room"},{"$f":"'Pivot Table Data'!L61","v":0},{"$f":"'Pivot Table Data'!S61","v":10},{"$f":"'Pivot Table Data'!T61","v":10},{"$f":"IF('Pivot Table Data'!O61=\"Yes\", 'Pivot Table Data'!T61, \"\")","v":""}]
[{"$f":"'Pivot Table Data'!B62","v":0},{"$f":"'Pivot Table Data'!F62","v":"Health Sciences East"},{"$f":"'Pivot Table Data'!P62","v":"Campus Point West"},{"$f":"'Pivot Table Data'!I62","v":"Ground Floor"},{"$f":"'Pivot Table Data'!J62","v":"Reserved"},{"$f":"'Pivot Table Data'!K62","v":0},{"$f":"'Pivot Table Data'!L62","v":0},{"$f":"'Pivot Table Data'!S62","v":6},{"$f":"'Pivot Table Data'!T62","v":18},{"$f":"IF('Pivot Table Data'!O62=\"Yes\", 'Pivot Table Data'!T62, \"\")","v":""}]
[{"$f":"'Pivot Table Data'!B63","v":0},{"$f":"'Pivot Table Data'!F63","v":"Health Sciences East"},{"$f":"'Pivot Table Data'!P63","v":"Campus Point West"},{"$f":"'Pivot Table Data'!I63","v":"Ground Floor"},{"$f":"'Pivot Table Data'!J63","v":"Reserved"},{"$f":"'Pivot Table Data'!K63","v":0},{"$f":"'Pivot Table Data'!L63","v":0},{"$f":"'Pivot Table Data'!S63","v":2},{"$f":"'Pivot Table Data'!T63","v":""},{"$f":"IF('Pivot Table Data'!O63=\"Yes\", 'Pivot Table Data'!T63, \"\")","v":""}]
[{"$f":"'Pivot Table Data'!B64","v":0},{"$f":"'Pivot Table Data'!F64","v":"Health Sciences East"},{"$f":"'Pivot Table Data'!P64","v":"Campus Point West"},{"$f":"'Pivot Table Data'!I64","v":"Ground Floor"},{"$f":"'Pivot Table Data'!J64","v":"Reserved"},{"$f":"'Pivot Table Data'!K64","v":0},{"$f":"'Pivot Table Data'!L64","v":0},{"$f":"'Pivot Table Data'!S64","v":10},{"$f":"'Pivot Table Data'!T64","v":""},{"$f":"IF('Pivot Table Data'!O64=\"Yes\", 'Pivot Table Data'!T64, \"\")","v":""}]
[{"$f":"'Pivot Table Data'!B65","v":0},{"$f":"'Pivot Table Data'!F65","v":"Health Sciences East"},{"$f":"'Pivot Table Data'!P65","v":"Campus Point West"},{"$f":"'Pivot Table Data'!I65","v":"Ground Floor"},{"$f":"'Pivot Table Data'!J65","v":"Visitor"},{"$f":"'Pivot Table Data'!K65","v":"Patient/Visitor Reserved"},{"$f":"'Pivot Table Data'!L65","v":"30 minutes"},{"$f":"'Pivot Table Data'!S65","v":1},{"$f":"'Pivot Table Data'!T65","v":1},{"$f":"IF('Pivot Table Data'!O65=\"Yes\", 'Pivot Table Data'!T65, \"\")","v":1}]
[{"$f":"'Pivot Table Data'!B66","v":0},{"$f":"'Pivot Table Data'!F66","v":"Health Sciences East"},{"$f":"'Pivot Table Data'!P66","v":"Campus Point West"},{"$f":"'Pivot Table Data'!I66","v":"Ground Floor"},{"$f":"'Pivot Table Data'!J66","v":"Visitor"},{"$f":"'Pivot Table Data'!K66","v":0},{"$f":"'Pivot Table Data'!L66","v":0},{"$f":"'Pivot Table Data'!S66","v":47},{"$f":"'Pivot Table Data'!T66","v":""},{"$f":"IF('Pivot Table Data'!O66=\"Yes\", 'Pivot Table Data'!T66, \"\")","v":""}]
[{"$f":"'Pivot Table Data'!B67","v":0},{"$f":"'Pivot Table Data'!F67","v":"Health Sciences East"},{"$f":"'Pivot Table Data'!P67","v":"Campus Point West"},{"$f":"'Pivot Table Data'!I67","v":"Ground Floor"},{"$f":"'Pivot Table Data'!J67","v":"Visitor"},{"$f":"'Pivot Table Data'!K67","v":0},{"$f":"'Pivot Table Data'!L67","v":0},{"$f":"'Pivot Table Data'!S67","v":18},{"$f":"'Pivot Table Data'!T67","v":""},{"$f":"IF('Pivot Table Data'!O67=\"Yes\", 'Pivot Table Data'!T67, \"\")","v":""}]
[{"$f":"'Pivot Table Data'!B68","v":0},{"$f":"'Pivot Table Data'!F68","v":"Health Sciences East"},{"$f":"'Pivot Table Data'!P68","v":"Campus Point West"},{"$f":"'Pivot Table Data'!I68","v":"Roof"},{"$f":"'Pivot Table Data'!J68","v":"Accessible"},{"$f":"'Pivot Table Data'!K68","v":0},{"$f":"'Pivot Table Data'!L68","v":0},{"$f":"'Pivot Table Data'!S68","v":32},{"$f":"'Pivot Table Data'!T68","v":""},{"$f":"IF('Pivot Table Data'!O68=\"Yes\", 'Pivot Table Data'!T68, \"\")","v":""}]
[{"$f":"'Pivot Table Data'!B69","v":0},{"$f":"'Pivot Table Data'!F69","v":"Health Sciences East"},{"$f":"'Pivot Table Data'!P69","v":"Campus Point West"},{"$f":"'Pivot Table Data'!I69","v":"Roof"},{"$f":"'Pivot Table Data'!J69","v":"Accessible (Van)"},{"$f":"'Pivot Table Data'!K69","v":0},{"$f":"'Pivot Table Data'!L69","v":0},{"$f":"'Pivot Table Data'!S69","v":4},{"$f":"'Pivot Table Data'!T69","v":""},{"$f":"IF('Pivot Table Data'!O69=\"Yes\", 'Pivot Table Data'!T69, \"\")","v":""}]
[{"$f":"'Pivot Table Data'!B70","v":0},{"$f":"'Pivot Table Data'!F70","v":"Health Sciences East"},{"$f":"'Pivot Table Data'!P70","v":"Campus Point West"},{"$f":"'Pivot Table Data'!I70","v":"Roof"},{"$f":"'Pivot Table Data'!J70","v":"Motorcycle Section"},{"$f":"'Pivot Table Data'!K70","v":0},{"$f":"'Pivot Table Data'!L70","v":0},{"$f":"'Pivot Table Data'!S70","v":0},{"$f":"'Pivot Table Data'!T70","v":""},{"$f":"IF('Pivot Table Data'!O70=\"Yes\", 'Pivot Table Data'!T70, \"\")","v":""}]
[{"$f":"'Pivot Table Data'!B71","v":0},{"$f":"'Pivot Table Data'!F71","v":"Health Sciences East"},{"$f":"'Pivot Table Data'!P71","v":"Campus Point West"},{"$f":"'Pivot Table Data'!I71","v":"Roof"},{"$f":"'Pivot Table Data'!J71","v":"Visitor"},{"$f":"'Pivot Table Data'!K71","v":0},{"$f":"'Pivot Table Data'!L71","v":0},{"$f":"'Pivot Table Data'!S71","v":126},{"$f":"'Pivot Table Data'!T71","v":""},{"$f":"IF('Pivot Table Data'!O71=\"Yes\", 'Pivot Table Data'!T71, \"\")","v":""}]
[{"$f":"'Pivot Table Data'!B72","v":0},{"$f":"'Pivot Table Data'!F72","v":"Health Sciences East"},{"$f":"'Pivot Table Data'!P72","v":"Curb"},{"$f":"'Pivot Table Data'!I72","v":"-"},{"$f":"'Pivot Table Data'!J72","v":0},{"$f":"'Pivot Table Data'!K72","v":0},{"$f":"'Pivot Table Data'!L72","v":0},{"$f":"'Pivot Table Data'!S72","v":0},{"$f":"'Pivot Table Data'!T72","v":0},{"$f":"IF('Pivot Table Data'!O72=\"Yes\", 'Pivot Table Data'!T72, \"\")","v":""}]
[{"$f":"'Pivot Table Data'!B73","v":0},{"$f":"'Pivot Table Data'!F73","v":"Science Research Park"},{"$f":"'Pivot Table Data'!P73","v":"Mesa Canyon"},{"$f":"'Pivot Table Data'!I73","v":"Ground"},{"$f":"'Pivot Table Data'!J73","v":"Accessible"},{"$f":"'Pivot Table Data'!K73","v":0},{"$f":"'Pivot Table Data'!L73","v":0},{"$f":"'Pivot Table Data'!S73","v":5},{"$f":"'Pivot Table Data'!T73","v":12},{"$f":"IF('Pivot Table Data'!O73=\"Yes\", 'Pivot Table Data'!T73, \"\")","v":""}]
[{"$f":"'Pivot Table Data'!B74","v":0},{"$f":"'Pivot Table Data'!F74","v":"Science Research Park"},{"$f":"'Pivot Table Data'!P74","v":"Mesa Canyon"},{"$f":"'Pivot Table Data'!I74","v":"Ground"},{"$f":"'Pivot Table Data'!J74","v":"Accessible (Van)"},{"$f":"'Pivot Table Data'!K74","v":0},{"$f":"'Pivot Table Data'!L74","v":0},{"$f":"'Pivot Table Data'!S74","v":2},{"$f":"'Pivot Table Data'!T74","v":5},{"$f":"IF('Pivot Table Data'!O74=\"Yes\", 'Pivot Table Data'!T74, \"\")","v":""}]
[{"$f":"'Pivot Table Data'!B75","v":0},{"$f":"'Pivot Table Data'!F75","v":"Science Research Park"},{"$f":"'Pivot Table Data'!P75","v":"Mesa Canyon"},{"$f":"'Pivot Table Data'!I75","v":"Ground"},{"$f":"'Pivot Table Data'!J75","v":"B"},{"$f":"'Pivot Table Data'!K75","v":0},{"$f":"'Pivot Table Data'!L75","v":0},{"$f":"'Pivot Table Data'!S75","v":148},{"$f":"'Pivot Table Data'!T75","v":497},{"$f":"IF('Pivot Table Data'!O75=\"Yes\", 'Pivot Table Data'!T75, \"\")","v":497}]
[{"$f":"'Pivot Table Data'!B76","v":0},{"$f":"'Pivot Table Data'!F76","v":"Science Research Park"},{"$f":"'Pivot Table Data'!P76","v":"Mesa Canyon"},{"$f":"'Pivot Table Data'!I76","v":"Ground"},{"$f":"'Pivot Table Data'!J76","v":"Electric Vehicle"},{"$f":"'Pivot Table Data'!K76","v":0},{"$f":"'Pivot Table Data'!L76","v":0},{"$f":"'Pivot Table Data'!S76","v":18},{"$f":"'Pivot Table Data'!T76","v":33},{"$f":"IF('Pivot Table Data'!O76=\"Yes\", 'Pivot Table Data'!T76, \"\")","v":""}]
[{"$f":"'Pivot Table Data'!B77","v":0},{"$f":"'Pivot Table Data'!F77","v":"Science Research Park"},{"$f":"'Pivot Table Data'!P77","v":"Mesa Canyon"},{"$f":"'Pivot Table Data'!I77","v":"Ground"},{"$f":"'Pivot Table Data'!J77","v":"G"},{"$f":"'Pivot Table Data'!K77","v":0},{"$f":"'Pivot Table Data'!L77","v":0},{"$f":"'Pivot Table Data'!S77","v":0},{"$f":"'Pivot Table Data'!T77","v":578},{"$f":"IF('Pivot Table Data'!O77=\"Yes\", 'Pivot Table Data'!T77, \"\")","v":""}]
[{"$f":"'Pivot Table Data'!B78","v":0},{"$f":"'Pivot Table Data'!F78","v":"Science Research Park"},{"$f":"'Pivot Table Data'!P78","v":"Mesa Canyon"},{"$f":"'Pivot Table Data'!I78","v":"Ground"},{"$f":"'Pivot Table Data'!J78","v":"Motorcycle Section"},{"$f":"'Pivot Table Data'!K78","v":0},{"$f":"'Pivot Table Data'!L78","v":0},{"$f":"'Pivot Table Data'!S78","v":6},{"$f":"'Pivot Table Data'!T78","v":16},{"$f":"IF('Pivot Table Data'!O78=\"Yes\", 'Pivot Table Data'!T78, \"\")","v":""}]
[{"$f":"'Pivot Table Data'!B79","v":0},{"$f":"'Pivot Table Data'!F79","v":"Science Research Park"},{"$f":"'Pivot Table Data'!P79","v":"Mesa Canyon"},{"$f":"'Pivot Table Data'!I79","v":"L2"},{"$f":"'Pivot Table Data'!J79","v":"Accessible"},{"$f":"'Pivot Table Data'!K79","v":0},{"$f":"'Pivot Table Data'!L79","v":0},{"$f":"'Pivot Table Data'!S79","v":4},{"$f":"'Pivot Table Data'!T79","v":""},{"$f":"IF('Pivot Table Data'!O79=\"Yes\", 'Pivot Table Data'!T79, \"\")","v":""}]
[{"$f":"'Pivot Table Data'!B80","v":0},{"$f":"'Pivot Table Data'!F80","v":"Science Research Park"},{"$f":"'Pivot Table Data'!P80","v":"Mesa Canyon"},{"$f":"'Pivot Table Data'!I80","v":"L2"},{"$f":"'Pivot Table Data'!J80","v":"Accessible (Van)"},{"$f":"'Pivot Table Data'!K80","v":0},{"$f":"'Pivot Table Data'!L80","v":0},{"$f":"'Pivot Table Data'!S80","v":1},{"$f":"'Pivot Table Data'!T80","v":""},{"$f":"IF('Pivot Table Data'!O80=\"Yes\", 'Pivot Table Data'!T80, \"\")","v":""}]
[{"$f":"'Pivot Table Data'!B81","v":0},{"$f":"'Pivot Table Data'!F81","v":"Science Research Park"},{"$f":"'Pivot Table Data'!P81","v":"Mesa Canyon"},{"$f":"'Pivot Table Data'!I81","v":"L2"},{"$f":"'Pivot Table Data'!J81","v":"B"},{"$f":"'Pivot Table Data'!K81","v":0},{"$f":"'Pivot Table Data'!L81","v":0},{"$f":"'Pivot Table Data'!S81","v":218},{"$f":"'Pivot Table Data'!T81","v":""},{"$f":"IF('Pivot Table Data'!O81=\"Yes\", 'Pivot Table Data'!T81, \"\")","v":""}]
[{"$f":"'Pivot Table Data'!B82","v":0},{"$f":"'Pivot Table Data'!F82","v":"Science Research Park"},{"$f":"'Pivot Table Data'!P82","v":"Mesa Canyon"},{"$f":"'Pivot Table Data'!I82","v":"L2"},{"$f":"'Pivot Table Data'!J82","v":"Electric Vehicle"},{"$f":"'Pivot Table Data'!K82","v":0},{"$f":"'Pivot Table Data'!L82","v":0},{"$f":"'Pivot Table Data'!S82","v":6},{"$f":"'Pivot Table Data'!T82","v":""},{"$f":"IF('Pivot Table Data'!O82=\"Yes\", 'Pivot Table Data'!T82, \"\")","v":""}]
[{"$f":"'Pivot Table Data'!B83","v":0},{"$f":"'Pivot Table Data'!F83","v":"Science Research Park"},{"$f":"'Pivot Table Data'!P83","v":"Mesa Canyon"},{"$f":"'Pivot Table Data'!I83","v":"L2"},{"$f":"'Pivot Table Data'!J83","v":"G"},{"$f":"'Pivot Table Data'!K83","v":0},{"$f":"'Pivot Table Data'!L83","v":0},{"$f":"'Pivot Table Data'!S83","v":0},{"$f":"'Pivot Table Data'!T83","v":""},{"$f":"IF('Pivot Table Data'!O83=\"Yes\", 'Pivot Table Data'!T83, \"\")","v":""}]
[{"$f":"'Pivot Table Data'!B84","v":0},{"$f":"'Pivot Table Data'!F84","v":"Science Research Park"},{"$f":"'Pivot Table Data'!P84","v":"Mesa Canyon"},{"$f":"'Pivot Table Data'!I84","v":"L2"},{"$f":"'Pivot Table Data'!J84","v":"Motorcycle Section"},{"$f":"'Pivot Table Data'!K84","v":0},{"$f":"'Pivot Table Data'!L84","v":0},{"$f":"'Pivot Table Data'!S84","v":0},{"$f":"'Pivot Table Data'!T84","v":""},{"$f":"IF('Pivot Table Data'!O84=\"Yes\", 'Pivot Table Data'!T84, \"\")","v":""}]
[{"$f":"'Pivot Table Data'!B85","v":0},{"$f":"'Pivot Table Data'!F85","v":"Science Research Park"},{"$f":"'Pivot Table Data'!P85","v":"Mesa Canyon"},{"$f":"'Pivot Table Data'!I85","v":"L3"},{"$f":"'Pivot Table Data'!J85","v":"Accessible"},{"$f":"'Pivot Table Data'!K85","v":0},{"$f":"'Pivot Table Data'!L85","v":0},{"$f":"'Pivot Table Data'!S85","v":3},{"$f":"'Pivot Table Data'!T85","v":""},{"$f":"IF('Pivot Table Data'!O85=\"Yes\", 'Pivot Table Data'!T85, \"\")","v":""}]
[{"$f":"'Pivot Table Data'!B86","v":0},{"$f":"'Pivot Table Data'!F86","v":"Science Research Park"},{"$f":"'Pivot Table Data'!P86","v":"Mesa Canyon"},{"$f":"'Pivot Table Data'!I86","v":"L3"},{"$f":"'Pivot Table Data'!J86","v":"Accessible (Van)"},{"$f":"'Pivot Table Data'!K86","v":0},{"$f":"'Pivot Table Data'!L86","v":0},{"$f":"'Pivot Table Data'!S86","v":2},{"$f":"'Pivot Table Data'!T86","v":""},{"$f":"IF('Pivot Table Data'!O86=\"Yes\", 'Pivot Table Data'!T86, \"\")","v":""}]
[{"$f":"'Pivot Table Data'!B87","v":0},{"$f":"'Pivot Table Data'!F87","v":"Science Research Park"},{"$f":"'Pivot Table Data'!P87","v":"Mesa Canyon"},{"$f":"'Pivot Table Data'!I87","v":"L3"},{"$f":"'Pivot Table Data'!J87","v":"B"},{"$f":"'Pivot Table Data'!K87","v":0},{"$f":"'Pivot Table Data'!L87","v":0},{"$f":"'Pivot Table Data'!S87","v":131},{"$f":"'Pivot Table Data'!T87","v":""},{"$f":"IF('Pivot Table Data'!O87=\"Yes\", 'Pivot Table Data'!T87, \"\")","v":""}]
[{"$f":"'Pivot Table Data'!B88","v":0},{"$f":"'Pivot Table Data'!F88","v":"Science Research Park"},{"$f":"'Pivot Table Data'!P88","v":"Mesa Canyon"},{"$f":"'Pivot Table Data'!I88","v":"L3"},{"$f":"'Pivot Table Data'!J88","v":"Electric Vehicle"},{"$f":"'Pivot Table Data'!K88","v":0},{"$f":"'Pivot Table Data'!L88","v":0},{"$f":"'Pivot Table Data'!S88","v":7},{"$f":"'Pivot Table Data'!T88","v":""},{"$f":"IF('Pivot Table Data'!O88=\"Yes\", 'Pivot Table Data'!T88, \"\")","v":""}]
[{"$f":"'Pivot Table Data'!B89","v":0},{"$f":"'Pivot Table Data'!F89","v":"Science Research Park"},{"$f":"'Pivot Table Data'!P89","v":"Mesa Canyon"},{"$f":"'Pivot Table Data'!I89","v":"L3"},{"$f":"'Pivot Table Data'!J89","v":"G"},{"$f":"'Pivot Table Data'!K89","v":0},{"$f":"'Pivot Table Data'!L89","v":0},{"$f":"'Pivot Table Data'!S89","v":0},{"$f":"'Pivot Table Data'!T89","v":""},{"$f":"IF('Pivot Table Data'!O89=\"Yes\", 'Pivot Table Data'!T89, \"\")","v":""}]
[{"$f":"'Pivot Table Data'!B90","v":0},{"$f":"'Pivot Table Data'!F90","v":"Science Research Park"},{"$f":"'Pivot Table Data'!P90","v":"Mesa Canyon"},{"$f":"'Pivot Table Data'!I90","v":"L3"},{"$f":"'Pivot Table Data'!J90","v":"Motorcycle Section"},{"$f":"'Pivot Table Data'!K90","v":0},{"$f":"'Pivot Table Data'!L90","v":0},{"$f":"'Pivot Table Data'!S90","v":10},{"$f":"'Pivot Table Data'!T90","v":""},{"$f":"IF('Pivot Table Data'!O90=\"Yes\", 'Pivot Table Data'!T90, \"\")","v":""}]
[{"$f":"'Pivot Table Data'!B91","v":0},{"$f":"'Pivot Table Data'!F91","v":"Science Research Park"},{"$f":"'Pivot Table Data'!P91","v":"Mesa Canyon"},{"$f":"'Pivot Table Data'!I91","v":"L4"},{"$f":"'Pivot Table Data'!J91","v":"Accessible"},{"$f":"'Pivot Table Data'!K91","v":0},{"$f":"'Pivot Table Data'!L91","v":0},{"$f":"'Pivot Table Data'!S91","v":0},{"$f":"'Pivot Table Data'!T91","v":""},{"$f":"IF('Pivot Table Data'!O91=\"Yes\", 'Pivot Table Data'!T91, \"\")","v":""}]
[{"$f":"'Pivot Table Data'!B92","v":0},{"$f":"'Pivot Table Data'!F92","v":"Science Research Park"},{"$f":"'Pivot Table Data'!P92","v":"Mesa Canyon"},{"$f":"'Pivot Table Data'!I92","v":"L4"},{"$f":"'Pivot Table Data'!J92","v":"Accessible (Van)"},{"$f":"'Pivot Table Data'!K92","v":0},{"$f":"'Pivot Table Data'!L92","v":0},{"$f":"'Pivot Table Data'!S92","v":0},{"$f":"'Pivot Table Data'!T92","v":""},{"$f":"IF('Pivot Table Data'!O92=\"Yes\", 'Pivot Table Data'!T92, \"\")","v":""}]
[{"$f":"'Pivot Table Data'!B93","v":0},{"$f":"'Pivot Table Data'!F93","v":"Science Research Park"},{"$f":"'Pivot Table Data'!P93","v":"Mesa Canyon"},{"$f":"'Pivot Table Data'!I93","v":"L4"},{"$f":"'Pivot Table Data'!J93","v":"B"},{"$f":"'Pivot Table Data'!K93","v":0},{"$f":"'Pivot Table Data'!L93","v":0},{"$f":"'Pivot Table Data'!S93","v":0},{"$f":"'Pivot Table Data'!T93","v":""},{"$f":"IF('Pivot Table Data'!O93=\"Yes\", 'Pivot Table Data'!T93, \"\")","v":""}]
[{"$f":"'Pivot Table Data'!B94","v":0},{"$f":"'Pivot Table Data'!F94","v":"Science Research Park"},{"$f":"'Pivot Table Data'!P94","v":"Mesa Canyon"},{"$f":"'Pivot Table Data'!I94","v":"L4"},{"$f":"'Pivot Table Data'!J94","v":"Electric Vehicle"},{"$f":"'Pivot Table Data'!K94","v":0},{"$f":"'Pivot Table Data'!L94","v":0},{"$f":"'Pivot Table Data'!S94","v":2},{"$f":"'Pivot Table Data'!T94","v":""},{"$f":"IF('Pivot Table Data'!O94=\"Yes\", 'Pivot Table Data'!T94, \"\")","v":""}]
[{"$f":"'Pivot Table Data'!B95","v":0},{"$f":"'Pivot Table Data'!F95","v":"Science Research Park"},{"$f":"'Pivot Table Data'!P95","v":"Mesa Canyon"},{"$f":"'Pivot Table Data'!I95","v":"L4"},{"$f":"'Pivot Table Data'!J95","v":"G"},{"$f":"'Pivot Table Data'!K95","v":0},{"$f":"'Pivot Table Data'!L95","v":0},{"$f":"'Pivot Table Data'!S95","v":144},{"$f":"'Pivot Table Data'!T95","v":""},{"$f":"IF('Pivot Table Data'!O95=\"Yes\", 'Pivot Table Data'!T95, \"\")","v":""}]
[{"$f":"'Pivot Table Data'!B96","v":0},{"$f":"'Pivot Table Data'!F96","v":"Science Research Park"},{"$f":"'Pivot Table Data'!P96","v":"Mesa Canyon"},{"$f":"'Pivot Table Data'!I96","v":"L4"},{"$f":"'Pivot Table Data'!J96","v":"Motorcycle Section"},{"$f":"'Pivot Table Data'!K96","v":0},{"$f":"'Pivot Table Data'!L96","v":0},{"$f":"'Pivot Table Data'!S96","v":0},{"$f":"'Pivot Table Data'!T96","v":""},{"$f":"IF('Pivot Table Data'!O96=\"Yes\", 'Pivot Table Data'!T96, \"\")","v":""}]
[{"$f":"'Pivot Table Data'!B97","v":0},{"$f":"'Pivot Table Data'!F97","v":"Science Research Park"},{"$f":"'Pivot Table Data'!P97","v":"Mesa Canyon"},{"$f":"'Pivot Table Data'!I97","v":"L5"},{"$f":"'Pivot Table Data'!J97","v":"Accessible"},{"$f":"'Pivot Table Data'!K97","v":0},{"$f":"'Pivot Table Data'!L97","v":0},{"$f":"'Pivot Table Data'!S97","v":0},{"$f":"'Pivot Table Data'!T97","v":""},{"$f":"IF('Pivot Table Data'!O97=\"Yes\", 'Pivot Table Data'!T97, \"\")","v":""}]
[{"$f":"'Pivot Table Data'!B98","v":0},{"$f":"'Pivot Table Data'!F98","v":"Science Research Park"},{"$f":"'Pivot Table Data'!P98","v":"Mesa Canyon"},{"$f":"'Pivot Table Data'!I98","v":"L5"},{"$f":"'Pivot Table Data'!J98","v":"Accessible (Van)"},{"$f":"'Pivot Table Data'!K98","v":0},{"$f":"'Pivot Table Data'!L98","v":0},{"$f":"'Pivot Table Data'!S98","v":0},{"$f":"'Pivot Table Data'!T98","v":""},{"$f":"IF('Pivot Table Data'!O98=\"Yes\", 'Pivot Table Data'!T98, \"\")","v":""}]
[{"$f":"'Pivot Table Data'!B99","v":0},{"$f":"'Pivot Table Data'!F99","v":"Science Research Park"},{"$f":"'Pivot Table Data'!P99","v":"Mesa Canyon"},{"$f":"'Pivot Table Data'!I99","v":"L5"},{"$f":"'Pivot Table Data'!J99","v":"B"},{"$f":"'Pivot Table Data'!K99","v":0},{"$f":"'Pivot Table Data'!L99","v":0},{"$f":"'Pivot Table Data'!S99","v":0},{"$f":"'Pivot Table Data'!T99","v":""},{"$f":"IF('Pivot Table Data'!O99=\"Yes\", 'Pivot Table Data'!T99, \"\")","v":""}]
[{"$f":"'Pivot Table Data'!B100","v":0},{"$f":"'Pivot Table Data'!F100","v":"Science Research Park"},{"$f":"'Pivot Table Data'!P100","v":"Mesa Canyon"},{"$f":"'Pivot Table Data'!I100","v":"L5"},{"$f":"'Pivot Table Data'!J100","v":"Electric Vehicle"},{"$f":"'Pivot Table Data'!K100","v":0},{"$f":"'Pivot Table Data'!L100","v":0},{"$f":"'Pivot Table Data'!S100","v":0},{"$f":"'Pivot Table Data'!T100","v":""},{"$f":"IF('Pivot Table Data'!O100=\"Yes\", 'Pivot Table Data'!T100, \"\")","v":""}]
[{"$f":"'Pivot Table Data'!B101","v":0},{"$f":"'Pivot Table Data'!F101","v":"Science Research Park"},{"$f":"'Pivot Table Data'!P101","v":"Mesa Canyon"},{"$f":"'Pivot Table Data'!I101","v":"L5"},{"$f":"'Pivot Table Data'!J101","v":"G"},{"$f":"'Pivot Table Data'!K101","v":0},{"$f":"'Pivot Table Data'!L101","v":0},{"$f":"'Pivot Table Data'!S101","v":217},{"$f":"'Pivot Table Data'!T101","v":""},{"$f":"IF('Pivot Table Data'!O101=\"Yes\", 'Pivot Table Data'!T101, \"\")","v":""}]
[{"$f":"'Pivot Table Data'!B102","v":0},{"$f":"'Pivot Table Data'!F102","v":"Science Research Park"},{"$f":"'Pivot Table Data'!P102","v":"Mesa Canyon"},{"$f":"'Pivot Table Data'!I102","v":"L5"},{"$f":"'Pivot Table Data'!J102","v":"Motorcycle Section"},{"$f":"'Pivot Table Data'!K102","v":0},{"$f":"'Pivot Table Data'!L102","v":0},{"$f":"'Pivot Table Data'!S102","v":0},{"$f":"'Pivot Table Data'!T102","v":""},{"$f":"IF('Pivot Table Data'!O102=\"Yes\", 'Pivot Table Data'!T102, \"\")","v":""}]
[{"$f":"'Pivot Table Data'!B103","v":0},{"$f":"'Pivot Table Data'!F103","v":"Science Research Park"},{"$f":"'Pivot Table Data'!P103","v":"Mesa Canyon"},{"$f":"'Pivot Table Data'!I103","v":"L6"},{"$f":"'Pivot Table Data'!J103","v":"Accessible"},{"$f":"'Pivot Table Data'!K103","v":0},{"$f":"'Pivot Table Data'!L103","v":0},{"$f":"'Pivot Table Data'!S103","v":0},{"$f":"'Pivot Table Data'!T103","v":""},{"$f":"IF('Pivot Table Data'!O103=\"Yes\", 'Pivot Table Data'!T103, \"\")","v":""}]
[{"$f":"'Pivot Table Data'!B104","v":0},{"$f":"'Pivot Table Data'!F104","v":"Science Research Park"},{"$f":"'Pivot Table Data'!P104","v":"Mesa Canyon"},{"$f":"'Pivot Table Data'!I104","v":"L6"},{"$f":"'Pivot Table Data'!J104","v":"Accessible (Van)"},{"$f":"'Pivot Table Data'!K104","v":0},{"$f":"'Pivot Table Data'!L104","v":0},{"$f":"'Pivot Table Data'!S104","v":0},{"$f":"'Pivot Table Data'!T104","v":""},{"$f":"IF('Pivot Table Data'!O104=\"Yes\", 'Pivot Table Data'!T104, \"\")","v":""}]
[{"$f":"'Pivot Table Data'!B105","v":0},{"$f":"'Pivot Table Data'!F105","v":"Science Research Park"},{"$f":"'Pivot Table Data'!P105","v":"Mesa Canyon"},{"$f":"'Pivot Table Data'!I105","v":"L6"},{"$f":"'Pivot Table Data'!J105","v":"B"},{"$f":"'Pivot Table Data'!K105","v":0},{"$f":"'Pivot Table Data'!L105","v":0},{"$f":"'Pivot Table Data'!S105","v":0},{"$f":"'Pivot Table Data'!T105","v":""},{"$f":"IF('Pivot Table Data'!O105=\"Yes\", 'Pivot Table Data'!T105, \"\")","v":""}]
[{"$f":"'Pivot Table Data'!B106","v":0},{"$f":"'Pivot Table Data'!F106","v":"Science Research Park"},{"$f":"'Pivot Table Data'!P106","v":"Mesa Canyon"},{"$f":"'Pivot Table Data'!I106","v":"L6"},{"$f":"'Pivot Table Data'!J106","v":"Electric Vehicle"},{"$f":"'Pivot Table Data'!K106","v":0},{"$f":"'Pivot Table Data'!L106","v":0},{"$f":"'Pivot Table Data'!S106","v":0},{"$f":"'Pivot Table Data'!T106","v":""},{"$f":"IF('Pivot Table Data'!O106=\"Yes\", 'Pivot Table Data'!T106, \"\")","v":""}]
[{"$f":"'Pivot Table Data'!B107","v":0},{"$f":"'Pivot Table Data'!F107","v":"Science Research Park"},{"$f":"'Pivot Table Data'!P107","v":"Mesa Canyon"},{"$f":"'Pivot Table Data'!I107","v":"L6"},{"$f":"'Pivot Table Data'!J107","v":"G"},{"$f":"'Pivot Table Data'!K107","v":0},{"$f":"'Pivot Table Data'!L107","v":0},{"$f":"'Pivot Table Data'!S107","v":217},{"$f":"'Pivot Table Data'!T107","v":""},{"$f":"IF('Pivot Table Data'!O107=\"Yes\", 'Pivot Table Data'!T107, \"\")","v":""}]
[{"$f":"'Pivot Table Data'!B108","v":0},{"$f":"'Pivot Table Data'!F108","v":"Science Research Park"},{"$f":"'Pivot Table Data'!P108","v":"Mesa Canyon"},{"$f":"'Pivot Table Data'!I108","v":"L6"},{"$f":"'Pivot Table Data'!J108","v":"Motorcycle Section"},{"$f":"'Pivot Table Data'!K108","v":0},{"$f":"'Pivot Table Data'!L108","v":0},{"$f":"'Pivot Table Data'!S108","v":0},{"$f":"'Pivot Table Data'!T108","v":""},{"$f":"IF('Pivot Table Data'!O108=\"Yes\", 'Pivot Table Data'!T108, \"\")","v":""}]
[{"$f":"'Pivot Table Data'!B109","v":0},{"$f":"'Pivot Table Data'!F109","v":"East Recreation"},{"$f":"'Pivot Table Data'!P109","v":"P701"},{"$f":"'Pivot Table Data'!I109","v":"-"},{"$f":"'Pivot Table Data'!J109","v":"S"},{"$f":"'Pivot Table Data'!K109","v":0},{"$f":"'Pivot Table Data'!L109","v":0},{"$f":"'Pivot Table Data'!S109","v":378},{"$f":"'Pivot Table Data'!T109","v":378},{"$f":"IF('Pivot Table Data'!O109=\"Yes\", 'Pivot Table Data'!T109, \"\")","v":378}]
[{"$f":"'Pivot Table Data'!B110","v":0},{"$f":"'Pivot Table Data'!F110","v":"Health Sciences East"},{"$f":"'Pivot Table Data'!P110","v":"P702"},{"$f":"'Pivot Table Data'!I110","v":"-"},{"$f":"'Pivot Table Data'!J110","v":"Accessible"},{"$f":"'Pivot Table Data'!K110","v":0},{"$f":"'Pivot Table Data'!L110","v":0},{"$f":"'Pivot Table Data'!S110","v":3},{"$f":"'Pivot Table Data'!T110","v":3},{"$f":"IF('Pivot Table Data'!O110=\"Yes\", 'Pivot Table Data'!T110, \"\")","v":""}]
[{"$f":"'Pivot Table Data'!B111","v":0},{"$f":"'Pivot Table Data'!F111","v":"Health Sciences East"},{"$f":"'Pivot Table Data'!P111","v":"P702"},{"$f":"'Pivot Table Data'!I111","v":"-"},{"$f":"'Pivot Table Data'!J111","v":"Accessible (Van)"},{"$f":"'Pivot Table Data'!K111","v":0},{"$f":"'Pivot Table Data'!L111","v":0},{"$f":"'Pivot Table Data'!S111","v":3},{"$f":"'Pivot Table Data'!T111","v":3},{"$f":"IF('Pivot Table Data'!O111=\"Yes\", 'Pivot Table Data'!T111, \"\")","v":""}]
[{"$f":"'Pivot Table Data'!B112","v":0},{"$f":"'Pivot Table Data'!F112","v":"Health Sciences East"},{"$f":"'Pivot Table Data'!P112","v":"P702"},{"$f":"'Pivot Table Data'!I112","v":"-"},{"$f":"'Pivot Table Data'!J112","v":"B"},{"$f":"'Pivot Table Data'!K112","v":0},{"$f":"'Pivot Table Data'!L112","v":0},{"$f":"'Pivot Table Data'!S112","v":183},{"$f":"'Pivot Table Data'!T112","v":183},{"$f":"IF('Pivot Table Data'!O112=\"Yes\", 'Pivot Table Data'!T112, \"\")","v":183}]
[{"$f":"'Pivot Table Data'!B113","v":0},{"$f":"'Pivot Table Data'!F113","v":"Health Sciences East"},{"$f":"'Pivot Table Data'!P113","v":"P703"},{"$f":"'Pivot Table Data'!I113","v":"-"},{"$f":"'Pivot Table Data'!J113","v":"Accessible"},{"$f":"'Pivot Table Data'!K113","v":0},{"$f":"'Pivot Table Data'!L113","v":0},{"$f":"'Pivot Table Data'!S113","v":0},{"$f":"'Pivot Table Data'!T113","v":0},{"$f":"IF('Pivot Table Data'!O113=\"Yes\", 'Pivot Table Data'!T113, \"\")","v":""}]
[{"$f":"'Pivot Table Data'!B114","v":0},{"$f":"'Pivot Table Data'!F114","v":"Health Sciences East"},{"$f":"'Pivot Table Data'!P114","v":"P703"},{"$f":"'Pivot Table Data'!I114","v":"-"},{"$f":"'Pivot Table Data'!J114","v":"Accessible (Van)"},{"$f":"'Pivot Table Data'!K114","v":0},{"$f":"'Pivot Table Data'!L114","v":0},{"$f":"'Pivot Table Data'!S114","v":11},{"$f":"'Pivot Table Data'!T114","v":11},{"$f":"IF('Pivot Table Data'!O114=\"Yes\", 'Pivot Table Data'!T114, \"\")","v":""}]
[{"$f":"'Pivot Table Data'!B115","v":0},{"$f":"'Pivot Table Data'!F115","v":"Health Sciences East"},{"$f":"'Pivot Table Data'!P115","v":"P703"},{"$f":"'Pivot Table Data'!I115","v":"-"},{"$f":"'Pivot Table Data'!J115","v":"Allocated"},{"$f":"'Pivot Table Data'!K115","v":"Ambulance"},{"$f":"'Pivot Table Data'!L115","v":0},{"$f":"'Pivot Table Data'!S115","v":2},{"$f":"'Pivot Table Data'!T115","v":2},{"$f":"IF('Pivot Table Data'!O115=\"Yes\", 'Pivot Table Data'!T115, \"\")","v":""}]
[{"$f":"'Pivot Table Data'!B116","v":0},{"$f":"'Pivot Table Data'!F116","v":"Health Sciences East"},{"$f":"'Pivot Table Data'!P116","v":"P703"},{"$f":"'Pivot Table Data'!I116","v":"-"},{"$f":"'Pivot Table Data'!J116","v":"D ($5.00)"},{"$f":"'Pivot Table Data'!K116","v":0},{"$f":"'Pivot Table Data'!L116","v":0},{"$f":"'Pivot Table Data'!S116","v":295},{"$f":"'Pivot Table Data'!T116","v":295},{"$f":"IF('Pivot Table Data'!O116=\"Yes\", 'Pivot Table Data'!T116, \"\")","v":295}]
[{"$f":"'Pivot Table Data'!B117","v":0},{"$f":"'Pivot Table Data'!F117","v":"Health Sciences East"},{"$f":"'Pivot Table Data'!P117","v":"P703"},{"$f":"'Pivot Table Data'!I117","v":"-"},{"$f":"'Pivot Table Data'!J117","v":"Electric Vehicle"},{"$f":"'Pivot Table Data'!K117","v":0},{"$f":"'Pivot Table Data'!L117","v":0},{"$f":"'Pivot Table Data'!S117","v":12},{"$f":"'Pivot Table Data'!T117","v":12},{"$f":"IF('Pivot Table Data'!O117=\"Yes\", 'Pivot Table Data'!T117, \"\")","v":""}]
[{"$f":"'Pivot Table Data'!B118","v":0},{"$f":"'Pivot Table Data'!F118","v":"Health Sciences East"},{"$f":"'Pivot Table Data'!P118","v":"P703"},{"$f":"'Pivot Table Data'!I118","v":"-"},{"$f":"'Pivot Table Data'!J118","v":"Loading"},{"$f":"'Pivot Table Data'!K118","v":0},{"$f":"'Pivot Table Data'!L118","v":0},{"$f":"'Pivot Table Data'!S118","v":2},{"$f":"'Pivot Table Data'!T118","v":2},{"$f":"IF('Pivot Table Data'!O118=\"Yes\", 'Pivot Table Data'!T118, \"\")","v":""}]
[{"$f":"'Pivot Table Data'!B119","v":0},{"$f":"'Pivot Table Data'!F119","v":"Health Sciences East"},{"$f":"'Pivot Table Data'!P119","v":"P703"},{"$f":"'Pivot Table Data'!I119","v":"-"},{"$f":"'Pivot Table Data'!J119","v":"Reserved"},{"$f":"'Pivot Table Data'!K119","v":"V2G"},{"$f":"'Pivot Table Data'!L119","v":0},{"$f":"'Pivot Table Data'!S119","v":1},{"$f":"'Pivot Table Data'!T119","v":1},{"$f":"IF('Pivot Table Data'!O119=\"Yes\", 'Pivot Table Data'!T119, \"\")","v":""}]
[{"$f":"'Pivot Table Data'!B120","v":0},{"$f":"'Pivot Table Data'!F120","v":"Health Sciences East"},{"$f":"'Pivot Table Data'!P120","v":"P703"},{"$f":"'Pivot Table Data'!I120","v":"-"},{"$f":"'Pivot Table Data'!J120","v":"Reserved"},{"$f":"'Pivot Table Data'!K120","v":0},{"$f":"'Pivot Table Data'!L120","v":0},{"$f":"'Pivot Table Data'!S120","v":1},{"$f":"'Pivot Table Data'!T120","v":1},{"$f":"IF('Pivot Table Data'!O120=\"Yes\", 'Pivot Table Data'!T120, \"\")","v":""}]
[{"$f":"'Pivot Table Data'!B121","v":0},{"$f":"'Pivot Table Data'!F121","v":"Health Sciences East"},{"$f":"'Pivot Table Data'!P121","v":"P703"},{"$f":"'Pivot Table Data'!I121","v":"-"},{"$f":"'Pivot Table Data'!J121","v":"UC Vehicle"},{"$f":"'Pivot Table Data'!K121","v":"UC Cart"},{"$f":"'Pivot Table Data'!L121","v":0},{"$f":"'Pivot Table Data'!S121","v":2},{"$f":"'Pivot Table Data'!T121","v":2},{"$f":"IF('Pivot Table Data'!O121=\"Yes\", 'Pivot Table Data'!T121, \"\")","v":""}]
[{"$f":"'Pivot Table Data'!B122","v":0},{"$f":"'Pivot Table Data'!F122","v":"Health Sciences East"},{"$f":"'Pivot Table Data'!P122","v":"P703"},{"$f":"'Pivot Table Data'!I122","v":"-"},{"$f":"'Pivot Table Data'!J122","v":"UC Vehicle"},{"$f":"'Pivot Table Data'!K122","v":0},{"$f":"'Pivot Table Data'!L122","v":0},{"$f":"'Pivot Table Data'!S122","v":19},{"$f":"'Pivot Table Data'!T122","v":19},{"$f":"IF('Pivot Table Data'!O122=\"Yes\", 'Pivot Table Data'!T122, \"\")","v":""}]
[{"$f":"'Pivot Table Data'!B123","v":0},{"$f":"'Pivot Table Data'!F123","v":"Health Sciences East"},{"$f":"'Pivot Table Data'!P123","v":"P703"},{"$f":"'Pivot Table Data'!I123","v":"-"},{"$f":"'Pivot Table Data'!J123","v":"Visitor"},{"$f":"'Pivot Table Data'!K123","v":"Radiation Oncology Center Patient"},{"$f":"'Pivot Table Data'!L123","v":0},{"$f":"'Pivot Table Data'!S123","v":17},{"$f":"'Pivot Table Data'!T123","v":17},{"$f":"IF('Pivot Table Data'!O123=\"Yes\", 'Pivot Table Data'!T123, \"\")","v":17}]
[{"$f":"'Pivot Table Data'!B124","v":0},{"$f":"'Pivot Table Data'!F124","v":"Health Sciences East"},{"$f":"'Pivot Table Data'!P124","v":"P704"},{"$f":"'Pivot Table Data'!I124","v":"-"},{"$f":"'Pivot Table Data'!J124","v":"D ($5.00)"},{"$f":"'Pivot Table Data'!K124","v":0},{"$f":"'Pivot Table Data'!L124","v":0},{"$f":"'Pivot Table Data'!S124","v":326},{"$f":"'Pivot Table Data'!T124","v":326},{"$f":"IF('Pivot Table Data'!O124=\"Yes\", 'Pivot Table Data'!T124, \"\")","v":326}]
[{"$f":"'Pivot Table Data'!B125","v":0},{"$f":"'Pivot Table Data'!F125","v":"Health Sciences East"},{"$f":"'Pivot Table Data'!P125","v":"P705"},{"$f":"'Pivot Table Data'!I125","v":"-"},{"$f":"'Pivot Table Data'!J125","v":"D ($5.00)"},{"$f":"'Pivot Table Data'!K125","v":0},{"$f":"'Pivot Table Data'!L125","v":0},{"$f":"'Pivot Table Data'!S125","v":266},{"$f":"'Pivot Table Data'!T125","v":266},{"$f":"IF('Pivot Table Data'!O125=\"Yes\", 'Pivot Table Data'!T125, \"\")","v":266}]
[{"$f":"'Pivot Table Data'!B126","v":0},{"$f":"'Pivot Table Data'!F126","v":"Preuss School"},{"$f":"'Pivot Table Data'!P126","v":"P706"},{"$f":"'Pivot Table Data'!I126","v":"-"},{"$f":"'Pivot Table Data'!J126","v":"A"},{"$f":"'Pivot Table Data'!K126","v":"Preuss"},{"$f":"'Pivot Table Data'!L126","v":0},{"$f":"'Pivot Table Data'!S126","v":6},{"$f":"'Pivot Table Data'!T126","v":6},{"$f":"IF('Pivot Table Data'!O126=\"Yes\", 'Pivot Table Data'!T126, \"\")","v":6}]
[{"$f":"'Pivot Table Data'!B127","v":0},{"$f":"'Pivot Table Data'!F127","v":"Preuss School"},{"$f":"'Pivot Table Data'!P127","v":"P706"},{"$f":"'Pivot Table Data'!I127","v":"-"},{"$f":"'Pivot Table Data'!J127","v":"Accessible"},{"$f":"'Pivot Table Data'!K127","v":0},{"$f":"'Pivot Table Data'!L127","v":0},{"$f":"'Pivot Table Data'!S127","v":1},{"$f":"'Pivot Table Data'!T127","v":1},{"$f":"IF('Pivot Table Data'!O127=\"Yes\", 'Pivot Table Data'!T127, \"\")","v":""}]
[{"$f":"'Pivot Table Data'!B128","v":0},{"$f":"'Pivot Table Data'!F128","v":"Preuss School"},{"$f":"'Pivot Table Data'!P128","v":"P706"},{"$f":"'Pivot Table Data'!I128","v":"-"},{"$f":"'Pivot Table Data'!J128","v":"Accessible (Van)"},{"$f":"'Pivot Table Data'!K128","v":0},{"$f":"'Pivot Table Data'!L128","v":0},{"$f":"'Pivot Table Data'!S128","v":3},{"$f":"'Pivot Table Data'!T128","v":3},{"$f":"IF('Pivot Table Data'!O128=\"Yes\", 'Pivot Table Data'!T128, \"\")","v":""}]
[{"$f":"'Pivot Table Data'!B129","v":0},{"$f":"'Pivot Table Data'!F129","v":"Preuss School"},{"$f":"'Pivot Table Data'!P129","v":"P706"},{"$f":"'Pivot Table Data'!I129","v":"-"},{"$f":"'Pivot Table Data'!J129","v":"B"},{"$f":"'Pivot Table Data'!K129","v":"Preuss"},{"$f":"'Pivot Table Data'!L129","v":0},{"$f":"'Pivot Table Data'!S129","v":59},{"$f":"'Pivot Table Data'!T129","v":59},{"$f":"IF('Pivot Table Data'!O129=\"Yes\", 'Pivot Table Data'!T129, \"\")","v":59}]
[{"$f":"'Pivot Table Data'!B130","v":0},{"$f":"'Pivot Table Data'!F130","v":"Preuss School"},{"$f":"'Pivot Table Data'!P130","v":"P706"},{"$f":"'Pivot Table Data'!I130","v":"-"},{"$f":"'Pivot Table Data'!J130","v":"Loading"},{"$f":"'Pivot Table Data'!K130","v":0},{"$f":"'Pivot Table Data'!L130","v":"30 minutes"},{"$f":"'Pivot Table Data'!S130","v":3},{"$f":"'Pivot Table Data'!T130","v":3},{"$f":"IF('Pivot Table Data'!O130=\"Yes\", 'Pivot Table Data'!T130, \"\")","v":""}]
[{"$f":"'Pivot Table Data'!B131","v":0},{"$f":"'Pivot Table Data'!F131","v":"Health Sciences East"},{"$f":"'Pivot Table Data'!P131","v":"P707"},{"$f":"'Pivot Table Data'!I131","v":"-"},{"$f":"'Pivot Table Data'!J131","v":"Accessible"},{"$f":"'Pivot Table Data'!K131","v":0},{"$f":"'Pivot Table Data'!L131","v":0},{"$f":"'Pivot Table Data'!S131","v":4},{"$f":"'Pivot Table Data'!T131","v":4},{"$f":"IF('Pivot Table Data'!O131=\"Yes\", 'Pivot Table Data'!T131, \"\")","v":""}]
[{"$f":"'Pivot Table Data'!B132","v":0},{"$f":"'Pivot Table Data'!F132","v":"Health Sciences East"},{"$f":"'Pivot Table Data'!P132","v":"P707"},{"$f":"'Pivot Table Data'!I132","v":"-"},{"$f":"'Pivot Table Data'!J132","v":"Accessible (Van)"},{"$f":"'Pivot Table Data'!K132","v":0},{"$f":"'Pivot Table Data'!L132","v":0},{"$f":"'Pivot Table Data'!S132","v":3},{"$f":"'Pivot Table Data'!T132","v":3},{"$f":"IF('Pivot Table Data'!O132=\"Yes\", 'Pivot Table Data'!T132, \"\")","v":""}]
[{"$f":"'Pivot Table Data'!B133","v":0},{"$f":"'Pivot Table Data'!F133","v":"Health Sciences East"},{"$f":"'Pivot Table Data'!P133","v":"P707"},{"$f":"'Pivot Table Data'!I133","v":"-"},{"$f":"'Pivot Table Data'!J133","v":"Electric Vehicle"},{"$f":"'Pivot Table Data'!K133","v":0},{"$f":"'Pivot Table Data'!L133","v":0},{"$f":"'Pivot Table Data'!S133","v":2},{"$f":"'Pivot Table Data'!T133","v":2},{"$f":"IF('Pivot Table Data'!O133=\"Yes\", 'Pivot Table Data'!T133, \"\")","v":""}]
[{"$f":"'Pivot Table Data'!B134","v":0},{"$f":"'Pivot Table Data'!F134","v":"Health Sciences East"},{"$f":"'Pivot Table Data'!P134","v":"P707"},{"$f":"'Pivot Table Data'!I134","v":"-"},{"$f":"'Pivot Table Data'!J134","v":"Reserved"},{"$f":"'Pivot Table Data'!K134","v":0},{"$f":"'Pivot Table Data'!L134","v":0},{"$f":"'Pivot Table Data'!S134","v":6},{"$f":"'Pivot Table Data'!T134","v":6},{"$f":"IF('Pivot Table Data'!O134=\"Yes\", 'Pivot Table Data'!T134, \"\")","v":""}]
[{"$f":"'Pivot Table Data'!B135","v":0},{"$f":"'Pivot Table Data'!F135","v":"Health Sciences East"},{"$f":"'Pivot Table Data'!P135","v":"P707"},{"$f":"'Pivot Table Data'!I135","v":"-"},{"$f":"'Pivot Table Data'!J135","v":"S"},{"$f":"'Pivot Table Data'!K135","v":0},{"$f":"'Pivot Table Data'!L135","v":0},{"$f":"'Pivot Table Data'!S135","v":194},{"$f":"'Pivot Table Data'!T135","v":194},{"$f":"IF('Pivot Table Data'!O135=\"Yes\", 'Pivot Table Data'!T135, \"\")","v":194}]
[{"$f":"'Pivot Table Data'!B136","v":0},{"$f":"'Pivot Table Data'!F136","v":"Health Sciences East"},{"$f":"'Pivot Table Data'!P136","v":"P751"},{"$f":"'Pivot Table Data'!I136","v":"-"},{"$f":"'Pivot Table Data'!J136","v":"Accessible"},{"$f":"'Pivot Table Data'!K136","v":0},{"$f":"'Pivot Table Data'!L136","v":0},{"$f":"'Pivot Table Data'!S136","v":2},{"$f":"'Pivot Table Data'!T136","v":2},{"$f":"IF('Pivot Table Data'!O136=\"Yes\", 'Pivot Table Data'!T136, \"\")","v":""}]
[{"$f":"'Pivot Table Data'!B137","v":0},{"$f":"'Pivot Table Data'!F137","v":"Health Sciences East"},{"$f":"'Pivot Table Data'!P137","v":"P751"},{"$f":"'Pivot Table Data'!I137","v":"-"},{"$f":"'Pivot Table Data'!J137","v":"Accessible (Van)"},{"$f":"'Pivot Table Data'!K137","v":0},{"$f":"'Pivot Table Data'!L137","v":0},{"$f":"'Pivot Table Data'!S137","v":2},{"$f":"'Pivot Table Data'!T137","v":2},{"$f":"IF('Pivot Table Data'!O137=\"Yes\", 'Pivot Table Data'!T137, \"\")","v":""}]
[{"$f":"'Pivot Table Data'!B138","v":0},{"$f":"'Pivot Table Data'!F138","v":"Health Sciences East"},{"$f":"'Pivot Table Data'!P138","v":"P751"},{"$f":"'Pivot Table Data'!I138","v":"-"},{"$f":"'Pivot Table Data'!J138","v":"Electric Vehicle"},{"$f":"'Pivot Table Data'!K138","v":0},{"$f":"'Pivot Table Data'!L138","v":0},{"$f":"'Pivot Table Data'!S138","v":0},{"$f":"'Pivot Table Data'!T138","v":0},{"$f":"IF('Pivot Table Data'!O138=\"Yes\", 'Pivot Table Data'!T138, \"\")","v":""}]
[{"$f":"'Pivot Table Data'!B139","v":0},{"$f":"'Pivot Table Data'!F139","v":"Health Sciences East"},{"$f":"'Pivot Table Data'!P139","v":"P751"},{"$f":"'Pivot Table Data'!I139","v":"-"},{"$f":"'Pivot Table Data'!J139","v":"Reserved"},{"$f":"'Pivot Table Data'!K139","v":"Valet"},{"$f":"'Pivot Table Data'!L139","v":0},{"$f":"'Pivot Table Data'!S139","v":0},{"$f":"'Pivot Table Data'!T139","v":0},{"$f":"IF('Pivot Table Data'!O139=\"Yes\", 'Pivot Table Data'!T139, \"\")","v":""}]
[{"$f":"'Pivot Table Data'!B140","v":0},{"$f":"'Pivot Table Data'!F140","v":"Health Sciences East"},{"$f":"'Pivot Table Data'!P140","v":"P751"},{"$f":"'Pivot Table Data'!I140","v":"-"},{"$f":"'Pivot Table Data'!J140","v":"Reserved"},{"$f":"'Pivot Table Data'!K140","v":0},{"$f":"'Pivot Table Data'!L140","v":0},{"$f":"'Pivot Table Data'!S140","v":0},{"$f":"'Pivot Table Data'!T140","v":0},{"$f":"IF('Pivot Table Data'!O140=\"Yes\", 'Pivot Table Data'!T140, \"\")","v":""}]
[{"$f":"'Pivot Table Data'!B141","v":0},{"$f":"'Pivot Table Data'!F141","v":"Health Sciences East"},{"$f":"'Pivot Table Data'!P141","v":"P751"},{"$f":"'Pivot Table Data'!I141","v":"-"},{"$f":"'Pivot Table Data'!J141","v":"Visitor"},{"$f":"'Pivot Table Data'!K141","v":0},{"$f":"'Pivot Table Data'!L141","v":"30 minutes"},{"$f":"'Pivot Table Data'!S141","v":3},{"$f":"'Pivot Table Data'!T141","v":3},{"$f":"IF('Pivot Table Data'!O141=\"Yes\", 'Pivot Table Data'!T141, \"\")","v":3}]
[{"$f":"'Pivot Table Data'!B142","v":0},{"$f":"'Pivot Table Data'!F142","v":"Health Sciences East"},{"$f":"'Pivot Table Data'!P142","v":"P752"},{"$f":"'Pivot Table Data'!I142","v":"-"},{"$f":"'Pivot Table Data'!J142","v":"Accessible"},{"$f":"'Pivot Table Data'!K142","v":0},{"$f":"'Pivot Table Data'!L142","v":0},{"$f":"'Pivot Table Data'!S142","v":0},{"$f":"'Pivot Table Data'!T142","v":0},{"$f":"IF('Pivot Table Data'!O142=\"Yes\", 'Pivot Table Data'!T142, \"\")","v":""}]
[{"$f":"'Pivot Table Data'!B143","v":0},{"$f":"'Pivot Table Data'!F143","v":"Health Sciences East"},{"$f":"'Pivot Table Data'!P143","v":"P752"},{"$f":"'Pivot Table Data'!I143","v":"-"},{"$f":"'Pivot Table Data'!J143","v":"Accessible (Van)"},{"$f":"'Pivot Table Data'!K143","v":0},{"$f":"'Pivot Table Data'!L143","v":0},{"$f":"'Pivot Table Data'!S143","v":2},{"$f":"'Pivot Table Data'!T143","v":2},{"$f":"IF('Pivot Table Data'!O143=\"Yes\", 'Pivot Table Data'!T143, \"\")","v":""}]
[{"$f":"'Pivot Table Data'!B144","v":0},{"$f":"'Pivot Table Data'!F144","v":"Health Sciences East"},{"$f":"'Pivot Table Data'!P144","v":"P752"},{"$f":"'Pivot Table Data'!I144","v":"-"},{"$f":"'Pivot Table Data'!J144","v":"Allocated"},{"$f":"'Pivot Table Data'!K144","v":"Physician On Call"},{"$f":"'Pivot Table Data'!L144","v":0},{"$f":"'Pivot Table Data'!S144","v":4},{"$f":"'Pivot Table Data'!T144","v":4},{"$f":"IF('Pivot Table Data'!O144=\"Yes\", 'Pivot Table Data'!T144, \"\")","v":""}]
[{"$f":"'Pivot Table Data'!B145","v":0},{"$f":"'Pivot Table Data'!F145","v":"Health Sciences East"},{"$f":"'Pivot Table Data'!P145","v":"P752"},{"$f":"'Pivot Table Data'!I145","v":"-"},{"$f":"'Pivot Table Data'!J145","v":"Reserved"},{"$f":"'Pivot Table Data'!K145","v":"Valet"},{"$f":"'Pivot Table Data'!L145","v":0},{"$f":"'Pivot Table Data'!S145","v":23},{"$f":"'Pivot Table Data'!T145","v":23},{"$f":"IF('Pivot Table Data'!O145=\"Yes\", 'Pivot Table Data'!T145, \"\")","v":""}]
[{"$f":"'Pivot Table Data'!B146","v":0},{"$f":"'Pivot Table Data'!F146","v":"Health Sciences East"},{"$f":"'Pivot Table Data'!P146","v":"P752"},{"$f":"'Pivot Table Data'!I146","v":"-"},{"$f":"'Pivot Table Data'!J146","v":"Reserved"},{"$f":"'Pivot Table Data'!K146","v":0},{"$f":"'Pivot Table Data'!L146","v":0},{"$f":"'Pivot Table Data'!S146","v":1},{"$f":"'Pivot Table Data'!T146","v":1},{"$f":"IF('Pivot Table Data'!O146=\"Yes\", 'Pivot Table Data'!T146, \"\")","v":""}]
[{"$f":"'Pivot Table Data'!B147","v":0},{"$f":"'Pivot Table Data'!F147","v":"Health Sciences East"},{"$f":"'Pivot Table Data'!P147","v":"P753"},{"$f":"'Pivot Table Data'!I147","v":"-"},{"$f":"'Pivot Table Data'!J147","v":"Accessible"},{"$f":"'Pivot Table Data'!K147","v":0},{"$f":"'Pivot Table Data'!L147","v":0},{"$f":"'Pivot Table Data'!S147","v":0},{"$f":"'Pivot Table Data'!T147","v":0},{"$f":"IF('Pivot Table Data'!O147=\"Yes\", 'Pivot Table Data'!T147, \"\")","v":""}]
[{"$f":"'Pivot Table Data'!B148","v":0},{"$f":"'Pivot Table Data'!F148","v":"Health Sciences East"},{"$f":"'Pivot Table Data'!P148","v":"P753"},{"$f":"'Pivot Table Data'!I148","v":"-"},{"$f":"'Pivot Table Data'!J148","v":"Accessible (Van)"},{"$f":"'Pivot Table Data'!K148","v":0},{"$f":"'Pivot Table Data'!L148","v":0},{"$f":"'Pivot Table Data'!S148","v":2},{"$f":"'Pivot Table Data'!T148","v":2},{"$f":"IF('Pivot Table Data'!O148=\"Yes\", 'Pivot Table Data'!T148, \"\")","v":""}]
[{"$f":"'Pivot Table Data'!B149","v":0},{"$f":"'Pivot Table Data'!F149","v":"Health Sciences East"},{"$f":"'Pivot Table Data'!P149","v":"P753"},{"$f":"'Pivot Table Data'!I149","v":"-"},{"$f":"'Pivot Table Data'!J149","v":"Reserved"},{"$f":"'Pivot Table Data'!K149","v":0},{"$f":"'Pivot Table Data'!L149","v":0},{"$f":"'Pivot Table Data'!S149","v":32},{"$f":"'Pivot Table Data'!T149","v":32},{"$f":"IF('Pivot Table Data'!O149=\"Yes\", 'Pivot Table Data'!T149, \"\")","v":""}]
[{"$f":"'Pivot Table Data'!B150","v":0},{"$f":"'Pivot Table Data'!F150","v":"Health Sciences East"},{"$f":"'Pivot Table Data'!P150","v":"P757"},{"$f":"'Pivot Table Data'!I150","v":"-"},{"$f":"'Pivot Table Data'!J150","v":"Loading"},{"$f":"'Pivot Table Data'!K150","v":"Shiley Surgery"},{"$f":"'Pivot Table Data'!L150","v":20},{"$f":"'Pivot Table Data'!S150","v":0},{"$f":"'Pivot Table Data'!T150","v":0},{"$f":"IF('Pivot Table Data'!O150=\"Yes\", 'Pivot Table Data'!T150, \"\")","v":""}]
[{"$f":"'Pivot Table Data'!B151","v":0},{"$f":"'Pivot Table Data'!F151","v":"Health Sciences East"},{"$f":"'Pivot Table Data'!P151","v":"P757"},{"$f":"'Pivot Table Data'!I151","v":"-"},{"$f":"'Pivot Table Data'!J151","v":"Reserved"},{"$f":"'Pivot Table Data'!K151","v":0},{"$f":"'Pivot Table Data'!L151","v":0},{"$f":"'Pivot Table Data'!S151","v":0},{"$f":"'Pivot Table Data'!T151","v":0},{"$f":"IF('Pivot Table Data'!O151=\"Yes\", 'Pivot Table Data'!T151, \"\")","v":""}]
[{"$f":"'Pivot Table Data'!B152","v":0},{"$f":"'Pivot Table Data'!F152","v":"Health Sciences East"},{"$f":"'Pivot Table Data'!P152","v":"P757"},{"$f":"'Pivot Table Data'!I152","v":"-"},{"$f":"'Pivot Table Data'!J152","v":"UC Vehicle"},{"$f":"'Pivot Table Data'!K152","v":0},{"$f":"'Pivot Table Data'!L152","v":0},{"$f":"'Pivot Table Data'!S152","v":0},{"$f":"'Pivot Table Data'!T152","v":0},{"$f":"IF('Pivot Table Data'!O152=\"Yes\", 'Pivot Table Data'!T152, \"\")","v":""}]
[{"$f":"'Pivot Table Data'!B153","v":0},{"$f":"'Pivot Table Data'!F153","v":"Health Sciences East"},{"$f":"'Pivot Table Data'!P153","v":"P758"},{"$f":"'Pivot Table Data'!I153","v":"-"},{"$f":"'Pivot Table Data'!J153","v":"Accessible"},{"$f":"'Pivot Table Data'!K153","v":0},{"$f":"'Pivot Table Data'!L153","v":0},{"$f":"'Pivot Table Data'!S153","v":2},{"$f":"'Pivot Table Data'!T153","v":2},{"$f":"IF('Pivot Table Data'!O153=\"Yes\", 'Pivot Table Data'!T153, \"\")","v":""}]
[{"$f":"'Pivot Table Data'!B154","v":0},{"$f":"'Pivot Table Data'!F154","v":"Health Sciences East"},{"$f":"'Pivot Table Data'!P154","v":"P758"},{"$f":"'Pivot Table Data'!I154","v":"-"},{"$f":"'Pivot Table Data'!J154","v":"Accessible (Van)"},{"$f":"'Pivot Table Data'!K154","v":0},{"$f":"'Pivot Table Data'!L154","v":0},{"$f":"'Pivot Table Data'!S154","v":0},{"$f":"'Pivot Table Data'!T154","v":0},{"$f":"IF('Pivot Table Data'!O154=\"Yes\", 'Pivot Table Data'!T154, \"\")","v":""}]
[{"$f":"'Pivot Table Data'!B155","v":0},{"$f":"'Pivot Table Data'!F155","v":"Health Sciences East"},{"$f":"'Pivot Table Data'!P155","v":"P758"},{"$f":"'Pivot Table Data'!I155","v":"-"},{"$f":"'Pivot Table Data'!J155","v":"Motorcycle Section"},{"$f":"'Pivot Table Data'!K155","v":0},{"$f":"'Pivot Table Data'!L155","v":0},{"$f":"'Pivot Table Data'!S155","v":0},{"$f":"'Pivot Table Data'!T155","v":0},{"$f":"IF('Pivot Table Data'!O155=\"Yes\", 'Pivot Table Data'!T155, \"\")","v":""}]
[{"$f":"'Pivot Table Data'!B156","v":0},{"$f":"'Pivot Table Data'!F156","v":"Health Sciences East"},{"$f":"'Pivot Table Data'!P156","v":"P758"},{"$f":"'Pivot Table Data'!I156","v":"-"},{"$f":"'Pivot Table Data'!J156","v":"Reserved"},{"$f":"'Pivot Table Data'!K156","v":0},{"$f":"'Pivot Table Data'!L156","v":0},{"$f":"'Pivot Table Data'!S156","v":5},{"$f":"'Pivot Table Data'!T156","v":5},{"$f":"IF('Pivot Table Data'!O156=\"Yes\", 'Pivot Table Data'!T156, \"\")","v":""}]
[{"$f":"'Pivot Table Data'!B157","v":0},{"$f":"'Pivot Table Data'!F157","v":"Health Sciences East"},{"$f":"'Pivot Table Data'!P157","v":"P759"},{"$f":"'Pivot Table Data'!I157","v":"-"},{"$f":"'Pivot Table Data'!J157","v":"A"},{"$f":"'Pivot Table Data'!K157","v":"Physician A"},{"$f":"'Pivot Table Data'!L157","v":0},{"$f":"'Pivot Table Data'!S157","v":87},{"$f":"'Pivot Table Data'!T157","v":87},{"$f":"IF('Pivot Table Data'!O157=\"Yes\", 'Pivot Table Data'!T157, \"\")","v":87}]
[{"$f":"'Pivot Table Data'!B158","v":0},{"$f":"'Pivot Table Data'!F158","v":"Health Sciences East"},{"$f":"'Pivot Table Data'!P158","v":"P759"},{"$f":"'Pivot Table Data'!I158","v":"-"},{"$f":"'Pivot Table Data'!J158","v":"Accessible"},{"$f":"'Pivot Table Data'!K158","v":0},{"$f":"'Pivot Table Data'!L158","v":0},{"$f":"'Pivot Table Data'!S158","v":4},{"$f":"'Pivot Table Data'!T158","v":4},{"$f":"IF('Pivot Table Data'!O158=\"Yes\", 'Pivot Table Data'!T158, \"\")","v":""}]
[{"$f":"'Pivot Table Data'!B159","v":0},{"$f":"'Pivot Table Data'!F159","v":"Health Sciences East"},{"$f":"'Pivot Table Data'!P159","v":"P759"},{"$f":"'Pivot Table Data'!I159","v":"-"},{"$f":"'Pivot Table Data'!J159","v":"Accessible (Van)"},{"$f":"'Pivot Table Data'!K159","v":0},{"$f":"'Pivot Table Data'!L159","v":0},{"$f":"'Pivot Table Data'!S159","v":5},{"$f":"'Pivot Table Data'!T159","v":5},{"$f":"IF('Pivot Table Data'!O159=\"Yes\", 'Pivot Table Data'!T159, \"\")","v":""}]
[{"$f":"'Pivot Table Data'!B160","v":0},{"$f":"'Pivot Table Data'!F160","v":"Health Sciences East"},{"$f":"'Pivot Table Data'!P160","v":"P759"},{"$f":"'Pivot Table Data'!I160","v":"-"},{"$f":"'Pivot Table Data'!J160","v":"Motorcycle Section"},{"$f":"'Pivot Table Data'!K160","v":0},{"$f":"'Pivot Table Data'!L160","v":0},{"$f":"'Pivot Table Data'!S160","v":1},{"$f":"'Pivot Table Data'!T160","v":1},{"$f":"IF('Pivot Table Data'!O160=\"Yes\", 'Pivot Table Data'!T160, \"\")","v":""}]
[{"$f":"'Pivot Table Data'!B161","v":0},{"$f":"'Pivot Table Data'!F161","v":"Health Sciences East"},{"$f":"'Pivot Table Data'!P161","v":"P759"},{"$f":"'Pivot Table Data'!I161","v":"-"},{"$f":"'Pivot Table Data'!J161","v":"Reserved"},{"$f":"'Pivot Table Data'!K161","v":"Alzheimer's Disease Research Center Patient"},{"$f":"'Pivot Table Data'!L161","v":0},{"$f":"'Pivot Table Data'!S161","v":10},{"$f":"'Pivot Table Data'!T161","v":10},{"$f":"IF('Pivot Table Data'!O161=\"Yes\", 'Pivot Table Data'!T161, \"\")","v":""}]
[{"$f":"'Pivot Table Data'!B162","v":0},{"$f":"'Pivot Table Data'!F162","v":"Health Sciences East"},{"$f":"'Pivot Table Data'!P162","v":"P759"},{"$f":"'Pivot Table Data'!I162","v":"-"},{"$f":"'Pivot Table Data'!J162","v":"Reserved"},{"$f":"'Pivot Table Data'!K162","v":"Brain Health and Memory Disorders"},{"$f":"'Pivot Table Data'!L162","v":0},{"$f":"'Pivot Table Data'!S162","v":5},{"$f":"'Pivot Table Data'!T162","v":5},{"$f":"IF('Pivot Table Data'!O162=\"Yes\", 'Pivot Table Data'!T162, \"\")","v":""}]
[{"$f":"'Pivot Table Data'!B163","v":0},{"$f":"'Pivot Table Data'!F163","v":"Health Sciences East"},{"$f":"'Pivot Table Data'!P163","v":"P759"},{"$f":"'Pivot Table Data'!I163","v":"-"},{"$f":"'Pivot Table Data'!J163","v":"Reserved"},{"$f":"'Pivot Table Data'!K163","v":"Huntington's Disease Clinical Research Center"},{"$f":"'Pivot Table Data'!L163","v":0},{"$f":"'Pivot Table Data'!S163","v":2},{"$f":"'Pivot Table Data'!T163","v":2},{"$f":"IF('Pivot Table Data'!O163=\"Yes\", 'Pivot Table Data'!T163, \"\")","v":""}]
[{"$f":"'Pivot Table Data'!B164","v":0},{"$f":"'Pivot Table Data'!F164","v":"Health Sciences East"},{"$f":"'Pivot Table Data'!P164","v":"P761"},{"$f":"'Pivot Table Data'!I164","v":"-"},{"$f":"'Pivot Table Data'!J164","v":"UC Vehicle"},{"$f":"'Pivot Table Data'!K164","v":0},{"$f":"'Pivot Table Data'!L164","v":0},{"$f":"'Pivot Table Data'!S164","v":3},{"$f":"'Pivot Table Data'!T164","v":3},{"$f":"IF('Pivot Table Data'!O164=\"Yes\", 'Pivot Table Data'!T164, \"\")","v":""}]
[{"$f":"'Pivot Table Data'!B165","v":0},{"$f":"'Pivot Table Data'!F165","v":"Health Sciences East"},{"$f":"'Pivot Table Data'!P165","v":"P762"},{"$f":"'Pivot Table Data'!I165","v":"-"},{"$f":"'Pivot Table Data'!J165","v":"Loading"},{"$f":"'Pivot Table Data'!K165","v":0},{"$f":"'Pivot Table Data'!L165","v":0},{"$f":"'Pivot Table Data'!S165","v":1},{"$f":"'Pivot Table Data'!T165","v":1},{"$f":"IF('Pivot Table Data'!O165=\"Yes\", 'Pivot Table Data'!T165, \"\")","v":""}]
[{"$f":"'Pivot Table Data'!B166","v":0},{"$f":"'Pivot Table Data'!F166","v":"Health Sciences East"},{"$f":"'Pivot Table Data'!P166","v":"P762"},{"$f":"'Pivot Table Data'!I166","v":"-"},{"$f":"'Pivot Table Data'!J166","v":"Service Yard"},{"$f":"'Pivot Table Data'!K166","v":0},{"$f":"'Pivot Table Data'!L166","v":0},{"$f":"'Pivot Table Data'!S166","v":3},{"$f":"'Pivot Table Data'!T166","v":3},{"$f":"IF('Pivot Table Data'!O166=\"Yes\", 'Pivot Table Data'!T166, \"\")","v":""}]
[{"$f":"'Pivot Table Data'!B167","v":0},{"$f":"'Pivot Table Data'!F167","v":"Science Research Park"},{"$f":"'Pivot Table Data'!P167","v":"P782"},{"$f":"'Pivot Table Data'!I167","v":"-"},{"$f":"'Pivot Table Data'!J167","v":"SS ($3.25)"},{"$f":"'Pivot Table Data'!K167","v":0},{"$f":"'Pivot Table Data'!L167","v":0},{"$f":"'Pivot Table Data'!S167","v":216},{"$f":"'Pivot Table Data'!T167","v":216},{"$f":"IF('Pivot Table Data'!O167=\"Yes\", 'Pivot Table Data'!T167, \"\")","v":216}]
[{"$f":"'Pivot Table Data'!B168","v":0},{"$f":"'Pivot Table Data'!F168","v":"Health Sciences East"},{"$f":"'Pivot Table Data'!P168","v":"P784"},{"$f":"'Pivot Table Data'!I168","v":"-"},{"$f":"'Pivot Table Data'!J168","v":"Accessible"},{"$f":"'Pivot Table Data'!K168","v":0},{"$f":"'Pivot Table Data'!L168","v":0},{"$f":"'Pivot Table Data'!S168","v":6},{"$f":"'Pivot Table Data'!T168","v":6},{"$f":"IF('Pivot Table Data'!O168=\"Yes\", 'Pivot Table Data'!T168, \"\")","v":""}]
[{"$f":"'Pivot Table Data'!B169","v":0},{"$f":"'Pivot Table Data'!F169","v":"Health Sciences East"},{"$f":"'Pivot Table Data'!P169","v":"P784"},{"$f":"'Pivot Table Data'!I169","v":"-"},{"$f":"'Pivot Table Data'!J169","v":"Accessible (Van)"},{"$f":"'Pivot Table Data'!K169","v":0},{"$f":"'Pivot Table Data'!L169","v":0},{"$f":"'Pivot Table Data'!S169","v":12},{"$f":"'Pivot Table Data'!T169","v":12},{"$f":"IF('Pivot Table Data'!O169=\"Yes\", 'Pivot Table Data'!T169, \"\")","v":""}]
[{"$f":"'Pivot Table Data'!B170","v":0},{"$f":"'Pivot Table Data'!F170","v":"Health Sciences East"},{"$f":"'Pivot Table Data'!P170","v":"P784"},{"$f":"'Pivot Table Data'!I170","v":"-"},{"$f":"'Pivot Table Data'!J170","v":"B"},{"$f":"'Pivot Table Data'!K170","v":0},{"$f":"'Pivot Table Data'!L170","v":0},{"$f":"'Pivot Table Data'!S170","v":81},{"$f":"'Pivot Table Data'!T170","v":81},{"$f":"IF('Pivot Table Data'!O170=\"Yes\", 'Pivot Table Data'!T170, \"\")","v":81}]
[{"$f":"'Pivot Table Data'!B171","v":0},{"$f":"'Pivot Table Data'!F171","v":"Health Sciences East"},{"$f":"'Pivot Table Data'!P171","v":"P784"},{"$f":"'Pivot Table Data'!I171","v":"-"},{"$f":"'Pivot Table Data'!J171","v":"Reserved"},{"$f":"'Pivot Table Data'!K171","v":"Valet"},{"$f":"'Pivot Table Data'!L171","v":0},{"$f":"'Pivot Table Data'!S171","v":9},{"$f":"'Pivot Table Data'!T171","v":9},{"$f":"IF('Pivot Table Data'!O171=\"Yes\", 'Pivot Table Data'!T171, \"\")","v":""}]
[{"$f":"'Pivot Table Data'!B172","v":0},{"$f":"'Pivot Table Data'!F172","v":"Health Sciences East"},{"$f":"'Pivot Table Data'!P172","v":"P785"},{"$f":"'Pivot Table Data'!I172","v":"-"},{"$f":"'Pivot Table Data'!J172","v":"Accessible"},{"$f":"'Pivot Table Data'!K172","v":0},{"$f":"'Pivot Table Data'!L172","v":0},{"$f":"'Pivot Table Data'!S172","v":0},{"$f":"'Pivot Table Data'!T172","v":0},{"$f":"IF('Pivot Table Data'!O172=\"Yes\", 'Pivot Table Data'!T172, \"\")","v":""}]
[{"$f":"'Pivot Table Data'!B173","v":0},{"$f":"'Pivot Table Data'!F173","v":"Health Sciences East"},{"$f":"'Pivot Table Data'!P173","v":"P785"},{"$f":"'Pivot Table Data'!I173","v":"-"},{"$f":"'Pivot Table Data'!J173","v":"Accessible (Van)"},{"$f":"'Pivot Table Data'!K173","v":0},{"$f":"'Pivot Table Data'!L173","v":0},{"$f":"'Pivot Table Data'!S173","v":8},{"$f":"'Pivot Table Data'!T173","v":8},{"$f":"IF('Pivot Table Data'!O173=\"Yes\", 'Pivot Table Data'!T173, \"\")","v":""}]
[{"$f":"'Pivot Table Data'!B174","v":0},{"$f":"'Pivot Table Data'!F174","v":"Health Sciences East"},{"$f":"'Pivot Table Data'!P174","v":"P785"},{"$f":"'Pivot Table Data'!I174","v":"-"},{"$f":"'Pivot Table Data'!J174","v":"B"},{"$f":"'Pivot Table Data'!K174","v":0},{"$f":"'Pivot Table Data'!L174","v":0},{"$f":"'Pivot Table Data'!S174","v":384},{"$f":"'Pivot Table Data'!T174","v":384},{"$f":"IF('Pivot Table Data'!O174=\"Yes\", 'Pivot Table Data'!T174, \"\")","v":384}]
[{"$f":"'Pivot Table Data'!B175","v":0},{"$f":"'Pivot Table Data'!F175","v":"Medical Center Hillcrest"},{"$f":"'Pivot Table Data'!P175","v":"Arbor"},{"$f":"'Pivot Table Data'!I175","v":"L1"},{"$f":"'Pivot Table Data'!J175","v":"Visitor"},{"$f":"'Pivot Table Data'!K175","v":0},{"$f":"'Pivot Table Data'!L175","v":0},{"$f":"'Pivot Table Data'!S175","v":41},{"$f":"'Pivot Table Data'!T175","v":263},{"$f":"IF('Pivot Table Data'!O175=\"Yes\", 'Pivot Table Data'!T175, \"\")","v":""}]
[{"$f":"'Pivot Table Data'!B176","v":0},{"$f":"'Pivot Table Data'!F176","v":"Medical Center Hillcrest"},{"$f":"'Pivot Table Data'!P176","v":"Arbor"},{"$f":"'Pivot Table Data'!I176","v":"L2"},{"$f":"'Pivot Table Data'!J176","v":"Visitor"},{"$f":"'Pivot Table Data'!K176","v":0},{"$f":"'Pivot Table Data'!L176","v":0},{"$f":"'Pivot Table Data'!S176","v":41},{"$f":"'Pivot Table Data'!T176","v":""},{"$f":"IF('Pivot Table Data'!O176=\"Yes\", 'Pivot Table Data'!T176, \"\")","v":""}]
[{"$f":"'Pivot Table Data'!B177","v":0},{"$f":"'Pivot Table Data'!F177","v":"Medical Center Hillcrest"},{"$f":"'Pivot Table Data'!P177","v":"Arbor"},{"$f":"'Pivot Table Data'!I177","v":"L3"},{"$f":"'Pivot Table Data'!J177","v":"Visitor"},{"$f":"'Pivot Table Data'!K177","v":0},{"$f":"'Pivot Table Data'!L177","v":0},{"$f":"'Pivot Table Data'!S177","v":39},{"$f":"'Pivot Table Data'!T177","v":""},{"$f":"IF('Pivot Table Data'!O177=\"Yes\", 'Pivot Table Data'!T177, \"\")","v":""}]
[{"$f":"'Pivot Table Data'!B178","v":0},{"$f":"'Pivot Table Data'!F178","v":"Medical Center Hillcrest"},{"$f":"'Pivot Table Data'!P178","v":"Arbor"},{"$f":"'Pivot Table Data'!I178","v":"L4"},{"$f":"'Pivot Table Data'!J178","v":"Visitor"},{"$f":"'Pivot Table Data'!K178","v":0},{"$f":"'Pivot Table Data'!L178","v":0},{"$f":"'Pivot Table Data'!S178","v":39},{"$f":"'Pivot Table Data'!T178","v":""},{"$f":"IF('Pivot Table Data'!O178=\"Yes\", 'Pivot Table Data'!T178, \"\")","v":""}]
[{"$f":"'Pivot Table Data'!B179","v":0},{"$f":"'Pivot Table Data'!F179","v":"Medical Center Hillcrest"},{"$f":"'Pivot Table Data'!P179","v":"Arbor"},{"$f":"'Pivot Table Data'!I179","v":"L5"},{"$f":"'Pivot Table Data'!J179","v":"Visitor"},{"$f":"'Pivot Table Data'!K179","v":0},{"$f":"'Pivot Table Data'!L179","v":0},{"$f":"'Pivot Table Data'!S179","v":39},{"$f":"'Pivot Table Data'!T179","v":""},{"$f":"IF('Pivot Table Data'!O179=\"Yes\", 'Pivot Table Data'!T179, \"\")","v":""}]
[{"$f":"'Pivot Table Data'!B180","v":0},{"$f":"'Pivot Table Data'!F180","v":"Medical Center Hillcrest"},{"$f":"'Pivot Table Data'!P180","v":"Arbor"},{"$f":"'Pivot Table Data'!I180","v":"L6"},{"$f":"'Pivot Table Data'!J180","v":"Visitor"},{"$f":"'Pivot Table Data'!K180","v":0},{"$f":"'Pivot Table Data'!L180","v":0},{"$f":"'Pivot Table Data'!S180","v":39},{"$f":"'Pivot Table Data'!T180","v":""},{"$f":"IF('Pivot Table Data'!O180=\"Yes\", 'Pivot Table Data'!T180, \"\")","v":""}]
[{"$f":"'Pivot Table Data'!B181","v":0},{"$f":"'Pivot Table Data'!F181","v":"Medical Center Hillcrest"},{"$f":"'Pivot Table Data'!P181","v":"Arbor"},{"$f":"'Pivot Table Data'!I181","v":"L7"},{"$f":"'Pivot Table Data'!J181","v":"Motorcycle Section"},{"$f":"'Pivot Table Data'!K181","v":0},{"$f":"'Pivot Table Data'!L181","v":0},{"$f":"'Pivot Table Data'!S181","v":10},{"$f":"'Pivot Table Data'!T181","v":10},{"$f":"IF('Pivot Table Data'!O181=\"Yes\", 'Pivot Table Data'!T181, \"\")","v":""}]
[{"$f":"'Pivot Table Data'!B182","v":0},{"$f":"'Pivot Table Data'!F182","v":"Medical Center Hillcrest"},{"$f":"'Pivot Table Data'!P182","v":"Arbor"},{"$f":"'Pivot Table Data'!I182","v":"L7"},{"$f":"'Pivot Table Data'!J182","v":"Visitor"},{"$f":"'Pivot Table Data'!K182","v":"Patient Visitor Reserved"},{"$f":"'Pivot Table Data'!L182","v":0},{"$f":"'Pivot Table Data'!S182","v":4},{"$f":"'Pivot Table Data'!T182","v":4},{"$f":"IF('Pivot Table Data'!O182=\"Yes\", 'Pivot Table Data'!T182, \"\")","v":""}]
[{"$f":"'Pivot Table Data'!B183","v":0},{"$f":"'Pivot Table Data'!F183","v":"Medical Center Hillcrest"},{"$f":"'Pivot Table Data'!P183","v":"Arbor"},{"$f":"'Pivot Table Data'!I183","v":"L7"},{"$f":"'Pivot Table Data'!J183","v":"Visitor"},{"$f":"'Pivot Table Data'!K183","v":0},{"$f":"'Pivot Table Data'!L183","v":0},{"$f":"'Pivot Table Data'!S183","v":25},{"$f":"'Pivot Table Data'!T183","v":""},{"$f":"IF('Pivot Table Data'!O183=\"Yes\", 'Pivot Table Data'!T183, \"\")","v":""}]
[{"$f":"'Pivot Table Data'!B184","v":0},{"$f":"'Pivot Table Data'!F184","v":"Medical Center Hillcrest"},{"$f":"'Pivot Table Data'!P184","v":"Arbor"},{"$f":"'Pivot Table Data'!I184","v":"L8"},{"$f":"'Pivot Table Data'!J184","v":"Accessible"},{"$f":"'Pivot Table Data'!K184","v":0},{"$f":"'Pivot Table Data'!L184","v":0},{"$f":"'Pivot Table Data'!S184","v":10},{"$f":"'Pivot Table Data'!T184","v":15},{"$f":"IF('Pivot Table Data'!O184=\"Yes\", 'Pivot Table Data'!T184, \"\")","v":""}]
[{"$f":"'Pivot Table Data'!B185","v":0},{"$f":"'Pivot Table Data'!F185","v":"Medical Center Hillcrest"},{"$f":"'Pivot Table Data'!P185","v":"Arbor"},{"$f":"'Pivot Table Data'!I185","v":"L8"},{"$f":"'Pivot Table Data'!J185","v":"Accessible (Van)"},{"$f":"'Pivot Table Data'!K185","v":0},{"$f":"'Pivot Table Data'!L185","v":0},{"$f":"'Pivot Table Data'!S185","v":0},{"$f":"'Pivot Table Data'!T185","v":0},{"$f":"IF('Pivot Table Data'!O185=\"Yes\", 'Pivot Table Data'!T185, \"\")","v":""}]
[{"$f":"'Pivot Table Data'!B186","v":0},{"$f":"'Pivot Table Data'!F186","v":"Medical Center Hillcrest"},{"$f":"'Pivot Table Data'!P186","v":"Arbor"},{"$f":"'Pivot Table Data'!I186","v":"L8"},{"$f":"'Pivot Table Data'!J186","v":"Reserved"},{"$f":"'Pivot Table Data'!K186","v":"Transportation Office"},{"$f":"'Pivot Table Data'!L186","v":0},{"$f":"'Pivot Table Data'!S186","v":1},{"$f":"'Pivot Table Data'!T186","v":1},{"$f":"IF('Pivot Table Data'!O186=\"Yes\", 'Pivot Table Data'!T186, \"\")","v":""}]
[{"$f":"'Pivot Table Data'!B187","v":0},{"$f":"'Pivot Table Data'!F187","v":"Medical Center Hillcrest"},{"$f":"'Pivot Table Data'!P187","v":"Arbor"},{"$f":"'Pivot Table Data'!I187","v":"L8"},{"$f":"'Pivot Table Data'!J187","v":"UC Vehicle"},{"$f":"'Pivot Table Data'!K187","v":0},{"$f":"'Pivot Table Data'!L187","v":0},{"$f":"'Pivot Table Data'!S187","v":2},{"$f":"'Pivot Table Data'!T187","v":2},{"$f":"IF('Pivot Table Data'!O187=\"Yes\", 'Pivot Table Data'!T187, \"\")","v":""}]
[{"$f":"'Pivot Table Data'!B188","v":0},{"$f":"'Pivot Table Data'!F188","v":"Medical Center Hillcrest"},{"$f":"'Pivot Table Data'!P188","v":"Arbor"},{"$f":"'Pivot Table Data'!I188","v":"L9"},{"$f":"'Pivot Table Data'!J188","v":"Electric Vehicle"},{"$f":"'Pivot Table Data'!K188","v":0},{"$f":"'Pivot Table Data'!L188","v":"4 Hours"},{"$f":"'Pivot Table Data'!S188","v":12},{"$f":"'Pivot Table Data'!T188","v":12},{"$f":"IF('Pivot Table Data'!O188=\"Yes\", 'Pivot Table Data'!T188, \"\")","v":""}]
[{"$f":"'Pivot Table Data'!B189","v":0},{"$f":"'Pivot Table Data'!F189","v":"Medical Center Hillcrest"},{"$f":"'Pivot Table Data'!P189","v":"Arbor"},{"$f":"'Pivot Table Data'!I189","v":"L9"},{"$f":"'Pivot Table Data'!J189","v":"Motorcycle Section"},{"$f":"'Pivot Table Data'!K189","v":0},{"$f":"'Pivot Table Data'!L189","v":0},{"$f":"'Pivot Table Data'!S189","v":0},{"$f":"'Pivot Table Data'!T189","v":""},{"$f":"IF('Pivot Table Data'!O189=\"Yes\", 'Pivot Table Data'!T189, \"\")","v":""}]
[{"$f":"'Pivot Table Data'!B190","v":0},{"$f":"'Pivot Table Data'!F190","v":"Medical Center Hillcrest"},{"$f":"'Pivot Table Data'!P190","v":"Arbor"},{"$f":"'Pivot Table Data'!I190","v":"L9"},{"$f":"'Pivot Table Data'!J190","v":"Reserved"},{"$f":"'Pivot Table Data'!K190","v":0},{"$f":"'Pivot Table Data'!L190","v":0},{"$f":"'Pivot Table Data'!S190","v":19},{"$f":"'Pivot Table Data'!T190","v":19},{"$f":"IF('Pivot Table Data'!O190=\"Yes\", 'Pivot Table Data'!T190, \"\")","v":""}]
[{"$f":"'Pivot Table Data'!B191","v":0},{"$f":"'Pivot Table Data'!F191","v":"Medical Center Hillcrest"},{"$f":"'Pivot Table Data'!P191","v":"Arbor"},{"$f":"'Pivot Table Data'!I191","v":"L10"},{"$f":"'Pivot Table Data'!J191","v":"A"},{"$f":"'Pivot Table Data'!K191","v":0},{"$f":"'Pivot Table Data'!L191","v":0},{"$f":"'Pivot Table Data'!S191","v":44},{"$f":"'Pivot Table Data'!T191","v":226},{"$f":"IF('Pivot Table Data'!O191=\"Yes\", 'Pivot Table Data'!T191, \"\")","v":""}]
[{"$f":"'Pivot Table Data'!B192","v":0},{"$f":"'Pivot Table Data'!F192","v":"Medical Center Hillcrest"},{"$f":"'Pivot Table Data'!P192","v":"Arbor"},{"$f":"'Pivot Table Data'!I192","v":"L10"},{"$f":"'Pivot Table Data'!J192","v":"Accessible"},{"$f":"'Pivot Table Data'!K192","v":0},{"$f":"'Pivot Table Data'!L192","v":0},{"$f":"'Pivot Table Data'!S192","v":3},{"$f":"'Pivot Table Data'!T192","v":""},{"$f":"IF('Pivot Table Data'!O192=\"Yes\", 'Pivot Table Data'!T192, \"\")","v":""}]
[{"$f":"'Pivot Table Data'!B193","v":0},{"$f":"'Pivot Table Data'!F193","v":"Medical Center Hillcrest"},{"$f":"'Pivot Table Data'!P193","v":"Arbor"},{"$f":"'Pivot Table Data'!I193","v":"L10"},{"$f":"'Pivot Table Data'!J193","v":"Accessible (Van)"},{"$f":"'Pivot Table Data'!K193","v":0},{"$f":"'Pivot Table Data'!L193","v":0},{"$f":"'Pivot Table Data'!S193","v":0},{"$f":"'Pivot Table Data'!T193","v":""},{"$f":"IF('Pivot Table Data'!O193=\"Yes\", 'Pivot Table Data'!T193, \"\")","v":""}]
[{"$f":"'Pivot Table Data'!B194","v":0},{"$f":"'Pivot Table Data'!F194","v":"Medical Center Hillcrest"},{"$f":"'Pivot Table Data'!P194","v":"Arbor"},{"$f":"'Pivot Table Data'!I194","v":"L11"},{"$f":"'Pivot Table Data'!J194","v":"A"},{"$f":"'Pivot Table Data'!K194","v":0},{"$f":"'Pivot Table Data'!L194","v":0},{"$f":"'Pivot Table Data'!S194","v":47},{"$f":"'Pivot Table Data'!T194","v":""},{"$f":"IF('Pivot Table Data'!O194=\"Yes\", 'Pivot Table Data'!T194, \"\")","v":""}]
[{"$f":"'Pivot Table Data'!B195","v":0},{"$f":"'Pivot Table Data'!F195","v":"Medical Center Hillcrest"},{"$f":"'Pivot Table Data'!P195","v":"Arbor"},{"$f":"'Pivot Table Data'!I195","v":"L12"},{"$f":"'Pivot Table Data'!J195","v":"A"},{"$f":"'Pivot Table Data'!K195","v":0},{"$f":"'Pivot Table Data'!L195","v":0},{"$f":"'Pivot Table Data'!S195","v":45},{"$f":"'Pivot Table Data'!T195","v":""},{"$f":"IF('Pivot Table Data'!O195=\"Yes\", 'Pivot Table Data'!T195, \"\")","v":""}]
[{"$f":"'Pivot Table Data'!B196","v":0},{"$f":"'Pivot Table Data'!F196","v":"Medical Center Hillcrest"},{"$f":"'Pivot Table Data'!P196","v":"Arbor"},{"$f":"'Pivot Table Data'!I196","v":"L12"},{"$f":"'Pivot Table Data'!J196","v":"Accessible"},{"$f":"'Pivot Table Data'!K196","v":0},{"$f":"'Pivot Table Data'!L196","v":0},{"$f":"'Pivot Table Data'!S196","v":1},{"$f":"'Pivot Table Data'!T196","v":""},{"$f":"IF('Pivot Table Data'!O196=\"Yes\", 'Pivot Table Data'!T196, \"\")","v":""}]
[{"$f":"'Pivot Table Data'!B197","v":0},{"$f":"'Pivot Table Data'!F197","v":"Medical Center Hillcrest"},{"$f":"'Pivot Table Data'!P197","v":"Arbor"},{"$f":"'Pivot Table Data'!I197","v":"L12"},{"$f":"'Pivot Table Data'!J197","v":"Accessible (Van)"},{"$f":"'Pivot Table Data'!K197","v":0},{"$f":"'Pivot Table Data'!L197","v":0},{"$f":"'Pivot Table Data'!S197","v":0},{"$f":"'Pivot Table Data'!T197","v":""},{"$f":"IF('Pivot Table Data'!O197=\"Yes\", 'Pivot Table Data'!T197, \"\")","v":""}]
[{"$f":"'Pivot Table Data'!B198","v":0},{"$f":"'Pivot Table Data'!F198","v":"Medical Center Hillcrest"},{"$f":"'Pivot Table Data'!P198","v":"Arbor"},{"$f":"'Pivot Table Data'!I198","v":"L13"},{"$f":"'Pivot Table Data'!J198","v":"A"},{"$f":"'Pivot Table Data'!K198","v":0},{"$f":"'Pivot Table Data'!L198","v":0},{"$f":"'Pivot Table Data'!S198","v":47},{"$f":"'Pivot Table Data'!T198","v":""},{"$f":"IF('Pivot Table Data'!O198=\"Yes\", 'Pivot Table Data'!T198, \"\")","v":""}]
[{"$f":"'Pivot Table Data'!B199","v":0},{"$f":"'Pivot Table Data'!F199","v":"Medical Center Hillcrest"},{"$f":"'Pivot Table Data'!P199","v":"Arbor"},{"$f":"'Pivot Table Data'!I199","v":"L14"},{"$f":"'Pivot Table Data'!J199","v":"A"},{"$f":"'Pivot Table Data'!K199","v":0},{"$f":"'Pivot Table Data'!L199","v":0},{"$f":"'Pivot Table Data'!S199","v":43},{"$f":"'Pivot Table Data'!T199","v":""},{"$f":"IF('Pivot Table Data'!O199=\"Yes\", 'Pivot Table Data'!T199, \"\")","v":""}]
[{"$f":"'Pivot Table Data'!B200","v":0},{"$f":"'Pivot Table Data'!F200","v":"Medical Center Hillcrest"},{"$f":"'Pivot Table Data'!P200","v":"Arbor"},{"$f":"'Pivot Table Data'!I200","v":"L14"},{"$f":"'Pivot Table Data'!J200","v":"Accessible"},{"$f":"'Pivot Table Data'!K200","v":0},{"$f":"'Pivot Table Data'!L200","v":0},{"$f":"'Pivot Table Data'!S200","v":1},{"$f":"'Pivot Table Data'!T200","v":""},{"$f":"IF('Pivot Table Data'!O200=\"Yes\", 'Pivot Table Data'!T200, \"\")","v":""}]
[{"$f":"'Pivot Table Data'!B201","v":0},{"$f":"'Pivot Table Data'!F201","v":"Medical Center Hillcrest"},{"$f":"'Pivot Table Data'!P201","v":"Arbor"},{"$f":"'Pivot Table Data'!I201","v":"L14"},{"$f":"'Pivot Table Data'!J201","v":"Accessible (Van)"},{"$f":"'Pivot Table Data'!K201","v":0},{"$f":"'Pivot Table Data'!L201","v":0},{"$f":"'Pivot Table Data'!S201","v":0},{"$f":"'Pivot Table Data'!T201","v":""},{"$f":"IF('Pivot Table Data'!O201=\"Yes\", 'Pivot Table Data'!T201, \"\")","v":""}]
[{"$f":"'Pivot Table Data'!B202","v":0},{"$f":"'Pivot Table Data'!F202","v":"Medical Center HIllcrest"},{"$f":"'Pivot Table Data'!P202","v":"First Ave"},{"$f":"'Pivot Table Data'!I202","v":"B2 & Ramps to Next Level"},{"$f":"'Pivot Table Data'!J202","v":"Accessible"},{"$f":"'Pivot Table Data'!K202","v":"Construction"},{"$f":"'Pivot Table Data'!L202","v":0},{"$f":"'Pivot Table Data'!S202","v":5},{"$f":"'Pivot Table Data'!T202","v":9},{"$f":"IF('Pivot Table Data'!O202=\"Yes\", 'Pivot Table Data'!T202, \"\")","v":""}]
[{"$f":"'Pivot Table Data'!B203","v":0},{"$f":"'Pivot Table Data'!F203","v":"Medical Center HIllcrest"},{"$f":"'Pivot Table Data'!P203","v":"First Ave"},{"$f":"'Pivot Table Data'!I203","v":"B2 & Ramps to Next Level"},{"$f":"'Pivot Table Data'!J203","v":"Accessible (Van)"},{"$f":"'Pivot Table Data'!K203","v":0},{"$f":"'Pivot Table Data'!L203","v":0},{"$f":"'Pivot Table Data'!S203","v":0},{"$f":"'Pivot Table Data'!T203","v":0},{"$f":"IF('Pivot Table Data'!O203=\"Yes\", 'Pivot Table Data'!T203, \"\")","v":""}]
[{"$f":"'Pivot Table Data'!B204","v":0},{"$f":"'Pivot Table Data'!F204","v":"Medical Center HIllcrest"},{"$f":"'Pivot Table Data'!P204","v":"First Ave"},{"$f":"'Pivot Table Data'!I204","v":"B2 & Ramps to Next Level"},{"$f":"'Pivot Table Data'!J204","v":"B"},{"$f":"'Pivot Table Data'!K204","v":"Construction"},{"$f":"'Pivot Table Data'!L204","v":0},{"$f":"'Pivot Table Data'!S204","v":242},{"$f":"'Pivot Table Data'!T204","v":438},{"$f":"IF('Pivot Table Data'!O204=\"Yes\", 'Pivot Table Data'!T204, \"\")","v":""}]
[{"$f":"'Pivot Table Data'!B205","v":0},{"$f":"'Pivot Table Data'!F205","v":"Medical Center HIllcrest"},{"$f":"'Pivot Table Data'!P205","v":"First Ave"},{"$f":"'Pivot Table Data'!I205","v":"B2 & Ramps to Next Level"},{"$f":"'Pivot Table Data'!J205","v":"Electric Vehicle"},{"$f":"'Pivot Table Data'!K205","v":"Construction"},{"$f":"'Pivot Table Data'!L205","v":0},{"$f":"'Pivot Table Data'!S205","v":0},{"$f":"'Pivot Table Data'!T205","v":0},{"$f":"IF('Pivot Table Data'!O205=\"Yes\", 'Pivot Table Data'!T205, \"\")","v":""}]
[{"$f":"'Pivot Table Data'!B206","v":0},{"$f":"'Pivot Table Data'!F206","v":"Medical Center HIllcrest"},{"$f":"'Pivot Table Data'!P206","v":"First Ave"},{"$f":"'Pivot Table Data'!I206","v":"B2 & Ramps to Next Level"},{"$f":"'Pivot Table Data'!J206","v":"Motorcycle Section"},{"$f":"'Pivot Table Data'!K206","v":"Construction"},{"$f":"'Pivot Table Data'!L206","v":0},{"$f":"'Pivot Table Data'!S206","v":15},{"$f":"'Pivot Table Data'!T206","v":23},{"$f":"IF('Pivot Table Data'!O206=\"Yes\", 'Pivot Table Data'!T206, \"\")","v":""}]
[{"$f":"'Pivot Table Data'!B207","v":0},{"$f":"'Pivot Table Data'!F207","v":"Medical Center HIllcrest"},{"$f":"'Pivot Table Data'!P207","v":"First Ave"},{"$f":"'Pivot Table Data'!I207","v":"B2 & Ramps to Next Level"},{"$f":"'Pivot Table Data'!J207","v":"Reserved"},{"$f":"'Pivot Table Data'!K207","v":0},{"$f":"'Pivot Table Data'!L207","v":0},{"$f":"'Pivot Table Data'!S207","v":8},{"$f":"'Pivot Table Data'!T207","v":8},{"$f":"IF('Pivot Table Data'!O207=\"Yes\", 'Pivot Table Data'!T207, \"\")","v":""}]
[{"$f":"'Pivot Table Data'!B208","v":0},{"$f":"'Pivot Table Data'!F208","v":"Medical Center HIllcrest"},{"$f":"'Pivot Table Data'!P208","v":"First Ave"},{"$f":"'Pivot Table Data'!I208","v":"B1 & Ramps to Next Level"},{"$f":"'Pivot Table Data'!J208","v":"A"},{"$f":"'Pivot Table Data'!K208","v":"Construction"},{"$f":"'Pivot Table Data'!L208","v":0},{"$f":"'Pivot Table Data'!S208","v":0},{"$f":"'Pivot Table Data'!T208","v":0},{"$f":"IF('Pivot Table Data'!O208=\"Yes\", 'Pivot Table Data'!T208, \"\")","v":""}]
[{"$f":"'Pivot Table Data'!B209","v":0},{"$f":"'Pivot Table Data'!F209","v":"Medical Center HIllcrest"},{"$f":"'Pivot Table Data'!P209","v":"First Ave"},{"$f":"'Pivot Table Data'!I209","v":"B1 & Ramps to Next Level"},{"$f":"'Pivot Table Data'!J209","v":"Accessible"},{"$f":"'Pivot Table Data'!K209","v":"Construction"},{"$f":"'Pivot Table Data'!L209","v":0},{"$f":"'Pivot Table Data'!S209","v":4},{"$f":"'Pivot Table Data'!T209","v":""},{"$f":"IF('Pivot Table Data'!O209=\"Yes\", 'Pivot Table Data'!T209, \"\")","v":""}]
[{"$f":"'Pivot Table Data'!B210","v":0},{"$f":"'Pivot Table Data'!F210","v":"Medical Center HIllcrest"},{"$f":"'Pivot Table Data'!P210","v":"First Ave"},{"$f":"'Pivot Table Data'!I210","v":"B1 & Ramps to Next Level"},{"$f":"'Pivot Table Data'!J210","v":"Accessible (Van)"},{"$f":"'Pivot Table Data'!K210","v":0},{"$f":"'Pivot Table Data'!L210","v":0},{"$f":"'Pivot Table Data'!S210","v":0},{"$f":"'Pivot Table Data'!T210","v":""},{"$f":"IF('Pivot Table Data'!O210=\"Yes\", 'Pivot Table Data'!T210, \"\")","v":""}]
[{"$f":"'Pivot Table Data'!B211","v":0},{"$f":"'Pivot Table Data'!F211","v":"Medical Center HIllcrest"},{"$f":"'Pivot Table Data'!P211","v":"First Ave"},{"$f":"'Pivot Table Data'!I211","v":"B1 & Ramps to Next Level"},{"$f":"'Pivot Table Data'!J211","v":"B"},{"$f":"'Pivot Table Data'!K211","v":"Construction"},{"$f":"'Pivot Table Data'!L211","v":0},{"$f":"'Pivot Table Data'!S211","v":196},{"$f":"'Pivot Table Data'!T211","v":""},{"$f":"IF('Pivot Table Data'!O211=\"Yes\", 'Pivot Table Data'!T211, \"\")","v":""}]
[{"$f":"'Pivot Table Data'!B212","v":0},{"$f":"'Pivot Table Data'!F212","v":"Medical Center HIllcrest"},{"$f":"'Pivot Table Data'!P212","v":"First Ave"},{"$f":"'Pivot Table Data'!I212","v":"B1 & Ramps to Next Level"},{"$f":"'Pivot Table Data'!J212","v":"Electric Vehicle"},{"$f":"'Pivot Table Data'!K212","v":"Construction"},{"$f":"'Pivot Table Data'!L212","v":0},{"$f":"'Pivot Table Data'!S212","v":0},{"$f":"'Pivot Table Data'!T212","v":""},{"$f":"IF('Pivot Table Data'!O212=\"Yes\", 'Pivot Table Data'!T212, \"\")","v":""}]
[{"$f":"'Pivot Table Data'!B213","v":0},{"$f":"'Pivot Table Data'!F213","v":"Medical Center HIllcrest"},{"$f":"'Pivot Table Data'!P213","v":"First Ave"},{"$f":"'Pivot Table Data'!I213","v":"B1 & Ramps to Next Level"},{"$f":"'Pivot Table Data'!J213","v":"Motorcycle Section"},{"$f":"'Pivot Table Data'!K213","v":"Construction"},{"$f":"'Pivot Table Data'!L213","v":0},{"$f":"'Pivot Table Data'!S213","v":8},{"$f":"'Pivot Table Data'!T213","v":""},{"$f":"IF('Pivot Table Data'!O213=\"Yes\", 'Pivot Table Data'!T213, \"\")","v":""}]
[{"$f":"'Pivot Table Data'!B214","v":0},{"$f":"'Pivot Table Data'!F214","v":"Medical Center HIllcrest"},{"$f":"'Pivot Table Data'!P214","v":"First Ave"},{"$f":"'Pivot Table Data'!I214","v":"B1 & Ramps to Next Level"},{"$f":"'Pivot Table Data'!J214","v":"Reserved"},{"$f":"'Pivot Table Data'!K214","v":0},{"$f":"'Pivot Table Data'!L214","v":0},{"$f":"'Pivot Table Data'!S214","v":0},{"$f":"'Pivot Table Data'!T214","v":""},{"$f":"IF('Pivot Table Data'!O214=\"Yes\", 'Pivot Table Data'!T214, \"\")","v":""}]
[{"$f":"'Pivot Table Data'!B215","v":0},{"$f":"'Pivot Table Data'!F215","v":"Medical Center HIllcrest"},{"$f":"'Pivot Table Data'!P215","v":"First Ave"},{"$f":"'Pivot Table Data'!I215","v":"PL & Ramps to Next Level"},{"$f":"'Pivot Table Data'!J215","v":"A"},{"$f":"'Pivot Table Data'!K215","v":0},{"$f":"'Pivot Table Data'!L215","v":0},{"$f":"'Pivot Table Data'!S215","v":0},{"$f":"'Pivot Table Data'!T215","v":0},{"$f":"IF('Pivot Table Data'!O215=\"Yes\", 'Pivot Table Data'!T215, \"\")","v":""}]
[{"$f":"'Pivot Table Data'!B216","v":0},{"$f":"'Pivot Table Data'!F216","v":"Medical Center HIllcrest"},{"$f":"'Pivot Table Data'!P216","v":"First Ave"},{"$f":"'Pivot Table Data'!I216","v":"PL & Ramps to Next Level"},{"$f":"'Pivot Table Data'!J216","v":"Accessible"},{"$f":"'Pivot Table Data'!K216","v":0},{"$f":"'Pivot Table Data'!L216","v":0},{"$f":"'Pivot Table Data'!S216","v":6},{"$f":"'Pivot Table Data'!T216","v":50},{"$f":"IF('Pivot Table Data'!O216=\"Yes\", 'Pivot Table Data'!T216, \"\")","v":""}]
[{"$f":"'Pivot Table Data'!B217","v":0},{"$f":"'Pivot Table Data'!F217","v":"Medical Center HIllcrest"},{"$f":"'Pivot Table Data'!P217","v":"First Ave"},{"$f":"'Pivot Table Data'!I217","v":"PL & Ramps to Next Level"},{"$f":"'Pivot Table Data'!J217","v":"Accessible (Van)"},{"$f":"'Pivot Table Data'!K217","v":0},{"$f":"'Pivot Table Data'!L217","v":0},{"$f":"'Pivot Table Data'!S217","v":0},{"$f":"'Pivot Table Data'!T217","v":""},{"$f":"IF('Pivot Table Data'!O217=\"Yes\", 'Pivot Table Data'!T217, \"\")","v":""}]
[{"$f":"'Pivot Table Data'!B218","v":0},{"$f":"'Pivot Table Data'!F218","v":"Medical Center HIllcrest"},{"$f":"'Pivot Table Data'!P218","v":"First Ave"},{"$f":"'Pivot Table Data'!I218","v":"PL & Ramps to Next Level"},{"$f":"'Pivot Table Data'!J218","v":"B"},{"$f":"'Pivot Table Data'!K218","v":0},{"$f":"'Pivot Table Data'!L218","v":0},{"$f":"'Pivot Table Data'!S218","v":193},{"$f":"'Pivot Table Data'!T218","v":1265},{"$f":"IF('Pivot Table Data'!O218=\"Yes\", 'Pivot Table Data'!T218, \"\")","v":""}]
[{"$f":"'Pivot Table Data'!B219","v":0},{"$f":"'Pivot Table Data'!F219","v":"Medical Center HIllcrest"},{"$f":"'Pivot Table Data'!P219","v":"First Ave"},{"$f":"'Pivot Table Data'!I219","v":"PL & Ramps to Next Level"},{"$f":"'Pivot Table Data'!J219","v":"Electric Vehicle"},{"$f":"'Pivot Table Data'!K219","v":0},{"$f":"'Pivot Table Data'!L219","v":0},{"$f":"'Pivot Table Data'!S219","v":0},{"$f":"'Pivot Table Data'!T219","v":30},{"$f":"IF('Pivot Table Data'!O219=\"Yes\", 'Pivot Table Data'!T219, \"\")","v":""}]
[{"$f":"'Pivot Table Data'!B220","v":0},{"$f":"'Pivot Table Data'!F220","v":"Medical Center HIllcrest"},{"$f":"'Pivot Table Data'!P220","v":"First Ave"},{"$f":"'Pivot Table Data'!I220","v":"PL & Ramps to Next Level"},{"$f":"'Pivot Table Data'!J220","v":"Motorcycle Section"},{"$f":"'Pivot Table Data'!K220","v":0},{"$f":"'Pivot Table Data'!L220","v":0},{"$f":"'Pivot Table Data'!S220","v":1},{"$f":"'Pivot Table Data'!T220","v":42},{"$f":"IF('Pivot Table Data'!O220=\"Yes\", 'Pivot Table Data'!T220, \"\")","v":""}]
[{"$f":"'Pivot Table Data'!B221","v":0},{"$f":"'Pivot Table Data'!F221","v":"Medical Center HIllcrest"},{"$f":"'Pivot Table Data'!P221","v":"First Ave"},{"$f":"'Pivot Table Data'!I221","v":"PL & Ramps to Next Level"},{"$f":"'Pivot Table Data'!J221","v":"Reserved"},{"$f":"'Pivot Table Data'!K221","v":0},{"$f":"'Pivot Table Data'!L221","v":0},{"$f":"'Pivot Table Data'!S221","v":0},{"$f":"'Pivot Table Data'!T221","v":""},{"$f":"IF('Pivot Table Data'!O221=\"Yes\", 'Pivot Table Data'!T221, \"\")","v":""}]
[{"$f":"'Pivot Table Data'!B222","v":0},{"$f":"'Pivot Table Data'!F222","v":"Medical Center HIllcrest"},{"$f":"'Pivot Table Data'!P222","v":"First Ave"},{"$f":"'Pivot Table Data'!I222","v":"P0 & Ramps to Next Level"},{"$f":"'Pivot Table Data'!J222","v":"A"},{"$f":"'Pivot Table Data'!K222","v":0},{"$f":"'Pivot Table Data'!L222","v":0},{"$f":"'Pivot Table Data'!S222","v":0},{"$f":"'Pivot Table Data'!T222","v":""},{"$f":"IF('Pivot Table Data'!O222=\"Yes\", 'Pivot Table Data'!T222, \"\")","v":""}]
[{"$f":"'Pivot Table Data'!B223","v":0},{"$f":"'Pivot Table Data'!F223","v":"Medical Center HIllcrest"},{"$f":"'Pivot Table Data'!P223","v":"First Ave"},{"$f":"'Pivot Table Data'!I223","v":"P0 & Ramps to Next Level"},{"$f":"'Pivot Table Data'!J223","v":"Accessible"},{"$f":"'Pivot Table Data'!K223","v":0},{"$f":"'Pivot Table Data'!L223","v":0},{"$f":"'Pivot Table Data'!S223","v":8},{"$f":"'Pivot Table Data'!T223","v":""},{"$f":"IF('Pivot Table Data'!O223=\"Yes\", 'Pivot Table Data'!T223, \"\")","v":""}]
[{"$f":"'Pivot Table Data'!B224","v":0},{"$f":"'Pivot Table Data'!F224","v":"Medical Center HIllcrest"},{"$f":"'Pivot Table Data'!P224","v":"First Ave"},{"$f":"'Pivot Table Data'!I224","v":"P0 & Ramps to Next Level"},{"$f":"'Pivot Table Data'!J224","v":"Accessible (Van)"},{"$f":"'Pivot Table Data'!K224","v":0},{"$f":"'Pivot Table Data'!L224","v":0},{"$f":"'Pivot Table Data'!S224","v":0},{"$f":"'Pivot Table Data'!T224","v":""},{"$f":"IF('Pivot Table Data'!O224=\"Yes\", 'Pivot Table Data'!T224, \"\")","v":""}]
[{"$f":"'Pivot Table Data'!B225","v":0},{"$f":"'Pivot Table Data'!F225","v":"Medical Center HIllcrest"},{"$f":"'Pivot Table Data'!P225","v":"First Ave"},{"$f":"'Pivot Table Data'!I225","v":"P0 & Ramps to Next Level"},{"$f":"'Pivot Table Data'!J225","v":"B"},{"$f":"'Pivot Table Data'!K225","v":0},{"$f":"'Pivot Table Data'!L225","v":0},{"$f":"'Pivot Table Data'!S225","v":179},{"$f":"'Pivot Table Data'!T225","v":""},{"$f":"IF('Pivot Table Data'!O225=\"Yes\", 'Pivot Table Data'!T225, \"\")","v":""}]
[{"$f":"'Pivot Table Data'!B226","v":0},{"$f":"'Pivot Table Data'!F226","v":"Medical Center HIllcrest"},{"$f":"'Pivot Table Data'!P226","v":"First Ave"},{"$f":"'Pivot Table Data'!I226","v":"P0 & Ramps to Next Level"},{"$f":"'Pivot Table Data'!J226","v":"Electric Vehicle"},{"$f":"'Pivot Table Data'!K226","v":0},{"$f":"'Pivot Table Data'!L226","v":0},{"$f":"'Pivot Table Data'!S226","v":10},{"$f":"'Pivot Table Data'!T226","v":""},{"$f":"IF('Pivot Table Data'!O226=\"Yes\", 'Pivot Table Data'!T226, \"\")","v":""}]
[{"$f":"'Pivot Table Data'!B227","v":0},{"$f":"'Pivot Table Data'!F227","v":"Medical Center HIllcrest"},{"$f":"'Pivot Table Data'!P227","v":"First Ave"},{"$f":"'Pivot Table Data'!I227","v":"P0 & Ramps to Next Level"},{"$f":"'Pivot Table Data'!J227","v":"Motorcycle Section"},{"$f":"'Pivot Table Data'!K227","v":0},{"$f":"'Pivot Table Data'!L227","v":0},{"$f":"'Pivot Table Data'!S227","v":8},{"$f":"'Pivot Table Data'!T227","v":""},{"$f":"IF('Pivot Table Data'!O227=\"Yes\", 'Pivot Table Data'!T227, \"\")","v":""}]
[{"$f":"'Pivot Table Data'!B228","v":0},{"$f":"'Pivot Table Data'!F228","v":"Medical Center HIllcrest"},{"$f":"'Pivot Table Data'!P228","v":"First Ave"},{"$f":"'Pivot Table Data'!I228","v":"P0 & Ramps to Next Level"},{"$f":"'Pivot Table Data'!J228","v":"Reserved"},{"$f":"'Pivot Table Data'!K228","v":0},{"$f":"'Pivot Table Data'!L228","v":0},{"$f":"'Pivot Table Data'!S228","v":0},{"$f":"'Pivot Table Data'!T228","v":""},{"$f":"IF('Pivot Table Data'!O228=\"Yes\", 'Pivot Table Data'!T228, \"\")","v":""}]
[{"$f":"'Pivot Table Data'!B229","v":0},{"$f":"'Pivot Table Data'!F229","v":"Medical Center HIllcrest"},{"$f":"'Pivot Table Data'!P229","v":"First Ave"},{"$f":"'Pivot Table Data'!I229","v":"P1 & Ramps to Next Level"},{"$f":"'Pivot Table Data'!J229","v":"A"},{"$f":"'Pivot Table Data'!K229","v":0},{"$f":"'Pivot Table Data'!L229","v":0},{"$f":"'Pivot Table Data'!S229","v":0},{"$f":"'Pivot Table Data'!T229","v":""},{"$f":"IF('Pivot Table Data'!O229=\"Yes\", 'Pivot Table Data'!T229, \"\")","v":""}]
[{"$f":"'Pivot Table Data'!B230","v":0},{"$f":"'Pivot Table Data'!F230","v":"Medical Center HIllcrest"},{"$f":"'Pivot Table Data'!P230","v":"First Ave"},{"$f":"'Pivot Table Data'!I230","v":"P1 & Ramps to Next Level"},{"$f":"'Pivot Table Data'!J230","v":"B"},{"$f":"'Pivot Table Data'!K230","v":0},{"$f":"'Pivot Table Data'!L230","v":0},{"$f":"'Pivot Table Data'!S230","v":158},{"$f":"'Pivot Table Data'!T230","v":""},{"$f":"IF('Pivot Table Data'!O230=\"Yes\", 'Pivot Table Data'!T230, \"\")","v":""}]
[{"$f":"'Pivot Table Data'!B231","v":0},{"$f":"'Pivot Table Data'!F231","v":"Medical Center HIllcrest"},{"$f":"'Pivot Table Data'!P231","v":"First Ave"},{"$f":"'Pivot Table Data'!I231","v":"P1 & Ramps to Next Level"},{"$f":"'Pivot Table Data'!J231","v":"Electric Vehicle"},{"$f":"'Pivot Table Data'!K231","v":0},{"$f":"'Pivot Table Data'!L231","v":0},{"$f":"'Pivot Table Data'!S231","v":10},{"$f":"'Pivot Table Data'!T231","v":""},{"$f":"IF('Pivot Table Data'!O231=\"Yes\", 'Pivot Table Data'!T231, \"\")","v":""}]
[{"$f":"'Pivot Table Data'!B232","v":0},{"$f":"'Pivot Table Data'!F232","v":"Medical Center HIllcrest"},{"$f":"'Pivot Table Data'!P232","v":"First Ave"},{"$f":"'Pivot Table Data'!I232","v":"P1 & Ramps to Next Level"},{"$f":"'Pivot Table Data'!J232","v":"Motorcycle Section"},{"$f":"'Pivot Table Data'!K232","v":0},{"$f":"'Pivot Table Data'!L232","v":0},{"$f":"'Pivot Table Data'!S232","v":6},{"$f":"'Pivot Table Data'!T232","v":""},{"$f":"IF('Pivot Table Data'!O232=\"Yes\", 'Pivot Table Data'!T232, \"\")","v":""}]
[{"$f":"'Pivot Table Data'!B233","v":0},{"$f":"'Pivot Table Data'!F233","v":"Medical Center HIllcrest"},{"$f":"'Pivot Table Data'!P233","v":"First Ave"},{"$f":"'Pivot Table Data'!I233","v":"P1 & Ramps to Next Level"},{"$f":"'Pivot Table Data'!J233","v":"Reserved"},{"$f":"'Pivot Table Data'!K233","v":0},{"$f":"'Pivot Table Data'!L233","v":0},{"$f":"'Pivot Table Data'!S233","v":0},{"$f":"'Pivot Table Data'!T233","v":""},{"$f":"IF('Pivot Table Data'!O233=\"Yes\", 'Pivot Table Data'!T233, \"\")","v":""}]
[{"$f":"'Pivot Table Data'!B234","v":0},{"$f":"'Pivot Table Data'!F234","v":"Medical Center HIllcrest"},{"$f":"'Pivot Table Data'!P234","v":"First Ave"},{"$f":"'Pivot Table Data'!I234","v":"P2 & Ramps to Next Level"},{"$f":"'Pivot Table Data'!J234","v":"Accessible"},{"$f":"'Pivot Table Data'!K234","v":0},{"$f":"'Pivot Table Data'!L234","v":0},{"$f":"'Pivot Table Data'!S234","v":6},{"$f":"'Pivot Table Data'!T234","v":""},{"$f":"IF('Pivot Table Data'!O234=\"Yes\", 'Pivot Table Data'!T234, \"\")","v":""}]
[{"$f":"'Pivot Table Data'!B235","v":0},{"$f":"'Pivot Table Data'!F235","v":"Medical Center HIllcrest"},{"$f":"'Pivot Table Data'!P235","v":"First Ave"},{"$f":"'Pivot Table Data'!I235","v":"P2 & Ramps to Next Level"},{"$f":"'Pivot Table Data'!J235","v":"Accessible (Van)"},{"$f":"'Pivot Table Data'!K235","v":0},{"$f":"'Pivot Table Data'!L235","v":0},{"$f":"'Pivot Table Data'!S235","v":0},{"$f":"'Pivot Table Data'!T235","v":""},{"$f":"IF('Pivot Table Data'!O235=\"Yes\", 'Pivot Table Data'!T235, \"\")","v":""}]
[{"$f":"'Pivot Table Data'!B236","v":0},{"$f":"'Pivot Table Data'!F236","v":"Medical Center HIllcrest"},{"$f":"'Pivot Table Data'!P236","v":"First Ave"},{"$f":"'Pivot Table Data'!I236","v":"P2 & Ramps to Next Level"},{"$f":"'Pivot Table Data'!J236","v":"Accessible"},{"$f":"'Pivot Table Data'!K236","v":0},{"$f":"'Pivot Table Data'!L236","v":0},{"$f":"'Pivot Table Data'!S236","v":8},{"$f":"'Pivot Table Data'!T236","v":""},{"$f":"IF('Pivot Table Data'!O236=\"Yes\", 'Pivot Table Data'!T236, \"\")","v":""}]
[{"$f":"'Pivot Table Data'!B237","v":0},{"$f":"'Pivot Table Data'!F237","v":"Medical Center HIllcrest"},{"$f":"'Pivot Table Data'!P237","v":"First Ave"},{"$f":"'Pivot Table Data'!I237","v":"P2 & Ramps to Next Level"},{"$f":"'Pivot Table Data'!J237","v":"Accessible (Van)"},{"$f":"'Pivot Table Data'!K237","v":0},{"$f":"'Pivot Table Data'!L237","v":0},{"$f":"'Pivot Table Data'!S237","v":0},{"$f":"'Pivot Table Data'!T237","v":""},{"$f":"IF('Pivot Table Data'!O237=\"Yes\", 'Pivot Table Data'!T237, \"\")","v":""}]
[{"$f":"'Pivot Table Data'!B238","v":0},{"$f":"'Pivot Table Data'!F238","v":"Medical Center HIllcrest"},{"$f":"'Pivot Table Data'!P238","v":"First Ave"},{"$f":"'Pivot Table Data'!I238","v":"P2 & Ramps to Next Level"},{"$f":"'Pivot Table Data'!J238","v":"B"},{"$f":"'Pivot Table Data'!K238","v":0},{"$f":"'Pivot Table Data'!L238","v":0},{"$f":"'Pivot Table Data'!S238","v":192},{"$f":"'Pivot Table Data'!T238","v":""},{"$f":"IF('Pivot Table Data'!O238=\"Yes\", 'Pivot Table Data'!T238, \"\")","v":""}]
[{"$f":"'Pivot Table Data'!B239","v":0},{"$f":"'Pivot Table Data'!F239","v":"Medical Center HIllcrest"},{"$f":"'Pivot Table Data'!P239","v":"First Ave"},{"$f":"'Pivot Table Data'!I239","v":"P2 & Ramps to Next Level"},{"$f":"'Pivot Table Data'!J239","v":"Electric Vehicle"},{"$f":"'Pivot Table Data'!K239","v":0},{"$f":"'Pivot Table Data'!L239","v":0},{"$f":"'Pivot Table Data'!S239","v":10},{"$f":"'Pivot Table Data'!T239","v":""},{"$f":"IF('Pivot Table Data'!O239=\"Yes\", 'Pivot Table Data'!T239, \"\")","v":""}]
[{"$f":"'Pivot Table Data'!B240","v":0},{"$f":"'Pivot Table Data'!F240","v":"Medical Center HIllcrest"},{"$f":"'Pivot Table Data'!P240","v":"First Ave"},{"$f":"'Pivot Table Data'!I240","v":"P2 & Ramps to Next Level"},{"$f":"'Pivot Table Data'!J240","v":"Motorcycle Section"},{"$f":"'Pivot Table Data'!K240","v":0},{"$f":"'Pivot Table Data'!L240","v":0},{"$f":"'Pivot Table Data'!S240","v":6},{"$f":"'Pivot Table Data'!T240","v":""},{"$f":"IF('Pivot Table Data'!O240=\"Yes\", 'Pivot Table Data'!T240, \"\")","v":""}]
[{"$f":"'Pivot Table Data'!B241","v":0},{"$f":"'Pivot Table Data'!F241","v":"Medical Center HIllcrest"},{"$f":"'Pivot Table Data'!P241","v":"First Ave"},{"$f":"'Pivot Table Data'!I241","v":"P2 & Ramps to Next Level"},{"$f":"'Pivot Table Data'!J241","v":"Reserved"},{"$f":"'Pivot Table Data'!K241","v":0},{"$f":"'Pivot Table Data'!L241","v":0},{"$f":"'Pivot Table Data'!S241","v":0},{"$f":"'Pivot Table Data'!T241","v":""},{"$f":"IF('Pivot Table Data'!O241=\"Yes\", 'Pivot Table Data'!T241, \"\")","v":""}]
[{"$f":"'Pivot Table Data'!B242","v":0},{"$f":"'Pivot Table Data'!F242","v":"Medical Center HIllcrest"},{"$f":"'Pivot Table Data'!P242","v":"First Ave"},{"$f":"'Pivot Table Data'!I242","v":"P3 & Ramps to Next Level"},{"$f":"'Pivot Table Data'!J242","v":"A"},{"$f":"'Pivot Table Data'!K242","v":0},{"$f":"'Pivot Table Data'!L242","v":0},{"$f":"'Pivot Table Data'!S242","v":0},{"$f":"'Pivot Table Data'!T242","v":""},{"$f":"IF('Pivot Table Data'!O242=\"Yes\", 'Pivot Table Data'!T242, \"\")","v":""}]
[{"$f":"'Pivot Table Data'!B243","v":0},{"$f":"'Pivot Table Data'!F243","v":"Medical Center HIllcrest"},{"$f":"'Pivot Table Data'!P243","v":"First Ave"},{"$f":"'Pivot Table Data'!I243","v":"P3 & Ramps to Next Level"},{"$f":"'Pivot Table Data'!J243","v":"Accessible"},{"$f":"'Pivot Table Data'!K243","v":0},{"$f":"'Pivot Table Data'!L243","v":0},{"$f":"'Pivot Table Data'!S243","v":9},{"$f":"'Pivot Table Data'!T243","v":""},{"$f":"IF('Pivot Table Data'!O243=\"Yes\", 'Pivot Table Data'!T243, \"\")","v":""}]
[{"$f":"'Pivot Table Data'!B244","v":0},{"$f":"'Pivot Table Data'!F244","v":"Medical Center HIllcrest"},{"$f":"'Pivot Table Data'!P244","v":"First Ave"},{"$f":"'Pivot Table Data'!I244","v":"P3 & Ramps to Next Level"},{"$f":"'Pivot Table Data'!J244","v":"Accessible (Van)"},{"$f":"'Pivot Table Data'!K244","v":0},{"$f":"'Pivot Table Data'!L244","v":0},{"$f":"'Pivot Table Data'!S244","v":0},{"$f":"'Pivot Table Data'!T244","v":""},{"$f":"IF('Pivot Table Data'!O244=\"Yes\", 'Pivot Table Data'!T244, \"\")","v":""}]
[{"$f":"'Pivot Table Data'!B245","v":0},{"$f":"'Pivot Table Data'!F245","v":"Medical Center HIllcrest"},{"$f":"'Pivot Table Data'!P245","v":"First Ave"},{"$f":"'Pivot Table Data'!I245","v":"P3 & Ramps to Next Level"},{"$f":"'Pivot Table Data'!J245","v":"B"},{"$f":"'Pivot Table Data'!K245","v":0},{"$f":"'Pivot Table Data'!L245","v":0},{"$f":"'Pivot Table Data'!S245","v":201},{"$f":"'Pivot Table Data'!T245","v":""},{"$f":"IF('Pivot Table Data'!O245=\"Yes\", 'Pivot Table Data'!T245, \"\")","v":""}]
[{"$f":"'Pivot Table Data'!B246","v":0},{"$f":"'Pivot Table Data'!F246","v":"Medical Center HIllcrest"},{"$f":"'Pivot Table Data'!P246","v":"First Ave"},{"$f":"'Pivot Table Data'!I246","v":"P3 & Ramps to Next Level"},{"$f":"'Pivot Table Data'!J246","v":"Electric Vehicle"},{"$f":"'Pivot Table Data'!K246","v":0},{"$f":"'Pivot Table Data'!L246","v":0},{"$f":"'Pivot Table Data'!S246","v":0},{"$f":"'Pivot Table Data'!T246","v":""},{"$f":"IF('Pivot Table Data'!O246=\"Yes\", 'Pivot Table Data'!T246, \"\")","v":""}]
[{"$f":"'Pivot Table Data'!B247","v":0},{"$f":"'Pivot Table Data'!F247","v":"Medical Center HIllcrest"},{"$f":"'Pivot Table Data'!P247","v":"First Ave"},{"$f":"'Pivot Table Data'!I247","v":"P3 & Ramps to Next Level"},{"$f":"'Pivot Table Data'!J247","v":"Motorcycle Section"},{"$f":"'Pivot Table Data'!K247","v":0},{"$f":"'Pivot Table Data'!L247","v":0},{"$f":"'Pivot Table Data'!S247","v":6},{"$f":"'Pivot Table Data'!T247","v":""},{"$f":"IF('Pivot Table Data'!O247=\"Yes\", 'Pivot Table Data'!T247, \"\")","v":""}]
[{"$f":"'Pivot Table Data'!B248","v":0},{"$f":"'Pivot Table Data'!F248","v":"Medical Center HIllcrest"},{"$f":"'Pivot Table Data'!P248","v":"First Ave"},{"$f":"'Pivot Table Data'!I248","v":"P3 & Ramps to Next Level"},{"$f":"'Pivot Table Data'!J248","v":"Reserved"},{"$f":"'Pivot Table Data'!K248","v":0},{"$f":"'Pivot Table Data'!L248","v":0},{"$f":"'Pivot Table Data'!S248","v":0},{"$f":"'Pivot Table Data'!T248","v":""},{"$f":"IF('Pivot Table Data'!O248=\"Yes\", 'Pivot Table Data'!T248, \"\")","v":""}]
[{"$f":"'Pivot Table Data'!B249","v":0},{"$f":"'Pivot Table Data'!F249","v":"Medical Center HIllcrest"},{"$f":"'Pivot Table Data'!P249","v":"First Ave"},{"$f":"'Pivot Table Data'!I249","v":"P4 & Ramps to Next Level"},{"$f":"'Pivot Table Data'!J249","v":"A"},{"$f":"'Pivot Table Data'!K249","v":0},{"$f":"'Pivot Table Data'!L249","v":0},{"$f":"'Pivot Table Data'!S249","v":0},{"$f":"'Pivot Table Data'!T249","v":""},{"$f":"IF('Pivot Table Data'!O249=\"Yes\", 'Pivot Table Data'!T249, \"\")","v":""}]
[{"$f":"'Pivot Table Data'!B250","v":0},{"$f":"'Pivot Table Data'!F250","v":"Medical Center HIllcrest"},{"$f":"'Pivot Table Data'!P250","v":"First Ave"},{"$f":"'Pivot Table Data'!I250","v":"P4 & Ramps to Next Level"},{"$f":"'Pivot Table Data'!J250","v":"Accessible"},{"$f":"'Pivot Table Data'!K250","v":0},{"$f":"'Pivot Table Data'!L250","v":0},{"$f":"'Pivot Table Data'!S250","v":8},{"$f":"'Pivot Table Data'!T250","v":""},{"$f":"IF('Pivot Table Data'!O250=\"Yes\", 'Pivot Table Data'!T250, \"\")","v":""}]
[{"$f":"'Pivot Table Data'!B251","v":0},{"$f":"'Pivot Table Data'!F251","v":"Medical Center HIllcrest"},{"$f":"'Pivot Table Data'!P251","v":"First Ave"},{"$f":"'Pivot Table Data'!I251","v":"P4 & Ramps to Next Level"},{"$f":"'Pivot Table Data'!J251","v":"Accessible (Van)"},{"$f":"'Pivot Table Data'!K251","v":0},{"$f":"'Pivot Table Data'!L251","v":0},{"$f":"'Pivot Table Data'!S251","v":0},{"$f":"'Pivot Table Data'!T251","v":""},{"$f":"IF('Pivot Table Data'!O251=\"Yes\", 'Pivot Table Data'!T251, \"\")","v":""}]
[{"$f":"'Pivot Table Data'!B252","v":0},{"$f":"'Pivot Table Data'!F252","v":"Medical Center HIllcrest"},{"$f":"'Pivot Table Data'!P252","v":"First Ave"},{"$f":"'Pivot Table Data'!I252","v":"P4 & Ramps to Next Level"},{"$f":"'Pivot Table Data'!J252","v":"B"},{"$f":"'Pivot Table Data'!K252","v":0},{"$f":"'Pivot Table Data'!L252","v":0},{"$f":"'Pivot Table Data'!S252","v":204},{"$f":"'Pivot Table Data'!T252","v":""},{"$f":"IF('Pivot Table Data'!O252=\"Yes\", 'Pivot Table Data'!T252, \"\")","v":""}]
[{"$f":"'Pivot Table Data'!B253","v":0},{"$f":"'Pivot Table Data'!F253","v":"Medical Center HIllcrest"},{"$f":"'Pivot Table Data'!P253","v":"First Ave"},{"$f":"'Pivot Table Data'!I253","v":"P4 & Ramps to Next Level"},{"$f":"'Pivot Table Data'!J253","v":"Electric Vehicle"},{"$f":"'Pivot Table Data'!K253","v":0},{"$f":"'Pivot Table Data'!L253","v":0},{"$f":"'Pivot Table Data'!S253","v":0},{"$f":"'Pivot Table Data'!T253","v":""},{"$f":"IF('Pivot Table Data'!O253=\"Yes\", 'Pivot Table Data'!T253, \"\")","v":""}]
[{"$f":"'Pivot Table Data'!B254","v":0},{"$f":"'Pivot Table Data'!F254","v":"Medical Center HIllcrest"},{"$f":"'Pivot Table Data'!P254","v":"First Ave"},{"$f":"'Pivot Table Data'!I254","v":"P4 & Ramps to Next Level"},{"$f":"'Pivot Table Data'!J254","v":"Motorcycle Section"},{"$f":"'Pivot Table Data'!K254","v":0},{"$f":"'Pivot Table Data'!L254","v":0},{"$f":"'Pivot Table Data'!S254","v":7},{"$f":"'Pivot Table Data'!T254","v":""},{"$f":"IF('Pivot Table Data'!O254=\"Yes\", 'Pivot Table Data'!T254, \"\")","v":""}]
[{"$f":"'Pivot Table Data'!B255","v":0},{"$f":"'Pivot Table Data'!F255","v":"Medical Center HIllcrest"},{"$f":"'Pivot Table Data'!P255","v":"First Ave"},{"$f":"'Pivot Table Data'!I255","v":"P4 & Ramps to Next Level"},{"$f":"'Pivot Table Data'!J255","v":"Reserved"},{"$f":"'Pivot Table Data'!K255","v":0},{"$f":"'Pivot Table Data'!L255","v":0},{"$f":"'Pivot Table Data'!S255","v":0},{"$f":"'Pivot Table Data'!T255","v":""},{"$f":"IF('Pivot Table Data'!O255=\"Yes\", 'Pivot Table Data'!T255, \"\")","v":""}]
[{"$f":"'Pivot Table Data'!B256","v":0},{"$f":"'Pivot Table Data'!F256","v":"Medical Center HIllcrest"},{"$f":"'Pivot Table Data'!P256","v":"First Ave"},{"$f":"'Pivot Table Data'!I256","v":"P5 Roof"},{"$f":"'Pivot Table Data'!J256","v":"A"},{"$f":"'Pivot Table Data'!K256","v":0},{"$f":"'Pivot Table Data'!L256","v":0},{"$f":"'Pivot Table Data'!S256","v":0},{"$f":"'Pivot Table Data'!T256","v":""},{"$f":"IF('Pivot Table Data'!O256=\"Yes\", 'Pivot Table Data'!T256, \"\")","v":""}]
[{"$f":"'Pivot Table Data'!B257","v":0},{"$f":"'Pivot Table Data'!F257","v":"Medical Center HIllcrest"},{"$f":"'Pivot Table Data'!P257","v":"First Ave"},{"$f":"'Pivot Table Data'!I257","v":"P5 Roof"},{"$f":"'Pivot Table Data'!J257","v":"Accessible"},{"$f":"'Pivot Table Data'!K257","v":0},{"$f":"'Pivot Table Data'!L257","v":0},{"$f":"'Pivot Table Data'!S257","v":5},{"$f":"'Pivot Table Data'!T257","v":""},{"$f":"IF('Pivot Table Data'!O257=\"Yes\", 'Pivot Table Data'!T257, \"\")","v":""}]
[{"$f":"'Pivot Table Data'!B258","v":0},{"$f":"'Pivot Table Data'!F258","v":"Medical Center HIllcrest"},{"$f":"'Pivot Table Data'!P258","v":"First Ave"},{"$f":"'Pivot Table Data'!I258","v":"P5 Roof"},{"$f":"'Pivot Table Data'!J258","v":"Accessible (Van)"},{"$f":"'Pivot Table Data'!K258","v":0},{"$f":"'Pivot Table Data'!L258","v":0},{"$f":"'Pivot Table Data'!S258","v":0},{"$f":"'Pivot Table Data'!T258","v":""},{"$f":"IF('Pivot Table Data'!O258=\"Yes\", 'Pivot Table Data'!T258, \"\")","v":""}]
[{"$f":"'Pivot Table Data'!B259","v":0},{"$f":"'Pivot Table Data'!F259","v":"Medical Center HIllcrest"},{"$f":"'Pivot Table Data'!P259","v":"First Ave"},{"$f":"'Pivot Table Data'!I259","v":"P5 Roof"},{"$f":"'Pivot Table Data'!J259","v":"B"},{"$f":"'Pivot Table Data'!K259","v":0},{"$f":"'Pivot Table Data'!L259","v":0},{"$f":"'Pivot Table Data'!S259","v":138},{"$f":"'Pivot Table Data'!T259","v":""},{"$f":"IF('Pivot Table Data'!O259=\"Yes\", 'Pivot Table Data'!T259, \"\")","v":""}]
[{"$f":"'Pivot Table Data'!B260","v":0},{"$f":"'Pivot Table Data'!F260","v":"Medical Center HIllcrest"},{"$f":"'Pivot Table Data'!P260","v":"First Ave"},{"$f":"'Pivot Table Data'!I260","v":"P5 Roof"},{"$f":"'Pivot Table Data'!J260","v":"Electric Vehicle"},{"$f":"'Pivot Table Data'!K260","v":0},{"$f":"'Pivot Table Data'!L260","v":0},{"$f":"'Pivot Table Data'!S260","v":0},{"$f":"'Pivot Table Data'!T260","v":""},{"$f":"IF('Pivot Table Data'!O260=\"Yes\", 'Pivot Table Data'!T260, \"\")","v":""}]
[{"$f":"'Pivot Table Data'!B261","v":0},{"$f":"'Pivot Table Data'!F261","v":"Medical Center HIllcrest"},{"$f":"'Pivot Table Data'!P261","v":"First Ave"},{"$f":"'Pivot Table Data'!I261","v":"P5 Roof"},{"$f":"'Pivot Table Data'!J261","v":"Motorcycle Section"},{"$f":"'Pivot Table Data'!K261","v":0},{"$f":"'Pivot Table Data'!L261","v":0},{"$f":"'Pivot Table Data'!S261","v":8},{"$f":"'Pivot Table Data'!T261","v":""},{"$f":"IF('Pivot Table Data'!O261=\"Yes\", 'Pivot Table Data'!T261, \"\")","v":""}]
[{"$f":"'Pivot Table Data'!B262","v":0},{"$f":"'Pivot Table Data'!F262","v":"Medical Center HIllcrest"},{"$f":"'Pivot Table Data'!P262","v":"First Ave"},{"$f":"'Pivot Table Data'!I262","v":"P5 Roof"},{"$f":"'Pivot Table Data'!J262","v":"Reserved"},{"$f":"'Pivot Table Data'!K262","v":0},{"$f":"'Pivot Table Data'!L262","v":0},{"$f":"'Pivot Table Data'!S262","v":0},{"$f":"'Pivot Table Data'!T262","v":""},{"$f":"IF('Pivot Table Data'!O262=\"Yes\", 'Pivot Table Data'!T262, \"\")","v":""}]
[{"$f":"'Pivot Table Data'!B263","v":0},{"$f":"'Pivot Table Data'!F263","v":"Medical Center Hillcrest"},{"$f":"'Pivot Table Data'!P263","v":"P952"},{"$f":"'Pivot Table Data'!I263","v":"-"},{"$f":"'Pivot Table Data'!J263","v":"Allocated"},{"$f":"'Pivot Table Data'!K263","v":"Law Enforcement Transport Vehicle"},{"$f":"'Pivot Table Data'!L263","v":0},{"$f":"'Pivot Table Data'!S263","v":4},{"$f":"'Pivot Table Data'!T263","v":4},{"$f":"IF('Pivot Table Data'!O263=\"Yes\", 'Pivot Table Data'!T263, \"\")","v":""}]
[{"$f":"'Pivot Table Data'!B264","v":0},{"$f":"'Pivot Table Data'!F264","v":"Medical Center Hillcrest"},{"$f":"'Pivot Table Data'!P264","v":"P952"},{"$f":"'Pivot Table Data'!I264","v":"-"},{"$f":"'Pivot Table Data'!J264","v":"Allocated"},{"$f":"'Pivot Table Data'!K264","v":"Mortuary Vehicle"},{"$f":"'Pivot Table Data'!L264","v":0},{"$f":"'Pivot Table Data'!S264","v":1},{"$f":"'Pivot Table Data'!T264","v":1},{"$f":"IF('Pivot Table Data'!O264=\"Yes\", 'Pivot Table Data'!T264, \"\")","v":""}]
[{"$f":"'Pivot Table Data'!B265","v":0},{"$f":"'Pivot Table Data'!F265","v":"Medical Center Hillcrest"},{"$f":"'Pivot Table Data'!P265","v":"P952"},{"$f":"'Pivot Table Data'!I265","v":"-"},{"$f":"'Pivot Table Data'!J265","v":"Loading"},{"$f":"'Pivot Table Data'!K265","v":0},{"$f":"'Pivot Table Data'!L265","v":20},{"$f":"'Pivot Table Data'!S265","v":2},{"$f":"'Pivot Table Data'!T265","v":2},{"$f":"IF('Pivot Table Data'!O265=\"Yes\", 'Pivot Table Data'!T265, \"\")","v":""}]
[{"$f":"'Pivot Table Data'!B266","v":0},{"$f":"'Pivot Table Data'!F266","v":"Medical Center Hillcrest"},{"$f":"'Pivot Table Data'!P266","v":"P952"},{"$f":"'Pivot Table Data'!I266","v":"-"},{"$f":"'Pivot Table Data'!J266","v":"Service Yard"},{"$f":"'Pivot Table Data'!K266","v":0},{"$f":"'Pivot Table Data'!L266","v":0},{"$f":"'Pivot Table Data'!S266","v":2},{"$f":"'Pivot Table Data'!T266","v":2},{"$f":"IF('Pivot Table Data'!O266=\"Yes\", 'Pivot Table Data'!T266, \"\")","v":""}]
[{"$f":"'Pivot Table Data'!B267","v":0},{"$f":"'Pivot Table Data'!F267","v":"Medical Center Hillcrest"},{"$f":"'Pivot Table Data'!P267","v":"P952"},{"$f":"'Pivot Table Data'!I267","v":"-"},{"$f":"'Pivot Table Data'!J267","v":"UC Vehicle"},{"$f":"'Pivot Table Data'!K267","v":0},{"$f":"'Pivot Table Data'!L267","v":0},{"$f":"'Pivot Table Data'!S267","v":2},{"$f":"'Pivot Table Data'!T267","v":2},{"$f":"IF('Pivot Table Data'!O267=\"Yes\", 'Pivot Table Data'!T267, \"\")","v":""}]
[{"$f":"'Pivot Table Data'!B268","v":0},{"$f":"'Pivot Table Data'!F268","v":"Medical Center Hillcrest"},{"$f":"'Pivot Table Data'!P268","v":"P953"},{"$f":"'Pivot Table Data'!I268","v":"-"},{"$f":"'Pivot Table Data'!J268","v":"Accessible"},{"$f":"'Pivot Table Data'!K268","v":0},{"$f":"'Pivot Table Data'!L268","v":0},{"$f":"'Pivot Table Data'!S268","v":3},{"$f":"'Pivot Table Data'!T268","v":3},{"$f":"IF('Pivot Table Data'!O268=\"Yes\", 'Pivot Table Data'!T268, \"\")","v":""}]
[{"$f":"'Pivot Table Data'!B269","v":0},{"$f":"'Pivot Table Data'!F269","v":"Medical Center Hillcrest"},{"$f":"'Pivot Table Data'!P269","v":"P953"},{"$f":"'Pivot Table Data'!I269","v":"-"},{"$f":"'Pivot Table Data'!J269","v":"Accessible (Van)"},{"$f":"'Pivot Table Data'!K269","v":0},{"$f":"'Pivot Table Data'!L269","v":0},{"$f":"'Pivot Table Data'!S269","v":0},{"$f":"'Pivot Table Data'!T269","v":0},{"$f":"IF('Pivot Table Data'!O269=\"Yes\", 'Pivot Table Data'!T269, \"\")","v":""}]
[{"$f":"'Pivot Table Data'!B270","v":0},{"$f":"'Pivot Table Data'!F270","v":"Medical Center Hillcrest"},{"$f":"'Pivot Table Data'!P270","v":"P953"},{"$f":"'Pivot Table Data'!I270","v":"-"},{"$f":"'Pivot Table Data'!J270","v":"B"},{"$f":"'Pivot Table Data'!K270","v":0},{"$f":"'Pivot Table Data'!L270","v":0},{"$f":"'Pivot Table Data'!S270","v":7},{"$f":"'Pivot Table Data'!T270","v":7},{"$f":"IF('Pivot Table Data'!O270=\"Yes\", 'Pivot Table Data'!T270, \"\")","v":""}]
[{"$f":"'Pivot Table Data'!B271","v":0},{"$f":"'Pivot Table Data'!F271","v":"Medical Center Hillcrest"},{"$f":"'Pivot Table Data'!P271","v":"P953"},{"$f":"'Pivot Table Data'!I271","v":"-"},{"$f":"'Pivot Table Data'!J271","v":"Reserved"},{"$f":"'Pivot Table Data'!K271","v":0},{"$f":"'Pivot Table Data'!L271","v":0},{"$f":"'Pivot Table Data'!S271","v":7},{"$f":"'Pivot Table Data'!T271","v":7},{"$f":"IF('Pivot Table Data'!O271=\"Yes\", 'Pivot Table Data'!T271, \"\")","v":""}]
[{"$f":"'Pivot Table Data'!B272","v":0},{"$f":"'Pivot Table Data'!F272","v":"Medical Center Hillcrest"},{"$f":"'Pivot Table Data'!P272","v":"P954"},{"$f":"'Pivot Table Data'!I272","v":"-"},{"$f":"'Pivot Table Data'!J272","v":"Accessible"},{"$f":"'Pivot Table Data'!K272","v":0},{"$f":"'Pivot Table Data'!L272","v":0},{"$f":"'Pivot Table Data'!S272","v":3},{"$f":"'Pivot Table Data'!T272","v":3},{"$f":"IF('Pivot Table Data'!O272=\"Yes\", 'Pivot Table Data'!T272, \"\")","v":""}]
[{"$f":"'Pivot Table Data'!B273","v":0},{"$f":"'Pivot Table Data'!F273","v":"Medical Center Hillcrest"},{"$f":"'Pivot Table Data'!P273","v":"P954"},{"$f":"'Pivot Table Data'!I273","v":"-"},{"$f":"'Pivot Table Data'!J273","v":"Accessible (Van)"},{"$f":"'Pivot Table Data'!K273","v":0},{"$f":"'Pivot Table Data'!L273","v":0},{"$f":"'Pivot Table Data'!S273","v":0},{"$f":"'Pivot Table Data'!T273","v":0},{"$f":"IF('Pivot Table Data'!O273=\"Yes\", 'Pivot Table Data'!T273, \"\")","v":""}]
[{"$f":"'Pivot Table Data'!B274","v":0},{"$f":"'Pivot Table Data'!F274","v":"Medical Center Hillcrest"},{"$f":"'Pivot Table Data'!P274","v":"P954"},{"$f":"'Pivot Table Data'!I274","v":"-"},{"$f":"'Pivot Table Data'!J274","v":"Allocated"},{"$f":"'Pivot Table Data'!K274","v":"Banister Family House"},{"$f":"'Pivot Table Data'!L274","v":0},{"$f":"'Pivot Table Data'!S274","v":12},{"$f":"'Pivot Table Data'!T274","v":12},{"$f":"IF('Pivot Table Data'!O274=\"Yes\", 'Pivot Table Data'!T274, \"\")","v":""}]
[{"$f":"'Pivot Table Data'!B275","v":0},{"$f":"'Pivot Table Data'!F275","v":"Medical Center Hillcrest"},{"$f":"'Pivot Table Data'!P275","v":"P954"},{"$f":"'Pivot Table Data'!I275","v":"-"},{"$f":"'Pivot Table Data'!J275","v":"Reserved"},{"$f":"'Pivot Table Data'!K275","v":0},{"$f":"'Pivot Table Data'!L275","v":0},{"$f":"'Pivot Table Data'!S275","v":25},{"$f":"'Pivot Table Data'!T275","v":25},{"$f":"IF('Pivot Table Data'!O275=\"Yes\", 'Pivot Table Data'!T275, \"\")","v":""}]
[{"$f":"'Pivot Table Data'!B276","v":0},{"$f":"'Pivot Table Data'!F276","v":"Medical Center Hillcrest"},{"$f":"'Pivot Table Data'!P276","v":"P955"},{"$f":"'Pivot Table Data'!I276","v":"-"},{"$f":"'Pivot Table Data'!J276","v":"A"},{"$f":"'Pivot Table Data'!K276","v":0},{"$f":"'Pivot Table Data'!L276","v":0},{"$f":"'Pivot Table Data'!S276","v":7},{"$f":"'Pivot Table Data'!T276","v":7},{"$f":"IF('Pivot Table Data'!O276=\"Yes\", 'Pivot Table Data'!T276, \"\")","v":""}]
[{"$f":"'Pivot Table Data'!B277","v":0},{"$f":"'Pivot Table Data'!F277","v":"Medical Center Hillcrest"},{"$f":"'Pivot Table Data'!P277","v":"P955"},{"$f":"'Pivot Table Data'!I277","v":"-"},{"$f":"'Pivot Table Data'!J277","v":"Accessible"},{"$f":"'Pivot Table Data'!K277","v":0},{"$f":"'Pivot Table Data'!L277","v":0},{"$f":"'Pivot Table Data'!S277","v":1},{"$f":"'Pivot Table Data'!T277","v":1},{"$f":"IF('Pivot Table Data'!O277=\"Yes\", 'Pivot Table Data'!T277, \"\")","v":""}]
[{"$f":"'Pivot Table Data'!B278","v":0},{"$f":"'Pivot Table Data'!F278","v":"Medical Center Hillcrest"},{"$f":"'Pivot Table Data'!P278","v":"P955"},{"$f":"'Pivot Table Data'!I278","v":"-"},{"$f":"'Pivot Table Data'!J278","v":"Accessible (Van)"},{"$f":"'Pivot Table Data'!K278","v":0},{"$f":"'Pivot Table Data'!L278","v":0},{"$f":"'Pivot Table Data'!S278","v":0},{"$f":"'Pivot Table Data'!T278","v":0},{"$f":"IF('Pivot Table Data'!O278=\"Yes\", 'Pivot Table Data'!T278, \"\")","v":""}]
[{"$f":"'Pivot Table Data'!B279","v":0},{"$f":"'Pivot Table Data'!F279","v":"Medical Center Hillcrest"},{"$f":"'Pivot Table Data'!P279","v":"P955"},{"$f":"'Pivot Table Data'!I279","v":"-"},{"$f":"'Pivot Table Data'!J279","v":"Loading"},{"$f":"'Pivot Table Data'!K279","v":0},{"$f":"'Pivot Table Data'!L279","v":0},{"$f":"'Pivot Table Data'!S279","v":2},{"$f":"'Pivot Table Data'!T279","v":2},{"$f":"IF('Pivot Table Data'!O279=\"Yes\", 'Pivot Table Data'!T279, \"\")","v":""}]
[{"$f":"'Pivot Table Data'!B280","v":0},{"$f":"'Pivot Table Data'!F280","v":"Medical Center Hillcrest"},{"$f":"'Pivot Table Data'!P280","v":"P955"},{"$f":"'Pivot Table Data'!I280","v":"-"},{"$f":"'Pivot Table Data'!J280","v":"Motorcycle Section"},{"$f":"'Pivot Table Data'!K280","v":0},{"$f":"'Pivot Table Data'!L280","v":0},{"$f":"'Pivot Table Data'!S280","v":3},{"$f":"'Pivot Table Data'!T280","v":3},{"$f":"IF('Pivot Table Data'!O280=\"Yes\", 'Pivot Table Data'!T280, \"\")","v":""}]
[{"$f":"'Pivot Table Data'!B281","v":0},{"$f":"'Pivot Table Data'!F281","v":"Medical Center Hillcrest"},{"$f":"'Pivot Table Data'!P281","v":"P955"},{"$f":"'Pivot Table Data'!I281","v":"-"},{"$f":"'Pivot Table Data'!J281","v":"Reserved"},{"$f":"'Pivot Table Data'!K281","v":0},{"$f":"'Pivot Table Data'!L281","v":0},{"$f":"'Pivot Table Data'!S281","v":21},{"$f":"'Pivot Table Data'!T281","v":21},{"$f":"IF('Pivot Table Data'!O281=\"Yes\", 'Pivot Table Data'!T281, \"\")","v":""}]
[{"$f":"'Pivot Table Data'!B282","v":0},{"$f":"'Pivot Table Data'!F282","v":"Medical Center Hillcrest"},{"$f":"'Pivot Table Data'!P282","v":"P955"},{"$f":"'Pivot Table Data'!I282","v":"-"},{"$f":"'Pivot Table Data'!J282","v":"Service Yard"},{"$f":"'Pivot Table Data'!K282","v":0},{"$f":"'Pivot Table Data'!L282","v":0},{"$f":"'Pivot Table Data'!S282","v":3},{"$f":"'Pivot Table Data'!T282","v":3},{"$f":"IF('Pivot Table Data'!O282=\"Yes\", 'Pivot Table Data'!T282, \"\")","v":""}]
[{"$f":"'Pivot Table Data'!B283","v":0},{"$f":"'Pivot Table Data'!F283","v":"Medical Center Hillcrest"},{"$f":"'Pivot Table Data'!P283","v":"P955"},{"$f":"'Pivot Table Data'!I283","v":"-"},{"$f":"'Pivot Table Data'!J283","v":"UC Vehicle"},{"$f":"'Pivot Table Data'!K283","v":"UC Cart"},{"$f":"'Pivot Table Data'!L283","v":0},{"$f":"'Pivot Table Data'!S283","v":1},{"$f":"'Pivot Table Data'!T283","v":1},{"$f":"IF('Pivot Table Data'!O283=\"Yes\", 'Pivot Table Data'!T283, \"\")","v":""}]
[{"$f":"'Pivot Table Data'!B284","v":0},{"$f":"'Pivot Table Data'!F284","v":"Medical Center Hillcrest"},{"$f":"'Pivot Table Data'!P284","v":"P955"},{"$f":"'Pivot Table Data'!I284","v":"-"},{"$f":"'Pivot Table Data'!J284","v":"UC Vehicle"},{"$f":"'Pivot Table Data'!K284","v":0},{"$f":"'Pivot Table Data'!L284","v":0},{"$f":"'Pivot Table Data'!S284","v":6},{"$f":"'Pivot Table Data'!T284","v":6},{"$f":"IF('Pivot Table Data'!O284=\"Yes\", 'Pivot Table Data'!T284, \"\")","v":""}]
[{"$f":"'Pivot Table Data'!B285","v":0},{"$f":"'Pivot Table Data'!F285","v":"Medical Center Hillcrest"},{"$f":"'Pivot Table Data'!P285","v":"P956"},{"$f":"'Pivot Table Data'!I285","v":"-"},{"$f":"'Pivot Table Data'!J285","v":"A"},{"$f":"'Pivot Table Data'!K285","v":0},{"$f":"'Pivot Table Data'!L285","v":0},{"$f":"'Pivot Table Data'!S285","v":2},{"$f":"'Pivot Table Data'!T285","v":2},{"$f":"IF('Pivot Table Data'!O285=\"Yes\", 'Pivot Table Data'!T285, \"\")","v":""}]
[{"$f":"'Pivot Table Data'!B286","v":0},{"$f":"'Pivot Table Data'!F286","v":"Medical Center Hillcrest"},{"$f":"'Pivot Table Data'!P286","v":"P956"},{"$f":"'Pivot Table Data'!I286","v":"-"},{"$f":"'Pivot Table Data'!J286","v":"Service Yard"},{"$f":"'Pivot Table Data'!K286","v":0},{"$f":"'Pivot Table Data'!L286","v":0},{"$f":"'Pivot Table Data'!S286","v":6},{"$f":"'Pivot Table Data'!T286","v":6},{"$f":"IF('Pivot Table Data'!O286=\"Yes\", 'Pivot Table Data'!T286, \"\")","v":""}]
[{"$f":"'Pivot Table Data'!B287","v":0},{"$f":"'Pivot Table Data'!F287","v":"Medical Center Hillcrest"},{"$f":"'Pivot Table Data'!P287","v":"P957"},{"$f":"'Pivot Table Data'!I287","v":"-"},{"$f":"'Pivot Table Data'!J287","v":"Accessible"},{"$f":"'Pivot Table Data'!K287","v":0},{"$f":"'Pivot Table Data'!L287","v":0},{"$f":"'Pivot Table Data'!S287","v":7},{"$f":"'Pivot Table Data'!T287","v":7},{"$f":"IF('Pivot Table Data'!O287=\"Yes\", 'Pivot Table Data'!T287, \"\")","v":""}]
[{"$f":"'Pivot Table Data'!B288","v":0},{"$f":"'Pivot Table Data'!F288","v":"Medical Center Hillcrest"},{"$f":"'Pivot Table Data'!P288","v":"P957"},{"$f":"'Pivot Table Data'!I288","v":"-"},{"$f":"'Pivot Table Data'!J288","v":"Accessible (Van)"},{"$f":"'Pivot Table Data'!K288","v":0},{"$f":"'Pivot Table Data'!L288","v":0},{"$f":"'Pivot Table Data'!S288","v":0},{"$f":"'Pivot Table Data'!T288","v":0},{"$f":"IF('Pivot Table Data'!O288=\"Yes\", 'Pivot Table Data'!T288, \"\")","v":""}]
[{"$f":"'Pivot Table Data'!B289","v":0},{"$f":"'Pivot Table Data'!F289","v":"Medical Center Hillcrest"},{"$f":"'Pivot Table Data'!P289","v":"P957"},{"$f":"'Pivot Table Data'!I289","v":"-"},{"$f":"'Pivot Table Data'!J289","v":"Allocated"},{"$f":"'Pivot Table Data'!K289","v":"Mail Vehicle"},{"$f":"'Pivot Table Data'!L289","v":0},{"$f":"'Pivot Table Data'!S289","v":1},{"$f":"'Pivot Table Data'!T289","v":1},{"$f":"IF('Pivot Table Data'!O289=\"Yes\", 'Pivot Table Data'!T289, \"\")","v":""}]
[{"$f":"'Pivot Table Data'!B290","v":0},{"$f":"'Pivot Table Data'!F290","v":"Medical Center Hillcrest"},{"$f":"'Pivot Table Data'!P290","v":"P957"},{"$f":"'Pivot Table Data'!I290","v":"-"},{"$f":"'Pivot Table Data'!J290","v":"Reserved"},{"$f":"'Pivot Table Data'!K290","v":"AVRC"},{"$f":"'Pivot Table Data'!L290","v":0},{"$f":"'Pivot Table Data'!S290","v":16},{"$f":"'Pivot Table Data'!T290","v":16},{"$f":"IF('Pivot Table Data'!O290=\"Yes\", 'Pivot Table Data'!T290, \"\")","v":""}]
[{"$f":"'Pivot Table Data'!B291","v":0},{"$f":"'Pivot Table Data'!F291","v":"Medical Center Hillcrest"},{"$f":"'Pivot Table Data'!P291","v":"P957"},{"$f":"'Pivot Table Data'!I291","v":"-"},{"$f":"'Pivot Table Data'!J291","v":"Reserved"},{"$f":"'Pivot Table Data'!K291","v":"Emergency Room"},{"$f":"'Pivot Table Data'!L291","v":0},{"$f":"'Pivot Table Data'!S291","v":20},{"$f":"'Pivot Table Data'!T291","v":20},{"$f":"IF('Pivot Table Data'!O291=\"Yes\", 'Pivot Table Data'!T291, \"\")","v":""}]
[{"$f":"'Pivot Table Data'!B292","v":0},{"$f":"'Pivot Table Data'!F292","v":"Medical Center Hillcrest"},{"$f":"'Pivot Table Data'!P292","v":"P957"},{"$f":"'Pivot Table Data'!I292","v":"-"},{"$f":"'Pivot Table Data'!J292","v":"Reserved"},{"$f":"'Pivot Table Data'!K292","v":"Valet"},{"$f":"'Pivot Table Data'!L292","v":0},{"$f":"'Pivot Table Data'!S292","v":10},{"$f":"'Pivot Table Data'!T292","v":10},{"$f":"IF('Pivot Table Data'!O292=\"Yes\", 'Pivot Table Data'!T292, \"\")","v":""}]
[{"$f":"'Pivot Table Data'!B293","v":0},{"$f":"'Pivot Table Data'!F293","v":"Medical Center Hillcrest"},{"$f":"'Pivot Table Data'!P293","v":"P957"},{"$f":"'Pivot Table Data'!I293","v":"-"},{"$f":"'Pivot Table Data'!J293","v":"Reserved"},{"$f":"'Pivot Table Data'!K293","v":0},{"$f":"'Pivot Table Data'!L293","v":0},{"$f":"'Pivot Table Data'!S293","v":21},{"$f":"'Pivot Table Data'!T293","v":21},{"$f":"IF('Pivot Table Data'!O293=\"Yes\", 'Pivot Table Data'!T293, \"\")","v":""}]
[{"$f":"'Pivot Table Data'!B294","v":0},{"$f":"'Pivot Table Data'!F294","v":"Medical Center Hillcrest"},{"$f":"'Pivot Table Data'!P294","v":"P957"},{"$f":"'Pivot Table Data'!I294","v":"-"},{"$f":"'Pivot Table Data'!J294","v":"UC Vehicle"},{"$f":"'Pivot Table Data'!K294","v":0},{"$f":"'Pivot Table Data'!L294","v":0},{"$f":"'Pivot Table Data'!S294","v":2},{"$f":"'Pivot Table Data'!T294","v":2},{"$f":"IF('Pivot Table Data'!O294=\"Yes\", 'Pivot Table Data'!T294, \"\")","v":""}]
[{"$f":"'Pivot Table Data'!B295","v":0},{"$f":"'Pivot Table Data'!F295","v":"Medical Center Hillcrest"},{"$f":"'Pivot Table Data'!P295","v":"P964"},{"$f":"'Pivot Table Data'!I295","v":"-"},{"$f":"'Pivot Table Data'!J295","v":"Accessible"},{"$f":"'Pivot Table Data'!K295","v":0},{"$f":"'Pivot Table Data'!L295","v":0},{"$f":"'Pivot Table Data'!S295","v":11},{"$f":"'Pivot Table Data'!T295","v":11},{"$f":"IF('Pivot Table Data'!O295=\"Yes\", 'Pivot Table Data'!T295, \"\")","v":""}]
[{"$f":"'Pivot Table Data'!B296","v":0},{"$f":"'Pivot Table Data'!F296","v":"Medical Center Hillcrest"},{"$f":"'Pivot Table Data'!P296","v":"P964"},{"$f":"'Pivot Table Data'!I296","v":"-"},{"$f":"'Pivot Table Data'!J296","v":"Accessible (Van)"},{"$f":"'Pivot Table Data'!K296","v":0},{"$f":"'Pivot Table Data'!L296","v":0},{"$f":"'Pivot Table Data'!S296","v":0},{"$f":"'Pivot Table Data'!T296","v":0},{"$f":"IF('Pivot Table Data'!O296=\"Yes\", 'Pivot Table Data'!T296, \"\")","v":""}]
[{"$f":"'Pivot Table Data'!B297","v":0},{"$f":"'Pivot Table Data'!F297","v":"Medical Center Hillcrest"},{"$f":"'Pivot Table Data'!P297","v":"P964"},{"$f":"'Pivot Table Data'!I297","v":"-"},{"$f":"'Pivot Table Data'!J297","v":"Allocated"},{"$f":"'Pivot Table Data'!K297","v":"Pulmonary Specialist"},{"$f":"'Pivot Table Data'!L297","v":0},{"$f":"'Pivot Table Data'!S297","v":12},{"$f":"'Pivot Table Data'!T297","v":12},{"$f":"IF('Pivot Table Data'!O297=\"Yes\", 'Pivot Table Data'!T297, \"\")","v":""}]
[{"$f":"'Pivot Table Data'!B298","v":0},{"$f":"'Pivot Table Data'!F298","v":"Medical Center Hillcrest"},{"$f":"'Pivot Table Data'!P298","v":"P964"},{"$f":"'Pivot Table Data'!I298","v":"-"},{"$f":"'Pivot Table Data'!J298","v":"Allocated"},{"$f":"'Pivot Table Data'!K298","v":"Security"},{"$f":"'Pivot Table Data'!L298","v":0},{"$f":"'Pivot Table Data'!S298","v":3},{"$f":"'Pivot Table Data'!T298","v":3},{"$f":"IF('Pivot Table Data'!O298=\"Yes\", 'Pivot Table Data'!T298, \"\")","v":""}]
[{"$f":"'Pivot Table Data'!B299","v":0},{"$f":"'Pivot Table Data'!F299","v":"Medical Center Hillcrest"},{"$f":"'Pivot Table Data'!P299","v":"P964"},{"$f":"'Pivot Table Data'!I299","v":"-"},{"$f":"'Pivot Table Data'!J299","v":"Reserved"},{"$f":"'Pivot Table Data'!K299","v":"Valet"},{"$f":"'Pivot Table Data'!L299","v":0},{"$f":"'Pivot Table Data'!S299","v":37},{"$f":"'Pivot Table Data'!T299","v":37},{"$f":"IF('Pivot Table Data'!O299=\"Yes\", 'Pivot Table Data'!T299, \"\")","v":""}]
[{"$f":"'Pivot Table Data'!B300","v":0},{"$f":"'Pivot Table Data'!F300","v":"Medical Center Hillcrest"},{"$f":"'Pivot Table Data'!P300","v":"P964"},{"$f":"'Pivot Table Data'!I300","v":"-"},{"$f":"'Pivot Table Data'!J300","v":"Visitor"},{"$f":"'Pivot Table Data'!K300","v":"Patient/Visitor"},{"$f":"'Pivot Table Data'!L300","v":0},{"$f":"'Pivot Table Data'!S300","v":41},{"$f":"'Pivot Table Data'!T300","v":41},{"$f":"IF('Pivot Table Data'!O300=\"Yes\", 'Pivot Table Data'!T300, \"\")","v":""}]
[{"$f":"'Pivot Table Data'!B301","v":0},{"$f":"'Pivot Table Data'!F301","v":"Medical Center Hillcrest"},{"$f":"'Pivot Table Data'!P301","v":"P964"},{"$f":"'Pivot Table Data'!I301","v":"-"},{"$f":"'Pivot Table Data'!J301","v":"Visitor"},{"$f":"'Pivot Table Data'!K301","v":"Patient/Visitor Reserved"},{"$f":"'Pivot Table Data'!L301","v":30},{"$f":"'Pivot Table Data'!S301","v":1},{"$f":"'Pivot Table Data'!T301","v":1},{"$f":"IF('Pivot Table Data'!O301=\"Yes\", 'Pivot Table Data'!T301, \"\")","v":""}]
[{"$f":"'Pivot Table Data'!B302","v":0},{"$f":"'Pivot Table Data'!F302","v":"Scripps Institution of Oceanography"},{"$f":"'Pivot Table Data'!P302","v":"P001"},{"$f":"'Pivot Table Data'!I302","v":"-"},{"$f":"'Pivot Table Data'!J302","v":"Accessible"},{"$f":"'Pivot Table Data'!K302","v":"Electric Vehicle"},{"$f":"'Pivot Table Data'!L302","v":0},{"$f":"'Pivot Table Data'!S302","v":1},{"$f":"'Pivot Table Data'!T302","v":1},{"$f":"IF('Pivot Table Data'!O302=\"Yes\", 'Pivot Table Data'!T302, \"\")","v":""}]
[{"$f":"'Pivot Table Data'!B303","v":0},{"$f":"'Pivot Table Data'!F303","v":"Scripps Institution of Oceanography"},{"$f":"'Pivot Table Data'!P303","v":"P001"},{"$f":"'Pivot Table Data'!I303","v":"-"},{"$f":"'Pivot Table Data'!J303","v":"Accessible (Van)"},{"$f":"'Pivot Table Data'!K303","v":0},{"$f":"'Pivot Table Data'!L303","v":0},{"$f":"'Pivot Table Data'!S303","v":0},{"$f":"'Pivot Table Data'!T303","v":0},{"$f":"IF('Pivot Table Data'!O303=\"Yes\", 'Pivot Table Data'!T303, \"\")","v":""}]
[{"$f":"'Pivot Table Data'!B304","v":0},{"$f":"'Pivot Table Data'!F304","v":"Scripps Institution of Oceanography"},{"$f":"'Pivot Table Data'!P304","v":"P001"},{"$f":"'Pivot Table Data'!I304","v":"-"},{"$f":"'Pivot Table Data'!J304","v":"B"},{"$f":"'Pivot Table Data'!K304","v":"Scripps Institution of Oceanography"},{"$f":"'Pivot Table Data'!L304","v":0},{"$f":"'Pivot Table Data'!S304","v":0},{"$f":"'Pivot Table Data'!T304","v":0},{"$f":"IF('Pivot Table Data'!O304=\"Yes\", 'Pivot Table Data'!T304, \"\")","v":0}]
[{"$f":"'Pivot Table Data'!B305","v":0},{"$f":"'Pivot Table Data'!F305","v":"Scripps Institution of Oceanography"},{"$f":"'Pivot Table Data'!P305","v":"P001"},{"$f":"'Pivot Table Data'!I305","v":"-"},{"$f":"'Pivot Table Data'!J305","v":"Electric Vehicle"},{"$f":"'Pivot Table Data'!K305","v":0},{"$f":"'Pivot Table Data'!L305","v":"4 hours"},{"$f":"'Pivot Table Data'!S305","v":9},{"$f":"'Pivot Table Data'!T305","v":9},{"$f":"IF('Pivot Table Data'!O305=\"Yes\", 'Pivot Table Data'!T305, \"\")","v":""}]
[{"$f":"'Pivot Table Data'!B306","v":0},{"$f":"'Pivot Table Data'!F306","v":"Scripps Institution of Oceanography"},{"$f":"'Pivot Table Data'!P306","v":"P001"},{"$f":"'Pivot Table Data'!I306","v":"-"},{"$f":"'Pivot Table Data'!J306","v":"Loading"},{"$f":"'Pivot Table Data'!K306","v":"Oversized"},{"$f":"'Pivot Table Data'!L306","v":"20 minutes"},{"$f":"'Pivot Table Data'!S306","v":1},{"$f":"'Pivot Table Data'!T306","v":1},{"$f":"IF('Pivot Table Data'!O306=\"Yes\", 'Pivot Table Data'!T306, \"\")","v":""}]
[{"$f":"'Pivot Table Data'!B307","v":0},{"$f":"'Pivot Table Data'!F307","v":"Scripps Institution of Oceanography"},{"$f":"'Pivot Table Data'!P307","v":"P001"},{"$f":"'Pivot Table Data'!I307","v":"-"},{"$f":"'Pivot Table Data'!J307","v":"Reserved"},{"$f":"'Pivot Table Data'!K307","v":0},{"$f":"'Pivot Table Data'!L307","v":0},{"$f":"'Pivot Table Data'!S307","v":1},{"$f":"'Pivot Table Data'!T307","v":1},{"$f":"IF('Pivot Table Data'!O307=\"Yes\", 'Pivot Table Data'!T307, \"\")","v":""}]
[{"$f":"'Pivot Table Data'!B308","v":0},{"$f":"'Pivot Table Data'!F308","v":"Scripps Institution of Oceanography"},{"$f":"'Pivot Table Data'!P308","v":"P002"},{"$f":"'Pivot Table Data'!I308","v":"-"},{"$f":"'Pivot Table Data'!J308","v":"Accessible"},{"$f":"'Pivot Table Data'!K308","v":0},{"$f":"'Pivot Table Data'!L308","v":0},{"$f":"'Pivot Table Data'!S308","v":2},{"$f":"'Pivot Table Data'!T308","v":2},{"$f":"IF('Pivot Table Data'!O308=\"Yes\", 'Pivot Table Data'!T308, \"\")","v":""}]
[{"$f":"'Pivot Table Data'!B309","v":0},{"$f":"'Pivot Table Data'!F309","v":"Scripps Institution of Oceanography"},{"$f":"'Pivot Table Data'!P309","v":"P002"},{"$f":"'Pivot Table Data'!I309","v":"-"},{"$f":"'Pivot Table Data'!J309","v":"Accessible (Van)"},{"$f":"'Pivot Table Data'!K309","v":0},{"$f":"'Pivot Table Data'!L309","v":0},{"$f":"'Pivot Table Data'!S309","v":0},{"$f":"'Pivot Table Data'!T309","v":0},{"$f":"IF('Pivot Table Data'!O309=\"Yes\", 'Pivot Table Data'!T309, \"\")","v":""}]
[{"$f":"'Pivot Table Data'!B310","v":0},{"$f":"'Pivot Table Data'!F310","v":"Scripps Institution of Oceanography"},{"$f":"'Pivot Table Data'!P310","v":"P002"},{"$f":"'Pivot Table Data'!I310","v":"-"},{"$f":"'Pivot Table Data'!J310","v":"B"},{"$f":"'Pivot Table Data'!K310","v":"Scripps Institution of Oceanography"},{"$f":"'Pivot Table Data'!L310","v":0},{"$f":"'Pivot Table Data'!S310","v":31},{"$f":"'Pivot Table Data'!T310","v":31},{"$f":"IF('Pivot Table Data'!O310=\"Yes\", 'Pivot Table Data'!T310, \"\")","v":31}]
[{"$f":"'Pivot Table Data'!B311","v":0},{"$f":"'Pivot Table Data'!F311","v":"Scripps Institution of Oceanography"},{"$f":"'Pivot Table Data'!P311","v":"P003"},{"$f":"'Pivot Table Data'!I311","v":"-"},{"$f":"'Pivot Table Data'!J311","v":"Accessible"},{"$f":"'Pivot Table Data'!K311","v":0},{"$f":"'Pivot Table Data'!L311","v":0},{"$f":"'Pivot Table Data'!S311","v":2},{"$f":"'Pivot Table Data'!T311","v":2},{"$f":"IF('Pivot Table Data'!O311=\"Yes\", 'Pivot Table Data'!T311, \"\")","v":""}]
[{"$f":"'Pivot Table Data'!B312","v":0},{"$f":"'Pivot Table Data'!F312","v":"Scripps Institution of Oceanography"},{"$f":"'Pivot Table Data'!P312","v":"P003"},{"$f":"'Pivot Table Data'!I312","v":"-"},{"$f":"'Pivot Table Data'!J312","v":"Accessible (Van)"},{"$f":"'Pivot Table Data'!K312","v":0},{"$f":"'Pivot Table Data'!L312","v":0},{"$f":"'Pivot Table Data'!S312","v":0},{"$f":"'Pivot Table Data'!T312","v":0},{"$f":"IF('Pivot Table Data'!O312=\"Yes\", 'Pivot Table Data'!T312, \"\")","v":""}]
[{"$f":"'Pivot Table Data'!B313","v":0},{"$f":"'Pivot Table Data'!F313","v":"Scripps Institution of Oceanography"},{"$f":"'Pivot Table Data'!P313","v":"P003"},{"$f":"'Pivot Table Data'!I313","v":"-"},{"$f":"'Pivot Table Data'!J313","v":"Allocated"},{"$f":"'Pivot Table Data'!K313","v":"Lifeguard"},{"$f":"'Pivot Table Data'!L313","v":0},{"$f":"'Pivot Table Data'!S313","v":1},{"$f":"'Pivot Table Data'!T313","v":1},{"$f":"IF('Pivot Table Data'!O313=\"Yes\", 'Pivot Table Data'!T313, \"\")","v":""}]
[{"$f":"'Pivot Table Data'!B314","v":0},{"$f":"'Pivot Table Data'!F314","v":"Scripps Institution of Oceanography"},{"$f":"'Pivot Table Data'!P314","v":"P003"},{"$f":"'Pivot Table Data'!I314","v":"-"},{"$f":"'Pivot Table Data'!J314","v":"B"},{"$f":"'Pivot Table Data'!K314","v":"Scripps Institution of Oceanography"},{"$f":"'Pivot Table Data'!L314","v":0},{"$f":"'Pivot Table Data'!S314","v":64},{"$f":"'Pivot Table Data'!T314","v":64},{"$f":"IF('Pivot Table Data'!O314=\"Yes\", 'Pivot Table Data'!T314, \"\")","v":64}]
[{"$f":"'Pivot Table Data'!B315","v":0},{"$f":"'Pivot Table Data'!F315","v":"Scripps Institution of Oceanography"},{"$f":"'Pivot Table Data'!P315","v":"P003"},{"$f":"'Pivot Table Data'!I315","v":"-"},{"$f":"'Pivot Table Data'!J315","v":"Loading"},{"$f":"'Pivot Table Data'!K315","v":"Commercial"},{"$f":"'Pivot Table Data'!L315","v":"20 minutes"},{"$f":"'Pivot Table Data'!S315","v":3},{"$f":"'Pivot Table Data'!T315","v":3},{"$f":"IF('Pivot Table Data'!O315=\"Yes\", 'Pivot Table Data'!T315, \"\")","v":""}]
[{"$f":"'Pivot Table Data'!B316","v":0},{"$f":"'Pivot Table Data'!F316","v":"Scripps Institution of Oceanography"},{"$f":"'Pivot Table Data'!P316","v":"P003"},{"$f":"'Pivot Table Data'!I316","v":"-"},{"$f":"'Pivot Table Data'!J316","v":"Loading"},{"$f":"'Pivot Table Data'!K316","v":0},{"$f":"'Pivot Table Data'!L316","v":"20 minutes"},{"$f":"'Pivot Table Data'!S316","v":2},{"$f":"'Pivot Table Data'!T316","v":2},{"$f":"IF('Pivot Table Data'!O316=\"Yes\", 'Pivot Table Data'!T316, \"\")","v":""}]
[{"$f":"'Pivot Table Data'!B317","v":0},{"$f":"'Pivot Table Data'!F317","v":"Scripps Institution of Oceanography"},{"$f":"'Pivot Table Data'!P317","v":"P003"},{"$f":"'Pivot Table Data'!I317","v":"-"},{"$f":"'Pivot Table Data'!J317","v":"Motorcycle Section"},{"$f":"'Pivot Table Data'!K317","v":0},{"$f":"'Pivot Table Data'!L317","v":0},{"$f":"'Pivot Table Data'!S317","v":0},{"$f":"'Pivot Table Data'!T317","v":0},{"$f":"IF('Pivot Table Data'!O317=\"Yes\", 'Pivot Table Data'!T317, \"\")","v":""}]
[{"$f":"'Pivot Table Data'!B318","v":0},{"$f":"'Pivot Table Data'!F318","v":"Scripps Institution of Oceanography"},{"$f":"'Pivot Table Data'!P318","v":"P004"},{"$f":"'Pivot Table Data'!I318","v":"-"},{"$f":"'Pivot Table Data'!J318","v":"Electric Vehicle"},{"$f":"'Pivot Table Data'!K318","v":0},{"$f":"'Pivot Table Data'!L318","v":0},{"$f":"'Pivot Table Data'!S318","v":1},{"$f":"'Pivot Table Data'!T318","v":1},{"$f":"IF('Pivot Table Data'!O318=\"Yes\", 'Pivot Table Data'!T318, \"\")","v":""}]
[{"$f":"'Pivot Table Data'!B319","v":0},{"$f":"'Pivot Table Data'!F319","v":"Scripps Institution of Oceanography"},{"$f":"'Pivot Table Data'!P319","v":"P004"},{"$f":"'Pivot Table Data'!I319","v":"-"},{"$f":"'Pivot Table Data'!J319","v":"Loading"},{"$f":"'Pivot Table Data'!K319","v":"Oversized Commercial"},{"$f":"'Pivot Table Data'!L319","v":"20 minutes"},{"$f":"'Pivot Table Data'!S319","v":2},{"$f":"'Pivot Table Data'!T319","v":2},{"$f":"IF('Pivot Table Data'!O319=\"Yes\", 'Pivot Table Data'!T319, \"\")","v":""}]
[{"$f":"'Pivot Table Data'!B320","v":0},{"$f":"'Pivot Table Data'!F320","v":"Scripps Institution of Oceanography"},{"$f":"'Pivot Table Data'!P320","v":"P004"},{"$f":"'Pivot Table Data'!I320","v":"-"},{"$f":"'Pivot Table Data'!J320","v":"Loading"},{"$f":"'Pivot Table Data'!K320","v":0},{"$f":"'Pivot Table Data'!L320","v":"20 minutes"},{"$f":"'Pivot Table Data'!S320","v":5},{"$f":"'Pivot Table Data'!T320","v":5},{"$f":"IF('Pivot Table Data'!O320=\"Yes\", 'Pivot Table Data'!T320, \"\")","v":""}]
[{"$f":"'Pivot Table Data'!B321","v":0},{"$f":"'Pivot Table Data'!F321","v":"Scripps Institution of Oceanography"},{"$f":"'Pivot Table Data'!P321","v":"P004"},{"$f":"'Pivot Table Data'!I321","v":"-"},{"$f":"'Pivot Table Data'!J321","v":"Service Yard"},{"$f":"'Pivot Table Data'!K321","v":0},{"$f":"'Pivot Table Data'!L321","v":0},{"$f":"'Pivot Table Data'!S321","v":1},{"$f":"'Pivot Table Data'!T321","v":1},{"$f":"IF('Pivot Table Data'!O321=\"Yes\", 'Pivot Table Data'!T321, \"\")","v":""}]
[{"$f":"'Pivot Table Data'!B322","v":0},{"$f":"'Pivot Table Data'!F322","v":"Scripps Institution of Oceanography"},{"$f":"'Pivot Table Data'!P322","v":"P004"},{"$f":"'Pivot Table Data'!I322","v":"-"},{"$f":"'Pivot Table Data'!J322","v":"UC Vehicle"},{"$f":"'Pivot Table Data'!K322","v":"UC Cart"},{"$f":"'Pivot Table Data'!L322","v":0},{"$f":"'Pivot Table Data'!S322","v":1},{"$f":"'Pivot Table Data'!T322","v":1},{"$f":"IF('Pivot Table Data'!O322=\"Yes\", 'Pivot Table Data'!T322, \"\")","v":""}]
[{"$f":"'Pivot Table Data'!B323","v":0},{"$f":"'Pivot Table Data'!F323","v":"Scripps Institution of Oceanography"},{"$f":"'Pivot Table Data'!P323","v":"P004"},{"$f":"'Pivot Table Data'!I323","v":"-"},{"$f":"'Pivot Table Data'!J323","v":"UC Vehicle"},{"$f":"'Pivot Table Data'!K323","v":0},{"$f":"'Pivot Table Data'!L323","v":0},{"$f":"'Pivot Table Data'!S323","v":5},{"$f":"'Pivot Table Data'!T323","v":5},{"$f":"IF('Pivot Table Data'!O323=\"Yes\", 'Pivot Table Data'!T323, \"\")","v":""}]
[{"$f":"'Pivot Table Data'!B324","v":0},{"$f":"'Pivot Table Data'!F324","v":"Scripps Institution of Oceanography"},{"$f":"'Pivot Table Data'!P324","v":"P005"},{"$f":"'Pivot Table Data'!I324","v":"-"},{"$f":"'Pivot Table Data'!J324","v":"Accessible"},{"$f":"'Pivot Table Data'!K324","v":0},{"$f":"'Pivot Table Data'!L324","v":0},{"$f":"'Pivot Table Data'!S324","v":1},{"$f":"'Pivot Table Data'!T324","v":1},{"$f":"IF('Pivot Table Data'!O324=\"Yes\", 'Pivot Table Data'!T324, \"\")","v":""}]
[{"$f":"'Pivot Table Data'!B325","v":0},{"$f":"'Pivot Table Data'!F325","v":"Scripps Institution of Oceanography"},{"$f":"'Pivot Table Data'!P325","v":"P005"},{"$f":"'Pivot Table Data'!I325","v":"-"},{"$f":"'Pivot Table Data'!J325","v":"Accessible (Van)"},{"$f":"'Pivot Table Data'!K325","v":0},{"$f":"'Pivot Table Data'!L325","v":0},{"$f":"'Pivot Table Data'!S325","v":0},{"$f":"'Pivot Table Data'!T325","v":0},{"$f":"IF('Pivot Table Data'!O325=\"Yes\", 'Pivot Table Data'!T325, \"\")","v":""}]
[{"$f":"'Pivot Table Data'!B326","v":0},{"$f":"'Pivot Table Data'!F326","v":"Scripps Institution of Oceanography"},{"$f":"'Pivot Table Data'!P326","v":"P005"},{"$f":"'Pivot Table Data'!I326","v":"-"},{"$f":"'Pivot Table Data'!J326","v":"Loading"},{"$f":"'Pivot Table Data'!K326","v":"Bars"},{"$f":"'Pivot Table Data'!L326","v":"20 minutes"},{"$f":"'Pivot Table Data'!S326","v":1},{"$f":"'Pivot Table Data'!T326","v":1},{"$f":"IF('Pivot Table Data'!O326=\"Yes\", 'Pivot Table Data'!T326, \"\")","v":""}]
[{"$f":"'Pivot Table Data'!B327","v":0},{"$f":"'Pivot Table Data'!F327","v":"Scripps Institution of Oceanography"},{"$f":"'Pivot Table Data'!P327","v":"P005"},{"$f":"'Pivot Table Data'!I327","v":"-"},{"$f":"'Pivot Table Data'!J327","v":"Motorcycle Section"},{"$f":"'Pivot Table Data'!K327","v":0},{"$f":"'Pivot Table Data'!L327","v":0},{"$f":"'Pivot Table Data'!S327","v":2},{"$f":"'Pivot Table Data'!T327","v":2},{"$f":"IF('Pivot Table Data'!O327=\"Yes\", 'Pivot Table Data'!T327, \"\")","v":""}]
[{"$f":"'Pivot Table Data'!B328","v":0},{"$f":"'Pivot Table Data'!F328","v":"Scripps Institution of Oceanography"},{"$f":"'Pivot Table Data'!P328","v":"P005"},{"$f":"'Pivot Table Data'!I328","v":"-"},{"$f":"'Pivot Table Data'!J328","v":"Service Yard"},{"$f":"'Pivot Table Data'!K328","v":"Bars"},{"$f":"'Pivot Table Data'!L328","v":0},{"$f":"'Pivot Table Data'!S328","v":1},{"$f":"'Pivot Table Data'!T328","v":1},{"$f":"IF('Pivot Table Data'!O328=\"Yes\", 'Pivot Table Data'!T328, \"\")","v":""}]
[{"$f":"'Pivot Table Data'!B329","v":0},{"$f":"'Pivot Table Data'!F329","v":"Scripps Institution of Oceanography"},{"$f":"'Pivot Table Data'!P329","v":"P006"},{"$f":"'Pivot Table Data'!I329","v":"-"},{"$f":"'Pivot Table Data'!J329","v":"Accessible"},{"$f":"'Pivot Table Data'!K329","v":0},{"$f":"'Pivot Table Data'!L329","v":0},{"$f":"'Pivot Table Data'!S329","v":1},{"$f":"'Pivot Table Data'!T329","v":1},{"$f":"IF('Pivot Table Data'!O329=\"Yes\", 'Pivot Table Data'!T329, \"\")","v":""}]
[{"$f":"'Pivot Table Data'!B330","v":0},{"$f":"'Pivot Table Data'!F330","v":"Scripps Institution of Oceanography"},{"$f":"'Pivot Table Data'!P330","v":"P006"},{"$f":"'Pivot Table Data'!I330","v":"-"},{"$f":"'Pivot Table Data'!J330","v":"Accessible (Van)"},{"$f":"'Pivot Table Data'!K330","v":0},{"$f":"'Pivot Table Data'!L330","v":0},{"$f":"'Pivot Table Data'!S330","v":0},{"$f":"'Pivot Table Data'!T330","v":0},{"$f":"IF('Pivot Table Data'!O330=\"Yes\", 'Pivot Table Data'!T330, \"\")","v":""}]
[{"$f":"'Pivot Table Data'!B331","v":0},{"$f":"'Pivot Table Data'!F331","v":"Scripps Institution of Oceanography"},{"$f":"'Pivot Table Data'!P331","v":"P006"},{"$f":"'Pivot Table Data'!I331","v":"-"},{"$f":"'Pivot Table Data'!J331","v":"B"},{"$f":"'Pivot Table Data'!K331","v":"Scripps Institution of Oceanography"},{"$f":"'Pivot Table Data'!L331","v":0},{"$f":"'Pivot Table Data'!S331","v":6},{"$f":"'Pivot Table Data'!T331","v":6},{"$f":"IF('Pivot Table Data'!O331=\"Yes\", 'Pivot Table Data'!T331, \"\")","v":6}]
[{"$f":"'Pivot Table Data'!B332","v":0},{"$f":"'Pivot Table Data'!F332","v":"Scripps Institution of Oceanography"},{"$f":"'Pivot Table Data'!P332","v":"P007"},{"$f":"'Pivot Table Data'!I332","v":"-"},{"$f":"'Pivot Table Data'!J332","v":"Accessible"},{"$f":"'Pivot Table Data'!K332","v":0},{"$f":"'Pivot Table Data'!L332","v":0},{"$f":"'Pivot Table Data'!S332","v":3},{"$f":"'Pivot Table Data'!T332","v":3},{"$f":"IF('Pivot Table Data'!O332=\"Yes\", 'Pivot Table Data'!T332, \"\")","v":""}]
[{"$f":"'Pivot Table Data'!B333","v":0},{"$f":"'Pivot Table Data'!F333","v":"Scripps Institution of Oceanography"},{"$f":"'Pivot Table Data'!P333","v":"P007"},{"$f":"'Pivot Table Data'!I333","v":"-"},{"$f":"'Pivot Table Data'!J333","v":"Accessible (Van)"},{"$f":"'Pivot Table Data'!K333","v":0},{"$f":"'Pivot Table Data'!L333","v":0},{"$f":"'Pivot Table Data'!S333","v":0},{"$f":"'Pivot Table Data'!T333","v":0},{"$f":"IF('Pivot Table Data'!O333=\"Yes\", 'Pivot Table Data'!T333, \"\")","v":""}]
[{"$f":"'Pivot Table Data'!B334","v":0},{"$f":"'Pivot Table Data'!F334","v":"Scripps Institution of Oceanography"},{"$f":"'Pivot Table Data'!P334","v":"P007"},{"$f":"'Pivot Table Data'!I334","v":"-"},{"$f":"'Pivot Table Data'!J334","v":"B"},{"$f":"'Pivot Table Data'!K334","v":"Scripps Institution of Oceanography"},{"$f":"'Pivot Table Data'!L334","v":0},{"$f":"'Pivot Table Data'!S334","v":22},{"$f":"'Pivot Table Data'!T334","v":22},{"$f":"IF('Pivot Table Data'!O334=\"Yes\", 'Pivot Table Data'!T334, \"\")","v":22}]
[{"$f":"'Pivot Table Data'!B335","v":0},{"$f":"'Pivot Table Data'!F335","v":"Scripps Institution of Oceanography"},{"$f":"'Pivot Table Data'!P335","v":"P007"},{"$f":"'Pivot Table Data'!I335","v":"-"},{"$f":"'Pivot Table Data'!J335","v":"Electric Vehicle"},{"$f":"'Pivot Table Data'!K335","v":0},{"$f":"'Pivot Table Data'!L335","v":0},{"$f":"'Pivot Table Data'!S335","v":8},{"$f":"'Pivot Table Data'!T335","v":8},{"$f":"IF('Pivot Table Data'!O335=\"Yes\", 'Pivot Table Data'!T335, \"\")","v":""}]
[{"$f":"'Pivot Table Data'!B336","v":0},{"$f":"'Pivot Table Data'!F336","v":"Scripps Institution of Oceanography"},{"$f":"'Pivot Table Data'!P336","v":"P007"},{"$f":"'Pivot Table Data'!I336","v":"-"},{"$f":"'Pivot Table Data'!J336","v":"Loading"},{"$f":"'Pivot Table Data'!K336","v":"Dock"},{"$f":"'Pivot Table Data'!L336","v":"20 minutes"},{"$f":"'Pivot Table Data'!S336","v":1},{"$f":"'Pivot Table Data'!T336","v":1},{"$f":"IF('Pivot Table Data'!O336=\"Yes\", 'Pivot Table Data'!T336, \"\")","v":""}]
[{"$f":"'Pivot Table Data'!B337","v":0},{"$f":"'Pivot Table Data'!F337","v":"Scripps Institution of Oceanography"},{"$f":"'Pivot Table Data'!P337","v":"P007"},{"$f":"'Pivot Table Data'!I337","v":"-"},{"$f":"'Pivot Table Data'!J337","v":"Loading"},{"$f":"'Pivot Table Data'!K337","v":0},{"$f":"'Pivot Table Data'!L337","v":"20 minutes"},{"$f":"'Pivot Table Data'!S337","v":1},{"$f":"'Pivot Table Data'!T337","v":1},{"$f":"IF('Pivot Table Data'!O337=\"Yes\", 'Pivot Table Data'!T337, \"\")","v":""}]
[{"$f":"'Pivot Table Data'!B338","v":0},{"$f":"'Pivot Table Data'!F338","v":"Scripps Institution of Oceanography"},{"$f":"'Pivot Table Data'!P338","v":"P007"},{"$f":"'Pivot Table Data'!I338","v":"-"},{"$f":"'Pivot Table Data'!J338","v":"Motorcycle Section"},{"$f":"'Pivot Table Data'!K338","v":0},{"$f":"'Pivot Table Data'!L338","v":0},{"$f":"'Pivot Table Data'!S338","v":2},{"$f":"'Pivot Table Data'!T338","v":2},{"$f":"IF('Pivot Table Data'!O338=\"Yes\", 'Pivot Table Data'!T338, \"\")","v":""}]
[{"$f":"'Pivot Table Data'!B339","v":0},{"$f":"'Pivot Table Data'!F339","v":"Scripps Institution of Oceanography"},{"$f":"'Pivot Table Data'!P339","v":"P007"},{"$f":"'Pivot Table Data'!I339","v":"-"},{"$f":"'Pivot Table Data'!J339","v":"UC Vehicle"},{"$f":"'Pivot Table Data'!K339","v":"UC Cart Bar"},{"$f":"'Pivot Table Data'!L339","v":0},{"$f":"'Pivot Table Data'!S339","v":1},{"$f":"'Pivot Table Data'!T339","v":1},{"$f":"IF('Pivot Table Data'!O339=\"Yes\", 'Pivot Table Data'!T339, \"\")","v":""}]
[{"$f":"'Pivot Table Data'!B340","v":0},{"$f":"'Pivot Table Data'!F340","v":"Scripps Institution of Oceanography"},{"$f":"'Pivot Table Data'!P340","v":"P007"},{"$f":"'Pivot Table Data'!I340","v":"-"},{"$f":"'Pivot Table Data'!J340","v":"UC Vehicle"},{"$f":"'Pivot Table Data'!K340","v":0},{"$f":"'Pivot Table Data'!L340","v":0},{"$f":"'Pivot Table Data'!S340","v":2},{"$f":"'Pivot Table Data'!T340","v":2},{"$f":"IF('Pivot Table Data'!O340=\"Yes\", 'Pivot Table Data'!T340, \"\")","v":""}]
[{"$f":"'Pivot Table Data'!B341","v":0},{"$f":"'Pivot Table Data'!F341","v":"Scripps Institution of Oceanography"},{"$f":"'Pivot Table Data'!P341","v":"P008"},{"$f":"'Pivot Table Data'!I341","v":"-"},{"$f":"'Pivot Table Data'!J341","v":"Accessible"},{"$f":"'Pivot Table Data'!K341","v":0},{"$f":"'Pivot Table Data'!L341","v":0},{"$f":"'Pivot Table Data'!S341","v":3},{"$f":"'Pivot Table Data'!T341","v":3},{"$f":"IF('Pivot Table Data'!O341=\"Yes\", 'Pivot Table Data'!T341, \"\")","v":""}]
[{"$f":"'Pivot Table Data'!B342","v":0},{"$f":"'Pivot Table Data'!F342","v":"Scripps Institution of Oceanography"},{"$f":"'Pivot Table Data'!P342","v":"P008"},{"$f":"'Pivot Table Data'!I342","v":"-"},{"$f":"'Pivot Table Data'!J342","v":"Accessible (Van)"},{"$f":"'Pivot Table Data'!K342","v":0},{"$f":"'Pivot Table Data'!L342","v":0},{"$f":"'Pivot Table Data'!S342","v":0},{"$f":"'Pivot Table Data'!T342","v":0},{"$f":"IF('Pivot Table Data'!O342=\"Yes\", 'Pivot Table Data'!T342, \"\")","v":""}]
[{"$f":"'Pivot Table Data'!B343","v":0},{"$f":"'Pivot Table Data'!F343","v":"Scripps Institution of Oceanography"},{"$f":"'Pivot Table Data'!P343","v":"P008"},{"$f":"'Pivot Table Data'!I343","v":"-"},{"$f":"'Pivot Table Data'!J343","v":"B"},{"$f":"'Pivot Table Data'!K343","v":"Scripps Institution of Oceanography"},{"$f":"'Pivot Table Data'!L343","v":0},{"$f":"'Pivot Table Data'!S343","v":26},{"$f":"'Pivot Table Data'!T343","v":26},{"$f":"IF('Pivot Table Data'!O343=\"Yes\", 'Pivot Table Data'!T343, \"\")","v":26}]
[{"$f":"'Pivot Table Data'!B344","v":0},{"$f":"'Pivot Table Data'!F344","v":"Scripps Institution of Oceanography"},{"$f":"'Pivot Table Data'!P344","v":"P008"},{"$f":"'Pivot Table Data'!I344","v":"-"},{"$f":"'Pivot Table Data'!J344","v":"Motorcycle Section"},{"$f":"'Pivot Table Data'!K344","v":0},{"$f":"'Pivot Table Data'!L344","v":0},{"$f":"'Pivot Table Data'!S344","v":1},{"$f":"'Pivot Table Data'!T344","v":1},{"$f":"IF('Pivot Table Data'!O344=\"Yes\", 'Pivot Table Data'!T344, \"\")","v":""}]
[{"$f":"'Pivot Table Data'!B345","v":0},{"$f":"'Pivot Table Data'!F345","v":"Scripps Institution of Oceanography"},{"$f":"'Pivot Table Data'!P345","v":"P009"},{"$f":"'Pivot Table Data'!I345","v":"-"},{"$f":"'Pivot Table Data'!J345","v":"Service Yard"},{"$f":"'Pivot Table Data'!K345","v":0},{"$f":"'Pivot Table Data'!L345","v":0},{"$f":"'Pivot Table Data'!S345","v":2},{"$f":"'Pivot Table Data'!T345","v":2},{"$f":"IF('Pivot Table Data'!O345=\"Yes\", 'Pivot Table Data'!T345, \"\")","v":""}]
[{"$f":"'Pivot Table Data'!B346","v":0},{"$f":"'Pivot Table Data'!F346","v":"Scripps Institution of Oceanography"},{"$f":"'Pivot Table Data'!P346","v":"P010"},{"$f":"'Pivot Table Data'!I346","v":"-"},{"$f":"'Pivot Table Data'!J346","v":"Accessible"},{"$f":"'Pivot Table Data'!K346","v":0},{"$f":"'Pivot Table Data'!L346","v":0},{"$f":"'Pivot Table Data'!S346","v":1},{"$f":"'Pivot Table Data'!T346","v":1},{"$f":"IF('Pivot Table Data'!O346=\"Yes\", 'Pivot Table Data'!T346, \"\")","v":""}]
[{"$f":"'Pivot Table Data'!B347","v":0},{"$f":"'Pivot Table Data'!F347","v":"Scripps Institution of Oceanography"},{"$f":"'Pivot Table Data'!P347","v":"P010"},{"$f":"'Pivot Table Data'!I347","v":"-"},{"$f":"'Pivot Table Data'!J347","v":"Accessible (Van)"},{"$f":"'Pivot Table Data'!K347","v":0},{"$f":"'Pivot Table Data'!L347","v":0},{"$f":"'Pivot Table Data'!S347","v":0},{"$f":"'Pivot Table Data'!T347","v":0},{"$f":"IF('Pivot Table Data'!O347=\"Yes\", 'Pivot Table Data'!T347, \"\")","v":""}]
[{"$f":"'Pivot Table Data'!B348","v":0},{"$f":"'Pivot Table Data'!F348","v":"Scripps Institution of Oceanography"},{"$f":"'Pivot Table Data'!P348","v":"P010"},{"$f":"'Pivot Table Data'!I348","v":"-"},{"$f":"'Pivot Table Data'!J348","v":"B"},{"$f":"'Pivot Table Data'!K348","v":"Scripps Institution of Oceanography"},{"$f":"'Pivot Table Data'!L348","v":0},{"$f":"'Pivot Table Data'!S348","v":23},{"$f":"'Pivot Table Data'!T348","v":23},{"$f":"IF('Pivot Table Data'!O348=\"Yes\", 'Pivot Table Data'!T348, \"\")","v":23}]
[{"$f":"'Pivot Table Data'!B349","v":0},{"$f":"'Pivot Table Data'!F349","v":"Scripps Institution of Oceanography"},{"$f":"'Pivot Table Data'!P349","v":"P011"},{"$f":"'Pivot Table Data'!I349","v":"-"},{"$f":"'Pivot Table Data'!J349","v":"Accessible"},{"$f":"'Pivot Table Data'!K349","v":0},{"$f":"'Pivot Table Data'!L349","v":0},{"$f":"'Pivot Table Data'!S349","v":1},{"$f":"'Pivot Table Data'!T349","v":1},{"$f":"IF('Pivot Table Data'!O349=\"Yes\", 'Pivot Table Data'!T349, \"\")","v":""}]
[{"$f":"'Pivot Table Data'!B350","v":0},{"$f":"'Pivot Table Data'!F350","v":"Scripps Institution of Oceanography"},{"$f":"'Pivot Table Data'!P350","v":"P011"},{"$f":"'Pivot Table Data'!I350","v":"-"},{"$f":"'Pivot Table Data'!J350","v":"Accessible (Van)"},{"$f":"'Pivot Table Data'!K350","v":0},{"$f":"'Pivot Table Data'!L350","v":0},{"$f":"'Pivot Table Data'!S350","v":0},{"$f":"'Pivot Table Data'!T350","v":0},{"$f":"IF('Pivot Table Data'!O350=\"Yes\", 'Pivot Table Data'!T350, \"\")","v":""}]
[{"$f":"'Pivot Table Data'!B351","v":0},{"$f":"'Pivot Table Data'!F351","v":"Scripps Institution of Oceanography"},{"$f":"'Pivot Table Data'!P351","v":"P011"},{"$f":"'Pivot Table Data'!I351","v":"-"},{"$f":"'Pivot Table Data'!J351","v":"Allocated"},{"$f":"'Pivot Table Data'!K351","v":"Coastal Access"},{"$f":"'Pivot Table Data'!L351","v":"1 hour"},{"$f":"'Pivot Table Data'!S351","v":4},{"$f":"'Pivot Table Data'!T351","v":4},{"$f":"IF('Pivot Table Data'!O351=\"Yes\", 'Pivot Table Data'!T351, \"\")","v":""}]
[{"$f":"'Pivot Table Data'!B352","v":0},{"$f":"'Pivot Table Data'!F352","v":"Scripps Institution of Oceanography"},{"$f":"'Pivot Table Data'!P352","v":"P011"},{"$f":"'Pivot Table Data'!I352","v":"-"},{"$f":"'Pivot Table Data'!J352","v":"B"},{"$f":"'Pivot Table Data'!K352","v":"Scripps Institution of Oceanography"},{"$f":"'Pivot Table Data'!L352","v":0},{"$f":"'Pivot Table Data'!S352","v":15},{"$f":"'Pivot Table Data'!T352","v":15},{"$f":"IF('Pivot Table Data'!O352=\"Yes\", 'Pivot Table Data'!T352, \"\")","v":15}]
[{"$f":"'Pivot Table Data'!B353","v":0},{"$f":"'Pivot Table Data'!F353","v":"Scripps Institution of Oceanography"},{"$f":"'Pivot Table Data'!P353","v":"P011"},{"$f":"'Pivot Table Data'!I353","v":"-"},{"$f":"'Pivot Table Data'!J353","v":"Loading"},{"$f":"'Pivot Table Data'!K353","v":0},{"$f":"'Pivot Table Data'!L353","v":"20 minutes"},{"$f":"'Pivot Table Data'!S353","v":1},{"$f":"'Pivot Table Data'!T353","v":1},{"$f":"IF('Pivot Table Data'!O353=\"Yes\", 'Pivot Table Data'!T353, \"\")","v":""}]
[{"$f":"'Pivot Table Data'!B354","v":0},{"$f":"'Pivot Table Data'!F354","v":"Scripps Institution of Oceanography"},{"$f":"'Pivot Table Data'!P354","v":"P011"},{"$f":"'Pivot Table Data'!I354","v":"-"},{"$f":"'Pivot Table Data'!J354","v":"Motorcycle Section"},{"$f":"'Pivot Table Data'!K354","v":0},{"$f":"'Pivot Table Data'!L354","v":0},{"$f":"'Pivot Table Data'!S354","v":1},{"$f":"'Pivot Table Data'!T354","v":1},{"$f":"IF('Pivot Table Data'!O354=\"Yes\", 'Pivot Table Data'!T354, \"\")","v":""}]
[{"$f":"'Pivot Table Data'!B355","v":0},{"$f":"'Pivot Table Data'!F355","v":"Scripps Institution of Oceanography"},{"$f":"'Pivot Table Data'!P355","v":"P012"},{"$f":"'Pivot Table Data'!I355","v":"-"},{"$f":"'Pivot Table Data'!J355","v":"Accessible"},{"$f":"'Pivot Table Data'!K355","v":0},{"$f":"'Pivot Table Data'!L355","v":0},{"$f":"'Pivot Table Data'!S355","v":1},{"$f":"'Pivot Table Data'!T355","v":1},{"$f":"IF('Pivot Table Data'!O355=\"Yes\", 'Pivot Table Data'!T355, \"\")","v":""}]
[{"$f":"'Pivot Table Data'!B356","v":0},{"$f":"'Pivot Table Data'!F356","v":"Scripps Institution of Oceanography"},{"$f":"'Pivot Table Data'!P356","v":"P012"},{"$f":"'Pivot Table Data'!I356","v":"-"},{"$f":"'Pivot Table Data'!J356","v":"Accessible (Van)"},{"$f":"'Pivot Table Data'!K356","v":0},{"$f":"'Pivot Table Data'!L356","v":0},{"$f":"'Pivot Table Data'!S356","v":0},{"$f":"'Pivot Table Data'!T356","v":0},{"$f":"IF('Pivot Table Data'!O356=\"Yes\", 'Pivot Table Data'!T356, \"\")","v":""}]
[{"$f":"'Pivot Table Data'!B357","v":0},{"$f":"'Pivot Table Data'!F357","v":"Scripps Institution of Oceanography"},{"$f":"'Pivot Table Data'!P357","v":"P012"},{"$f":"'Pivot Table Data'!I357","v":"-"},{"$f":"'Pivot Table Data'!J357","v":"B"},{"$f":"'Pivot Table Data'!K357","v":"Scripps Institution of Oceanography"},{"$f":"'Pivot Table Data'!L357","v":0},{"$f":"'Pivot Table Data'!S357","v":12},{"$f":"'Pivot Table Data'!T357","v":12},{"$f":"IF('Pivot Table Data'!O357=\"Yes\", 'Pivot Table Data'!T357, \"\")","v":12}]
[{"$f":"'Pivot Table Data'!B358","v":0},{"$f":"'Pivot Table Data'!F358","v":"Scripps Institution of Oceanography"},{"$f":"'Pivot Table Data'!P358","v":"P013"},{"$f":"'Pivot Table Data'!I358","v":"-"},{"$f":"'Pivot Table Data'!J358","v":"Accessible"},{"$f":"'Pivot Table Data'!K358","v":0},{"$f":"'Pivot Table Data'!L358","v":0},{"$f":"'Pivot Table Data'!S358","v":1},{"$f":"'Pivot Table Data'!T358","v":1},{"$f":"IF('Pivot Table Data'!O358=\"Yes\", 'Pivot Table Data'!T358, \"\")","v":""}]
[{"$f":"'Pivot Table Data'!B359","v":0},{"$f":"'Pivot Table Data'!F359","v":"Scripps Institution of Oceanography"},{"$f":"'Pivot Table Data'!P359","v":"P013"},{"$f":"'Pivot Table Data'!I359","v":"-"},{"$f":"'Pivot Table Data'!J359","v":"Accessible (Van)"},{"$f":"'Pivot Table Data'!K359","v":0},{"$f":"'Pivot Table Data'!L359","v":0},{"$f":"'Pivot Table Data'!S359","v":0},{"$f":"'Pivot Table Data'!T359","v":0},{"$f":"IF('Pivot Table Data'!O359=\"Yes\", 'Pivot Table Data'!T359, \"\")","v":""}]
[{"$f":"'Pivot Table Data'!B360","v":0},{"$f":"'Pivot Table Data'!F360","v":"Scripps Institution of Oceanography"},{"$f":"'Pivot Table Data'!P360","v":"P013"},{"$f":"'Pivot Table Data'!I360","v":"-"},{"$f":"'Pivot Table Data'!J360","v":"B"},{"$f":"'Pivot Table Data'!K360","v":"Scripps Institution of Oceanography"},{"$f":"'Pivot Table Data'!L360","v":0},{"$f":"'Pivot Table Data'!S360","v":12},{"$f":"'Pivot Table Data'!T360","v":12},{"$f":"IF('Pivot Table Data'!O360=\"Yes\", 'Pivot Table Data'!T360, \"\")","v":12}]
[{"$f":"'Pivot Table Data'!B361","v":0},{"$f":"'Pivot Table Data'!F361","v":"Scripps Institution of Oceanography"},{"$f":"'Pivot Table Data'!P361","v":"P013"},{"$f":"'Pivot Table Data'!I361","v":"-"},{"$f":"'Pivot Table Data'!J361","v":"Electric Vehicle"},{"$f":"'Pivot Table Data'!K361","v":0},{"$f":"'Pivot Table Data'!L361","v":0},{"$f":"'Pivot Table Data'!S361","v":2},{"$f":"'Pivot Table Data'!T361","v":2},{"$f":"IF('Pivot Table Data'!O361=\"Yes\", 'Pivot Table Data'!T361, \"\")","v":""}]
[{"$f":"'Pivot Table Data'!B362","v":0},{"$f":"'Pivot Table Data'!F362","v":"Scripps Institution of Oceanography"},{"$f":"'Pivot Table Data'!P362","v":"P014"},{"$f":"'Pivot Table Data'!I362","v":"-"},{"$f":"'Pivot Table Data'!J362","v":"Accessible"},{"$f":"'Pivot Table Data'!K362","v":0},{"$f":"'Pivot Table Data'!L362","v":0},{"$f":"'Pivot Table Data'!S362","v":1},{"$f":"'Pivot Table Data'!T362","v":1},{"$f":"IF('Pivot Table Data'!O362=\"Yes\", 'Pivot Table Data'!T362, \"\")","v":""}]
[{"$f":"'Pivot Table Data'!B363","v":0},{"$f":"'Pivot Table Data'!F363","v":"Scripps Institution of Oceanography"},{"$f":"'Pivot Table Data'!P363","v":"P014"},{"$f":"'Pivot Table Data'!I363","v":"-"},{"$f":"'Pivot Table Data'!J363","v":"Accessible (Van)"},{"$f":"'Pivot Table Data'!K363","v":0},{"$f":"'Pivot Table Data'!L363","v":0},{"$f":"'Pivot Table Data'!S363","v":3},{"$f":"'Pivot Table Data'!T363","v":3},{"$f":"IF('Pivot Table Data'!O363=\"Yes\", 'Pivot Table Data'!T363, \"\")","v":""}]
[{"$f":"'Pivot Table Data'!B364","v":0},{"$f":"'Pivot Table Data'!F364","v":"Scripps Institution of Oceanography"},{"$f":"'Pivot Table Data'!P364","v":"P014"},{"$f":"'Pivot Table Data'!I364","v":"-"},{"$f":"'Pivot Table Data'!J364","v":"B"},{"$f":"'Pivot Table Data'!K364","v":"Scripps Institution of Oceanography"},{"$f":"'Pivot Table Data'!L364","v":0},{"$f":"'Pivot Table Data'!S364","v":69},{"$f":"'Pivot Table Data'!T364","v":69},{"$f":"IF('Pivot Table Data'!O364=\"Yes\", 'Pivot Table Data'!T364, \"\")","v":69}]
[{"$f":"'Pivot Table Data'!B365","v":0},{"$f":"'Pivot Table Data'!F365","v":"Scripps Institution of Oceanography"},{"$f":"'Pivot Table Data'!P365","v":"P014"},{"$f":"'Pivot Table Data'!I365","v":"-"},{"$f":"'Pivot Table Data'!J365","v":"Electric Vehicle"},{"$f":"'Pivot Table Data'!K365","v":0},{"$f":"'Pivot Table Data'!L365","v":0},{"$f":"'Pivot Table Data'!S365","v":2},{"$f":"'Pivot Table Data'!T365","v":2},{"$f":"IF('Pivot Table Data'!O365=\"Yes\", 'Pivot Table Data'!T365, \"\")","v":""}]
[{"$f":"'Pivot Table Data'!B366","v":0},{"$f":"'Pivot Table Data'!F366","v":"Scripps Institution of Oceanography"},{"$f":"'Pivot Table Data'!P366","v":"P014"},{"$f":"'Pivot Table Data'!I366","v":"-"},{"$f":"'Pivot Table Data'!J366","v":"Motorcycle Section"},{"$f":"'Pivot Table Data'!K366","v":0},{"$f":"'Pivot Table Data'!L366","v":0},{"$f":"'Pivot Table Data'!S366","v":8},{"$f":"'Pivot Table Data'!T366","v":8},{"$f":"IF('Pivot Table Data'!O366=\"Yes\", 'Pivot Table Data'!T366, \"\")","v":""}]
[{"$f":"'Pivot Table Data'!B367","v":0},{"$f":"'Pivot Table Data'!F367","v":"Scripps Institution of Oceanography"},{"$f":"'Pivot Table Data'!P367","v":"P014"},{"$f":"'Pivot Table Data'!I367","v":"-"},{"$f":"'Pivot Table Data'!J367","v":"Reserved"},{"$f":"'Pivot Table Data'!K367","v":0},{"$f":"'Pivot Table Data'!L367","v":0},{"$f":"'Pivot Table Data'!S367","v":0},{"$f":"'Pivot Table Data'!T367","v":0},{"$f":"IF('Pivot Table Data'!O367=\"Yes\", 'Pivot Table Data'!T367, \"\")","v":""}]
[{"$f":"'Pivot Table Data'!B368","v":0},{"$f":"'Pivot Table Data'!F368","v":"Scripps Institution of Oceanography"},{"$f":"'Pivot Table Data'!P368","v":"P014"},{"$f":"'Pivot Table Data'!I368","v":"-"},{"$f":"'Pivot Table Data'!J368","v":"S"},{"$f":"'Pivot Table Data'!K368","v":0},{"$f":"'Pivot Table Data'!L368","v":0},{"$f":"'Pivot Table Data'!S368","v":26},{"$f":"'Pivot Table Data'!T368","v":26},{"$f":"IF('Pivot Table Data'!O368=\"Yes\", 'Pivot Table Data'!T368, \"\")","v":26}]
[{"$f":"'Pivot Table Data'!B369","v":0},{"$f":"'Pivot Table Data'!F369","v":"Scripps Institution of Oceanography"},{"$f":"'Pivot Table Data'!P369","v":"P014"},{"$f":"'Pivot Table Data'!I369","v":"-"},{"$f":"'Pivot Table Data'!J369","v":"Visitor"},{"$f":"'Pivot Table Data'!K369","v":0},{"$f":"'Pivot Table Data'!L369","v":0},{"$f":"'Pivot Table Data'!S369","v":4},{"$f":"'Pivot Table Data'!T369","v":4},{"$f":"IF('Pivot Table Data'!O369=\"Yes\", 'Pivot Table Data'!T369, \"\")","v":4}]
[{"$f":"'Pivot Table Data'!B370","v":0},{"$f":"'Pivot Table Data'!F370","v":"Scripps Institution of Oceanography"},{"$f":"'Pivot Table Data'!P370","v":"P015"},{"$f":"'Pivot Table Data'!I370","v":"-"},{"$f":"'Pivot Table Data'!J370","v":"Loading"},{"$f":"'Pivot Table Data'!K370","v":0},{"$f":"'Pivot Table Data'!L370","v":0},{"$f":"'Pivot Table Data'!S370","v":1},{"$f":"'Pivot Table Data'!T370","v":1},{"$f":"IF('Pivot Table Data'!O370=\"Yes\", 'Pivot Table Data'!T370, \"\")","v":""}]
[{"$f":"'Pivot Table Data'!B371","v":0},{"$f":"'Pivot Table Data'!F371","v":"Scripps Institution of Oceanography"},{"$f":"'Pivot Table Data'!P371","v":"P016"},{"$f":"'Pivot Table Data'!I371","v":"-"},{"$f":"'Pivot Table Data'!J371","v":"Accessible"},{"$f":"'Pivot Table Data'!K371","v":0},{"$f":"'Pivot Table Data'!L371","v":0},{"$f":"'Pivot Table Data'!S371","v":2},{"$f":"'Pivot Table Data'!T371","v":2},{"$f":"IF('Pivot Table Data'!O371=\"Yes\", 'Pivot Table Data'!T371, \"\")","v":""}]
[{"$f":"'Pivot Table Data'!B372","v":0},{"$f":"'Pivot Table Data'!F372","v":"Scripps Institution of Oceanography"},{"$f":"'Pivot Table Data'!P372","v":"P016"},{"$f":"'Pivot Table Data'!I372","v":"-"},{"$f":"'Pivot Table Data'!J372","v":"Accessible (Van)"},{"$f":"'Pivot Table Data'!K372","v":0},{"$f":"'Pivot Table Data'!L372","v":0},{"$f":"'Pivot Table Data'!S372","v":0},{"$f":"'Pivot Table Data'!T372","v":0},{"$f":"IF('Pivot Table Data'!O372=\"Yes\", 'Pivot Table Data'!T372, \"\")","v":""}]
[{"$f":"'Pivot Table Data'!B373","v":0},{"$f":"'Pivot Table Data'!F373","v":"Scripps Institution of Oceanography"},{"$f":"'Pivot Table Data'!P373","v":"P016"},{"$f":"'Pivot Table Data'!I373","v":"-"},{"$f":"'Pivot Table Data'!J373","v":"Motorcycle Section"},{"$f":"'Pivot Table Data'!K373","v":0},{"$f":"'Pivot Table Data'!L373","v":0},{"$f":"'Pivot Table Data'!S373","v":1},{"$f":"'Pivot Table Data'!T373","v":1},{"$f":"IF('Pivot Table Data'!O373=\"Yes\", 'Pivot Table Data'!T373, \"\")","v":""}]
[{"$f":"'Pivot Table Data'!B374","v":0},{"$f":"'Pivot Table Data'!F374","v":"Scripps Institution of Oceanography"},{"$f":"'Pivot Table Data'!P374","v":"P016"},{"$f":"'Pivot Table Data'!I374","v":"-"},{"$f":"'Pivot Table Data'!J374","v":"S"},{"$f":"'Pivot Table Data'!K374","v":"Scripps Institution of Oceanography"},{"$f":"'Pivot Table Data'!L374","v":0},{"$f":"'Pivot Table Data'!S374","v":58},{"$f":"'Pivot Table Data'!T374","v":58},{"$f":"IF('Pivot Table Data'!O374=\"Yes\", 'Pivot Table Data'!T374, \"\")","v":58}]
[{"$f":"'Pivot Table Data'!B375","v":0},{"$f":"'Pivot Table Data'!F375","v":"Scripps Institution of Oceanography"},{"$f":"'Pivot Table Data'!P375","v":"P017"},{"$f":"'Pivot Table Data'!I375","v":"-"},{"$f":"'Pivot Table Data'!J375","v":"Accessible"},{"$f":"'Pivot Table Data'!K375","v":0},{"$f":"'Pivot Table Data'!L375","v":0},{"$f":"'Pivot Table Data'!S375","v":2},{"$f":"'Pivot Table Data'!T375","v":2},{"$f":"IF('Pivot Table Data'!O375=\"Yes\", 'Pivot Table Data'!T375, \"\")","v":""}]
[{"$f":"'Pivot Table Data'!B376","v":0},{"$f":"'Pivot Table Data'!F376","v":"Scripps Institution of Oceanography"},{"$f":"'Pivot Table Data'!P376","v":"P017"},{"$f":"'Pivot Table Data'!I376","v":"-"},{"$f":"'Pivot Table Data'!J376","v":"Accessible (Van)"},{"$f":"'Pivot Table Data'!K376","v":0},{"$f":"'Pivot Table Data'!L376","v":0},{"$f":"'Pivot Table Data'!S376","v":7},{"$f":"'Pivot Table Data'!T376","v":7},{"$f":"IF('Pivot Table Data'!O376=\"Yes\", 'Pivot Table Data'!T376, \"\")","v":""}]
[{"$f":"'Pivot Table Data'!B377","v":0},{"$f":"'Pivot Table Data'!F377","v":"Scripps Institution of Oceanography"},{"$f":"'Pivot Table Data'!P377","v":"P017"},{"$f":"'Pivot Table Data'!I377","v":"-"},{"$f":"'Pivot Table Data'!J377","v":"Electric Vehicle"},{"$f":"'Pivot Table Data'!K377","v":0},{"$f":"'Pivot Table Data'!L377","v":0},{"$f":"'Pivot Table Data'!S377","v":2},{"$f":"'Pivot Table Data'!T377","v":2},{"$f":"IF('Pivot Table Data'!O377=\"Yes\", 'Pivot Table Data'!T377, \"\")","v":""}]
[{"$f":"'Pivot Table Data'!B378","v":0},{"$f":"'Pivot Table Data'!F378","v":"Scripps Institution of Oceanography"},{"$f":"'Pivot Table Data'!P378","v":"P017"},{"$f":"'Pivot Table Data'!I378","v":"-"},{"$f":"'Pivot Table Data'!J378","v":"Visitor"},{"$f":"'Pivot Table Data'!K378","v":"Birch Aquarium"},{"$f":"'Pivot Table Data'!L378","v":0},{"$f":"'Pivot Table Data'!S378","v":254},{"$f":"'Pivot Table Data'!T378","v":254},{"$f":"IF('Pivot Table Data'!O378=\"Yes\", 'Pivot Table Data'!T378, \"\")","v":254}]
[{"$f":"'Pivot Table Data'!B379","v":0},{"$f":"'Pivot Table Data'!F379","v":"Scripps Institution of Oceanography"},{"$f":"'Pivot Table Data'!P379","v":"P021"},{"$f":"'Pivot Table Data'!I379","v":"-"},{"$f":"'Pivot Table Data'!J379","v":"S"},{"$f":"'Pivot Table Data'!K379","v":"Scripps Institution of Oceanography"},{"$f":"'Pivot Table Data'!L379","v":0},{"$f":"'Pivot Table Data'!S379","v":75},{"$f":"'Pivot Table Data'!T379","v":75},{"$f":"IF('Pivot Table Data'!O379=\"Yes\", 'Pivot Table Data'!T379, \"\")","v":75}]
[{"$f":"'Pivot Table Data'!B380","v":0},{"$f":"'Pivot Table Data'!F380","v":"Scripps Institution of Oceanography"},{"$f":"'Pivot Table Data'!P380","v":"P032"},{"$f":"'Pivot Table Data'!I380","v":":Lower Lot"},{"$f":"'Pivot Table Data'!J380","v":"Visitor"},{"$f":"'Pivot Table Data'!K380","v":"Scripps Institution of Oceanography"},{"$f":"'Pivot Table Data'!L380","v":0},{"$f":"'Pivot Table Data'!S380","v":4},{"$f":"'Pivot Table Data'!T380","v":12},{"$f":"IF('Pivot Table Data'!O380=\"Yes\", 'Pivot Table Data'!T380, \"\")","v":12}]
[{"$f":"'Pivot Table Data'!B381","v":0},{"$f":"'Pivot Table Data'!F381","v":"Scripps Institution of Oceanography"},{"$f":"'Pivot Table Data'!P381","v":"P032"},{"$f":"'Pivot Table Data'!I381","v":"Loading Dock"},{"$f":"'Pivot Table Data'!J381","v":"Loading Zone"},{"$f":"'Pivot Table Data'!K381","v":"Scripps Institution of Oceanography"},{"$f":"'Pivot Table Data'!L381","v":0},{"$f":"'Pivot Table Data'!S381","v":4},{"$f":"'Pivot Table Data'!T381","v":4},{"$f":"IF('Pivot Table Data'!O381=\"Yes\", 'Pivot Table Data'!T381, \"\")","v":""}]
[{"$f":"'Pivot Table Data'!B382","v":0},{"$f":"'Pivot Table Data'!F382","v":"Scripps Institution of Oceanography"},{"$f":"'Pivot Table Data'!P382","v":"P032"},{"$f":"'Pivot Table Data'!I382","v":"Lower Lot"},{"$f":"'Pivot Table Data'!J382","v":"Accessible"},{"$f":"'Pivot Table Data'!K382","v":"Scripps Institution of Oceanography"},{"$f":"'Pivot Table Data'!L382","v":0},{"$f":"'Pivot Table Data'!S382","v":1},{"$f":"'Pivot Table Data'!T382","v":3},{"$f":"IF('Pivot Table Data'!O382=\"Yes\", 'Pivot Table Data'!T382, \"\")","v":3}]
[{"$f":"'Pivot Table Data'!B383","v":0},{"$f":"'Pivot Table Data'!F383","v":"Scripps Institution of Oceanography"},{"$f":"'Pivot Table Data'!P383","v":"P032"},{"$f":"'Pivot Table Data'!I383","v":"Upper Lot"},{"$f":"'Pivot Table Data'!J383","v":"Accessible"},{"$f":"'Pivot Table Data'!K383","v":"Scripps Institution of Oceanography"},{"$f":"'Pivot Table Data'!L383","v":0},{"$f":"'Pivot Table Data'!S383","v":2},{"$f":"'Pivot Table Data'!T383","v":""},{"$f":"IF('Pivot Table Data'!O383=\"Yes\", 'Pivot Table Data'!T383, \"\")","v":""}]
[{"$f":"'Pivot Table Data'!B384","v":0},{"$f":"'Pivot Table Data'!F384","v":"Scripps Institution of Oceanography"},{"$f":"'Pivot Table Data'!P384","v":"P032"},{"$f":"'Pivot Table Data'!I384","v":"Upper Lot"},{"$f":"'Pivot Table Data'!J384","v":"B"},{"$f":"'Pivot Table Data'!K384","v":"Scripps Institution of Oceanography"},{"$f":"'Pivot Table Data'!L384","v":0},{"$f":"'Pivot Table Data'!S384","v":9},{"$f":"'Pivot Table Data'!T384","v":9},{"$f":"IF('Pivot Table Data'!O384=\"Yes\", 'Pivot Table Data'!T384, \"\")","v":9}]
[{"$f":"'Pivot Table Data'!B385","v":0},{"$f":"'Pivot Table Data'!F385","v":"Scripps Institution of Oceanography"},{"$f":"'Pivot Table Data'!P385","v":"P032"},{"$f":"'Pivot Table Data'!I385","v":"Upper Lot"},{"$f":"'Pivot Table Data'!J385","v":"Construction"},{"$f":"'Pivot Table Data'!K385","v":"Scripps Institution of Oceanography"},{"$f":"'Pivot Table Data'!L385","v":0},{"$f":"'Pivot Table Data'!S385","v":4},{"$f":"'Pivot Table Data'!T385","v":4},{"$f":"IF('Pivot Table Data'!O385=\"Yes\", 'Pivot Table Data'!T385, \"\")","v":""}]
[{"$f":"'Pivot Table Data'!B386","v":0},{"$f":"'Pivot Table Data'!F386","v":"Scripps Institution of Oceanography"},{"$f":"'Pivot Table Data'!P386","v":"P032"},{"$f":"'Pivot Table Data'!I386","v":"Upper Lot"},{"$f":"'Pivot Table Data'!J386","v":"Electric Vehicle"},{"$f":"'Pivot Table Data'!K386","v":"Scripps Institution of Oceanography"},{"$f":"'Pivot Table Data'!L386","v":0},{"$f":"'Pivot Table Data'!S386","v":2},{"$f":"'Pivot Table Data'!T386","v":2},{"$f":"IF('Pivot Table Data'!O386=\"Yes\", 'Pivot Table Data'!T386, \"\")","v":2}]
[{"$f":"'Pivot Table Data'!B387","v":0},{"$f":"'Pivot Table Data'!F387","v":"Scripps Institution of Oceanography"},{"$f":"'Pivot Table Data'!P387","v":"P032"},{"$f":"'Pivot Table Data'!I387","v":"Upper Lot"},{"$f":"'Pivot Table Data'!J387","v":"Visitor"},{"$f":"'Pivot Table Data'!K387","v":"Scripps Institution of Oceanography"},{"$f":"'Pivot Table Data'!L387","v":0},{"$f":"'Pivot Table Data'!S387","v":8},{"$f":"'Pivot Table Data'!T387","v":""},{"$f":"IF('Pivot Table Data'!O387=\"Yes\", 'Pivot Table Data'!T387, \"\")","v":""}]
[{"$f":"'Pivot Table Data'!B388","v":0},{"$f":"'Pivot Table Data'!F388","v":8980},{"$f":"'Pivot Table Data'!P388","v":8980},{"$f":"'Pivot Table Data'!I388","v":"B2"},{"$f":"'Pivot Table Data'!J388","v":"A"},{"$f":"'Pivot Table Data'!K388","v":0},{"$f":"'Pivot Table Data'!L388","v":0},{"$f":"'Pivot Table Data'!S388","v":0},{"$f":"'Pivot Table Data'!T388","v":26},{"$f":"IF('Pivot Table Data'!O388=\"Yes\", 'Pivot Table Data'!T388, \"\")","v":26}]
[{"$f":"'Pivot Table Data'!B389","v":0},{"$f":"'Pivot Table Data'!F389","v":8980},{"$f":"'Pivot Table Data'!P389","v":8980},{"$f":"'Pivot Table Data'!I389","v":"B2"},{"$f":"'Pivot Table Data'!J389","v":"Accessible"},{"$f":"'Pivot Table Data'!K389","v":0},{"$f":"'Pivot Table Data'!L389","v":0},{"$f":"'Pivot Table Data'!S389","v":0},{"$f":"'Pivot Table Data'!T389","v":9},{"$f":"IF('Pivot Table Data'!O389=\"Yes\", 'Pivot Table Data'!T389, \"\")","v":""}]
[{"$f":"'Pivot Table Data'!B390","v":0},{"$f":"'Pivot Table Data'!F390","v":8980},{"$f":"'Pivot Table Data'!P390","v":8980},{"$f":"'Pivot Table Data'!I390","v":"B2"},{"$f":"'Pivot Table Data'!J390","v":"Accessible (Van)"},{"$f":"'Pivot Table Data'!K390","v":0},{"$f":"'Pivot Table Data'!L390","v":0},{"$f":"'Pivot Table Data'!S390","v":0},{"$f":"'Pivot Table Data'!T390","v":0},{"$f":"IF('Pivot Table Data'!O390=\"Yes\", 'Pivot Table Data'!T390, \"\")","v":""}]
[{"$f":"'Pivot Table Data'!B391","v":0},{"$f":"'Pivot Table Data'!F391","v":8980},{"$f":"'Pivot Table Data'!P391","v":8980},{"$f":"'Pivot Table Data'!I391","v":"B2"},{"$f":"'Pivot Table Data'!J391","v":"B"},{"$f":"'Pivot Table Data'!K391","v":0},{"$f":"'Pivot Table Data'!L391","v":0},{"$f":"'Pivot Table Data'!S391","v":0},{"$f":"'Pivot Table Data'!T391","v":33},{"$f":"IF('Pivot Table Data'!O391=\"Yes\", 'Pivot Table Data'!T391, \"\")","v":33}]
[{"$f":"'Pivot Table Data'!B392","v":0},{"$f":"'Pivot Table Data'!F392","v":8980},{"$f":"'Pivot Table Data'!P392","v":8980},{"$f":"'Pivot Table Data'!I392","v":"B2"},{"$f":"'Pivot Table Data'!J392","v":"Carpool"},{"$f":"'Pivot Table Data'!K392","v":0},{"$f":"'Pivot Table Data'!L392","v":0},{"$f":"'Pivot Table Data'!S392","v":0},{"$f":"'Pivot Table Data'!T392","v":19},{"$f":"IF('Pivot Table Data'!O392=\"Yes\", 'Pivot Table Data'!T392, \"\")","v":19}]
[{"$f":"'Pivot Table Data'!B393","v":0},{"$f":"'Pivot Table Data'!F393","v":8980},{"$f":"'Pivot Table Data'!P393","v":8980},{"$f":"'Pivot Table Data'!I393","v":"B2"},{"$f":"'Pivot Table Data'!J393","v":"Electric Vehicle"},{"$f":"'Pivot Table Data'!K393","v":0},{"$f":"'Pivot Table Data'!L393","v":0},{"$f":"'Pivot Table Data'!S393","v":0},{"$f":"'Pivot Table Data'!T393","v":18},{"$f":"IF('Pivot Table Data'!O393=\"Yes\", 'Pivot Table Data'!T393, \"\")","v":""}]
[{"$f":"'Pivot Table Data'!B394","v":0},{"$f":"'Pivot Table Data'!F394","v":8980},{"$f":"'Pivot Table Data'!P394","v":8980},{"$f":"'Pivot Table Data'!I394","v":"B2"},{"$f":"'Pivot Table Data'!J394","v":"Motorcycle Section"},{"$f":"'Pivot Table Data'!K394","v":0},{"$f":"'Pivot Table Data'!L394","v":0},{"$f":"'Pivot Table Data'!S394","v":0},{"$f":"'Pivot Table Data'!T394","v":10},{"$f":"IF('Pivot Table Data'!O394=\"Yes\", 'Pivot Table Data'!T394, \"\")","v":""}]
[{"$f":"'Pivot Table Data'!B395","v":0},{"$f":"'Pivot Table Data'!F395","v":8980},{"$f":"'Pivot Table Data'!P395","v":8980},{"$f":"'Pivot Table Data'!I395","v":"B2"},{"$f":"'Pivot Table Data'!J395","v":"Reserved"},{"$f":"'Pivot Table Data'!K395","v":0},{"$f":"'Pivot Table Data'!L395","v":0},{"$f":"'Pivot Table Data'!S395","v":0},{"$f":"'Pivot Table Data'!T395","v":5},{"$f":"IF('Pivot Table Data'!O395=\"Yes\", 'Pivot Table Data'!T395, \"\")","v":""}]
[{"$f":"'Pivot Table Data'!B396","v":0},{"$f":"'Pivot Table Data'!F396","v":8980},{"$f":"'Pivot Table Data'!P396","v":8980},{"$f":"'Pivot Table Data'!I396","v":"B2"},{"$f":"'Pivot Table Data'!J396","v":"S"},{"$f":"'Pivot Table Data'!K396","v":0},{"$f":"'Pivot Table Data'!L396","v":0},{"$f":"'Pivot Table Data'!S396","v":57},{"$f":"'Pivot Table Data'!T396","v":98},{"$f":"IF('Pivot Table Data'!O396=\"Yes\", 'Pivot Table Data'!T396, \"\")","v":98}]
[{"$f":"'Pivot Table Data'!B397","v":0},{"$f":"'Pivot Table Data'!F397","v":8980},{"$f":"'Pivot Table Data'!P397","v":8980},{"$f":"'Pivot Table Data'!I397","v":"B2"},{"$f":"'Pivot Table Data'!J397","v":"UC Cart"},{"$f":"'Pivot Table Data'!K397","v":0},{"$f":"'Pivot Table Data'!L397","v":0},{"$f":"'Pivot Table Data'!S397","v":0},{"$f":"'Pivot Table Data'!T397","v":1},{"$f":"IF('Pivot Table Data'!O397=\"Yes\", 'Pivot Table Data'!T397, \"\")","v":""}]
[{"$f":"'Pivot Table Data'!B398","v":0},{"$f":"'Pivot Table Data'!F398","v":8980},{"$f":"'Pivot Table Data'!P398","v":8980},{"$f":"'Pivot Table Data'!I398","v":"B2"},{"$f":"'Pivot Table Data'!J398","v":"UC Vehicle"},{"$f":"'Pivot Table Data'!K398","v":0},{"$f":"'Pivot Table Data'!L398","v":0},{"$f":"'Pivot Table Data'!S398","v":0},{"$f":"'Pivot Table Data'!T398","v":1},{"$f":"IF('Pivot Table Data'!O398=\"Yes\", 'Pivot Table Data'!T398, \"\")","v":""}]
[{"$f":"'Pivot Table Data'!B399","v":0},{"$f":"'Pivot Table Data'!F399","v":8980},{"$f":"'Pivot Table Data'!P399","v":8980},{"$f":"'Pivot Table Data'!I399","v":"B2"},{"$f":"'Pivot Table Data'!J399","v":"Visitor"},{"$f":"'Pivot Table Data'!K399","v":0},{"$f":"'Pivot Table Data'!L399","v":0},{"$f":"'Pivot Table Data'!S399","v":0},{"$f":"'Pivot Table Data'!T399","v":52},{"$f":"IF('Pivot Table Data'!O399=\"Yes\", 'Pivot Table Data'!T399, \"\")","v":52}]
[{"$f":"'Pivot Table Data'!B400","v":0},{"$f":"'Pivot Table Data'!F400","v":8980},{"$f":"'Pivot Table Data'!P400","v":8980},{"$f":"'Pivot Table Data'!I400","v":"B1"},{"$f":"'Pivot Table Data'!J400","v":"A"},{"$f":"'Pivot Table Data'!K400","v":0},{"$f":"'Pivot Table Data'!L400","v":0},{"$f":"'Pivot Table Data'!S400","v":26},{"$f":"'Pivot Table Data'!T400","v":""},{"$f":"IF('Pivot Table Data'!O400=\"Yes\", 'Pivot Table Data'!T400, \"\")","v":""}]
[{"$f":"'Pivot Table Data'!B401","v":0},{"$f":"'Pivot Table Data'!F401","v":8980},{"$f":"'Pivot Table Data'!P401","v":8980},{"$f":"'Pivot Table Data'!I401","v":"B1"},{"$f":"'Pivot Table Data'!J401","v":"Accessible"},{"$f":"'Pivot Table Data'!K401","v":0},{"$f":"'Pivot Table Data'!L401","v":0},{"$f":"'Pivot Table Data'!S401","v":0},{"$f":"'Pivot Table Data'!T401","v":""},{"$f":"IF('Pivot Table Data'!O401=\"Yes\", 'Pivot Table Data'!T401, \"\")","v":""}]
[{"$f":"'Pivot Table Data'!B402","v":0},{"$f":"'Pivot Table Data'!F402","v":8980},{"$f":"'Pivot Table Data'!P402","v":8980},{"$f":"'Pivot Table Data'!I402","v":"B1"},{"$f":"'Pivot Table Data'!J402","v":"Accessible (Van)"},{"$f":"'Pivot Table Data'!K402","v":0},{"$f":"'Pivot Table Data'!L402","v":0},{"$f":"'Pivot Table Data'!S402","v":0},{"$f":"'Pivot Table Data'!T402","v":""},{"$f":"IF('Pivot Table Data'!O402=\"Yes\", 'Pivot Table Data'!T402, \"\")","v":""}]
[{"$f":"'Pivot Table Data'!B403","v":0},{"$f":"'Pivot Table Data'!F403","v":8980},{"$f":"'Pivot Table Data'!P403","v":8980},{"$f":"'Pivot Table Data'!I403","v":"B1"},{"$f":"'Pivot Table Data'!J403","v":"B"},{"$f":"'Pivot Table Data'!K403","v":0},{"$f":"'Pivot Table Data'!L403","v":0},{"$f":"'Pivot Table Data'!S403","v":31},{"$f":"'Pivot Table Data'!T403","v":""},{"$f":"IF('Pivot Table Data'!O403=\"Yes\", 'Pivot Table Data'!T403, \"\")","v":""}]
[{"$f":"'Pivot Table Data'!B404","v":0},{"$f":"'Pivot Table Data'!F404","v":8980},{"$f":"'Pivot Table Data'!P404","v":8980},{"$f":"'Pivot Table Data'!I404","v":"B1"},{"$f":"'Pivot Table Data'!J404","v":"Carpool"},{"$f":"'Pivot Table Data'!K404","v":0},{"$f":"'Pivot Table Data'!L404","v":0},{"$f":"'Pivot Table Data'!S404","v":0},{"$f":"'Pivot Table Data'!T404","v":""},{"$f":"IF('Pivot Table Data'!O404=\"Yes\", 'Pivot Table Data'!T404, \"\")","v":""}]
[{"$f":"'Pivot Table Data'!B405","v":0},{"$f":"'Pivot Table Data'!F405","v":8980},{"$f":"'Pivot Table Data'!P405","v":8980},{"$f":"'Pivot Table Data'!I405","v":"B1"},{"$f":"'Pivot Table Data'!J405","v":"Electric Vehicle"},{"$f":"'Pivot Table Data'!K405","v":0},{"$f":"'Pivot Table Data'!L405","v":0},{"$f":"'Pivot Table Data'!S405","v":0},{"$f":"'Pivot Table Data'!T405","v":""},{"$f":"IF('Pivot Table Data'!O405=\"Yes\", 'Pivot Table Data'!T405, \"\")","v":""}]
[{"$f":"'Pivot Table Data'!B406","v":0},{"$f":"'Pivot Table Data'!F406","v":8980},{"$f":"'Pivot Table Data'!P406","v":8980},{"$f":"'Pivot Table Data'!I406","v":"B1"},{"$f":"'Pivot Table Data'!J406","v":"Motorcycle Section"},{"$f":"'Pivot Table Data'!K406","v":0},{"$f":"'Pivot Table Data'!L406","v":0},{"$f":"'Pivot Table Data'!S406","v":0},{"$f":"'Pivot Table Data'!T406","v":""},{"$f":"IF('Pivot Table Data'!O406=\"Yes\", 'Pivot Table Data'!T406, \"\")","v":""}]
[{"$f":"'Pivot Table Data'!B407","v":0},{"$f":"'Pivot Table Data'!F407","v":8980},{"$f":"'Pivot Table Data'!P407","v":8980},{"$f":"'Pivot Table Data'!I407","v":"B1"},{"$f":"'Pivot Table Data'!J407","v":"Reserved"},{"$f":"'Pivot Table Data'!K407","v":0},{"$f":"'Pivot Table Data'!L407","v":0},{"$f":"'Pivot Table Data'!S407","v":0},{"$f":"'Pivot Table Data'!T407","v":""},{"$f":"IF('Pivot Table Data'!O407=\"Yes\", 'Pivot Table Data'!T407, \"\")","v":""}]
[{"$f":"'Pivot Table Data'!B408","v":0},{"$f":"'Pivot Table Data'!F408","v":8980},{"$f":"'Pivot Table Data'!P408","v":8980},{"$f":"'Pivot Table Data'!I408","v":"B1"},{"$f":"'Pivot Table Data'!J408","v":"S"},{"$f":"'Pivot Table Data'!K408","v":0},{"$f":"'Pivot Table Data'!L408","v":0},{"$f":"'Pivot Table Data'!S408","v":0},{"$f":"'Pivot Table Data'!T408","v":""},{"$f":"IF('Pivot Table Data'!O408=\"Yes\", 'Pivot Table Data'!T408, \"\")","v":""}]
[{"$f":"'Pivot Table Data'!B409","v":0},{"$f":"'Pivot Table Data'!F409","v":8980},{"$f":"'Pivot Table Data'!P409","v":8980},{"$f":"'Pivot Table Data'!I409","v":"B1"},{"$f":"'Pivot Table Data'!J409","v":"UC Cart"},{"$f":"'Pivot Table Data'!K409","v":0},{"$f":"'Pivot Table Data'!L409","v":0},{"$f":"'Pivot Table Data'!S409","v":0},{"$f":"'Pivot Table Data'!T409","v":""},{"$f":"IF('Pivot Table Data'!O409=\"Yes\", 'Pivot Table Data'!T409, \"\")","v":""}]
[{"$f":"'Pivot Table Data'!B410","v":0},{"$f":"'Pivot Table Data'!F410","v":8980},{"$f":"'Pivot Table Data'!P410","v":8980},{"$f":"'Pivot Table Data'!I410","v":"B1"},{"$f":"'Pivot Table Data'!J410","v":"UC Vehicle"},{"$f":"'Pivot Table Data'!K410","v":0},{"$f":"'Pivot Table Data'!L410","v":0},{"$f":"'Pivot Table Data'!S410","v":0},{"$f":"'Pivot Table Data'!T410","v":""},{"$f":"IF('Pivot Table Data'!O410=\"Yes\", 'Pivot Table Data'!T410, \"\")","v":""}]
[{"$f":"'Pivot Table Data'!B411","v":0},{"$f":"'Pivot Table Data'!F411","v":8980},{"$f":"'Pivot Table Data'!P411","v":8980},{"$f":"'Pivot Table Data'!I411","v":"B1"},{"$f":"'Pivot Table Data'!J411","v":"Visitor"},{"$f":"'Pivot Table Data'!K411","v":0},{"$f":"'Pivot Table Data'!L411","v":0},{"$f":"'Pivot Table Data'!S411","v":0},{"$f":"'Pivot Table Data'!T411","v":""},{"$f":"IF('Pivot Table Data'!O411=\"Yes\", 'Pivot Table Data'!T411, \"\")","v":""}]
[{"$f":"'Pivot Table Data'!B412","v":0},{"$f":"'Pivot Table Data'!F412","v":8980},{"$f":"'Pivot Table Data'!P412","v":8980},{"$f":"'Pivot Table Data'!I412","v":"Ground Floor"},{"$f":"'Pivot Table Data'!J412","v":"A"},{"$f":"'Pivot Table Data'!K412","v":0},{"$f":"'Pivot Table Data'!L412","v":0},{"$f":"'Pivot Table Data'!S412","v":0},{"$f":"'Pivot Table Data'!T412","v":""},{"$f":"IF('Pivot Table Data'!O412=\"Yes\", 'Pivot Table Data'!T412, \"\")","v":""}]
[{"$f":"'Pivot Table Data'!B413","v":0},{"$f":"'Pivot Table Data'!F413","v":8980},{"$f":"'Pivot Table Data'!P413","v":8980},{"$f":"'Pivot Table Data'!I413","v":"Ground Floor"},{"$f":"'Pivot Table Data'!J413","v":"Accessible"},{"$f":"'Pivot Table Data'!K413","v":0},{"$f":"'Pivot Table Data'!L413","v":0},{"$f":"'Pivot Table Data'!S413","v":7},{"$f":"'Pivot Table Data'!T413","v":""},{"$f":"IF('Pivot Table Data'!O413=\"Yes\", 'Pivot Table Data'!T413, \"\")","v":""}]
[{"$f":"'Pivot Table Data'!B414","v":0},{"$f":"'Pivot Table Data'!F414","v":8980},{"$f":"'Pivot Table Data'!P414","v":8980},{"$f":"'Pivot Table Data'!I414","v":"Ground Floor"},{"$f":"'Pivot Table Data'!J414","v":"Accessible (Van)"},{"$f":"'Pivot Table Data'!K414","v":0},{"$f":"'Pivot Table Data'!L414","v":0},{"$f":"'Pivot Table Data'!S414","v":0},{"$f":"'Pivot Table Data'!T414","v":""},{"$f":"IF('Pivot Table Data'!O414=\"Yes\", 'Pivot Table Data'!T414, \"\")","v":""}]
[{"$f":"'Pivot Table Data'!B415","v":0},{"$f":"'Pivot Table Data'!F415","v":8980},{"$f":"'Pivot Table Data'!P415","v":8980},{"$f":"'Pivot Table Data'!I415","v":"Ground Floor"},{"$f":"'Pivot Table Data'!J415","v":"B"},{"$f":"'Pivot Table Data'!K415","v":0},{"$f":"'Pivot Table Data'!L415","v":0},{"$f":"'Pivot Table Data'!S415","v":2},{"$f":"'Pivot Table Data'!T415","v":""},{"$f":"IF('Pivot Table Data'!O415=\"Yes\", 'Pivot Table Data'!T415, \"\")","v":""}]
[{"$f":"'Pivot Table Data'!B416","v":0},{"$f":"'Pivot Table Data'!F416","v":8980},{"$f":"'Pivot Table Data'!P416","v":8980},{"$f":"'Pivot Table Data'!I416","v":"Ground Floor"},{"$f":"'Pivot Table Data'!J416","v":"Carpool"},{"$f":"'Pivot Table Data'!K416","v":0},{"$f":"'Pivot Table Data'!L416","v":0},{"$f":"'Pivot Table Data'!S416","v":0},{"$f":"'Pivot Table Data'!T416","v":""},{"$f":"IF('Pivot Table Data'!O416=\"Yes\", 'Pivot Table Data'!T416, \"\")","v":""}]
[{"$f":"'Pivot Table Data'!B417","v":0},{"$f":"'Pivot Table Data'!F417","v":8980},{"$f":"'Pivot Table Data'!P417","v":8980},{"$f":"'Pivot Table Data'!I417","v":"Ground Floor"},{"$f":"'Pivot Table Data'!J417","v":"Electric Vehicle"},{"$f":"'Pivot Table Data'!K417","v":0},{"$f":"'Pivot Table Data'!L417","v":0},{"$f":"'Pivot Table Data'!S417","v":12},{"$f":"'Pivot Table Data'!T417","v":""},{"$f":"IF('Pivot Table Data'!O417=\"Yes\", 'Pivot Table Data'!T417, \"\")","v":""}]
[{"$f":"'Pivot Table Data'!B418","v":0},{"$f":"'Pivot Table Data'!F418","v":8980},{"$f":"'Pivot Table Data'!P418","v":8980},{"$f":"'Pivot Table Data'!I418","v":"Ground Floor"},{"$f":"'Pivot Table Data'!J418","v":"Motorcycle Section"},{"$f":"'Pivot Table Data'!K418","v":0},{"$f":"'Pivot Table Data'!L418","v":0},{"$f":"'Pivot Table Data'!S418","v":10},{"$f":"'Pivot Table Data'!T418","v":""},{"$f":"IF('Pivot Table Data'!O418=\"Yes\", 'Pivot Table Data'!T418, \"\")","v":""}]
[{"$f":"'Pivot Table Data'!B419","v":0},{"$f":"'Pivot Table Data'!F419","v":8980},{"$f":"'Pivot Table Data'!P419","v":8980},{"$f":"'Pivot Table Data'!I419","v":"Ground Floor"},{"$f":"'Pivot Table Data'!J419","v":"Reserved"},{"$f":"'Pivot Table Data'!K419","v":0},{"$f":"'Pivot Table Data'!L419","v":0},{"$f":"'Pivot Table Data'!S419","v":0},{"$f":"'Pivot Table Data'!T419","v":""},{"$f":"IF('Pivot Table Data'!O419=\"Yes\", 'Pivot Table Data'!T419, \"\")","v":""}]
[{"$f":"'Pivot Table Data'!B420","v":0},{"$f":"'Pivot Table Data'!F420","v":8980},{"$f":"'Pivot Table Data'!P420","v":8980},{"$f":"'Pivot Table Data'!I420","v":"Ground Floor"},{"$f":"'Pivot Table Data'!J420","v":"S"},{"$f":"'Pivot Table Data'!K420","v":0},{"$f":"'Pivot Table Data'!L420","v":0},{"$f":"'Pivot Table Data'!S420","v":0},{"$f":"'Pivot Table Data'!T420","v":""},{"$f":"IF('Pivot Table Data'!O420=\"Yes\", 'Pivot Table Data'!T420, \"\")","v":""}]
[{"$f":"'Pivot Table Data'!B421","v":0},{"$f":"'Pivot Table Data'!F421","v":8980},{"$f":"'Pivot Table Data'!P421","v":8980},{"$f":"'Pivot Table Data'!I421","v":"Ground Floor"},{"$f":"'Pivot Table Data'!J421","v":"UC Cart"},{"$f":"'Pivot Table Data'!K421","v":0},{"$f":"'Pivot Table Data'!L421","v":0},{"$f":"'Pivot Table Data'!S421","v":0},{"$f":"'Pivot Table Data'!T421","v":""},{"$f":"IF('Pivot Table Data'!O421=\"Yes\", 'Pivot Table Data'!T421, \"\")","v":""}]
[{"$f":"'Pivot Table Data'!B422","v":0},{"$f":"'Pivot Table Data'!F422","v":8980},{"$f":"'Pivot Table Data'!P422","v":8980},{"$f":"'Pivot Table Data'!I422","v":"Ground Floor"},{"$f":"'Pivot Table Data'!J422","v":"UC Vehicle"},{"$f":"'Pivot Table Data'!K422","v":0},{"$f":"'Pivot Table Data'!L422","v":0},{"$f":"'Pivot Table Data'!S422","v":0},{"$f":"'Pivot Table Data'!T422","v":""},{"$f":"IF('Pivot Table Data'!O422=\"Yes\", 'Pivot Table Data'!T422, \"\")","v":""}]
[{"$f":"'Pivot Table Data'!B423","v":0},{"$f":"'Pivot Table Data'!F423","v":8980},{"$f":"'Pivot Table Data'!P423","v":8980},{"$f":"'Pivot Table Data'!I423","v":"Ground Floor"},{"$f":"'Pivot Table Data'!J423","v":"Visitor"},{"$f":"'Pivot Table Data'!K423","v":0},{"$f":"'Pivot Table Data'!L423","v":0},{"$f":"'Pivot Table Data'!S423","v":18},{"$f":"'Pivot Table Data'!T423","v":""},{"$f":"IF('Pivot Table Data'!O423=\"Yes\", 'Pivot Table Data'!T423, \"\")","v":""}]
[{"$f":"'Pivot Table Data'!B424","v":0},{"$f":"'Pivot Table Data'!F424","v":8980},{"$f":"'Pivot Table Data'!P424","v":8980},{"$f":"'Pivot Table Data'!I424","v":"L2"},{"$f":"'Pivot Table Data'!J424","v":"A"},{"$f":"'Pivot Table Data'!K424","v":0},{"$f":"'Pivot Table Data'!L424","v":0},{"$f":"'Pivot Table Data'!S424","v":0},{"$f":"'Pivot Table Data'!T424","v":""},{"$f":"IF('Pivot Table Data'!O424=\"Yes\", 'Pivot Table Data'!T424, \"\")","v":""}]
[{"$f":"'Pivot Table Data'!B425","v":0},{"$f":"'Pivot Table Data'!F425","v":8980},{"$f":"'Pivot Table Data'!P425","v":8980},{"$f":"'Pivot Table Data'!I425","v":"L2"},{"$f":"'Pivot Table Data'!J425","v":"Accessible"},{"$f":"'Pivot Table Data'!K425","v":0},{"$f":"'Pivot Table Data'!L425","v":0},{"$f":"'Pivot Table Data'!S425","v":0},{"$f":"'Pivot Table Data'!T425","v":""},{"$f":"IF('Pivot Table Data'!O425=\"Yes\", 'Pivot Table Data'!T425, \"\")","v":""}]
[{"$f":"'Pivot Table Data'!B426","v":0},{"$f":"'Pivot Table Data'!F426","v":8980},{"$f":"'Pivot Table Data'!P426","v":8980},{"$f":"'Pivot Table Data'!I426","v":"L2"},{"$f":"'Pivot Table Data'!J426","v":"Accessible (Van)"},{"$f":"'Pivot Table Data'!K426","v":0},{"$f":"'Pivot Table Data'!L426","v":0},{"$f":"'Pivot Table Data'!S426","v":0},{"$f":"'Pivot Table Data'!T426","v":""},{"$f":"IF('Pivot Table Data'!O426=\"Yes\", 'Pivot Table Data'!T426, \"\")","v":""}]
[{"$f":"'Pivot Table Data'!B427","v":0},{"$f":"'Pivot Table Data'!F427","v":8980},{"$f":"'Pivot Table Data'!P427","v":8980},{"$f":"'Pivot Table Data'!I427","v":"L2"},{"$f":"'Pivot Table Data'!J427","v":"B"},{"$f":"'Pivot Table Data'!K427","v":0},{"$f":"'Pivot Table Data'!L427","v":0},{"$f":"'Pivot Table Data'!S427","v":0},{"$f":"'Pivot Table Data'!T427","v":""},{"$f":"IF('Pivot Table Data'!O427=\"Yes\", 'Pivot Table Data'!T427, \"\")","v":""}]
[{"$f":"'Pivot Table Data'!B428","v":0},{"$f":"'Pivot Table Data'!F428","v":8980},{"$f":"'Pivot Table Data'!P428","v":8980},{"$f":"'Pivot Table Data'!I428","v":"L2"},{"$f":"'Pivot Table Data'!J428","v":"Carpool"},{"$f":"'Pivot Table Data'!K428","v":0},{"$f":"'Pivot Table Data'!L428","v":0},{"$f":"'Pivot Table Data'!S428","v":19},{"$f":"'Pivot Table Data'!T428","v":""},{"$f":"IF('Pivot Table Data'!O428=\"Yes\", 'Pivot Table Data'!T428, \"\")","v":""}]
[{"$f":"'Pivot Table Data'!B429","v":0},{"$f":"'Pivot Table Data'!F429","v":8980},{"$f":"'Pivot Table Data'!P429","v":8980},{"$f":"'Pivot Table Data'!I429","v":"L2"},{"$f":"'Pivot Table Data'!J429","v":"Electric Vehicle"},{"$f":"'Pivot Table Data'!K429","v":0},{"$f":"'Pivot Table Data'!L429","v":0},{"$f":"'Pivot Table Data'!S429","v":6},{"$f":"'Pivot Table Data'!T429","v":""},{"$f":"IF('Pivot Table Data'!O429=\"Yes\", 'Pivot Table Data'!T429, \"\")","v":""}]
[{"$f":"'Pivot Table Data'!B430","v":0},{"$f":"'Pivot Table Data'!F430","v":8980},{"$f":"'Pivot Table Data'!P430","v":8980},{"$f":"'Pivot Table Data'!I430","v":"L2"},{"$f":"'Pivot Table Data'!J430","v":"Motorcycle Section"},{"$f":"'Pivot Table Data'!K430","v":0},{"$f":"'Pivot Table Data'!L430","v":0},{"$f":"'Pivot Table Data'!S430","v":0},{"$f":"'Pivot Table Data'!T430","v":""},{"$f":"IF('Pivot Table Data'!O430=\"Yes\", 'Pivot Table Data'!T430, \"\")","v":""}]
[{"$f":"'Pivot Table Data'!B431","v":0},{"$f":"'Pivot Table Data'!F431","v":8980},{"$f":"'Pivot Table Data'!P431","v":8980},{"$f":"'Pivot Table Data'!I431","v":"L2"},{"$f":"'Pivot Table Data'!J431","v":"Reserved"},{"$f":"'Pivot Table Data'!K431","v":0},{"$f":"'Pivot Table Data'!L431","v":0},{"$f":"'Pivot Table Data'!S431","v":5},{"$f":"'Pivot Table Data'!T431","v":""},{"$f":"IF('Pivot Table Data'!O431=\"Yes\", 'Pivot Table Data'!T431, \"\")","v":""}]
[{"$f":"'Pivot Table Data'!B432","v":0},{"$f":"'Pivot Table Data'!F432","v":8980},{"$f":"'Pivot Table Data'!P432","v":8980},{"$f":"'Pivot Table Data'!I432","v":"L2"},{"$f":"'Pivot Table Data'!J432","v":"S"},{"$f":"'Pivot Table Data'!K432","v":0},{"$f":"'Pivot Table Data'!L432","v":0},{"$f":"'Pivot Table Data'!S432","v":0},{"$f":"'Pivot Table Data'!T432","v":""},{"$f":"IF('Pivot Table Data'!O432=\"Yes\", 'Pivot Table Data'!T432, \"\")","v":""}]
[{"$f":"'Pivot Table Data'!B433","v":0},{"$f":"'Pivot Table Data'!F433","v":8980},{"$f":"'Pivot Table Data'!P433","v":8980},{"$f":"'Pivot Table Data'!I433","v":"L2"},{"$f":"'Pivot Table Data'!J433","v":"UC Cart"},{"$f":"'Pivot Table Data'!K433","v":0},{"$f":"'Pivot Table Data'!L433","v":0},{"$f":"'Pivot Table Data'!S433","v":1},{"$f":"'Pivot Table Data'!T433","v":""},{"$f":"IF('Pivot Table Data'!O433=\"Yes\", 'Pivot Table Data'!T433, \"\")","v":""}]
[{"$f":"'Pivot Table Data'!B434","v":0},{"$f":"'Pivot Table Data'!F434","v":8980},{"$f":"'Pivot Table Data'!P434","v":8980},{"$f":"'Pivot Table Data'!I434","v":"L2"},{"$f":"'Pivot Table Data'!J434","v":"UC Vehicle"},{"$f":"'Pivot Table Data'!K434","v":0},{"$f":"'Pivot Table Data'!L434","v":0},{"$f":"'Pivot Table Data'!S434","v":1},{"$f":"'Pivot Table Data'!T434","v":""},{"$f":"IF('Pivot Table Data'!O434=\"Yes\", 'Pivot Table Data'!T434, \"\")","v":""}]
[{"$f":"'Pivot Table Data'!B435","v":0},{"$f":"'Pivot Table Data'!F435","v":8980},{"$f":"'Pivot Table Data'!P435","v":8980},{"$f":"'Pivot Table Data'!I435","v":"L2"},{"$f":"'Pivot Table Data'!J435","v":"Visitor"},{"$f":"'Pivot Table Data'!K435","v":0},{"$f":"'Pivot Table Data'!L435","v":0},{"$f":"'Pivot Table Data'!S435","v":21},{"$f":"'Pivot Table Data'!T435","v":""},{"$f":"IF('Pivot Table Data'!O435=\"Yes\", 'Pivot Table Data'!T435, \"\")","v":""}]
[{"$f":"'Pivot Table Data'!B436","v":0},{"$f":"'Pivot Table Data'!F436","v":8980},{"$f":"'Pivot Table Data'!P436","v":8980},{"$f":"'Pivot Table Data'!I436","v":"Ground"},{"$f":"'Pivot Table Data'!J436","v":"Accessible"},{"$f":"'Pivot Table Data'!K436","v":0},{"$f":"'Pivot Table Data'!L436","v":0},{"$f":"'Pivot Table Data'!S436","v":2},{"$f":"'Pivot Table Data'!T436","v":""},{"$f":"IF('Pivot Table Data'!O436=\"Yes\", 'Pivot Table Data'!T436, \"\")","v":""}]
[{"$f":"'Pivot Table Data'!B437","v":0},{"$f":"'Pivot Table Data'!F437","v":8980},{"$f":"'Pivot Table Data'!P437","v":8980},{"$f":"'Pivot Table Data'!I437","v":"Ground"},{"$f":"'Pivot Table Data'!J437","v":"S"},{"$f":"'Pivot Table Data'!K437","v":0},{"$f":"'Pivot Table Data'!L437","v":0},{"$f":"'Pivot Table Data'!S437","v":41},{"$f":"'Pivot Table Data'!T437","v":""},{"$f":"IF('Pivot Table Data'!O437=\"Yes\", 'Pivot Table Data'!T437, \"\")","v":""}]
[{"$f":"'Pivot Table Data'!B438","v":0},{"$f":"'Pivot Table Data'!F438","v":8980},{"$f":"'Pivot Table Data'!P438","v":8980},{"$f":"'Pivot Table Data'!I438","v":"Ground"},{"$f":"'Pivot Table Data'!J438","v":"Visitor"},{"$f":"'Pivot Table Data'!K438","v":"Loading"},{"$f":"'Pivot Table Data'!L438","v":20},{"$f":"'Pivot Table Data'!S438","v":4},{"$f":"'Pivot Table Data'!T438","v":4},{"$f":"IF('Pivot Table Data'!O438=\"Yes\", 'Pivot Table Data'!T438, \"\")","v":4}]
[{"$f":"'Pivot Table Data'!B439","v":0},{"$f":"'Pivot Table Data'!F439","v":8980},{"$f":"'Pivot Table Data'!P439","v":8980},{"$f":"'Pivot Table Data'!I439","v":"Ground"},{"$f":"'Pivot Table Data'!J439","v":"Visitor"},{"$f":"'Pivot Table Data'!K439","v":0},{"$f":"'Pivot Table Data'!L439","v":0},{"$f":"'Pivot Table Data'!S439","v":13},{"$f":"'Pivot Table Data'!T439","v":""},{"$f":"IF('Pivot Table Data'!O439=\"Yes\", 'Pivot Table Data'!T439, \"\")","v":""}]
[{"$f":"'Pivot Table Data'!B440","v":0},{"$f":"'Pivot Table Data'!F440","v":"University Center"},{"$f":"'Pivot Table Data'!P440","v":"Gilman"},{"$f":"'Pivot Table Data'!I440","v":"Basement"},{"$f":"'Pivot Table Data'!J440","v":"Accessible"},{"$f":"'Pivot Table Data'!K440","v":0},{"$f":"'Pivot Table Data'!L440","v":0},{"$f":"'Pivot Table Data'!S440","v":11},{"$f":"'Pivot Table Data'!T440","v":32},{"$f":"IF('Pivot Table Data'!O440=\"Yes\", 'Pivot Table Data'!T440, \"\")","v":""}]
[{"$f":"'Pivot Table Data'!B441","v":0},{"$f":"'Pivot Table Data'!F441","v":"University Center"},{"$f":"'Pivot Table Data'!P441","v":"Gilman"},{"$f":"'Pivot Table Data'!I441","v":"Basement"},{"$f":"'Pivot Table Data'!J441","v":"Accessible (Van)"},{"$f":"'Pivot Table Data'!K441","v":0},{"$f":"'Pivot Table Data'!L441","v":0},{"$f":"'Pivot Table Data'!S441","v":4},{"$f":"'Pivot Table Data'!T441","v":10},{"$f":"IF('Pivot Table Data'!O441=\"Yes\", 'Pivot Table Data'!T441, \"\")","v":""}]
[{"$f":"'Pivot Table Data'!B442","v":0},{"$f":"'Pivot Table Data'!F442","v":"University Center"},{"$f":"'Pivot Table Data'!P442","v":"Gilman"},{"$f":"'Pivot Table Data'!I442","v":"Basement"},{"$f":"'Pivot Table Data'!J442","v":"Reserved"},{"$f":"'Pivot Table Data'!K442","v":"Credit Union Member"},{"$f":"'Pivot Table Data'!L442","v":0},{"$f":"'Pivot Table Data'!S442","v":10},{"$f":"'Pivot Table Data'!T442","v":10},{"$f":"IF('Pivot Table Data'!O442=\"Yes\", 'Pivot Table Data'!T442, \"\")","v":""}]
[{"$f":"'Pivot Table Data'!B443","v":0},{"$f":"'Pivot Table Data'!F443","v":"University Center"},{"$f":"'Pivot Table Data'!P443","v":"Gilman"},{"$f":"'Pivot Table Data'!I443","v":"Basement"},{"$f":"'Pivot Table Data'!J443","v":"Reserved"},{"$f":"'Pivot Table Data'!K443","v":"Credit Union Staff"},{"$f":"'Pivot Table Data'!L443","v":0},{"$f":"'Pivot Table Data'!S443","v":10},{"$f":"'Pivot Table Data'!T443","v":10},{"$f":"IF('Pivot Table Data'!O443=\"Yes\", 'Pivot Table Data'!T443, \"\")","v":""}]
[{"$f":"'Pivot Table Data'!B444","v":0},{"$f":"'Pivot Table Data'!F444","v":"University Center"},{"$f":"'Pivot Table Data'!P444","v":"Gilman"},{"$f":"'Pivot Table Data'!I444","v":"Basement"},{"$f":"'Pivot Table Data'!J444","v":"Reserved"},{"$f":"'Pivot Table Data'!K444","v":"Target"},{"$f":"'Pivot Table Data'!L444","v":0},{"$f":"'Pivot Table Data'!S444","v":7},{"$f":"'Pivot Table Data'!T444","v":7},{"$f":"IF('Pivot Table Data'!O444=\"Yes\", 'Pivot Table Data'!T444, \"\")","v":""}]
[{"$f":"'Pivot Table Data'!B445","v":0},{"$f":"'Pivot Table Data'!F445","v":"University Center"},{"$f":"'Pivot Table Data'!P445","v":"Gilman"},{"$f":"'Pivot Table Data'!I445","v":"Basement"},{"$f":"'Pivot Table Data'!J445","v":"Reserved"},{"$f":"'Pivot Table Data'!K445","v":0},{"$f":"'Pivot Table Data'!L445","v":0},{"$f":"'Pivot Table Data'!S445","v":9},{"$f":"'Pivot Table Data'!T445","v":13},{"$f":"IF('Pivot Table Data'!O445=\"Yes\", 'Pivot Table Data'!T445, \"\")","v":""}]
[{"$f":"'Pivot Table Data'!B446","v":0},{"$f":"'Pivot Table Data'!F446","v":"University Center"},{"$f":"'Pivot Table Data'!P446","v":"Gilman"},{"$f":"'Pivot Table Data'!I446","v":"Basement"},{"$f":"'Pivot Table Data'!J446","v":"Reserved"},{"$f":"'Pivot Table Data'!K446","v":0},{"$f":"'Pivot Table Data'!L446","v":0},{"$f":"'Pivot Table Data'!S446","v":1},{"$f":"'Pivot Table Data'!T446","v":""},{"$f":"IF('Pivot Table Data'!O446=\"Yes\", 'Pivot Table Data'!T446, \"\")","v":""}]
[{"$f":"'Pivot Table Data'!B447","v":0},{"$f":"'Pivot Table Data'!F447","v":"University Center"},{"$f":"'Pivot Table Data'!P447","v":"Gilman"},{"$f":"'Pivot Table Data'!I447","v":"Basement"},{"$f":"'Pivot Table Data'!J447","v":"Visitor"},{"$f":"'Pivot Table Data'!K447","v":"2 hour"},{"$f":"'Pivot Table Data'!L447","v":"2 hour"},{"$f":"'Pivot Table Data'!S447","v":48},{"$f":"'Pivot Table Data'!T447","v":145},{"$f":"IF('Pivot Table Data'!O447=\"Yes\", 'Pivot Table Data'!T447, \"\")","v":145}]
[{"$f":"'Pivot Table Data'!B448","v":0},{"$f":"'Pivot Table Data'!F448","v":"University Center"},{"$f":"'Pivot Table Data'!P448","v":"Gilman"},{"$f":"'Pivot Table Data'!I448","v":"Basement"},{"$f":"'Pivot Table Data'!J448","v":"Visitor"},{"$f":"'Pivot Table Data'!K448","v":0},{"$f":"'Pivot Table Data'!L448","v":0},{"$f":"'Pivot Table Data'!S448","v":31},{"$f":"'Pivot Table Data'!T448","v":31},{"$f":"IF('Pivot Table Data'!O448=\"Yes\", 'Pivot Table Data'!T448, \"\")","v":31}]
[{"$f":"'Pivot Table Data'!B449","v":0},{"$f":"'Pivot Table Data'!F449","v":"University Center"},{"$f":"'Pivot Table Data'!P449","v":"Gilman"},{"$f":"'Pivot Table Data'!I449","v":"Ground Floor (Gilman)"},{"$f":"'Pivot Table Data'!J449","v":"Accessible"},{"$f":"'Pivot Table Data'!K449","v":0},{"$f":"'Pivot Table Data'!L449","v":0},{"$f":"'Pivot Table Data'!S449","v":21},{"$f":"'Pivot Table Data'!T449","v":""},{"$f":"IF('Pivot Table Data'!O449=\"Yes\", 'Pivot Table Data'!T449, \"\")","v":""}]
[{"$f":"'Pivot Table Data'!B450","v":0},{"$f":"'Pivot Table Data'!F450","v":"University Center"},{"$f":"'Pivot Table Data'!P450","v":"Gilman"},{"$f":"'Pivot Table Data'!I450","v":"Ground Floor (Gilman)"},{"$f":"'Pivot Table Data'!J450","v":"Accessible (Van)"},{"$f":"'Pivot Table Data'!K450","v":0},{"$f":"'Pivot Table Data'!L450","v":0},{"$f":"'Pivot Table Data'!S450","v":6},{"$f":"'Pivot Table Data'!T450","v":""},{"$f":"IF('Pivot Table Data'!O450=\"Yes\", 'Pivot Table Data'!T450, \"\")","v":""}]
[{"$f":"'Pivot Table Data'!B451","v":0},{"$f":"'Pivot Table Data'!F451","v":"University Center"},{"$f":"'Pivot Table Data'!P451","v":"Gilman"},{"$f":"'Pivot Table Data'!I451","v":"Ground Floor (Gilman)"},{"$f":"'Pivot Table Data'!J451","v":"Electric Vehicle"},{"$f":"'Pivot Table Data'!K451","v":"ADA"},{"$f":"'Pivot Table Data'!L451","v":0},{"$f":"'Pivot Table Data'!S451","v":1},{"$f":"'Pivot Table Data'!T451","v":1},{"$f":"IF('Pivot Table Data'!O451=\"Yes\", 'Pivot Table Data'!T451, \"\")","v":""}]
[{"$f":"'Pivot Table Data'!B452","v":0},{"$f":"'Pivot Table Data'!F452","v":"University Center"},{"$f":"'Pivot Table Data'!P452","v":"Gilman"},{"$f":"'Pivot Table Data'!I452","v":"Ground Floor (Gilman)"},{"$f":"'Pivot Table Data'!J452","v":"Electric Vehicle"},{"$f":"'Pivot Table Data'!K452","v":0},{"$f":"'Pivot Table Data'!L452","v":0},{"$f":"'Pivot Table Data'!S452","v":7},{"$f":"'Pivot Table Data'!T452","v":32},{"$f":"IF('Pivot Table Data'!O452=\"Yes\", 'Pivot Table Data'!T452, \"\")","v":""}]
[{"$f":"'Pivot Table Data'!B453","v":0},{"$f":"'Pivot Table Data'!F453","v":"University Center"},{"$f":"'Pivot Table Data'!P453","v":"Gilman"},{"$f":"'Pivot Table Data'!I453","v":"Ground Floor (Gilman)"},{"$f":"'Pivot Table Data'!J453","v":"Motorcycle Section"},{"$f":"'Pivot Table Data'!K453","v":0},{"$f":"'Pivot Table Data'!L453","v":0},{"$f":"'Pivot Table Data'!S453","v":12},{"$f":"'Pivot Table Data'!T453","v":12},{"$f":"IF('Pivot Table Data'!O453=\"Yes\", 'Pivot Table Data'!T453, \"\")","v":""}]
[{"$f":"'Pivot Table Data'!B454","v":0},{"$f":"'Pivot Table Data'!F454","v":"University Center"},{"$f":"'Pivot Table Data'!P454","v":"Gilman"},{"$f":"'Pivot Table Data'!I454","v":"Ground Floor (Gilman)"},{"$f":"'Pivot Table Data'!J454","v":"Reserved"},{"$f":"'Pivot Table Data'!K454","v":"Curbside"},{"$f":"'Pivot Table Data'!L454","v":0},{"$f":"'Pivot Table Data'!S454","v":5},{"$f":"'Pivot Table Data'!T454","v":5},{"$f":"IF('Pivot Table Data'!O454=\"Yes\", 'Pivot Table Data'!T454, \"\")","v":""}]
[{"$f":"'Pivot Table Data'!B455","v":0},{"$f":"'Pivot Table Data'!F455","v":"University Center"},{"$f":"'Pivot Table Data'!P455","v":"Gilman"},{"$f":"'Pivot Table Data'!I455","v":"Ground Floor (Gilman)"},{"$f":"'Pivot Table Data'!J455","v":"Reserved"},{"$f":"'Pivot Table Data'!K455","v":"Enterprise"},{"$f":"'Pivot Table Data'!L455","v":0},{"$f":"'Pivot Table Data'!S455","v":3},{"$f":"'Pivot Table Data'!T455","v":3},{"$f":"IF('Pivot Table Data'!O455=\"Yes\", 'Pivot Table Data'!T455, \"\")","v":""}]
[{"$f":"'Pivot Table Data'!B456","v":0},{"$f":"'Pivot Table Data'!F456","v":"University Center"},{"$f":"'Pivot Table Data'!P456","v":"Gilman"},{"$f":"'Pivot Table Data'!I456","v":"Ground Floor (Gilman)"},{"$f":"'Pivot Table Data'!J456","v":"Reserved"},{"$f":"'Pivot Table Data'!K456","v":0},{"$f":"'Pivot Table Data'!L456","v":0},{"$f":"'Pivot Table Data'!S456","v":3},{"$f":"'Pivot Table Data'!T456","v":""},{"$f":"IF('Pivot Table Data'!O456=\"Yes\", 'Pivot Table Data'!T456, \"\")","v":""}]
[{"$f":"'Pivot Table Data'!B457","v":0},{"$f":"'Pivot Table Data'!F457","v":"University Center"},{"$f":"'Pivot Table Data'!P457","v":"Gilman"},{"$f":"'Pivot Table Data'!I457","v":"Ground Floor (Gilman)"},{"$f":"'Pivot Table Data'!J457","v":"UC Vehicle"},{"$f":"'Pivot Table Data'!K457","v":"UC Cart"},{"$f":"'Pivot Table Data'!L457","v":0},{"$f":"'Pivot Table Data'!S457","v":1},{"$f":"'Pivot Table Data'!T457","v":12},{"$f":"IF('Pivot Table Data'!O457=\"Yes\", 'Pivot Table Data'!T457, \"\")","v":""}]
[{"$f":"'Pivot Table Data'!B458","v":0},{"$f":"'Pivot Table Data'!F458","v":"University Center"},{"$f":"'Pivot Table Data'!P458","v":"Gilman"},{"$f":"'Pivot Table Data'!I458","v":"Ground Floor (Gilman)"},{"$f":"'Pivot Table Data'!J458","v":"Visitor"},{"$f":"'Pivot Table Data'!K458","v":"2 hour"},{"$f":"'Pivot Table Data'!L458","v":"2 hour"},{"$f":"'Pivot Table Data'!S458","v":60},{"$f":"'Pivot Table Data'!T458","v":""},{"$f":"IF('Pivot Table Data'!O458=\"Yes\", 'Pivot Table Data'!T458, \"\")","v":""}]
[{"$f":"'Pivot Table Data'!B459","v":0},{"$f":"'Pivot Table Data'!F459","v":"University Center"},{"$f":"'Pivot Table Data'!P459","v":"Gilman"},{"$f":"'Pivot Table Data'!I459","v":"Ground Floor (Gilman)"},{"$f":"'Pivot Table Data'!J459","v":"Visitor"},{"$f":"'Pivot Table Data'!K459","v":0},{"$f":"'Pivot Table Data'!L459","v":0},{"$f":"'Pivot Table Data'!S459","v":0},{"$f":"'Pivot Table Data'!T459","v":""},{"$f":"IF('Pivot Table Data'!O459=\"Yes\", 'Pivot Table Data'!T459, \"\")","v":""}]
[{"$f":"'Pivot Table Data'!B460","v":0},{"$f":"'Pivot Table Data'!F460","v":"University Center"},{"$f":"'Pivot Table Data'!P460","v":"Gilman"},{"$f":"'Pivot Table Data'!I460","v":"L2"},{"$f":"'Pivot Table Data'!J460","v":"A"},{"$f":"'Pivot Table Data'!K460","v":0},{"$f":"'Pivot Table Data'!L460","v":0},{"$f":"'Pivot Table Data'!S460","v":93},{"$f":"'Pivot Table Data'!T460","v":401},{"$f":"IF('Pivot Table Data'!O460=\"Yes\", 'Pivot Table Data'!T460, \"\")","v":401}]
[{"$f":"'Pivot Table Data'!B461","v":0},{"$f":"'Pivot Table Data'!F461","v":"University Center"},{"$f":"'Pivot Table Data'!P461","v":"Gilman"},{"$f":"'Pivot Table Data'!I461","v":"L2"},{"$f":"'Pivot Table Data'!J461","v":"Electric Vehicle"},{"$f":"'Pivot Table Data'!K461","v":0},{"$f":"'Pivot Table Data'!L461","v":0},{"$f":"'Pivot Table Data'!S461","v":25},{"$f":"'Pivot Table Data'!T461","v":""},{"$f":"IF('Pivot Table Data'!O461=\"Yes\", 'Pivot Table Data'!T461, \"\")","v":""}]
[{"$f":"'Pivot Table Data'!B462","v":0},{"$f":"'Pivot Table Data'!F462","v":"University Center"},{"$f":"'Pivot Table Data'!P462","v":"Gilman"},{"$f":"'Pivot Table Data'!I462","v":"L2"},{"$f":"'Pivot Table Data'!J462","v":"UC Vehicle"},{"$f":"'Pivot Table Data'!K462","v":"UC Cart"},{"$f":"'Pivot Table Data'!L462","v":0},{"$f":"'Pivot Table Data'!S462","v":4},{"$f":"'Pivot Table Data'!T462","v":""},{"$f":"IF('Pivot Table Data'!O462=\"Yes\", 'Pivot Table Data'!T462, \"\")","v":""}]
[{"$f":"'Pivot Table Data'!B463","v":0},{"$f":"'Pivot Table Data'!F463","v":"University Center"},{"$f":"'Pivot Table Data'!P463","v":"Gilman"},{"$f":"'Pivot Table Data'!I463","v":"L2"},{"$f":"'Pivot Table Data'!J463","v":"Visitor"},{"$f":"'Pivot Table Data'!K463","v":"2 hour"},{"$f":"'Pivot Table Data'!L463","v":"2 hour"},{"$f":"'Pivot Table Data'!S463","v":37},{"$f":"'Pivot Table Data'!T463","v":""},{"$f":"IF('Pivot Table Data'!O463=\"Yes\", 'Pivot Table Data'!T463, \"\")","v":""}]
[{"$f":"'Pivot Table Data'!B464","v":0},{"$f":"'Pivot Table Data'!F464","v":"University Center"},{"$f":"'Pivot Table Data'!P464","v":"Gilman"},{"$f":"'Pivot Table Data'!I464","v":"L2"},{"$f":"'Pivot Table Data'!J464","v":"Visitor"},{"$f":"'Pivot Table Data'!K464","v":0},{"$f":"'Pivot Table Data'!L464","v":0},{"$f":"'Pivot Table Data'!S464","v":0},{"$f":"'Pivot Table Data'!T464","v":""},{"$f":"IF('Pivot Table Data'!O464=\"Yes\", 'Pivot Table Data'!T464, \"\")","v":""}]
[{"$f":"'Pivot Table Data'!B465","v":0},{"$f":"'Pivot Table Data'!F465","v":"University Center"},{"$f":"'Pivot Table Data'!P465","v":"Gilman"},{"$f":"'Pivot Table Data'!I465","v":"L3"},{"$f":"'Pivot Table Data'!J465","v":"A"},{"$f":"'Pivot Table Data'!K465","v":0},{"$f":"'Pivot Table Data'!L465","v":0},{"$f":"'Pivot Table Data'!S465","v":153},{"$f":"'Pivot Table Data'!T465","v":""},{"$f":"IF('Pivot Table Data'!O465=\"Yes\", 'Pivot Table Data'!T465, \"\")","v":""}]
[{"$f":"'Pivot Table Data'!B466","v":0},{"$f":"'Pivot Table Data'!F466","v":"University Center"},{"$f":"'Pivot Table Data'!P466","v":"Gilman"},{"$f":"'Pivot Table Data'!I466","v":"L3"},{"$f":"'Pivot Table Data'!J466","v":"UC Vehicle"},{"$f":"'Pivot Table Data'!K466","v":"UC Cart"},{"$f":"'Pivot Table Data'!L466","v":0},{"$f":"'Pivot Table Data'!S466","v":4},{"$f":"'Pivot Table Data'!T466","v":""},{"$f":"IF('Pivot Table Data'!O466=\"Yes\", 'Pivot Table Data'!T466, \"\")","v":""}]
[{"$f":"'Pivot Table Data'!B467","v":0},{"$f":"'Pivot Table Data'!F467","v":"University Center"},{"$f":"'Pivot Table Data'!P467","v":"Gilman"},{"$f":"'Pivot Table Data'!I467","v":"L4"},{"$f":"'Pivot Table Data'!J467","v":"A"},{"$f":"'Pivot Table Data'!K467","v":0},{"$f":"'Pivot Table Data'!L467","v":0},{"$f":"'Pivot Table Data'!S467","v":155},{"$f":"'Pivot Table Data'!T467","v":""},{"$f":"IF('Pivot Table Data'!O467=\"Yes\", 'Pivot Table Data'!T467, \"\")","v":""}]
[{"$f":"'Pivot Table Data'!B468","v":0},{"$f":"'Pivot Table Data'!F468","v":"University Center"},{"$f":"'Pivot Table Data'!P468","v":"Gilman"},{"$f":"'Pivot Table Data'!I468","v":"L4"},{"$f":"'Pivot Table Data'!J468","v":"UC Vehicle"},{"$f":"'Pivot Table Data'!K468","v":"UC Cart"},{"$f":"'Pivot Table Data'!L468","v":0},{"$f":"'Pivot Table Data'!S468","v":3},{"$f":"'Pivot Table Data'!T468","v":""},{"$f":"IF('Pivot Table Data'!O468=\"Yes\", 'Pivot Table Data'!T468, \"\")","v":""}]
[{"$f":"'Pivot Table Data'!B469","v":0},{"$f":"'Pivot Table Data'!F469","v":"University Center"},{"$f":"'Pivot Table Data'!P469","v":"Gilman"},{"$f":"'Pivot Table Data'!I469","v":"Roof"},{"$f":"'Pivot Table Data'!J469","v":"B"},{"$f":"'Pivot Table Data'!K469","v":0},{"$f":"'Pivot Table Data'!L469","v":0},{"$f":"'Pivot Table Data'!S469","v":123},{"$f":"'Pivot Table Data'!T469","v":123},{"$f":"IF('Pivot Table Data'!O469=\"Yes\", 'Pivot Table Data'!T469, \"\")","v":123}]
[{"$f":"'Pivot Table Data'!B470","v":0},{"$f":"'Pivot Table Data'!F470","v":"Roosevelt College"},{"$f":"'Pivot Table Data'!P470","v":"Hopkins"},{"$f":"'Pivot Table Data'!I470","v":"B2"},{"$f":"'Pivot Table Data'!J470","v":"Motorcycle Section"},{"$f":"'Pivot Table Data'!K470","v":0},{"$f":"'Pivot Table Data'!L470","v":0},{"$f":"'Pivot Table Data'!S470","v":7},{"$f":"'Pivot Table Data'!T470","v":21},{"$f":"IF('Pivot Table Data'!O470=\"Yes\", 'Pivot Table Data'!T470, \"\")","v":""}]
[{"$f":"'Pivot Table Data'!B471","v":0},{"$f":"'Pivot Table Data'!F471","v":"Roosevelt College"},{"$f":"'Pivot Table Data'!P471","v":"Hopkins"},{"$f":"'Pivot Table Data'!I471","v":"B2"},{"$f":"'Pivot Table Data'!J471","v":"Reserved"},{"$f":"'Pivot Table Data'!K471","v":"V2G"},{"$f":"'Pivot Table Data'!L471","v":0},{"$f":"'Pivot Table Data'!S471","v":0},{"$f":"'Pivot Table Data'!T471","v":0},{"$f":"IF('Pivot Table Data'!O471=\"Yes\", 'Pivot Table Data'!T471, \"\")","v":""}]
[{"$f":"'Pivot Table Data'!B472","v":0},{"$f":"'Pivot Table Data'!F472","v":"Roosevelt College"},{"$f":"'Pivot Table Data'!P472","v":"Hopkins"},{"$f":"'Pivot Table Data'!I472","v":"B2"},{"$f":"'Pivot Table Data'!J472","v":"S"},{"$f":"'Pivot Table Data'!K472","v":0},{"$f":"'Pivot Table Data'!L472","v":0},{"$f":"'Pivot Table Data'!S472","v":174},{"$f":"'Pivot Table Data'!T472","v":174},{"$f":"IF('Pivot Table Data'!O472=\"Yes\", 'Pivot Table Data'!T472, \"\")","v":174}]
[{"$f":"'Pivot Table Data'!B473","v":0},{"$f":"'Pivot Table Data'!F473","v":"Roosevelt College"},{"$f":"'Pivot Table Data'!P473","v":"Hopkins"},{"$f":"'Pivot Table Data'!I473","v":"B2"},{"$f":"'Pivot Table Data'!J473","v":"SR"},{"$f":"'Pivot Table Data'!K473","v":0},{"$f":"'Pivot Table Data'!L473","v":0},{"$f":"'Pivot Table Data'!S473","v":51},{"$f":"'Pivot Table Data'!T473","v":51},{"$f":"IF('Pivot Table Data'!O473=\"Yes\", 'Pivot Table Data'!T473, \"\")","v":51}]
[{"$f":"'Pivot Table Data'!B474","v":0},{"$f":"'Pivot Table Data'!F474","v":"Roosevelt College"},{"$f":"'Pivot Table Data'!P474","v":"Hopkins"},{"$f":"'Pivot Table Data'!I474","v":"B2"},{"$f":"'Pivot Table Data'!J474","v":"UC Vehicle"},{"$f":"'Pivot Table Data'!K474","v":0},{"$f":"'Pivot Table Data'!L474","v":0},{"$f":"'Pivot Table Data'!S474","v":9},{"$f":"'Pivot Table Data'!T474","v":9},{"$f":"IF('Pivot Table Data'!O474=\"Yes\", 'Pivot Table Data'!T474, \"\")","v":""}]
[{"$f":"'Pivot Table Data'!B475","v":0},{"$f":"'Pivot Table Data'!F475","v":"Roosevelt College"},{"$f":"'Pivot Table Data'!P475","v":"Hopkins"},{"$f":"'Pivot Table Data'!I475","v":"B1"},{"$f":"'Pivot Table Data'!J475","v":"Accessible"},{"$f":"'Pivot Table Data'!K475","v":0},{"$f":"'Pivot Table Data'!L475","v":0},{"$f":"'Pivot Table Data'!S475","v":3},{"$f":"'Pivot Table Data'!T475","v":17},{"$f":"IF('Pivot Table Data'!O475=\"Yes\", 'Pivot Table Data'!T475, \"\")","v":""}]
[{"$f":"'Pivot Table Data'!B476","v":0},{"$f":"'Pivot Table Data'!F476","v":"Roosevelt College"},{"$f":"'Pivot Table Data'!P476","v":"Hopkins"},{"$f":"'Pivot Table Data'!I476","v":"B1"},{"$f":"'Pivot Table Data'!J476","v":"Accessible (Van)"},{"$f":"'Pivot Table Data'!K476","v":0},{"$f":"'Pivot Table Data'!L476","v":0},{"$f":"'Pivot Table Data'!S476","v":0},{"$f":"'Pivot Table Data'!T476","v":5},{"$f":"IF('Pivot Table Data'!O476=\"Yes\", 'Pivot Table Data'!T476, \"\")","v":""}]
[{"$f":"'Pivot Table Data'!B477","v":0},{"$f":"'Pivot Table Data'!F477","v":"Roosevelt College"},{"$f":"'Pivot Table Data'!P477","v":"Hopkins"},{"$f":"'Pivot Table Data'!I477","v":"B1"},{"$f":"'Pivot Table Data'!J477","v":"Accessible (Van)"},{"$f":"'Pivot Table Data'!K477","v":0},{"$f":"'Pivot Table Data'!L477","v":0},{"$f":"'Pivot Table Data'!S477","v":0},{"$f":"'Pivot Table Data'!T477","v":""},{"$f":"IF('Pivot Table Data'!O477=\"Yes\", 'Pivot Table Data'!T477, \"\")","v":""}]
[{"$f":"'Pivot Table Data'!B478","v":0},{"$f":"'Pivot Table Data'!F478","v":"Roosevelt College"},{"$f":"'Pivot Table Data'!P478","v":"Hopkins"},{"$f":"'Pivot Table Data'!I478","v":"B1"},{"$f":"'Pivot Table Data'!J478","v":"B"},{"$f":"'Pivot Table Data'!K478","v":0},{"$f":"'Pivot Table Data'!L478","v":0},{"$f":"'Pivot Table Data'!S478","v":93},{"$f":"'Pivot Table Data'!T478","v":639},{"$f":"IF('Pivot Table Data'!O478=\"Yes\", 'Pivot Table Data'!T478, \"\")","v":639}]
[{"$f":"'Pivot Table Data'!B479","v":0},{"$f":"'Pivot Table Data'!F479","v":"Roosevelt College"},{"$f":"'Pivot Table Data'!P479","v":"Hopkins"},{"$f":"'Pivot Table Data'!I479","v":"B1"},{"$f":"'Pivot Table Data'!J479","v":"Carpool"},{"$f":"'Pivot Table Data'!K479","v":"2 Person"},{"$f":"'Pivot Table Data'!L479","v":0},{"$f":"'Pivot Table Data'!S479","v":63},{"$f":"'Pivot Table Data'!T479","v":78},{"$f":"IF('Pivot Table Data'!O479=\"Yes\", 'Pivot Table Data'!T479, \"\")","v":78}]
[{"$f":"'Pivot Table Data'!B480","v":0},{"$f":"'Pivot Table Data'!F480","v":"Roosevelt College"},{"$f":"'Pivot Table Data'!P480","v":"Hopkins"},{"$f":"'Pivot Table Data'!I480","v":"B1"},{"$f":"'Pivot Table Data'!J480","v":"Electric Vehicle"},{"$f":"'Pivot Table Data'!K480","v":"ADA"},{"$f":"'Pivot Table Data'!L480","v":0},{"$f":"'Pivot Table Data'!S480","v":2},{"$f":"'Pivot Table Data'!T480","v":2},{"$f":"IF('Pivot Table Data'!O480=\"Yes\", 'Pivot Table Data'!T480, \"\")","v":""}]
[{"$f":"'Pivot Table Data'!B481","v":0},{"$f":"'Pivot Table Data'!F481","v":"Roosevelt College"},{"$f":"'Pivot Table Data'!P481","v":"Hopkins"},{"$f":"'Pivot Table Data'!I481","v":"B1"},{"$f":"'Pivot Table Data'!J481","v":"Electric Vehicle"},{"$f":"'Pivot Table Data'!K481","v":0},{"$f":"'Pivot Table Data'!L481","v":0},{"$f":"'Pivot Table Data'!S481","v":20},{"$f":"'Pivot Table Data'!T481","v":20},{"$f":"IF('Pivot Table Data'!O481=\"Yes\", 'Pivot Table Data'!T481, \"\")","v":""}]
[{"$f":"'Pivot Table Data'!B482","v":0},{"$f":"'Pivot Table Data'!F482","v":"Roosevelt College"},{"$f":"'Pivot Table Data'!P482","v":"Hopkins"},{"$f":"'Pivot Table Data'!I482","v":"B1"},{"$f":"'Pivot Table Data'!J482","v":"Motorcycle Section"},{"$f":"'Pivot Table Data'!K482","v":0},{"$f":"'Pivot Table Data'!L482","v":0},{"$f":"'Pivot Table Data'!S482","v":7},{"$f":"'Pivot Table Data'!T482","v":""},{"$f":"IF('Pivot Table Data'!O482=\"Yes\", 'Pivot Table Data'!T482, \"\")","v":""}]
[{"$f":"'Pivot Table Data'!B483","v":0},{"$f":"'Pivot Table Data'!F483","v":"Roosevelt College"},{"$f":"'Pivot Table Data'!P483","v":"Hopkins"},{"$f":"'Pivot Table Data'!I483","v":"B1"},{"$f":"'Pivot Table Data'!J483","v":"Reserved"},{"$f":"'Pivot Table Data'!K483","v":0},{"$f":"'Pivot Table Data'!L483","v":0},{"$f":"'Pivot Table Data'!S483","v":6},{"$f":"'Pivot Table Data'!T483","v":10},{"$f":"IF('Pivot Table Data'!O483=\"Yes\", 'Pivot Table Data'!T483, \"\")","v":""}]
[{"$f":"'Pivot Table Data'!B484","v":0},{"$f":"'Pivot Table Data'!F484","v":"Roosevelt College"},{"$f":"'Pivot Table Data'!P484","v":"Hopkins"},{"$f":"'Pivot Table Data'!I484","v":"B1"},{"$f":"'Pivot Table Data'!J484","v":"S"},{"$f":"'Pivot Table Data'!K484","v":0},{"$f":"'Pivot Table Data'!L484","v":0},{"$f":"'Pivot Table Data'!S484","v":0},{"$f":"'Pivot Table Data'!T484","v":""},{"$f":"IF('Pivot Table Data'!O484=\"Yes\", 'Pivot Table Data'!T484, \"\")","v":""}]
[{"$f":"'Pivot Table Data'!B485","v":0},{"$f":"'Pivot Table Data'!F485","v":"Roosevelt College"},{"$f":"'Pivot Table Data'!P485","v":"Hopkins"},{"$f":"'Pivot Table Data'!I485","v":"B1"},{"$f":"'Pivot Table Data'!J485","v":"Visitor"},{"$f":"'Pivot Table Data'!K485","v":"5 Minute"},{"$f":"'Pivot Table Data'!L485","v":"5 minutes"},{"$f":"'Pivot Table Data'!S485","v":1},{"$f":"'Pivot Table Data'!T485","v":1},{"$f":"IF('Pivot Table Data'!O485=\"Yes\", 'Pivot Table Data'!T485, \"\")","v":1}]
[{"$f":"'Pivot Table Data'!B486","v":0},{"$f":"'Pivot Table Data'!F486","v":"Roosevelt College"},{"$f":"'Pivot Table Data'!P486","v":"Hopkins"},{"$f":"'Pivot Table Data'!I486","v":"Ground Floor"},{"$f":"'Pivot Table Data'!J486","v":"B"},{"$f":"'Pivot Table Data'!K486","v":0},{"$f":"'Pivot Table Data'!L486","v":0},{"$f":"'Pivot Table Data'!S486","v":197},{"$f":"'Pivot Table Data'!T486","v":""},{"$f":"IF('Pivot Table Data'!O486=\"Yes\", 'Pivot Table Data'!T486, \"\")","v":""}]
[{"$f":"'Pivot Table Data'!B487","v":0},{"$f":"'Pivot Table Data'!F487","v":"Roosevelt College"},{"$f":"'Pivot Table Data'!P487","v":"Hopkins"},{"$f":"'Pivot Table Data'!I487","v":"Ground Floor"},{"$f":"'Pivot Table Data'!J487","v":"Carpool"},{"$f":"'Pivot Table Data'!K487","v":"2 Person"},{"$f":"'Pivot Table Data'!L487","v":0},{"$f":"'Pivot Table Data'!S487","v":15},{"$f":"'Pivot Table Data'!T487","v":""},{"$f":"IF('Pivot Table Data'!O487=\"Yes\", 'Pivot Table Data'!T487, \"\")","v":""}]
[{"$f":"'Pivot Table Data'!B488","v":0},{"$f":"'Pivot Table Data'!F488","v":"Roosevelt College"},{"$f":"'Pivot Table Data'!P488","v":"Hopkins"},{"$f":"'Pivot Table Data'!I488","v":"L2"},{"$f":"'Pivot Table Data'!J488","v":"B"},{"$f":"'Pivot Table Data'!K488","v":0},{"$f":"'Pivot Table Data'!L488","v":0},{"$f":"'Pivot Table Data'!S488","v":209},{"$f":"'Pivot Table Data'!T488","v":""},{"$f":"IF('Pivot Table Data'!O488=\"Yes\", 'Pivot Table Data'!T488, \"\")","v":""}]
[{"$f":"'Pivot Table Data'!B489","v":0},{"$f":"'Pivot Table Data'!F489","v":"Roosevelt College"},{"$f":"'Pivot Table Data'!P489","v":"Hopkins"},{"$f":"'Pivot Table Data'!I489","v":"L2"},{"$f":"'Pivot Table Data'!J489","v":"Motorcycle Section"},{"$f":"'Pivot Table Data'!K489","v":0},{"$f":"'Pivot Table Data'!L489","v":0},{"$f":"'Pivot Table Data'!S489","v":7},{"$f":"'Pivot Table Data'!T489","v":""},{"$f":"IF('Pivot Table Data'!O489=\"Yes\", 'Pivot Table Data'!T489, \"\")","v":""}]
[{"$f":"'Pivot Table Data'!B490","v":0},{"$f":"'Pivot Table Data'!F490","v":"Roosevelt College"},{"$f":"'Pivot Table Data'!P490","v":"Hopkins"},{"$f":"'Pivot Table Data'!I490","v":"L3"},{"$f":"'Pivot Table Data'!J490","v":"A"},{"$f":"'Pivot Table Data'!K490","v":0},{"$f":"'Pivot Table Data'!L490","v":0},{"$f":"'Pivot Table Data'!S490","v":62},{"$f":"'Pivot Table Data'!T490","v":295},{"$f":"IF('Pivot Table Data'!O490=\"Yes\", 'Pivot Table Data'!T490, \"\")","v":295}]
[{"$f":"'Pivot Table Data'!B491","v":0},{"$f":"'Pivot Table Data'!F491","v":"Roosevelt College"},{"$f":"'Pivot Table Data'!P491","v":"Hopkins"},{"$f":"'Pivot Table Data'!I491","v":"L3"},{"$f":"'Pivot Table Data'!J491","v":"Accessible"},{"$f":"'Pivot Table Data'!K491","v":0},{"$f":"'Pivot Table Data'!L491","v":0},{"$f":"'Pivot Table Data'!S491","v":0},{"$f":"'Pivot Table Data'!T491","v":""},{"$f":"IF('Pivot Table Data'!O491=\"Yes\", 'Pivot Table Data'!T491, \"\")","v":""}]
[{"$f":"'Pivot Table Data'!B492","v":0},{"$f":"'Pivot Table Data'!F492","v":"Roosevelt College"},{"$f":"'Pivot Table Data'!P492","v":"Hopkins"},{"$f":"'Pivot Table Data'!I492","v":"L3"},{"$f":"'Pivot Table Data'!J492","v":"Accessible (Van)"},{"$f":"'Pivot Table Data'!K492","v":0},{"$f":"'Pivot Table Data'!L492","v":0},{"$f":"'Pivot Table Data'!S492","v":0},{"$f":"'Pivot Table Data'!T492","v":""},{"$f":"IF('Pivot Table Data'!O492=\"Yes\", 'Pivot Table Data'!T492, \"\")","v":""}]
[{"$f":"'Pivot Table Data'!B493","v":0},{"$f":"'Pivot Table Data'!F493","v":"Roosevelt College"},{"$f":"'Pivot Table Data'!P493","v":"Hopkins"},{"$f":"'Pivot Table Data'!I493","v":"L3"},{"$f":"'Pivot Table Data'!J493","v":"B"},{"$f":"'Pivot Table Data'!K493","v":0},{"$f":"'Pivot Table Data'!L493","v":0},{"$f":"'Pivot Table Data'!S493","v":140},{"$f":"'Pivot Table Data'!T493","v":""},{"$f":"IF('Pivot Table Data'!O493=\"Yes\", 'Pivot Table Data'!T493, \"\")","v":""}]
[{"$f":"'Pivot Table Data'!B494","v":0},{"$f":"'Pivot Table Data'!F494","v":"Roosevelt College"},{"$f":"'Pivot Table Data'!P494","v":"Hopkins"},{"$f":"'Pivot Table Data'!I494","v":"L3"},{"$f":"'Pivot Table Data'!J494","v":"Carpool"},{"$f":"'Pivot Table Data'!K494","v":"S 3-Person"},{"$f":"'Pivot Table Data'!L494","v":0},{"$f":"'Pivot Table Data'!S494","v":6},{"$f":"'Pivot Table Data'!T494","v":6},{"$f":"IF('Pivot Table Data'!O494=\"Yes\", 'Pivot Table Data'!T494, \"\")","v":6}]
[{"$f":"'Pivot Table Data'!B495","v":0},{"$f":"'Pivot Table Data'!F495","v":"Roosevelt College"},{"$f":"'Pivot Table Data'!P495","v":"Hopkins"},{"$f":"'Pivot Table Data'!I495","v":"L3"},{"$f":"'Pivot Table Data'!J495","v":"Carpool"},{"$f":"'Pivot Table Data'!K495","v":"S 3-Person"},{"$f":"'Pivot Table Data'!L495","v":0},{"$f":"'Pivot Table Data'!S495","v":0},{"$f":"'Pivot Table Data'!T495","v":""},{"$f":"IF('Pivot Table Data'!O495=\"Yes\", 'Pivot Table Data'!T495, \"\")","v":""}]
[{"$f":"'Pivot Table Data'!B496","v":0},{"$f":"'Pivot Table Data'!F496","v":"Roosevelt College"},{"$f":"'Pivot Table Data'!P496","v":"Hopkins"},{"$f":"'Pivot Table Data'!I496","v":"L4"},{"$f":"'Pivot Table Data'!J496","v":"A"},{"$f":"'Pivot Table Data'!K496","v":0},{"$f":"'Pivot Table Data'!L496","v":0},{"$f":"'Pivot Table Data'!S496","v":175},{"$f":"'Pivot Table Data'!T496","v":""},{"$f":"IF('Pivot Table Data'!O496=\"Yes\", 'Pivot Table Data'!T496, \"\")","v":""}]
[{"$f":"'Pivot Table Data'!B497","v":0},{"$f":"'Pivot Table Data'!F497","v":"Roosevelt College"},{"$f":"'Pivot Table Data'!P497","v":"Hopkins"},{"$f":"'Pivot Table Data'!I497","v":"L4"},{"$f":"'Pivot Table Data'!J497","v":"Accessible"},{"$f":"'Pivot Table Data'!K497","v":0},{"$f":"'Pivot Table Data'!L497","v":0},{"$f":"'Pivot Table Data'!S497","v":13},{"$f":"'Pivot Table Data'!T497","v":""},{"$f":"IF('Pivot Table Data'!O497=\"Yes\", 'Pivot Table Data'!T497, \"\")","v":""}]
[{"$f":"'Pivot Table Data'!B498","v":0},{"$f":"'Pivot Table Data'!F498","v":"Roosevelt College"},{"$f":"'Pivot Table Data'!P498","v":"Hopkins"},{"$f":"'Pivot Table Data'!I498","v":"L4"},{"$f":"'Pivot Table Data'!J498","v":"Accessible (Van)"},{"$f":"'Pivot Table Data'!K498","v":0},{"$f":"'Pivot Table Data'!L498","v":0},{"$f":"'Pivot Table Data'!S498","v":2},{"$f":"'Pivot Table Data'!T498","v":""},{"$f":"IF('Pivot Table Data'!O498=\"Yes\", 'Pivot Table Data'!T498, \"\")","v":""}]
[{"$f":"'Pivot Table Data'!B499","v":0},{"$f":"'Pivot Table Data'!F499","v":"Roosevelt College"},{"$f":"'Pivot Table Data'!P499","v":"Hopkins"},{"$f":"'Pivot Table Data'!I499","v":"L4"},{"$f":"'Pivot Table Data'!J499","v":"Reserved"},{"$f":"'Pivot Table Data'!K499","v":0},{"$f":"'Pivot Table Data'!L499","v":0},{"$f":"'Pivot Table Data'!S499","v":1},{"$f":"'Pivot Table Data'!T499","v":""},{"$f":"IF('Pivot Table Data'!O499=\"Yes\", 'Pivot Table Data'!T499, \"\")","v":""}]
[{"$f":"'Pivot Table Data'!B500","v":0},{"$f":"'Pivot Table Data'!F500","v":"Roosevelt College"},{"$f":"'Pivot Table Data'!P500","v":"Hopkins"},{"$f":"'Pivot Table Data'!I500","v":"Roof"},{"$f":"'Pivot Table Data'!J500","v":"A"},{"$f":"'Pivot Table Data'!K500","v":0},{"$f":"'Pivot Table Data'!L500","v":0},{"$f":"'Pivot Table Data'!S500","v":58},{"$f":"'Pivot Table Data'!T500","v":""},{"$f":"IF('Pivot Table Data'!O500=\"Yes\", 'Pivot Table Data'!T500, \"\")","v":""}]
[{"$f":"'Pivot Table Data'!B501","v":0},{"$f":"'Pivot Table Data'!F501","v":"Roosevelt College"},{"$f":"'Pivot Table Data'!P501","v":"Hopkins"},{"$f":"'Pivot Table Data'!I501","v":"Roof"},{"$f":"'Pivot Table Data'!J501","v":"Accessible"},{"$f":"'Pivot Table Data'!K501","v":0},{"$f":"'Pivot Table Data'!L501","v":0},{"$f":"'Pivot Table Data'!S501","v":1},{"$f":"'Pivot Table Data'!T501","v":""},{"$f":"IF('Pivot Table Data'!O501=\"Yes\", 'Pivot Table Data'!T501, \"\")","v":""}]
[{"$f":"'Pivot Table Data'!B502","v":0},{"$f":"'Pivot Table Data'!F502","v":"Roosevelt College"},{"$f":"'Pivot Table Data'!P502","v":"Hopkins"},{"$f":"'Pivot Table Data'!I502","v":"Roof"},{"$f":"'Pivot Table Data'!J502","v":"Accessible (Van)"},{"$f":"'Pivot Table Data'!K502","v":0},{"$f":"'Pivot Table Data'!L502","v":0},{"$f":"'Pivot Table Data'!S502","v":3},{"$f":"'Pivot Table Data'!T502","v":""},{"$f":"IF('Pivot Table Data'!O502=\"Yes\", 'Pivot Table Data'!T502, \"\")","v":""}]
[{"$f":"'Pivot Table Data'!B503","v":0},{"$f":"'Pivot Table Data'!F503","v":"Roosevelt College"},{"$f":"'Pivot Table Data'!P503","v":"Hopkins"},{"$f":"'Pivot Table Data'!I503","v":"Roof"},{"$f":"'Pivot Table Data'!J503","v":"Reserved"},{"$f":"'Pivot Table Data'!K503","v":0},{"$f":"'Pivot Table Data'!L503","v":0},{"$f":"'Pivot Table Data'!S503","v":3},{"$f":"'Pivot Table Data'!T503","v":""},{"$f":"IF('Pivot Table Data'!O503=\"Yes\", 'Pivot Table Data'!T503, \"\")","v":""}]
[{"$f":"'Pivot Table Data'!B504","v":0},{"$f":"'Pivot Table Data'!F504","v":"Roosevelt College"},{"$f":"'Pivot Table Data'!P504","v":"Hopkins"},{"$f":"'Pivot Table Data'!I504","v":"Roof"},{"$f":"'Pivot Table Data'!J504","v":"Visitor"},{"$f":"'Pivot Table Data'!K504","v":0},{"$f":"'Pivot Table Data'!L504","v":0},{"$f":"'Pivot Table Data'!S504","v":90},{"$f":"'Pivot Table Data'!T504","v":90},{"$f":"IF('Pivot Table Data'!O504=\"Yes\", 'Pivot Table Data'!T504, \"\")","v":90}]
[{"$f":"'Pivot Table Data'!B505","v":0},{"$f":"'Pivot Table Data'!F505","v":"Roosevelt College"},{"$f":"'Pivot Table Data'!P505","v":"Pangea"},{"$f":"'Pivot Table Data'!I505","v":"B5"},{"$f":"'Pivot Table Data'!J505","v":"S"},{"$f":"'Pivot Table Data'!K505","v":0},{"$f":"'Pivot Table Data'!L505","v":0},{"$f":"'Pivot Table Data'!S505","v":199},{"$f":"'Pivot Table Data'!T505","v":199},{"$f":"IF('Pivot Table Data'!O505=\"Yes\", 'Pivot Table Data'!T505, \"\")","v":199}]
[{"$f":"'Pivot Table Data'!B506","v":0},{"$f":"'Pivot Table Data'!F506","v":"Roosevelt College"},{"$f":"'Pivot Table Data'!P506","v":"Pangea"},{"$f":"'Pivot Table Data'!I506","v":"B5"},{"$f":"'Pivot Table Data'!J506","v":"SR"},{"$f":"'Pivot Table Data'!K506","v":0},{"$f":"'Pivot Table Data'!L506","v":0},{"$f":"'Pivot Table Data'!S506","v":0},{"$f":"'Pivot Table Data'!T506","v":184},{"$f":"IF('Pivot Table Data'!O506=\"Yes\", 'Pivot Table Data'!T506, \"\")","v":184}]
[{"$f":"'Pivot Table Data'!B507","v":0},{"$f":"'Pivot Table Data'!F507","v":"Roosevelt College"},{"$f":"'Pivot Table Data'!P507","v":"Pangea"},{"$f":"'Pivot Table Data'!I507","v":"B4"},{"$f":"'Pivot Table Data'!J507","v":"S"},{"$f":"'Pivot Table Data'!K507","v":0},{"$f":"'Pivot Table Data'!L507","v":0},{"$f":"'Pivot Table Data'!S507","v":0},{"$f":"'Pivot Table Data'!T507","v":""},{"$f":"IF('Pivot Table Data'!O507=\"Yes\", 'Pivot Table Data'!T507, \"\")","v":""}]
[{"$f":"'Pivot Table Data'!B508","v":0},{"$f":"'Pivot Table Data'!F508","v":"Roosevelt College"},{"$f":"'Pivot Table Data'!P508","v":"Pangea"},{"$f":"'Pivot Table Data'!I508","v":"B4"},{"$f":"'Pivot Table Data'!J508","v":"SR"},{"$f":"'Pivot Table Data'!K508","v":0},{"$f":"'Pivot Table Data'!L508","v":0},{"$f":"'Pivot Table Data'!S508","v":184},{"$f":"'Pivot Table Data'!T508","v":""},{"$f":"IF('Pivot Table Data'!O508=\"Yes\", 'Pivot Table Data'!T508, \"\")","v":""}]
[{"$f":"'Pivot Table Data'!B509","v":0},{"$f":"'Pivot Table Data'!F509","v":"Roosevelt College"},{"$f":"'Pivot Table Data'!P509","v":"Pangea"},{"$f":"'Pivot Table Data'!I509","v":"B4"},{"$f":"'Pivot Table Data'!J509","v":"UC Vehicle"},{"$f":"'Pivot Table Data'!K509","v":0},{"$f":"'Pivot Table Data'!L509","v":0},{"$f":"'Pivot Table Data'!S509","v":1},{"$f":"'Pivot Table Data'!T509","v":3},{"$f":"IF('Pivot Table Data'!O509=\"Yes\", 'Pivot Table Data'!T509, \"\")","v":""}]
[{"$f":"'Pivot Table Data'!B510","v":0},{"$f":"'Pivot Table Data'!F510","v":"Roosevelt College"},{"$f":"'Pivot Table Data'!P510","v":"Pangea"},{"$f":"'Pivot Table Data'!I510","v":"B3"},{"$f":"'Pivot Table Data'!J510","v":"B"},{"$f":"'Pivot Table Data'!K510","v":0},{"$f":"'Pivot Table Data'!L510","v":0},{"$f":"'Pivot Table Data'!S510","v":189},{"$f":"'Pivot Table Data'!T510","v":387},{"$f":"IF('Pivot Table Data'!O510=\"Yes\", 'Pivot Table Data'!T510, \"\")","v":387}]
[{"$f":"'Pivot Table Data'!B511","v":0},{"$f":"'Pivot Table Data'!F511","v":"Roosevelt College"},{"$f":"'Pivot Table Data'!P511","v":"Pangea"},{"$f":"'Pivot Table Data'!I511","v":"B3"},{"$f":"'Pivot Table Data'!J511","v":"Motorcycle Section"},{"$f":"'Pivot Table Data'!K511","v":0},{"$f":"'Pivot Table Data'!L511","v":0},{"$f":"'Pivot Table Data'!S511","v":30},{"$f":"'Pivot Table Data'!T511","v":30},{"$f":"IF('Pivot Table Data'!O511=\"Yes\", 'Pivot Table Data'!T511, \"\")","v":""}]
[{"$f":"'Pivot Table Data'!B512","v":0},{"$f":"'Pivot Table Data'!F512","v":"Roosevelt College"},{"$f":"'Pivot Table Data'!P512","v":"Pangea"},{"$f":"'Pivot Table Data'!I512","v":"B3"},{"$f":"'Pivot Table Data'!J512","v":"S"},{"$f":"'Pivot Table Data'!K512","v":0},{"$f":"'Pivot Table Data'!L512","v":0},{"$f":"'Pivot Table Data'!S512","v":0},{"$f":"'Pivot Table Data'!T512","v":""},{"$f":"IF('Pivot Table Data'!O512=\"Yes\", 'Pivot Table Data'!T512, \"\")","v":""}]
[{"$f":"'Pivot Table Data'!B513","v":0},{"$f":"'Pivot Table Data'!F513","v":"Roosevelt College"},{"$f":"'Pivot Table Data'!P513","v":"Pangea"},{"$f":"'Pivot Table Data'!I513","v":"B3"},{"$f":"'Pivot Table Data'!J513","v":"SR"},{"$f":"'Pivot Table Data'!K513","v":0},{"$f":"'Pivot Table Data'!L513","v":0},{"$f":"'Pivot Table Data'!S513","v":0},{"$f":"'Pivot Table Data'!T513","v":""},{"$f":"IF('Pivot Table Data'!O513=\"Yes\", 'Pivot Table Data'!T513, \"\")","v":""}]
[{"$f":"'Pivot Table Data'!B514","v":0},{"$f":"'Pivot Table Data'!F514","v":"Roosevelt College"},{"$f":"'Pivot Table Data'!P514","v":"Pangea"},{"$f":"'Pivot Table Data'!I514","v":"B2"},{"$f":"'Pivot Table Data'!J514","v":"B"},{"$f":"'Pivot Table Data'!K514","v":0},{"$f":"'Pivot Table Data'!L514","v":0},{"$f":"'Pivot Table Data'!S514","v":175},{"$f":"'Pivot Table Data'!T514","v":""},{"$f":"IF('Pivot Table Data'!O514=\"Yes\", 'Pivot Table Data'!T514, \"\")","v":""}]
[{"$f":"'Pivot Table Data'!B515","v":0},{"$f":"'Pivot Table Data'!F515","v":"Roosevelt College"},{"$f":"'Pivot Table Data'!P515","v":"Pangea"},{"$f":"'Pivot Table Data'!I515","v":"B2"},{"$f":"'Pivot Table Data'!J515","v":"Motorcycle Section"},{"$f":"'Pivot Table Data'!K515","v":0},{"$f":"'Pivot Table Data'!L515","v":0},{"$f":"'Pivot Table Data'!S515","v":0},{"$f":"'Pivot Table Data'!T515","v":""},{"$f":"IF('Pivot Table Data'!O515=\"Yes\", 'Pivot Table Data'!T515, \"\")","v":""}]
[{"$f":"'Pivot Table Data'!B516","v":0},{"$f":"'Pivot Table Data'!F516","v":"Roosevelt College"},{"$f":"'Pivot Table Data'!P516","v":"Pangea"},{"$f":"'Pivot Table Data'!I516","v":"B1 (Pangea Ent)"},{"$f":"'Pivot Table Data'!J516","v":"A"},{"$f":"'Pivot Table Data'!K516","v":0},{"$f":"'Pivot Table Data'!L516","v":0},{"$f":"'Pivot Table Data'!S516","v":90},{"$f":"'Pivot Table Data'!T516","v":142},{"$f":"IF('Pivot Table Data'!O516=\"Yes\", 'Pivot Table Data'!T516, \"\")","v":142}]
[{"$f":"'Pivot Table Data'!B517","v":0},{"$f":"'Pivot Table Data'!F517","v":"Roosevelt College"},{"$f":"'Pivot Table Data'!P517","v":"Pangea"},{"$f":"'Pivot Table Data'!I517","v":"B1 (Pangea Ent)"},{"$f":"'Pivot Table Data'!J517","v":"A"},{"$f":"'Pivot Table Data'!K517","v":0},{"$f":"'Pivot Table Data'!L517","v":0},{"$f":"'Pivot Table Data'!S517","v":29},{"$f":"'Pivot Table Data'!T517","v":""},{"$f":"IF('Pivot Table Data'!O517=\"Yes\", 'Pivot Table Data'!T517, \"\")","v":""}]
[{"$f":"'Pivot Table Data'!B518","v":0},{"$f":"'Pivot Table Data'!F518","v":"Roosevelt College"},{"$f":"'Pivot Table Data'!P518","v":"Pangea"},{"$f":"'Pivot Table Data'!I518","v":"B1 (Pangea Ent)"},{"$f":"'Pivot Table Data'!J518","v":"Accessible"},{"$f":"'Pivot Table Data'!K518","v":0},{"$f":"'Pivot Table Data'!L518","v":0},{"$f":"'Pivot Table Data'!S518","v":7},{"$f":"'Pivot Table Data'!T518","v":17},{"$f":"IF('Pivot Table Data'!O518=\"Yes\", 'Pivot Table Data'!T518, \"\")","v":""}]
[{"$f":"'Pivot Table Data'!B519","v":0},{"$f":"'Pivot Table Data'!F519","v":"Roosevelt College"},{"$f":"'Pivot Table Data'!P519","v":"Pangea"},{"$f":"'Pivot Table Data'!I519","v":"B1 (Pangea Ent)"},{"$f":"'Pivot Table Data'!J519","v":"Accessible (Van)"},{"$f":"'Pivot Table Data'!K519","v":0},{"$f":"'Pivot Table Data'!L519","v":0},{"$f":"'Pivot Table Data'!S519","v":0},{"$f":"'Pivot Table Data'!T519","v":0},{"$f":"IF('Pivot Table Data'!O519=\"Yes\", 'Pivot Table Data'!T519, \"\")","v":""}]
[{"$f":"'Pivot Table Data'!B520","v":0},{"$f":"'Pivot Table Data'!F520","v":"Roosevelt College"},{"$f":"'Pivot Table Data'!P520","v":"Pangea"},{"$f":"'Pivot Table Data'!I520","v":"B1 (Pangea Ent)"},{"$f":"'Pivot Table Data'!J520","v":"B"},{"$f":"'Pivot Table Data'!K520","v":0},{"$f":"'Pivot Table Data'!L520","v":0},{"$f":"'Pivot Table Data'!S520","v":23},{"$f":"'Pivot Table Data'!T520","v":""},{"$f":"IF('Pivot Table Data'!O520=\"Yes\", 'Pivot Table Data'!T520, \"\")","v":""}]
[{"$f":"'Pivot Table Data'!B521","v":0},{"$f":"'Pivot Table Data'!F521","v":"Roosevelt College"},{"$f":"'Pivot Table Data'!P521","v":"Pangea"},{"$f":"'Pivot Table Data'!I521","v":"B1 (Pangea Ent)"},{"$f":"'Pivot Table Data'!J521","v":"Electric Vehicle"},{"$f":"'Pivot Table Data'!K521","v":0},{"$f":"'Pivot Table Data'!L521","v":0},{"$f":"'Pivot Table Data'!S521","v":4},{"$f":"'Pivot Table Data'!T521","v":4},{"$f":"IF('Pivot Table Data'!O521=\"Yes\", 'Pivot Table Data'!T521, \"\")","v":""}]
[{"$f":"'Pivot Table Data'!B522","v":0},{"$f":"'Pivot Table Data'!F522","v":"Roosevelt College"},{"$f":"'Pivot Table Data'!P522","v":"Pangea"},{"$f":"'Pivot Table Data'!I522","v":"B1 (Pangea Ent)"},{"$f":"'Pivot Table Data'!J522","v":"Motorcycle Section"},{"$f":"'Pivot Table Data'!K522","v":0},{"$f":"'Pivot Table Data'!L522","v":0},{"$f":"'Pivot Table Data'!S522","v":0},{"$f":"'Pivot Table Data'!T522","v":""},{"$f":"IF('Pivot Table Data'!O522=\"Yes\", 'Pivot Table Data'!T522, \"\")","v":""}]
[{"$f":"'Pivot Table Data'!B523","v":0},{"$f":"'Pivot Table Data'!F523","v":"Roosevelt College"},{"$f":"'Pivot Table Data'!P523","v":"Pangea"},{"$f":"'Pivot Table Data'!I523","v":"B1 (Pangea Ent)"},{"$f":"'Pivot Table Data'!J523","v":"Reserved"},{"$f":"'Pivot Table Data'!K523","v":0},{"$f":"'Pivot Table Data'!L523","v":0},{"$f":"'Pivot Table Data'!S523","v":3},{"$f":"'Pivot Table Data'!T523","v":3},{"$f":"IF('Pivot Table Data'!O523=\"Yes\", 'Pivot Table Data'!T523, \"\")","v":""}]
[{"$f":"'Pivot Table Data'!B524","v":0},{"$f":"'Pivot Table Data'!F524","v":"Roosevelt College"},{"$f":"'Pivot Table Data'!P524","v":"Pangea"},{"$f":"'Pivot Table Data'!I524","v":"B1 (Pangea Ent)"},{"$f":"'Pivot Table Data'!J524","v":"UC Vehicle"},{"$f":"'Pivot Table Data'!K524","v":0},{"$f":"'Pivot Table Data'!L524","v":0},{"$f":"'Pivot Table Data'!S524","v":2},{"$f":"'Pivot Table Data'!T524","v":""},{"$f":"IF('Pivot Table Data'!O524=\"Yes\", 'Pivot Table Data'!T524, \"\")","v":""}]
[{"$f":"'Pivot Table Data'!B525","v":0},{"$f":"'Pivot Table Data'!F525","v":"Roosevelt College"},{"$f":"'Pivot Table Data'!P525","v":"Pangea"},{"$f":"'Pivot Table Data'!I525","v":"Roof (Ground at Scholars Dr)"},{"$f":"'Pivot Table Data'!J525","v":"A"},{"$f":"'Pivot Table Data'!K525","v":0},{"$f":"'Pivot Table Data'!L525","v":0},{"$f":"'Pivot Table Data'!S525","v":23},{"$f":"'Pivot Table Data'!T525","v":""},{"$f":"IF('Pivot Table Data'!O525=\"Yes\", 'Pivot Table Data'!T525, \"\")","v":""}]
[{"$f":"'Pivot Table Data'!B526","v":0},{"$f":"'Pivot Table Data'!F526","v":"Roosevelt College"},{"$f":"'Pivot Table Data'!P526","v":"Pangea"},{"$f":"'Pivot Table Data'!I526","v":"Roof (Ground at Scholars Dr)"},{"$f":"'Pivot Table Data'!J526","v":"Accessible"},{"$f":"'Pivot Table Data'!K526","v":0},{"$f":"'Pivot Table Data'!L526","v":0},{"$f":"'Pivot Table Data'!S526","v":10},{"$f":"'Pivot Table Data'!T526","v":""},{"$f":"IF('Pivot Table Data'!O526=\"Yes\", 'Pivot Table Data'!T526, \"\")","v":""}]
[{"$f":"'Pivot Table Data'!B527","v":0},{"$f":"'Pivot Table Data'!F527","v":"Roosevelt College"},{"$f":"'Pivot Table Data'!P527","v":"Pangea"},{"$f":"'Pivot Table Data'!I527","v":"Roof (Ground at Scholars Dr)"},{"$f":"'Pivot Table Data'!J527","v":"Accessible (Van)"},{"$f":"'Pivot Table Data'!K527","v":0},{"$f":"'Pivot Table Data'!L527","v":0},{"$f":"'Pivot Table Data'!S527","v":0},{"$f":"'Pivot Table Data'!T527","v":""},{"$f":"IF('Pivot Table Data'!O527=\"Yes\", 'Pivot Table Data'!T527, \"\")","v":""}]
[{"$f":"'Pivot Table Data'!B528","v":0},{"$f":"'Pivot Table Data'!F528","v":"Roosevelt College"},{"$f":"'Pivot Table Data'!P528","v":"Pangea"},{"$f":"'Pivot Table Data'!I528","v":"Roof (Ground at Scholars Dr)"},{"$f":"'Pivot Table Data'!J528","v":"Motorcycle Section"},{"$f":"'Pivot Table Data'!K528","v":0},{"$f":"'Pivot Table Data'!L528","v":0},{"$f":"'Pivot Table Data'!S528","v":0},{"$f":"'Pivot Table Data'!T528","v":""},{"$f":"IF('Pivot Table Data'!O528=\"Yes\", 'Pivot Table Data'!T528, \"\")","v":""}]
[{"$f":"'Pivot Table Data'!B529","v":0},{"$f":"'Pivot Table Data'!F529","v":"Roosevelt College"},{"$f":"'Pivot Table Data'!P529","v":"Pangea"},{"$f":"'Pivot Table Data'!I529","v":"Roof (Ground at Scholars Dr)"},{"$f":"'Pivot Table Data'!J529","v":"Motorcycle Section"},{"$f":"'Pivot Table Data'!K529","v":0},{"$f":"'Pivot Table Data'!L529","v":0},{"$f":"'Pivot Table Data'!S529","v":0},{"$f":"'Pivot Table Data'!T529","v":""},{"$f":"IF('Pivot Table Data'!O529=\"Yes\", 'Pivot Table Data'!T529, \"\")","v":""}]
[{"$f":"'Pivot Table Data'!B530","v":0},{"$f":"'Pivot Table Data'!F530","v":"Roosevelt College"},{"$f":"'Pivot Table Data'!P530","v":"Pangea"},{"$f":"'Pivot Table Data'!I530","v":"Roof (Ground at Scholars Dr)"},{"$f":"'Pivot Table Data'!J530","v":"Reserved"},{"$f":"'Pivot Table Data'!K530","v":"Enterprise"},{"$f":"'Pivot Table Data'!L530","v":0},{"$f":"'Pivot Table Data'!S530","v":4},{"$f":"'Pivot Table Data'!T530","v":4},{"$f":"IF('Pivot Table Data'!O530=\"Yes\", 'Pivot Table Data'!T530, \"\")","v":""}]
[{"$f":"'Pivot Table Data'!B531","v":0},{"$f":"'Pivot Table Data'!F531","v":"Roosevelt College"},{"$f":"'Pivot Table Data'!P531","v":"Pangea"},{"$f":"'Pivot Table Data'!I531","v":"Roof (Ground at Scholars Dr)"},{"$f":"'Pivot Table Data'!J531","v":"Visitor"},{"$f":"'Pivot Table Data'!K531","v":0},{"$f":"'Pivot Table Data'!L531","v":0},{"$f":"'Pivot Table Data'!S531","v":76},{"$f":"'Pivot Table Data'!T531","v":76},{"$f":"IF('Pivot Table Data'!O531=\"Yes\", 'Pivot Table Data'!T531, \"\")","v":76}]
[{"$f":"'Pivot Table Data'!B532","v":0},{"$f":"'Pivot Table Data'!F532","v":"North Torrey Pines Living and Learning"},{"$f":"'Pivot Table Data'!P532","v":"Scholars"},{"$f":"'Pivot Table Data'!I532","v":"B2"},{"$f":"'Pivot Table Data'!J532","v":"Accessible"},{"$f":"'Pivot Table Data'!K532","v":0},{"$f":"'Pivot Table Data'!L532","v":0},{"$f":"'Pivot Table Data'!S532","v":4},{"$f":"'Pivot Table Data'!T532","v":48},{"$f":"IF('Pivot Table Data'!O532=\"Yes\", 'Pivot Table Data'!T532, \"\")","v":""}]
[{"$f":"'Pivot Table Data'!B533","v":0},{"$f":"'Pivot Table Data'!F533","v":"North Torrey Pines Living and Learning"},{"$f":"'Pivot Table Data'!P533","v":"Scholars"},{"$f":"'Pivot Table Data'!I533","v":"B2"},{"$f":"'Pivot Table Data'!J533","v":"Accessible (Van)"},{"$f":"'Pivot Table Data'!K533","v":0},{"$f":"'Pivot Table Data'!L533","v":0},{"$f":"'Pivot Table Data'!S533","v":9},{"$f":"'Pivot Table Data'!T533","v":12},{"$f":"IF('Pivot Table Data'!O533=\"Yes\", 'Pivot Table Data'!T533, \"\")","v":""}]
[{"$f":"'Pivot Table Data'!B534","v":0},{"$f":"'Pivot Table Data'!F534","v":"North Torrey Pines Living and Learning"},{"$f":"'Pivot Table Data'!P534","v":"Scholars"},{"$f":"'Pivot Table Data'!I534","v":"B2"},{"$f":"'Pivot Table Data'!J534","v":"B"},{"$f":"'Pivot Table Data'!K534","v":0},{"$f":"'Pivot Table Data'!L534","v":0},{"$f":"'Pivot Table Data'!S534","v":341},{"$f":"'Pivot Table Data'!T534","v":381},{"$f":"IF('Pivot Table Data'!O534=\"Yes\", 'Pivot Table Data'!T534, \"\")","v":381}]
[{"$f":"'Pivot Table Data'!B535","v":0},{"$f":"'Pivot Table Data'!F535","v":"North Torrey Pines Living and Learning"},{"$f":"'Pivot Table Data'!P535","v":"Scholars"},{"$f":"'Pivot Table Data'!I535","v":"B2"},{"$f":"'Pivot Table Data'!J535","v":"Motorcycle Section"},{"$f":"'Pivot Table Data'!K535","v":0},{"$f":"'Pivot Table Data'!L535","v":0},{"$f":"'Pivot Table Data'!S535","v":30},{"$f":"'Pivot Table Data'!T535","v":30},{"$f":"IF('Pivot Table Data'!O535=\"Yes\", 'Pivot Table Data'!T535, \"\")","v":""}]
[{"$f":"'Pivot Table Data'!B536","v":0},{"$f":"'Pivot Table Data'!F536","v":"North Torrey Pines Living and Learning"},{"$f":"'Pivot Table Data'!P536","v":"Scholars"},{"$f":"'Pivot Table Data'!I536","v":"B2"},{"$f":"'Pivot Table Data'!J536","v":"Reserved"},{"$f":"'Pivot Table Data'!K536","v":0},{"$f":"'Pivot Table Data'!L536","v":0},{"$f":"'Pivot Table Data'!S536","v":4},{"$f":"'Pivot Table Data'!T536","v":26},{"$f":"IF('Pivot Table Data'!O536=\"Yes\", 'Pivot Table Data'!T536, \"\")","v":""}]
[{"$f":"'Pivot Table Data'!B537","v":0},{"$f":"'Pivot Table Data'!F537","v":"North Torrey Pines Living and Learning"},{"$f":"'Pivot Table Data'!P537","v":"Scholars"},{"$f":"'Pivot Table Data'!I537","v":"B2"},{"$f":"'Pivot Table Data'!J537","v":"SR"},{"$f":"'Pivot Table Data'!K537","v":0},{"$f":"'Pivot Table Data'!L537","v":0},{"$f":"'Pivot Table Data'!S537","v":103},{"$f":"'Pivot Table Data'!T537","v":103},{"$f":"IF('Pivot Table Data'!O537=\"Yes\", 'Pivot Table Data'!T537, \"\")","v":103}]
[{"$f":"'Pivot Table Data'!B538","v":0},{"$f":"'Pivot Table Data'!F538","v":"North Torrey Pines Living and Learning"},{"$f":"'Pivot Table Data'!P538","v":"Scholars"},{"$f":"'Pivot Table Data'!I538","v":"B1"},{"$f":"'Pivot Table Data'!J538","v":"A"},{"$f":"'Pivot Table Data'!K538","v":0},{"$f":"'Pivot Table Data'!L538","v":0},{"$f":"'Pivot Table Data'!S538","v":295},{"$f":"'Pivot Table Data'!T538","v":295},{"$f":"IF('Pivot Table Data'!O538=\"Yes\", 'Pivot Table Data'!T538, \"\")","v":295}]
[{"$f":"'Pivot Table Data'!B539","v":0},{"$f":"'Pivot Table Data'!F539","v":"North Torrey Pines Living and Learning"},{"$f":"'Pivot Table Data'!P539","v":"Scholars"},{"$f":"'Pivot Table Data'!I539","v":"B1"},{"$f":"'Pivot Table Data'!J539","v":"Accessible"},{"$f":"'Pivot Table Data'!K539","v":0},{"$f":"'Pivot Table Data'!L539","v":0},{"$f":"'Pivot Table Data'!S539","v":17},{"$f":"'Pivot Table Data'!T539","v":""},{"$f":"IF('Pivot Table Data'!O539=\"Yes\", 'Pivot Table Data'!T539, \"\")","v":""}]
[{"$f":"'Pivot Table Data'!B540","v":0},{"$f":"'Pivot Table Data'!F540","v":"North Torrey Pines Living and Learning"},{"$f":"'Pivot Table Data'!P540","v":"Scholars"},{"$f":"'Pivot Table Data'!I540","v":"B1"},{"$f":"'Pivot Table Data'!J540","v":"Accessible (Van)"},{"$f":"'Pivot Table Data'!K540","v":0},{"$f":"'Pivot Table Data'!L540","v":0},{"$f":"'Pivot Table Data'!S540","v":2},{"$f":"'Pivot Table Data'!T540","v":""},{"$f":"IF('Pivot Table Data'!O540=\"Yes\", 'Pivot Table Data'!T540, \"\")","v":""}]
[{"$f":"'Pivot Table Data'!B541","v":0},{"$f":"'Pivot Table Data'!F541","v":"North Torrey Pines Living and Learning"},{"$f":"'Pivot Table Data'!P541","v":"Scholars"},{"$f":"'Pivot Table Data'!I541","v":"B1"},{"$f":"'Pivot Table Data'!J541","v":"B"},{"$f":"'Pivot Table Data'!K541","v":0},{"$f":"'Pivot Table Data'!L541","v":0},{"$f":"'Pivot Table Data'!S541","v":40},{"$f":"'Pivot Table Data'!T541","v":""},{"$f":"IF('Pivot Table Data'!O541=\"Yes\", 'Pivot Table Data'!T541, \"\")","v":""}]
[{"$f":"'Pivot Table Data'!B542","v":0},{"$f":"'Pivot Table Data'!F542","v":"North Torrey Pines Living and Learning"},{"$f":"'Pivot Table Data'!P542","v":"Scholars"},{"$f":"'Pivot Table Data'!I542","v":"B1"},{"$f":"'Pivot Table Data'!J542","v":"Carpool"},{"$f":"'Pivot Table Data'!K542","v":"2 Person"},{"$f":"'Pivot Table Data'!L542","v":0},{"$f":"'Pivot Table Data'!S542","v":92},{"$f":"'Pivot Table Data'!T542","v":92},{"$f":"IF('Pivot Table Data'!O542=\"Yes\", 'Pivot Table Data'!T542, \"\")","v":92}]
[{"$f":"'Pivot Table Data'!B543","v":0},{"$f":"'Pivot Table Data'!F543","v":"North Torrey Pines Living and Learning"},{"$f":"'Pivot Table Data'!P543","v":"Scholars"},{"$f":"'Pivot Table Data'!I543","v":"B1"},{"$f":"'Pivot Table Data'!J543","v":"Motorcycle Section"},{"$f":"'Pivot Table Data'!K543","v":0},{"$f":"'Pivot Table Data'!L543","v":0},{"$f":"'Pivot Table Data'!S543","v":0},{"$f":"'Pivot Table Data'!T543","v":""},{"$f":"IF('Pivot Table Data'!O543=\"Yes\", 'Pivot Table Data'!T543, \"\")","v":""}]
[{"$f":"'Pivot Table Data'!B544","v":0},{"$f":"'Pivot Table Data'!F544","v":"North Torrey Pines Living and Learning"},{"$f":"'Pivot Table Data'!P544","v":"Scholars"},{"$f":"'Pivot Table Data'!I544","v":"B1"},{"$f":"'Pivot Table Data'!J544","v":"Reserved"},{"$f":"'Pivot Table Data'!K544","v":0},{"$f":"'Pivot Table Data'!L544","v":0},{"$f":"'Pivot Table Data'!S544","v":8},{"$f":"'Pivot Table Data'!T544","v":""},{"$f":"IF('Pivot Table Data'!O544=\"Yes\", 'Pivot Table Data'!T544, \"\")","v":""}]
[{"$f":"'Pivot Table Data'!B545","v":0},{"$f":"'Pivot Table Data'!F545","v":"North Torrey Pines Living and Learning"},{"$f":"'Pivot Table Data'!P545","v":"Scholars"},{"$f":"'Pivot Table Data'!I545","v":"B1"},{"$f":"'Pivot Table Data'!J545","v":"Service Yard"},{"$f":"'Pivot Table Data'!K545","v":0},{"$f":"'Pivot Table Data'!L545","v":0},{"$f":"'Pivot Table Data'!S545","v":4},{"$f":"'Pivot Table Data'!T545","v":4},{"$f":"IF('Pivot Table Data'!O545=\"Yes\", 'Pivot Table Data'!T545, \"\")","v":""}]
[{"$f":"'Pivot Table Data'!B546","v":0},{"$f":"'Pivot Table Data'!F546","v":"North Torrey Pines Living and Learning"},{"$f":"'Pivot Table Data'!P546","v":"Scholars"},{"$f":"'Pivot Table Data'!I546","v":"B1"},{"$f":"'Pivot Table Data'!J546","v":"Visitor"},{"$f":"'Pivot Table Data'!K546","v":0},{"$f":"'Pivot Table Data'!L546","v":0},{"$f":"'Pivot Table Data'!S546","v":42},{"$f":"'Pivot Table Data'!T546","v":42},{"$f":"IF('Pivot Table Data'!O546=\"Yes\", 'Pivot Table Data'!T546, \"\")","v":42}]
[{"$f":"'Pivot Table Data'!B547","v":0},{"$f":"'Pivot Table Data'!F547","v":"North Torrey Pines Living and Learning"},{"$f":"'Pivot Table Data'!P547","v":"Scholars"},{"$f":"'Pivot Table Data'!I547","v":"Ground"},{"$f":"'Pivot Table Data'!J547","v":"Accessible"},{"$f":"'Pivot Table Data'!K547","v":0},{"$f":"'Pivot Table Data'!L547","v":0},{"$f":"'Pivot Table Data'!S547","v":27},{"$f":"'Pivot Table Data'!T547","v":""},{"$f":"IF('Pivot Table Data'!O547=\"Yes\", 'Pivot Table Data'!T547, \"\")","v":""}]
[{"$f":"'Pivot Table Data'!B548","v":0},{"$f":"'Pivot Table Data'!F548","v":"North Torrey Pines Living and Learning"},{"$f":"'Pivot Table Data'!P548","v":"Scholars"},{"$f":"'Pivot Table Data'!I548","v":"Ground"},{"$f":"'Pivot Table Data'!J548","v":"Accessible (Van)"},{"$f":"'Pivot Table Data'!K548","v":0},{"$f":"'Pivot Table Data'!L548","v":"4-Hours"},{"$f":"'Pivot Table Data'!S548","v":0},{"$f":"'Pivot Table Data'!T548","v":0},{"$f":"IF('Pivot Table Data'!O548=\"Yes\", 'Pivot Table Data'!T548, \"\")","v":""}]
[{"$f":"'Pivot Table Data'!B549","v":0},{"$f":"'Pivot Table Data'!F549","v":"North Torrey Pines Living and Learning"},{"$f":"'Pivot Table Data'!P549","v":"Scholars"},{"$f":"'Pivot Table Data'!I549","v":"Ground"},{"$f":"'Pivot Table Data'!J549","v":"Accessible (Van)"},{"$f":"'Pivot Table Data'!K549","v":0},{"$f":"'Pivot Table Data'!L549","v":0},{"$f":"'Pivot Table Data'!S549","v":1},{"$f":"'Pivot Table Data'!T549","v":""},{"$f":"IF('Pivot Table Data'!O549=\"Yes\", 'Pivot Table Data'!T549, \"\")","v":""}]
[{"$f":"'Pivot Table Data'!B550","v":0},{"$f":"'Pivot Table Data'!F550","v":"North Torrey Pines Living and Learning"},{"$f":"'Pivot Table Data'!P550","v":"Scholars"},{"$f":"'Pivot Table Data'!I550","v":"Ground"},{"$f":"'Pivot Table Data'!J550","v":"Electric Vehicle"},{"$f":"'Pivot Table Data'!K550","v":"ADA"},{"$f":"'Pivot Table Data'!L550","v":"4-Hours"},{"$f":"'Pivot Table Data'!S550","v":5},{"$f":"'Pivot Table Data'!T550","v":5},{"$f":"IF('Pivot Table Data'!O550=\"Yes\", 'Pivot Table Data'!T550, \"\")","v":""}]
[{"$f":"'Pivot Table Data'!B551","v":0},{"$f":"'Pivot Table Data'!F551","v":"North Torrey Pines Living and Learning"},{"$f":"'Pivot Table Data'!P551","v":"Scholars"},{"$f":"'Pivot Table Data'!I551","v":"Ground"},{"$f":"'Pivot Table Data'!J551","v":"Electric Vehicle"},{"$f":"'Pivot Table Data'!K551","v":0},{"$f":"'Pivot Table Data'!L551","v":0},{"$f":"'Pivot Table Data'!S551","v":30},{"$f":"'Pivot Table Data'!T551","v":30},{"$f":"IF('Pivot Table Data'!O551=\"Yes\", 'Pivot Table Data'!T551, \"\")","v":""}]
[{"$f":"'Pivot Table Data'!B552","v":0},{"$f":"'Pivot Table Data'!F552","v":"North Torrey Pines Living and Learning"},{"$f":"'Pivot Table Data'!P552","v":"Scholars"},{"$f":"'Pivot Table Data'!I552","v":"Ground"},{"$f":"'Pivot Table Data'!J552","v":"Motorcycle Section"},{"$f":"'Pivot Table Data'!K552","v":0},{"$f":"'Pivot Table Data'!L552","v":0},{"$f":"'Pivot Table Data'!S552","v":0},{"$f":"'Pivot Table Data'!T552","v":""},{"$f":"IF('Pivot Table Data'!O552=\"Yes\", 'Pivot Table Data'!T552, \"\")","v":""}]
[{"$f":"'Pivot Table Data'!B553","v":0},{"$f":"'Pivot Table Data'!F553","v":"North Torrey Pines Living and Learning"},{"$f":"'Pivot Table Data'!P553","v":"Scholars"},{"$f":"'Pivot Table Data'!I553","v":"Ground"},{"$f":"'Pivot Table Data'!J553","v":"Reserved"},{"$f":"'Pivot Table Data'!K553","v":"Food Pickup"},{"$f":"'Pivot Table Data'!L553","v":15},{"$f":"'Pivot Table Data'!S553","v":3},{"$f":"'Pivot Table Data'!T553","v":3},{"$f":"IF('Pivot Table Data'!O553=\"Yes\", 'Pivot Table Data'!T553, \"\")","v":""}]
[{"$f":"'Pivot Table Data'!B554","v":0},{"$f":"'Pivot Table Data'!F554","v":"North Torrey Pines Living and Learning"},{"$f":"'Pivot Table Data'!P554","v":"Scholars"},{"$f":"'Pivot Table Data'!I554","v":"Ground"},{"$f":"'Pivot Table Data'!J554","v":"Reserved"},{"$f":"'Pivot Table Data'!K554","v":0},{"$f":"'Pivot Table Data'!L554","v":0},{"$f":"'Pivot Table Data'!S554","v":14},{"$f":"'Pivot Table Data'!T554","v":""},{"$f":"IF('Pivot Table Data'!O554=\"Yes\", 'Pivot Table Data'!T554, \"\")","v":""}]
[{"$f":"'Pivot Table Data'!B555","v":0},{"$f":"'Pivot Table Data'!F555","v":"North Torrey Pines Living and Learning"},{"$f":"'Pivot Table Data'!P555","v":"Scholars"},{"$f":"'Pivot Table Data'!I555","v":"Ground"},{"$f":"'Pivot Table Data'!J555","v":"Visitor"},{"$f":"'Pivot Table Data'!K555","v":"2-Hour Limit"},{"$f":"'Pivot Table Data'!L555","v":60},{"$f":"'Pivot Table Data'!S555","v":111},{"$f":"'Pivot Table Data'!T555","v":111},{"$f":"IF('Pivot Table Data'!O555=\"Yes\", 'Pivot Table Data'!T555, \"\")","v":111}]
[{"$f":"'Pivot Table Data'!B556","v":0},{"$f":"'Pivot Table Data'!F556","v":"Health Sciences West"},{"$f":"'Pivot Table Data'!P556","v":"South"},{"$f":"'Pivot Table Data'!I556","v":"Basement (Level 1)"},{"$f":"'Pivot Table Data'!J556","v":"A"},{"$f":"'Pivot Table Data'!K556","v":0},{"$f":"'Pivot Table Data'!L556","v":0},{"$f":"'Pivot Table Data'!S556","v":185},{"$f":"'Pivot Table Data'!T556","v":449},{"$f":"IF('Pivot Table Data'!O556=\"Yes\", 'Pivot Table Data'!T556, \"\")","v":449}]
[{"$f":"'Pivot Table Data'!B557","v":0},{"$f":"'Pivot Table Data'!F557","v":"Health Sciences West"},{"$f":"'Pivot Table Data'!P557","v":"South"},{"$f":"'Pivot Table Data'!I557","v":"Basement (Level 1)"},{"$f":"'Pivot Table Data'!J557","v":"Accessible"},{"$f":"'Pivot Table Data'!K557","v":0},{"$f":"'Pivot Table Data'!L557","v":0},{"$f":"'Pivot Table Data'!S557","v":1},{"$f":"'Pivot Table Data'!T557","v":22},{"$f":"IF('Pivot Table Data'!O557=\"Yes\", 'Pivot Table Data'!T557, \"\")","v":""}]
[{"$f":"'Pivot Table Data'!B558","v":0},{"$f":"'Pivot Table Data'!F558","v":"Health Sciences West"},{"$f":"'Pivot Table Data'!P558","v":"South"},{"$f":"'Pivot Table Data'!I558","v":"Basement (Level 1)"},{"$f":"'Pivot Table Data'!J558","v":"Accessible (Van)"},{"$f":"'Pivot Table Data'!K558","v":0},{"$f":"'Pivot Table Data'!L558","v":0},{"$f":"'Pivot Table Data'!S558","v":0},{"$f":"'Pivot Table Data'!T558","v":1},{"$f":"IF('Pivot Table Data'!O558=\"Yes\", 'Pivot Table Data'!T558, \"\")","v":""}]
[{"$f":"'Pivot Table Data'!B559","v":0},{"$f":"'Pivot Table Data'!F559","v":"Health Sciences West"},{"$f":"'Pivot Table Data'!P559","v":"South"},{"$f":"'Pivot Table Data'!I559","v":"Basement (Level 1)"},{"$f":"'Pivot Table Data'!J559","v":"Electric Vehicle"},{"$f":"'Pivot Table Data'!K559","v":0},{"$f":"'Pivot Table Data'!L559","v":0},{"$f":"'Pivot Table Data'!S559","v":8},{"$f":"'Pivot Table Data'!T559","v":30},{"$f":"IF('Pivot Table Data'!O559=\"Yes\", 'Pivot Table Data'!T559, \"\")","v":""}]
[{"$f":"'Pivot Table Data'!B560","v":0},{"$f":"'Pivot Table Data'!F560","v":"Health Sciences West"},{"$f":"'Pivot Table Data'!P560","v":"South"},{"$f":"'Pivot Table Data'!I560","v":"Basement (Level 1)"},{"$f":"'Pivot Table Data'!J560","v":"Motorcycle Section"},{"$f":"'Pivot Table Data'!K560","v":0},{"$f":"'Pivot Table Data'!L560","v":0},{"$f":"'Pivot Table Data'!S560","v":3},{"$f":"'Pivot Table Data'!T560","v":15},{"$f":"IF('Pivot Table Data'!O560=\"Yes\", 'Pivot Table Data'!T560, \"\")","v":""}]
[{"$f":"'Pivot Table Data'!B561","v":0},{"$f":"'Pivot Table Data'!F561","v":"Health Sciences West"},{"$f":"'Pivot Table Data'!P561","v":"South"},{"$f":"'Pivot Table Data'!I561","v":"Basement (Level 1)"},{"$f":"'Pivot Table Data'!J561","v":"S"},{"$f":"'Pivot Table Data'!K561","v":0},{"$f":"'Pivot Table Data'!L561","v":0},{"$f":"'Pivot Table Data'!S561","v":1},{"$f":"'Pivot Table Data'!T561","v":1},{"$f":"IF('Pivot Table Data'!O561=\"Yes\", 'Pivot Table Data'!T561, \"\")","v":1}]
[{"$f":"'Pivot Table Data'!B562","v":0},{"$f":"'Pivot Table Data'!F562","v":"Health Sciences West"},{"$f":"'Pivot Table Data'!P562","v":"South"},{"$f":"'Pivot Table Data'!I562","v":"Basement (Level 1)"},{"$f":"'Pivot Table Data'!J562","v":"Service Yard"},{"$f":"'Pivot Table Data'!K562","v":0},{"$f":"'Pivot Table Data'!L562","v":0},{"$f":"'Pivot Table Data'!S562","v":2},{"$f":"'Pivot Table Data'!T562","v":2},{"$f":"IF('Pivot Table Data'!O562=\"Yes\", 'Pivot Table Data'!T562, \"\")","v":""}]
[{"$f":"'Pivot Table Data'!B563","v":0},{"$f":"'Pivot Table Data'!F563","v":"Health Sciences West"},{"$f":"'Pivot Table Data'!P563","v":"South"},{"$f":"'Pivot Table Data'!I563","v":"Basement (Level 1)"},{"$f":"'Pivot Table Data'!J563","v":"SR"},{"$f":"'Pivot Table Data'!K563","v":0},{"$f":"'Pivot Table Data'!L563","v":0},{"$f":"'Pivot Table Data'!S563","v":68},{"$f":"'Pivot Table Data'!T563","v":68},{"$f":"IF('Pivot Table Data'!O563=\"Yes\", 'Pivot Table Data'!T563, \"\")","v":68}]
[{"$f":"'Pivot Table Data'!B564","v":0},{"$f":"'Pivot Table Data'!F564","v":"Health Sciences West"},{"$f":"'Pivot Table Data'!P564","v":"South"},{"$f":"'Pivot Table Data'!I564","v":"Basement (Level 1)"},{"$f":"'Pivot Table Data'!J564","v":"UC Vehicle"},{"$f":"'Pivot Table Data'!K564","v":"UC Cart"},{"$f":"'Pivot Table Data'!L564","v":0},{"$f":"'Pivot Table Data'!S564","v":3},{"$f":"'Pivot Table Data'!T564","v":9},{"$f":"IF('Pivot Table Data'!O564=\"Yes\", 'Pivot Table Data'!T564, \"\")","v":""}]
[{"$f":"'Pivot Table Data'!B565","v":0},{"$f":"'Pivot Table Data'!F565","v":"Health Sciences West"},{"$f":"'Pivot Table Data'!P565","v":"South"},{"$f":"'Pivot Table Data'!I565","v":"Basement (Level 1)"},{"$f":"'Pivot Table Data'!J565","v":"UC Vehicle"},{"$f":"'Pivot Table Data'!K565","v":0},{"$f":"'Pivot Table Data'!L565","v":0},{"$f":"'Pivot Table Data'!S565","v":4},{"$f":"'Pivot Table Data'!T565","v":4},{"$f":"IF('Pivot Table Data'!O565=\"Yes\", 'Pivot Table Data'!T565, \"\")","v":""}]
[{"$f":"'Pivot Table Data'!B566","v":0},{"$f":"'Pivot Table Data'!F566","v":"Health Sciences West"},{"$f":"'Pivot Table Data'!P566","v":"South"},{"$f":"'Pivot Table Data'!I566","v":"Level 2"},{"$f":"'Pivot Table Data'!J566","v":"A"},{"$f":"'Pivot Table Data'!K566","v":0},{"$f":"'Pivot Table Data'!L566","v":0},{"$f":"'Pivot Table Data'!S566","v":240},{"$f":"'Pivot Table Data'!T566","v":""},{"$f":"IF('Pivot Table Data'!O566=\"Yes\", 'Pivot Table Data'!T566, \"\")","v":""}]
[{"$f":"'Pivot Table Data'!B567","v":0},{"$f":"'Pivot Table Data'!F567","v":"Health Sciences West"},{"$f":"'Pivot Table Data'!P567","v":"South"},{"$f":"'Pivot Table Data'!I567","v":"Level 2"},{"$f":"'Pivot Table Data'!J567","v":"Accessible"},{"$f":"'Pivot Table Data'!K567","v":0},{"$f":"'Pivot Table Data'!L567","v":0},{"$f":"'Pivot Table Data'!S567","v":5},{"$f":"'Pivot Table Data'!T567","v":""},{"$f":"IF('Pivot Table Data'!O567=\"Yes\", 'Pivot Table Data'!T567, \"\")","v":""}]
[{"$f":"'Pivot Table Data'!B568","v":0},{"$f":"'Pivot Table Data'!F568","v":"Health Sciences West"},{"$f":"'Pivot Table Data'!P568","v":"South"},{"$f":"'Pivot Table Data'!I568","v":"Level 2"},{"$f":"'Pivot Table Data'!J568","v":"Accessible (Van)"},{"$f":"'Pivot Table Data'!K568","v":0},{"$f":"'Pivot Table Data'!L568","v":0},{"$f":"'Pivot Table Data'!S568","v":0},{"$f":"'Pivot Table Data'!T568","v":""},{"$f":"IF('Pivot Table Data'!O568=\"Yes\", 'Pivot Table Data'!T568, \"\")","v":""}]
[{"$f":"'Pivot Table Data'!B569","v":0},{"$f":"'Pivot Table Data'!F569","v":"Health Sciences West"},{"$f":"'Pivot Table Data'!P569","v":"South"},{"$f":"'Pivot Table Data'!I569","v":"Level 2"},{"$f":"'Pivot Table Data'!J569","v":"B"},{"$f":"'Pivot Table Data'!K569","v":0},{"$f":"'Pivot Table Data'!L569","v":0},{"$f":"'Pivot Table Data'!S569","v":0},{"$f":"'Pivot Table Data'!T569","v":537},{"$f":"IF('Pivot Table Data'!O569=\"Yes\", 'Pivot Table Data'!T569, \"\")","v":537}]
[{"$f":"'Pivot Table Data'!B570","v":0},{"$f":"'Pivot Table Data'!F570","v":"Health Sciences West"},{"$f":"'Pivot Table Data'!P570","v":"South"},{"$f":"'Pivot Table Data'!I570","v":"Level 2"},{"$f":"'Pivot Table Data'!J570","v":"Carpool"},{"$f":"'Pivot Table Data'!K570","v":"2 Person Carpool"},{"$f":"'Pivot Table Data'!L570","v":0},{"$f":"'Pivot Table Data'!S570","v":0},{"$f":"'Pivot Table Data'!T570","v":61},{"$f":"IF('Pivot Table Data'!O570=\"Yes\", 'Pivot Table Data'!T570, \"\")","v":61}]
[{"$f":"'Pivot Table Data'!B571","v":0},{"$f":"'Pivot Table Data'!F571","v":"Health Sciences West"},{"$f":"'Pivot Table Data'!P571","v":"South"},{"$f":"'Pivot Table Data'!I571","v":"Level 2"},{"$f":"'Pivot Table Data'!J571","v":"Electric Vehicle"},{"$f":"'Pivot Table Data'!K571","v":0},{"$f":"'Pivot Table Data'!L571","v":0},{"$f":"'Pivot Table Data'!S571","v":8},{"$f":"'Pivot Table Data'!T571","v":""},{"$f":"IF('Pivot Table Data'!O571=\"Yes\", 'Pivot Table Data'!T571, \"\")","v":""}]
[{"$f":"'Pivot Table Data'!B572","v":0},{"$f":"'Pivot Table Data'!F572","v":"Health Sciences West"},{"$f":"'Pivot Table Data'!P572","v":"South"},{"$f":"'Pivot Table Data'!I572","v":"Level 2"},{"$f":"'Pivot Table Data'!J572","v":"Motorcycle Section"},{"$f":"'Pivot Table Data'!K572","v":0},{"$f":"'Pivot Table Data'!L572","v":0},{"$f":"'Pivot Table Data'!S572","v":3},{"$f":"'Pivot Table Data'!T572","v":""},{"$f":"IF('Pivot Table Data'!O572=\"Yes\", 'Pivot Table Data'!T572, \"\")","v":""}]
[{"$f":"'Pivot Table Data'!B573","v":0},{"$f":"'Pivot Table Data'!F573","v":"Health Sciences West"},{"$f":"'Pivot Table Data'!P573","v":"South"},{"$f":"'Pivot Table Data'!I573","v":"Level 2"},{"$f":"'Pivot Table Data'!J573","v":"S"},{"$f":"'Pivot Table Data'!K573","v":0},{"$f":"'Pivot Table Data'!L573","v":0},{"$f":"'Pivot Table Data'!S573","v":0},{"$f":"'Pivot Table Data'!T573","v":""},{"$f":"IF('Pivot Table Data'!O573=\"Yes\", 'Pivot Table Data'!T573, \"\")","v":""}]
[{"$f":"'Pivot Table Data'!B574","v":0},{"$f":"'Pivot Table Data'!F574","v":"Health Sciences West"},{"$f":"'Pivot Table Data'!P574","v":"South"},{"$f":"'Pivot Table Data'!I574","v":"Level 2"},{"$f":"'Pivot Table Data'!J574","v":"UC Vehicle"},{"$f":"'Pivot Table Data'!K574","v":"UC Cart"},{"$f":"'Pivot Table Data'!L574","v":0},{"$f":"'Pivot Table Data'!S574","v":2},{"$f":"'Pivot Table Data'!T574","v":""},{"$f":"IF('Pivot Table Data'!O574=\"Yes\", 'Pivot Table Data'!T574, \"\")","v":""}]
[{"$f":"'Pivot Table Data'!B575","v":0},{"$f":"'Pivot Table Data'!F575","v":"Health Sciences West"},{"$f":"'Pivot Table Data'!P575","v":"South"},{"$f":"'Pivot Table Data'!I575","v":"Level 3"},{"$f":"'Pivot Table Data'!J575","v":"A"},{"$f":"'Pivot Table Data'!K575","v":0},{"$f":"'Pivot Table Data'!L575","v":0},{"$f":"'Pivot Table Data'!S575","v":24},{"$f":"'Pivot Table Data'!T575","v":""},{"$f":"IF('Pivot Table Data'!O575=\"Yes\", 'Pivot Table Data'!T575, \"\")","v":""}]
[{"$f":"'Pivot Table Data'!B576","v":0},{"$f":"'Pivot Table Data'!F576","v":"Health Sciences West"},{"$f":"'Pivot Table Data'!P576","v":"South"},{"$f":"'Pivot Table Data'!I576","v":"Level 3"},{"$f":"'Pivot Table Data'!J576","v":"Accessible"},{"$f":"'Pivot Table Data'!K576","v":0},{"$f":"'Pivot Table Data'!L576","v":0},{"$f":"'Pivot Table Data'!S576","v":5},{"$f":"'Pivot Table Data'!T576","v":""},{"$f":"IF('Pivot Table Data'!O576=\"Yes\", 'Pivot Table Data'!T576, \"\")","v":""}]
[{"$f":"'Pivot Table Data'!B577","v":0},{"$f":"'Pivot Table Data'!F577","v":"Health Sciences West"},{"$f":"'Pivot Table Data'!P577","v":"South"},{"$f":"'Pivot Table Data'!I577","v":"Level 3"},{"$f":"'Pivot Table Data'!J577","v":"Accessible (Van)"},{"$f":"'Pivot Table Data'!K577","v":0},{"$f":"'Pivot Table Data'!L577","v":0},{"$f":"'Pivot Table Data'!S577","v":1},{"$f":"'Pivot Table Data'!T577","v":""},{"$f":"IF('Pivot Table Data'!O577=\"Yes\", 'Pivot Table Data'!T577, \"\")","v":""}]
[{"$f":"'Pivot Table Data'!B578","v":0},{"$f":"'Pivot Table Data'!F578","v":"Health Sciences West"},{"$f":"'Pivot Table Data'!P578","v":"South"},{"$f":"'Pivot Table Data'!I578","v":"Level 3"},{"$f":"'Pivot Table Data'!J578","v":"B"},{"$f":"'Pivot Table Data'!K578","v":0},{"$f":"'Pivot Table Data'!L578","v":0},{"$f":"'Pivot Table Data'!S578","v":92},{"$f":"'Pivot Table Data'!T578","v":""},{"$f":"IF('Pivot Table Data'!O578=\"Yes\", 'Pivot Table Data'!T578, \"\")","v":""}]
[{"$f":"'Pivot Table Data'!B579","v":0},{"$f":"'Pivot Table Data'!F579","v":"Health Sciences West"},{"$f":"'Pivot Table Data'!P579","v":"South"},{"$f":"'Pivot Table Data'!I579","v":"Level 3"},{"$f":"'Pivot Table Data'!J579","v":"Carpool"},{"$f":"'Pivot Table Data'!K579","v":"B 3-Person"},{"$f":"'Pivot Table Data'!L579","v":0},{"$f":"'Pivot Table Data'!S579","v":3},{"$f":"'Pivot Table Data'!T579","v":3},{"$f":"IF('Pivot Table Data'!O579=\"Yes\", 'Pivot Table Data'!T579, \"\")","v":3}]
[{"$f":"'Pivot Table Data'!B580","v":0},{"$f":"'Pivot Table Data'!F580","v":"Health Sciences West"},{"$f":"'Pivot Table Data'!P580","v":"South"},{"$f":"'Pivot Table Data'!I580","v":"Level 3"},{"$f":"'Pivot Table Data'!J580","v":"Electric Vehicle"},{"$f":"'Pivot Table Data'!K580","v":0},{"$f":"'Pivot Table Data'!L580","v":0},{"$f":"'Pivot Table Data'!S580","v":6},{"$f":"'Pivot Table Data'!T580","v":""},{"$f":"IF('Pivot Table Data'!O580=\"Yes\", 'Pivot Table Data'!T580, \"\")","v":""}]
[{"$f":"'Pivot Table Data'!B581","v":0},{"$f":"'Pivot Table Data'!F581","v":"Health Sciences West"},{"$f":"'Pivot Table Data'!P581","v":"South"},{"$f":"'Pivot Table Data'!I581","v":"Level 3"},{"$f":"'Pivot Table Data'!J581","v":"Motorcycle Section"},{"$f":"'Pivot Table Data'!K581","v":0},{"$f":"'Pivot Table Data'!L581","v":0},{"$f":"'Pivot Table Data'!S581","v":3},{"$f":"'Pivot Table Data'!T581","v":""},{"$f":"IF('Pivot Table Data'!O581=\"Yes\", 'Pivot Table Data'!T581, \"\")","v":""}]
[{"$f":"'Pivot Table Data'!B582","v":0},{"$f":"'Pivot Table Data'!F582","v":"Health Sciences West"},{"$f":"'Pivot Table Data'!P582","v":"South"},{"$f":"'Pivot Table Data'!I582","v":"Level 3"},{"$f":"'Pivot Table Data'!J582","v":"Reserved"},{"$f":"'Pivot Table Data'!K582","v":0},{"$f":"'Pivot Table Data'!L582","v":0},{"$f":"'Pivot Table Data'!S582","v":5},{"$f":"'Pivot Table Data'!T582","v":5},{"$f":"IF('Pivot Table Data'!O582=\"Yes\", 'Pivot Table Data'!T582, \"\")","v":""}]
[{"$f":"'Pivot Table Data'!B583","v":0},{"$f":"'Pivot Table Data'!F583","v":"Health Sciences West"},{"$f":"'Pivot Table Data'!P583","v":"South"},{"$f":"'Pivot Table Data'!I583","v":"Level 3"},{"$f":"'Pivot Table Data'!J583","v":"UC Vehicle"},{"$f":"'Pivot Table Data'!K583","v":"UC Cart"},{"$f":"'Pivot Table Data'!L583","v":0},{"$f":"'Pivot Table Data'!S583","v":2},{"$f":"'Pivot Table Data'!T583","v":""},{"$f":"IF('Pivot Table Data'!O583=\"Yes\", 'Pivot Table Data'!T583, \"\")","v":""}]
[{"$f":"'Pivot Table Data'!B584","v":0},{"$f":"'Pivot Table Data'!F584","v":"Health Sciences West"},{"$f":"'Pivot Table Data'!P584","v":"South"},{"$f":"'Pivot Table Data'!I584","v":"Level 3"},{"$f":"'Pivot Table Data'!J584","v":"Visitor"},{"$f":"'Pivot Table Data'!K584","v":0},{"$f":"'Pivot Table Data'!L584","v":0},{"$f":"'Pivot Table Data'!S584","v":113},{"$f":"'Pivot Table Data'!T584","v":113},{"$f":"IF('Pivot Table Data'!O584=\"Yes\", 'Pivot Table Data'!T584, \"\")","v":113}]
[{"$f":"'Pivot Table Data'!B585","v":0},{"$f":"'Pivot Table Data'!F585","v":"Health Sciences West"},{"$f":"'Pivot Table Data'!P585","v":"South"},{"$f":"'Pivot Table Data'!I585","v":"Level 4"},{"$f":"'Pivot Table Data'!J585","v":"A"},{"$f":"'Pivot Table Data'!K585","v":0},{"$f":"'Pivot Table Data'!L585","v":0},{"$f":"'Pivot Table Data'!S585","v":0},{"$f":"'Pivot Table Data'!T585","v":""},{"$f":"IF('Pivot Table Data'!O585=\"Yes\", 'Pivot Table Data'!T585, \"\")","v":""}]
[{"$f":"'Pivot Table Data'!B586","v":0},{"$f":"'Pivot Table Data'!F586","v":"Health Sciences West"},{"$f":"'Pivot Table Data'!P586","v":"South"},{"$f":"'Pivot Table Data'!I586","v":"Level 4"},{"$f":"'Pivot Table Data'!J586","v":"Accessible"},{"$f":"'Pivot Table Data'!K586","v":0},{"$f":"'Pivot Table Data'!L586","v":0},{"$f":"'Pivot Table Data'!S586","v":6},{"$f":"'Pivot Table Data'!T586","v":""},{"$f":"IF('Pivot Table Data'!O586=\"Yes\", 'Pivot Table Data'!T586, \"\")","v":""}]
[{"$f":"'Pivot Table Data'!B587","v":0},{"$f":"'Pivot Table Data'!F587","v":"Health Sciences West"},{"$f":"'Pivot Table Data'!P587","v":"South"},{"$f":"'Pivot Table Data'!I587","v":"Level 4"},{"$f":"'Pivot Table Data'!J587","v":"Accessible (Van)"},{"$f":"'Pivot Table Data'!K587","v":0},{"$f":"'Pivot Table Data'!L587","v":0},{"$f":"'Pivot Table Data'!S587","v":0},{"$f":"'Pivot Table Data'!T587","v":""},{"$f":"IF('Pivot Table Data'!O587=\"Yes\", 'Pivot Table Data'!T587, \"\")","v":""}]
[{"$f":"'Pivot Table Data'!B588","v":0},{"$f":"'Pivot Table Data'!F588","v":"Health Sciences West"},{"$f":"'Pivot Table Data'!P588","v":"South"},{"$f":"'Pivot Table Data'!I588","v":"Level 4"},{"$f":"'Pivot Table Data'!J588","v":"B"},{"$f":"'Pivot Table Data'!K588","v":0},{"$f":"'Pivot Table Data'!L588","v":0},{"$f":"'Pivot Table Data'!S588","v":183},{"$f":"'Pivot Table Data'!T588","v":""},{"$f":"IF('Pivot Table Data'!O588=\"Yes\", 'Pivot Table Data'!T588, \"\")","v":""}]
[{"$f":"'Pivot Table Data'!B589","v":0},{"$f":"'Pivot Table Data'!F589","v":"Health Sciences West"},{"$f":"'Pivot Table Data'!P589","v":"South"},{"$f":"'Pivot Table Data'!I589","v":"Level 4"},{"$f":"'Pivot Table Data'!J589","v":"Carpool"},{"$f":"'Pivot Table Data'!K589","v":"2 Person Carpool"},{"$f":"'Pivot Table Data'!L589","v":0},{"$f":"'Pivot Table Data'!S589","v":61},{"$f":"'Pivot Table Data'!T589","v":""},{"$f":"IF('Pivot Table Data'!O589=\"Yes\", 'Pivot Table Data'!T589, \"\")","v":""}]
[{"$f":"'Pivot Table Data'!B590","v":0},{"$f":"'Pivot Table Data'!F590","v":"Health Sciences West"},{"$f":"'Pivot Table Data'!P590","v":"South"},{"$f":"'Pivot Table Data'!I590","v":"Level 4"},{"$f":"'Pivot Table Data'!J590","v":"Electric Vehicle"},{"$f":"'Pivot Table Data'!K590","v":0},{"$f":"'Pivot Table Data'!L590","v":0},{"$f":"'Pivot Table Data'!S590","v":8},{"$f":"'Pivot Table Data'!T590","v":""},{"$f":"IF('Pivot Table Data'!O590=\"Yes\", 'Pivot Table Data'!T590, \"\")","v":""}]
[{"$f":"'Pivot Table Data'!B591","v":0},{"$f":"'Pivot Table Data'!F591","v":"Health Sciences West"},{"$f":"'Pivot Table Data'!P591","v":"South"},{"$f":"'Pivot Table Data'!I591","v":"Level 4"},{"$f":"'Pivot Table Data'!J591","v":"Motorcycle Section"},{"$f":"'Pivot Table Data'!K591","v":0},{"$f":"'Pivot Table Data'!L591","v":0},{"$f":"'Pivot Table Data'!S591","v":3},{"$f":"'Pivot Table Data'!T591","v":""},{"$f":"IF('Pivot Table Data'!O591=\"Yes\", 'Pivot Table Data'!T591, \"\")","v":""}]
[{"$f":"'Pivot Table Data'!B592","v":0},{"$f":"'Pivot Table Data'!F592","v":"Health Sciences West"},{"$f":"'Pivot Table Data'!P592","v":"South"},{"$f":"'Pivot Table Data'!I592","v":"Level 4"},{"$f":"'Pivot Table Data'!J592","v":"UC Vehicle"},{"$f":"'Pivot Table Data'!K592","v":"UC Cart"},{"$f":"'Pivot Table Data'!L592","v":0},{"$f":"'Pivot Table Data'!S592","v":1},{"$f":"'Pivot Table Data'!T592","v":""},{"$f":"IF('Pivot Table Data'!O592=\"Yes\", 'Pivot Table Data'!T592, \"\")","v":""}]
[{"$f":"'Pivot Table Data'!B593","v":0},{"$f":"'Pivot Table Data'!F593","v":"Health Sciences West"},{"$f":"'Pivot Table Data'!P593","v":"South"},{"$f":"'Pivot Table Data'!I593","v":"Level 5"},{"$f":"'Pivot Table Data'!J593","v":"Accessible"},{"$f":"'Pivot Table Data'!K593","v":0},{"$f":"'Pivot Table Data'!L593","v":0},{"$f":"'Pivot Table Data'!S593","v":5},{"$f":"'Pivot Table Data'!T593","v":""},{"$f":"IF('Pivot Table Data'!O593=\"Yes\", 'Pivot Table Data'!T593, \"\")","v":""}]
[{"$f":"'Pivot Table Data'!B594","v":0},{"$f":"'Pivot Table Data'!F594","v":"Health Sciences West"},{"$f":"'Pivot Table Data'!P594","v":"South"},{"$f":"'Pivot Table Data'!I594","v":"Level 5"},{"$f":"'Pivot Table Data'!J594","v":"Accessible (Van)"},{"$f":"'Pivot Table Data'!K594","v":0},{"$f":"'Pivot Table Data'!L594","v":0},{"$f":"'Pivot Table Data'!S594","v":0},{"$f":"'Pivot Table Data'!T594","v":""},{"$f":"IF('Pivot Table Data'!O594=\"Yes\", 'Pivot Table Data'!T594, \"\")","v":""}]
[{"$f":"'Pivot Table Data'!B595","v":0},{"$f":"'Pivot Table Data'!F595","v":"Health Sciences West"},{"$f":"'Pivot Table Data'!P595","v":"South"},{"$f":"'Pivot Table Data'!I595","v":"Level 5"},{"$f":"'Pivot Table Data'!J595","v":"B"},{"$f":"'Pivot Table Data'!K595","v":0},{"$f":"'Pivot Table Data'!L595","v":0},{"$f":"'Pivot Table Data'!S595","v":262},{"$f":"'Pivot Table Data'!T595","v":""},{"$f":"IF('Pivot Table Data'!O595=\"Yes\", 'Pivot Table Data'!T595, \"\")","v":""}]
[{"$f":"'Pivot Table Data'!B596","v":0},{"$f":"'Pivot Table Data'!F596","v":"Health Sciences West"},{"$f":"'Pivot Table Data'!P596","v":"South"},{"$f":"'Pivot Table Data'!I596","v":"Level 5"},{"$f":"'Pivot Table Data'!J596","v":"Motorcycle Section"},{"$f":"'Pivot Table Data'!K596","v":0},{"$f":"'Pivot Table Data'!L596","v":0},{"$f":"'Pivot Table Data'!S596","v":3},{"$f":"'Pivot Table Data'!T596","v":""},{"$f":"IF('Pivot Table Data'!O596=\"Yes\", 'Pivot Table Data'!T596, \"\")","v":""}]
[{"$f":"'Pivot Table Data'!B597","v":0},{"$f":"'Pivot Table Data'!F597","v":"Health Sciences West"},{"$f":"'Pivot Table Data'!P597","v":"South"},{"$f":"'Pivot Table Data'!I597","v":"Level 5"},{"$f":"'Pivot Table Data'!J597","v":"UC Vehicle"},{"$f":"'Pivot Table Data'!K597","v":"UC Cart"},{"$f":"'Pivot Table Data'!L597","v":0},{"$f":"'Pivot Table Data'!S597","v":1},{"$f":"'Pivot Table Data'!T597","v":""},{"$f":"IF('Pivot Table Data'!O597=\"Yes\", 'Pivot Table Data'!T597, \"\")","v":""}]
[{"$f":"'Pivot Table Data'!B598","v":0},{"$f":"'Pivot Table Data'!F598","v":"Revelle College "},{"$f":"'Pivot Table Data'!P598","v":"-"},{"$f":"'Pivot Table Data'!I598","v":"-"},{"$f":"'Pivot Table Data'!J598","v":"Loading"},{"$f":"'Pivot Table Data'!K598","v":"Curb"},{"$f":"'Pivot Table Data'!L598","v":30},{"$f":"'Pivot Table Data'!S598","v":10},{"$f":"'Pivot Table Data'!T598","v":10},{"$f":"IF('Pivot Table Data'!O598=\"Yes\", 'Pivot Table Data'!T598, \"\")","v":""}]
[{"$f":"'Pivot Table Data'!B599","v":0},{"$f":"'Pivot Table Data'!F599","v":"Revelle College "},{"$f":"'Pivot Table Data'!P599","v":"-"},{"$f":"'Pivot Table Data'!I599","v":"-"},{"$f":"'Pivot Table Data'!J599","v":"Reserved"},{"$f":"'Pivot Table Data'!K599","v":0},{"$f":"'Pivot Table Data'!L599","v":0},{"$f":"'Pivot Table Data'!S599","v":0},{"$f":"'Pivot Table Data'!T599","v":0},{"$f":"IF('Pivot Table Data'!O599=\"Yes\", 'Pivot Table Data'!T599, \"\")","v":""}]
[{"$f":"'Pivot Table Data'!B600","v":0},{"$f":"'Pivot Table Data'!F600","v":"Revelle College "},{"$f":"'Pivot Table Data'!P600","v":"P101"},{"$f":"'Pivot Table Data'!I600","v":"-"},{"$f":"'Pivot Table Data'!J600","v":"Accessible"},{"$f":"'Pivot Table Data'!K600","v":0},{"$f":"'Pivot Table Data'!L600","v":0},{"$f":"'Pivot Table Data'!S600","v":10},{"$f":"'Pivot Table Data'!T600","v":10},{"$f":"IF('Pivot Table Data'!O600=\"Yes\", 'Pivot Table Data'!T600, \"\")","v":""}]
[{"$f":"'Pivot Table Data'!B601","v":0},{"$f":"'Pivot Table Data'!F601","v":"Revelle College "},{"$f":"'Pivot Table Data'!P601","v":"P101"},{"$f":"'Pivot Table Data'!I601","v":"-"},{"$f":"'Pivot Table Data'!J601","v":"Accessible (Van)"},{"$f":"'Pivot Table Data'!K601","v":0},{"$f":"'Pivot Table Data'!L601","v":0},{"$f":"'Pivot Table Data'!S601","v":2},{"$f":"'Pivot Table Data'!T601","v":2},{"$f":"IF('Pivot Table Data'!O601=\"Yes\", 'Pivot Table Data'!T601, \"\")","v":""}]
[{"$f":"'Pivot Table Data'!B602","v":0},{"$f":"'Pivot Table Data'!F602","v":"Revelle College "},{"$f":"'Pivot Table Data'!P602","v":"P101"},{"$f":"'Pivot Table Data'!I602","v":"-"},{"$f":"'Pivot Table Data'!J602","v":"Reserved"},{"$f":"'Pivot Table Data'!K602","v":0},{"$f":"'Pivot Table Data'!L602","v":0},{"$f":"'Pivot Table Data'!S602","v":1},{"$f":"'Pivot Table Data'!T602","v":1},{"$f":"IF('Pivot Table Data'!O602=\"Yes\", 'Pivot Table Data'!T602, \"\")","v":""}]
[{"$f":"'Pivot Table Data'!B603","v":0},{"$f":"'Pivot Table Data'!F603","v":"Revelle College "},{"$f":"'Pivot Table Data'!P603","v":"P106"},{"$f":"'Pivot Table Data'!I603","v":"-"},{"$f":"'Pivot Table Data'!J603","v":"Accessible"},{"$f":"'Pivot Table Data'!K603","v":0},{"$f":"'Pivot Table Data'!L603","v":0},{"$f":"'Pivot Table Data'!S603","v":0},{"$f":"'Pivot Table Data'!T603","v":0},{"$f":"IF('Pivot Table Data'!O603=\"Yes\", 'Pivot Table Data'!T603, \"\")","v":""}]
[{"$f":"'Pivot Table Data'!B604","v":0},{"$f":"'Pivot Table Data'!F604","v":"Revelle College "},{"$f":"'Pivot Table Data'!P604","v":"P106"},{"$f":"'Pivot Table Data'!I604","v":"-"},{"$f":"'Pivot Table Data'!J604","v":"Accessible (Van)"},{"$f":"'Pivot Table Data'!K604","v":0},{"$f":"'Pivot Table Data'!L604","v":0},{"$f":"'Pivot Table Data'!S604","v":1},{"$f":"'Pivot Table Data'!T604","v":1},{"$f":"IF('Pivot Table Data'!O604=\"Yes\", 'Pivot Table Data'!T604, \"\")","v":""}]
[{"$f":"'Pivot Table Data'!B605","v":0},{"$f":"'Pivot Table Data'!F605","v":"Revelle College "},{"$f":"'Pivot Table Data'!P605","v":"P106"},{"$f":"'Pivot Table Data'!I605","v":"-"},{"$f":"'Pivot Table Data'!J605","v":"Motorcycle Section"},{"$f":"'Pivot Table Data'!K605","v":0},{"$f":"'Pivot Table Data'!L605","v":0},{"$f":"'Pivot Table Data'!S605","v":2},{"$f":"'Pivot Table Data'!T605","v":2},{"$f":"IF('Pivot Table Data'!O605=\"Yes\", 'Pivot Table Data'!T605, \"\")","v":""}]
[{"$f":"'Pivot Table Data'!B606","v":0},{"$f":"'Pivot Table Data'!F606","v":"Revelle College "},{"$f":"'Pivot Table Data'!P606","v":"P106"},{"$f":"'Pivot Table Data'!I606","v":"-"},{"$f":"'Pivot Table Data'!J606","v":"Reserved"},{"$f":"'Pivot Table Data'!K606","v":0},{"$f":"'Pivot Table Data'!L606","v":0},{"$f":"'Pivot Table Data'!S606","v":5},{"$f":"'Pivot Table Data'!T606","v":5},{"$f":"IF('Pivot Table Data'!O606=\"Yes\", 'Pivot Table Data'!T606, \"\")","v":""}]
[{"$f":"'Pivot Table Data'!B607","v":0},{"$f":"'Pivot Table Data'!F607","v":"Revelle College "},{"$f":"'Pivot Table Data'!P607","v":"P106"},{"$f":"'Pivot Table Data'!I607","v":"-"},{"$f":"'Pivot Table Data'!J607","v":"Visitor"},{"$f":"'Pivot Table Data'!K607","v":0},{"$f":"'Pivot Table Data'!L607","v":0},{"$f":"'Pivot Table Data'!S607","v":1},{"$f":"'Pivot Table Data'!T607","v":1},{"$f":"IF('Pivot Table Data'!O607=\"Yes\", 'Pivot Table Data'!T607, \"\")","v":1}]
[{"$f":"'Pivot Table Data'!B608","v":0},{"$f":"'Pivot Table Data'!F608","v":"Revelle College "},{"$f":"'Pivot Table Data'!P608","v":"P110"},{"$f":"'Pivot Table Data'!I608","v":"-"},{"$f":"'Pivot Table Data'!J608","v":"Service Yard"},{"$f":"'Pivot Table Data'!K608","v":0},{"$f":"'Pivot Table Data'!L608","v":0},{"$f":"'Pivot Table Data'!S608","v":5},{"$f":"'Pivot Table Data'!T608","v":5},{"$f":"IF('Pivot Table Data'!O608=\"Yes\", 'Pivot Table Data'!T608, \"\")","v":""}]
[{"$f":"'Pivot Table Data'!B609","v":0},{"$f":"'Pivot Table Data'!F609","v":"Revelle College "},{"$f":"'Pivot Table Data'!P609","v":"P112"},{"$f":"'Pivot Table Data'!I609","v":"-"},{"$f":"'Pivot Table Data'!J609","v":"Service Yard"},{"$f":"'Pivot Table Data'!K609","v":0},{"$f":"'Pivot Table Data'!L609","v":0},{"$f":"'Pivot Table Data'!S609","v":6},{"$f":"'Pivot Table Data'!T609","v":6},{"$f":"IF('Pivot Table Data'!O609=\"Yes\", 'Pivot Table Data'!T609, \"\")","v":""}]
[{"$f":"'Pivot Table Data'!B610","v":0},{"$f":"'Pivot Table Data'!F610","v":"Muir College"},{"$f":"'Pivot Table Data'!P610","v":"P113"},{"$f":"'Pivot Table Data'!I610","v":"-"},{"$f":"'Pivot Table Data'!J610","v":"Accessible"},{"$f":"'Pivot Table Data'!K610","v":0},{"$f":"'Pivot Table Data'!L610","v":0},{"$f":"'Pivot Table Data'!S610","v":0},{"$f":"'Pivot Table Data'!T610","v":0},{"$f":"IF('Pivot Table Data'!O610=\"Yes\", 'Pivot Table Data'!T610, \"\")","v":""}]
[{"$f":"'Pivot Table Data'!B611","v":0},{"$f":"'Pivot Table Data'!F611","v":"Muir College"},{"$f":"'Pivot Table Data'!P611","v":"P113"},{"$f":"'Pivot Table Data'!I611","v":"-"},{"$f":"'Pivot Table Data'!J611","v":"Accessible (Van)"},{"$f":"'Pivot Table Data'!K611","v":0},{"$f":"'Pivot Table Data'!L611","v":0},{"$f":"'Pivot Table Data'!S611","v":2},{"$f":"'Pivot Table Data'!T611","v":2},{"$f":"IF('Pivot Table Data'!O611=\"Yes\", 'Pivot Table Data'!T611, \"\")","v":""}]
[{"$f":"'Pivot Table Data'!B612","v":0},{"$f":"'Pivot Table Data'!F612","v":"Muir College"},{"$f":"'Pivot Table Data'!P612","v":"P113"},{"$f":"'Pivot Table Data'!I612","v":"-"},{"$f":"'Pivot Table Data'!J612","v":"Loading"},{"$f":"'Pivot Table Data'!K612","v":0},{"$f":"'Pivot Table Data'!L612","v":0},{"$f":"'Pivot Table Data'!S612","v":1},{"$f":"'Pivot Table Data'!T612","v":1},{"$f":"IF('Pivot Table Data'!O612=\"Yes\", 'Pivot Table Data'!T612, \"\")","v":""}]
[{"$f":"'Pivot Table Data'!B613","v":0},{"$f":"'Pivot Table Data'!F613","v":"Muir College"},{"$f":"'Pivot Table Data'!P613","v":"P113"},{"$f":"'Pivot Table Data'!I613","v":"-"},{"$f":"'Pivot Table Data'!J613","v":"Motorcycle Section"},{"$f":"'Pivot Table Data'!K613","v":0},{"$f":"'Pivot Table Data'!L613","v":0},{"$f":"'Pivot Table Data'!S613","v":1},{"$f":"'Pivot Table Data'!T613","v":1},{"$f":"IF('Pivot Table Data'!O613=\"Yes\", 'Pivot Table Data'!T613, \"\")","v":""}]
[{"$f":"'Pivot Table Data'!B614","v":0},{"$f":"'Pivot Table Data'!F614","v":"Muir College"},{"$f":"'Pivot Table Data'!P614","v":"P113"},{"$f":"'Pivot Table Data'!I614","v":"-"},{"$f":"'Pivot Table Data'!J614","v":"Reserved"},{"$f":"'Pivot Table Data'!K614","v":"Food Pick-Up"},{"$f":"'Pivot Table Data'!L614","v":"15 min"},{"$f":"'Pivot Table Data'!S614","v":3},{"$f":"'Pivot Table Data'!T614","v":3},{"$f":"IF('Pivot Table Data'!O614=\"Yes\", 'Pivot Table Data'!T614, \"\")","v":""}]
[{"$f":"'Pivot Table Data'!B615","v":0},{"$f":"'Pivot Table Data'!F615","v":"Muir College"},{"$f":"'Pivot Table Data'!P615","v":"P113"},{"$f":"'Pivot Table Data'!I615","v":"-"},{"$f":"'Pivot Table Data'!J615","v":"Reserved"},{"$f":"'Pivot Table Data'!K615","v":0},{"$f":"'Pivot Table Data'!L615","v":0},{"$f":"'Pivot Table Data'!S615","v":1},{"$f":"'Pivot Table Data'!T615","v":1},{"$f":"IF('Pivot Table Data'!O615=\"Yes\", 'Pivot Table Data'!T615, \"\")","v":""}]
[{"$f":"'Pivot Table Data'!B616","v":0},{"$f":"'Pivot Table Data'!F616","v":"Muir College"},{"$f":"'Pivot Table Data'!P616","v":"P113"},{"$f":"'Pivot Table Data'!I616","v":"-"},{"$f":"'Pivot Table Data'!J616","v":"Visitor"},{"$f":"'Pivot Table Data'!K616","v":0},{"$f":"'Pivot Table Data'!L616","v":"2 hours"},{"$f":"'Pivot Table Data'!S616","v":22},{"$f":"'Pivot Table Data'!T616","v":22},{"$f":"IF('Pivot Table Data'!O616=\"Yes\", 'Pivot Table Data'!T616, \"\")","v":22}]
[{"$f":"'Pivot Table Data'!B617","v":0},{"$f":"'Pivot Table Data'!F617","v":"Revelle College "},{"$f":"'Pivot Table Data'!P617","v":"P116"},{"$f":"'Pivot Table Data'!I617","v":"-"},{"$f":"'Pivot Table Data'!J617","v":"Allocated"},{"$f":"'Pivot Table Data'!K617","v":"Catering Vehicle"},{"$f":"'Pivot Table Data'!L617","v":0},{"$f":"'Pivot Table Data'!S617","v":5},{"$f":"'Pivot Table Data'!T617","v":5},{"$f":"IF('Pivot Table Data'!O617=\"Yes\", 'Pivot Table Data'!T617, \"\")","v":""}]
[{"$f":"'Pivot Table Data'!B618","v":0},{"$f":"'Pivot Table Data'!F618","v":"Revelle College "},{"$f":"'Pivot Table Data'!P618","v":"P116"},{"$f":"'Pivot Table Data'!I618","v":"-"},{"$f":"'Pivot Table Data'!J618","v":"Allocated"},{"$f":"'Pivot Table Data'!K618","v":"Housing, Dining, and Hospitality Vehicle"},{"$f":"'Pivot Table Data'!L618","v":0},{"$f":"'Pivot Table Data'!S618","v":5},{"$f":"'Pivot Table Data'!T618","v":5},{"$f":"IF('Pivot Table Data'!O618=\"Yes\", 'Pivot Table Data'!T618, \"\")","v":""}]
[{"$f":"'Pivot Table Data'!B619","v":0},{"$f":"'Pivot Table Data'!F619","v":"Revelle College "},{"$f":"'Pivot Table Data'!P619","v":"P116"},{"$f":"'Pivot Table Data'!I619","v":"-"},{"$f":"'Pivot Table Data'!J619","v":"Allocated"},{"$f":"'Pivot Table Data'!K619","v":"UC Vehicle #0796"},{"$f":"'Pivot Table Data'!L619","v":0},{"$f":"'Pivot Table Data'!S619","v":1},{"$f":"'Pivot Table Data'!T619","v":1},{"$f":"IF('Pivot Table Data'!O619=\"Yes\", 'Pivot Table Data'!T619, \"\")","v":""}]
[{"$f":"'Pivot Table Data'!B620","v":0},{"$f":"'Pivot Table Data'!F620","v":"Revelle College "},{"$f":"'Pivot Table Data'!P620","v":"P116"},{"$f":"'Pivot Table Data'!I620","v":"-"},{"$f":"'Pivot Table Data'!J620","v":"UC Vehicle"},{"$f":"'Pivot Table Data'!K620","v":"Electric Vehicle"},{"$f":"'Pivot Table Data'!L620","v":"4-Hour"},{"$f":"'Pivot Table Data'!S620","v":2},{"$f":"'Pivot Table Data'!T620","v":2},{"$f":"IF('Pivot Table Data'!O620=\"Yes\", 'Pivot Table Data'!T620, \"\")","v":""}]
[{"$f":"'Pivot Table Data'!B621","v":0},{"$f":"'Pivot Table Data'!F621","v":"Muir College"},{"$f":"'Pivot Table Data'!P621","v":"P201"},{"$f":"'Pivot Table Data'!I621","v":"-"},{"$f":"'Pivot Table Data'!J621","v":"A"},{"$f":"'Pivot Table Data'!K621","v":0},{"$f":"'Pivot Table Data'!L621","v":0},{"$f":"'Pivot Table Data'!S621","v":11},{"$f":"'Pivot Table Data'!T621","v":11},{"$f":"IF('Pivot Table Data'!O621=\"Yes\", 'Pivot Table Data'!T621, \"\")","v":11}]
[{"$f":"'Pivot Table Data'!B622","v":0},{"$f":"'Pivot Table Data'!F622","v":"Muir College"},{"$f":"'Pivot Table Data'!P622","v":"P201"},{"$f":"'Pivot Table Data'!I622","v":"-"},{"$f":"'Pivot Table Data'!J622","v":"Accessible"},{"$f":"'Pivot Table Data'!K622","v":0},{"$f":"'Pivot Table Data'!L622","v":0},{"$f":"'Pivot Table Data'!S622","v":2},{"$f":"'Pivot Table Data'!T622","v":2},{"$f":"IF('Pivot Table Data'!O622=\"Yes\", 'Pivot Table Data'!T622, \"\")","v":""}]
[{"$f":"'Pivot Table Data'!B623","v":0},{"$f":"'Pivot Table Data'!F623","v":"Muir College"},{"$f":"'Pivot Table Data'!P623","v":"P201"},{"$f":"'Pivot Table Data'!I623","v":"-"},{"$f":"'Pivot Table Data'!J623","v":"Accessible (Van)"},{"$f":"'Pivot Table Data'!K623","v":0},{"$f":"'Pivot Table Data'!L623","v":0},{"$f":"'Pivot Table Data'!S623","v":1},{"$f":"'Pivot Table Data'!T623","v":1},{"$f":"IF('Pivot Table Data'!O623=\"Yes\", 'Pivot Table Data'!T623, \"\")","v":""}]
[{"$f":"'Pivot Table Data'!B624","v":0},{"$f":"'Pivot Table Data'!F624","v":"Muir College"},{"$f":"'Pivot Table Data'!P624","v":"P201"},{"$f":"'Pivot Table Data'!I624","v":"-"},{"$f":"'Pivot Table Data'!J624","v":"Loading"},{"$f":"'Pivot Table Data'!K624","v":"Space"},{"$f":"'Pivot Table Data'!L624","v":15},{"$f":"'Pivot Table Data'!S624","v":8},{"$f":"'Pivot Table Data'!T624","v":8},{"$f":"IF('Pivot Table Data'!O624=\"Yes\", 'Pivot Table Data'!T624, \"\")","v":""}]
[{"$f":"'Pivot Table Data'!B625","v":0},{"$f":"'Pivot Table Data'!F625","v":"Muir College"},{"$f":"'Pivot Table Data'!P625","v":"P201"},{"$f":"'Pivot Table Data'!I625","v":"-"},{"$f":"'Pivot Table Data'!J625","v":"Motorcycle Section"},{"$f":"'Pivot Table Data'!K625","v":0},{"$f":"'Pivot Table Data'!L625","v":0},{"$f":"'Pivot Table Data'!S625","v":3},{"$f":"'Pivot Table Data'!T625","v":3},{"$f":"IF('Pivot Table Data'!O625=\"Yes\", 'Pivot Table Data'!T625, \"\")","v":""}]
[{"$f":"'Pivot Table Data'!B626","v":0},{"$f":"'Pivot Table Data'!F626","v":"Muir College"},{"$f":"'Pivot Table Data'!P626","v":"P202"},{"$f":"'Pivot Table Data'!I626","v":"-"},{"$f":"'Pivot Table Data'!J626","v":"Accessible"},{"$f":"'Pivot Table Data'!K626","v":0},{"$f":"'Pivot Table Data'!L626","v":0},{"$f":"'Pivot Table Data'!S626","v":0},{"$f":"'Pivot Table Data'!T626","v":0},{"$f":"IF('Pivot Table Data'!O626=\"Yes\", 'Pivot Table Data'!T626, \"\")","v":""}]
[{"$f":"'Pivot Table Data'!B627","v":0},{"$f":"'Pivot Table Data'!F627","v":"Muir College"},{"$f":"'Pivot Table Data'!P627","v":"P202"},{"$f":"'Pivot Table Data'!I627","v":"-"},{"$f":"'Pivot Table Data'!J627","v":"Accessible (Van)"},{"$f":"'Pivot Table Data'!K627","v":0},{"$f":"'Pivot Table Data'!L627","v":0},{"$f":"'Pivot Table Data'!S627","v":2},{"$f":"'Pivot Table Data'!T627","v":2},{"$f":"IF('Pivot Table Data'!O627=\"Yes\", 'Pivot Table Data'!T627, \"\")","v":""}]
[{"$f":"'Pivot Table Data'!B628","v":0},{"$f":"'Pivot Table Data'!F628","v":"Muir College"},{"$f":"'Pivot Table Data'!P628","v":"P202"},{"$f":"'Pivot Table Data'!I628","v":"-"},{"$f":"'Pivot Table Data'!J628","v":"Loading"},{"$f":"'Pivot Table Data'!K628","v":"Space"},{"$f":"'Pivot Table Data'!L628","v":20},{"$f":"'Pivot Table Data'!S628","v":4},{"$f":"'Pivot Table Data'!T628","v":4},{"$f":"IF('Pivot Table Data'!O628=\"Yes\", 'Pivot Table Data'!T628, \"\")","v":""}]
[{"$f":"'Pivot Table Data'!B629","v":0},{"$f":"'Pivot Table Data'!F629","v":"Muir College"},{"$f":"'Pivot Table Data'!P629","v":"P202"},{"$f":"'Pivot Table Data'!I629","v":"-"},{"$f":"'Pivot Table Data'!J629","v":"Reserved"},{"$f":"'Pivot Table Data'!K629","v":0},{"$f":"'Pivot Table Data'!L629","v":0},{"$f":"'Pivot Table Data'!S629","v":1},{"$f":"'Pivot Table Data'!T629","v":1},{"$f":"IF('Pivot Table Data'!O629=\"Yes\", 'Pivot Table Data'!T629, \"\")","v":""}]
[{"$f":"'Pivot Table Data'!B630","v":0},{"$f":"'Pivot Table Data'!F630","v":"Muir College"},{"$f":"'Pivot Table Data'!P630","v":"P202"},{"$f":"'Pivot Table Data'!I630","v":"-"},{"$f":"'Pivot Table Data'!J630","v":"Service Yard"},{"$f":"'Pivot Table Data'!K630","v":0},{"$f":"'Pivot Table Data'!L630","v":0},{"$f":"'Pivot Table Data'!S630","v":2},{"$f":"'Pivot Table Data'!T630","v":2},{"$f":"IF('Pivot Table Data'!O630=\"Yes\", 'Pivot Table Data'!T630, \"\")","v":""}]
[{"$f":"'Pivot Table Data'!B631","v":0},{"$f":"'Pivot Table Data'!F631","v":"Muir College"},{"$f":"'Pivot Table Data'!P631","v":"P203"},{"$f":"'Pivot Table Data'!I631","v":"-"},{"$f":"'Pivot Table Data'!J631","v":"Reserved"},{"$f":"'Pivot Table Data'!K631","v":0},{"$f":"'Pivot Table Data'!L631","v":0},{"$f":"'Pivot Table Data'!S631","v":6},{"$f":"'Pivot Table Data'!T631","v":6},{"$f":"IF('Pivot Table Data'!O631=\"Yes\", 'Pivot Table Data'!T631, \"\")","v":""}]
[{"$f":"'Pivot Table Data'!B632","v":0},{"$f":"'Pivot Table Data'!F632","v":"Muir College"},{"$f":"'Pivot Table Data'!P632","v":"P204"},{"$f":"'Pivot Table Data'!I632","v":"-"},{"$f":"'Pivot Table Data'!J632","v":"Allocated"},{"$f":"'Pivot Table Data'!K632","v":"Housing/Dining Maintenance Vehicle"},{"$f":"'Pivot Table Data'!L632","v":0},{"$f":"'Pivot Table Data'!S632","v":2},{"$f":"'Pivot Table Data'!T632","v":2},{"$f":"IF('Pivot Table Data'!O632=\"Yes\", 'Pivot Table Data'!T632, \"\")","v":""}]
[{"$f":"'Pivot Table Data'!B633","v":0},{"$f":"'Pivot Table Data'!F633","v":"Muir College"},{"$f":"'Pivot Table Data'!P633","v":"P205"},{"$f":"'Pivot Table Data'!I633","v":"-"},{"$f":"'Pivot Table Data'!J633","v":"Service Yard"},{"$f":"'Pivot Table Data'!K633","v":0},{"$f":"'Pivot Table Data'!L633","v":0},{"$f":"'Pivot Table Data'!S633","v":4},{"$f":"'Pivot Table Data'!T633","v":4},{"$f":"IF('Pivot Table Data'!O633=\"Yes\", 'Pivot Table Data'!T633, \"\")","v":""}]
[{"$f":"'Pivot Table Data'!B634","v":0},{"$f":"'Pivot Table Data'!F634","v":"Muir College"},{"$f":"'Pivot Table Data'!P634","v":"P206"},{"$f":"'Pivot Table Data'!I634","v":"-"},{"$f":"'Pivot Table Data'!J634","v":"A"},{"$f":"'Pivot Table Data'!K634","v":0},{"$f":"'Pivot Table Data'!L634","v":"2 Hour"},{"$f":"'Pivot Table Data'!S634","v":32},{"$f":"'Pivot Table Data'!T634","v":32},{"$f":"IF('Pivot Table Data'!O634=\"Yes\", 'Pivot Table Data'!T634, \"\")","v":32}]
[{"$f":"'Pivot Table Data'!B635","v":0},{"$f":"'Pivot Table Data'!F635","v":"Muir College"},{"$f":"'Pivot Table Data'!P635","v":"P206"},{"$f":"'Pivot Table Data'!I635","v":"-"},{"$f":"'Pivot Table Data'!J635","v":"Accessible"},{"$f":"'Pivot Table Data'!K635","v":0},{"$f":"'Pivot Table Data'!L635","v":0},{"$f":"'Pivot Table Data'!S635","v":4},{"$f":"'Pivot Table Data'!T635","v":4},{"$f":"IF('Pivot Table Data'!O635=\"Yes\", 'Pivot Table Data'!T635, \"\")","v":""}]
[{"$f":"'Pivot Table Data'!B636","v":0},{"$f":"'Pivot Table Data'!F636","v":"Muir College"},{"$f":"'Pivot Table Data'!P636","v":"P206"},{"$f":"'Pivot Table Data'!I636","v":"-"},{"$f":"'Pivot Table Data'!J636","v":"Accessible (Van)"},{"$f":"'Pivot Table Data'!K636","v":0},{"$f":"'Pivot Table Data'!L636","v":0},{"$f":"'Pivot Table Data'!S636","v":2},{"$f":"'Pivot Table Data'!T636","v":2},{"$f":"IF('Pivot Table Data'!O636=\"Yes\", 'Pivot Table Data'!T636, \"\")","v":""}]
[{"$f":"'Pivot Table Data'!B637","v":0},{"$f":"'Pivot Table Data'!F637","v":"Muir College"},{"$f":"'Pivot Table Data'!P637","v":"P206"},{"$f":"'Pivot Table Data'!I637","v":"-"},{"$f":"'Pivot Table Data'!J637","v":"B"},{"$f":"'Pivot Table Data'!K637","v":0},{"$f":"'Pivot Table Data'!L637","v":"2 Hour"},{"$f":"'Pivot Table Data'!S637","v":0},{"$f":"'Pivot Table Data'!T637","v":0},{"$f":"IF('Pivot Table Data'!O637=\"Yes\", 'Pivot Table Data'!T637, \"\")","v":0}]
[{"$f":"'Pivot Table Data'!B638","v":0},{"$f":"'Pivot Table Data'!F638","v":"Muir College"},{"$f":"'Pivot Table Data'!P638","v":"P206"},{"$f":"'Pivot Table Data'!I638","v":"-"},{"$f":"'Pivot Table Data'!J638","v":"Commercial Loading"},{"$f":"'Pivot Table Data'!K638","v":0},{"$f":"'Pivot Table Data'!L638","v":0},{"$f":"'Pivot Table Data'!S638","v":4},{"$f":"'Pivot Table Data'!T638","v":4},{"$f":"IF('Pivot Table Data'!O638=\"Yes\", 'Pivot Table Data'!T638, \"\")","v":""}]
[{"$f":"'Pivot Table Data'!B639","v":0},{"$f":"'Pivot Table Data'!F639","v":"Muir College"},{"$f":"'Pivot Table Data'!P639","v":"P206"},{"$f":"'Pivot Table Data'!I639","v":"-"},{"$f":"'Pivot Table Data'!J639","v":"Electric Vehicle"},{"$f":"'Pivot Table Data'!K639","v":0},{"$f":"'Pivot Table Data'!L639","v":"4-Hour"},{"$f":"'Pivot Table Data'!S639","v":2},{"$f":"'Pivot Table Data'!T639","v":2},{"$f":"IF('Pivot Table Data'!O639=\"Yes\", 'Pivot Table Data'!T639, \"\")","v":""}]
[{"$f":"'Pivot Table Data'!B640","v":0},{"$f":"'Pivot Table Data'!F640","v":"Muir College"},{"$f":"'Pivot Table Data'!P640","v":"P206"},{"$f":"'Pivot Table Data'!I640","v":"-"},{"$f":"'Pivot Table Data'!J640","v":"Loading Zone"},{"$f":"'Pivot Table Data'!K640","v":0},{"$f":"'Pivot Table Data'!L640","v":"5 Min"},{"$f":"'Pivot Table Data'!S640","v":1},{"$f":"'Pivot Table Data'!T640","v":1},{"$f":"IF('Pivot Table Data'!O640=\"Yes\", 'Pivot Table Data'!T640, \"\")","v":""}]
[{"$f":"'Pivot Table Data'!B641","v":0},{"$f":"'Pivot Table Data'!F641","v":"Muir College"},{"$f":"'Pivot Table Data'!P641","v":"P206"},{"$f":"'Pivot Table Data'!I641","v":"-"},{"$f":"'Pivot Table Data'!J641","v":"UC Vehicle"},{"$f":"'Pivot Table Data'!K641","v":0},{"$f":"'Pivot Table Data'!L641","v":0},{"$f":"'Pivot Table Data'!S641","v":4},{"$f":"'Pivot Table Data'!T641","v":4},{"$f":"IF('Pivot Table Data'!O641=\"Yes\", 'Pivot Table Data'!T641, \"\")","v":""}]
[{"$f":"'Pivot Table Data'!B642","v":0},{"$f":"'Pivot Table Data'!F642","v":"Muir College"},{"$f":"'Pivot Table Data'!P642","v":"P206"},{"$f":"'Pivot Table Data'!I642","v":"-"},{"$f":"'Pivot Table Data'!J642","v":"Visitor"},{"$f":"'Pivot Table Data'!K642","v":0},{"$f":"'Pivot Table Data'!L642","v":"2 Hour"},{"$f":"'Pivot Table Data'!S642","v":5},{"$f":"'Pivot Table Data'!T642","v":5},{"$f":"IF('Pivot Table Data'!O642=\"Yes\", 'Pivot Table Data'!T642, \"\")","v":5}]
[{"$f":"'Pivot Table Data'!B643","v":0},{"$f":"'Pivot Table Data'!F643","v":"Marshall College"},{"$f":"'Pivot Table Data'!P643","v":"P303"},{"$f":"'Pivot Table Data'!I643","v":"-"},{"$f":"'Pivot Table Data'!J643","v":"A"},{"$f":"'Pivot Table Data'!K643","v":0},{"$f":"'Pivot Table Data'!L643","v":0},{"$f":"'Pivot Table Data'!S643","v":88},{"$f":"'Pivot Table Data'!T643","v":88},{"$f":"IF('Pivot Table Data'!O643=\"Yes\", 'Pivot Table Data'!T643, \"\")","v":88}]
[{"$f":"'Pivot Table Data'!B644","v":0},{"$f":"'Pivot Table Data'!F644","v":"Marshall College"},{"$f":"'Pivot Table Data'!P644","v":"P303"},{"$f":"'Pivot Table Data'!I644","v":"-"},{"$f":"'Pivot Table Data'!J644","v":"Accessible"},{"$f":"'Pivot Table Data'!K644","v":0},{"$f":"'Pivot Table Data'!L644","v":0},{"$f":"'Pivot Table Data'!S644","v":5},{"$f":"'Pivot Table Data'!T644","v":5},{"$f":"IF('Pivot Table Data'!O644=\"Yes\", 'Pivot Table Data'!T644, \"\")","v":""}]
[{"$f":"'Pivot Table Data'!B645","v":0},{"$f":"'Pivot Table Data'!F645","v":"Marshall College"},{"$f":"'Pivot Table Data'!P645","v":"P303"},{"$f":"'Pivot Table Data'!I645","v":"-"},{"$f":"'Pivot Table Data'!J645","v":"Accessible (Van)"},{"$f":"'Pivot Table Data'!K645","v":0},{"$f":"'Pivot Table Data'!L645","v":0},{"$f":"'Pivot Table Data'!S645","v":1},{"$f":"'Pivot Table Data'!T645","v":1},{"$f":"IF('Pivot Table Data'!O645=\"Yes\", 'Pivot Table Data'!T645, \"\")","v":""}]
[{"$f":"'Pivot Table Data'!B646","v":0},{"$f":"'Pivot Table Data'!F646","v":"Marshall College"},{"$f":"'Pivot Table Data'!P646","v":"P303"},{"$f":"'Pivot Table Data'!I646","v":"-"},{"$f":"'Pivot Table Data'!J646","v":"Loading"},{"$f":"'Pivot Table Data'!K646","v":0},{"$f":"'Pivot Table Data'!L646","v":"20 minutes"},{"$f":"'Pivot Table Data'!S646","v":2},{"$f":"'Pivot Table Data'!T646","v":2},{"$f":"IF('Pivot Table Data'!O646=\"Yes\", 'Pivot Table Data'!T646, \"\")","v":""}]
[{"$f":"'Pivot Table Data'!B647","v":0},{"$f":"'Pivot Table Data'!F647","v":"Marshall College"},{"$f":"'Pivot Table Data'!P647","v":"P303"},{"$f":"'Pivot Table Data'!I647","v":"-"},{"$f":"'Pivot Table Data'!J647","v":"Reserved"},{"$f":"'Pivot Table Data'!K647","v":0},{"$f":"'Pivot Table Data'!L647","v":0},{"$f":"'Pivot Table Data'!S647","v":5},{"$f":"'Pivot Table Data'!T647","v":5},{"$f":"IF('Pivot Table Data'!O647=\"Yes\", 'Pivot Table Data'!T647, \"\")","v":""}]
[{"$f":"'Pivot Table Data'!B648","v":0},{"$f":"'Pivot Table Data'!F648","v":"Marshall College"},{"$f":"'Pivot Table Data'!P648","v":"P303"},{"$f":"'Pivot Table Data'!I648","v":"-"},{"$f":"'Pivot Table Data'!J648","v":"Service Yard"},{"$f":"'Pivot Table Data'!K648","v":0},{"$f":"'Pivot Table Data'!L648","v":0},{"$f":"'Pivot Table Data'!S648","v":2},{"$f":"'Pivot Table Data'!T648","v":2},{"$f":"IF('Pivot Table Data'!O648=\"Yes\", 'Pivot Table Data'!T648, \"\")","v":""}]
[{"$f":"'Pivot Table Data'!B649","v":0},{"$f":"'Pivot Table Data'!F649","v":"Marshall College"},{"$f":"'Pivot Table Data'!P649","v":"P303"},{"$f":"'Pivot Table Data'!I649","v":"-"},{"$f":"'Pivot Table Data'!J649","v":"Visitor"},{"$f":"'Pivot Table Data'!K649","v":"5 Minute"},{"$f":"'Pivot Table Data'!L649","v":"5 minutes"},{"$f":"'Pivot Table Data'!S649","v":2},{"$f":"'Pivot Table Data'!T649","v":2},{"$f":"IF('Pivot Table Data'!O649=\"Yes\", 'Pivot Table Data'!T649, \"\")","v":2}]
[{"$f":"'Pivot Table Data'!B650","v":0},{"$f":"'Pivot Table Data'!F650","v":"Marshall College"},{"$f":"'Pivot Table Data'!P650","v":"P303"},{"$f":"'Pivot Table Data'!I650","v":"-"},{"$f":"'Pivot Table Data'!J650","v":"Visitor"},{"$f":"'Pivot Table Data'!K650","v":0},{"$f":"'Pivot Table Data'!L650","v":0},{"$f":"'Pivot Table Data'!S650","v":28},{"$f":"'Pivot Table Data'!T650","v":28},{"$f":"IF('Pivot Table Data'!O650=\"Yes\", 'Pivot Table Data'!T650, \"\")","v":28}]
[{"$f":"'Pivot Table Data'!B651","v":0},{"$f":"'Pivot Table Data'!F651","v":"Marshall College"},{"$f":"'Pivot Table Data'!P651","v":"P304"},{"$f":"'Pivot Table Data'!I651","v":"-"},{"$f":"'Pivot Table Data'!J651","v":"Accessible"},{"$f":"'Pivot Table Data'!K651","v":0},{"$f":"'Pivot Table Data'!L651","v":0},{"$f":"'Pivot Table Data'!S651","v":1},{"$f":"'Pivot Table Data'!T651","v":1},{"$f":"IF('Pivot Table Data'!O651=\"Yes\", 'Pivot Table Data'!T651, \"\")","v":""}]
[{"$f":"'Pivot Table Data'!B652","v":0},{"$f":"'Pivot Table Data'!F652","v":"Marshall College"},{"$f":"'Pivot Table Data'!P652","v":"P304"},{"$f":"'Pivot Table Data'!I652","v":"-"},{"$f":"'Pivot Table Data'!J652","v":"Accessible (Van)"},{"$f":"'Pivot Table Data'!K652","v":0},{"$f":"'Pivot Table Data'!L652","v":0},{"$f":"'Pivot Table Data'!S652","v":1},{"$f":"'Pivot Table Data'!T652","v":1},{"$f":"IF('Pivot Table Data'!O652=\"Yes\", 'Pivot Table Data'!T652, \"\")","v":""}]
[{"$f":"'Pivot Table Data'!B653","v":0},{"$f":"'Pivot Table Data'!F653","v":"Marshall College"},{"$f":"'Pivot Table Data'!P653","v":"P304"},{"$f":"'Pivot Table Data'!I653","v":"-"},{"$f":"'Pivot Table Data'!J653","v":"B"},{"$f":"'Pivot Table Data'!K653","v":0},{"$f":"'Pivot Table Data'!L653","v":0},{"$f":"'Pivot Table Data'!S653","v":0},{"$f":"'Pivot Table Data'!T653","v":0},{"$f":"IF('Pivot Table Data'!O653=\"Yes\", 'Pivot Table Data'!T653, \"\")","v":0}]
[{"$f":"'Pivot Table Data'!B654","v":0},{"$f":"'Pivot Table Data'!F654","v":"Marshall College"},{"$f":"'Pivot Table Data'!P654","v":"P304"},{"$f":"'Pivot Table Data'!I654","v":"-"},{"$f":"'Pivot Table Data'!J654","v":"Loading"},{"$f":"'Pivot Table Data'!K654","v":0},{"$f":"'Pivot Table Data'!L654","v":"20 minutes"},{"$f":"'Pivot Table Data'!S654","v":2},{"$f":"'Pivot Table Data'!T654","v":2},{"$f":"IF('Pivot Table Data'!O654=\"Yes\", 'Pivot Table Data'!T654, \"\")","v":""}]
[{"$f":"'Pivot Table Data'!B655","v":0},{"$f":"'Pivot Table Data'!F655","v":"Marshall College"},{"$f":"'Pivot Table Data'!P655","v":"P304"},{"$f":"'Pivot Table Data'!I655","v":"-"},{"$f":"'Pivot Table Data'!J655","v":"Motorcycle Section"},{"$f":"'Pivot Table Data'!K655","v":0},{"$f":"'Pivot Table Data'!L655","v":0},{"$f":"'Pivot Table Data'!S655","v":5},{"$f":"'Pivot Table Data'!T655","v":5},{"$f":"IF('Pivot Table Data'!O655=\"Yes\", 'Pivot Table Data'!T655, \"\")","v":""}]
[{"$f":"'Pivot Table Data'!B656","v":0},{"$f":"'Pivot Table Data'!F656","v":"Marshall College"},{"$f":"'Pivot Table Data'!P656","v":"P304"},{"$f":"'Pivot Table Data'!I656","v":"-"},{"$f":"'Pivot Table Data'!J656","v":"S"},{"$f":"'Pivot Table Data'!K656","v":0},{"$f":"'Pivot Table Data'!L656","v":0},{"$f":"'Pivot Table Data'!S656","v":72},{"$f":"'Pivot Table Data'!T656","v":72},{"$f":"IF('Pivot Table Data'!O656=\"Yes\", 'Pivot Table Data'!T656, \"\")","v":72}]
[{"$f":"'Pivot Table Data'!B657","v":0},{"$f":"'Pivot Table Data'!F657","v":"Marshall College"},{"$f":"'Pivot Table Data'!P657","v":"P304"},{"$f":"'Pivot Table Data'!I657","v":"-"},{"$f":"'Pivot Table Data'!J657","v":"Service Yard"},{"$f":"'Pivot Table Data'!K657","v":0},{"$f":"'Pivot Table Data'!L657","v":0},{"$f":"'Pivot Table Data'!S657","v":2},{"$f":"'Pivot Table Data'!T657","v":2},{"$f":"IF('Pivot Table Data'!O657=\"Yes\", 'Pivot Table Data'!T657, \"\")","v":""}]
[{"$f":"'Pivot Table Data'!B658","v":0},{"$f":"'Pivot Table Data'!F658","v":"Roosevelt College"},{"$f":"'Pivot Table Data'!P658","v":"P306"},{"$f":"'Pivot Table Data'!I658","v":"-"},{"$f":"'Pivot Table Data'!J658","v":"Accessible"},{"$f":"'Pivot Table Data'!K658","v":0},{"$f":"'Pivot Table Data'!L658","v":0},{"$f":"'Pivot Table Data'!S658","v":3},{"$f":"'Pivot Table Data'!T658","v":3},{"$f":"IF('Pivot Table Data'!O658=\"Yes\", 'Pivot Table Data'!T658, \"\")","v":""}]
[{"$f":"'Pivot Table Data'!B659","v":0},{"$f":"'Pivot Table Data'!F659","v":"Roosevelt College"},{"$f":"'Pivot Table Data'!P659","v":"P306"},{"$f":"'Pivot Table Data'!I659","v":"-"},{"$f":"'Pivot Table Data'!J659","v":"Accessible (Van)"},{"$f":"'Pivot Table Data'!K659","v":0},{"$f":"'Pivot Table Data'!L659","v":0},{"$f":"'Pivot Table Data'!S659","v":0},{"$f":"'Pivot Table Data'!T659","v":0},{"$f":"IF('Pivot Table Data'!O659=\"Yes\", 'Pivot Table Data'!T659, \"\")","v":""}]
[{"$f":"'Pivot Table Data'!B660","v":0},{"$f":"'Pivot Table Data'!F660","v":"Roosevelt College"},{"$f":"'Pivot Table Data'!P660","v":"P306"},{"$f":"'Pivot Table Data'!I660","v":"-"},{"$f":"'Pivot Table Data'!J660","v":"Loading"},{"$f":"'Pivot Table Data'!K660","v":0},{"$f":"'Pivot Table Data'!L660","v":"20 minutes"},{"$f":"'Pivot Table Data'!S660","v":4},{"$f":"'Pivot Table Data'!T660","v":4},{"$f":"IF('Pivot Table Data'!O660=\"Yes\", 'Pivot Table Data'!T660, \"\")","v":""}]
[{"$f":"'Pivot Table Data'!B661","v":0},{"$f":"'Pivot Table Data'!F661","v":"Roosevelt College"},{"$f":"'Pivot Table Data'!P661","v":"P306"},{"$f":"'Pivot Table Data'!I661","v":"-"},{"$f":"'Pivot Table Data'!J661","v":"Reserved"},{"$f":"'Pivot Table Data'!K661","v":0},{"$f":"'Pivot Table Data'!L661","v":0},{"$f":"'Pivot Table Data'!S661","v":4},{"$f":"'Pivot Table Data'!T661","v":4},{"$f":"IF('Pivot Table Data'!O661=\"Yes\", 'Pivot Table Data'!T661, \"\")","v":""}]
[{"$f":"'Pivot Table Data'!B662","v":0},{"$f":"'Pivot Table Data'!F662","v":"Roosevelt College"},{"$f":"'Pivot Table Data'!P662","v":"P306"},{"$f":"'Pivot Table Data'!I662","v":"-"},{"$f":"'Pivot Table Data'!J662","v":"UC Vehicle"},{"$f":"'Pivot Table Data'!K662","v":0},{"$f":"'Pivot Table Data'!L662","v":0},{"$f":"'Pivot Table Data'!S662","v":3},{"$f":"'Pivot Table Data'!T662","v":3},{"$f":"IF('Pivot Table Data'!O662=\"Yes\", 'Pivot Table Data'!T662, \"\")","v":""}]
[{"$f":"'Pivot Table Data'!B663","v":0},{"$f":"'Pivot Table Data'!F663","v":"Marshall College"},{"$f":"'Pivot Table Data'!P663","v":"P310"},{"$f":"'Pivot Table Data'!I663","v":"-"},{"$f":"'Pivot Table Data'!J663","v":"Accessible"},{"$f":"'Pivot Table Data'!K663","v":0},{"$f":"'Pivot Table Data'!L663","v":0},{"$f":"'Pivot Table Data'!S663","v":2},{"$f":"'Pivot Table Data'!T663","v":2},{"$f":"IF('Pivot Table Data'!O663=\"Yes\", 'Pivot Table Data'!T663, \"\")","v":""}]
[{"$f":"'Pivot Table Data'!B664","v":0},{"$f":"'Pivot Table Data'!F664","v":"Marshall College"},{"$f":"'Pivot Table Data'!P664","v":"P310"},{"$f":"'Pivot Table Data'!I664","v":"-"},{"$f":"'Pivot Table Data'!J664","v":"Accessible (Van)"},{"$f":"'Pivot Table Data'!K664","v":0},{"$f":"'Pivot Table Data'!L664","v":0},{"$f":"'Pivot Table Data'!S664","v":0},{"$f":"'Pivot Table Data'!T664","v":0},{"$f":"IF('Pivot Table Data'!O664=\"Yes\", 'Pivot Table Data'!T664, \"\")","v":""}]
[{"$f":"'Pivot Table Data'!B665","v":0},{"$f":"'Pivot Table Data'!F665","v":"Marshall College"},{"$f":"'Pivot Table Data'!P665","v":"P310"},{"$f":"'Pivot Table Data'!I665","v":"-"},{"$f":"'Pivot Table Data'!J665","v":"Loading"},{"$f":"'Pivot Table Data'!K665","v":0},{"$f":"'Pivot Table Data'!L665","v":"20 minutes"},{"$f":"'Pivot Table Data'!S665","v":2},{"$f":"'Pivot Table Data'!T665","v":2},{"$f":"IF('Pivot Table Data'!O665=\"Yes\", 'Pivot Table Data'!T665, \"\")","v":""}]
[{"$f":"'Pivot Table Data'!B666","v":0},{"$f":"'Pivot Table Data'!F666","v":"North Campus"},{"$f":"'Pivot Table Data'!P666","v":"P351"},{"$f":"'Pivot Table Data'!I666","v":"-"},{"$f":"'Pivot Table Data'!J666","v":"A"},{"$f":"'Pivot Table Data'!K666","v":0},{"$f":"'Pivot Table Data'!L666","v":0},{"$f":"'Pivot Table Data'!S666","v":22},{"$f":"'Pivot Table Data'!T666","v":22},{"$f":"IF('Pivot Table Data'!O666=\"Yes\", 'Pivot Table Data'!T666, \"\")","v":22}]
[{"$f":"'Pivot Table Data'!B667","v":0},{"$f":"'Pivot Table Data'!F667","v":"North Campus"},{"$f":"'Pivot Table Data'!P667","v":"P351"},{"$f":"'Pivot Table Data'!I667","v":"-"},{"$f":"'Pivot Table Data'!J667","v":"Reserved"},{"$f":"'Pivot Table Data'!K667","v":"Rady School"},{"$f":"'Pivot Table Data'!L667","v":0},{"$f":"'Pivot Table Data'!S667","v":3},{"$f":"'Pivot Table Data'!T667","v":3},{"$f":"IF('Pivot Table Data'!O667=\"Yes\", 'Pivot Table Data'!T667, \"\")","v":""}]
[{"$f":"'Pivot Table Data'!B668","v":0},{"$f":"'Pivot Table Data'!F668","v":"North Campus"},{"$f":"'Pivot Table Data'!P668","v":"P351"},{"$f":"'Pivot Table Data'!I668","v":"-"},{"$f":"'Pivot Table Data'!J668","v":"Reserved"},{"$f":"'Pivot Table Data'!K668","v":0},{"$f":"'Pivot Table Data'!L668","v":0},{"$f":"'Pivot Table Data'!S668","v":7},{"$f":"'Pivot Table Data'!T668","v":7},{"$f":"IF('Pivot Table Data'!O668=\"Yes\", 'Pivot Table Data'!T668, \"\")","v":""}]
[{"$f":"'Pivot Table Data'!B669","v":0},{"$f":"'Pivot Table Data'!F669","v":"North Campus"},{"$f":"'Pivot Table Data'!P669","v":"P352"},{"$f":"'Pivot Table Data'!I669","v":"-"},{"$f":"'Pivot Table Data'!J669","v":"Accessible"},{"$f":"'Pivot Table Data'!K669","v":0},{"$f":"'Pivot Table Data'!L669","v":0},{"$f":"'Pivot Table Data'!S669","v":0},{"$f":"'Pivot Table Data'!T669","v":0},{"$f":"IF('Pivot Table Data'!O669=\"Yes\", 'Pivot Table Data'!T669, \"\")","v":""}]
[{"$f":"'Pivot Table Data'!B670","v":0},{"$f":"'Pivot Table Data'!F670","v":"North Campus"},{"$f":"'Pivot Table Data'!P670","v":"P352"},{"$f":"'Pivot Table Data'!I670","v":"-"},{"$f":"'Pivot Table Data'!J670","v":"Accessible (Van)"},{"$f":"'Pivot Table Data'!K670","v":0},{"$f":"'Pivot Table Data'!L670","v":0},{"$f":"'Pivot Table Data'!S670","v":1},{"$f":"'Pivot Table Data'!T670","v":1},{"$f":"IF('Pivot Table Data'!O670=\"Yes\", 'Pivot Table Data'!T670, \"\")","v":""}]
[{"$f":"'Pivot Table Data'!B671","v":0},{"$f":"'Pivot Table Data'!F671","v":"North Campus"},{"$f":"'Pivot Table Data'!P671","v":"P352"},{"$f":"'Pivot Table Data'!I671","v":"-"},{"$f":"'Pivot Table Data'!J671","v":"Loading"},{"$f":"'Pivot Table Data'!K671","v":0},{"$f":"'Pivot Table Data'!L671","v":"20 minutes"},{"$f":"'Pivot Table Data'!S671","v":1},{"$f":"'Pivot Table Data'!T671","v":1},{"$f":"IF('Pivot Table Data'!O671=\"Yes\", 'Pivot Table Data'!T671, \"\")","v":""}]
[{"$f":"'Pivot Table Data'!B672","v":0},{"$f":"'Pivot Table Data'!F672","v":"North Campus"},{"$f":"'Pivot Table Data'!P672","v":"P352"},{"$f":"'Pivot Table Data'!I672","v":"-"},{"$f":"'Pivot Table Data'!J672","v":"Service Yard"},{"$f":"'Pivot Table Data'!K672","v":0},{"$f":"'Pivot Table Data'!L672","v":0},{"$f":"'Pivot Table Data'!S672","v":2},{"$f":"'Pivot Table Data'!T672","v":2},{"$f":"IF('Pivot Table Data'!O672=\"Yes\", 'Pivot Table Data'!T672, \"\")","v":""}]
[{"$f":"'Pivot Table Data'!B673","v":0},{"$f":"'Pivot Table Data'!F673","v":"North Campus"},{"$f":"'Pivot Table Data'!P673","v":"P353"},{"$f":"'Pivot Table Data'!I673","v":"-"},{"$f":"'Pivot Table Data'!J673","v":"Accessible"},{"$f":"'Pivot Table Data'!K673","v":0},{"$f":"'Pivot Table Data'!L673","v":0},{"$f":"'Pivot Table Data'!S673","v":3},{"$f":"'Pivot Table Data'!T673","v":3},{"$f":"IF('Pivot Table Data'!O673=\"Yes\", 'Pivot Table Data'!T673, \"\")","v":""}]
[{"$f":"'Pivot Table Data'!B674","v":0},{"$f":"'Pivot Table Data'!F674","v":"North Campus"},{"$f":"'Pivot Table Data'!P674","v":"P353"},{"$f":"'Pivot Table Data'!I674","v":"-"},{"$f":"'Pivot Table Data'!J674","v":"Accessible (Van)"},{"$f":"'Pivot Table Data'!K674","v":0},{"$f":"'Pivot Table Data'!L674","v":0},{"$f":"'Pivot Table Data'!S674","v":1},{"$f":"'Pivot Table Data'!T674","v":1},{"$f":"IF('Pivot Table Data'!O674=\"Yes\", 'Pivot Table Data'!T674, \"\")","v":""}]
[{"$f":"'Pivot Table Data'!B675","v":0},{"$f":"'Pivot Table Data'!F675","v":"North Campus"},{"$f":"'Pivot Table Data'!P675","v":"P353"},{"$f":"'Pivot Table Data'!I675","v":"-"},{"$f":"'Pivot Table Data'!J675","v":"Allocated"},{"$f":"'Pivot Table Data'!K675","v":"Fuel-efficient Vehicle"},{"$f":"'Pivot Table Data'!L675","v":0},{"$f":"'Pivot Table Data'!S675","v":1},{"$f":"'Pivot Table Data'!T675","v":1},{"$f":"IF('Pivot Table Data'!O675=\"Yes\", 'Pivot Table Data'!T675, \"\")","v":""}]
[{"$f":"'Pivot Table Data'!B676","v":0},{"$f":"'Pivot Table Data'!F676","v":"North Campus"},{"$f":"'Pivot Table Data'!P676","v":"P353"},{"$f":"'Pivot Table Data'!I676","v":"-"},{"$f":"'Pivot Table Data'!J676","v":"Loading"},{"$f":"'Pivot Table Data'!K676","v":0},{"$f":"'Pivot Table Data'!L676","v":"20 minutes"},{"$f":"'Pivot Table Data'!S676","v":17},{"$f":"'Pivot Table Data'!T676","v":17},{"$f":"IF('Pivot Table Data'!O676=\"Yes\", 'Pivot Table Data'!T676, \"\")","v":""}]
[{"$f":"'Pivot Table Data'!B677","v":0},{"$f":"'Pivot Table Data'!F677","v":"North Campus"},{"$f":"'Pivot Table Data'!P677","v":"P353"},{"$f":"'Pivot Table Data'!I677","v":"-"},{"$f":"'Pivot Table Data'!J677","v":"UC Vehicle"},{"$f":"'Pivot Table Data'!K677","v":0},{"$f":"'Pivot Table Data'!L677","v":0},{"$f":"'Pivot Table Data'!S677","v":3},{"$f":"'Pivot Table Data'!T677","v":3},{"$f":"IF('Pivot Table Data'!O677=\"Yes\", 'Pivot Table Data'!T677, \"\")","v":""}]
[{"$f":"'Pivot Table Data'!B678","v":0},{"$f":"'Pivot Table Data'!F678","v":"Roosevelt College"},{"$f":"'Pivot Table Data'!P678","v":"P354"},{"$f":"'Pivot Table Data'!I678","v":"-"},{"$f":"'Pivot Table Data'!J678","v":"Accessible"},{"$f":"'Pivot Table Data'!K678","v":0},{"$f":"'Pivot Table Data'!L678","v":0},{"$f":"'Pivot Table Data'!S678","v":4},{"$f":"'Pivot Table Data'!T678","v":4},{"$f":"IF('Pivot Table Data'!O678=\"Yes\", 'Pivot Table Data'!T678, \"\")","v":""}]
[{"$f":"'Pivot Table Data'!B679","v":0},{"$f":"'Pivot Table Data'!F679","v":"Roosevelt College"},{"$f":"'Pivot Table Data'!P679","v":"P354"},{"$f":"'Pivot Table Data'!I679","v":"-"},{"$f":"'Pivot Table Data'!J679","v":"Accessible (Van)"},{"$f":"'Pivot Table Data'!K679","v":0},{"$f":"'Pivot Table Data'!L679","v":0},{"$f":"'Pivot Table Data'!S679","v":0},{"$f":"'Pivot Table Data'!T679","v":0},{"$f":"IF('Pivot Table Data'!O679=\"Yes\", 'Pivot Table Data'!T679, \"\")","v":""}]
[{"$f":"'Pivot Table Data'!B680","v":0},{"$f":"'Pivot Table Data'!F680","v":"Roosevelt College"},{"$f":"'Pivot Table Data'!P680","v":"P354"},{"$f":"'Pivot Table Data'!I680","v":"-"},{"$f":"'Pivot Table Data'!J680","v":"Reserved"},{"$f":"'Pivot Table Data'!K680","v":0},{"$f":"'Pivot Table Data'!L680","v":0},{"$f":"'Pivot Table Data'!S680","v":1},{"$f":"'Pivot Table Data'!T680","v":1},{"$f":"IF('Pivot Table Data'!O680=\"Yes\", 'Pivot Table Data'!T680, \"\")","v":""}]
[{"$f":"'Pivot Table Data'!B681","v":0},{"$f":"'Pivot Table Data'!F681","v":"Roosevelt College"},{"$f":"'Pivot Table Data'!P681","v":"P354"},{"$f":"'Pivot Table Data'!I681","v":"-"},{"$f":"'Pivot Table Data'!J681","v":"Service Yard"},{"$f":"'Pivot Table Data'!K681","v":0},{"$f":"'Pivot Table Data'!L681","v":0},{"$f":"'Pivot Table Data'!S681","v":8},{"$f":"'Pivot Table Data'!T681","v":8},{"$f":"IF('Pivot Table Data'!O681=\"Yes\", 'Pivot Table Data'!T681, \"\")","v":""}]
[{"$f":"'Pivot Table Data'!B682","v":0},{"$f":"'Pivot Table Data'!F682","v":"Roosevelt College"},{"$f":"'Pivot Table Data'!P682","v":"P354"},{"$f":"'Pivot Table Data'!I682","v":"-"},{"$f":"'Pivot Table Data'!J682","v":"UC Vehicle"},{"$f":"'Pivot Table Data'!K682","v":0},{"$f":"'Pivot Table Data'!L682","v":0},{"$f":"'Pivot Table Data'!S682","v":2},{"$f":"'Pivot Table Data'!T682","v":2},{"$f":"IF('Pivot Table Data'!O682=\"Yes\", 'Pivot Table Data'!T682, \"\")","v":""}]
[{"$f":"'Pivot Table Data'!B683","v":0},{"$f":"'Pivot Table Data'!F683","v":"North Campus"},{"$f":"'Pivot Table Data'!P683","v":"P357"},{"$f":"'Pivot Table Data'!I683","v":"-"},{"$f":"'Pivot Table Data'!J683","v":"Accessible"},{"$f":"'Pivot Table Data'!K683","v":0},{"$f":"'Pivot Table Data'!L683","v":0},{"$f":"'Pivot Table Data'!S683","v":2},{"$f":"'Pivot Table Data'!T683","v":2},{"$f":"IF('Pivot Table Data'!O683=\"Yes\", 'Pivot Table Data'!T683, \"\")","v":""}]
[{"$f":"'Pivot Table Data'!B684","v":0},{"$f":"'Pivot Table Data'!F684","v":"North Campus"},{"$f":"'Pivot Table Data'!P684","v":"P357"},{"$f":"'Pivot Table Data'!I684","v":"-"},{"$f":"'Pivot Table Data'!J684","v":"Accessible (Van)"},{"$f":"'Pivot Table Data'!K684","v":0},{"$f":"'Pivot Table Data'!L684","v":0},{"$f":"'Pivot Table Data'!S684","v":3},{"$f":"'Pivot Table Data'!T684","v":3},{"$f":"IF('Pivot Table Data'!O684=\"Yes\", 'Pivot Table Data'!T684, \"\")","v":""}]
[{"$f":"'Pivot Table Data'!B685","v":0},{"$f":"'Pivot Table Data'!F685","v":"North Campus"},{"$f":"'Pivot Table Data'!P685","v":"P357"},{"$f":"'Pivot Table Data'!I685","v":"-"},{"$f":"'Pivot Table Data'!J685","v":"B"},{"$f":"'Pivot Table Data'!K685","v":0},{"$f":"'Pivot Table Data'!L685","v":0},{"$f":"'Pivot Table Data'!S685","v":117},{"$f":"'Pivot Table Data'!T685","v":117},{"$f":"IF('Pivot Table Data'!O685=\"Yes\", 'Pivot Table Data'!T685, \"\")","v":117}]
[{"$f":"'Pivot Table Data'!B686","v":0},{"$f":"'Pivot Table Data'!F686","v":"North Campus"},{"$f":"'Pivot Table Data'!P686","v":"P357"},{"$f":"'Pivot Table Data'!I686","v":"-"},{"$f":"'Pivot Table Data'!J686","v":"Electric Vehicle"},{"$f":"'Pivot Table Data'!K686","v":0},{"$f":"'Pivot Table Data'!L686","v":"4-Hour"},{"$f":"'Pivot Table Data'!S686","v":10},{"$f":"'Pivot Table Data'!T686","v":10},{"$f":"IF('Pivot Table Data'!O686=\"Yes\", 'Pivot Table Data'!T686, \"\")","v":""}]
[{"$f":"'Pivot Table Data'!B687","v":0},{"$f":"'Pivot Table Data'!F687","v":"North Campus"},{"$f":"'Pivot Table Data'!P687","v":"P357"},{"$f":"'Pivot Table Data'!I687","v":"-"},{"$f":"'Pivot Table Data'!J687","v":"Motorcycle Section"},{"$f":"'Pivot Table Data'!K687","v":0},{"$f":"'Pivot Table Data'!L687","v":0},{"$f":"'Pivot Table Data'!S687","v":12},{"$f":"'Pivot Table Data'!T687","v":12},{"$f":"IF('Pivot Table Data'!O687=\"Yes\", 'Pivot Table Data'!T687, \"\")","v":""}]
[{"$f":"'Pivot Table Data'!B688","v":0},{"$f":"'Pivot Table Data'!F688","v":"North Campus"},{"$f":"'Pivot Table Data'!P688","v":"P357"},{"$f":"'Pivot Table Data'!I688","v":"-"},{"$f":"'Pivot Table Data'!J688","v":"Reserved"},{"$f":"'Pivot Table Data'!K688","v":0},{"$f":"'Pivot Table Data'!L688","v":0},{"$f":"'Pivot Table Data'!S688","v":4},{"$f":"'Pivot Table Data'!T688","v":4},{"$f":"IF('Pivot Table Data'!O688=\"Yes\", 'Pivot Table Data'!T688, \"\")","v":""}]
[{"$f":"'Pivot Table Data'!B689","v":0},{"$f":"'Pivot Table Data'!F689","v":"North Campus"},{"$f":"'Pivot Table Data'!P689","v":"P357"},{"$f":"'Pivot Table Data'!I689","v":"-"},{"$f":"'Pivot Table Data'!J689","v":"Service Yard"},{"$f":"'Pivot Table Data'!K689","v":0},{"$f":"'Pivot Table Data'!L689","v":0},{"$f":"'Pivot Table Data'!S689","v":2},{"$f":"'Pivot Table Data'!T689","v":2},{"$f":"IF('Pivot Table Data'!O689=\"Yes\", 'Pivot Table Data'!T689, \"\")","v":""}]
[{"$f":"'Pivot Table Data'!B690","v":0},{"$f":"'Pivot Table Data'!F690","v":"North Campus"},{"$f":"'Pivot Table Data'!P690","v":"P357"},{"$f":"'Pivot Table Data'!I690","v":"-"},{"$f":"'Pivot Table Data'!J690","v":"Visitor"},{"$f":"'Pivot Table Data'!K690","v":0},{"$f":"'Pivot Table Data'!L690","v":0},{"$f":"'Pivot Table Data'!S690","v":13},{"$f":"'Pivot Table Data'!T690","v":13},{"$f":"IF('Pivot Table Data'!O690=\"Yes\", 'Pivot Table Data'!T690, \"\")","v":13}]
[{"$f":"'Pivot Table Data'!B691","v":0},{"$f":"'Pivot Table Data'!F691","v":"North Campus"},{"$f":"'Pivot Table Data'!P691","v":"P358"},{"$f":"'Pivot Table Data'!I691","v":"-"},{"$f":"'Pivot Table Data'!J691","v":"UC Vehicle"},{"$f":"'Pivot Table Data'!K691","v":0},{"$f":"'Pivot Table Data'!L691","v":0},{"$f":"'Pivot Table Data'!S691","v":1},{"$f":"'Pivot Table Data'!T691","v":1},{"$f":"IF('Pivot Table Data'!O691=\"Yes\", 'Pivot Table Data'!T691, \"\")","v":""}]
[{"$f":"'Pivot Table Data'!B692","v":0},{"$f":"'Pivot Table Data'!F692","v":"North Campus"},{"$f":"'Pivot Table Data'!P692","v":"P359"},{"$f":"'Pivot Table Data'!I692","v":"-"},{"$f":"'Pivot Table Data'!J692","v":"B"},{"$f":"'Pivot Table Data'!K692","v":0},{"$f":"'Pivot Table Data'!L692","v":0},{"$f":"'Pivot Table Data'!S692","v":49},{"$f":"'Pivot Table Data'!T692","v":49},{"$f":"IF('Pivot Table Data'!O692=\"Yes\", 'Pivot Table Data'!T692, \"\")","v":49}]
[{"$f":"'Pivot Table Data'!B693","v":0},{"$f":"'Pivot Table Data'!F693","v":"North Campus"},{"$f":"'Pivot Table Data'!P693","v":"P359"},{"$f":"'Pivot Table Data'!I693","v":"-"},{"$f":"'Pivot Table Data'!J693","v":"UC Vehicle"},{"$f":"'Pivot Table Data'!K693","v":0},{"$f":"'Pivot Table Data'!L693","v":0},{"$f":"'Pivot Table Data'!S693","v":7},{"$f":"'Pivot Table Data'!T693","v":7},{"$f":"IF('Pivot Table Data'!O693=\"Yes\", 'Pivot Table Data'!T693, \"\")","v":""}]
[{"$f":"'Pivot Table Data'!B694","v":0},{"$f":"'Pivot Table Data'!F694","v":"Torrey Pines Center"},{"$f":"'Pivot Table Data'!P694","v":"P384"},{"$f":"'Pivot Table Data'!I694","v":"-"},{"$f":"'Pivot Table Data'!J694","v":"Allocated"},{"$f":"'Pivot Table Data'!K694","v":"SCRM"},{"$f":"'Pivot Table Data'!L694","v":0},{"$f":"'Pivot Table Data'!S694","v":0},{"$f":"'Pivot Table Data'!T694","v":0},{"$f":"IF('Pivot Table Data'!O694=\"Yes\", 'Pivot Table Data'!T694, \"\")","v":""}]
[{"$f":"'Pivot Table Data'!B695","v":0},{"$f":"'Pivot Table Data'!F695","v":"Torrey Pines Center"},{"$f":"'Pivot Table Data'!P695","v":"P384"},{"$f":"'Pivot Table Data'!I695","v":"-"},{"$f":"'Pivot Table Data'!J695","v":"B"},{"$f":"'Pivot Table Data'!K695","v":"Sanford Consortium"},{"$f":"'Pivot Table Data'!L695","v":0},{"$f":"'Pivot Table Data'!S695","v":175},{"$f":"'Pivot Table Data'!T695","v":175},{"$f":"IF('Pivot Table Data'!O695=\"Yes\", 'Pivot Table Data'!T695, \"\")","v":175}]
[{"$f":"'Pivot Table Data'!B696","v":0},{"$f":"'Pivot Table Data'!F696","v":"Torrey Pines Center"},{"$f":"'Pivot Table Data'!P696","v":"P384"},{"$f":"'Pivot Table Data'!I696","v":"-"},{"$f":"'Pivot Table Data'!J696","v":"Motorcycle Section"},{"$f":"'Pivot Table Data'!K696","v":0},{"$f":"'Pivot Table Data'!L696","v":0},{"$f":"'Pivot Table Data'!S696","v":4},{"$f":"'Pivot Table Data'!T696","v":4},{"$f":"IF('Pivot Table Data'!O696=\"Yes\", 'Pivot Table Data'!T696, \"\")","v":""}]
[{"$f":"'Pivot Table Data'!B697","v":0},{"$f":"'Pivot Table Data'!F697","v":"Torrey Pines Center"},{"$f":"'Pivot Table Data'!P697","v":"P385"},{"$f":"'Pivot Table Data'!I697","v":"-"},{"$f":"'Pivot Table Data'!J697","v":"Accessible"},{"$f":"'Pivot Table Data'!K697","v":0},{"$f":"'Pivot Table Data'!L697","v":0},{"$f":"'Pivot Table Data'!S697","v":3},{"$f":"'Pivot Table Data'!T697","v":3},{"$f":"IF('Pivot Table Data'!O697=\"Yes\", 'Pivot Table Data'!T697, \"\")","v":""}]
[{"$f":"'Pivot Table Data'!B698","v":0},{"$f":"'Pivot Table Data'!F698","v":"Torrey Pines Center"},{"$f":"'Pivot Table Data'!P698","v":"P385"},{"$f":"'Pivot Table Data'!I698","v":"-"},{"$f":"'Pivot Table Data'!J698","v":"Accessible (Van)"},{"$f":"'Pivot Table Data'!K698","v":0},{"$f":"'Pivot Table Data'!L698","v":0},{"$f":"'Pivot Table Data'!S698","v":7},{"$f":"'Pivot Table Data'!T698","v":7},{"$f":"IF('Pivot Table Data'!O698=\"Yes\", 'Pivot Table Data'!T698, \"\")","v":""}]
[{"$f":"'Pivot Table Data'!B699","v":0},{"$f":"'Pivot Table Data'!F699","v":"Torrey Pines Center"},{"$f":"'Pivot Table Data'!P699","v":"P385"},{"$f":"'Pivot Table Data'!I699","v":"-"},{"$f":"'Pivot Table Data'!J699","v":"Reserved"},{"$f":"'Pivot Table Data'!K699","v":0},{"$f":"'Pivot Table Data'!L699","v":0},{"$f":"'Pivot Table Data'!S699","v":11},{"$f":"'Pivot Table Data'!T699","v":11},{"$f":"IF('Pivot Table Data'!O699=\"Yes\", 'Pivot Table Data'!T699, \"\")","v":""}]
[{"$f":"'Pivot Table Data'!B700","v":0},{"$f":"'Pivot Table Data'!F700","v":"Torrey Pines Center"},{"$f":"'Pivot Table Data'!P700","v":"P385"},{"$f":"'Pivot Table Data'!I700","v":"-"},{"$f":"'Pivot Table Data'!J700","v":"Visitor"},{"$f":"'Pivot Table Data'!K700","v":"Sanford Consortium"},{"$f":"'Pivot Table Data'!L700","v":0},{"$f":"'Pivot Table Data'!S700","v":202},{"$f":"'Pivot Table Data'!T700","v":202},{"$f":"IF('Pivot Table Data'!O700=\"Yes\", 'Pivot Table Data'!T700, \"\")","v":202}]
[{"$f":"'Pivot Table Data'!B701","v":0},{"$f":"'Pivot Table Data'!F701","v":"Torrey Pines Center"},{"$f":"'Pivot Table Data'!P701","v":"P386 (Gliderport)"},{"$f":"'Pivot Table Data'!I701","v":"-"},{"$f":"'Pivot Table Data'!J701","v":"SS ($3.25)"},{"$f":"'Pivot Table Data'!K701","v":0},{"$f":"'Pivot Table Data'!L701","v":0},{"$f":"'Pivot Table Data'!S701","v":335},{"$f":"'Pivot Table Data'!T701","v":335},{"$f":"IF('Pivot Table Data'!O701=\"Yes\", 'Pivot Table Data'!T701, \"\")","v":335}]
[{"$f":"'Pivot Table Data'!B702","v":0},{"$f":"'Pivot Table Data'!F702","v":"Pepper Canyon"},{"$f":"'Pivot Table Data'!P702","v":"P401"},{"$f":"'Pivot Table Data'!I702","v":"-"},{"$f":"'Pivot Table Data'!J702","v":"Accessible"},{"$f":"'Pivot Table Data'!K702","v":0},{"$f":"'Pivot Table Data'!L702","v":0},{"$f":"'Pivot Table Data'!S702","v":0},{"$f":"'Pivot Table Data'!T702","v":0},{"$f":"IF('Pivot Table Data'!O702=\"Yes\", 'Pivot Table Data'!T702, \"\")","v":""}]
[{"$f":"'Pivot Table Data'!B703","v":0},{"$f":"'Pivot Table Data'!F703","v":"Pepper Canyon"},{"$f":"'Pivot Table Data'!P703","v":"P401"},{"$f":"'Pivot Table Data'!I703","v":"-"},{"$f":"'Pivot Table Data'!J703","v":"Accessible (Van)"},{"$f":"'Pivot Table Data'!K703","v":0},{"$f":"'Pivot Table Data'!L703","v":0},{"$f":"'Pivot Table Data'!S703","v":1},{"$f":"'Pivot Table Data'!T703","v":1},{"$f":"IF('Pivot Table Data'!O703=\"Yes\", 'Pivot Table Data'!T703, \"\")","v":""}]
[{"$f":"'Pivot Table Data'!B704","v":0},{"$f":"'Pivot Table Data'!F704","v":"Pepper Canyon"},{"$f":"'Pivot Table Data'!P704","v":"P401"},{"$f":"'Pivot Table Data'!I704","v":"-"},{"$f":"'Pivot Table Data'!J704","v":"Loading"},{"$f":"'Pivot Table Data'!K704","v":0},{"$f":"'Pivot Table Data'!L704","v":20},{"$f":"'Pivot Table Data'!S704","v":2},{"$f":"'Pivot Table Data'!T704","v":2},{"$f":"IF('Pivot Table Data'!O704=\"Yes\", 'Pivot Table Data'!T704, \"\")","v":""}]
[{"$f":"'Pivot Table Data'!B705","v":0},{"$f":"'Pivot Table Data'!F705","v":"Pepper Canyon"},{"$f":"'Pivot Table Data'!P705","v":"P401"},{"$f":"'Pivot Table Data'!I705","v":"-"},{"$f":"'Pivot Table Data'!J705","v":"SR"},{"$f":"'Pivot Table Data'!K705","v":0},{"$f":"'Pivot Table Data'!L705","v":0},{"$f":"'Pivot Table Data'!S705","v":96},{"$f":"'Pivot Table Data'!T705","v":96},{"$f":"IF('Pivot Table Data'!O705=\"Yes\", 'Pivot Table Data'!T705, \"\")","v":96}]
[{"$f":"'Pivot Table Data'!B706","v":0},{"$f":"'Pivot Table Data'!F706","v":"Pepper Canyon"},{"$f":"'Pivot Table Data'!P706","v":"P402"},{"$f":"'Pivot Table Data'!I706","v":"-"},{"$f":"'Pivot Table Data'!J706","v":"A"},{"$f":"'Pivot Table Data'!K706","v":"24/7 Enforced"},{"$f":"'Pivot Table Data'!L706","v":0},{"$f":"'Pivot Table Data'!S706","v":4},{"$f":"'Pivot Table Data'!T706","v":4},{"$f":"IF('Pivot Table Data'!O706=\"Yes\", 'Pivot Table Data'!T706, \"\")","v":4}]
[{"$f":"'Pivot Table Data'!B707","v":0},{"$f":"'Pivot Table Data'!F707","v":"Pepper Canyon"},{"$f":"'Pivot Table Data'!P707","v":"P402"},{"$f":"'Pivot Table Data'!I707","v":"-"},{"$f":"'Pivot Table Data'!J707","v":"Accessible"},{"$f":"'Pivot Table Data'!K707","v":0},{"$f":"'Pivot Table Data'!L707","v":0},{"$f":"'Pivot Table Data'!S707","v":2},{"$f":"'Pivot Table Data'!T707","v":2},{"$f":"IF('Pivot Table Data'!O707=\"Yes\", 'Pivot Table Data'!T707, \"\")","v":""}]
[{"$f":"'Pivot Table Data'!B708","v":0},{"$f":"'Pivot Table Data'!F708","v":"Pepper Canyon"},{"$f":"'Pivot Table Data'!P708","v":"P402"},{"$f":"'Pivot Table Data'!I708","v":"-"},{"$f":"'Pivot Table Data'!J708","v":"Accessible (Van)"},{"$f":"'Pivot Table Data'!K708","v":0},{"$f":"'Pivot Table Data'!L708","v":0},{"$f":"'Pivot Table Data'!S708","v":1},{"$f":"'Pivot Table Data'!T708","v":1},{"$f":"IF('Pivot Table Data'!O708=\"Yes\", 'Pivot Table Data'!T708, \"\")","v":""}]
[{"$f":"'Pivot Table Data'!B709","v":0},{"$f":"'Pivot Table Data'!F709","v":"Pepper Canyon"},{"$f":"'Pivot Table Data'!P709","v":"P402"},{"$f":"'Pivot Table Data'!I709","v":"-"},{"$f":"'Pivot Table Data'!J709","v":"Loading"},{"$f":"'Pivot Table Data'!K709","v":0},{"$f":"'Pivot Table Data'!L709","v":"20 minutes"},{"$f":"'Pivot Table Data'!S709","v":7},{"$f":"'Pivot Table Data'!T709","v":7},{"$f":"IF('Pivot Table Data'!O709=\"Yes\", 'Pivot Table Data'!T709, \"\")","v":""}]
[{"$f":"'Pivot Table Data'!B710","v":0},{"$f":"'Pivot Table Data'!F710","v":"Pepper Canyon"},{"$f":"'Pivot Table Data'!P710","v":"P402"},{"$f":"'Pivot Table Data'!I710","v":"-"},{"$f":"'Pivot Table Data'!J710","v":"Motorcycle Section"},{"$f":"'Pivot Table Data'!K710","v":0},{"$f":"'Pivot Table Data'!L710","v":0},{"$f":"'Pivot Table Data'!S710","v":2},{"$f":"'Pivot Table Data'!T710","v":2},{"$f":"IF('Pivot Table Data'!O710=\"Yes\", 'Pivot Table Data'!T710, \"\")","v":""}]
[{"$f":"'Pivot Table Data'!B711","v":0},{"$f":"'Pivot Table Data'!F711","v":"Pepper Canyon"},{"$f":"'Pivot Table Data'!P711","v":"P402"},{"$f":"'Pivot Table Data'!I711","v":"-"},{"$f":"'Pivot Table Data'!J711","v":"Reserved"},{"$f":"'Pivot Table Data'!K711","v":0},{"$f":"'Pivot Table Data'!L711","v":0},{"$f":"'Pivot Table Data'!S711","v":4},{"$f":"'Pivot Table Data'!T711","v":4},{"$f":"IF('Pivot Table Data'!O711=\"Yes\", 'Pivot Table Data'!T711, \"\")","v":""}]
[{"$f":"'Pivot Table Data'!B712","v":0},{"$f":"'Pivot Table Data'!F712","v":"Pepper Canyon"},{"$f":"'Pivot Table Data'!P712","v":"P402"},{"$f":"'Pivot Table Data'!I712","v":"-"},{"$f":"'Pivot Table Data'!J712","v":"Service Yard"},{"$f":"'Pivot Table Data'!K712","v":0},{"$f":"'Pivot Table Data'!L712","v":0},{"$f":"'Pivot Table Data'!S712","v":2},{"$f":"'Pivot Table Data'!T712","v":2},{"$f":"IF('Pivot Table Data'!O712=\"Yes\", 'Pivot Table Data'!T712, \"\")","v":""}]
[{"$f":"'Pivot Table Data'!B713","v":0},{"$f":"'Pivot Table Data'!F713","v":"Pepper Canyon"},{"$f":"'Pivot Table Data'!P713","v":"P402"},{"$f":"'Pivot Table Data'!I713","v":"-"},{"$f":"'Pivot Table Data'!J713","v":"UC Vehicle"},{"$f":"'Pivot Table Data'!K713","v":0},{"$f":"'Pivot Table Data'!L713","v":0},{"$f":"'Pivot Table Data'!S713","v":2},{"$f":"'Pivot Table Data'!T713","v":2},{"$f":"IF('Pivot Table Data'!O713=\"Yes\", 'Pivot Table Data'!T713, \"\")","v":""}]
[{"$f":"'Pivot Table Data'!B714","v":0},{"$f":"'Pivot Table Data'!F714","v":"Pepper Canyon"},{"$f":"'Pivot Table Data'!P714","v":"P402"},{"$f":"'Pivot Table Data'!I714","v":"-"},{"$f":"'Pivot Table Data'!J714","v":"Visitor"},{"$f":"'Pivot Table Data'!K714","v":0},{"$f":"'Pivot Table Data'!L714","v":0},{"$f":"'Pivot Table Data'!S714","v":3},{"$f":"'Pivot Table Data'!T714","v":3},{"$f":"IF('Pivot Table Data'!O714=\"Yes\", 'Pivot Table Data'!T714, \"\")","v":3}]
[{"$f":"'Pivot Table Data'!B715","v":0},{"$f":"'Pivot Table Data'!F715","v":"University Center"},{"$f":"'Pivot Table Data'!P715","v":"P405"},{"$f":"'Pivot Table Data'!I715","v":"-"},{"$f":"'Pivot Table Data'!J715","v":"Loading"},{"$f":"'Pivot Table Data'!K715","v":"Commercial"},{"$f":"'Pivot Table Data'!L715","v":30},{"$f":"'Pivot Table Data'!S715","v":6},{"$f":"'Pivot Table Data'!T715","v":6},{"$f":"IF('Pivot Table Data'!O715=\"Yes\", 'Pivot Table Data'!T715, \"\")","v":""}]
[{"$f":"'Pivot Table Data'!B716","v":0},{"$f":"'Pivot Table Data'!F716","v":"University Center"},{"$f":"'Pivot Table Data'!P716","v":"P405"},{"$f":"'Pivot Table Data'!I716","v":"-"},{"$f":"'Pivot Table Data'!J716","v":"Loading"},{"$f":"'Pivot Table Data'!K716","v":0},{"$f":"'Pivot Table Data'!L716","v":20},{"$f":"'Pivot Table Data'!S716","v":6},{"$f":"'Pivot Table Data'!T716","v":6},{"$f":"IF('Pivot Table Data'!O716=\"Yes\", 'Pivot Table Data'!T716, \"\")","v":""}]
[{"$f":"'Pivot Table Data'!B717","v":0},{"$f":"'Pivot Table Data'!F717","v":"University Center"},{"$f":"'Pivot Table Data'!P717","v":"P405"},{"$f":"'Pivot Table Data'!I717","v":"-"},{"$f":"'Pivot Table Data'!J717","v":"Reserved"},{"$f":"'Pivot Table Data'!K717","v":0},{"$f":"'Pivot Table Data'!L717","v":0},{"$f":"'Pivot Table Data'!S717","v":1},{"$f":"'Pivot Table Data'!T717","v":1},{"$f":"IF('Pivot Table Data'!O717=\"Yes\", 'Pivot Table Data'!T717, \"\")","v":""}]
[{"$f":"'Pivot Table Data'!B718","v":0},{"$f":"'Pivot Table Data'!F718","v":"University Center"},{"$f":"'Pivot Table Data'!P718","v":"P405"},{"$f":"'Pivot Table Data'!I718","v":"-"},{"$f":"'Pivot Table Data'!J718","v":"Service Yard"},{"$f":"'Pivot Table Data'!K718","v":0},{"$f":"'Pivot Table Data'!L718","v":0},{"$f":"'Pivot Table Data'!S718","v":10},{"$f":"'Pivot Table Data'!T718","v":10},{"$f":"IF('Pivot Table Data'!O718=\"Yes\", 'Pivot Table Data'!T718, \"\")","v":""}]
[{"$f":"'Pivot Table Data'!B719","v":0},{"$f":"'Pivot Table Data'!F719","v":"Pepper Canyon"},{"$f":"'Pivot Table Data'!P719","v":"P406"},{"$f":"'Pivot Table Data'!I719","v":"-"},{"$f":"'Pivot Table Data'!J719","v":"Accessible"},{"$f":"'Pivot Table Data'!K719","v":0},{"$f":"'Pivot Table Data'!L719","v":0},{"$f":"'Pivot Table Data'!S719","v":2},{"$f":"'Pivot Table Data'!T719","v":2},{"$f":"IF('Pivot Table Data'!O719=\"Yes\", 'Pivot Table Data'!T719, \"\")","v":""}]
[{"$f":"'Pivot Table Data'!B720","v":0},{"$f":"'Pivot Table Data'!F720","v":"Pepper Canyon"},{"$f":"'Pivot Table Data'!P720","v":"P406"},{"$f":"'Pivot Table Data'!I720","v":"-"},{"$f":"'Pivot Table Data'!J720","v":"Accessible (Van)"},{"$f":"'Pivot Table Data'!K720","v":0},{"$f":"'Pivot Table Data'!L720","v":0},{"$f":"'Pivot Table Data'!S720","v":0},{"$f":"'Pivot Table Data'!T720","v":0},{"$f":"IF('Pivot Table Data'!O720=\"Yes\", 'Pivot Table Data'!T720, \"\")","v":""}]
[{"$f":"'Pivot Table Data'!B721","v":0},{"$f":"'Pivot Table Data'!F721","v":"Pepper Canyon"},{"$f":"'Pivot Table Data'!P721","v":"P406"},{"$f":"'Pivot Table Data'!I721","v":"-"},{"$f":"'Pivot Table Data'!J721","v":"B"},{"$f":"'Pivot Table Data'!K721","v":0},{"$f":"'Pivot Table Data'!L721","v":0},{"$f":"'Pivot Table Data'!S721","v":18},{"$f":"'Pivot Table Data'!T721","v":18},{"$f":"IF('Pivot Table Data'!O721=\"Yes\", 'Pivot Table Data'!T721, \"\")","v":18}]
[{"$f":"'Pivot Table Data'!B722","v":0},{"$f":"'Pivot Table Data'!F722","v":"Pepper Canyon"},{"$f":"'Pivot Table Data'!P722","v":"P406"},{"$f":"'Pivot Table Data'!I722","v":"-"},{"$f":"'Pivot Table Data'!J722","v":"Loading"},{"$f":"'Pivot Table Data'!K722","v":0},{"$f":"'Pivot Table Data'!L722","v":0},{"$f":"'Pivot Table Data'!S722","v":2},{"$f":"'Pivot Table Data'!T722","v":2},{"$f":"IF('Pivot Table Data'!O722=\"Yes\", 'Pivot Table Data'!T722, \"\")","v":""}]
[{"$f":"'Pivot Table Data'!B723","v":0},{"$f":"'Pivot Table Data'!F723","v":"Pepper Canyon"},{"$f":"'Pivot Table Data'!P723","v":"P406"},{"$f":"'Pivot Table Data'!I723","v":"-"},{"$f":"'Pivot Table Data'!J723","v":"Motorcycle Section"},{"$f":"'Pivot Table Data'!K723","v":0},{"$f":"'Pivot Table Data'!L723","v":0},{"$f":"'Pivot Table Data'!S723","v":3},{"$f":"'Pivot Table Data'!T723","v":3},{"$f":"IF('Pivot Table Data'!O723=\"Yes\", 'Pivot Table Data'!T723, \"\")","v":""}]
[{"$f":"'Pivot Table Data'!B724","v":0},{"$f":"'Pivot Table Data'!F724","v":"University Center"},{"$f":"'Pivot Table Data'!P724","v":"P407"},{"$f":"'Pivot Table Data'!I724","v":"-"},{"$f":"'Pivot Table Data'!J724","v":"Loading"},{"$f":"'Pivot Table Data'!K724","v":"Dock"},{"$f":"'Pivot Table Data'!L724","v":0},{"$f":"'Pivot Table Data'!S724","v":1},{"$f":"'Pivot Table Data'!T724","v":1},{"$f":"IF('Pivot Table Data'!O724=\"Yes\", 'Pivot Table Data'!T724, \"\")","v":""}]
[{"$f":"'Pivot Table Data'!B725","v":0},{"$f":"'Pivot Table Data'!F725","v":"University Center"},{"$f":"'Pivot Table Data'!P725","v":"P407"},{"$f":"'Pivot Table Data'!I725","v":"-"},{"$f":"'Pivot Table Data'!J725","v":"Service Yard"},{"$f":"'Pivot Table Data'!K725","v":0},{"$f":"'Pivot Table Data'!L725","v":0},{"$f":"'Pivot Table Data'!S725","v":3},{"$f":"'Pivot Table Data'!T725","v":3},{"$f":"IF('Pivot Table Data'!O725=\"Yes\", 'Pivot Table Data'!T725, \"\")","v":""}]
[{"$f":"'Pivot Table Data'!B726","v":0},{"$f":"'Pivot Table Data'!F726","v":"Muir College"},{"$f":"'Pivot Table Data'!P726","v":"P414"},{"$f":"'Pivot Table Data'!I726","v":"-"},{"$f":"'Pivot Table Data'!J726","v":"A"},{"$f":"'Pivot Table Data'!K726","v":0},{"$f":"'Pivot Table Data'!L726","v":0},{"$f":"'Pivot Table Data'!S726","v":3},{"$f":"'Pivot Table Data'!T726","v":3},{"$f":"IF('Pivot Table Data'!O726=\"Yes\", 'Pivot Table Data'!T726, \"\")","v":3}]
[{"$f":"'Pivot Table Data'!B727","v":0},{"$f":"'Pivot Table Data'!F727","v":"Muir College"},{"$f":"'Pivot Table Data'!P727","v":"P414"},{"$f":"'Pivot Table Data'!I727","v":"-"},{"$f":"'Pivot Table Data'!J727","v":"Loading"},{"$f":"'Pivot Table Data'!K727","v":0},{"$f":"'Pivot Table Data'!L727","v":0},{"$f":"'Pivot Table Data'!S727","v":7},{"$f":"'Pivot Table Data'!T727","v":7},{"$f":"IF('Pivot Table Data'!O727=\"Yes\", 'Pivot Table Data'!T727, \"\")","v":""}]
[{"$f":"'Pivot Table Data'!B728","v":0},{"$f":"'Pivot Table Data'!F728","v":"Muir College"},{"$f":"'Pivot Table Data'!P728","v":"P414"},{"$f":"'Pivot Table Data'!I728","v":"-"},{"$f":"'Pivot Table Data'!J728","v":"Reserved"},{"$f":"'Pivot Table Data'!K728","v":0},{"$f":"'Pivot Table Data'!L728","v":0},{"$f":"'Pivot Table Data'!S728","v":2},{"$f":"'Pivot Table Data'!T728","v":2},{"$f":"IF('Pivot Table Data'!O728=\"Yes\", 'Pivot Table Data'!T728, \"\")","v":""}]
[{"$f":"'Pivot Table Data'!B729","v":0},{"$f":"'Pivot Table Data'!F729","v":"Muir College"},{"$f":"'Pivot Table Data'!P729","v":"P414"},{"$f":"'Pivot Table Data'!I729","v":"-"},{"$f":"'Pivot Table Data'!J729","v":"Service Yard"},{"$f":"'Pivot Table Data'!K729","v":0},{"$f":"'Pivot Table Data'!L729","v":0},{"$f":"'Pivot Table Data'!S729","v":4},{"$f":"'Pivot Table Data'!T729","v":4},{"$f":"IF('Pivot Table Data'!O729=\"Yes\", 'Pivot Table Data'!T729, \"\")","v":""}]
[{"$f":"'Pivot Table Data'!B730","v":0},{"$f":"'Pivot Table Data'!F730","v":"Muir College"},{"$f":"'Pivot Table Data'!P730","v":"P415"},{"$f":"'Pivot Table Data'!I730","v":"-"},{"$f":"'Pivot Table Data'!J730","v":"Accessible"},{"$f":"'Pivot Table Data'!K730","v":0},{"$f":"'Pivot Table Data'!L730","v":0},{"$f":"'Pivot Table Data'!S730","v":1},{"$f":"'Pivot Table Data'!T730","v":1},{"$f":"IF('Pivot Table Data'!O730=\"Yes\", 'Pivot Table Data'!T730, \"\")","v":""}]
[{"$f":"'Pivot Table Data'!B731","v":0},{"$f":"'Pivot Table Data'!F731","v":"Muir College"},{"$f":"'Pivot Table Data'!P731","v":"P415"},{"$f":"'Pivot Table Data'!I731","v":"-"},{"$f":"'Pivot Table Data'!J731","v":"Accessible (Van)"},{"$f":"'Pivot Table Data'!K731","v":0},{"$f":"'Pivot Table Data'!L731","v":0},{"$f":"'Pivot Table Data'!S731","v":0},{"$f":"'Pivot Table Data'!T731","v":0},{"$f":"IF('Pivot Table Data'!O731=\"Yes\", 'Pivot Table Data'!T731, \"\")","v":""}]
[{"$f":"'Pivot Table Data'!B732","v":0},{"$f":"'Pivot Table Data'!F732","v":"Muir College"},{"$f":"'Pivot Table Data'!P732","v":"P415"},{"$f":"'Pivot Table Data'!I732","v":"-"},{"$f":"'Pivot Table Data'!J732","v":"Reserved"},{"$f":"'Pivot Table Data'!K732","v":"Student Health Patient"},{"$f":"'Pivot Table Data'!L732","v":0},{"$f":"'Pivot Table Data'!S732","v":5},{"$f":"'Pivot Table Data'!T732","v":5},{"$f":"IF('Pivot Table Data'!O732=\"Yes\", 'Pivot Table Data'!T732, \"\")","v":""}]
[{"$f":"'Pivot Table Data'!B733","v":0},{"$f":"'Pivot Table Data'!F733","v":"Muir College"},{"$f":"'Pivot Table Data'!P733","v":"P415"},{"$f":"'Pivot Table Data'!I733","v":"-"},{"$f":"'Pivot Table Data'!J733","v":"Reserved"},{"$f":"'Pivot Table Data'!K733","v":0},{"$f":"'Pivot Table Data'!L733","v":0},{"$f":"'Pivot Table Data'!S733","v":3},{"$f":"'Pivot Table Data'!T733","v":3},{"$f":"IF('Pivot Table Data'!O733=\"Yes\", 'Pivot Table Data'!T733, \"\")","v":""}]
[{"$f":"'Pivot Table Data'!B734","v":0},{"$f":"'Pivot Table Data'!F734","v":"Muir College"},{"$f":"'Pivot Table Data'!P734","v":"P416"},{"$f":"'Pivot Table Data'!I734","v":"-"},{"$f":"'Pivot Table Data'!J734","v":"Accessible"},{"$f":"'Pivot Table Data'!K734","v":0},{"$f":"'Pivot Table Data'!L734","v":0},{"$f":"'Pivot Table Data'!S734","v":14},{"$f":"'Pivot Table Data'!T734","v":14},{"$f":"IF('Pivot Table Data'!O734=\"Yes\", 'Pivot Table Data'!T734, \"\")","v":""}]
[{"$f":"'Pivot Table Data'!B735","v":0},{"$f":"'Pivot Table Data'!F735","v":"Muir College"},{"$f":"'Pivot Table Data'!P735","v":"P416"},{"$f":"'Pivot Table Data'!I735","v":"-"},{"$f":"'Pivot Table Data'!J735","v":"Accessible (Van)"},{"$f":"'Pivot Table Data'!K735","v":0},{"$f":"'Pivot Table Data'!L735","v":0},{"$f":"'Pivot Table Data'!S735","v":9},{"$f":"'Pivot Table Data'!T735","v":9},{"$f":"IF('Pivot Table Data'!O735=\"Yes\", 'Pivot Table Data'!T735, \"\")","v":""}]
[{"$f":"'Pivot Table Data'!B736","v":0},{"$f":"'Pivot Table Data'!F736","v":"Muir College"},{"$f":"'Pivot Table Data'!P736","v":"P416"},{"$f":"'Pivot Table Data'!I736","v":"-"},{"$f":"'Pivot Table Data'!J736","v":"Loading"},{"$f":"'Pivot Table Data'!K736","v":"Curb"},{"$f":"'Pivot Table Data'!L736","v":0},{"$f":"'Pivot Table Data'!S736","v":1},{"$f":"'Pivot Table Data'!T736","v":1},{"$f":"IF('Pivot Table Data'!O736=\"Yes\", 'Pivot Table Data'!T736, \"\")","v":""}]
[{"$f":"'Pivot Table Data'!B737","v":0},{"$f":"'Pivot Table Data'!F737","v":"Muir College"},{"$f":"'Pivot Table Data'!P737","v":"P416"},{"$f":"'Pivot Table Data'!I737","v":"-"},{"$f":"'Pivot Table Data'!J737","v":"Reserved"},{"$f":"'Pivot Table Data'!K737","v":"Blue Reserved"},{"$f":"'Pivot Table Data'!L737","v":0},{"$f":"'Pivot Table Data'!S737","v":21},{"$f":"'Pivot Table Data'!T737","v":21},{"$f":"IF('Pivot Table Data'!O737=\"Yes\", 'Pivot Table Data'!T737, \"\")","v":""}]
[{"$f":"'Pivot Table Data'!B738","v":0},{"$f":"'Pivot Table Data'!F738","v":"Muir College"},{"$f":"'Pivot Table Data'!P738","v":"P416"},{"$f":"'Pivot Table Data'!I738","v":"-"},{"$f":"'Pivot Table Data'!J738","v":"Reserved"},{"$f":"'Pivot Table Data'!K738","v":"Gold Reserved"},{"$f":"'Pivot Table Data'!L738","v":0},{"$f":"'Pivot Table Data'!S738","v":22},{"$f":"'Pivot Table Data'!T738","v":22},{"$f":"IF('Pivot Table Data'!O738=\"Yes\", 'Pivot Table Data'!T738, \"\")","v":""}]
[{"$f":"'Pivot Table Data'!B739","v":0},{"$f":"'Pivot Table Data'!F739","v":"Muir College"},{"$f":"'Pivot Table Data'!P739","v":"P416"},{"$f":"'Pivot Table Data'!I739","v":"-"},{"$f":"'Pivot Table Data'!J739","v":"Reserved"},{"$f":"'Pivot Table Data'!K739","v":"Target"},{"$f":"'Pivot Table Data'!L739","v":0},{"$f":"'Pivot Table Data'!S739","v":1},{"$f":"'Pivot Table Data'!T739","v":1},{"$f":"IF('Pivot Table Data'!O739=\"Yes\", 'Pivot Table Data'!T739, \"\")","v":""}]
[{"$f":"'Pivot Table Data'!B740","v":0},{"$f":"'Pivot Table Data'!F740","v":"Warren College"},{"$f":"'Pivot Table Data'!P740","v":"P418"},{"$f":"'Pivot Table Data'!I740","v":"-"},{"$f":"'Pivot Table Data'!J740","v":"Accessible"},{"$f":"'Pivot Table Data'!K740","v":0},{"$f":"'Pivot Table Data'!L740","v":0},{"$f":"'Pivot Table Data'!S740","v":4},{"$f":"'Pivot Table Data'!T740","v":4},{"$f":"IF('Pivot Table Data'!O740=\"Yes\", 'Pivot Table Data'!T740, \"\")","v":""}]
[{"$f":"'Pivot Table Data'!B741","v":0},{"$f":"'Pivot Table Data'!F741","v":"Warren College"},{"$f":"'Pivot Table Data'!P741","v":"P418"},{"$f":"'Pivot Table Data'!I741","v":"-"},{"$f":"'Pivot Table Data'!J741","v":"Accessible (Van)"},{"$f":"'Pivot Table Data'!K741","v":0},{"$f":"'Pivot Table Data'!L741","v":0},{"$f":"'Pivot Table Data'!S741","v":2},{"$f":"'Pivot Table Data'!T741","v":2},{"$f":"IF('Pivot Table Data'!O741=\"Yes\", 'Pivot Table Data'!T741, \"\")","v":""}]
[{"$f":"'Pivot Table Data'!B742","v":0},{"$f":"'Pivot Table Data'!F742","v":"Warren College"},{"$f":"'Pivot Table Data'!P742","v":"P418"},{"$f":"'Pivot Table Data'!I742","v":"-"},{"$f":"'Pivot Table Data'!J742","v":"Loading"},{"$f":"'Pivot Table Data'!K742","v":0},{"$f":"'Pivot Table Data'!L742","v":"20 minutes"},{"$f":"'Pivot Table Data'!S742","v":1},{"$f":"'Pivot Table Data'!T742","v":1},{"$f":"IF('Pivot Table Data'!O742=\"Yes\", 'Pivot Table Data'!T742, \"\")","v":""}]
[{"$f":"'Pivot Table Data'!B743","v":0},{"$f":"'Pivot Table Data'!F743","v":"University Center"},{"$f":"'Pivot Table Data'!P743","v":"P501"},{"$f":"'Pivot Table Data'!I743","v":"-"},{"$f":"'Pivot Table Data'!J743","v":"Accessible"},{"$f":"'Pivot Table Data'!K743","v":0},{"$f":"'Pivot Table Data'!L743","v":0},{"$f":"'Pivot Table Data'!S743","v":1},{"$f":"'Pivot Table Data'!T743","v":1},{"$f":"IF('Pivot Table Data'!O743=\"Yes\", 'Pivot Table Data'!T743, \"\")","v":""}]
[{"$f":"'Pivot Table Data'!B744","v":0},{"$f":"'Pivot Table Data'!F744","v":"University Center"},{"$f":"'Pivot Table Data'!P744","v":"P501"},{"$f":"'Pivot Table Data'!I744","v":"-"},{"$f":"'Pivot Table Data'!J744","v":"Accessible (Van)"},{"$f":"'Pivot Table Data'!K744","v":0},{"$f":"'Pivot Table Data'!L744","v":0},{"$f":"'Pivot Table Data'!S744","v":4},{"$f":"'Pivot Table Data'!T744","v":4},{"$f":"IF('Pivot Table Data'!O744=\"Yes\", 'Pivot Table Data'!T744, \"\")","v":""}]
[{"$f":"'Pivot Table Data'!B745","v":0},{"$f":"'Pivot Table Data'!F745","v":"University Center"},{"$f":"'Pivot Table Data'!P745","v":"P501"},{"$f":"'Pivot Table Data'!I745","v":"-"},{"$f":"'Pivot Table Data'!J745","v":"Loading"},{"$f":"'Pivot Table Data'!K745","v":"Dock"},{"$f":"'Pivot Table Data'!L745","v":0},{"$f":"'Pivot Table Data'!S745","v":1},{"$f":"'Pivot Table Data'!T745","v":1},{"$f":"IF('Pivot Table Data'!O745=\"Yes\", 'Pivot Table Data'!T745, \"\")","v":""}]
[{"$f":"'Pivot Table Data'!B746","v":0},{"$f":"'Pivot Table Data'!F746","v":"University Center"},{"$f":"'Pivot Table Data'!P746","v":"P501"},{"$f":"'Pivot Table Data'!I746","v":"-"},{"$f":"'Pivot Table Data'!J746","v":"Service Yard"},{"$f":"'Pivot Table Data'!K746","v":0},{"$f":"'Pivot Table Data'!L746","v":0},{"$f":"'Pivot Table Data'!S746","v":6},{"$f":"'Pivot Table Data'!T746","v":6},{"$f":"IF('Pivot Table Data'!O746=\"Yes\", 'Pivot Table Data'!T746, \"\")","v":""}]
[{"$f":"'Pivot Table Data'!B747","v":0},{"$f":"'Pivot Table Data'!F747","v":"Warren College"},{"$f":"'Pivot Table Data'!P747","v":"P502"},{"$f":"'Pivot Table Data'!I747","v":"-"},{"$f":"'Pivot Table Data'!J747","v":"Loading"},{"$f":"'Pivot Table Data'!K747","v":0},{"$f":"'Pivot Table Data'!L747","v":"20 minutes"},{"$f":"'Pivot Table Data'!S747","v":4},{"$f":"'Pivot Table Data'!T747","v":4},{"$f":"IF('Pivot Table Data'!O747=\"Yes\", 'Pivot Table Data'!T747, \"\")","v":""}]
[{"$f":"'Pivot Table Data'!B748","v":0},{"$f":"'Pivot Table Data'!F748","v":"Warren College"},{"$f":"'Pivot Table Data'!P748","v":"P502"},{"$f":"'Pivot Table Data'!I748","v":"-"},{"$f":"'Pivot Table Data'!J748","v":"Reserved"},{"$f":"'Pivot Table Data'!K748","v":0},{"$f":"'Pivot Table Data'!L748","v":0},{"$f":"'Pivot Table Data'!S748","v":6},{"$f":"'Pivot Table Data'!T748","v":6},{"$f":"IF('Pivot Table Data'!O748=\"Yes\", 'Pivot Table Data'!T748, \"\")","v":""}]
[{"$f":"'Pivot Table Data'!B749","v":0},{"$f":"'Pivot Table Data'!F749","v":"Warren College"},{"$f":"'Pivot Table Data'!P749","v":"P503"},{"$f":"'Pivot Table Data'!I749","v":"-"},{"$f":"'Pivot Table Data'!J749","v":"A"},{"$f":"'Pivot Table Data'!K749","v":0},{"$f":"'Pivot Table Data'!L749","v":"4 hours"},{"$f":"'Pivot Table Data'!S749","v":8},{"$f":"'Pivot Table Data'!T749","v":8},{"$f":"IF('Pivot Table Data'!O749=\"Yes\", 'Pivot Table Data'!T749, \"\")","v":8}]
[{"$f":"'Pivot Table Data'!B750","v":0},{"$f":"'Pivot Table Data'!F750","v":"Warren College"},{"$f":"'Pivot Table Data'!P750","v":"P503"},{"$f":"'Pivot Table Data'!I750","v":"-"},{"$f":"'Pivot Table Data'!J750","v":"Accessible"},{"$f":"'Pivot Table Data'!K750","v":0},{"$f":"'Pivot Table Data'!L750","v":0},{"$f":"'Pivot Table Data'!S750","v":1},{"$f":"'Pivot Table Data'!T750","v":1},{"$f":"IF('Pivot Table Data'!O750=\"Yes\", 'Pivot Table Data'!T750, \"\")","v":""}]
[{"$f":"'Pivot Table Data'!B751","v":0},{"$f":"'Pivot Table Data'!F751","v":"Warren College"},{"$f":"'Pivot Table Data'!P751","v":"P503"},{"$f":"'Pivot Table Data'!I751","v":"-"},{"$f":"'Pivot Table Data'!J751","v":"Accessible (Van)"},{"$f":"'Pivot Table Data'!K751","v":0},{"$f":"'Pivot Table Data'!L751","v":0},{"$f":"'Pivot Table Data'!S751","v":5},{"$f":"'Pivot Table Data'!T751","v":5},{"$f":"IF('Pivot Table Data'!O751=\"Yes\", 'Pivot Table Data'!T751, \"\")","v":""}]
[{"$f":"'Pivot Table Data'!B752","v":0},{"$f":"'Pivot Table Data'!F752","v":"Warren College"},{"$f":"'Pivot Table Data'!P752","v":"P503"},{"$f":"'Pivot Table Data'!I752","v":"-"},{"$f":"'Pivot Table Data'!J752","v":"B"},{"$f":"'Pivot Table Data'!K752","v":0},{"$f":"'Pivot Table Data'!L752","v":"1 hour"},{"$f":"'Pivot Table Data'!S752","v":2},{"$f":"'Pivot Table Data'!T752","v":2},{"$f":"IF('Pivot Table Data'!O752=\"Yes\", 'Pivot Table Data'!T752, \"\")","v":2}]
[{"$f":"'Pivot Table Data'!B753","v":0},{"$f":"'Pivot Table Data'!F753","v":"Warren College"},{"$f":"'Pivot Table Data'!P753","v":"P503"},{"$f":"'Pivot Table Data'!I753","v":"-"},{"$f":"'Pivot Table Data'!J753","v":"Motorcycle Section"},{"$f":"'Pivot Table Data'!K753","v":0},{"$f":"'Pivot Table Data'!L753","v":0},{"$f":"'Pivot Table Data'!S753","v":5},{"$f":"'Pivot Table Data'!T753","v":5},{"$f":"IF('Pivot Table Data'!O753=\"Yes\", 'Pivot Table Data'!T753, \"\")","v":""}]
[{"$f":"'Pivot Table Data'!B754","v":0},{"$f":"'Pivot Table Data'!F754","v":"Warren College"},{"$f":"'Pivot Table Data'!P754","v":"P503"},{"$f":"'Pivot Table Data'!I754","v":"-"},{"$f":"'Pivot Table Data'!J754","v":"Reserved"},{"$f":"'Pivot Table Data'!K754","v":0},{"$f":"'Pivot Table Data'!L754","v":0},{"$f":"'Pivot Table Data'!S754","v":23},{"$f":"'Pivot Table Data'!T754","v":23},{"$f":"IF('Pivot Table Data'!O754=\"Yes\", 'Pivot Table Data'!T754, \"\")","v":""}]
[{"$f":"'Pivot Table Data'!B755","v":0},{"$f":"'Pivot Table Data'!F755","v":"Warren College"},{"$f":"'Pivot Table Data'!P755","v":"P503"},{"$f":"'Pivot Table Data'!I755","v":"-"},{"$f":"'Pivot Table Data'!J755","v":"Visitor"},{"$f":"'Pivot Table Data'!K755","v":0},{"$f":"'Pivot Table Data'!L755","v":"3 hours"},{"$f":"'Pivot Table Data'!S755","v":10},{"$f":"'Pivot Table Data'!T755","v":10},{"$f":"IF('Pivot Table Data'!O755=\"Yes\", 'Pivot Table Data'!T755, \"\")","v":10}]
[{"$f":"'Pivot Table Data'!B756","v":0},{"$f":"'Pivot Table Data'!F756","v":"Warren College"},{"$f":"'Pivot Table Data'!P756","v":"P504"},{"$f":"'Pivot Table Data'!I756","v":"-"},{"$f":"'Pivot Table Data'!J756","v":"Accessible"},{"$f":"'Pivot Table Data'!K756","v":0},{"$f":"'Pivot Table Data'!L756","v":0},{"$f":"'Pivot Table Data'!S756","v":4},{"$f":"'Pivot Table Data'!T756","v":4},{"$f":"IF('Pivot Table Data'!O756=\"Yes\", 'Pivot Table Data'!T756, \"\")","v":""}]
[{"$f":"'Pivot Table Data'!B757","v":0},{"$f":"'Pivot Table Data'!F757","v":"Warren College"},{"$f":"'Pivot Table Data'!P757","v":"P504"},{"$f":"'Pivot Table Data'!I757","v":"-"},{"$f":"'Pivot Table Data'!J757","v":"Accessible (Van)"},{"$f":"'Pivot Table Data'!K757","v":0},{"$f":"'Pivot Table Data'!L757","v":0},{"$f":"'Pivot Table Data'!S757","v":2},{"$f":"'Pivot Table Data'!T757","v":2},{"$f":"IF('Pivot Table Data'!O757=\"Yes\", 'Pivot Table Data'!T757, \"\")","v":""}]
[{"$f":"'Pivot Table Data'!B758","v":0},{"$f":"'Pivot Table Data'!F758","v":"Warren College"},{"$f":"'Pivot Table Data'!P758","v":"P504"},{"$f":"'Pivot Table Data'!I758","v":"-"},{"$f":"'Pivot Table Data'!J758","v":"Loading"},{"$f":"'Pivot Table Data'!K758","v":0},{"$f":"'Pivot Table Data'!L758","v":0},{"$f":"'Pivot Table Data'!S758","v":8},{"$f":"'Pivot Table Data'!T758","v":8},{"$f":"IF('Pivot Table Data'!O758=\"Yes\", 'Pivot Table Data'!T758, \"\")","v":""}]
[{"$f":"'Pivot Table Data'!B759","v":0},{"$f":"'Pivot Table Data'!F759","v":"Warren College"},{"$f":"'Pivot Table Data'!P759","v":"P504"},{"$f":"'Pivot Table Data'!I759","v":"-"},{"$f":"'Pivot Table Data'!J759","v":"Motorcycle Section"},{"$f":"'Pivot Table Data'!K759","v":0},{"$f":"'Pivot Table Data'!L759","v":0},{"$f":"'Pivot Table Data'!S759","v":1},{"$f":"'Pivot Table Data'!T759","v":1},{"$f":"IF('Pivot Table Data'!O759=\"Yes\", 'Pivot Table Data'!T759, \"\")","v":""}]
[{"$f":"'Pivot Table Data'!B760","v":0},{"$f":"'Pivot Table Data'!F760","v":"Warren College"},{"$f":"'Pivot Table Data'!P760","v":"P504"},{"$f":"'Pivot Table Data'!I760","v":"-"},{"$f":"'Pivot Table Data'!J760","v":"Reserved"},{"$f":"'Pivot Table Data'!K760","v":0},{"$f":"'Pivot Table Data'!L760","v":0},{"$f":"'Pivot Table Data'!S760","v":6},{"$f":"'Pivot Table Data'!T760","v":6},{"$f":"IF('Pivot Table Data'!O760=\"Yes\", 'Pivot Table Data'!T760, \"\")","v":""}]
[{"$f":"'Pivot Table Data'!B761","v":0},{"$f":"'Pivot Table Data'!F761","v":"Warren College"},{"$f":"'Pivot Table Data'!P761","v":"P504"},{"$f":"'Pivot Table Data'!I761","v":"-"},{"$f":"'Pivot Table Data'!J761","v":"SR"},{"$f":"'Pivot Table Data'!K761","v":0},{"$f":"'Pivot Table Data'!L761","v":0},{"$f":"'Pivot Table Data'!S761","v":27},{"$f":"'Pivot Table Data'!T761","v":27},{"$f":"IF('Pivot Table Data'!O761=\"Yes\", 'Pivot Table Data'!T761, \"\")","v":27}]
[{"$f":"'Pivot Table Data'!B762","v":0},{"$f":"'Pivot Table Data'!F762","v":"Warren College"},{"$f":"'Pivot Table Data'!P762","v":"P504"},{"$f":"'Pivot Table Data'!I762","v":"-"},{"$f":"'Pivot Table Data'!J762","v":"Visitor"},{"$f":"'Pivot Table Data'!K762","v":0},{"$f":"'Pivot Table Data'!L762","v":0},{"$f":"'Pivot Table Data'!S762","v":6},{"$f":"'Pivot Table Data'!T762","v":6},{"$f":"IF('Pivot Table Data'!O762=\"Yes\", 'Pivot Table Data'!T762, \"\")","v":6}]
[{"$f":"'Pivot Table Data'!B763","v":0},{"$f":"'Pivot Table Data'!F763","v":"Warren College"},{"$f":"'Pivot Table Data'!P763","v":"P505"},{"$f":"'Pivot Table Data'!I763","v":"-"},{"$f":"'Pivot Table Data'!J763","v":"Loading"},{"$f":"'Pivot Table Data'!K763","v":"Dock"},{"$f":"'Pivot Table Data'!L763","v":0},{"$f":"'Pivot Table Data'!S763","v":1},{"$f":"'Pivot Table Data'!T763","v":1},{"$f":"IF('Pivot Table Data'!O763=\"Yes\", 'Pivot Table Data'!T763, \"\")","v":""}]
[{"$f":"'Pivot Table Data'!B764","v":0},{"$f":"'Pivot Table Data'!F764","v":"Warren College"},{"$f":"'Pivot Table Data'!P764","v":"P505"},{"$f":"'Pivot Table Data'!I764","v":"-"},{"$f":"'Pivot Table Data'!J764","v":"Reserved"},{"$f":"'Pivot Table Data'!K764","v":0},{"$f":"'Pivot Table Data'!L764","v":0},{"$f":"'Pivot Table Data'!S764","v":4},{"$f":"'Pivot Table Data'!T764","v":4},{"$f":"IF('Pivot Table Data'!O764=\"Yes\", 'Pivot Table Data'!T764, \"\")","v":""}]
[{"$f":"'Pivot Table Data'!B765","v":0},{"$f":"'Pivot Table Data'!F765","v":"Warren College"},{"$f":"'Pivot Table Data'!P765","v":"P505"},{"$f":"'Pivot Table Data'!I765","v":"-"},{"$f":"'Pivot Table Data'!J765","v":"Service Yard"},{"$f":"'Pivot Table Data'!K765","v":0},{"$f":"'Pivot Table Data'!L765","v":0},{"$f":"'Pivot Table Data'!S765","v":2},{"$f":"'Pivot Table Data'!T765","v":2},{"$f":"IF('Pivot Table Data'!O765=\"Yes\", 'Pivot Table Data'!T765, \"\")","v":""}]
[{"$f":"'Pivot Table Data'!B766","v":0},{"$f":"'Pivot Table Data'!F766","v":"Warren College"},{"$f":"'Pivot Table Data'!P766","v":"P506"},{"$f":"'Pivot Table Data'!I766","v":"-"},{"$f":"'Pivot Table Data'!J766","v":"A"},{"$f":"'Pivot Table Data'!K766","v":0},{"$f":"'Pivot Table Data'!L766","v":"3 hours"},{"$f":"'Pivot Table Data'!S766","v":3},{"$f":"'Pivot Table Data'!T766","v":3},{"$f":"IF('Pivot Table Data'!O766=\"Yes\", 'Pivot Table Data'!T766, \"\")","v":3}]
[{"$f":"'Pivot Table Data'!B767","v":0},{"$f":"'Pivot Table Data'!F767","v":"Warren College"},{"$f":"'Pivot Table Data'!P767","v":"P506"},{"$f":"'Pivot Table Data'!I767","v":"-"},{"$f":"'Pivot Table Data'!J767","v":"Accessible"},{"$f":"'Pivot Table Data'!K767","v":0},{"$f":"'Pivot Table Data'!L767","v":0},{"$f":"'Pivot Table Data'!S767","v":1},{"$f":"'Pivot Table Data'!T767","v":1},{"$f":"IF('Pivot Table Data'!O767=\"Yes\", 'Pivot Table Data'!T767, \"\")","v":""}]
[{"$f":"'Pivot Table Data'!B768","v":0},{"$f":"'Pivot Table Data'!F768","v":"Warren College"},{"$f":"'Pivot Table Data'!P768","v":"P506"},{"$f":"'Pivot Table Data'!I768","v":"-"},{"$f":"'Pivot Table Data'!J768","v":"Accessible (Van)"},{"$f":"'Pivot Table Data'!K768","v":0},{"$f":"'Pivot Table Data'!L768","v":0},{"$f":"'Pivot Table Data'!S768","v":1},{"$f":"'Pivot Table Data'!T768","v":1},{"$f":"IF('Pivot Table Data'!O768=\"Yes\", 'Pivot Table Data'!T768, \"\")","v":""}]
[{"$f":"'Pivot Table Data'!B769","v":0},{"$f":"'Pivot Table Data'!F769","v":"Warren College"},{"$f":"'Pivot Table Data'!P769","v":"P506"},{"$f":"'Pivot Table Data'!I769","v":"-"},{"$f":"'Pivot Table Data'!J769","v":"Motorcycle Section"},{"$f":"'Pivot Table Data'!K769","v":0},{"$f":"'Pivot Table Data'!L769","v":0},{"$f":"'Pivot Table Data'!S769","v":1},{"$f":"'Pivot Table Data'!T769","v":1},{"$f":"IF('Pivot Table Data'!O769=\"Yes\", 'Pivot Table Data'!T769, \"\")","v":""}]
[{"$f":"'Pivot Table Data'!B770","v":0},{"$f":"'Pivot Table Data'!F770","v":"Warren College"},{"$f":"'Pivot Table Data'!P770","v":"P506"},{"$f":"'Pivot Table Data'!I770","v":"-"},{"$f":"'Pivot Table Data'!J770","v":"Service Yard"},{"$f":"'Pivot Table Data'!K770","v":0},{"$f":"'Pivot Table Data'!L770","v":0},{"$f":"'Pivot Table Data'!S770","v":1},{"$f":"'Pivot Table Data'!T770","v":1},{"$f":"IF('Pivot Table Data'!O770=\"Yes\", 'Pivot Table Data'!T770, \"\")","v":""}]
[{"$f":"'Pivot Table Data'!B771","v":0},{"$f":"'Pivot Table Data'!F771","v":"Warren College"},{"$f":"'Pivot Table Data'!P771","v":"P506"},{"$f":"'Pivot Table Data'!I771","v":"-"},{"$f":"'Pivot Table Data'!J771","v":"UC Vehicle"},{"$f":"'Pivot Table Data'!K771","v":0},{"$f":"'Pivot Table Data'!L771","v":0},{"$f":"'Pivot Table Data'!S771","v":2},{"$f":"'Pivot Table Data'!T771","v":2},{"$f":"IF('Pivot Table Data'!O771=\"Yes\", 'Pivot Table Data'!T771, \"\")","v":""}]
[{"$f":"'Pivot Table Data'!B772","v":0},{"$f":"'Pivot Table Data'!F772","v":"Warren College"},{"$f":"'Pivot Table Data'!P772","v":"P506"},{"$f":"'Pivot Table Data'!I772","v":"-"},{"$f":"'Pivot Table Data'!J772","v":"Visitor"},{"$f":"'Pivot Table Data'!K772","v":0},{"$f":"'Pivot Table Data'!L772","v":"3 hours"},{"$f":"'Pivot Table Data'!S772","v":12},{"$f":"'Pivot Table Data'!T772","v":12},{"$f":"IF('Pivot Table Data'!O772=\"Yes\", 'Pivot Table Data'!T772, \"\")","v":12}]
[{"$f":"'Pivot Table Data'!B773","v":0},{"$f":"'Pivot Table Data'!F773","v":"Campus Services"},{"$f":"'Pivot Table Data'!P773","v":"P507"},{"$f":"'Pivot Table Data'!I773","v":"-"},{"$f":"'Pivot Table Data'!J773","v":"Accessible"},{"$f":"'Pivot Table Data'!K773","v":0},{"$f":"'Pivot Table Data'!L773","v":0},{"$f":"'Pivot Table Data'!S773","v":8},{"$f":"'Pivot Table Data'!T773","v":8},{"$f":"IF('Pivot Table Data'!O773=\"Yes\", 'Pivot Table Data'!T773, \"\")","v":""}]
[{"$f":"'Pivot Table Data'!B774","v":0},{"$f":"'Pivot Table Data'!F774","v":"Campus Services"},{"$f":"'Pivot Table Data'!P774","v":"P507"},{"$f":"'Pivot Table Data'!I774","v":"-"},{"$f":"'Pivot Table Data'!J774","v":"Accessible (Van)"},{"$f":"'Pivot Table Data'!K774","v":0},{"$f":"'Pivot Table Data'!L774","v":0},{"$f":"'Pivot Table Data'!S774","v":1},{"$f":"'Pivot Table Data'!T774","v":1},{"$f":"IF('Pivot Table Data'!O774=\"Yes\", 'Pivot Table Data'!T774, \"\")","v":""}]
[{"$f":"'Pivot Table Data'!B775","v":0},{"$f":"'Pivot Table Data'!F775","v":"Campus Services"},{"$f":"'Pivot Table Data'!P775","v":"P507"},{"$f":"'Pivot Table Data'!I775","v":"-"},{"$f":"'Pivot Table Data'!J775","v":"Allocated"},{"$f":"'Pivot Table Data'!K775","v":"Key Pick Up"},{"$f":"'Pivot Table Data'!L775","v":0},{"$f":"'Pivot Table Data'!S775","v":1},{"$f":"'Pivot Table Data'!T775","v":1},{"$f":"IF('Pivot Table Data'!O775=\"Yes\", 'Pivot Table Data'!T775, \"\")","v":""}]
[{"$f":"'Pivot Table Data'!B776","v":0},{"$f":"'Pivot Table Data'!F776","v":"Campus Services"},{"$f":"'Pivot Table Data'!P776","v":"P507"},{"$f":"'Pivot Table Data'!I776","v":"-"},{"$f":"'Pivot Table Data'!J776","v":"B"},{"$f":"'Pivot Table Data'!K776","v":0},{"$f":"'Pivot Table Data'!L776","v":0},{"$f":"'Pivot Table Data'!S776","v":63},{"$f":"'Pivot Table Data'!T776","v":63},{"$f":"IF('Pivot Table Data'!O776=\"Yes\", 'Pivot Table Data'!T776, \"\")","v":63}]
[{"$f":"'Pivot Table Data'!B777","v":0},{"$f":"'Pivot Table Data'!F777","v":"Campus Services"},{"$f":"'Pivot Table Data'!P777","v":"P507"},{"$f":"'Pivot Table Data'!I777","v":"-"},{"$f":"'Pivot Table Data'!J777","v":"Electric Vehicle"},{"$f":"'Pivot Table Data'!K777","v":0},{"$f":"'Pivot Table Data'!L777","v":0},{"$f":"'Pivot Table Data'!S777","v":2},{"$f":"'Pivot Table Data'!T777","v":2},{"$f":"IF('Pivot Table Data'!O777=\"Yes\", 'Pivot Table Data'!T777, \"\")","v":""}]
[{"$f":"'Pivot Table Data'!B778","v":0},{"$f":"'Pivot Table Data'!F778","v":"Campus Services"},{"$f":"'Pivot Table Data'!P778","v":"P507"},{"$f":"'Pivot Table Data'!I778","v":"-"},{"$f":"'Pivot Table Data'!J778","v":"Loading"},{"$f":"'Pivot Table Data'!K778","v":0},{"$f":"'Pivot Table Data'!L778","v":0},{"$f":"'Pivot Table Data'!S778","v":3},{"$f":"'Pivot Table Data'!T778","v":3},{"$f":"IF('Pivot Table Data'!O778=\"Yes\", 'Pivot Table Data'!T778, \"\")","v":""}]
[{"$f":"'Pivot Table Data'!B779","v":0},{"$f":"'Pivot Table Data'!F779","v":"Campus Services"},{"$f":"'Pivot Table Data'!P779","v":"P507"},{"$f":"'Pivot Table Data'!I779","v":"-"},{"$f":"'Pivot Table Data'!J779","v":"Motorcycle Section"},{"$f":"'Pivot Table Data'!K779","v":0},{"$f":"'Pivot Table Data'!L779","v":0},{"$f":"'Pivot Table Data'!S779","v":5},{"$f":"'Pivot Table Data'!T779","v":5},{"$f":"IF('Pivot Table Data'!O779=\"Yes\", 'Pivot Table Data'!T779, \"\")","v":""}]
[{"$f":"'Pivot Table Data'!B780","v":0},{"$f":"'Pivot Table Data'!F780","v":"Campus Services"},{"$f":"'Pivot Table Data'!P780","v":"P507"},{"$f":"'Pivot Table Data'!I780","v":"-"},{"$f":"'Pivot Table Data'!J780","v":"Service Yard"},{"$f":"'Pivot Table Data'!K780","v":0},{"$f":"'Pivot Table Data'!L780","v":0},{"$f":"'Pivot Table Data'!S780","v":12},{"$f":"'Pivot Table Data'!T780","v":12},{"$f":"IF('Pivot Table Data'!O780=\"Yes\", 'Pivot Table Data'!T780, \"\")","v":""}]
[{"$f":"'Pivot Table Data'!B781","v":0},{"$f":"'Pivot Table Data'!F781","v":"Campus Services"},{"$f":"'Pivot Table Data'!P781","v":"P507"},{"$f":"'Pivot Table Data'!I781","v":"-"},{"$f":"'Pivot Table Data'!J781","v":"UC Vehicle"},{"$f":"'Pivot Table Data'!K781","v":"Reserved"},{"$f":"'Pivot Table Data'!L781","v":0},{"$f":"'Pivot Table Data'!S781","v":2},{"$f":"'Pivot Table Data'!T781","v":2},{"$f":"IF('Pivot Table Data'!O781=\"Yes\", 'Pivot Table Data'!T781, \"\")","v":""}]
[{"$f":"'Pivot Table Data'!B782","v":0},{"$f":"'Pivot Table Data'!F782","v":"Campus Services"},{"$f":"'Pivot Table Data'!P782","v":"P507"},{"$f":"'Pivot Table Data'!I782","v":"-"},{"$f":"'Pivot Table Data'!J782","v":"UC Vehicle"},{"$f":"'Pivot Table Data'!K782","v":0},{"$f":"'Pivot Table Data'!L782","v":0},{"$f":"'Pivot Table Data'!S782","v":133},{"$f":"'Pivot Table Data'!T782","v":133},{"$f":"IF('Pivot Table Data'!O782=\"Yes\", 'Pivot Table Data'!T782, \"\")","v":""}]
[{"$f":"'Pivot Table Data'!B783","v":0},{"$f":"'Pivot Table Data'!F783","v":"Campus Services"},{"$f":"'Pivot Table Data'!P783","v":"P507"},{"$f":"'Pivot Table Data'!I783","v":"-"},{"$f":"'Pivot Table Data'!J783","v":"Visitor"},{"$f":"'Pivot Table Data'!K783","v":"Police Visitor"},{"$f":"'Pivot Table Data'!L783","v":0},{"$f":"'Pivot Table Data'!S783","v":4},{"$f":"'Pivot Table Data'!T783","v":4},{"$f":"IF('Pivot Table Data'!O783=\"Yes\", 'Pivot Table Data'!T783, \"\")","v":4}]
[{"$f":"'Pivot Table Data'!B784","v":0},{"$f":"'Pivot Table Data'!F784","v":"Campus Services"},{"$f":"'Pivot Table Data'!P784","v":"P507"},{"$f":"'Pivot Table Data'!I784","v":"-"},{"$f":"'Pivot Table Data'!J784","v":"Visitor"},{"$f":"'Pivot Table Data'!K784","v":0},{"$f":"'Pivot Table Data'!L784","v":0},{"$f":"'Pivot Table Data'!S784","v":16},{"$f":"'Pivot Table Data'!T784","v":16},{"$f":"IF('Pivot Table Data'!O784=\"Yes\", 'Pivot Table Data'!T784, \"\")","v":16}]
[{"$f":"'Pivot Table Data'!B785","v":0},{"$f":"'Pivot Table Data'!F785","v":"Warren College"},{"$f":"'Pivot Table Data'!P785","v":"P508"},{"$f":"'Pivot Table Data'!I785","v":"-"},{"$f":"'Pivot Table Data'!J785","v":"A"},{"$f":"'Pivot Table Data'!K785","v":"24/7 Enforced"},{"$f":"'Pivot Table Data'!L785","v":0},{"$f":"'Pivot Table Data'!S785","v":1},{"$f":"'Pivot Table Data'!T785","v":1},{"$f":"IF('Pivot Table Data'!O785=\"Yes\", 'Pivot Table Data'!T785, \"\")","v":1}]
[{"$f":"'Pivot Table Data'!B786","v":0},{"$f":"'Pivot Table Data'!F786","v":"Warren College"},{"$f":"'Pivot Table Data'!P786","v":"P508"},{"$f":"'Pivot Table Data'!I786","v":"-"},{"$f":"'Pivot Table Data'!J786","v":"Accessible"},{"$f":"'Pivot Table Data'!K786","v":0},{"$f":"'Pivot Table Data'!L786","v":0},{"$f":"'Pivot Table Data'!S786","v":3},{"$f":"'Pivot Table Data'!T786","v":3},{"$f":"IF('Pivot Table Data'!O786=\"Yes\", 'Pivot Table Data'!T786, \"\")","v":""}]
[{"$f":"'Pivot Table Data'!B787","v":0},{"$f":"'Pivot Table Data'!F787","v":"Warren College"},{"$f":"'Pivot Table Data'!P787","v":"P508"},{"$f":"'Pivot Table Data'!I787","v":"-"},{"$f":"'Pivot Table Data'!J787","v":"Accessible (Van)"},{"$f":"'Pivot Table Data'!K787","v":0},{"$f":"'Pivot Table Data'!L787","v":0},{"$f":"'Pivot Table Data'!S787","v":7},{"$f":"'Pivot Table Data'!T787","v":7},{"$f":"IF('Pivot Table Data'!O787=\"Yes\", 'Pivot Table Data'!T787, \"\")","v":""}]
[{"$f":"'Pivot Table Data'!B788","v":0},{"$f":"'Pivot Table Data'!F788","v":"Warren College"},{"$f":"'Pivot Table Data'!P788","v":"P508"},{"$f":"'Pivot Table Data'!I788","v":"-"},{"$f":"'Pivot Table Data'!J788","v":"Loading"},{"$f":"'Pivot Table Data'!K788","v":0},{"$f":"'Pivot Table Data'!L788","v":"20 minutes"},{"$f":"'Pivot Table Data'!S788","v":0},{"$f":"'Pivot Table Data'!T788","v":0},{"$f":"IF('Pivot Table Data'!O788=\"Yes\", 'Pivot Table Data'!T788, \"\")","v":""}]
[{"$f":"'Pivot Table Data'!B789","v":0},{"$f":"'Pivot Table Data'!F789","v":"Warren College"},{"$f":"'Pivot Table Data'!P789","v":"P508"},{"$f":"'Pivot Table Data'!I789","v":"-"},{"$f":"'Pivot Table Data'!J789","v":"Reserved"},{"$f":"'Pivot Table Data'!K789","v":0},{"$f":"'Pivot Table Data'!L789","v":0},{"$f":"'Pivot Table Data'!S789","v":25},{"$f":"'Pivot Table Data'!T789","v":25},{"$f":"IF('Pivot Table Data'!O789=\"Yes\", 'Pivot Table Data'!T789, \"\")","v":""}]
[{"$f":"'Pivot Table Data'!B790","v":0},{"$f":"'Pivot Table Data'!F790","v":"Warren College"},{"$f":"'Pivot Table Data'!P790","v":"P508"},{"$f":"'Pivot Table Data'!I790","v":"-"},{"$f":"'Pivot Table Data'!J790","v":"Visitor"},{"$f":"'Pivot Table Data'!K790","v":0},{"$f":"'Pivot Table Data'!L790","v":0},{"$f":"'Pivot Table Data'!S790","v":0},{"$f":"'Pivot Table Data'!T790","v":0},{"$f":"IF('Pivot Table Data'!O790=\"Yes\", 'Pivot Table Data'!T790, \"\")","v":0}]
[{"$f":"'Pivot Table Data'!B791","v":0},{"$f":"'Pivot Table Data'!F791","v":"Warren College"},{"$f":"'Pivot Table Data'!P791","v":"P509"},{"$f":"'Pivot Table Data'!I791","v":"-"},{"$f":"'Pivot Table Data'!J791","v":"Loading"},{"$f":"'Pivot Table Data'!K791","v":"Dock"},{"$f":"'Pivot Table Data'!L791","v":0},{"$f":"'Pivot Table Data'!S791","v":1},{"$f":"'Pivot Table Data'!T791","v":1},{"$f":"IF('Pivot Table Data'!O791=\"Yes\", 'Pivot Table Data'!T791, \"\")","v":""}]
[{"$f":"'Pivot Table Data'!B792","v":0},{"$f":"'Pivot Table Data'!F792","v":"Warren College"},{"$f":"'Pivot Table Data'!P792","v":"P509"},{"$f":"'Pivot Table Data'!I792","v":"-"},{"$f":"'Pivot Table Data'!J792","v":"Reserved"},{"$f":"'Pivot Table Data'!K792","v":0},{"$f":"'Pivot Table Data'!L792","v":0},{"$f":"'Pivot Table Data'!S792","v":1},{"$f":"'Pivot Table Data'!T792","v":1},{"$f":"IF('Pivot Table Data'!O792=\"Yes\", 'Pivot Table Data'!T792, \"\")","v":""}]
[{"$f":"'Pivot Table Data'!B793","v":0},{"$f":"'Pivot Table Data'!F793","v":"Warren College"},{"$f":"'Pivot Table Data'!P793","v":"P509"},{"$f":"'Pivot Table Data'!I793","v":"-"},{"$f":"'Pivot Table Data'!J793","v":"Service Yard"},{"$f":"'Pivot Table Data'!K793","v":0},{"$f":"'Pivot Table Data'!L793","v":0},{"$f":"'Pivot Table Data'!S793","v":4},{"$f":"'Pivot Table Data'!T793","v":4},{"$f":"IF('Pivot Table Data'!O793=\"Yes\", 'Pivot Table Data'!T793, \"\")","v":""}]
[{"$f":"'Pivot Table Data'!B794","v":0},{"$f":"'Pivot Table Data'!F794","v":"Warren College"},{"$f":"'Pivot Table Data'!P794","v":"P509"},{"$f":"'Pivot Table Data'!I794","v":"-"},{"$f":"'Pivot Table Data'!J794","v":"UC Vehicle"},{"$f":"'Pivot Table Data'!K794","v":"UC Cart"},{"$f":"'Pivot Table Data'!L794","v":0},{"$f":"'Pivot Table Data'!S794","v":1},{"$f":"'Pivot Table Data'!T794","v":1},{"$f":"IF('Pivot Table Data'!O794=\"Yes\", 'Pivot Table Data'!T794, \"\")","v":""}]
[{"$f":"'Pivot Table Data'!B795","v":0},{"$f":"'Pivot Table Data'!F795","v":"Campus Services"},{"$f":"'Pivot Table Data'!P795","v":"P510"},{"$f":"'Pivot Table Data'!I795","v":"-"},{"$f":"'Pivot Table Data'!J795","v":"A"},{"$f":"'Pivot Table Data'!K795","v":0},{"$f":"'Pivot Table Data'!L795","v":0},{"$f":"'Pivot Table Data'!S795","v":26},{"$f":"'Pivot Table Data'!T795","v":26},{"$f":"IF('Pivot Table Data'!O795=\"Yes\", 'Pivot Table Data'!T795, \"\")","v":26}]
[{"$f":"'Pivot Table Data'!B796","v":0},{"$f":"'Pivot Table Data'!F796","v":"Campus Services"},{"$f":"'Pivot Table Data'!P796","v":"P510"},{"$f":"'Pivot Table Data'!I796","v":"-"},{"$f":"'Pivot Table Data'!J796","v":"B"},{"$f":"'Pivot Table Data'!K796","v":0},{"$f":"'Pivot Table Data'!L796","v":0},{"$f":"'Pivot Table Data'!S796","v":157},{"$f":"'Pivot Table Data'!T796","v":157},{"$f":"IF('Pivot Table Data'!O796=\"Yes\", 'Pivot Table Data'!T796, \"\")","v":157}]
[{"$f":"'Pivot Table Data'!B797","v":0},{"$f":"'Pivot Table Data'!F797","v":"Campus Services"},{"$f":"'Pivot Table Data'!P797","v":"P510"},{"$f":"'Pivot Table Data'!I797","v":"-"},{"$f":"'Pivot Table Data'!J797","v":"Motorcycle Section"},{"$f":"'Pivot Table Data'!K797","v":0},{"$f":"'Pivot Table Data'!L797","v":0},{"$f":"'Pivot Table Data'!S797","v":3},{"$f":"'Pivot Table Data'!T797","v":3},{"$f":"IF('Pivot Table Data'!O797=\"Yes\", 'Pivot Table Data'!T797, \"\")","v":""}]
[{"$f":"'Pivot Table Data'!B798","v":0},{"$f":"'Pivot Table Data'!F798","v":"Campus Services"},{"$f":"'Pivot Table Data'!P798","v":"P510"},{"$f":"'Pivot Table Data'!I798","v":"-"},{"$f":"'Pivot Table Data'!J798","v":"Reserved"},{"$f":"'Pivot Table Data'!K798","v":0},{"$f":"'Pivot Table Data'!L798","v":0},{"$f":"'Pivot Table Data'!S798","v":3},{"$f":"'Pivot Table Data'!T798","v":3},{"$f":"IF('Pivot Table Data'!O798=\"Yes\", 'Pivot Table Data'!T798, \"\")","v":""}]
[{"$f":"'Pivot Table Data'!B799","v":0},{"$f":"'Pivot Table Data'!F799","v":"Campus Services"},{"$f":"'Pivot Table Data'!P799","v":"P510"},{"$f":"'Pivot Table Data'!I799","v":"-"},{"$f":"'Pivot Table Data'!J799","v":"Service Yard"},{"$f":"'Pivot Table Data'!K799","v":0},{"$f":"'Pivot Table Data'!L799","v":0},{"$f":"'Pivot Table Data'!S799","v":1},{"$f":"'Pivot Table Data'!T799","v":1},{"$f":"IF('Pivot Table Data'!O799=\"Yes\", 'Pivot Table Data'!T799, \"\")","v":""}]
[{"$f":"'Pivot Table Data'!B800","v":0},{"$f":"'Pivot Table Data'!F800","v":"Campus Services"},{"$f":"'Pivot Table Data'!P800","v":"P510"},{"$f":"'Pivot Table Data'!I800","v":"-"},{"$f":"'Pivot Table Data'!J800","v":"Visitor"},{"$f":"'Pivot Table Data'!K800","v":0},{"$f":"'Pivot Table Data'!L800","v":0},{"$f":"'Pivot Table Data'!S800","v":9},{"$f":"'Pivot Table Data'!T800","v":9},{"$f":"IF('Pivot Table Data'!O800=\"Yes\", 'Pivot Table Data'!T800, \"\")","v":9}]
[{"$f":"'Pivot Table Data'!B801","v":0},{"$f":"'Pivot Table Data'!F801","v":"Health Sciences West"},{"$f":"'Pivot Table Data'!P801","v":"P601"},{"$f":"'Pivot Table Data'!I801","v":"-"},{"$f":"'Pivot Table Data'!J801","v":"Accessible"},{"$f":"'Pivot Table Data'!K801","v":0},{"$f":"'Pivot Table Data'!L801","v":0},{"$f":"'Pivot Table Data'!S801","v":7},{"$f":"'Pivot Table Data'!T801","v":7},{"$f":"IF('Pivot Table Data'!O801=\"Yes\", 'Pivot Table Data'!T801, \"\")","v":""}]
[{"$f":"'Pivot Table Data'!B802","v":0},{"$f":"'Pivot Table Data'!F802","v":"Health Sciences West"},{"$f":"'Pivot Table Data'!P802","v":"P601"},{"$f":"'Pivot Table Data'!I802","v":"-"},{"$f":"'Pivot Table Data'!J802","v":"Accessible (Van)"},{"$f":"'Pivot Table Data'!K802","v":0},{"$f":"'Pivot Table Data'!L802","v":0},{"$f":"'Pivot Table Data'!S802","v":3},{"$f":"'Pivot Table Data'!T802","v":3},{"$f":"IF('Pivot Table Data'!O802=\"Yes\", 'Pivot Table Data'!T802, \"\")","v":""}]
[{"$f":"'Pivot Table Data'!B803","v":0},{"$f":"'Pivot Table Data'!F803","v":"Health Sciences West"},{"$f":"'Pivot Table Data'!P803","v":"P601"},{"$f":"'Pivot Table Data'!I803","v":"-"},{"$f":"'Pivot Table Data'!J803","v":"Loading"},{"$f":"'Pivot Table Data'!K803","v":"Dock"},{"$f":"'Pivot Table Data'!L803","v":0},{"$f":"'Pivot Table Data'!S803","v":1},{"$f":"'Pivot Table Data'!T803","v":1},{"$f":"IF('Pivot Table Data'!O803=\"Yes\", 'Pivot Table Data'!T803, \"\")","v":""}]
[{"$f":"'Pivot Table Data'!B804","v":0},{"$f":"'Pivot Table Data'!F804","v":"Health Sciences West"},{"$f":"'Pivot Table Data'!P804","v":"P602"},{"$f":"'Pivot Table Data'!I804","v":"-"},{"$f":"'Pivot Table Data'!J804","v":"A"},{"$f":"'Pivot Table Data'!K804","v":"2hr"},{"$f":"'Pivot Table Data'!L804","v":120},{"$f":"'Pivot Table Data'!S804","v":36},{"$f":"'Pivot Table Data'!T804","v":36},{"$f":"IF('Pivot Table Data'!O804=\"Yes\", 'Pivot Table Data'!T804, \"\")","v":36}]
[{"$f":"'Pivot Table Data'!B805","v":0},{"$f":"'Pivot Table Data'!F805","v":"Health Sciences West"},{"$f":"'Pivot Table Data'!P805","v":"P602"},{"$f":"'Pivot Table Data'!I805","v":"-"},{"$f":"'Pivot Table Data'!J805","v":"A"},{"$f":"'Pivot Table Data'!K805","v":0},{"$f":"'Pivot Table Data'!L805","v":0},{"$f":"'Pivot Table Data'!S805","v":73},{"$f":"'Pivot Table Data'!T805","v":73},{"$f":"IF('Pivot Table Data'!O805=\"Yes\", 'Pivot Table Data'!T805, \"\")","v":73}]
[{"$f":"'Pivot Table Data'!B806","v":0},{"$f":"'Pivot Table Data'!F806","v":"Health Sciences West"},{"$f":"'Pivot Table Data'!P806","v":"P602"},{"$f":"'Pivot Table Data'!I806","v":"-"},{"$f":"'Pivot Table Data'!J806","v":"Accessible"},{"$f":"'Pivot Table Data'!K806","v":0},{"$f":"'Pivot Table Data'!L806","v":0},{"$f":"'Pivot Table Data'!S806","v":2},{"$f":"'Pivot Table Data'!T806","v":2},{"$f":"IF('Pivot Table Data'!O806=\"Yes\", 'Pivot Table Data'!T806, \"\")","v":""}]
[{"$f":"'Pivot Table Data'!B807","v":0},{"$f":"'Pivot Table Data'!F807","v":"Health Sciences West"},{"$f":"'Pivot Table Data'!P807","v":"P602"},{"$f":"'Pivot Table Data'!I807","v":"-"},{"$f":"'Pivot Table Data'!J807","v":"Accessible (Van)"},{"$f":"'Pivot Table Data'!K807","v":0},{"$f":"'Pivot Table Data'!L807","v":0},{"$f":"'Pivot Table Data'!S807","v":2},{"$f":"'Pivot Table Data'!T807","v":2},{"$f":"IF('Pivot Table Data'!O807=\"Yes\", 'Pivot Table Data'!T807, \"\")","v":""}]
[{"$f":"'Pivot Table Data'!B808","v":0},{"$f":"'Pivot Table Data'!F808","v":"Health Sciences West"},{"$f":"'Pivot Table Data'!P808","v":"P602"},{"$f":"'Pivot Table Data'!I808","v":"-"},{"$f":"'Pivot Table Data'!J808","v":"Carpool"},{"$f":"'Pivot Table Data'!K808","v":"B 3-Person"},{"$f":"'Pivot Table Data'!L808","v":0},{"$f":"'Pivot Table Data'!S808","v":9},{"$f":"'Pivot Table Data'!T808","v":9},{"$f":"IF('Pivot Table Data'!O808=\"Yes\", 'Pivot Table Data'!T808, \"\")","v":9}]
[{"$f":"'Pivot Table Data'!B809","v":0},{"$f":"'Pivot Table Data'!F809","v":"Health Sciences West"},{"$f":"'Pivot Table Data'!P809","v":"P602"},{"$f":"'Pivot Table Data'!I809","v":"-"},{"$f":"'Pivot Table Data'!J809","v":"Electric Vehicle"},{"$f":"'Pivot Table Data'!K809","v":0},{"$f":"'Pivot Table Data'!L809","v":0},{"$f":"'Pivot Table Data'!S809","v":4},{"$f":"'Pivot Table Data'!T809","v":4},{"$f":"IF('Pivot Table Data'!O809=\"Yes\", 'Pivot Table Data'!T809, \"\")","v":""}]
[{"$f":"'Pivot Table Data'!B810","v":0},{"$f":"'Pivot Table Data'!F810","v":"Health Sciences West"},{"$f":"'Pivot Table Data'!P810","v":"P602"},{"$f":"'Pivot Table Data'!I810","v":"-"},{"$f":"'Pivot Table Data'!J810","v":"Reserved"},{"$f":"'Pivot Table Data'!K810","v":0},{"$f":"'Pivot Table Data'!L810","v":0},{"$f":"'Pivot Table Data'!S810","v":90},{"$f":"'Pivot Table Data'!T810","v":90},{"$f":"IF('Pivot Table Data'!O810=\"Yes\", 'Pivot Table Data'!T810, \"\")","v":""}]
[{"$f":"'Pivot Table Data'!B811","v":0},{"$f":"'Pivot Table Data'!F811","v":"Health Sciences West"},{"$f":"'Pivot Table Data'!P811","v":"P602"},{"$f":"'Pivot Table Data'!I811","v":"-"},{"$f":"'Pivot Table Data'!J811","v":"UC Vehicle"},{"$f":"'Pivot Table Data'!K811","v":0},{"$f":"'Pivot Table Data'!L811","v":0},{"$f":"'Pivot Table Data'!S811","v":2},{"$f":"'Pivot Table Data'!T811","v":2},{"$f":"IF('Pivot Table Data'!O811=\"Yes\", 'Pivot Table Data'!T811, \"\")","v":""}]
[{"$f":"'Pivot Table Data'!B812","v":0},{"$f":"'Pivot Table Data'!F812","v":"Health Sciences West"},{"$f":"'Pivot Table Data'!P812","v":"P602"},{"$f":"'Pivot Table Data'!I812","v":"-"},{"$f":"'Pivot Table Data'!J812","v":"Visitor"},{"$f":"'Pivot Table Data'!K812","v":0},{"$f":"'Pivot Table Data'!L812","v":0},{"$f":"'Pivot Table Data'!S812","v":12},{"$f":"'Pivot Table Data'!T812","v":12},{"$f":"IF('Pivot Table Data'!O812=\"Yes\", 'Pivot Table Data'!T812, \"\")","v":12}]
[{"$f":"'Pivot Table Data'!B813","v":0},{"$f":"'Pivot Table Data'!F813","v":"Health Sciences West"},{"$f":"'Pivot Table Data'!P813","v":"P603"},{"$f":"'Pivot Table Data'!I813","v":"-"},{"$f":"'Pivot Table Data'!J813","v":"A"},{"$f":"'Pivot Table Data'!K813","v":0},{"$f":"'Pivot Table Data'!L813","v":0},{"$f":"'Pivot Table Data'!S813","v":0},{"$f":"'Pivot Table Data'!T813","v":0},{"$f":"IF('Pivot Table Data'!O813=\"Yes\", 'Pivot Table Data'!T813, \"\")","v":0}]
[{"$f":"'Pivot Table Data'!B814","v":0},{"$f":"'Pivot Table Data'!F814","v":"Health Sciences West"},{"$f":"'Pivot Table Data'!P814","v":"P603"},{"$f":"'Pivot Table Data'!I814","v":"-"},{"$f":"'Pivot Table Data'!J814","v":"Accessible"},{"$f":"'Pivot Table Data'!K814","v":0},{"$f":"'Pivot Table Data'!L814","v":0},{"$f":"'Pivot Table Data'!S814","v":6},{"$f":"'Pivot Table Data'!T814","v":6},{"$f":"IF('Pivot Table Data'!O814=\"Yes\", 'Pivot Table Data'!T814, \"\")","v":""}]
[{"$f":"'Pivot Table Data'!B815","v":0},{"$f":"'Pivot Table Data'!F815","v":"Health Sciences West"},{"$f":"'Pivot Table Data'!P815","v":"P603"},{"$f":"'Pivot Table Data'!I815","v":"-"},{"$f":"'Pivot Table Data'!J815","v":"Accessible (Van)"},{"$f":"'Pivot Table Data'!K815","v":0},{"$f":"'Pivot Table Data'!L815","v":0},{"$f":"'Pivot Table Data'!S815","v":9},{"$f":"'Pivot Table Data'!T815","v":9},{"$f":"IF('Pivot Table Data'!O815=\"Yes\", 'Pivot Table Data'!T815, \"\")","v":""}]
[{"$f":"'Pivot Table Data'!B816","v":0},{"$f":"'Pivot Table Data'!F816","v":"Health Sciences West"},{"$f":"'Pivot Table Data'!P816","v":"P603"},{"$f":"'Pivot Table Data'!I816","v":"-"},{"$f":"'Pivot Table Data'!J816","v":"Loading"},{"$f":"'Pivot Table Data'!K816","v":0},{"$f":"'Pivot Table Data'!L816","v":0},{"$f":"'Pivot Table Data'!S816","v":4},{"$f":"'Pivot Table Data'!T816","v":4},{"$f":"IF('Pivot Table Data'!O816=\"Yes\", 'Pivot Table Data'!T816, \"\")","v":""}]
[{"$f":"'Pivot Table Data'!B817","v":0},{"$f":"'Pivot Table Data'!F817","v":"Health Sciences West"},{"$f":"'Pivot Table Data'!P817","v":"P603"},{"$f":"'Pivot Table Data'!I817","v":"-"},{"$f":"'Pivot Table Data'!J817","v":"Motorcycle Section"},{"$f":"'Pivot Table Data'!K817","v":0},{"$f":"'Pivot Table Data'!L817","v":0},{"$f":"'Pivot Table Data'!S817","v":0},{"$f":"'Pivot Table Data'!T817","v":0},{"$f":"IF('Pivot Table Data'!O817=\"Yes\", 'Pivot Table Data'!T817, \"\")","v":""}]
[{"$f":"'Pivot Table Data'!B818","v":0},{"$f":"'Pivot Table Data'!F818","v":"Health Sciences West"},{"$f":"'Pivot Table Data'!P818","v":"P603"},{"$f":"'Pivot Table Data'!I818","v":"-"},{"$f":"'Pivot Table Data'!J818","v":"Reserved"},{"$f":"'Pivot Table Data'!K818","v":"Enterprise"},{"$f":"'Pivot Table Data'!L818","v":0},{"$f":"'Pivot Table Data'!S818","v":0},{"$f":"'Pivot Table Data'!T818","v":0},{"$f":"IF('Pivot Table Data'!O818=\"Yes\", 'Pivot Table Data'!T818, \"\")","v":""}]
[{"$f":"'Pivot Table Data'!B819","v":0},{"$f":"'Pivot Table Data'!F819","v":"Health Sciences West"},{"$f":"'Pivot Table Data'!P819","v":"P603"},{"$f":"'Pivot Table Data'!I819","v":"-"},{"$f":"'Pivot Table Data'!J819","v":"Reserved"},{"$f":"'Pivot Table Data'!K819","v":0},{"$f":"'Pivot Table Data'!L819","v":0},{"$f":"'Pivot Table Data'!S819","v":0},{"$f":"'Pivot Table Data'!T819","v":0},{"$f":"IF('Pivot Table Data'!O819=\"Yes\", 'Pivot Table Data'!T819, \"\")","v":""}]
[{"$f":"'Pivot Table Data'!B820","v":0},{"$f":"'Pivot Table Data'!F820","v":"Health Sciences West"},{"$f":"'Pivot Table Data'!P820","v":"P603"},{"$f":"'Pivot Table Data'!I820","v":"-"},{"$f":"'Pivot Table Data'!J820","v":"Service Yard"},{"$f":"'Pivot Table Data'!K820","v":0},{"$f":"'Pivot Table Data'!L820","v":0},{"$f":"'Pivot Table Data'!S820","v":2},{"$f":"'Pivot Table Data'!T820","v":2},{"$f":"IF('Pivot Table Data'!O820=\"Yes\", 'Pivot Table Data'!T820, \"\")","v":""}]
[{"$f":"'Pivot Table Data'!B821","v":0},{"$f":"'Pivot Table Data'!F821","v":"Health Sciences West"},{"$f":"'Pivot Table Data'!P821","v":"P603"},{"$f":"'Pivot Table Data'!I821","v":"-"},{"$f":"'Pivot Table Data'!J821","v":"Visitor"},{"$f":"'Pivot Table Data'!K821","v":0},{"$f":"'Pivot Table Data'!L821","v":0},{"$f":"'Pivot Table Data'!S821","v":36},{"$f":"'Pivot Table Data'!T821","v":36},{"$f":"IF('Pivot Table Data'!O821=\"Yes\", 'Pivot Table Data'!T821, \"\")","v":36}]
[{"$f":"'Pivot Table Data'!B822","v":0},{"$f":"'Pivot Table Data'!F822","v":"Health Sciences West"},{"$f":"'Pivot Table Data'!P822","v":"P604"},{"$f":"'Pivot Table Data'!I822","v":"-"},{"$f":"'Pivot Table Data'!J822","v":"Accessible"},{"$f":"'Pivot Table Data'!K822","v":0},{"$f":"'Pivot Table Data'!L822","v":0},{"$f":"'Pivot Table Data'!S822","v":0},{"$f":"'Pivot Table Data'!T822","v":0},{"$f":"IF('Pivot Table Data'!O822=\"Yes\", 'Pivot Table Data'!T822, \"\")","v":""}]
[{"$f":"'Pivot Table Data'!B823","v":0},{"$f":"'Pivot Table Data'!F823","v":"Health Sciences West"},{"$f":"'Pivot Table Data'!P823","v":"P604"},{"$f":"'Pivot Table Data'!I823","v":"-"},{"$f":"'Pivot Table Data'!J823","v":"Accessible (Van)"},{"$f":"'Pivot Table Data'!K823","v":0},{"$f":"'Pivot Table Data'!L823","v":0},{"$f":"'Pivot Table Data'!S823","v":0},{"$f":"'Pivot Table Data'!T823","v":0},{"$f":"IF('Pivot Table Data'!O823=\"Yes\", 'Pivot Table Data'!T823, \"\")","v":""}]
[{"$f":"'Pivot Table Data'!B824","v":0},{"$f":"'Pivot Table Data'!F824","v":"Health Sciences West"},{"$f":"'Pivot Table Data'!P824","v":"P604"},{"$f":"'Pivot Table Data'!I824","v":"-"},{"$f":"'Pivot Table Data'!J824","v":"B"},{"$f":"'Pivot Table Data'!K824","v":0},{"$f":"'Pivot Table Data'!L824","v":0},{"$f":"'Pivot Table Data'!S824","v":0},{"$f":"'Pivot Table Data'!T824","v":0},{"$f":"IF('Pivot Table Data'!O824=\"Yes\", 'Pivot Table Data'!T824, \"\")","v":0}]
[{"$f":"'Pivot Table Data'!B825","v":0},{"$f":"'Pivot Table Data'!F825","v":"Health Sciences West"},{"$f":"'Pivot Table Data'!P825","v":"P605"},{"$f":"'Pivot Table Data'!I825","v":"-"},{"$f":"'Pivot Table Data'!J825","v":"Accessible"},{"$f":"'Pivot Table Data'!K825","v":0},{"$f":"'Pivot Table Data'!L825","v":0},{"$f":"'Pivot Table Data'!S825","v":1},{"$f":"'Pivot Table Data'!T825","v":1},{"$f":"IF('Pivot Table Data'!O825=\"Yes\", 'Pivot Table Data'!T825, \"\")","v":""}]
[{"$f":"'Pivot Table Data'!B826","v":0},{"$f":"'Pivot Table Data'!F826","v":"Health Sciences West"},{"$f":"'Pivot Table Data'!P826","v":"P605"},{"$f":"'Pivot Table Data'!I826","v":"-"},{"$f":"'Pivot Table Data'!J826","v":"Accessible (Van)"},{"$f":"'Pivot Table Data'!K826","v":0},{"$f":"'Pivot Table Data'!L826","v":0},{"$f":"'Pivot Table Data'!S826","v":0},{"$f":"'Pivot Table Data'!T826","v":0},{"$f":"IF('Pivot Table Data'!O826=\"Yes\", 'Pivot Table Data'!T826, \"\")","v":""}]
[{"$f":"'Pivot Table Data'!B827","v":0},{"$f":"'Pivot Table Data'!F827","v":"Health Sciences West"},{"$f":"'Pivot Table Data'!P827","v":"P605"},{"$f":"'Pivot Table Data'!I827","v":"-"},{"$f":"'Pivot Table Data'!J827","v":"Reserved"},{"$f":"'Pivot Table Data'!K827","v":0},{"$f":"'Pivot Table Data'!L827","v":0},{"$f":"'Pivot Table Data'!S827","v":8},{"$f":"'Pivot Table Data'!T827","v":8},{"$f":"IF('Pivot Table Data'!O827=\"Yes\", 'Pivot Table Data'!T827, \"\")","v":""}]
[{"$f":"'Pivot Table Data'!B828","v":0},{"$f":"'Pivot Table Data'!F828","v":"Health Sciences West"},{"$f":"'Pivot Table Data'!P828","v":"P605"},{"$f":"'Pivot Table Data'!I828","v":"-"},{"$f":"'Pivot Table Data'!J828","v":"UC Vehicle"},{"$f":"'Pivot Table Data'!K828","v":0},{"$f":"'Pivot Table Data'!L828","v":0},{"$f":"'Pivot Table Data'!S828","v":7},{"$f":"'Pivot Table Data'!T828","v":7},{"$f":"IF('Pivot Table Data'!O828=\"Yes\", 'Pivot Table Data'!T828, \"\")","v":""}]
[{"$f":"'Pivot Table Data'!B829","v":0},{"$f":"'Pivot Table Data'!F829","v":"Health Sciences West"},{"$f":"'Pivot Table Data'!P829","v":"P606"},{"$f":"'Pivot Table Data'!I829","v":"-"},{"$f":"'Pivot Table Data'!J829","v":"Accessible"},{"$f":"'Pivot Table Data'!K829","v":0},{"$f":"'Pivot Table Data'!L829","v":0},{"$f":"'Pivot Table Data'!S829","v":0},{"$f":"'Pivot Table Data'!T829","v":0},{"$f":"IF('Pivot Table Data'!O829=\"Yes\", 'Pivot Table Data'!T829, \"\")","v":""}]
[{"$f":"'Pivot Table Data'!B830","v":0},{"$f":"'Pivot Table Data'!F830","v":"Health Sciences West"},{"$f":"'Pivot Table Data'!P830","v":"P606"},{"$f":"'Pivot Table Data'!I830","v":"-"},{"$f":"'Pivot Table Data'!J830","v":"Accessible (Van)"},{"$f":"'Pivot Table Data'!K830","v":0},{"$f":"'Pivot Table Data'!L830","v":0},{"$f":"'Pivot Table Data'!S830","v":2},{"$f":"'Pivot Table Data'!T830","v":2},{"$f":"IF('Pivot Table Data'!O830=\"Yes\", 'Pivot Table Data'!T830, \"\")","v":""}]
[{"$f":"'Pivot Table Data'!B831","v":0},{"$f":"'Pivot Table Data'!F831","v":"Health Sciences West"},{"$f":"'Pivot Table Data'!P831","v":"P606"},{"$f":"'Pivot Table Data'!I831","v":"-"},{"$f":"'Pivot Table Data'!J831","v":"Loading"},{"$f":"'Pivot Table Data'!K831","v":"Dock"},{"$f":"'Pivot Table Data'!L831","v":0},{"$f":"'Pivot Table Data'!S831","v":2},{"$f":"'Pivot Table Data'!T831","v":2},{"$f":"IF('Pivot Table Data'!O831=\"Yes\", 'Pivot Table Data'!T831, \"\")","v":""}]
[{"$f":"'Pivot Table Data'!B832","v":0},{"$f":"'Pivot Table Data'!F832","v":"Health Sciences West"},{"$f":"'Pivot Table Data'!P832","v":"P606"},{"$f":"'Pivot Table Data'!I832","v":"-"},{"$f":"'Pivot Table Data'!J832","v":"Reserved"},{"$f":"'Pivot Table Data'!K832","v":0},{"$f":"'Pivot Table Data'!L832","v":0},{"$f":"'Pivot Table Data'!S832","v":6},{"$f":"'Pivot Table Data'!T832","v":6},{"$f":"IF('Pivot Table Data'!O832=\"Yes\", 'Pivot Table Data'!T832, \"\")","v":""}]
[{"$f":"'Pivot Table Data'!B833","v":0},{"$f":"'Pivot Table Data'!F833","v":"Health Sciences West"},{"$f":"'Pivot Table Data'!P833","v":"P607"},{"$f":"'Pivot Table Data'!I833","v":"-"},{"$f":"'Pivot Table Data'!J833","v":"Service Yard"},{"$f":"'Pivot Table Data'!K833","v":"Dock"},{"$f":"'Pivot Table Data'!L833","v":0},{"$f":"'Pivot Table Data'!S833","v":5},{"$f":"'Pivot Table Data'!T833","v":5},{"$f":"IF('Pivot Table Data'!O833=\"Yes\", 'Pivot Table Data'!T833, \"\")","v":""}]
[{"$f":"'Pivot Table Data'!B834","v":0},{"$f":"'Pivot Table Data'!F834","v":"Health Sciences West"},{"$f":"'Pivot Table Data'!P834","v":"P608"},{"$f":"'Pivot Table Data'!I834","v":"-"},{"$f":"'Pivot Table Data'!J834","v":"Accessible"},{"$f":"'Pivot Table Data'!K834","v":0},{"$f":"'Pivot Table Data'!L834","v":0},{"$f":"'Pivot Table Data'!S834","v":2},{"$f":"'Pivot Table Data'!T834","v":2},{"$f":"IF('Pivot Table Data'!O834=\"Yes\", 'Pivot Table Data'!T834, \"\")","v":""}]
[{"$f":"'Pivot Table Data'!B835","v":0},{"$f":"'Pivot Table Data'!F835","v":"Health Sciences West"},{"$f":"'Pivot Table Data'!P835","v":"P608"},{"$f":"'Pivot Table Data'!I835","v":"-"},{"$f":"'Pivot Table Data'!J835","v":"Accessible (Van)"},{"$f":"'Pivot Table Data'!K835","v":0},{"$f":"'Pivot Table Data'!L835","v":0},{"$f":"'Pivot Table Data'!S835","v":0},{"$f":"'Pivot Table Data'!T835","v":0},{"$f":"IF('Pivot Table Data'!O835=\"Yes\", 'Pivot Table Data'!T835, \"\")","v":""}]
[{"$f":"'Pivot Table Data'!B836","v":0},{"$f":"'Pivot Table Data'!F836","v":"Health Sciences West"},{"$f":"'Pivot Table Data'!P836","v":"P608"},{"$f":"'Pivot Table Data'!I836","v":"-"},{"$f":"'Pivot Table Data'!J836","v":"Loading"},{"$f":"'Pivot Table Data'!K836","v":0},{"$f":"'Pivot Table Data'!L836","v":0},{"$f":"'Pivot Table Data'!S836","v":8},{"$f":"'Pivot Table Data'!T836","v":8},{"$f":"IF('Pivot Table Data'!O836=\"Yes\", 'Pivot Table Data'!T836, \"\")","v":""}]
[{"$f":"'Pivot Table Data'!B837","v":0},{"$f":"'Pivot Table Data'!F837","v":"Health Sciences West"},{"$f":"'Pivot Table Data'!P837","v":"P608"},{"$f":"'Pivot Table Data'!I837","v":"-"},{"$f":"'Pivot Table Data'!J837","v":"Reserved"},{"$f":"'Pivot Table Data'!K837","v":0},{"$f":"'Pivot Table Data'!L837","v":0},{"$f":"'Pivot Table Data'!S837","v":1},{"$f":"'Pivot Table Data'!T837","v":1},{"$f":"IF('Pivot Table Data'!O837=\"Yes\", 'Pivot Table Data'!T837, \"\")","v":""}]
[{"$f":"'Pivot Table Data'!B838","v":0},{"$f":"'Pivot Table Data'!F838","v":"Health Sciences West"},{"$f":"'Pivot Table Data'!P838","v":"P610"},{"$f":"'Pivot Table Data'!I838","v":"-"},{"$f":"'Pivot Table Data'!J838","v":"A"},{"$f":"'Pivot Table Data'!K838","v":0},{"$f":"'Pivot Table Data'!L838","v":0},{"$f":"'Pivot Table Data'!S838","v":113},{"$f":"'Pivot Table Data'!T838","v":113},{"$f":"IF('Pivot Table Data'!O838=\"Yes\", 'Pivot Table Data'!T838, \"\")","v":113}]
[{"$f":"'Pivot Table Data'!B839","v":0},{"$f":"'Pivot Table Data'!F839","v":"Health Sciences West"},{"$f":"'Pivot Table Data'!P839","v":"P610"},{"$f":"'Pivot Table Data'!I839","v":"-"},{"$f":"'Pivot Table Data'!J839","v":"Accessible"},{"$f":"'Pivot Table Data'!K839","v":0},{"$f":"'Pivot Table Data'!L839","v":0},{"$f":"'Pivot Table Data'!S839","v":0},{"$f":"'Pivot Table Data'!T839","v":0},{"$f":"IF('Pivot Table Data'!O839=\"Yes\", 'Pivot Table Data'!T839, \"\")","v":""}]
[{"$f":"'Pivot Table Data'!B840","v":0},{"$f":"'Pivot Table Data'!F840","v":"Health Sciences West"},{"$f":"'Pivot Table Data'!P840","v":"P610"},{"$f":"'Pivot Table Data'!I840","v":"-"},{"$f":"'Pivot Table Data'!J840","v":"Accessible (Van)"},{"$f":"'Pivot Table Data'!K840","v":0},{"$f":"'Pivot Table Data'!L840","v":0},{"$f":"'Pivot Table Data'!S840","v":5},{"$f":"'Pivot Table Data'!T840","v":5},{"$f":"IF('Pivot Table Data'!O840=\"Yes\", 'Pivot Table Data'!T840, \"\")","v":""}]
[{"$f":"'Pivot Table Data'!B841","v":0},{"$f":"'Pivot Table Data'!F841","v":"Health Sciences West"},{"$f":"'Pivot Table Data'!P841","v":"P610"},{"$f":"'Pivot Table Data'!I841","v":"-"},{"$f":"'Pivot Table Data'!J841","v":"Carpool"},{"$f":"'Pivot Table Data'!K841","v":"A 3-Person"},{"$f":"'Pivot Table Data'!L841","v":0},{"$f":"'Pivot Table Data'!S841","v":2},{"$f":"'Pivot Table Data'!T841","v":2},{"$f":"IF('Pivot Table Data'!O841=\"Yes\", 'Pivot Table Data'!T841, \"\")","v":2}]
[{"$f":"'Pivot Table Data'!B842","v":0},{"$f":"'Pivot Table Data'!F842","v":"Health Sciences West"},{"$f":"'Pivot Table Data'!P842","v":"P610"},{"$f":"'Pivot Table Data'!I842","v":"-"},{"$f":"'Pivot Table Data'!J842","v":"Electric Vehicle"},{"$f":"'Pivot Table Data'!K842","v":0},{"$f":"'Pivot Table Data'!L842","v":0},{"$f":"'Pivot Table Data'!S842","v":6},{"$f":"'Pivot Table Data'!T842","v":6},{"$f":"IF('Pivot Table Data'!O842=\"Yes\", 'Pivot Table Data'!T842, \"\")","v":""}]
[{"$f":"'Pivot Table Data'!B843","v":0},{"$f":"'Pivot Table Data'!F843","v":"Health Sciences West"},{"$f":"'Pivot Table Data'!P843","v":"P610"},{"$f":"'Pivot Table Data'!I843","v":"-"},{"$f":"'Pivot Table Data'!J843","v":"Reserved"},{"$f":"'Pivot Table Data'!K843","v":"Enterprise"},{"$f":"'Pivot Table Data'!L843","v":0},{"$f":"'Pivot Table Data'!S843","v":4},{"$f":"'Pivot Table Data'!T843","v":4},{"$f":"IF('Pivot Table Data'!O843=\"Yes\", 'Pivot Table Data'!T843, \"\")","v":""}]
[{"$f":"'Pivot Table Data'!B844","v":0},{"$f":"'Pivot Table Data'!F844","v":"Health Sciences West"},{"$f":"'Pivot Table Data'!P844","v":"P610"},{"$f":"'Pivot Table Data'!I844","v":"-"},{"$f":"'Pivot Table Data'!J844","v":"Reserved"},{"$f":"'Pivot Table Data'!K844","v":"EXCITE LAB"},{"$f":"'Pivot Table Data'!L844","v":0},{"$f":"'Pivot Table Data'!S844","v":10},{"$f":"'Pivot Table Data'!T844","v":10},{"$f":"IF('Pivot Table Data'!O844=\"Yes\", 'Pivot Table Data'!T844, \"\")","v":""}]
[{"$f":"'Pivot Table Data'!B845","v":0},{"$f":"'Pivot Table Data'!F845","v":"Health Sciences West"},{"$f":"'Pivot Table Data'!P845","v":"P610"},{"$f":"'Pivot Table Data'!I845","v":"-"},{"$f":"'Pivot Table Data'!J845","v":"Reserved"},{"$f":"'Pivot Table Data'!K845","v":0},{"$f":"'Pivot Table Data'!L845","v":0},{"$f":"'Pivot Table Data'!S845","v":9},{"$f":"'Pivot Table Data'!T845","v":9},{"$f":"IF('Pivot Table Data'!O845=\"Yes\", 'Pivot Table Data'!T845, \"\")","v":""}]
[{"$f":"'Pivot Table Data'!B846","v":0},{"$f":"'Pivot Table Data'!F846","v":"Theater District Living & Learning"},{"$f":"'Pivot Table Data'!P846","v":"TDLLN"},{"$f":"'Pivot Table Data'!I846","v":"L1"},{"$f":"'Pivot Table Data'!J846","v":"Accessible"},{"$f":"'Pivot Table Data'!K846","v":0},{"$f":"'Pivot Table Data'!L846","v":0},{"$f":"'Pivot Table Data'!S846","v":17},{"$f":"'Pivot Table Data'!T846","v":17},{"$f":"IF('Pivot Table Data'!O846=\"Yes\", 'Pivot Table Data'!T846, \"\")","v":""}]
[{"$f":"'Pivot Table Data'!B847","v":0},{"$f":"'Pivot Table Data'!F847","v":"Theater District Living & Learning"},{"$f":"'Pivot Table Data'!P847","v":"TDLLN"},{"$f":"'Pivot Table Data'!I847","v":"L1"},{"$f":"'Pivot Table Data'!J847","v":"Accessible (Van)"},{"$f":"'Pivot Table Data'!K847","v":0},{"$f":"'Pivot Table Data'!L847","v":0},{"$f":"'Pivot Table Data'!S847","v":5},{"$f":"'Pivot Table Data'!T847","v":5},{"$f":"IF('Pivot Table Data'!O847=\"Yes\", 'Pivot Table Data'!T847, \"\")","v":""}]
[{"$f":"'Pivot Table Data'!B848","v":0},{"$f":"'Pivot Table Data'!F848","v":"Theater District Living & Learning"},{"$f":"'Pivot Table Data'!P848","v":"TDLLN"},{"$f":"'Pivot Table Data'!I848","v":"L1"},{"$f":"'Pivot Table Data'!J848","v":"B"},{"$f":"'Pivot Table Data'!K848","v":0},{"$f":"'Pivot Table Data'!L848","v":0},{"$f":"'Pivot Table Data'!S848","v":0},{"$f":"'Pivot Table Data'!T848","v":393},{"$f":"IF('Pivot Table Data'!O848=\"Yes\", 'Pivot Table Data'!T848, \"\")","v":393}]
[{"$f":"'Pivot Table Data'!B849","v":0},{"$f":"'Pivot Table Data'!F849","v":"Theater District Living & Learning"},{"$f":"'Pivot Table Data'!P849","v":"TDLLN"},{"$f":"'Pivot Table Data'!I849","v":"L1"},{"$f":"'Pivot Table Data'!J849","v":"Carpool"},{"$f":"'Pivot Table Data'!K849","v":0},{"$f":"'Pivot Table Data'!L849","v":0},{"$f":"'Pivot Table Data'!S849","v":0},{"$f":"'Pivot Table Data'!T849","v":87},{"$f":"IF('Pivot Table Data'!O849=\"Yes\", 'Pivot Table Data'!T849, \"\")","v":87}]
[{"$f":"'Pivot Table Data'!B850","v":0},{"$f":"'Pivot Table Data'!F850","v":"Theater District Living & Learning"},{"$f":"'Pivot Table Data'!P850","v":"TDLLN"},{"$f":"'Pivot Table Data'!I850","v":"L1"},{"$f":"'Pivot Table Data'!J850","v":"Electric Vehicle"},{"$f":"'Pivot Table Data'!K850","v":"ADA"},{"$f":"'Pivot Table Data'!L850","v":0},{"$f":"'Pivot Table Data'!S850","v":5},{"$f":"'Pivot Table Data'!T850","v":5},{"$f":"IF('Pivot Table Data'!O850=\"Yes\", 'Pivot Table Data'!T850, \"\")","v":""}]
[{"$f":"'Pivot Table Data'!B851","v":0},{"$f":"'Pivot Table Data'!F851","v":"Theater District Living & Learning"},{"$f":"'Pivot Table Data'!P851","v":"TDLLN"},{"$f":"'Pivot Table Data'!I851","v":"L1"},{"$f":"'Pivot Table Data'!J851","v":"Electric Vehicle"},{"$f":"'Pivot Table Data'!K851","v":0},{"$f":"'Pivot Table Data'!L851","v":0},{"$f":"'Pivot Table Data'!S851","v":34},{"$f":"'Pivot Table Data'!T851","v":92},{"$f":"IF('Pivot Table Data'!O851=\"Yes\", 'Pivot Table Data'!T851, \"\")","v":""}]
[{"$f":"'Pivot Table Data'!B852","v":0},{"$f":"'Pivot Table Data'!F852","v":"Theater District Living & Learning"},{"$f":"'Pivot Table Data'!P852","v":"TDLLN"},{"$f":"'Pivot Table Data'!I852","v":"L1"},{"$f":"'Pivot Table Data'!J852","v":"Motorcycle Section"},{"$f":"'Pivot Table Data'!K852","v":0},{"$f":"'Pivot Table Data'!L852","v":0},{"$f":"'Pivot Table Data'!S852","v":0},{"$f":"'Pivot Table Data'!T852","v":0},{"$f":"IF('Pivot Table Data'!O852=\"Yes\", 'Pivot Table Data'!T852, \"\")","v":""}]
[{"$f":"'Pivot Table Data'!B853","v":0},{"$f":"'Pivot Table Data'!F853","v":"Theater District Living & Learning"},{"$f":"'Pivot Table Data'!P853","v":"TDLLN"},{"$f":"'Pivot Table Data'!I853","v":"L1"},{"$f":"'Pivot Table Data'!J853","v":"Reserved"},{"$f":"'Pivot Table Data'!K853","v":0},{"$f":"'Pivot Table Data'!L853","v":0},{"$f":"'Pivot Table Data'!S853","v":0},{"$f":"'Pivot Table Data'!T853","v":0},{"$f":"IF('Pivot Table Data'!O853=\"Yes\", 'Pivot Table Data'!T853, \"\")","v":""}]
[{"$f":"'Pivot Table Data'!B854","v":0},{"$f":"'Pivot Table Data'!F854","v":"Theater District Living & Learning"},{"$f":"'Pivot Table Data'!P854","v":"TDLLN"},{"$f":"'Pivot Table Data'!I854","v":"L1"},{"$f":"'Pivot Table Data'!J854","v":"Service Yard"},{"$f":"'Pivot Table Data'!K854","v":0},{"$f":"'Pivot Table Data'!L854","v":0},{"$f":"'Pivot Table Data'!S854","v":5},{"$f":"'Pivot Table Data'!T854","v":5},{"$f":"IF('Pivot Table Data'!O854=\"Yes\", 'Pivot Table Data'!T854, \"\")","v":""}]
[{"$f":"'Pivot Table Data'!B855","v":0},{"$f":"'Pivot Table Data'!F855","v":"Theater District Living & Learning"},{"$f":"'Pivot Table Data'!P855","v":"TDLLN"},{"$f":"'Pivot Table Data'!I855","v":"L1"},{"$f":"'Pivot Table Data'!J855","v":"SR"},{"$f":"'Pivot Table Data'!K855","v":0},{"$f":"'Pivot Table Data'!L855","v":0},{"$f":"'Pivot Table Data'!S855","v":0},{"$f":"'Pivot Table Data'!T855","v":91},{"$f":"IF('Pivot Table Data'!O855=\"Yes\", 'Pivot Table Data'!T855, \"\")","v":91}]
[{"$f":"'Pivot Table Data'!B856","v":0},{"$f":"'Pivot Table Data'!F856","v":"Theater District Living & Learning"},{"$f":"'Pivot Table Data'!P856","v":"TDLLN"},{"$f":"'Pivot Table Data'!I856","v":"L1"},{"$f":"'Pivot Table Data'!J856","v":"UC Cart"},{"$f":"'Pivot Table Data'!K856","v":0},{"$f":"'Pivot Table Data'!L856","v":0},{"$f":"'Pivot Table Data'!S856","v":15},{"$f":"'Pivot Table Data'!T856","v":15},{"$f":"IF('Pivot Table Data'!O856=\"Yes\", 'Pivot Table Data'!T856, \"\")","v":""}]
[{"$f":"'Pivot Table Data'!B857","v":0},{"$f":"'Pivot Table Data'!F857","v":"Theater District Living & Learning"},{"$f":"'Pivot Table Data'!P857","v":"TDLLN"},{"$f":"'Pivot Table Data'!I857","v":"L1"},{"$f":"'Pivot Table Data'!J857","v":"UC Vehicle"},{"$f":"'Pivot Table Data'!K857","v":0},{"$f":"'Pivot Table Data'!L857","v":0},{"$f":"'Pivot Table Data'!S857","v":0},{"$f":"'Pivot Table Data'!T857","v":0},{"$f":"IF('Pivot Table Data'!O857=\"Yes\", 'Pivot Table Data'!T857, \"\")","v":""}]
[{"$f":"'Pivot Table Data'!B858","v":0},{"$f":"'Pivot Table Data'!F858","v":"Theater District Living & Learning"},{"$f":"'Pivot Table Data'!P858","v":"TDLLN"},{"$f":"'Pivot Table Data'!I858","v":"L1"},{"$f":"'Pivot Table Data'!J858","v":"Visitor"},{"$f":"'Pivot Table Data'!K858","v":0},{"$f":"'Pivot Table Data'!L858","v":0},{"$f":"'Pivot Table Data'!S858","v":132},{"$f":"'Pivot Table Data'!T858","v":156},{"$f":"IF('Pivot Table Data'!O858=\"Yes\", 'Pivot Table Data'!T858, \"\")","v":156}]
[{"$f":"'Pivot Table Data'!B859","v":0},{"$f":"'Pivot Table Data'!F859","v":"Theater District Living & Learning"},{"$f":"'Pivot Table Data'!P859","v":"TDLLN"},{"$f":"'Pivot Table Data'!I859","v":"L1"},{"$f":"'Pivot Table Data'!J859","v":"Visitor"},{"$f":"'Pivot Table Data'!K859","v":0},{"$f":"'Pivot Table Data'!L859","v":0},{"$f":"'Pivot Table Data'!S859","v":0},{"$f":"'Pivot Table Data'!T859","v":""},{"$f":"IF('Pivot Table Data'!O859=\"Yes\", 'Pivot Table Data'!T859, \"\")","v":""}]
[{"$f":"'Pivot Table Data'!B860","v":0},{"$f":"'Pivot Table Data'!F860","v":"Theater District Living & Learning"},{"$f":"'Pivot Table Data'!P860","v":"TDLLN"},{"$f":"'Pivot Table Data'!I860","v":"L2"},{"$f":"'Pivot Table Data'!J860","v":"A"},{"$f":"'Pivot Table Data'!K860","v":0},{"$f":"'Pivot Table Data'!L860","v":0},{"$f":"'Pivot Table Data'!S860","v":134},{"$f":"'Pivot Table Data'!T860","v":182},{"$f":"IF('Pivot Table Data'!O860=\"Yes\", 'Pivot Table Data'!T860, \"\")","v":182}]
[{"$f":"'Pivot Table Data'!B861","v":0},{"$f":"'Pivot Table Data'!F861","v":"Theater District Living & Learning"},{"$f":"'Pivot Table Data'!P861","v":"TDLLN"},{"$f":"'Pivot Table Data'!I861","v":"L2"},{"$f":"'Pivot Table Data'!J861","v":"Accessible"},{"$f":"'Pivot Table Data'!K861","v":0},{"$f":"'Pivot Table Data'!L861","v":0},{"$f":"'Pivot Table Data'!S861","v":0},{"$f":"'Pivot Table Data'!T861","v":""},{"$f":"IF('Pivot Table Data'!O861=\"Yes\", 'Pivot Table Data'!T861, \"\")","v":""}]
[{"$f":"'Pivot Table Data'!B862","v":0},{"$f":"'Pivot Table Data'!F862","v":"Theater District Living & Learning"},{"$f":"'Pivot Table Data'!P862","v":"TDLLN"},{"$f":"'Pivot Table Data'!I862","v":"L2"},{"$f":"'Pivot Table Data'!J862","v":"Accessible (Van)"},{"$f":"'Pivot Table Data'!K862","v":0},{"$f":"'Pivot Table Data'!L862","v":0},{"$f":"'Pivot Table Data'!S862","v":0},{"$f":"'Pivot Table Data'!T862","v":""},{"$f":"IF('Pivot Table Data'!O862=\"Yes\", 'Pivot Table Data'!T862, \"\")","v":""}]
[{"$f":"'Pivot Table Data'!B863","v":0},{"$f":"'Pivot Table Data'!F863","v":"Theater District Living & Learning"},{"$f":"'Pivot Table Data'!P863","v":"TDLLN"},{"$f":"'Pivot Table Data'!I863","v":"L2"},{"$f":"'Pivot Table Data'!J863","v":"B"},{"$f":"'Pivot Table Data'!K863","v":0},{"$f":"'Pivot Table Data'!L863","v":0},{"$f":"'Pivot Table Data'!S863","v":0},{"$f":"'Pivot Table Data'!T863","v":""},{"$f":"IF('Pivot Table Data'!O863=\"Yes\", 'Pivot Table Data'!T863, \"\")","v":""}]
[{"$f":"'Pivot Table Data'!B864","v":0},{"$f":"'Pivot Table Data'!F864","v":"Theater District Living & Learning"},{"$f":"'Pivot Table Data'!P864","v":"TDLLN"},{"$f":"'Pivot Table Data'!I864","v":"L2"},{"$f":"'Pivot Table Data'!J864","v":"Carpool"},{"$f":"'Pivot Table Data'!K864","v":0},{"$f":"'Pivot Table Data'!L864","v":0},{"$f":"'Pivot Table Data'!S864","v":87},{"$f":"'Pivot Table Data'!T864","v":""},{"$f":"IF('Pivot Table Data'!O864=\"Yes\", 'Pivot Table Data'!T864, \"\")","v":""}]
[{"$f":"'Pivot Table Data'!B865","v":0},{"$f":"'Pivot Table Data'!F865","v":"Theater District Living & Learning"},{"$f":"'Pivot Table Data'!P865","v":"TDLLN"},{"$f":"'Pivot Table Data'!I865","v":"L2"},{"$f":"'Pivot Table Data'!J865","v":"Electric Vehicle"},{"$f":"'Pivot Table Data'!K865","v":"ADA"},{"$f":"'Pivot Table Data'!L865","v":0},{"$f":"'Pivot Table Data'!S865","v":0},{"$f":"'Pivot Table Data'!T865","v":""},{"$f":"IF('Pivot Table Data'!O865=\"Yes\", 'Pivot Table Data'!T865, \"\")","v":""}]
[{"$f":"'Pivot Table Data'!B866","v":0},{"$f":"'Pivot Table Data'!F866","v":"Theater District Living & Learning"},{"$f":"'Pivot Table Data'!P866","v":"TDLLN"},{"$f":"'Pivot Table Data'!I866","v":"L2"},{"$f":"'Pivot Table Data'!J866","v":"Electric Vehicle"},{"$f":"'Pivot Table Data'!K866","v":0},{"$f":"'Pivot Table Data'!L866","v":0},{"$f":"'Pivot Table Data'!S866","v":58},{"$f":"'Pivot Table Data'!T866","v":""},{"$f":"IF('Pivot Table Data'!O866=\"Yes\", 'Pivot Table Data'!T866, \"\")","v":""}]
[{"$f":"'Pivot Table Data'!B867","v":0},{"$f":"'Pivot Table Data'!F867","v":"Theater District Living & Learning"},{"$f":"'Pivot Table Data'!P867","v":"TDLLN"},{"$f":"'Pivot Table Data'!I867","v":"L2"},{"$f":"'Pivot Table Data'!J867","v":"Motorcycle Section"},{"$f":"'Pivot Table Data'!K867","v":0},{"$f":"'Pivot Table Data'!L867","v":0},{"$f":"'Pivot Table Data'!S867","v":0},{"$f":"'Pivot Table Data'!T867","v":""},{"$f":"IF('Pivot Table Data'!O867=\"Yes\", 'Pivot Table Data'!T867, \"\")","v":""}]
[{"$f":"'Pivot Table Data'!B868","v":0},{"$f":"'Pivot Table Data'!F868","v":"Theater District Living & Learning"},{"$f":"'Pivot Table Data'!P868","v":"TDLLN"},{"$f":"'Pivot Table Data'!I868","v":"L2"},{"$f":"'Pivot Table Data'!J868","v":"Reserved"},{"$f":"'Pivot Table Data'!K868","v":0},{"$f":"'Pivot Table Data'!L868","v":0},{"$f":"'Pivot Table Data'!S868","v":0},{"$f":"'Pivot Table Data'!T868","v":""},{"$f":"IF('Pivot Table Data'!O868=\"Yes\", 'Pivot Table Data'!T868, \"\")","v":""}]
[{"$f":"'Pivot Table Data'!B869","v":0},{"$f":"'Pivot Table Data'!F869","v":"Theater District Living & Learning"},{"$f":"'Pivot Table Data'!P869","v":"TDLLN"},{"$f":"'Pivot Table Data'!I869","v":"L2"},{"$f":"'Pivot Table Data'!J869","v":"Service Yard"},{"$f":"'Pivot Table Data'!K869","v":0},{"$f":"'Pivot Table Data'!L869","v":0},{"$f":"'Pivot Table Data'!S869","v":0},{"$f":"'Pivot Table Data'!T869","v":""},{"$f":"IF('Pivot Table Data'!O869=\"Yes\", 'Pivot Table Data'!T869, \"\")","v":""}]
[{"$f":"'Pivot Table Data'!B870","v":0},{"$f":"'Pivot Table Data'!F870","v":"Theater District Living & Learning"},{"$f":"'Pivot Table Data'!P870","v":"TDLLN"},{"$f":"'Pivot Table Data'!I870","v":"L2"},{"$f":"'Pivot Table Data'!J870","v":"SR"},{"$f":"'Pivot Table Data'!K870","v":0},{"$f":"'Pivot Table Data'!L870","v":0},{"$f":"'Pivot Table Data'!S870","v":0},{"$f":"'Pivot Table Data'!T870","v":""},{"$f":"IF('Pivot Table Data'!O870=\"Yes\", 'Pivot Table Data'!T870, \"\")","v":""}]
[{"$f":"'Pivot Table Data'!B871","v":0},{"$f":"'Pivot Table Data'!F871","v":"Theater District Living & Learning"},{"$f":"'Pivot Table Data'!P871","v":"TDLLN"},{"$f":"'Pivot Table Data'!I871","v":"L2"},{"$f":"'Pivot Table Data'!J871","v":"UC Cart"},{"$f":"'Pivot Table Data'!K871","v":0},{"$f":"'Pivot Table Data'!L871","v":0},{"$f":"'Pivot Table Data'!S871","v":0},{"$f":"'Pivot Table Data'!T871","v":""},{"$f":"IF('Pivot Table Data'!O871=\"Yes\", 'Pivot Table Data'!T871, \"\")","v":""}]
[{"$f":"'Pivot Table Data'!B872","v":0},{"$f":"'Pivot Table Data'!F872","v":"Theater District Living & Learning"},{"$f":"'Pivot Table Data'!P872","v":"TDLLN"},{"$f":"'Pivot Table Data'!I872","v":"L2"},{"$f":"'Pivot Table Data'!J872","v":"Visitor"},{"$f":"'Pivot Table Data'!K872","v":0},{"$f":"'Pivot Table Data'!L872","v":0},{"$f":"'Pivot Table Data'!S872","v":24},{"$f":"'Pivot Table Data'!T872","v":""},{"$f":"IF('Pivot Table Data'!O872=\"Yes\", 'Pivot Table Data'!T872, \"\")","v":""}]
[{"$f":"'Pivot Table Data'!B873","v":0},{"$f":"'Pivot Table Data'!F873","v":"Theater District Living & Learning"},{"$f":"'Pivot Table Data'!P873","v":"TDLLN"},{"$f":"'Pivot Table Data'!I873","v":"L3"},{"$f":"'Pivot Table Data'!J873","v":"A"},{"$f":"'Pivot Table Data'!K873","v":0},{"$f":"'Pivot Table Data'!L873","v":0},{"$f":"'Pivot Table Data'!S873","v":48},{"$f":"'Pivot Table Data'!T873","v":""},{"$f":"IF('Pivot Table Data'!O873=\"Yes\", 'Pivot Table Data'!T873, \"\")","v":""}]
[{"$f":"'Pivot Table Data'!B874","v":0},{"$f":"'Pivot Table Data'!F874","v":"Theater District Living & Learning"},{"$f":"'Pivot Table Data'!P874","v":"TDLLN"},{"$f":"'Pivot Table Data'!I874","v":"L3"},{"$f":"'Pivot Table Data'!J874","v":"Accessible"},{"$f":"'Pivot Table Data'!K874","v":0},{"$f":"'Pivot Table Data'!L874","v":0},{"$f":"'Pivot Table Data'!S874","v":0},{"$f":"'Pivot Table Data'!T874","v":""},{"$f":"IF('Pivot Table Data'!O874=\"Yes\", 'Pivot Table Data'!T874, \"\")","v":""}]
[{"$f":"'Pivot Table Data'!B875","v":0},{"$f":"'Pivot Table Data'!F875","v":"Theater District Living & Learning"},{"$f":"'Pivot Table Data'!P875","v":"TDLLN"},{"$f":"'Pivot Table Data'!I875","v":"L3"},{"$f":"'Pivot Table Data'!J875","v":"Accessible (Van)"},{"$f":"'Pivot Table Data'!K875","v":0},{"$f":"'Pivot Table Data'!L875","v":0},{"$f":"'Pivot Table Data'!S875","v":0},{"$f":"'Pivot Table Data'!T875","v":""},{"$f":"IF('Pivot Table Data'!O875=\"Yes\", 'Pivot Table Data'!T875, \"\")","v":""}]
[{"$f":"'Pivot Table Data'!B876","v":0},{"$f":"'Pivot Table Data'!F876","v":"Theater District Living & Learning"},{"$f":"'Pivot Table Data'!P876","v":"TDLLN"},{"$f":"'Pivot Table Data'!I876","v":"L3"},{"$f":"'Pivot Table Data'!J876","v":"B"},{"$f":"'Pivot Table Data'!K876","v":0},{"$f":"'Pivot Table Data'!L876","v":0},{"$f":"'Pivot Table Data'!S876","v":197},{"$f":"'Pivot Table Data'!T876","v":""},{"$f":"IF('Pivot Table Data'!O876=\"Yes\", 'Pivot Table Data'!T876, \"\")","v":""}]
[{"$f":"'Pivot Table Data'!B877","v":0},{"$f":"'Pivot Table Data'!F877","v":"Theater District Living & Learning"},{"$f":"'Pivot Table Data'!P877","v":"TDLLN"},{"$f":"'Pivot Table Data'!I877","v":"L3"},{"$f":"'Pivot Table Data'!J877","v":"Carpool"},{"$f":"'Pivot Table Data'!K877","v":0},{"$f":"'Pivot Table Data'!L877","v":0},{"$f":"'Pivot Table Data'!S877","v":0},{"$f":"'Pivot Table Data'!T877","v":""},{"$f":"IF('Pivot Table Data'!O877=\"Yes\", 'Pivot Table Data'!T877, \"\")","v":""}]
[{"$f":"'Pivot Table Data'!B878","v":0},{"$f":"'Pivot Table Data'!F878","v":"Theater District Living & Learning"},{"$f":"'Pivot Table Data'!P878","v":"TDLLN"},{"$f":"'Pivot Table Data'!I878","v":"L3"},{"$f":"'Pivot Table Data'!J878","v":"Electric Vehicle"},{"$f":"'Pivot Table Data'!K878","v":"ADA"},{"$f":"'Pivot Table Data'!L878","v":0},{"$f":"'Pivot Table Data'!S878","v":0},{"$f":"'Pivot Table Data'!T878","v":""},{"$f":"IF('Pivot Table Data'!O878=\"Yes\", 'Pivot Table Data'!T878, \"\")","v":""}]
[{"$f":"'Pivot Table Data'!B879","v":0},{"$f":"'Pivot Table Data'!F879","v":"Theater District Living & Learning"},{"$f":"'Pivot Table Data'!P879","v":"TDLLN"},{"$f":"'Pivot Table Data'!I879","v":"L3"},{"$f":"'Pivot Table Data'!J879","v":"Electric Vehicle"},{"$f":"'Pivot Table Data'!K879","v":0},{"$f":"'Pivot Table Data'!L879","v":0},{"$f":"'Pivot Table Data'!S879","v":0},{"$f":"'Pivot Table Data'!T879","v":""},{"$f":"IF('Pivot Table Data'!O879=\"Yes\", 'Pivot Table Data'!T879, \"\")","v":""}]
[{"$f":"'Pivot Table Data'!B880","v":0},{"$f":"'Pivot Table Data'!F880","v":"Theater District Living & Learning"},{"$f":"'Pivot Table Data'!P880","v":"TDLLN"},{"$f":"'Pivot Table Data'!I880","v":"L3"},{"$f":"'Pivot Table Data'!J880","v":"Motorcycle Section"},{"$f":"'Pivot Table Data'!K880","v":0},{"$f":"'Pivot Table Data'!L880","v":0},{"$f":"'Pivot Table Data'!S880","v":0},{"$f":"'Pivot Table Data'!T880","v":""},{"$f":"IF('Pivot Table Data'!O880=\"Yes\", 'Pivot Table Data'!T880, \"\")","v":""}]
[{"$f":"'Pivot Table Data'!B881","v":0},{"$f":"'Pivot Table Data'!F881","v":"Theater District Living & Learning"},{"$f":"'Pivot Table Data'!P881","v":"TDLLN"},{"$f":"'Pivot Table Data'!I881","v":"L3"},{"$f":"'Pivot Table Data'!J881","v":"Reserved"},{"$f":"'Pivot Table Data'!K881","v":0},{"$f":"'Pivot Table Data'!L881","v":0},{"$f":"'Pivot Table Data'!S881","v":0},{"$f":"'Pivot Table Data'!T881","v":""},{"$f":"IF('Pivot Table Data'!O881=\"Yes\", 'Pivot Table Data'!T881, \"\")","v":""}]
[{"$f":"'Pivot Table Data'!B882","v":0},{"$f":"'Pivot Table Data'!F882","v":"Theater District Living & Learning"},{"$f":"'Pivot Table Data'!P882","v":"TDLLN"},{"$f":"'Pivot Table Data'!I882","v":"L3"},{"$f":"'Pivot Table Data'!J882","v":"Service Yard"},{"$f":"'Pivot Table Data'!K882","v":0},{"$f":"'Pivot Table Data'!L882","v":0},{"$f":"'Pivot Table Data'!S882","v":0},{"$f":"'Pivot Table Data'!T882","v":""},{"$f":"IF('Pivot Table Data'!O882=\"Yes\", 'Pivot Table Data'!T882, \"\")","v":""}]
[{"$f":"'Pivot Table Data'!B883","v":0},{"$f":"'Pivot Table Data'!F883","v":"Theater District Living & Learning"},{"$f":"'Pivot Table Data'!P883","v":"TDLLN"},{"$f":"'Pivot Table Data'!I883","v":"L3"},{"$f":"'Pivot Table Data'!J883","v":"SR"},{"$f":"'Pivot Table Data'!K883","v":0},{"$f":"'Pivot Table Data'!L883","v":0},{"$f":"'Pivot Table Data'!S883","v":0},{"$f":"'Pivot Table Data'!T883","v":""},{"$f":"IF('Pivot Table Data'!O883=\"Yes\", 'Pivot Table Data'!T883, \"\")","v":""}]
[{"$f":"'Pivot Table Data'!B884","v":0},{"$f":"'Pivot Table Data'!F884","v":"Theater District Living & Learning"},{"$f":"'Pivot Table Data'!P884","v":"TDLLN"},{"$f":"'Pivot Table Data'!I884","v":"L3"},{"$f":"'Pivot Table Data'!J884","v":"UC Cart"},{"$f":"'Pivot Table Data'!K884","v":0},{"$f":"'Pivot Table Data'!L884","v":0},{"$f":"'Pivot Table Data'!S884","v":0},{"$f":"'Pivot Table Data'!T884","v":""},{"$f":"IF('Pivot Table Data'!O884=\"Yes\", 'Pivot Table Data'!T884, \"\")","v":""}]
[{"$f":"'Pivot Table Data'!B885","v":0},{"$f":"'Pivot Table Data'!F885","v":"Theater District Living & Learning"},{"$f":"'Pivot Table Data'!P885","v":"TDLLN"},{"$f":"'Pivot Table Data'!I885","v":"L3"},{"$f":"'Pivot Table Data'!J885","v":"UC Vehicle"},{"$f":"'Pivot Table Data'!K885","v":0},{"$f":"'Pivot Table Data'!L885","v":0},{"$f":"'Pivot Table Data'!S885","v":0},{"$f":"'Pivot Table Data'!T885","v":""},{"$f":"IF('Pivot Table Data'!O885=\"Yes\", 'Pivot Table Data'!T885, \"\")","v":""}]
[{"$f":"'Pivot Table Data'!B886","v":0},{"$f":"'Pivot Table Data'!F886","v":"Theater District Living & Learning"},{"$f":"'Pivot Table Data'!P886","v":"TDLLN"},{"$f":"'Pivot Table Data'!I886","v":"L3"},{"$f":"'Pivot Table Data'!J886","v":"Visitor"},{"$f":"'Pivot Table Data'!K886","v":0},{"$f":"'Pivot Table Data'!L886","v":0},{"$f":"'Pivot Table Data'!S886","v":0},{"$f":"'Pivot Table Data'!T886","v":""},{"$f":"IF('Pivot Table Data'!O886=\"Yes\", 'Pivot Table Data'!T886, \"\")","v":""}]
[{"$f":"'Pivot Table Data'!B887","v":0},{"$f":"'Pivot Table Data'!F887","v":"Theater District Living & Learning"},{"$f":"'Pivot Table Data'!P887","v":"TDLLN"},{"$f":"'Pivot Table Data'!I887","v":"L4"},{"$f":"'Pivot Table Data'!J887","v":"A"},{"$f":"'Pivot Table Data'!K887","v":0},{"$f":"'Pivot Table Data'!L887","v":0},{"$f":"'Pivot Table Data'!S887","v":0},{"$f":"'Pivot Table Data'!T887","v":""},{"$f":"IF('Pivot Table Data'!O887=\"Yes\", 'Pivot Table Data'!T887, \"\")","v":""}]
[{"$f":"'Pivot Table Data'!B888","v":0},{"$f":"'Pivot Table Data'!F888","v":"Theater District Living & Learning"},{"$f":"'Pivot Table Data'!P888","v":"TDLLN"},{"$f":"'Pivot Table Data'!I888","v":"L4"},{"$f":"'Pivot Table Data'!J888","v":"Accessible"},{"$f":"'Pivot Table Data'!K888","v":0},{"$f":"'Pivot Table Data'!L888","v":0},{"$f":"'Pivot Table Data'!S888","v":0},{"$f":"'Pivot Table Data'!T888","v":""},{"$f":"IF('Pivot Table Data'!O888=\"Yes\", 'Pivot Table Data'!T888, \"\")","v":""}]
[{"$f":"'Pivot Table Data'!B889","v":0},{"$f":"'Pivot Table Data'!F889","v":"Theater District Living & Learning"},{"$f":"'Pivot Table Data'!P889","v":"TDLLN"},{"$f":"'Pivot Table Data'!I889","v":"L4"},{"$f":"'Pivot Table Data'!J889","v":"Accessible (Van)"},{"$f":"'Pivot Table Data'!K889","v":0},{"$f":"'Pivot Table Data'!L889","v":0},{"$f":"'Pivot Table Data'!S889","v":0},{"$f":"'Pivot Table Data'!T889","v":""},{"$f":"IF('Pivot Table Data'!O889=\"Yes\", 'Pivot Table Data'!T889, \"\")","v":""}]
[{"$f":"'Pivot Table Data'!B890","v":0},{"$f":"'Pivot Table Data'!F890","v":"Theater District Living & Learning"},{"$f":"'Pivot Table Data'!P890","v":"TDLLN"},{"$f":"'Pivot Table Data'!I890","v":"L4"},{"$f":"'Pivot Table Data'!J890","v":"B"},{"$f":"'Pivot Table Data'!K890","v":0},{"$f":"'Pivot Table Data'!L890","v":0},{"$f":"'Pivot Table Data'!S890","v":196},{"$f":"'Pivot Table Data'!T890","v":""},{"$f":"IF('Pivot Table Data'!O890=\"Yes\", 'Pivot Table Data'!T890, \"\")","v":""}]
[{"$f":"'Pivot Table Data'!B891","v":0},{"$f":"'Pivot Table Data'!F891","v":"Theater District Living & Learning"},{"$f":"'Pivot Table Data'!P891","v":"TDLLN"},{"$f":"'Pivot Table Data'!I891","v":"L4"},{"$f":"'Pivot Table Data'!J891","v":"Carpool"},{"$f":"'Pivot Table Data'!K891","v":0},{"$f":"'Pivot Table Data'!L891","v":0},{"$f":"'Pivot Table Data'!S891","v":0},{"$f":"'Pivot Table Data'!T891","v":""},{"$f":"IF('Pivot Table Data'!O891=\"Yes\", 'Pivot Table Data'!T891, \"\")","v":""}]
[{"$f":"'Pivot Table Data'!B892","v":0},{"$f":"'Pivot Table Data'!F892","v":"Theater District Living & Learning"},{"$f":"'Pivot Table Data'!P892","v":"TDLLN"},{"$f":"'Pivot Table Data'!I892","v":"L4"},{"$f":"'Pivot Table Data'!J892","v":"Electric Vehicle"},{"$f":"'Pivot Table Data'!K892","v":"ADA"},{"$f":"'Pivot Table Data'!L892","v":0},{"$f":"'Pivot Table Data'!S892","v":0},{"$f":"'Pivot Table Data'!T892","v":""},{"$f":"IF('Pivot Table Data'!O892=\"Yes\", 'Pivot Table Data'!T892, \"\")","v":""}]
[{"$f":"'Pivot Table Data'!B893","v":0},{"$f":"'Pivot Table Data'!F893","v":"Theater District Living & Learning"},{"$f":"'Pivot Table Data'!P893","v":"TDLLN"},{"$f":"'Pivot Table Data'!I893","v":"L4"},{"$f":"'Pivot Table Data'!J893","v":"Electric Vehicle"},{"$f":"'Pivot Table Data'!K893","v":0},{"$f":"'Pivot Table Data'!L893","v":0},{"$f":"'Pivot Table Data'!S893","v":0},{"$f":"'Pivot Table Data'!T893","v":""},{"$f":"IF('Pivot Table Data'!O893=\"Yes\", 'Pivot Table Data'!T893, \"\")","v":""}]
[{"$f":"'Pivot Table Data'!B894","v":0},{"$f":"'Pivot Table Data'!F894","v":"Theater District Living & Learning"},{"$f":"'Pivot Table Data'!P894","v":"TDLLN"},{"$f":"'Pivot Table Data'!I894","v":"L4"},{"$f":"'Pivot Table Data'!J894","v":"Motorcycle Section"},{"$f":"'Pivot Table Data'!K894","v":0},{"$f":"'Pivot Table Data'!L894","v":0},{"$f":"'Pivot Table Data'!S894","v":0},{"$f":"'Pivot Table Data'!T894","v":""},{"$f":"IF('Pivot Table Data'!O894=\"Yes\", 'Pivot Table Data'!T894, \"\")","v":""}]
[{"$f":"'Pivot Table Data'!B895","v":0},{"$f":"'Pivot Table Data'!F895","v":"Theater District Living & Learning"},{"$f":"'Pivot Table Data'!P895","v":"TDLLN"},{"$f":"'Pivot Table Data'!I895","v":"L4"},{"$f":"'Pivot Table Data'!J895","v":"Reserved"},{"$f":"'Pivot Table Data'!K895","v":0},{"$f":"'Pivot Table Data'!L895","v":0},{"$f":"'Pivot Table Data'!S895","v":0},{"$f":"'Pivot Table Data'!T895","v":""},{"$f":"IF('Pivot Table Data'!O895=\"Yes\", 'Pivot Table Data'!T895, \"\")","v":""}]
[{"$f":"'Pivot Table Data'!B896","v":0},{"$f":"'Pivot Table Data'!F896","v":"Theater District Living & Learning"},{"$f":"'Pivot Table Data'!P896","v":"TDLLN"},{"$f":"'Pivot Table Data'!I896","v":"L4"},{"$f":"'Pivot Table Data'!J896","v":"Service Yard"},{"$f":"'Pivot Table Data'!K896","v":0},{"$f":"'Pivot Table Data'!L896","v":0},{"$f":"'Pivot Table Data'!S896","v":0},{"$f":"'Pivot Table Data'!T896","v":""},{"$f":"IF('Pivot Table Data'!O896=\"Yes\", 'Pivot Table Data'!T896, \"\")","v":""}]
[{"$f":"'Pivot Table Data'!B897","v":0},{"$f":"'Pivot Table Data'!F897","v":"Theater District Living & Learning"},{"$f":"'Pivot Table Data'!P897","v":"TDLLN"},{"$f":"'Pivot Table Data'!I897","v":"L4"},{"$f":"'Pivot Table Data'!J897","v":"SR"},{"$f":"'Pivot Table Data'!K897","v":0},{"$f":"'Pivot Table Data'!L897","v":0},{"$f":"'Pivot Table Data'!S897","v":91},{"$f":"'Pivot Table Data'!T897","v":""},{"$f":"IF('Pivot Table Data'!O897=\"Yes\", 'Pivot Table Data'!T897, \"\")","v":""}]
[{"$f":"'Pivot Table Data'!B898","v":0},{"$f":"'Pivot Table Data'!F898","v":"Theater District Living & Learning"},{"$f":"'Pivot Table Data'!P898","v":"TDLLN"},{"$f":"'Pivot Table Data'!I898","v":"L4"},{"$f":"'Pivot Table Data'!J898","v":"UC Cart"},{"$f":"'Pivot Table Data'!K898","v":0},{"$f":"'Pivot Table Data'!L898","v":0},{"$f":"'Pivot Table Data'!S898","v":0},{"$f":"'Pivot Table Data'!T898","v":""},{"$f":"IF('Pivot Table Data'!O898=\"Yes\", 'Pivot Table Data'!T898, \"\")","v":""}]
[{"$f":"'Pivot Table Data'!B899","v":0},{"$f":"'Pivot Table Data'!F899","v":"Theater District Living & Learning"},{"$f":"'Pivot Table Data'!P899","v":"TDLLN"},{"$f":"'Pivot Table Data'!I899","v":"L4"},{"$f":"'Pivot Table Data'!J899","v":"UC Vehicle"},{"$f":"'Pivot Table Data'!K899","v":0},{"$f":"'Pivot Table Data'!L899","v":0},{"$f":"'Pivot Table Data'!S899","v":0},{"$f":"'Pivot Table Data'!T899","v":""},{"$f":"IF('Pivot Table Data'!O899=\"Yes\", 'Pivot Table Data'!T899, \"\")","v":""}]
[{"$f":"'Pivot Table Data'!B900","v":0},{"$f":"'Pivot Table Data'!F900","v":"Theater District Living & Learning"},{"$f":"'Pivot Table Data'!P900","v":"TDLLN"},{"$f":"'Pivot Table Data'!I900","v":"L4"},{"$f":"'Pivot Table Data'!J900","v":"Visitor"},{"$f":"'Pivot Table Data'!K900","v":0},{"$f":"'Pivot Table Data'!L900","v":0},{"$f":"'Pivot Table Data'!S900","v":0},{"$f":"'Pivot Table Data'!T900","v":""},{"$f":"IF('Pivot Table Data'!O900=\"Yes\", 'Pivot Table Data'!T900, \"\")","v":""}]
[{"$f":"'Pivot Table Data'!B901","v":0},{"$f":"'Pivot Table Data'!F901","v":"Torrey Pines Center"},{"$f":"'Pivot Table Data'!P901","v":"Torrey Pines Center North"},{"$f":"'Pivot Table Data'!I901","v":"-"},{"$f":"'Pivot Table Data'!J901","v":"Accessible"},{"$f":"'Pivot Table Data'!K901","v":0},{"$f":"'Pivot Table Data'!L901","v":0},{"$f":"'Pivot Table Data'!S901","v":1},{"$f":"'Pivot Table Data'!T901","v":3},{"$f":"IF('Pivot Table Data'!O901=\"Yes\", 'Pivot Table Data'!T901, \"\")","v":""}]
[{"$f":"'Pivot Table Data'!B902","v":0},{"$f":"'Pivot Table Data'!F902","v":"Torrey Pines Center"},{"$f":"'Pivot Table Data'!P902","v":"Torrey Pines Center North"},{"$f":"'Pivot Table Data'!I902","v":"-"},{"$f":"'Pivot Table Data'!J902","v":"Accessible (Van)"},{"$f":"'Pivot Table Data'!K902","v":0},{"$f":"'Pivot Table Data'!L902","v":0},{"$f":"'Pivot Table Data'!S902","v":2},{"$f":"'Pivot Table Data'!T902","v":2},{"$f":"IF('Pivot Table Data'!O902=\"Yes\", 'Pivot Table Data'!T902, \"\")","v":""}]
[{"$f":"'Pivot Table Data'!B903","v":0},{"$f":"'Pivot Table Data'!F903","v":"Torrey Pines Center"},{"$f":"'Pivot Table Data'!P903","v":"Torrey Pines Center North"},{"$f":"'Pivot Table Data'!I903","v":"-"},{"$f":"'Pivot Table Data'!J903","v":"B"},{"$f":"'Pivot Table Data'!K903","v":"Oversized"},{"$f":"'Pivot Table Data'!L903","v":0},{"$f":"'Pivot Table Data'!S903","v":5},{"$f":"'Pivot Table Data'!T903","v":5},{"$f":"IF('Pivot Table Data'!O903=\"Yes\", 'Pivot Table Data'!T903, \"\")","v":5}]
[{"$f":"'Pivot Table Data'!B904","v":0},{"$f":"'Pivot Table Data'!F904","v":"Torrey Pines Center"},{"$f":"'Pivot Table Data'!P904","v":"Torrey Pines Center North"},{"$f":"'Pivot Table Data'!I904","v":"-"},{"$f":"'Pivot Table Data'!J904","v":"B"},{"$f":"'Pivot Table Data'!K904","v":0},{"$f":"'Pivot Table Data'!L904","v":0},{"$f":"'Pivot Table Data'!S904","v":18},{"$f":"'Pivot Table Data'!T904","v":183},{"$f":"IF('Pivot Table Data'!O904=\"Yes\", 'Pivot Table Data'!T904, \"\")","v":183}]
[{"$f":"'Pivot Table Data'!B905","v":0},{"$f":"'Pivot Table Data'!F905","v":"Torrey Pines Center"},{"$f":"'Pivot Table Data'!P905","v":"Torrey Pines Center North"},{"$f":"'Pivot Table Data'!I905","v":"-"},{"$f":"'Pivot Table Data'!J905","v":"Loading"},{"$f":"'Pivot Table Data'!K905","v":0},{"$f":"'Pivot Table Data'!L905","v":0},{"$f":"'Pivot Table Data'!S905","v":1},{"$f":"'Pivot Table Data'!T905","v":1},{"$f":"IF('Pivot Table Data'!O905=\"Yes\", 'Pivot Table Data'!T905, \"\")","v":""}]
[{"$f":"'Pivot Table Data'!B906","v":0},{"$f":"'Pivot Table Data'!F906","v":"Torrey Pines Center"},{"$f":"'Pivot Table Data'!P906","v":"Torrey Pines Center North"},{"$f":"'Pivot Table Data'!I906","v":"-"},{"$f":"'Pivot Table Data'!J906","v":"Reserved"},{"$f":"'Pivot Table Data'!K906","v":0},{"$f":"'Pivot Table Data'!L906","v":0},{"$f":"'Pivot Table Data'!S906","v":7},{"$f":"'Pivot Table Data'!T906","v":10},{"$f":"IF('Pivot Table Data'!O906=\"Yes\", 'Pivot Table Data'!T906, \"\")","v":""}]
[{"$f":"'Pivot Table Data'!B907","v":0},{"$f":"'Pivot Table Data'!F907","v":"Torrey Pines Center"},{"$f":"'Pivot Table Data'!P907","v":"Torrey Pines Center North"},{"$f":"'Pivot Table Data'!I907","v":"-"},{"$f":"'Pivot Table Data'!J907","v":"Service Yard"},{"$f":"'Pivot Table Data'!K907","v":0},{"$f":"'Pivot Table Data'!L907","v":0},{"$f":"'Pivot Table Data'!S907","v":1},{"$f":"'Pivot Table Data'!T907","v":1},{"$f":"IF('Pivot Table Data'!O907=\"Yes\", 'Pivot Table Data'!T907, \"\")","v":""}]
[{"$f":"'Pivot Table Data'!B908","v":0},{"$f":"'Pivot Table Data'!F908","v":"Torrey Pines Center"},{"$f":"'Pivot Table Data'!P908","v":"Torrey Pines Center North"},{"$f":"'Pivot Table Data'!I908","v":"-"},{"$f":"'Pivot Table Data'!J908","v":"B"},{"$f":"'Pivot Table Data'!K908","v":0},{"$f":"'Pivot Table Data'!L908","v":0},{"$f":"'Pivot Table Data'!S908","v":80},{"$f":"'Pivot Table Data'!T908","v":""},{"$f":"IF('Pivot Table Data'!O908=\"Yes\", 'Pivot Table Data'!T908, \"\")","v":""}]
[{"$f":"'Pivot Table Data'!B909","v":0},{"$f":"'Pivot Table Data'!F909","v":"Torrey Pines Center"},{"$f":"'Pivot Table Data'!P909","v":"Torrey Pines Center North"},{"$f":"'Pivot Table Data'!I909","v":"-"},{"$f":"'Pivot Table Data'!J909","v":"Carpool"},{"$f":"'Pivot Table Data'!K909","v":"A 3-Person"},{"$f":"'Pivot Table Data'!L909","v":0},{"$f":"'Pivot Table Data'!S909","v":1},{"$f":"'Pivot Table Data'!T909","v":1},{"$f":"IF('Pivot Table Data'!O909=\"Yes\", 'Pivot Table Data'!T909, \"\")","v":1}]
[{"$f":"'Pivot Table Data'!B910","v":0},{"$f":"'Pivot Table Data'!F910","v":"Torrey Pines Center"},{"$f":"'Pivot Table Data'!P910","v":"Torrey Pines Center North"},{"$f":"'Pivot Table Data'!I910","v":"-"},{"$f":"'Pivot Table Data'!J910","v":"Motorcycle Section"},{"$f":"'Pivot Table Data'!K910","v":0},{"$f":"'Pivot Table Data'!L910","v":0},{"$f":"'Pivot Table Data'!S910","v":2},{"$f":"'Pivot Table Data'!T910","v":2},{"$f":"IF('Pivot Table Data'!O910=\"Yes\", 'Pivot Table Data'!T910, \"\")","v":""}]
[{"$f":"'Pivot Table Data'!B911","v":0},{"$f":"'Pivot Table Data'!F911","v":"Torrey Pines Center"},{"$f":"'Pivot Table Data'!P911","v":"Torrey Pines Center North"},{"$f":"'Pivot Table Data'!I911","v":"-"},{"$f":"'Pivot Table Data'!J911","v":"B"},{"$f":"'Pivot Table Data'!K911","v":0},{"$f":"'Pivot Table Data'!L911","v":0},{"$f":"'Pivot Table Data'!S911","v":29},{"$f":"'Pivot Table Data'!T911","v":""},{"$f":"IF('Pivot Table Data'!O911=\"Yes\", 'Pivot Table Data'!T911, \"\")","v":""}]
[{"$f":"'Pivot Table Data'!B912","v":0},{"$f":"'Pivot Table Data'!F912","v":"Torrey Pines Center"},{"$f":"'Pivot Table Data'!P912","v":"Torrey Pines Center North"},{"$f":"'Pivot Table Data'!I912","v":"-"},{"$f":"'Pivot Table Data'!J912","v":"S"},{"$f":"'Pivot Table Data'!K912","v":0},{"$f":"'Pivot Table Data'!L912","v":0},{"$f":"'Pivot Table Data'!S912","v":5},{"$f":"'Pivot Table Data'!T912","v":5},{"$f":"IF('Pivot Table Data'!O912=\"Yes\", 'Pivot Table Data'!T912, \"\")","v":5}]
[{"$f":"'Pivot Table Data'!B913","v":0},{"$f":"'Pivot Table Data'!F913","v":"Torrey Pines Center"},{"$f":"'Pivot Table Data'!P913","v":"Torrey Pines Center North"},{"$f":"'Pivot Table Data'!I913","v":"-"},{"$f":"'Pivot Table Data'!J913","v":"B"},{"$f":"'Pivot Table Data'!K913","v":0},{"$f":"'Pivot Table Data'!L913","v":0},{"$f":"'Pivot Table Data'!S913","v":55},{"$f":"'Pivot Table Data'!T913","v":""},{"$f":"IF('Pivot Table Data'!O913=\"Yes\", 'Pivot Table Data'!T913, \"\")","v":""}]
[{"$f":"'Pivot Table Data'!B914","v":0},{"$f":"'Pivot Table Data'!F914","v":"Torrey Pines Center"},{"$f":"'Pivot Table Data'!P914","v":"Torrey Pines Center North"},{"$f":"'Pivot Table Data'!I914","v":"-"},{"$f":"'Pivot Table Data'!J914","v":"Accessible"},{"$f":"'Pivot Table Data'!K914","v":0},{"$f":"'Pivot Table Data'!L914","v":0},{"$f":"'Pivot Table Data'!S914","v":2},{"$f":"'Pivot Table Data'!T914","v":""},{"$f":"IF('Pivot Table Data'!O914=\"Yes\", 'Pivot Table Data'!T914, \"\")","v":""}]
[{"$f":"'Pivot Table Data'!B915","v":0},{"$f":"'Pivot Table Data'!F915","v":"Torrey Pines Center"},{"$f":"'Pivot Table Data'!P915","v":"Torrey Pines Center North"},{"$f":"'Pivot Table Data'!I915","v":"-"},{"$f":"'Pivot Table Data'!J915","v":"Accessible (Van)"},{"$f":"'Pivot Table Data'!K915","v":0},{"$f":"'Pivot Table Data'!L915","v":0},{"$f":"'Pivot Table Data'!S915","v":0},{"$f":"'Pivot Table Data'!T915","v":""},{"$f":"IF('Pivot Table Data'!O915=\"Yes\", 'Pivot Table Data'!T915, \"\")","v":""}]
[{"$f":"'Pivot Table Data'!B916","v":0},{"$f":"'Pivot Table Data'!F916","v":"Torrey Pines Center"},{"$f":"'Pivot Table Data'!P916","v":"Torrey Pines Center North"},{"$f":"'Pivot Table Data'!I916","v":"-"},{"$f":"'Pivot Table Data'!J916","v":"B"},{"$f":"'Pivot Table Data'!K916","v":0},{"$f":"'Pivot Table Data'!L916","v":0},{"$f":"'Pivot Table Data'!S916","v":1},{"$f":"'Pivot Table Data'!T916","v":""},{"$f":"IF('Pivot Table Data'!O916=\"Yes\", 'Pivot Table Data'!T916, \"\")","v":""}]
[{"$f":"'Pivot Table Data'!B917","v":0},{"$f":"'Pivot Table Data'!F917","v":"Torrey Pines Center"},{"$f":"'Pivot Table Data'!P917","v":"Torrey Pines Center North"},{"$f":"'Pivot Table Data'!I917","v":"-"},{"$f":"'Pivot Table Data'!J917","v":"Reserved"},{"$f":"'Pivot Table Data'!K917","v":"Vanpool"},{"$f":"'Pivot Table Data'!L917","v":0},{"$f":"'Pivot Table Data'!S917","v":1},{"$f":"'Pivot Table Data'!T917","v":1},{"$f":"IF('Pivot Table Data'!O917=\"Yes\", 'Pivot Table Data'!T917, \"\")","v":""}]
[{"$f":"'Pivot Table Data'!B918","v":0},{"$f":"'Pivot Table Data'!F918","v":"Torrey Pines Center"},{"$f":"'Pivot Table Data'!P918","v":"Torrey Pines Center North"},{"$f":"'Pivot Table Data'!I918","v":"-"},{"$f":"'Pivot Table Data'!J918","v":"Reserved"},{"$f":"'Pivot Table Data'!K918","v":0},{"$f":"'Pivot Table Data'!L918","v":0},{"$f":"'Pivot Table Data'!S918","v":3},{"$f":"'Pivot Table Data'!T918","v":""},{"$f":"IF('Pivot Table Data'!O918=\"Yes\", 'Pivot Table Data'!T918, \"\")","v":""}]
[{"$f":"'Pivot Table Data'!B919","v":0},{"$f":"'Pivot Table Data'!F919","v":"Torrey Pines Center"},{"$f":"'Pivot Table Data'!P919","v":"Torrey Pines Center North"},{"$f":"'Pivot Table Data'!I919","v":"-"},{"$f":"'Pivot Table Data'!J919","v":"Visitor"},{"$f":"'Pivot Table Data'!K919","v":0},{"$f":"'Pivot Table Data'!L919","v":0},{"$f":"'Pivot Table Data'!S919","v":10},{"$f":"'Pivot Table Data'!T919","v":10},{"$f":"IF('Pivot Table Data'!O919=\"Yes\", 'Pivot Table Data'!T919, \"\")","v":10}]
[{"$f":"'Pivot Table Data'!B920","v":0},{"$f":"'Pivot Table Data'!F920","v":"Torrey Pines Center"},{"$f":"'Pivot Table Data'!P920","v":"Torrey Pines Center South"},{"$f":"'Pivot Table Data'!I920","v":"Ground (Level 2)"},{"$f":"'Pivot Table Data'!J920","v":"Accessible"},{"$f":"'Pivot Table Data'!K920","v":0},{"$f":"'Pivot Table Data'!L920","v":0},{"$f":"'Pivot Table Data'!S920","v":6},{"$f":"'Pivot Table Data'!T920","v":16},{"$f":"IF('Pivot Table Data'!O920=\"Yes\", 'Pivot Table Data'!T920, \"\")","v":""}]
[{"$f":"'Pivot Table Data'!B921","v":0},{"$f":"'Pivot Table Data'!F921","v":"Torrey Pines Center"},{"$f":"'Pivot Table Data'!P921","v":"Torrey Pines Center South"},{"$f":"'Pivot Table Data'!I921","v":"Ground (Level 2)"},{"$f":"'Pivot Table Data'!J921","v":"Accessible (Van)"},{"$f":"'Pivot Table Data'!K921","v":0},{"$f":"'Pivot Table Data'!L921","v":0},{"$f":"'Pivot Table Data'!S921","v":0},{"$f":"'Pivot Table Data'!T921","v":0},{"$f":"IF('Pivot Table Data'!O921=\"Yes\", 'Pivot Table Data'!T921, \"\")","v":""}]
[{"$f":"'Pivot Table Data'!B922","v":0},{"$f":"'Pivot Table Data'!F922","v":"Torrey Pines Center"},{"$f":"'Pivot Table Data'!P922","v":"Torrey Pines Center South"},{"$f":"'Pivot Table Data'!I922","v":"Ground (Level 2)"},{"$f":"'Pivot Table Data'!J922","v":"B"},{"$f":"'Pivot Table Data'!K922","v":0},{"$f":"'Pivot Table Data'!L922","v":0},{"$f":"'Pivot Table Data'!S922","v":98},{"$f":"'Pivot Table Data'!T922","v":373},{"$f":"IF('Pivot Table Data'!O922=\"Yes\", 'Pivot Table Data'!T922, \"\")","v":373}]
[{"$f":"'Pivot Table Data'!B923","v":0},{"$f":"'Pivot Table Data'!F923","v":"Torrey Pines Center"},{"$f":"'Pivot Table Data'!P923","v":"Torrey Pines Center South"},{"$f":"'Pivot Table Data'!I923","v":"Ground (Level 2)"},{"$f":"'Pivot Table Data'!J923","v":"Carpool"},{"$f":"'Pivot Table Data'!K923","v":"B 3-Person"},{"$f":"'Pivot Table Data'!L923","v":0},{"$f":"'Pivot Table Data'!S923","v":4},{"$f":"'Pivot Table Data'!T923","v":10},{"$f":"IF('Pivot Table Data'!O923=\"Yes\", 'Pivot Table Data'!T923, \"\")","v":10}]
[{"$f":"'Pivot Table Data'!B924","v":0},{"$f":"'Pivot Table Data'!F924","v":"Torrey Pines Center"},{"$f":"'Pivot Table Data'!P924","v":"Torrey Pines Center South"},{"$f":"'Pivot Table Data'!I924","v":"Ground (Level 2)"},{"$f":"'Pivot Table Data'!J924","v":"Loading"},{"$f":"'Pivot Table Data'!K924","v":0},{"$f":"'Pivot Table Data'!L924","v":"20 minutes"},{"$f":"'Pivot Table Data'!S924","v":2},{"$f":"'Pivot Table Data'!T924","v":2},{"$f":"IF('Pivot Table Data'!O924=\"Yes\", 'Pivot Table Data'!T924, \"\")","v":""}]
[{"$f":"'Pivot Table Data'!B925","v":0},{"$f":"'Pivot Table Data'!F925","v":"Torrey Pines Center"},{"$f":"'Pivot Table Data'!P925","v":"Torrey Pines Center South"},{"$f":"'Pivot Table Data'!I925","v":"Ground (Level 2)"},{"$f":"'Pivot Table Data'!J925","v":"Motorcycle Section"},{"$f":"'Pivot Table Data'!K925","v":0},{"$f":"'Pivot Table Data'!L925","v":0},{"$f":"'Pivot Table Data'!S925","v":2},{"$f":"'Pivot Table Data'!T925","v":10},{"$f":"IF('Pivot Table Data'!O925=\"Yes\", 'Pivot Table Data'!T925, \"\")","v":""}]
[{"$f":"'Pivot Table Data'!B926","v":0},{"$f":"'Pivot Table Data'!F926","v":"Torrey Pines Center"},{"$f":"'Pivot Table Data'!P926","v":"Torrey Pines Center South"},{"$f":"'Pivot Table Data'!I926","v":"Ground (Level 2)"},{"$f":"'Pivot Table Data'!J926","v":"Reserved"},{"$f":"'Pivot Table Data'!K926","v":"EH&S"},{"$f":"'Pivot Table Data'!L926","v":0},{"$f":"'Pivot Table Data'!S926","v":3},{"$f":"'Pivot Table Data'!T926","v":3},{"$f":"IF('Pivot Table Data'!O926=\"Yes\", 'Pivot Table Data'!T926, \"\")","v":""}]
[{"$f":"'Pivot Table Data'!B927","v":0},{"$f":"'Pivot Table Data'!F927","v":"Torrey Pines Center"},{"$f":"'Pivot Table Data'!P927","v":"Torrey Pines Center South"},{"$f":"'Pivot Table Data'!I927","v":"Ground (Level 2)"},{"$f":"'Pivot Table Data'!J927","v":"Reserved"},{"$f":"'Pivot Table Data'!K927","v":"Emergency Response Veh"},{"$f":"'Pivot Table Data'!L927","v":0},{"$f":"'Pivot Table Data'!S927","v":1},{"$f":"'Pivot Table Data'!T927","v":2},{"$f":"IF('Pivot Table Data'!O927=\"Yes\", 'Pivot Table Data'!T927, \"\")","v":""}]
[{"$f":"'Pivot Table Data'!B928","v":0},{"$f":"'Pivot Table Data'!F928","v":"Torrey Pines Center"},{"$f":"'Pivot Table Data'!P928","v":"Torrey Pines Center South"},{"$f":"'Pivot Table Data'!I928","v":"Ground (Level 2)"},{"$f":"'Pivot Table Data'!J928","v":"Reserved"},{"$f":"'Pivot Table Data'!K928","v":"Office"},{"$f":"'Pivot Table Data'!L928","v":0},{"$f":"'Pivot Table Data'!S928","v":2},{"$f":"'Pivot Table Data'!T928","v":2},{"$f":"IF('Pivot Table Data'!O928=\"Yes\", 'Pivot Table Data'!T928, \"\")","v":""}]
[{"$f":"'Pivot Table Data'!B929","v":0},{"$f":"'Pivot Table Data'!F929","v":"Torrey Pines Center"},{"$f":"'Pivot Table Data'!P929","v":"Torrey Pines Center South"},{"$f":"'Pivot Table Data'!I929","v":"Ground (Level 2)"},{"$f":"'Pivot Table Data'!J929","v":"Reserved"},{"$f":"'Pivot Table Data'!K929","v":"Property Manager"},{"$f":"'Pivot Table Data'!L929","v":0},{"$f":"'Pivot Table Data'!S929","v":3},{"$f":"'Pivot Table Data'!T929","v":3},{"$f":"IF('Pivot Table Data'!O929=\"Yes\", 'Pivot Table Data'!T929, \"\")","v":""}]
[{"$f":"'Pivot Table Data'!B930","v":0},{"$f":"'Pivot Table Data'!F930","v":"Torrey Pines Center"},{"$f":"'Pivot Table Data'!P930","v":"Torrey Pines Center South"},{"$f":"'Pivot Table Data'!I930","v":"Ground (Level 2)"},{"$f":"'Pivot Table Data'!J930","v":"UC Vehicle"},{"$f":"'Pivot Table Data'!K930","v":"UC Electric Cart"},{"$f":"'Pivot Table Data'!L930","v":0},{"$f":"'Pivot Table Data'!S930","v":6},{"$f":"'Pivot Table Data'!T930","v":12},{"$f":"IF('Pivot Table Data'!O930=\"Yes\", 'Pivot Table Data'!T930, \"\")","v":""}]
[{"$f":"'Pivot Table Data'!B931","v":0},{"$f":"'Pivot Table Data'!F931","v":"Torrey Pines Center"},{"$f":"'Pivot Table Data'!P931","v":"Torrey Pines Center South"},{"$f":"'Pivot Table Data'!I931","v":"Ground (Level 2)"},{"$f":"'Pivot Table Data'!J931","v":"UC Vehicle"},{"$f":"'Pivot Table Data'!K931","v":0},{"$f":"'Pivot Table Data'!L931","v":0},{"$f":"'Pivot Table Data'!S931","v":2},{"$f":"'Pivot Table Data'!T931","v":20},{"$f":"IF('Pivot Table Data'!O931=\"Yes\", 'Pivot Table Data'!T931, \"\")","v":""}]
[{"$f":"'Pivot Table Data'!B932","v":0},{"$f":"'Pivot Table Data'!F932","v":"Torrey Pines Center"},{"$f":"'Pivot Table Data'!P932","v":"Torrey Pines Center South"},{"$f":"'Pivot Table Data'!I932","v":"Ground (Level 2)"},{"$f":"'Pivot Table Data'!J932","v":"UC Vehicle"},{"$f":"'Pivot Table Data'!K932","v":0},{"$f":"'Pivot Table Data'!L932","v":0},{"$f":"'Pivot Table Data'!S932","v":10},{"$f":"'Pivot Table Data'!T932","v":""},{"$f":"IF('Pivot Table Data'!O932=\"Yes\", 'Pivot Table Data'!T932, \"\")","v":""}]
[{"$f":"'Pivot Table Data'!B933","v":0},{"$f":"'Pivot Table Data'!F933","v":"Torrey Pines Center"},{"$f":"'Pivot Table Data'!P933","v":"Torrey Pines Center South"},{"$f":"'Pivot Table Data'!I933","v":"Basement (Level 1)"},{"$f":"'Pivot Table Data'!J933","v":"Accessible"},{"$f":"'Pivot Table Data'!K933","v":0},{"$f":"'Pivot Table Data'!L933","v":0},{"$f":"'Pivot Table Data'!S933","v":4},{"$f":"'Pivot Table Data'!T933","v":""},{"$f":"IF('Pivot Table Data'!O933=\"Yes\", 'Pivot Table Data'!T933, \"\")","v":""}]
[{"$f":"'Pivot Table Data'!B934","v":0},{"$f":"'Pivot Table Data'!F934","v":"Torrey Pines Center"},{"$f":"'Pivot Table Data'!P934","v":"Torrey Pines Center South"},{"$f":"'Pivot Table Data'!I934","v":"Basement (Level 1)"},{"$f":"'Pivot Table Data'!J934","v":"Accessible (Van)"},{"$f":"'Pivot Table Data'!K934","v":0},{"$f":"'Pivot Table Data'!L934","v":0},{"$f":"'Pivot Table Data'!S934","v":0},{"$f":"'Pivot Table Data'!T934","v":""},{"$f":"IF('Pivot Table Data'!O934=\"Yes\", 'Pivot Table Data'!T934, \"\")","v":""}]
[{"$f":"'Pivot Table Data'!B935","v":0},{"$f":"'Pivot Table Data'!F935","v":"Torrey Pines Center"},{"$f":"'Pivot Table Data'!P935","v":"Torrey Pines Center South"},{"$f":"'Pivot Table Data'!I935","v":"Basement (Level 1)"},{"$f":"'Pivot Table Data'!J935","v":"B"},{"$f":"'Pivot Table Data'!K935","v":0},{"$f":"'Pivot Table Data'!L935","v":0},{"$f":"'Pivot Table Data'!S935","v":275},{"$f":"'Pivot Table Data'!T935","v":""},{"$f":"IF('Pivot Table Data'!O935=\"Yes\", 'Pivot Table Data'!T935, \"\")","v":""}]
[{"$f":"'Pivot Table Data'!B936","v":0},{"$f":"'Pivot Table Data'!F936","v":"Torrey Pines Center"},{"$f":"'Pivot Table Data'!P936","v":"Torrey Pines Center South"},{"$f":"'Pivot Table Data'!I936","v":"Basement (Level 1)"},{"$f":"'Pivot Table Data'!J936","v":"Carpool"},{"$f":"'Pivot Table Data'!K936","v":"B 3-Person"},{"$f":"'Pivot Table Data'!L936","v":0},{"$f":"'Pivot Table Data'!S936","v":6},{"$f":"'Pivot Table Data'!T936","v":""},{"$f":"IF('Pivot Table Data'!O936=\"Yes\", 'Pivot Table Data'!T936, \"\")","v":""}]
[{"$f":"'Pivot Table Data'!B937","v":0},{"$f":"'Pivot Table Data'!F937","v":"Torrey Pines Center"},{"$f":"'Pivot Table Data'!P937","v":"Torrey Pines Center South"},{"$f":"'Pivot Table Data'!I937","v":"Basement (Level 1)"},{"$f":"'Pivot Table Data'!J937","v":"Electric Vehicle"},{"$f":"'Pivot Table Data'!K937","v":0},{"$f":"'Pivot Table Data'!L937","v":0},{"$f":"'Pivot Table Data'!S937","v":10},{"$f":"'Pivot Table Data'!T937","v":10},{"$f":"IF('Pivot Table Data'!O937=\"Yes\", 'Pivot Table Data'!T937, \"\")","v":""}]
[{"$f":"'Pivot Table Data'!B938","v":0},{"$f":"'Pivot Table Data'!F938","v":"Torrey Pines Center"},{"$f":"'Pivot Table Data'!P938","v":"Torrey Pines Center South"},{"$f":"'Pivot Table Data'!I938","v":"Basement (Level 1)"},{"$f":"'Pivot Table Data'!J938","v":"Motorcycle Section"},{"$f":"'Pivot Table Data'!K938","v":0},{"$f":"'Pivot Table Data'!L938","v":0},{"$f":"'Pivot Table Data'!S938","v":8},{"$f":"'Pivot Table Data'!T938","v":""},{"$f":"IF('Pivot Table Data'!O938=\"Yes\", 'Pivot Table Data'!T938, \"\")","v":""}]
[{"$f":"'Pivot Table Data'!B939","v":0},{"$f":"'Pivot Table Data'!F939","v":"Torrey Pines Center"},{"$f":"'Pivot Table Data'!P939","v":"Torrey Pines Center South"},{"$f":"'Pivot Table Data'!I939","v":"Basement (Level 1)"},{"$f":"'Pivot Table Data'!J939","v":"Reserved"},{"$f":"'Pivot Table Data'!K939","v":"Emergency Response Veh"},{"$f":"'Pivot Table Data'!L939","v":0},{"$f":"'Pivot Table Data'!S939","v":1},{"$f":"'Pivot Table Data'!T939","v":""},{"$f":"IF('Pivot Table Data'!O939=\"Yes\", 'Pivot Table Data'!T939, \"\")","v":""}]
[{"$f":"'Pivot Table Data'!B940","v":0},{"$f":"'Pivot Table Data'!F940","v":"Torrey Pines Center"},{"$f":"'Pivot Table Data'!P940","v":"Torrey Pines Center South"},{"$f":"'Pivot Table Data'!I940","v":"Basement (Level 1)"},{"$f":"'Pivot Table Data'!J940","v":"Reserved"},{"$f":"'Pivot Table Data'!K940","v":0},{"$f":"'Pivot Table Data'!L940","v":0},{"$f":"'Pivot Table Data'!S940","v":2},{"$f":"'Pivot Table Data'!T940","v":2},{"$f":"IF('Pivot Table Data'!O940=\"Yes\", 'Pivot Table Data'!T940, \"\")","v":""}]
[{"$f":"'Pivot Table Data'!B941","v":0},{"$f":"'Pivot Table Data'!F941","v":"Torrey Pines Center"},{"$f":"'Pivot Table Data'!P941","v":"Torrey Pines Center South"},{"$f":"'Pivot Table Data'!I941","v":"Basement (Level 1)"},{"$f":"'Pivot Table Data'!J941","v":"S"},{"$f":"'Pivot Table Data'!K941","v":0},{"$f":"'Pivot Table Data'!L941","v":0},{"$f":"'Pivot Table Data'!S941","v":0},{"$f":"'Pivot Table Data'!T941","v":0},{"$f":"IF('Pivot Table Data'!O941=\"Yes\", 'Pivot Table Data'!T941, \"\")","v":0}]
[{"$f":"'Pivot Table Data'!B942","v":0},{"$f":"'Pivot Table Data'!F942","v":"Torrey Pines Center"},{"$f":"'Pivot Table Data'!P942","v":"Torrey Pines Center South"},{"$f":"'Pivot Table Data'!I942","v":"Basement (Level 1)"},{"$f":"'Pivot Table Data'!J942","v":"UC Vehicle"},{"$f":"'Pivot Table Data'!K942","v":"UC Electric Cart"},{"$f":"'Pivot Table Data'!L942","v":0},{"$f":"'Pivot Table Data'!S942","v":6},{"$f":"'Pivot Table Data'!T942","v":""},{"$f":"IF('Pivot Table Data'!O942=\"Yes\", 'Pivot Table Data'!T942, \"\")","v":""}]
[{"$f":"'Pivot Table Data'!B943","v":0},{"$f":"'Pivot Table Data'!F943","v":"Torrey Pines Center"},{"$f":"'Pivot Table Data'!P943","v":"Torrey Pines Center South"},{"$f":"'Pivot Table Data'!I943","v":"Basement (Level 1)"},{"$f":"'Pivot Table Data'!J943","v":"Visitor"},{"$f":"'Pivot Table Data'!K943","v":0},{"$f":"'Pivot Table Data'!L943","v":0},{"$f":"'Pivot Table Data'!S943","v":9},{"$f":"'Pivot Table Data'!T943","v":17},{"$f":"IF('Pivot Table Data'!O943=\"Yes\", 'Pivot Table Data'!T943, \"\")","v":17}]
[{"$f":"'Pivot Table Data'!B944","v":0},{"$f":"'Pivot Table Data'!F944","v":"Torrey Pines Center"},{"$f":"'Pivot Table Data'!P944","v":"Torrey Pines Center South"},{"$f":"'Pivot Table Data'!I944","v":"Surface Lot (Ground Level)"},{"$f":"'Pivot Table Data'!J944","v":"Accessible"},{"$f":"'Pivot Table Data'!K944","v":0},{"$f":"'Pivot Table Data'!L944","v":0},{"$f":"'Pivot Table Data'!S944","v":6},{"$f":"'Pivot Table Data'!T944","v":""},{"$f":"IF('Pivot Table Data'!O944=\"Yes\", 'Pivot Table Data'!T944, \"\")","v":""}]
[{"$f":"'Pivot Table Data'!B945","v":0},{"$f":"'Pivot Table Data'!F945","v":"Torrey Pines Center"},{"$f":"'Pivot Table Data'!P945","v":"Torrey Pines Center South"},{"$f":"'Pivot Table Data'!I945","v":"Surface Lot (Ground Level)"},{"$f":"'Pivot Table Data'!J945","v":"Accessible (Van)"},{"$f":"'Pivot Table Data'!K945","v":0},{"$f":"'Pivot Table Data'!L945","v":0},{"$f":"'Pivot Table Data'!S945","v":0},{"$f":"'Pivot Table Data'!T945","v":""},{"$f":"IF('Pivot Table Data'!O945=\"Yes\", 'Pivot Table Data'!T945, \"\")","v":""}]
[{"$f":"'Pivot Table Data'!B946","v":0},{"$f":"'Pivot Table Data'!F946","v":"Torrey Pines Center"},{"$f":"'Pivot Table Data'!P946","v":"Torrey Pines Center South"},{"$f":"'Pivot Table Data'!I946","v":"Surface Lot (Ground Level)"},{"$f":"'Pivot Table Data'!J946","v":"Loading"},{"$f":"'Pivot Table Data'!K946","v":"Bars"},{"$f":"'Pivot Table Data'!L946","v":"20 minutes"},{"$f":"'Pivot Table Data'!S946","v":4},{"$f":"'Pivot Table Data'!T946","v":4},{"$f":"IF('Pivot Table Data'!O946=\"Yes\", 'Pivot Table Data'!T946, \"\")","v":""}]
[{"$f":"'Pivot Table Data'!B947","v":0},{"$f":"'Pivot Table Data'!F947","v":"Torrey Pines Center"},{"$f":"'Pivot Table Data'!P947","v":"Torrey Pines Center South"},{"$f":"'Pivot Table Data'!I947","v":"Surface Lot (Ground Level)"},{"$f":"'Pivot Table Data'!J947","v":"UC Vehicle"},{"$f":"'Pivot Table Data'!K947","v":0},{"$f":"'Pivot Table Data'!L947","v":0},{"$f":"'Pivot Table Data'!S947","v":8},{"$f":"'Pivot Table Data'!T947","v":""},{"$f":"IF('Pivot Table Data'!O947=\"Yes\", 'Pivot Table Data'!T947, \"\")","v":""}]
[{"$f":"'Pivot Table Data'!B948","v":0},{"$f":"'Pivot Table Data'!F948","v":"Torrey Pines Center"},{"$f":"'Pivot Table Data'!P948","v":"Torrey Pines Center South"},{"$f":"'Pivot Table Data'!I948","v":"Surface Lot (Ground Level)"},{"$f":"'Pivot Table Data'!J948","v":"Visitor"},{"$f":"'Pivot Table Data'!K948","v":0},{"$f":"'Pivot Table Data'!L948","v":0},{"$f":"'Pivot Table Data'!S948","v":8},{"$f":"'Pivot Table Data'!T948","v":""},{"$f":"IF('Pivot Table Data'!O948=\"Yes\", 'Pivot Table Data'!T948, \"\")","v":""}]
[{"$f":"'Pivot Table Data'!B949","v":0},{"$f":"'Pivot Table Data'!F949","v":0},{"$f":"'Pivot Table Data'!P949","v":0},{"$f":"'Pivot Table Data'!I949","v":0},{"$f":"'Pivot Table Data'!J949","v":0},{"$f":"'Pivot Table Data'!K949","v":0},{"$f":"'Pivot Table Data'!L949","v":0},{"$f":"'Pivot Table Data'!S949","v":0},{"$f":"'Pivot Table Data'!T949","v":0},{"$f":"IF('Pivot Table Data'!O949=\"Yes\", 'Pivot Table Data'!T949, \"\")","v":""}]
[{"$f":"'Pivot Table Data'!B950","v":0},{"$f":"'Pivot Table Data'!F950","v":0},{"$f":"'Pivot Table Data'!P950","v":0},{"$f":"'Pivot Table Data'!I950","v":0},{"$f":"'Pivot Table Data'!J950","v":0},{"$f":"'Pivot Table Data'!K950","v":0},{"$f":"'Pivot Table Data'!L950","v":0},{"$f":"'Pivot Table Data'!S950","v":0},{"$f":"'Pivot Table Data'!T950","v":0},{"$f":"IF('Pivot Table Data'!O950=\"Yes\", 'Pivot Table Data'!T950, \"\")","v":""}]
[{"$f":"'Pivot Table Data'!B951","v":0},{"$f":"'Pivot Table Data'!F951","v":0},{"$f":"'Pivot Table Data'!P951","v":0},{"$f":"'Pivot Table Data'!I951","v":0},{"$f":"'Pivot Table Data'!J951","v":0},{"$f":"'Pivot Table Data'!K951","v":0},{"$f":"'Pivot Table Data'!L951","v":0},{"$f":"'Pivot Table Data'!S951","v":0},{"$f":"'Pivot Table Data'!T951","v":""},{"$f":"IF('Pivot Table Data'!O951=\"Yes\", 'Pivot Table Data'!T951, \"\")","v":""}]
[{"$f":"'Pivot Table Data'!B952","v":0},{"$f":"'Pivot Table Data'!F952","v":0},{"$f":"'Pivot Table Data'!P952","v":0},{"$f":"'Pivot Table Data'!I952","v":0},{"$f":"'Pivot Table Data'!J952","v":0},{"$f":"'Pivot Table Data'!K952","v":0},{"$f":"'Pivot Table Data'!L952","v":0},{"$f":"'Pivot Table Data'!S952","v":0},{"$f":"'Pivot Table Data'!T952","v":""},{"$f":"IF('Pivot Table Data'!O952=\"Yes\", 'Pivot Table Data'!T952, \"\")","v":""}]
[{"$f":"'Pivot Table Data'!B953","v":0},{"$f":"'Pivot Table Data'!F953","v":0},{"$f":"'Pivot Table Data'!P953","v":0},{"$f":"'Pivot Table Data'!I953","v":0},{"$f":"'Pivot Table Data'!J953","v":0},{"$f":"'Pivot Table Data'!K953","v":0},{"$f":"'Pivot Table Data'!L953","v":0},{"$f":"'Pivot Table Data'!S953","v":0},{"$f":"'Pivot Table Data'!T953","v":""},{"$f":"IF('Pivot Table Data'!O953=\"Yes\", 'Pivot Table Data'!T953, \"\")","v":""}]
[{"$f":"'Pivot Table Data'!B954","v":0},{"$f":"'Pivot Table Data'!F954","v":0},{"$f":"'Pivot Table Data'!P954","v":0},{"$f":"'Pivot Table Data'!I954","v":0},{"$f":"'Pivot Table Data'!J954","v":0},{"$f":"'Pivot Table Data'!K954","v":0},{"$f":"'Pivot Table Data'!L954","v":0},{"$f":"'Pivot Table Data'!S954","v":0},{"$f":"'Pivot Table Data'!T954","v":""},{"$f":"IF('Pivot Table Data'!O954=\"Yes\", 'Pivot Table Data'!T954, \"\")","v":""}]
[{"$f":"'Pivot Table Data'!B955","v":0},{"$f":"'Pivot Table Data'!F955","v":0},{"$f":"'Pivot Table Data'!P955","v":0},{"$f":"'Pivot Table Data'!I955","v":0},{"$f":"'Pivot Table Data'!J955","v":0},{"$f":"'Pivot Table Data'!K955","v":0},{"$f":"'Pivot Table Data'!L955","v":0},{"$f":"'Pivot Table Data'!S955","v":0},{"$f":"'Pivot Table Data'!T955","v":""},{"$f":"IF('Pivot Table Data'!O955=\"Yes\", 'Pivot Table Data'!T955, \"\")","v":""}]
[{"$f":"'Pivot Table Data'!B956","v":0},{"$f":"'Pivot Table Data'!F956","v":0},{"$f":"'Pivot Table Data'!P956","v":0},{"$f":"'Pivot Table Data'!I956","v":0},{"$f":"'Pivot Table Data'!J956","v":0},{"$f":"'Pivot Table Data'!K956","v":0},{"$f":"'Pivot Table Data'!L956","v":0},{"$f":"'Pivot Table Data'!S956","v":0},{"$f":"'Pivot Table Data'!T956","v":""},{"$f":"IF('Pivot Table Data'!O956=\"Yes\", 'Pivot Table Data'!T956, \"\")","v":""}]
[{"$f":"'Pivot Table Data'!B957","v":0},{"$f":"'Pivot Table Data'!F957","v":0},{"$f":"'Pivot Table Data'!P957","v":0},{"$f":"'Pivot Table Data'!I957","v":0},{"$f":"'Pivot Table Data'!J957","v":0},{"$f":"'Pivot Table Data'!K957","v":0},{"$f":"'Pivot Table Data'!L957","v":0},{"$f":"'Pivot Table Data'!S957","v":0},{"$f":"'Pivot Table Data'!T957","v":""},{"$f":"IF('Pivot Table Data'!O957=\"Yes\", 'Pivot Table Data'!T957, \"\")","v":""}]
[{"$f":"'Pivot Table Data'!B958","v":0},{"$f":"'Pivot Table Data'!F958","v":0},{"$f":"'Pivot Table Data'!P958","v":0},{"$f":"'Pivot Table Data'!I958","v":0},{"$f":"'Pivot Table Data'!J958","v":0},{"$f":"'Pivot Table Data'!K958","v":0},{"$f":"'Pivot Table Data'!L958","v":0},{"$f":"'Pivot Table Data'!S958","v":0},{"$f":"'Pivot Table Data'!T958","v":""},{"$f":"IF('Pivot Table Data'!O958=\"Yes\", 'Pivot Table Data'!T958, \"\")","v":""}]
[{"$f":"'Pivot Table Data'!B959","v":0},{"$f":"'Pivot Table Data'!F959","v":0},{"$f":"'Pivot Table Data'!P959","v":0},{"$f":"'Pivot Table Data'!I959","v":0},{"$f":"'Pivot Table Data'!J959","v":0},{"$f":"'Pivot Table Data'!K959","v":0},{"$f":"'Pivot Table Data'!L959","v":0},{"$f":"'Pivot Table Data'!S959","v":0},{"$f":"'Pivot Table Data'!T959","v":""},{"$f":"IF('Pivot Table Data'!O959=\"Yes\", 'Pivot Table Data'!T959, \"\")","v":""}]
[{"$f":"'Pivot Table Data'!B960","v":0},{"$f":"'Pivot Table Data'!F960","v":0},{"$f":"'Pivot Table Data'!P960","v":0},{"$f":"'Pivot Table Data'!I960","v":0},{"$f":"'Pivot Table Data'!J960","v":0},{"$f":"'Pivot Table Data'!K960","v":0},{"$f":"'Pivot Table Data'!L960","v":0},{"$f":"'Pivot Table Data'!S960","v":0},{"$f":"'Pivot Table Data'!T960","v":""},{"$f":"IF('Pivot Table Data'!O960=\"Yes\", 'Pivot Table Data'!T960, \"\")","v":""}]
[{"$f":"'Pivot Table Data'!B961","v":0},{"$f":"'Pivot Table Data'!F961","v":0},{"$f":"'Pivot Table Data'!P961","v":0},{"$f":"'Pivot Table Data'!I961","v":0},{"$f":"'Pivot Table Data'!J961","v":0},{"$f":"'Pivot Table Data'!K961","v":0},{"$f":"'Pivot Table Data'!L961","v":0},{"$f":"'Pivot Table Data'!S961","v":0},{"$f":"'Pivot Table Data'!T961","v":""},{"$f":"IF('Pivot Table Data'!O961=\"Yes\", 'Pivot Table Data'!T961, \"\")","v":""}]
[{"$f":"'Pivot Table Data'!B962","v":0},{"$f":"'Pivot Table Data'!F962","v":0},{"$f":"'Pivot Table Data'!P962","v":0},{"$f":"'Pivot Table Data'!I962","v":0},{"$f":"'Pivot Table Data'!J962","v":0},{"$f":"'Pivot Table Data'!K962","v":0},{"$f":"'Pivot Table Data'!L962","v":0},{"$f":"'Pivot Table Data'!S962","v":0},{"$f":"'Pivot Table Data'!T962","v":""},{"$f":"IF('Pivot Table Data'!O962=\"Yes\", 'Pivot Table Data'!T962, \"\")","v":""}]
[{"$f":"'Pivot Table Data'!B963","v":0},{"$f":"'Pivot Table Data'!F963","v":0},{"$f":"'Pivot Table Data'!P963","v":0},{"$f":"'Pivot Table Data'!I963","v":0},{"$f":"'Pivot Table Data'!J963","v":0},{"$f":"'Pivot Table Data'!K963","v":0},{"$f":"'Pivot Table Data'!L963","v":0},{"$f":"'Pivot Table Data'!S963","v":0},{"$f":"'Pivot Table Data'!T963","v":""},{"$f":"IF('Pivot Table Data'!O963=\"Yes\", 'Pivot Table Data'!T963, \"\")","v":""}]
[{"$f":"'Pivot Table Data'!B964","v":0},{"$f":"'Pivot Table Data'!F964","v":0},{"$f":"'Pivot Table Data'!P964","v":0},{"$f":"'Pivot Table Data'!I964","v":0},{"$f":"'Pivot Table Data'!J964","v":0},{"$f":"'Pivot Table Data'!K964","v":0},{"$f":"'Pivot Table Data'!L964","v":0},{"$f":"'Pivot Table Data'!S964","v":0},{"$f":"'Pivot Table Data'!T964","v":""},{"$f":"IF('Pivot Table Data'!O964=\"Yes\", 'Pivot Table Data'!T964, \"\")","v":""}]
[{"$f":"'Pivot Table Data'!B965","v":0},{"$f":"'Pivot Table Data'!F965","v":0},{"$f":"'Pivot Table Data'!P965","v":0},{"$f":"'Pivot Table Data'!I965","v":0},{"$f":"'Pivot Table Data'!J965","v":0},{"$f":"'Pivot Table Data'!K965","v":0},{"$f":"'Pivot Table Data'!L965","v":0},{"$f":"'Pivot Table Data'!S965","v":0},{"$f":"'Pivot Table Data'!T965","v":""},{"$f":"IF('Pivot Table Data'!O965=\"Yes\", 'Pivot Table Data'!T965, \"\")","v":""}]
[{"$f":"'Pivot Table Data'!B966","v":0},{"$f":"'Pivot Table Data'!F966","v":0},{"$f":"'Pivot Table Data'!P966","v":0},{"$f":"'Pivot Table Data'!I966","v":0},{"$f":"'Pivot Table Data'!J966","v":0},{"$f":"'Pivot Table Data'!K966","v":0},{"$f":"'Pivot Table Data'!L966","v":0},{"$f":"'Pivot Table Data'!S966","v":0},{"$f":"'Pivot Table Data'!T966","v":""},{"$f":"IF('Pivot Table Data'!O966=\"Yes\", 'Pivot Table Data'!T966, \"\")","v":""}]
[{"$f":"'Pivot Table Data'!B967","v":0},{"$f":"'Pivot Table Data'!F967","v":0},{"$f":"'Pivot Table Data'!P967","v":0},{"$f":"'Pivot Table Data'!I967","v":0},{"$f":"'Pivot Table Data'!J967","v":0},{"$f":"'Pivot Table Data'!K967","v":0},{"$f":"'Pivot Table Data'!L967","v":0},{"$f":"'Pivot Table Data'!S967","v":0},{"$f":"'Pivot Table Data'!T967","v":""},{"$f":"IF('Pivot Table Data'!O967=\"Yes\", 'Pivot Table Data'!T967, \"\")","v":""}]
[{"$f":"'Pivot Table Data'!B968","v":0},{"$f":"'Pivot Table Data'!F968","v":0},{"$f":"'Pivot Table Data'!P968","v":0},{"$f":"'Pivot Table Data'!I968","v":0},{"$f":"'Pivot Table Data'!J968","v":0},{"$f":"'Pivot Table Data'!K968","v":0},{"$f":"'Pivot Table Data'!L968","v":0},{"$f":"'Pivot Table Data'!S968","v":0},{"$f":"'Pivot Table Data'!T968","v":""},{"$f":"IF('Pivot Table Data'!O968=\"Yes\", 'Pivot Table Data'!T968, \"\")","v":""}]
[{"$f":"'Pivot Table Data'!B969","v":0},{"$f":"'Pivot Table Data'!F969","v":0},{"$f":"'Pivot Table Data'!P969","v":0},{"$f":"'Pivot Table Data'!I969","v":0},{"$f":"'Pivot Table Data'!J969","v":0},{"$f":"'Pivot Table Data'!K969","v":0},{"$f":"'Pivot Table Data'!L969","v":0},{"$f":"'Pivot Table Data'!S969","v":0},{"$f":"'Pivot Table Data'!T969","v":""},{"$f":"IF('Pivot Table Data'!O969=\"Yes\", 'Pivot Table Data'!T969, \"\")","v":""}]
[{"$f":"'Pivot Table Data'!B970","v":0},{"$f":"'Pivot Table Data'!F970","v":0},{"$f":"'Pivot Table Data'!P970","v":0},{"$f":"'Pivot Table Data'!I970","v":0},{"$f":"'Pivot Table Data'!J970","v":0},{"$f":"'Pivot Table Data'!K970","v":0},{"$f":"'Pivot Table Data'!L970","v":0},{"$f":"'Pivot Table Data'!S970","v":0},{"$f":"'Pivot Table Data'!T970","v":""},{"$f":"IF('Pivot Table Data'!O970=\"Yes\", 'Pivot Table Data'!T970, \"\")","v":""}]
[{"$f":"'Pivot Table Data'!B971","v":0},{"$f":"'Pivot Table Data'!F971","v":0},{"$f":"'Pivot Table Data'!P971","v":0},{"$f":"'Pivot Table Data'!I971","v":0},{"$f":"'Pivot Table Data'!J971","v":0},{"$f":"'Pivot Table Data'!K971","v":0},{"$f":"'Pivot Table Data'!L971","v":0},{"$f":"'Pivot Table Data'!S971","v":0},{"$f":"'Pivot Table Data'!T971","v":""},{"$f":"IF('Pivot Table Data'!O971=\"Yes\", 'Pivot Table Data'!T971, \"\")","v":""}]
[{"$f":"'Pivot Table Data'!B972","v":0},{"$f":"'Pivot Table Data'!F972","v":0},{"$f":"'Pivot Table Data'!P972","v":0},{"$f":"'Pivot Table Data'!I972","v":0},{"$f":"'Pivot Table Data'!J972","v":0},{"$f":"'Pivot Table Data'!K972","v":0},{"$f":"'Pivot Table Data'!L972","v":0},{"$f":"'Pivot Table Data'!S972","v":0},{"$f":"'Pivot Table Data'!T972","v":""},{"$f":"IF('Pivot Table Data'!O972=\"Yes\", 'Pivot Table Data'!T972, \"\")","v":""}]
[{"$f":"'Pivot Table Data'!B973","v":0},{"$f":"'Pivot Table Data'!F973","v":0},{"$f":"'Pivot Table Data'!P973","v":0},{"$f":"'Pivot Table Data'!I973","v":0},{"$f":"'Pivot Table Data'!J973","v":0},{"$f":"'Pivot Table Data'!K973","v":0},{"$f":"'Pivot Table Data'!L973","v":0},{"$f":"'Pivot Table Data'!S973","v":0},{"$f":"'Pivot Table Data'!T973","v":""},{"$f":"IF('Pivot Table Data'!O973=\"Yes\", 'Pivot Table Data'!T973, \"\")","v":""}]
[{"$f":"'Pivot Table Data'!B974","v":0},{"$f":"'Pivot Table Data'!F974","v":0},{"$f":"'Pivot Table Data'!P974","v":0},{"$f":"'Pivot Table Data'!I974","v":0},{"$f":"'Pivot Table Data'!J974","v":0},{"$f":"'Pivot Table Data'!K974","v":0},{"$f":"'Pivot Table Data'!L974","v":0},{"$f":"'Pivot Table Data'!S974","v":0},{"$f":"'Pivot Table Data'!T974","v":""},{"$f":"IF('Pivot Table Data'!O974=\"Yes\", 'Pivot Table Data'!T974, \"\")","v":""}]
[{"$f":"'Pivot Table Data'!B975","v":0},{"$f":"'Pivot Table Data'!F975","v":0},{"$f":"'Pivot Table Data'!P975","v":0},{"$f":"'Pivot Table Data'!I975","v":0},{"$f":"'Pivot Table Data'!J975","v":0},{"$f":"'Pivot Table Data'!K975","v":0},{"$f":"'Pivot Table Data'!L975","v":0},{"$f":"'Pivot Table Data'!S975","v":0},{"$f":"'Pivot Table Data'!T975","v":""},{"$f":"IF('Pivot Table Data'!O975=\"Yes\", 'Pivot Table Data'!T975, \"\")","v":""}]
[{"$f":"'Pivot Table Data'!B976","v":0},{"$f":"'Pivot Table Data'!F976","v":0},{"$f":"'Pivot Table Data'!P976","v":0},{"$f":"'Pivot Table Data'!I976","v":0},{"$f":"'Pivot Table Data'!J976","v":0},{"$f":"'Pivot Table Data'!K976","v":0},{"$f":"'Pivot Table Data'!L976","v":0},{"$f":"'Pivot Table Data'!S976","v":0},{"$f":"'Pivot Table Data'!T976","v":""},{"$f":"IF('Pivot Table Data'!O976=\"Yes\", 'Pivot Table Data'!T976, \"\")","v":""}]
[{"$f":"'Pivot Table Data'!B977","v":0},{"$f":"'Pivot Table Data'!F977","v":0},{"$f":"'Pivot Table Data'!P977","v":0},{"$f":"'Pivot Table Data'!I977","v":0},{"$f":"'Pivot Table Data'!J977","v":0},{"$f":"'Pivot Table Data'!K977","v":0},{"$f":"'Pivot Table Data'!L977","v":0},{"$f":"'Pivot Table Data'!S977","v":0},{"$f":"'Pivot Table Data'!T977","v":""},{"$f":"IF('Pivot Table Data'!O977=\"Yes\", 'Pivot Table Data'!T977, \"\")","v":""}]
[{"$f":"'Pivot Table Data'!B978","v":0},{"$f":"'Pivot Table Data'!F978","v":0},{"$f":"'Pivot Table Data'!P978","v":0},{"$f":"'Pivot Table Data'!I978","v":0},{"$f":"'Pivot Table Data'!J978","v":0},{"$f":"'Pivot Table Data'!K978","v":0},{"$f":"'Pivot Table Data'!L978","v":0},{"$f":"'Pivot Table Data'!S978","v":0},{"$f":"'Pivot Table Data'!T978","v":""},{"$f":"IF('Pivot Table Data'!O978=\"Yes\", 'Pivot Table Data'!T978, \"\")","v":""}]
[{"$f":"'Pivot Table Data'!B979","v":0},{"$f":"'Pivot Table Data'!F979","v":0},{"$f":"'Pivot Table Data'!P979","v":0},{"$f":"'Pivot Table Data'!I979","v":0},{"$f":"'Pivot Table Data'!J979","v":0},{"$f":"'Pivot Table Data'!K979","v":0},{"$f":"'Pivot Table Data'!L979","v":0},{"$f":"'Pivot Table Data'!S979","v":0},{"$f":"'Pivot Table Data'!T979","v":""},{"$f":"IF('Pivot Table Data'!O979=\"Yes\", 'Pivot Table Data'!T979, \"\")","v":""}]
[{"$f":"'Pivot Table Data'!B980","v":0},{"$f":"'Pivot Table Data'!F980","v":0},{"$f":"'Pivot Table Data'!P980","v":0},{"$f":"'Pivot Table Data'!I980","v":0},{"$f":"'Pivot Table Data'!J980","v":0},{"$f":"'Pivot Table Data'!K980","v":0},{"$f":"'Pivot Table Data'!L980","v":0},{"$f":"'Pivot Table Data'!S980","v":0},{"$f":"'Pivot Table Data'!T980","v":""},{"$f":"IF('Pivot Table Data'!O980=\"Yes\", 'Pivot Table Data'!T980, \"\")","v":""}]
[{"$f":"'Pivot Table Data'!B981","v":0},{"$f":"'Pivot Table Data'!F981","v":0},{"$f":"'Pivot Table Data'!P981","v":0},{"$f":"'Pivot Table Data'!I981","v":0},{"$f":"'Pivot Table Data'!J981","v":0},{"$f":"'Pivot Table Data'!K981","v":0},{"$f":"'Pivot Table Data'!L981","v":0},{"$f":"'Pivot Table Data'!S981","v":0},{"$f":"'Pivot Table Data'!T981","v":""},{"$f":"IF('Pivot Table Data'!O981=\"Yes\", 'Pivot Table Data'!T981, \"\")","v":""}]
[{"$f":"'Pivot Table Data'!B982","v":0},{"$f":"'Pivot Table Data'!F982","v":0},{"$f":"'Pivot Table Data'!P982","v":0},{"$f":"'Pivot Table Data'!I982","v":0},{"$f":"'Pivot Table Data'!J982","v":0},{"$f":"'Pivot Table Data'!K982","v":0},{"$f":"'Pivot Table Data'!L982","v":0},{"$f":"'Pivot Table Data'!S982","v":0},{"$f":"'Pivot Table Data'!T982","v":""},{"$f":"IF('Pivot Table Data'!O982=\"Yes\", 'Pivot Table Data'!T982, \"\")","v":""}]
[{"$f":"'Pivot Table Data'!B983","v":0},{"$f":"'Pivot Table Data'!F983","v":0},{"$f":"'Pivot Table Data'!P983","v":0},{"$f":"'Pivot Table Data'!I983","v":0},{"$f":"'Pivot Table Data'!J983","v":0},{"$f":"'Pivot Table Data'!K983","v":0},{"$f":"'Pivot Table Data'!L983","v":0},{"$f":"'Pivot Table Data'!S983","v":0},{"$f":"'Pivot Table Data'!T983","v":""},{"$f":"IF('Pivot Table Data'!O983=\"Yes\", 'Pivot Table Data'!T983, \"\")","v":""}]
[{"$f":"'Pivot Table Data'!B984","v":0},{"$f":"'Pivot Table Data'!F984","v":0},{"$f":"'Pivot Table Data'!P984","v":0},{"$f":"'Pivot Table Data'!I984","v":0},{"$f":"'Pivot Table Data'!J984","v":0},{"$f":"'Pivot Table Data'!K984","v":0},{"$f":"'Pivot Table Data'!L984","v":0},{"$f":"'Pivot Table Data'!S984","v":0},{"$f":"'Pivot Table Data'!T984","v":""},{"$f":"IF('Pivot Table Data'!O984=\"Yes\", 'Pivot Table Data'!T984, \"\")","v":""}]
[{"$f":"'Pivot Table Data'!B985","v":0},{"$f":"'Pivot Table Data'!F985","v":0},{"$f":"'Pivot Table Data'!P985","v":0},{"$f":"'Pivot Table Data'!I985","v":0},{"$f":"'Pivot Table Data'!J985","v":0},{"$f":"'Pivot Table Data'!K985","v":0},{"$f":"'Pivot Table Data'!L985","v":0},{"$f":"'Pivot Table Data'!S985","v":0},{"$f":"'Pivot Table Data'!T985","v":""},{"$f":"IF('Pivot Table Data'!O985=\"Yes\", 'Pivot Table Data'!T985, \"\")","v":""}]
[{"$f":"'Pivot Table Data'!B986","v":0},{"$f":"'Pivot Table Data'!F986","v":0},{"$f":"'Pivot Table Data'!P986","v":0},{"$f":"'Pivot Table Data'!I986","v":0},{"$f":"'Pivot Table Data'!J986","v":0},{"$f":"'Pivot Table Data'!K986","v":0},{"$f":"'Pivot Table Data'!L986","v":0},{"$f":"'Pivot Table Data'!S986","v":0},{"$f":"'Pivot Table Data'!T986","v":""},{"$f":"IF('Pivot Table Data'!O986=\"Yes\", 'Pivot Table Data'!T986, \"\")","v":""}]
[{"$f":"'Pivot Table Data'!B987","v":0},{"$f":"'Pivot Table Data'!F987","v":0},{"$f":"'Pivot Table Data'!P987","v":0},{"$f":"'Pivot Table Data'!I987","v":0},{"$f":"'Pivot Table Data'!J987","v":0},{"$f":"'Pivot Table Data'!K987","v":0},{"$f":"'Pivot Table Data'!L987","v":0},{"$f":"'Pivot Table Data'!S987","v":0},{"$f":"'Pivot Table Data'!T987","v":""},{"$f":"IF('Pivot Table Data'!O987=\"Yes\", 'Pivot Table Data'!T987, \"\")","v":""}]
[{"$f":"'Pivot Table Data'!B988","v":0},{"$f":"'Pivot Table Data'!F988","v":0},{"$f":"'Pivot Table Data'!P988","v":0},{"$f":"'Pivot Table Data'!I988","v":0},{"$f":"'Pivot Table Data'!J988","v":0},{"$f":"'Pivot Table Data'!K988","v":0},{"$f":"'Pivot Table Data'!L988","v":0},{"$f":"'Pivot Table Data'!S988","v":0},{"$f":"'Pivot Table Data'!T988","v":""},{"$f":"IF('Pivot Table Data'!O988=\"Yes\", 'Pivot Table Data'!T988, \"\")","v":""}]
[{"$f":"'Pivot Table Data'!B989","v":0},{"$f":"'Pivot Table Data'!F989","v":0},{"$f":"'Pivot Table Data'!P989","v":0},{"$f":"'Pivot Table Data'!I989","v":0},{"$f":"'Pivot Table Data'!J989","v":0},{"$f":"'Pivot Table Data'!K989","v":0},{"$f":"'Pivot Table Data'!L989","v":0},{"$f":"'Pivot Table Data'!S989","v":0},{"$f":"'Pivot Table Data'!T989","v":""},{"$f":"IF('Pivot Table Data'!O989=\"Yes\", 'Pivot Table Data'!T989, \"\")","v":""}]
[{"$f":"'Pivot Table Data'!B990","v":0},{"$f":"'Pivot Table Data'!F990","v":0},{"$f":"'Pivot Table Data'!P990","v":0},{"$f":"'Pivot Table Data'!I990","v":0},{"$f":"'Pivot Table Data'!J990","v":0},{"$f":"'Pivot Table Data'!K990","v":0},{"$f":"'Pivot Table Data'!L990","v":0},{"$f":"'Pivot Table Data'!S990","v":0},{"$f":"'Pivot Table Data'!T990","v":""},{"$f":"IF('Pivot Table Data'!O990=\"Yes\", 'Pivot Table Data'!T990, \"\")","v":""}]
[{"$f":"'Pivot Table Data'!B991","v":0},{"$f":"'Pivot Table Data'!F991","v":0},{"$f":"'Pivot Table Data'!P991","v":0},{"$f":"'Pivot Table Data'!I991","v":0},{"$f":"'Pivot Table Data'!J991","v":0},{"$f":"'Pivot Table Data'!K991","v":0},{"$f":"'Pivot Table Data'!L991","v":0},{"$f":"'Pivot Table Data'!S991","v":0},{"$f":"'Pivot Table Data'!T991","v":""},{"$f":"IF('Pivot Table Data'!O991=\"Yes\", 'Pivot Table Data'!T991, \"\")","v":""}]
[{"$f":"'Pivot Table Data'!B992","v":0},{"$f":"'Pivot Table Data'!F992","v":0},{"$f":"'Pivot Table Data'!P992","v":0},{"$f":"'Pivot Table Data'!I992","v":0},{"$f":"'Pivot Table Data'!J992","v":0},{"$f":"'Pivot Table Data'!K992","v":0},{"$f":"'Pivot Table Data'!L992","v":0},{"$f":"'Pivot Table Data'!S992","v":0},{"$f":"'Pivot Table Data'!T992","v":""},{"$f":"IF('Pivot Table Data'!O992=\"Yes\", 'Pivot Table Data'!T992, \"\")","v":""}]
[{"$f":"'Pivot Table Data'!B993","v":0},{"$f":"'Pivot Table Data'!F993","v":0},{"$f":"'Pivot Table Data'!P993","v":0},{"$f":"'Pivot Table Data'!I993","v":0},{"$f":"'Pivot Table Data'!J993","v":0},{"$f":"'Pivot Table Data'!K993","v":0},{"$f":"'Pivot Table Data'!L993","v":0},{"$f":"'Pivot Table Data'!S993","v":0},{"$f":"'Pivot Table Data'!T993","v":""},{"$f":"IF('Pivot Table Data'!O993=\"Yes\", 'Pivot Table Data'!T993, \"\")","v":""}]
[{"$f":"'Pivot Table Data'!B994","v":0},{"$f":"'Pivot Table Data'!F994","v":0},{"$f":"'Pivot Table Data'!P994","v":0},{"$f":"'Pivot Table Data'!I994","v":0},{"$f":"'Pivot Table Data'!J994","v":0},{"$f":"'Pivot Table Data'!K994","v":0},{"$f":"'Pivot Table Data'!L994","v":0},{"$f":"'Pivot Table Data'!S994","v":0},{"$f":"'Pivot Table Data'!T994","v":""},{"$f":"IF('Pivot Table Data'!O994=\"Yes\", 'Pivot Table Data'!T994, \"\")","v":""}]
[{"$f":"'Pivot Table Data'!B995","v":0},{"$f":"'Pivot Table Data'!F995","v":0},{"$f":"'Pivot Table Data'!P995","v":0},{"$f":"'Pivot Table Data'!I995","v":0},{"$f":"'Pivot Table Data'!J995","v":0},{"$f":"'Pivot Table Data'!K995","v":0},{"$f":"'Pivot Table Data'!L995","v":0},{"$f":"'Pivot Table Data'!S995","v":0},{"$f":"'Pivot Table Data'!T995","v":""},{"$f":"IF('Pivot Table Data'!O995=\"Yes\", 'Pivot Table Data'!T995, \"\")","v":""}]
[{"$f":"'Pivot Table Data'!B996","v":0},{"$f":"'Pivot Table Data'!F996","v":0},{"$f":"'Pivot Table Data'!P996","v":0},{"$f":"'Pivot Table Data'!I996","v":0},{"$f":"'Pivot Table Data'!J996","v":0},{"$f":"'Pivot Table Data'!K996","v":0},{"$f":"'Pivot Table Data'!L996","v":0},{"$f":"'Pivot Table Data'!S996","v":0},{"$f":"'Pivot Table Data'!T996","v":""},{"$f":"IF('Pivot Table Data'!O996=\"Yes\", 'Pivot Table Data'!T996, \"\")","v":""}]
[{"$f":"'Pivot Table Data'!B997","v":0},{"$f":"'Pivot Table Data'!F997","v":0},{"$f":"'Pivot Table Data'!P997","v":0},{"$f":"'Pivot Table Data'!I997","v":0},{"$f":"'Pivot Table Data'!J997","v":0},{"$f":"'Pivot Table Data'!K997","v":0},{"$f":"'Pivot Table Data'!L997","v":0},{"$f":"'Pivot Table Data'!S997","v":0},{"$f":"'Pivot Table Data'!T997","v":""},{"$f":"IF('Pivot Table Data'!O997=\"Yes\", 'Pivot Table Data'!T997, \"\")","v":""}]
[{"$f":"'Pivot Table Data'!B998","v":0},{"$f":"'Pivot Table Data'!F998","v":0},{"$f":"'Pivot Table Data'!P998","v":0},{"$f":"'Pivot Table Data'!I998","v":0},{"$f":"'Pivot Table Data'!J998","v":0},{"$f":"'Pivot Table Data'!K998","v":0},{"$f":"'Pivot Table Data'!L998","v":0},{"$f":"'Pivot Table Data'!S998","v":0},{"$f":"'Pivot Table Data'!T998","v":""},{"$f":"IF('Pivot Table Data'!O998=\"Yes\", 'Pivot Table Data'!T998, \"\")","v":""}]
[{"$f":"'Pivot Table Data'!B999","v":0},{"$f":"'Pivot Table Data'!F999","v":0},{"$f":"'Pivot Table Data'!P999","v":0},{"$f":"'Pivot Table Data'!I999","v":0},{"$f":"'Pivot Table Data'!J999","v":0},{"$f":"'Pivot Table Data'!K999","v":0},{"$f":"'Pivot Table Data'!L999","v":0},{"$f":"'Pivot Table Data'!S999","v":0},{"$f":"'Pivot Table Data'!T999","v":""},{"$f":"IF('Pivot Table Data'!O999=\"Yes\", 'Pivot Table Data'!T999, \"\")","v":""}]
[{"$f":"'Pivot Table Data'!B1000","v":0},{"$f":"'Pivot Table Data'!F1000","v":0},{"$f":"'Pivot Table Data'!P1000","v":0},{"$f":"'Pivot Table Data'!I1000","v":0},{"$f":"'Pivot Table Data'!J1000","v":0},{"$f":"'Pivot Table Data'!K1000","v":0},{"$f":"'Pivot Table Data'!L1000","v":0},{"$f":"'Pivot Table Data'!S1000","v":0},{"$f":"'Pivot Table Data'!T1000","v":""},{"$f":"IF('Pivot Table Data'!O1000=\"Yes\", 'Pivot Table Data'!T1000, \"\")","v":""}]
[{"$f":"'Pivot Table Data'!B1001","v":0},{"$f":"'Pivot Table Data'!F1001","v":0},{"$f":"'Pivot Table Data'!P1001","v":0},{"$f":"'Pivot Table Data'!I1001","v":0},{"$f":"'Pivot Table Data'!J1001","v":0},{"$f":"'Pivot Table Data'!K1001","v":0},{"$f":"'Pivot Table Data'!L1001","v":0},{"$f":"'Pivot Table Data'!S1001","v":0},{"$f":"'Pivot Table Data'!T1001","v":""},{"$f":"IF('Pivot Table Data'!O1001=\"Yes\", 'Pivot Table Data'!T1001, \"\")","v":""}]

{"sheet":"Print Occupancy Forms","index":7,"n_rows":1001,"n_cols":28,"rows_kept":1001,"cut":false,"hidden":true,"merged":[[0,0,0,1]]}
["Day / Date :",null,null,null,"Name(s) :"]
[]
[null,null,null,null,null,null,null,null,null,null,null,null,"* Only enter the number of open spaces"]
[{"$f":"'Pivot Table Data'!B4","v":"Zone #"},{"$f":"'Pivot Table Data'!F4","v":"Neighborhood"},{"$f":"'Pivot Table Data'!P4","v":"Lot  / Structure"},{"$f":"'Pivot Table Data'!I4","v":"Garage Level"},{"$f":"'Pivot Table Data'!J4","v":"Space Type"},{"$f":"'Pivot Table Data'!K4","v":"Space Subtype"},{"$f":"'Pivot Table Data'!L4","v":"Time Limit [minutes]"},"Stall Count (Inventory)","Stall Count (Occupancy)","Stall Count (QPass)",{"$f":"'Pivot Table Data'!AB4","v":"6am"},{"$f":"'Pivot Table Data'!AC4","v":"7am"},{"$f":"'Pivot Table Data'!AD4","v":"8am"},{"$f":"'Pivot Table Data'!AE4","v":"9am"},{"$f":"'Pivot Table Data'!AF4","v":"10am"},{"$f":"'Pivot Table Data'!AG4","v":"11am"},{"$f":"'Pivot Table Data'!AH4","v":"12pm"},{"$f":"'Pivot Table Data'!AI4","v":"1pm"},{"$f":"'Pivot Table Data'!AJ4","v":"2pm"},{"$f":"'Pivot Table Data'!AK4","v":"3pm"},{"$f":"'Pivot Table Data'!AL4","v":"4pm"},{"$f":"'Pivot Table Data'!AM4","v":"5pm"},{"$f":"'Pivot Table Data'!AN4","v":"6pm"},{"$f":"'Pivot Table Data'!AO4","v":"7pm"},{"$f":"'Pivot Table Data'!AP4","v":"8pm"},{"$f":"'Pivot Table Data'!AQ4","v":"9pm"},{"$f":"'Pivot Table Data'!AR4","v":"10pm"},"Notes"]
[{"$f":"'Pivot Table Data'!B5","v":0},{"$f":"'Pivot Table Data'!F5","v":"Health Sciences East"},{"$f":"'Pivot Table Data'!P5","v":"Athena"},{"$f":"'Pivot Table Data'!I5","v":"Ground Floor"},{"$f":"'Pivot Table Data'!J5","v":"A"},{"$f":"'Pivot Table Data'!K5","v":0},{"$f":"'Pivot Table Data'!L5","v":0},{"$f":"'Pivot Table Data'!S5","v":4},{"$f":"'Pivot Table Data'!T5","v":307},{"$f":"IF('Pivot Table Data'!O5=\"Yes\", 'Pivot Table Data'!T5, \"\")","v":307}]
[{"$f":"'Pivot Table Data'!B6","v":0},{"$f":"'Pivot Table Data'!F6","v":"Health Sciences East"},{"$f":"'Pivot Table Data'!P6","v":"Athena"},{"$f":"'Pivot Table Data'!I6","v":"Ground Floor"},{"$f":"'Pivot Table Data'!J6","v":"Accessible"},{"$f":"'Pivot Table Data'!K6","v":0},{"$f":"'Pivot Table Data'!L6","v":0},{"$f":"'Pivot Table Data'!S6","v":49},{"$f":"'Pivot Table Data'!T6","v":71},{"$f":"IF('Pivot Table Data'!O6=\"Yes\", 'Pivot Table Data'!T6, \"\")","v":""}]
[{"$f":"'Pivot Table Data'!B7","v":0},{"$f":"'Pivot Table Data'!F7","v":"Health Sciences East"},{"$f":"'Pivot Table Data'!P7","v":"Athena"},{"$f":"'Pivot Table Data'!I7","v":"Ground Floor"},{"$f":"'Pivot Table Data'!J7","v":"Accessible (Van)"},{"$f":"'Pivot Table Data'!K7","v":0},{"$f":"'Pivot Table Data'!L7","v":0},{"$f":"'Pivot Table Data'!S7","v":3},{"$f":"'Pivot Table Data'!T7","v":8},{"$f":"IF('Pivot Table Data'!O7=\"Yes\", 'Pivot Table Data'!T7, \"\")","v":""}]
[{"$f":"'Pivot Table Data'!B8","v":0},{"$f":"'Pivot Table Data'!F8","v":"Health Sciences East"},{"$f":"'Pivot Table Data'!P8","v":"Athena"},{"$f":"'Pivot Table Data'!I8","v":"Ground Floor"},{"$f":"'Pivot Table Data'!J8","v":"Accessible (Van)"},{"$f":"'Pivot Table Data'!K8","v":0},{"$f":"'Pivot Table Data'!L8","v":0},{"$f":"'Pivot Table Data'!S8","v":0},{"$f":"'Pivot Table Data'!T8","v":""},{"$f":"IF('Pivot Table Data'!O8=\"Yes\", 'Pivot Table Data'!T8, \"\")","v":""}]
[{"$f":"'Pivot Table Data'!B9","v":0},{"$f":"'Pivot Table Data'!F9","v":"Health Sciences East"},{"$f":"'Pivot Table Data'!P9","v":"Athena"},{"$f":"'Pivot Table Data'!I9","v":"Ground Floor"},{"$f":"'Pivot Table Data'!J9","v":"Electric Vehicle"},{"$f":"'Pivot Table Data'!K9","v":"ADA"},{"$f":"'Pivot Table Data'!L9","v":0},{"$f":"'Pivot Table Data'!S9","v":2},{"$f":"'Pivot Table Data'!T9","v":2},{"$f":"IF('Pivot Table Data'!O9=\"Yes\", 'Pivot Table Data'!T9, \"\")","v":""}]
[{"$f":"'Pivot Table Data'!B10","v":0},{"$f":"'Pivot Table Data'!F10","v":"Health Sciences East"},{"$f":"'Pivot Table Data'!P10","v":"Athena"},{"$f":"'Pivot Table Data'!I10","v":"Ground Floor"},{"$f":"'Pivot Table Data'!J10","v":"Electric Vehicle"},{"$f":"'Pivot Table Data'!K10","v":0},{"$f":"'Pivot Table Data'!L10","v":0},{"$f":"'Pivot Table Data'!S10","v":16},{"$f":"'Pivot Table Data'!T10","v":16},{"$f":"IF('Pivot Table Data'!O10=\"Yes\", 'Pivot Table Data'!T10, \"\")","v":""}]
[{"$f":"'Pivot Table Data'!B11","v":0},{"$f":"'Pivot Table Data'!F11","v":"Health Sciences East"},{"$f":"'Pivot Table Data'!P11","v":"Athena"},{"$f":"'Pivot Table Data'!I11","v":"Ground Floor"},{"$f":"'Pivot Table Data'!J11","v":"Motorcycle Section"},{"$f":"'Pivot Table Data'!K11","v":0},{"$f":"'Pivot Table Data'!L11","v":0},{"$f":"'Pivot Table Data'!S11","v":0},{"$f":"'Pivot Table Data'!T11","v":30},{"$f":"IF('Pivot Table Data'!O11=\"Yes\", 'Pivot Table Data'!T11, \"\")","v":""}]
[{"$f":"'Pivot Table Data'!B12","v":0},{"$f":"'Pivot Table Data'!F12","v":"Health Sciences East"},{"$f":"'Pivot Table Data'!P12","v":"Athena"},{"$f":"'Pivot Table Data'!I12","v":"Ground Floor"},{"$f":"'Pivot Table Data'!J12","v":"Visitor"},{"$f":"'Pivot Table Data'!K12","v":"Patient/Visitor Reserved"},{"$f":"'Pivot Table Data'!L12","v":"30 minutes"},{"$f":"'Pivot Table Data'!S12","v":9},{"$f":"'Pivot Table Data'!T12","v":9},{"$f":"IF('Pivot Table Data'!O12=\"Yes\", 'Pivot Table Data'!T12, \"\")","v":9}]
[{"$f":"'Pivot Table Data'!B13","v":0},{"$f":"'Pivot Table Data'!F13","v":"Health Sciences East"},{"$f":"'Pivot Table Data'!P13","v":"Athena"},{"$f":"'Pivot Table Data'!I13","v":"Ground Floor"},{"$f":"'Pivot Table Data'!J13","v":"Visitor"},{"$f":"'Pivot Table Data'!K13","v":0},{"$f":"'Pivot Table Data'!L13","v":0},{"$f":"'Pivot Table Data'!S13","v":64},{"$f":"'Pivot Table Data'!T13","v":237},{"$f":"IF('Pivot Table Data'!O13=\"Yes\", 'Pivot Table Data'!T13, \"\")","v":237}]
[{"$f":"'Pivot Table Data'!B14","v":0},{"$f":"'Pivot Table Data'!F14","v":"Health Sciences East"},{"$f":"'Pivot Table Data'!P14","v":"Athena"},{"$f":"'Pivot Table Data'!I14","v":"L2"},{"$f":"'Pivot Table Data'!J14","v":"A"},{"$f":"'Pivot Table Data'!K14","v":0},{"$f":"'Pivot Table Data'!L14","v":0},{"$f":"'Pivot Table Data'!S14","v":9},{"$f":"'Pivot Table Data'!T14","v":""},{"$f":"IF('Pivot Table Data'!O14=\"Yes\", 'Pivot Table Data'!T14, \"\")","v":""}]
[{"$f":"'Pivot Table Data'!B15","v":0},{"$f":"'Pivot Table Data'!F15","v":"Health Sciences East"},{"$f":"'Pivot Table Data'!P15","v":"Athena"},{"$f":"'Pivot Table Data'!I15","v":"L2"},{"$f":"'Pivot Table Data'!J15","v":"Accessible"},{"$f":"'Pivot Table Data'!K15","v":0},{"$f":"'Pivot Table Data'!L15","v":0},{"$f":"'Pivot Table Data'!S15","v":15},{"$f":"'Pivot Table Data'!T15","v":""},{"$f":"IF('Pivot Table Data'!O15=\"Yes\", 'Pivot Table Data'!T15, \"\")","v":""}]
[{"$f":"'Pivot Table Data'!B16","v":0},{"$f":"'Pivot Table Data'!F16","v":"Health Sciences East"},{"$f":"'Pivot Table Data'!P16","v":"Athena"},{"$f":"'Pivot Table Data'!I16","v":"L2"},{"$f":"'Pivot Table Data'!J16","v":"Accessible (Van)"},{"$f":"'Pivot Table Data'!K16","v":0},{"$f":"'Pivot Table Data'!L16","v":0},{"$f":"'Pivot Table Data'!S16","v":3},{"$f":"'Pivot Table Data'!T16","v":""},{"$f":"IF('Pivot Table Data'!O16=\"Yes\", 'Pivot Table Data'!T16, \"\")","v":""}]
[{"$f":"'Pivot Table Data'!B17","v":0},{"$f":"'Pivot Table Data'!F17","v":"Health Sciences East"},{"$f":"'Pivot Table Data'!P17","v":"Athena"},{"$f":"'Pivot Table Data'!I17","v":"L2"},{"$f":"'Pivot Table Data'!J17","v":"Motorcycle Section"},{"$f":"'Pivot Table Data'!K17","v":0},{"$f":"'Pivot Table Data'!L17","v":0},{"$f":"'Pivot Table Data'!S17","v":10},{"$f":"'Pivot Table Data'!T17","v":""},{"$f":"IF('Pivot Table Data'!O17=\"Yes\", 'Pivot Table Data'!T17, \"\")","v":""}]
[{"$f":"'Pivot Table Data'!B18","v":0},{"$f":"'Pivot Table Data'!F18","v":"Health Sciences East"},{"$f":"'Pivot Table Data'!P18","v":"Athena"},{"$f":"'Pivot Table Data'!I18","v":"L2"},{"$f":"'Pivot Table Data'!J18","v":"Motorcycle Section"},{"$f":"'Pivot Table Data'!K18","v":0},{"$f":"'Pivot Table Data'!L18","v":0},{"$f":"'Pivot Table Data'!S18","v":2},{"$f":"'Pivot Table Data'!T18","v":""},{"$f":"IF('Pivot Table Data'!O18=\"Yes\", 'Pivot Table Data'!T18, \"\")","v":""}]
[{"$f":"'Pivot Table Data'!B19","v":0},{"$f":"'Pivot Table Data'!F19","v":"Health Sciences East"},{"$f":"'Pivot Table Data'!P19","v":"Athena"},{"$f":"'Pivot Table Data'!I19","v":"L2"},{"$f":"'Pivot Table Data'!J19","v":"Visitor"},{"$f":"'Pivot Table Data'!K19","v":"Infusion"},{"$f":"'Pivot Table Data'!L19","v":0},{"$f":"'Pivot Table Data'!S19","v":30},{"$f":"'Pivot Table Data'!T19","v":30},{"$f":"IF('Pivot Table Data'!O19=\"Yes\", 'Pivot Table Data'!T19, \"\")","v":30}]
[{"$f":"'Pivot Table Data'!B20","v":0},{"$f":"'Pivot Table Data'!F20","v":"Health Sciences East"},{"$f":"'Pivot Table Data'!P20","v":"Athena"},{"$f":"'Pivot Table Data'!I20","v":"L2"},{"$f":"'Pivot Table Data'!J20","v":"Visitor"},{"$f":"'Pivot Table Data'!K20","v":"Radiation"},{"$f":"'Pivot Table Data'!L20","v":0},{"$f":"'Pivot Table Data'!S20","v":10},{"$f":"'Pivot Table Data'!T20","v":10},{"$f":"IF('Pivot Table Data'!O20=\"Yes\", 'Pivot Table Data'!T20, \"\")","v":10}]
[{"$f":"'Pivot Table Data'!B21","v":0},{"$f":"'Pivot Table Data'!F21","v":"Health Sciences East"},{"$f":"'Pivot Table Data'!P21","v":"Athena"},{"$f":"'Pivot Table Data'!I21","v":"L2"},{"$f":"'Pivot Table Data'!J21","v":"Visitor"},{"$f":"'Pivot Table Data'!K21","v":0},{"$f":"'Pivot Table Data'!L21","v":0},{"$f":"'Pivot Table Data'!S21","v":115},{"$f":"'Pivot Table Data'!T21","v":""},{"$f":"IF('Pivot Table Data'!O21=\"Yes\", 'Pivot Table Data'!T21, \"\")","v":""}]
[{"$f":"'Pivot Table Data'!B22","v":0},{"$f":"'Pivot Table Data'!F22","v":"Health Sciences East"},{"$f":"'Pivot Table Data'!P22","v":"Athena"},{"$f":"'Pivot Table Data'!I22","v":"L3"},{"$f":"'Pivot Table Data'!J22","v":"A"},{"$f":"'Pivot Table Data'!K22","v":0},{"$f":"'Pivot Table Data'!L22","v":0},{"$f":"'Pivot Table Data'!S22","v":147},{"$f":"'Pivot Table Data'!T22","v":""},{"$f":"IF('Pivot Table Data'!O22=\"Yes\", 'Pivot Table Data'!T22, \"\")","v":""}]
[{"$f":"'Pivot Table Data'!B23","v":0},{"$f":"'Pivot Table Data'!F23","v":"Health Sciences East"},{"$f":"'Pivot Table Data'!P23","v":"Athena"},{"$f":"'Pivot Table Data'!I23","v":"L3"},{"$f":"'Pivot Table Data'!J23","v":"A"},{"$f":"'Pivot Table Data'!K23","v":0},{"$f":"'Pivot Table Data'!L23","v":0},{"$f":"'Pivot Table Data'!S23","v":0},{"$f":"'Pivot Table Data'!T23","v":""},{"$f":"IF('Pivot Table Data'!O23=\"Yes\", 'Pivot Table Data'!T23, \"\")","v":""}]
[{"$f":"'Pivot Table Data'!B24","v":0},{"$f":"'Pivot Table Data'!F24","v":"Health Sciences East"},{"$f":"'Pivot Table Data'!P24","v":"Athena"},{"$f":"'Pivot Table Data'!I24","v":"L3"},{"$f":"'Pivot Table Data'!J24","v":"A"},{"$f":"'Pivot Table Data'!K24","v":0},{"$f":"'Pivot Table Data'!L24","v":0},{"$f":"'Pivot Table Data'!S24","v":0},{"$f":"'Pivot Table Data'!T24","v":""},{"$f":"IF('Pivot Table Data'!O24=\"Yes\", 'Pivot Table Data'!T24, \"\")","v":""}]
[{"$f":"'Pivot Table Data'!B25","v":0},{"$f":"'Pivot Table Data'!F25","v":"Health Sciences East"},{"$f":"'Pivot Table Data'!P25","v":"Athena"},{"$f":"'Pivot Table Data'!I25","v":"L3"},{"$f":"'Pivot Table Data'!J25","v":"Accessible"},{"$f":"'Pivot Table Data'!K25","v":0},{"$f":"'Pivot Table Data'!L25","v":0},{"$f":"'Pivot Table Data'!S25","v":7},{"$f":"'Pivot Table Data'!T25","v":""},{"$f":"IF('Pivot Table Data'!O25=\"Yes\", 'Pivot Table Data'!T25, \"\")","v":""}]
[{"$f":"'Pivot Table Data'!B26","v":0},{"$f":"'Pivot Table Data'!F26","v":"Health Sciences East"},{"$f":"'Pivot Table Data'!P26","v":"Athena"},{"$f":"'Pivot Table Data'!I26","v":"L3"},{"$f":"'Pivot Table Data'!J26","v":"Accessible (Van)"},{"$f":"'Pivot Table Data'!K26","v":0},{"$f":"'Pivot Table Data'!L26","v":0},{"$f":"'Pivot Table Data'!S26","v":2},{"$f":"'Pivot Table Data'!T26","v":""},{"$f":"IF('Pivot Table Data'!O26=\"Yes\", 'Pivot Table Data'!T26, \"\")","v":""}]
[{"$f":"'Pivot Table Data'!B27","v":0},{"$f":"'Pivot Table Data'!F27","v":"Health Sciences East"},{"$f":"'Pivot Table Data'!P27","v":"Athena"},{"$f":"'Pivot Table Data'!I27","v":"L3"},{"$f":"'Pivot Table Data'!J27","v":"B"},{"$f":"'Pivot Table Data'!K27","v":0},{"$f":"'Pivot Table Data'!L27","v":0},{"$f":"'Pivot Table Data'!S27","v":0},{"$f":"'Pivot Table Data'!T27","v":540},{"$f":"IF('Pivot Table Data'!O27=\"Yes\", 'Pivot Table Data'!T27, \"\")","v":540}]
[{"$f":"'Pivot Table Data'!B28","v":0},{"$f":"'Pivot Table Data'!F28","v":"Health Sciences East"},{"$f":"'Pivot Table Data'!P28","v":"Athena"},{"$f":"'Pivot Table Data'!I28","v":"L3"},{"$f":"'Pivot Table Data'!J28","v":"Visitor"},{"$f":"'Pivot Table Data'!K28","v":0},{"$f":"'Pivot Table Data'!L28","v":0},{"$f":"'Pivot Table Data'!S28","v":58},{"$f":"'Pivot Table Data'!T28","v":""},{"$f":"IF('Pivot Table Data'!O28=\"Yes\", 'Pivot Table Data'!T28, \"\")","v":""}]
[{"$f":"'Pivot Table Data'!B29","v":0},{"$f":"'Pivot Table Data'!F29","v":"Health Sciences East"},{"$f":"'Pivot Table Data'!P29","v":"Athena"},{"$f":"'Pivot Table Data'!I29","v":"L4"},{"$f":"'Pivot Table Data'!J29","v":"A"},{"$f":"'Pivot Table Data'!K29","v":0},{"$f":"'Pivot Table Data'!L29","v":0},{"$f":"'Pivot Table Data'!S29","v":147},{"$f":"'Pivot Table Data'!T29","v":""},{"$f":"IF('Pivot Table Data'!O29=\"Yes\", 'Pivot Table Data'!T29, \"\")","v":""}]
[{"$f":"'Pivot Table Data'!B30","v":0},{"$f":"'Pivot Table Data'!F30","v":"Health Sciences East"},{"$f":"'Pivot Table Data'!P30","v":"Athena"},{"$f":"'Pivot Table Data'!I30","v":"L4"},{"$f":"'Pivot Table Data'!J30","v":"B"},{"$f":"'Pivot Table Data'!K30","v":0},{"$f":"'Pivot Table Data'!L30","v":0},{"$f":"'Pivot Table Data'!S30","v":76},{"$f":"'Pivot Table Data'!T30","v":""},{"$f":"IF('Pivot Table Data'!O30=\"Yes\", 'Pivot Table Data'!T30, \"\")","v":""}]
[{"$f":"'Pivot Table Data'!B31","v":0},{"$f":"'Pivot Table Data'!F31","v":"Health Sciences East"},{"$f":"'Pivot Table Data'!P31","v":"Athena"},{"$f":"'Pivot Table Data'!I31","v":"L4"},{"$f":"'Pivot Table Data'!J31","v":"Motorcycle Section"},{"$f":"'Pivot Table Data'!K31","v":0},{"$f":"'Pivot Table Data'!L31","v":0},{"$f":"'Pivot Table Data'!S31","v":5},{"$f":"'Pivot Table Data'!T31","v":""},{"$f":"IF('Pivot Table Data'!O31=\"Yes\", 'Pivot Table Data'!T31, \"\")","v":""}]
[{"$f":"'Pivot Table Data'!B32","v":0},{"$f":"'Pivot Table Data'!F32","v":"Health Sciences East"},{"$f":"'Pivot Table Data'!P32","v":"Athena"},{"$f":"'Pivot Table Data'!I32","v":"L4"},{"$f":"'Pivot Table Data'!J32","v":"Reserved"},{"$f":"'Pivot Table Data'!K32","v":0},{"$f":"'Pivot Table Data'!L32","v":0},{"$f":"'Pivot Table Data'!S32","v":6},{"$f":"'Pivot Table Data'!T32","v":6},{"$f":"IF('Pivot Table Data'!O32=\"Yes\", 'Pivot Table Data'!T32, \"\")","v":""}]
[{"$f":"'Pivot Table Data'!B33","v":0},{"$f":"'Pivot Table Data'!F33","v":"Health Sciences East"},{"$f":"'Pivot Table Data'!P33","v":"Athena"},{"$f":"'Pivot Table Data'!I33","v":"L5"},{"$f":"'Pivot Table Data'!J33","v":"B"},{"$f":"'Pivot Table Data'!K33","v":0},{"$f":"'Pivot Table Data'!L33","v":0},{"$f":"'Pivot Table Data'!S33","v":225},{"$f":"'Pivot Table Data'!T33","v":""},{"$f":"IF('Pivot Table Data'!O33=\"Yes\", 'Pivot Table Data'!T33, \"\")","v":""}]
[{"$f":"'Pivot Table Data'!B34","v":0},{"$f":"'Pivot Table Data'!F34","v":"Health Sciences East"},{"$f":"'Pivot Table Data'!P34","v":"Athena"},{"$f":"'Pivot Table Data'!I34","v":"L5"},{"$f":"'Pivot Table Data'!J34","v":"Electric Vehicle"},{"$f":"'Pivot Table Data'!K34","v":0},{"$f":"'Pivot Table Data'!L34","v":"12-Hour"},{"$f":"'Pivot Table Data'!S34","v":0},{"$f":"'Pivot Table Data'!T34","v":27},{"$f":"IF('Pivot Table Data'!O34=\"Yes\", 'Pivot Table Data'!T34, \"\")","v":""}]
[{"$f":"'Pivot Table Data'!B35","v":0},{"$f":"'Pivot Table Data'!F35","v":"Health Sciences East"},{"$f":"'Pivot Table Data'!P35","v":"Athena"},{"$f":"'Pivot Table Data'!I35","v":"L5"},{"$f":"'Pivot Table Data'!J35","v":"Motorcycle Section"},{"$f":"'Pivot Table Data'!K35","v":0},{"$f":"'Pivot Table Data'!L35","v":0},{"$f":"'Pivot Table Data'!S35","v":5},{"$f":"'Pivot Table Data'!T35","v":""},{"$f":"IF('Pivot Table Data'!O35=\"Yes\", 'Pivot Table Data'!T35, \"\")","v":""}]
[{"$f":"'Pivot Table Data'!B36","v":0},{"$f":"'Pivot Table Data'!F36","v":"Health Sciences East"},{"$f":"'Pivot Table Data'!P36","v":"Athena"},{"$f":"'Pivot Table Data'!I36","v":"L6"},{"$f":"'Pivot Table Data'!J36","v":"B"},{"$f":"'Pivot Table Data'!K36","v":0},{"$f":"'Pivot Table Data'!L36","v":0},{"$f":"'Pivot Table Data'!S36","v":133},{"$f":"'Pivot Table Data'!T36","v":""},{"$f":"IF('Pivot Table Data'!O36=\"Yes\", 'Pivot Table Data'!T36, \"\")","v":""}]
[{"$f":"'Pivot Table Data'!B37","v":0},{"$f":"'Pivot Table Data'!F37","v":"Health Sciences East"},{"$f":"'Pivot Table Data'!P37","v":"Athena"},{"$f":"'Pivot Table Data'!I37","v":"L6"},{"$f":"'Pivot Table Data'!J37","v":"Electric Vehicle"},{"$f":"'Pivot Table Data'!K37","v":0},{"$f":"'Pivot Table Data'!L37","v":"12-Hour"},{"$f":"'Pivot Table Data'!S37","v":27},{"$f":"'Pivot Table Data'!T37","v":""},{"$f":"IF('Pivot Table Data'!O37=\"Yes\", 'Pivot Table Data'!T37, \"\")","v":""}]
[{"$f":"'Pivot Table Data'!B38","v":0},{"$f":"'Pivot Table Data'!F38","v":"Health Sciences East"},{"$f":"'Pivot Table Data'!P38","v":"Athena"},{"$f":"'Pivot Table Data'!I38","v":"L6"},{"$f":"'Pivot Table Data'!J38","v":"Motorcycle Section"},{"$f":"'Pivot Table Data'!K38","v":0},{"$f":"'Pivot Table Data'!L38","v":0},{"$f":"'Pivot Table Data'!S38","v":8},{"$f":"'Pivot Table Data'!T38","v":""},{"$f":"IF('Pivot Table Data'!O38=\"Yes\", 'Pivot Table Data'!T38, \"\")","v":""}]
[{"$f":"'Pivot Table Data'!B39","v":0},{"$f":"'Pivot Table Data'!F39","v":"Health Sciences East"},{"$f":"'Pivot Table Data'!P39","v":"Athena"},{"$f":"'Pivot Table Data'!I39","v":"Roof"},{"$f":"'Pivot Table Data'!J39","v":"B"},{"$f":"'Pivot Table Data'!K39","v":0},{"$f":"'Pivot Table Data'!L39","v":0},{"$f":"'Pivot Table Data'!S39","v":106},{"$f":"'Pivot Table Data'!T39","v":""},{"$f":"IF('Pivot Table Data'!O39=\"Yes\", 'Pivot Table Data'!T39, \"\")","v":""}]
[{"$f":"'Pivot Table Data'!B40","v":0},{"$f":"'Pivot Table Data'!F40","v":"Health Sciences East"},{"$f":"'Pivot Table Data'!P40","v":"Campus Point East"},{"$f":"'Pivot Table Data'!I40","v":"L1"},{"$f":"'Pivot Table Data'!J40","v":"A"},{"$f":"'Pivot Table Data'!K40","v":"24/7 Enforced"},{"$f":"'Pivot Table Data'!L40","v":0},{"$f":"'Pivot Table Data'!S40","v":177},{"$f":"'Pivot Table Data'!T40","v":371},{"$f":"IF('Pivot Table Data'!O40=\"Yes\", 'Pivot Table Data'!T40, \"\")","v":371}]
[{"$f":"'Pivot Table Data'!B41","v":0},{"$f":"'Pivot Table Data'!F41","v":"Health Sciences East"},{"$f":"'Pivot Table Data'!P41","v":"Campus Point East"},{"$f":"'Pivot Table Data'!I41","v":"L2"},{"$f":"'Pivot Table Data'!J41","v":"A"},{"$f":"'Pivot Table Data'!K41","v":"24/7 Enforced"},{"$f":"'Pivot Table Data'!L41","v":0},{"$f":"'Pivot Table Data'!S41","v":194},{"$f":"'Pivot Table Data'!T41","v":""},{"$f":"IF('Pivot Table Data'!O41=\"Yes\", 'Pivot Table Data'!T41, \"\")","v":""}]
[{"$f":"'Pivot Table Data'!B42","v":0},{"$f":"'Pivot Table Data'!F42","v":"Health Sciences East"},{"$f":"'Pivot Table Data'!P42","v":"Campus Point East"},{"$f":"'Pivot Table Data'!I42","v":"L2"},{"$f":"'Pivot Table Data'!J42","v":"Accessible"},{"$f":"'Pivot Table Data'!K42","v":0},{"$f":"'Pivot Table Data'!L42","v":0},{"$f":"'Pivot Table Data'!S42","v":11},{"$f":"'Pivot Table Data'!T42","v":11},{"$f":"IF('Pivot Table Data'!O42=\"Yes\", 'Pivot Table Data'!T42, \"\")","v":""}]
[{"$f":"'Pivot Table Data'!B43","v":0},{"$f":"'Pivot Table Data'!F43","v":"Health Sciences East"},{"$f":"'Pivot Table Data'!P43","v":"Campus Point East"},{"$f":"'Pivot Table Data'!I43","v":"L2"},{"$f":"'Pivot Table Data'!J43","v":"Accessible (Van)"},{"$f":"'Pivot Table Data'!K43","v":0},{"$f":"'Pivot Table Data'!L43","v":0},{"$f":"'Pivot Table Data'!S43","v":1},{"$f":"'Pivot Table Data'!T43","v":1},{"$f":"IF('Pivot Table Data'!O43=\"Yes\", 'Pivot Table Data'!T43, \"\")","v":""}]
[{"$f":"'Pivot Table Data'!B44","v":0},{"$f":"'Pivot Table Data'!F44","v":"Health Sciences East"},{"$f":"'Pivot Table Data'!P44","v":"Campus Point East"},{"$f":"'Pivot Table Data'!I44","v":"L2"},{"$f":"'Pivot Table Data'!J44","v":"Electric Vehicle"},{"$f":"'Pivot Table Data'!K44","v":0},{"$f":"'Pivot Table Data'!L44","v":0},{"$f":"'Pivot Table Data'!S44","v":3},{"$f":"'Pivot Table Data'!T44","v":3},{"$f":"IF('Pivot Table Data'!O44=\"Yes\", 'Pivot Table Data'!T44, \"\")","v":""}]
[{"$f":"'Pivot Table Data'!B45","v":0},{"$f":"'Pivot Table Data'!F45","v":"Health Sciences East"},{"$f":"'Pivot Table Data'!P45","v":"Campus Point East"},{"$f":"'Pivot Table Data'!I45","v":"L2"},{"$f":"'Pivot Table Data'!J45","v":"Motorcycle Section"},{"$f":"'Pivot Table Data'!K45","v":0},{"$f":"'Pivot Table Data'!L45","v":0},{"$f":"'Pivot Table Data'!S45","v":8},{"$f":"'Pivot Table Data'!T45","v":8},{"$f":"IF('Pivot Table Data'!O45=\"Yes\", 'Pivot Table Data'!T45, \"\")","v":""}]
[{"$f":"'Pivot Table Data'!B46","v":0},{"$f":"'Pivot Table Data'!F46","v":"Health Sciences East"},{"$f":"'Pivot Table Data'!P46","v":"Campus Point East"},{"$f":"'Pivot Table Data'!I46","v":"L2"},{"$f":"'Pivot Table Data'!J46","v":"Reserved"},{"$f":"'Pivot Table Data'!K46","v":0},{"$f":"'Pivot Table Data'!L46","v":0},{"$f":"'Pivot Table Data'!S46","v":40},{"$f":"'Pivot Table Data'!T46","v":40},{"$f":"IF('Pivot Table Data'!O46=\"Yes\", 'Pivot Table Data'!T46, \"\")","v":""}]
[{"$f":"'Pivot Table Data'!B47","v":0},{"$f":"'Pivot Table Data'!F47","v":"Health Sciences East"},{"$f":"'Pivot Table Data'!P47","v":"Campus Point East"},{"$f":"'Pivot Table Data'!I47","v":"L3"},{"$f":"'Pivot Table Data'!J47","v":"Reserved"},{"$f":"'Pivot Table Data'!K47","v":"Valet"},{"$f":"'Pivot Table Data'!L47","v":0},{"$f":"'Pivot Table Data'!S47","v":127},{"$f":"'Pivot Table Data'!T47","v":127},{"$f":"IF('Pivot Table Data'!O47=\"Yes\", 'Pivot Table Data'!T47, \"\")","v":""}]
[{"$f":"'Pivot Table Data'!B48","v":0},{"$f":"'Pivot Table Data'!F48","v":"Health Sciences East"},{"$f":"'Pivot Table Data'!P48","v":"Campus Point East"},{"$f":"'Pivot Table Data'!I48","v":"L3"},{"$f":"'Pivot Table Data'!J48","v":"Visitor"},{"$f":"'Pivot Table Data'!K48","v":0},{"$f":"'Pivot Table Data'!L48","v":0},{"$f":"'Pivot Table Data'!S48","v":138},{"$f":"'Pivot Table Data'!T48","v":138},{"$f":"IF('Pivot Table Data'!O48=\"Yes\", 'Pivot Table Data'!T48, \"\")","v":138}]
[{"$f":"'Pivot Table Data'!B49","v":0},{"$f":"'Pivot Table Data'!F49","v":"Health Sciences East"},{"$f":"'Pivot Table Data'!P49","v":"Campus Point West"},{"$f":"'Pivot Table Data'!I49","v":"B3"},{"$f":"'Pivot Table Data'!J49","v":"Motorcycle Section"},{"$f":"'Pivot Table Data'!K49","v":0},{"$f":"'Pivot Table Data'!L49","v":0},{"$f":"'Pivot Table Data'!S49","v":0},{"$f":"'Pivot Table Data'!T49","v":0},{"$f":"IF('Pivot Table Data'!O49=\"Yes\", 'Pivot Table Data'!T49, \"\")","v":""}]
[{"$f":"'Pivot Table Data'!B50","v":0},{"$f":"'Pivot Table Data'!F50","v":"Health Sciences East"},{"$f":"'Pivot Table Data'!P50","v":"Campus Point West"},{"$f":"'Pivot Table Data'!I50","v":"B3"},{"$f":"'Pivot Table Data'!J50","v":"Visitor"},{"$f":"'Pivot Table Data'!K50","v":0},{"$f":"'Pivot Table Data'!L50","v":0},{"$f":"'Pivot Table Data'!S50","v":130},{"$f":"'Pivot Table Data'!T50","v":611},{"$f":"IF('Pivot Table Data'!O50=\"Yes\", 'Pivot Table Data'!T50, \"\")","v":611}]
[{"$f":"'Pivot Table Data'!B51","v":0},{"$f":"'Pivot Table Data'!F51","v":"Health Sciences East"},{"$f":"'Pivot Table Data'!P51","v":"Campus Point West"},{"$f":"'Pivot Table Data'!I51","v":"B2"},{"$f":"'Pivot Table Data'!J51","v":"Motorcycle Section"},{"$f":"'Pivot Table Data'!K51","v":0},{"$f":"'Pivot Table Data'!L51","v":0},{"$f":"'Pivot Table Data'!S51","v":0},{"$f":"'Pivot Table Data'!T51","v":""},{"$f":"IF('Pivot Table Data'!O51=\"Yes\", 'Pivot Table Data'!T51, \"\")","v":""}]
[{"$f":"'Pivot Table Data'!B52","v":0},{"$f":"'Pivot Table Data'!F52","v":"Health Sciences East"},{"$f":"'Pivot Table Data'!P52","v":"Campus Point West"},{"$f":"'Pivot Table Data'!I52","v":"B2"},{"$f":"'Pivot Table Data'!J52","v":"Visitor"},{"$f":"'Pivot Table Data'!K52","v":0},{"$f":"'Pivot Table Data'!L52","v":0},{"$f":"'Pivot Table Data'!S52","v":181},{"$f":"'Pivot Table Data'!T52","v":""},{"$f":"IF('Pivot Table Data'!O52=\"Yes\", 'Pivot Table Data'!T52, \"\")","v":""}]
[{"$f":"'Pivot Table Data'!B53","v":0},{"$f":"'Pivot Table Data'!F53","v":"Health Sciences East"},{"$f":"'Pivot Table Data'!P53","v":"Campus Point West"},{"$f":"'Pivot Table Data'!I53","v":"B1"},{"$f":"'Pivot Table Data'!J53","v":"Accessible"},{"$f":"'Pivot Table Data'!K53","v":0},{"$f":"'Pivot Table Data'!L53","v":0},{"$f":"'Pivot Table Data'!S53","v":31},{"$f":"'Pivot Table Data'!T53","v":87},{"$f":"IF('Pivot Table Data'!O53=\"Yes\", 'Pivot Table Data'!T53, \"\")","v":""}]
[{"$f":"'Pivot Table Data'!B54","v":0},{"$f":"'Pivot Table Data'!F54","v":"Health Sciences East"},{"$f":"'Pivot Table Data'!P54","v":"Campus Point West"},{"$f":"'Pivot Table Data'!I54","v":"B1"},{"$f":"'Pivot Table Data'!J54","v":"Accessible (Van)"},{"$f":"'Pivot Table Data'!K54","v":0},{"$f":"'Pivot Table Data'!L54","v":0},{"$f":"'Pivot Table Data'!S54","v":6},{"$f":"'Pivot Table Data'!T54","v":17},{"$f":"IF('Pivot Table Data'!O54=\"Yes\", 'Pivot Table Data'!T54, \"\")","v":""}]
[{"$f":"'Pivot Table Data'!B55","v":0},{"$f":"'Pivot Table Data'!F55","v":"Health Sciences East"},{"$f":"'Pivot Table Data'!P55","v":"Campus Point West"},{"$f":"'Pivot Table Data'!I55","v":"B1"},{"$f":"'Pivot Table Data'!J55","v":"Electric Vehicle"},{"$f":"'Pivot Table Data'!K55","v":0},{"$f":"'Pivot Table Data'!L55","v":0},{"$f":"'Pivot Table Data'!S55","v":6},{"$f":"'Pivot Table Data'!T55","v":6},{"$f":"IF('Pivot Table Data'!O55=\"Yes\", 'Pivot Table Data'!T55, \"\")","v":""}]
[{"$f":"'Pivot Table Data'!B56","v":0},{"$f":"'Pivot Table Data'!F56","v":"Health Sciences East"},{"$f":"'Pivot Table Data'!P56","v":"Campus Point West"},{"$f":"'Pivot Table Data'!I56","v":"B1"},{"$f":"'Pivot Table Data'!J56","v":"Visitor"},{"$f":"'Pivot Table Data'!K56","v":0},{"$f":"'Pivot Table Data'!L56","v":0},{"$f":"'Pivot Table Data'!S56","v":109},{"$f":"'Pivot Table Data'!T56","v":""},{"$f":"IF('Pivot Table Data'!O56=\"Yes\", 'Pivot Table Data'!T56, \"\")","v":""}]
[{"$f":"'Pivot Table Data'!B57","v":0},{"$f":"'Pivot Table Data'!F57","v":"Health Sciences East"},{"$f":"'Pivot Table Data'!P57","v":"Campus Point West"},{"$f":"'Pivot Table Data'!I57","v":"Ground Floor"},{"$f":"'Pivot Table Data'!J57","v":"A"},{"$f":"'Pivot Table Data'!K57","v":"24/7 Enforced"},{"$f":"'Pivot Table Data'!L57","v":0},{"$f":"'Pivot Table Data'!S57","v":7},{"$f":"'Pivot Table Data'!T57","v":7},{"$f":"IF('Pivot Table Data'!O57=\"Yes\", 'Pivot Table Data'!T57, \"\")","v":7}]
[{"$f":"'Pivot Table Data'!B58","v":0},{"$f":"'Pivot Table Data'!F58","v":"Health Sciences East"},{"$f":"'Pivot Table Data'!P58","v":"Campus Point West"},{"$f":"'Pivot Table Data'!I58","v":"Ground Floor"},{"$f":"'Pivot Table Data'!J58","v":"Accessible"},{"$f":"'Pivot Table Data'!K58","v":0},{"$f":"'Pivot Table Data'!L58","v":0},{"$f":"'Pivot Table Data'!S58","v":24},{"$f":"'Pivot Table Data'!T58","v":""},{"$f":"IF('Pivot Table Data'!O58=\"Yes\", 'Pivot Table Data'!T58, \"\")","v":""}]
[{"$f":"'Pivot Table Data'!B59","v":0},{"$f":"'Pivot Table Data'!F59","v":"Health Sciences East"},{"$f":"'Pivot Table Data'!P59","v":"Campus Point West"},{"$f":"'Pivot Table Data'!I59","v":"Ground Floor"},{"$f":"'Pivot Table Data'!J59","v":"Accessible (Van)"},{"$f":"'Pivot Table Data'!K59","v":0},{"$f":"'Pivot Table Data'!L59","v":0},{"$f":"'Pivot Table Data'!S59","v":7},{"$f":"'Pivot Table Data'!T59","v":""},{"$f":"IF('Pivot Table Data'!O59=\"Yes\", 'Pivot Table Data'!T59, \"\")","v":""}]
[{"$f":"'Pivot Table Data'!B60","v":0},{"$f":"'Pivot Table Data'!F60","v":"Health Sciences East"},{"$f":"'Pivot Table Data'!P60","v":"Campus Point West"},{"$f":"'Pivot Table Data'!I60","v":"Ground Floor"},{"$f":"'Pivot Table Data'!J60","v":"Motorcycle Section"},{"$f":"'Pivot Table Data'!K60","v":0},{"$f":"'Pivot Table Data'!L60","v":0},{"$f":"'Pivot Table Data'!S60","v":0},{"$f":"'Pivot Table Data'!T60","v":""},{"$f":"IF('Pivot Table Data'!O60=\"Yes\", 'Pivot Table Data'!T60, \"\")","v":""}]
[{"$f":"'Pivot Table Data'!B61","v":0},{"$f":"'Pivot Table Data'!F61","v":"Health Sciences East"},{"$f":"'Pivot Table Data'!P61","v":"Campus Point West"},{"$f":"'Pivot Table Data'!I61","v":"Ground Floor"},{"$f":"'Pivot Table Data'!J61","v":"Reserved"},{"$f":"'Pivot Table Data'!K61","v":"Emergency Room"},{"$f":"'Pivot Table Data'!L61","v":0},{"$f":"'Pivot Table Data'!S61","v":10},{"$f":"'Pivot Table Data'!T61","v":10},{"$f":"IF('Pivot Table Data'!O61=\"Yes\", 'Pivot Table Data'!T61, \"\")","v":""}]
[{"$f":"'Pivot Table Data'!B62","v":0},{"$f":"'Pivot Table Data'!F62","v":"Health Sciences East"},{"$f":"'Pivot Table Data'!P62","v":"Campus Point West"},{"$f":"'Pivot Table Data'!I62","v":"Ground Floor"},{"$f":"'Pivot Table Data'!J62","v":"Reserved"},{"$f":"'Pivot Table Data'!K62","v":0},{"$f":"'Pivot Table Data'!L62","v":0},{"$f":"'Pivot Table Data'!S62","v":6},{"$f":"'Pivot Table Data'!T62","v":18},{"$f":"IF('Pivot Table Data'!O62=\"Yes\", 'Pivot Table Data'!T62, \"\")","v":""}]
[{"$f":"'Pivot Table Data'!B63","v":0},{"$f":"'Pivot Table Data'!F63","v":"Health Sciences East"},{"$f":"'Pivot Table Data'!P63","v":"Campus Point West"},{"$f":"'Pivot Table Data'!I63","v":"Ground Floor"},{"$f":"'Pivot Table Data'!J63","v":"Reserved"},{"$f":"'Pivot Table Data'!K63","v":0},{"$f":"'Pivot Table Data'!L63","v":0},{"$f":"'Pivot Table Data'!S63","v":2},{"$f":"'Pivot Table Data'!T63","v":""},{"$f":"IF('Pivot Table Data'!O63=\"Yes\", 'Pivot Table Data'!T63, \"\")","v":""}]
[{"$f":"'Pivot Table Data'!B64","v":0},{"$f":"'Pivot Table Data'!F64","v":"Health Sciences East"},{"$f":"'Pivot Table Data'!P64","v":"Campus Point West"},{"$f":"'Pivot Table Data'!I64","v":"Ground Floor"},{"$f":"'Pivot Table Data'!J64","v":"Reserved"},{"$f":"'Pivot Table Data'!K64","v":0},{"$f":"'Pivot Table Data'!L64","v":0},{"$f":"'Pivot Table Data'!S64","v":10},{"$f":"'Pivot Table Data'!T64","v":""},{"$f":"IF('Pivot Table Data'!O64=\"Yes\", 'Pivot Table Data'!T64, \"\")","v":""}]
[{"$f":"'Pivot Table Data'!B65","v":0},{"$f":"'Pivot Table Data'!F65","v":"Health Sciences East"},{"$f":"'Pivot Table Data'!P65","v":"Campus Point West"},{"$f":"'Pivot Table Data'!I65","v":"Ground Floor"},{"$f":"'Pivot Table Data'!J65","v":"Visitor"},{"$f":"'Pivot Table Data'!K65","v":"Patient/Visitor Reserved"},{"$f":"'Pivot Table Data'!L65","v":"30 minutes"},{"$f":"'Pivot Table Data'!S65","v":1},{"$f":"'Pivot Table Data'!T65","v":1},{"$f":"IF('Pivot Table Data'!O65=\"Yes\", 'Pivot Table Data'!T65, \"\")","v":1}]
[{"$f":"'Pivot Table Data'!B66","v":0},{"$f":"'Pivot Table Data'!F66","v":"Health Sciences East"},{"$f":"'Pivot Table Data'!P66","v":"Campus Point West"},{"$f":"'Pivot Table Data'!I66","v":"Ground Floor"},{"$f":"'Pivot Table Data'!J66","v":"Visitor"},{"$f":"'Pivot Table Data'!K66","v":0},{"$f":"'Pivot Table Data'!L66","v":0},{"$f":"'Pivot Table Data'!S66","v":47},{"$f":"'Pivot Table Data'!T66","v":""},{"$f":"IF('Pivot Table Data'!O66=\"Yes\", 'Pivot Table Data'!T66, \"\")","v":""}]
[{"$f":"'Pivot Table Data'!B67","v":0},{"$f":"'Pivot Table Data'!F67","v":"Health Sciences East"},{"$f":"'Pivot Table Data'!P67","v":"Campus Point West"},{"$f":"'Pivot Table Data'!I67","v":"Ground Floor"},{"$f":"'Pivot Table Data'!J67","v":"Visitor"},{"$f":"'Pivot Table Data'!K67","v":0},{"$f":"'Pivot Table Data'!L67","v":0},{"$f":"'Pivot Table Data'!S67","v":18},{"$f":"'Pivot Table Data'!T67","v":""},{"$f":"IF('Pivot Table Data'!O67=\"Yes\", 'Pivot Table Data'!T67, \"\")","v":""}]
[{"$f":"'Pivot Table Data'!B68","v":0},{"$f":"'Pivot Table Data'!F68","v":"Health Sciences East"},{"$f":"'Pivot Table Data'!P68","v":"Campus Point West"},{"$f":"'Pivot Table Data'!I68","v":"Roof"},{"$f":"'Pivot Table Data'!J68","v":"Accessible"},{"$f":"'Pivot Table Data'!K68","v":0},{"$f":"'Pivot Table Data'!L68","v":0},{"$f":"'Pivot Table Data'!S68","v":32},{"$f":"'Pivot Table Data'!T68","v":""},{"$f":"IF('Pivot Table Data'!O68=\"Yes\", 'Pivot Table Data'!T68, \"\")","v":""}]
[{"$f":"'Pivot Table Data'!B69","v":0},{"$f":"'Pivot Table Data'!F69","v":"Health Sciences East"},{"$f":"'Pivot Table Data'!P69","v":"Campus Point West"},{"$f":"'Pivot Table Data'!I69","v":"Roof"},{"$f":"'Pivot Table Data'!J69","v":"Accessible (Van)"},{"$f":"'Pivot Table Data'!K69","v":0},{"$f":"'Pivot Table Data'!L69","v":0},{"$f":"'Pivot Table Data'!S69","v":4},{"$f":"'Pivot Table Data'!T69","v":""},{"$f":"IF('Pivot Table Data'!O69=\"Yes\", 'Pivot Table Data'!T69, \"\")","v":""}]
[{"$f":"'Pivot Table Data'!B70","v":0},{"$f":"'Pivot Table Data'!F70","v":"Health Sciences East"},{"$f":"'Pivot Table Data'!P70","v":"Campus Point West"},{"$f":"'Pivot Table Data'!I70","v":"Roof"},{"$f":"'Pivot Table Data'!J70","v":"Motorcycle Section"},{"$f":"'Pivot Table Data'!K70","v":0},{"$f":"'Pivot Table Data'!L70","v":0},{"$f":"'Pivot Table Data'!S70","v":0},{"$f":"'Pivot Table Data'!T70","v":""},{"$f":"IF('Pivot Table Data'!O70=\"Yes\", 'Pivot Table Data'!T70, \"\")","v":""}]
[{"$f":"'Pivot Table Data'!B71","v":0},{"$f":"'Pivot Table Data'!F71","v":"Health Sciences East"},{"$f":"'Pivot Table Data'!P71","v":"Campus Point West"},{"$f":"'Pivot Table Data'!I71","v":"Roof"},{"$f":"'Pivot Table Data'!J71","v":"Visitor"},{"$f":"'Pivot Table Data'!K71","v":0},{"$f":"'Pivot Table Data'!L71","v":0},{"$f":"'Pivot Table Data'!S71","v":126},{"$f":"'Pivot Table Data'!T71","v":""},{"$f":"IF('Pivot Table Data'!O71=\"Yes\", 'Pivot Table Data'!T71, \"\")","v":""}]
[{"$f":"'Pivot Table Data'!B72","v":0},{"$f":"'Pivot Table Data'!F72","v":"Health Sciences East"},{"$f":"'Pivot Table Data'!P72","v":"Curb"},{"$f":"'Pivot Table Data'!I72","v":"-"},{"$f":"'Pivot Table Data'!J72","v":0},{"$f":"'Pivot Table Data'!K72","v":0},{"$f":"'Pivot Table Data'!L72","v":0},{"$f":"'Pivot Table Data'!S72","v":0},{"$f":"'Pivot Table Data'!T72","v":0},{"$f":"IF('Pivot Table Data'!O72=\"Yes\", 'Pivot Table Data'!T72, \"\")","v":""}]
[{"$f":"'Pivot Table Data'!B73","v":0},{"$f":"'Pivot Table Data'!F73","v":"Science Research Park"},{"$f":"'Pivot Table Data'!P73","v":"Mesa Canyon"},{"$f":"'Pivot Table Data'!I73","v":"Ground"},{"$f":"'Pivot Table Data'!J73","v":"Accessible"},{"$f":"'Pivot Table Data'!K73","v":0},{"$f":"'Pivot Table Data'!L73","v":0},{"$f":"'Pivot Table Data'!S73","v":5},{"$f":"'Pivot Table Data'!T73","v":12},{"$f":"IF('Pivot Table Data'!O73=\"Yes\", 'Pivot Table Data'!T73, \"\")","v":""}]
[{"$f":"'Pivot Table Data'!B74","v":0},{"$f":"'Pivot Table Data'!F74","v":"Science Research Park"},{"$f":"'Pivot Table Data'!P74","v":"Mesa Canyon"},{"$f":"'Pivot Table Data'!I74","v":"Ground"},{"$f":"'Pivot Table Data'!J74","v":"Accessible (Van)"},{"$f":"'Pivot Table Data'!K74","v":0},{"$f":"'Pivot Table Data'!L74","v":0},{"$f":"'Pivot Table Data'!S74","v":2},{"$f":"'Pivot Table Data'!T74","v":5},{"$f":"IF('Pivot Table Data'!O74=\"Yes\", 'Pivot Table Data'!T74, \"\")","v":""}]
[{"$f":"'Pivot Table Data'!B75","v":0},{"$f":"'Pivot Table Data'!F75","v":"Science Research Park"},{"$f":"'Pivot Table Data'!P75","v":"Mesa Canyon"},{"$f":"'Pivot Table Data'!I75","v":"Ground"},{"$f":"'Pivot Table Data'!J75","v":"B"},{"$f":"'Pivot Table Data'!K75","v":0},{"$f":"'Pivot Table Data'!L75","v":0},{"$f":"'Pivot Table Data'!S75","v":148},{"$f":"'Pivot Table Data'!T75","v":497},{"$f":"IF('Pivot Table Data'!O75=\"Yes\", 'Pivot Table Data'!T75, \"\")","v":497}]
[{"$f":"'Pivot Table Data'!B76","v":0},{"$f":"'Pivot Table Data'!F76","v":"Science Research Park"},{"$f":"'Pivot Table Data'!P76","v":"Mesa Canyon"},{"$f":"'Pivot Table Data'!I76","v":"Ground"},{"$f":"'Pivot Table Data'!J76","v":"Electric Vehicle"},{"$f":"'Pivot Table Data'!K76","v":0},{"$f":"'Pivot Table Data'!L76","v":0},{"$f":"'Pivot Table Data'!S76","v":18},{"$f":"'Pivot Table Data'!T76","v":33},{"$f":"IF('Pivot Table Data'!O76=\"Yes\", 'Pivot Table Data'!T76, \"\")","v":""}]
[{"$f":"'Pivot Table Data'!B77","v":0},{"$f":"'Pivot Table Data'!F77","v":"Science Research Park"},{"$f":"'Pivot Table Data'!P77","v":"Mesa Canyon"},{"$f":"'Pivot Table Data'!I77","v":"Ground"},{"$f":"'Pivot Table Data'!J77","v":"G"},{"$f":"'Pivot Table Data'!K77","v":0},{"$f":"'Pivot Table Data'!L77","v":0},{"$f":"'Pivot Table Data'!S77","v":0},{"$f":"'Pivot Table Data'!T77","v":578},{"$f":"IF('Pivot Table Data'!O77=\"Yes\", 'Pivot Table Data'!T77, \"\")","v":""}]
[{"$f":"'Pivot Table Data'!B78","v":0},{"$f":"'Pivot Table Data'!F78","v":"Science Research Park"},{"$f":"'Pivot Table Data'!P78","v":"Mesa Canyon"},{"$f":"'Pivot Table Data'!I78","v":"Ground"},{"$f":"'Pivot Table Data'!J78","v":"Motorcycle Section"},{"$f":"'Pivot Table Data'!K78","v":0},{"$f":"'Pivot Table Data'!L78","v":0},{"$f":"'Pivot Table Data'!S78","v":6},{"$f":"'Pivot Table Data'!T78","v":16},{"$f":"IF('Pivot Table Data'!O78=\"Yes\", 'Pivot Table Data'!T78, \"\")","v":""}]
[{"$f":"'Pivot Table Data'!B79","v":0},{"$f":"'Pivot Table Data'!F79","v":"Science Research Park"},{"$f":"'Pivot Table Data'!P79","v":"Mesa Canyon"},{"$f":"'Pivot Table Data'!I79","v":"L2"},{"$f":"'Pivot Table Data'!J79","v":"Accessible"},{"$f":"'Pivot Table Data'!K79","v":0},{"$f":"'Pivot Table Data'!L79","v":0},{"$f":"'Pivot Table Data'!S79","v":4},{"$f":"'Pivot Table Data'!T79","v":""},{"$f":"IF('Pivot Table Data'!O79=\"Yes\", 'Pivot Table Data'!T79, \"\")","v":""}]
[{"$f":"'Pivot Table Data'!B80","v":0},{"$f":"'Pivot Table Data'!F80","v":"Science Research Park"},{"$f":"'Pivot Table Data'!P80","v":"Mesa Canyon"},{"$f":"'Pivot Table Data'!I80","v":"L2"},{"$f":"'Pivot Table Data'!J80","v":"Accessible (Van)"},{"$f":"'Pivot Table Data'!K80","v":0},{"$f":"'Pivot Table Data'!L80","v":0},{"$f":"'Pivot Table Data'!S80","v":1},{"$f":"'Pivot Table Data'!T80","v":""},{"$f":"IF('Pivot Table Data'!O80=\"Yes\", 'Pivot Table Data'!T80, \"\")","v":""}]
[{"$f":"'Pivot Table Data'!B81","v":0},{"$f":"'Pivot Table Data'!F81","v":"Science Research Park"},{"$f":"'Pivot Table Data'!P81","v":"Mesa Canyon"},{"$f":"'Pivot Table Data'!I81","v":"L2"},{"$f":"'Pivot Table Data'!J81","v":"B"},{"$f":"'Pivot Table Data'!K81","v":0},{"$f":"'Pivot Table Data'!L81","v":0},{"$f":"'Pivot Table Data'!S81","v":218},{"$f":"'Pivot Table Data'!T81","v":""},{"$f":"IF('Pivot Table Data'!O81=\"Yes\", 'Pivot Table Data'!T81, \"\")","v":""}]
[{"$f":"'Pivot Table Data'!B82","v":0},{"$f":"'Pivot Table Data'!F82","v":"Science Research Park"},{"$f":"'Pivot Table Data'!P82","v":"Mesa Canyon"},{"$f":"'Pivot Table Data'!I82","v":"L2"},{"$f":"'Pivot Table Data'!J82","v":"Electric Vehicle"},{"$f":"'Pivot Table Data'!K82","v":0},{"$f":"'Pivot Table Data'!L82","v":0},{"$f":"'Pivot Table Data'!S82","v":6},{"$f":"'Pivot Table Data'!T82","v":""},{"$f":"IF('Pivot Table Data'!O82=\"Yes\", 'Pivot Table Data'!T82, \"\")","v":""}]
[{"$f":"'Pivot Table Data'!B83","v":0},{"$f":"'Pivot Table Data'!F83","v":"Science Research Park"},{"$f":"'Pivot Table Data'!P83","v":"Mesa Canyon"},{"$f":"'Pivot Table Data'!I83","v":"L2"},{"$f":"'Pivot Table Data'!J83","v":"G"},{"$f":"'Pivot Table Data'!K83","v":0},{"$f":"'Pivot Table Data'!L83","v":0},{"$f":"'Pivot Table Data'!S83","v":0},{"$f":"'Pivot Table Data'!T83","v":""},{"$f":"IF('Pivot Table Data'!O83=\"Yes\", 'Pivot Table Data'!T83, \"\")","v":""}]
[{"$f":"'Pivot Table Data'!B84","v":0},{"$f":"'Pivot Table Data'!F84","v":"Science Research Park"},{"$f":"'Pivot Table Data'!P84","v":"Mesa Canyon"},{"$f":"'Pivot Table Data'!I84","v":"L2"},{"$f":"'Pivot Table Data'!J84","v":"Motorcycle Section"},{"$f":"'Pivot Table Data'!K84","v":0},{"$f":"'Pivot Table Data'!L84","v":0},{"$f":"'Pivot Table Data'!S84","v":0},{"$f":"'Pivot Table Data'!T84","v":""},{"$f":"IF('Pivot Table Data'!O84=\"Yes\", 'Pivot Table Data'!T84, \"\")","v":""}]
[{"$f":"'Pivot Table Data'!B85","v":0},{"$f":"'Pivot Table Data'!F85","v":"Science Research Park"},{"$f":"'Pivot Table Data'!P85","v":"Mesa Canyon"},{"$f":"'Pivot Table Data'!I85","v":"L3"},{"$f":"'Pivot Table Data'!J85","v":"Accessible"},{"$f":"'Pivot Table Data'!K85","v":0},{"$f":"'Pivot Table Data'!L85","v":0},{"$f":"'Pivot Table Data'!S85","v":3},{"$f":"'Pivot Table Data'!T85","v":""},{"$f":"IF('Pivot Table Data'!O85=\"Yes\", 'Pivot Table Data'!T85, \"\")","v":""}]
[{"$f":"'Pivot Table Data'!B86","v":0},{"$f":"'Pivot Table Data'!F86","v":"Science Research Park"},{"$f":"'Pivot Table Data'!P86","v":"Mesa Canyon"},{"$f":"'Pivot Table Data'!I86","v":"L3"},{"$f":"'Pivot Table Data'!J86","v":"Accessible (Van)"},{"$f":"'Pivot Table Data'!K86","v":0},{"$f":"'Pivot Table Data'!L86","v":0},{"$f":"'Pivot Table Data'!S86","v":2},{"$f":"'Pivot Table Data'!T86","v":""},{"$f":"IF('Pivot Table Data'!O86=\"Yes\", 'Pivot Table Data'!T86, \"\")","v":""}]
[{"$f":"'Pivot Table Data'!B87","v":0},{"$f":"'Pivot Table Data'!F87","v":"Science Research Park"},{"$f":"'Pivot Table Data'!P87","v":"Mesa Canyon"},{"$f":"'Pivot Table Data'!I87","v":"L3"},{"$f":"'Pivot Table Data'!J87","v":"B"},{"$f":"'Pivot Table Data'!K87","v":0},{"$f":"'Pivot Table Data'!L87","v":0},{"$f":"'Pivot Table Data'!S87","v":131},{"$f":"'Pivot Table Data'!T87","v":""},{"$f":"IF('Pivot Table Data'!O87=\"Yes\", 'Pivot Table Data'!T87, \"\")","v":""}]
[{"$f":"'Pivot Table Data'!B88","v":0},{"$f":"'Pivot Table Data'!F88","v":"Science Research Park"},{"$f":"'Pivot Table Data'!P88","v":"Mesa Canyon"},{"$f":"'Pivot Table Data'!I88","v":"L3"},{"$f":"'Pivot Table Data'!J88","v":"Electric Vehicle"},{"$f":"'Pivot Table Data'!K88","v":0},{"$f":"'Pivot Table Data'!L88","v":0},{"$f":"'Pivot Table Data'!S88","v":7},{"$f":"'Pivot Table Data'!T88","v":""},{"$f":"IF('Pivot Table Data'!O88=\"Yes\", 'Pivot Table Data'!T88, \"\")","v":""}]
[{"$f":"'Pivot Table Data'!B89","v":0},{"$f":"'Pivot Table Data'!F89","v":"Science Research Park"},{"$f":"'Pivot Table Data'!P89","v":"Mesa Canyon"},{"$f":"'Pivot Table Data'!I89","v":"L3"},{"$f":"'Pivot Table Data'!J89","v":"G"},{"$f":"'Pivot Table Data'!K89","v":0},{"$f":"'Pivot Table Data'!L89","v":0},{"$f":"'Pivot Table Data'!S89","v":0},{"$f":"'Pivot Table Data'!T89","v":""},{"$f":"IF('Pivot Table Data'!O89=\"Yes\", 'Pivot Table Data'!T89, \"\")","v":""}]
[{"$f":"'Pivot Table Data'!B90","v":0},{"$f":"'Pivot Table Data'!F90","v":"Science Research Park"},{"$f":"'Pivot Table Data'!P90","v":"Mesa Canyon"},{"$f":"'Pivot Table Data'!I90","v":"L3"},{"$f":"'Pivot Table Data'!J90","v":"Motorcycle Section"},{"$f":"'Pivot Table Data'!K90","v":0},{"$f":"'Pivot Table Data'!L90","v":0},{"$f":"'Pivot Table Data'!S90","v":10},{"$f":"'Pivot Table Data'!T90","v":""},{"$f":"IF('Pivot Table Data'!O90=\"Yes\", 'Pivot Table Data'!T90, \"\")","v":""}]
[{"$f":"'Pivot Table Data'!B91","v":0},{"$f":"'Pivot Table Data'!F91","v":"Science Research Park"},{"$f":"'Pivot Table Data'!P91","v":"Mesa Canyon"},{"$f":"'Pivot Table Data'!I91","v":"L4"},{"$f":"'Pivot Table Data'!J91","v":"Accessible"},{"$f":"'Pivot Table Data'!K91","v":0},{"$f":"'Pivot Table Data'!L91","v":0},{"$f":"'Pivot Table Data'!S91","v":0},{"$f":"'Pivot Table Data'!T91","v":""},{"$f":"IF('Pivot Table Data'!O91=\"Yes\", 'Pivot Table Data'!T91, \"\")","v":""}]
[{"$f":"'Pivot Table Data'!B92","v":0},{"$f":"'Pivot Table Data'!F92","v":"Science Research Park"},{"$f":"'Pivot Table Data'!P92","v":"Mesa Canyon"},{"$f":"'Pivot Table Data'!I92","v":"L4"},{"$f":"'Pivot Table Data'!J92","v":"Accessible (Van)"},{"$f":"'Pivot Table Data'!K92","v":0},{"$f":"'Pivot Table Data'!L92","v":0},{"$f":"'Pivot Table Data'!S92","v":0},{"$f":"'Pivot Table Data'!T92","v":""},{"$f":"IF('Pivot Table Data'!O92=\"Yes\", 'Pivot Table Data'!T92, \"\")","v":""}]
[{"$f":"'Pivot Table Data'!B93","v":0},{"$f":"'Pivot Table Data'!F93","v":"Science Research Park"},{"$f":"'Pivot Table Data'!P93","v":"Mesa Canyon"},{"$f":"'Pivot Table Data'!I93","v":"L4"},{"$f":"'Pivot Table Data'!J93","v":"B"},{"$f":"'Pivot Table Data'!K93","v":0},{"$f":"'Pivot Table Data'!L93","v":0},{"$f":"'Pivot Table Data'!S93","v":0},{"$f":"'Pivot Table Data'!T93","v":""},{"$f":"IF('Pivot Table Data'!O93=\"Yes\", 'Pivot Table Data'!T93, \"\")","v":""}]
[{"$f":"'Pivot Table Data'!B94","v":0},{"$f":"'Pivot Table Data'!F94","v":"Science Research Park"},{"$f":"'Pivot Table Data'!P94","v":"Mesa Canyon"},{"$f":"'Pivot Table Data'!I94","v":"L4"},{"$f":"'Pivot Table Data'!J94","v":"Electric Vehicle"},{"$f":"'Pivot Table Data'!K94","v":0},{"$f":"'Pivot Table Data'!L94","v":0},{"$f":"'Pivot Table Data'!S94","v":2},{"$f":"'Pivot Table Data'!T94","v":""},{"$f":"IF('Pivot Table Data'!O94=\"Yes\", 'Pivot Table Data'!T94, \"\")","v":""}]
[{"$f":"'Pivot Table Data'!B95","v":0},{"$f":"'Pivot Table Data'!F95","v":"Science Research Park"},{"$f":"'Pivot Table Data'!P95","v":"Mesa Canyon"},{"$f":"'Pivot Table Data'!I95","v":"L4"},{"$f":"'Pivot Table Data'!J95","v":"G"},{"$f":"'Pivot Table Data'!K95","v":0},{"$f":"'Pivot Table Data'!L95","v":0},{"$f":"'Pivot Table Data'!S95","v":144},{"$f":"'Pivot Table Data'!T95","v":""},{"$f":"IF('Pivot Table Data'!O95=\"Yes\", 'Pivot Table Data'!T95, \"\")","v":""}]
[{"$f":"'Pivot Table Data'!B96","v":0},{"$f":"'Pivot Table Data'!F96","v":"Science Research Park"},{"$f":"'Pivot Table Data'!P96","v":"Mesa Canyon"},{"$f":"'Pivot Table Data'!I96","v":"L4"},{"$f":"'Pivot Table Data'!J96","v":"Motorcycle Section"},{"$f":"'Pivot Table Data'!K96","v":0},{"$f":"'Pivot Table Data'!L96","v":0},{"$f":"'Pivot Table Data'!S96","v":0},{"$f":"'Pivot Table Data'!T96","v":""},{"$f":"IF('Pivot Table Data'!O96=\"Yes\", 'Pivot Table Data'!T96, \"\")","v":""}]
[{"$f":"'Pivot Table Data'!B97","v":0},{"$f":"'Pivot Table Data'!F97","v":"Science Research Park"},{"$f":"'Pivot Table Data'!P97","v":"Mesa Canyon"},{"$f":"'Pivot Table Data'!I97","v":"L5"},{"$f":"'Pivot Table Data'!J97","v":"Accessible"},{"$f":"'Pivot Table Data'!K97","v":0},{"$f":"'Pivot Table Data'!L97","v":0},{"$f":"'Pivot Table Data'!S97","v":0},{"$f":"'Pivot Table Data'!T97","v":""},{"$f":"IF('Pivot Table Data'!O97=\"Yes\", 'Pivot Table Data'!T97, \"\")","v":""}]
[{"$f":"'Pivot Table Data'!B98","v":0},{"$f":"'Pivot Table Data'!F98","v":"Science Research Park"},{"$f":"'Pivot Table Data'!P98","v":"Mesa Canyon"},{"$f":"'Pivot Table Data'!I98","v":"L5"},{"$f":"'Pivot Table Data'!J98","v":"Accessible (Van)"},{"$f":"'Pivot Table Data'!K98","v":0},{"$f":"'Pivot Table Data'!L98","v":0},{"$f":"'Pivot Table Data'!S98","v":0},{"$f":"'Pivot Table Data'!T98","v":""},{"$f":"IF('Pivot Table Data'!O98=\"Yes\", 'Pivot Table Data'!T98, \"\")","v":""}]
[{"$f":"'Pivot Table Data'!B99","v":0},{"$f":"'Pivot Table Data'!F99","v":"Science Research Park"},{"$f":"'Pivot Table Data'!P99","v":"Mesa Canyon"},{"$f":"'Pivot Table Data'!I99","v":"L5"},{"$f":"'Pivot Table Data'!J99","v":"B"},{"$f":"'Pivot Table Data'!K99","v":0},{"$f":"'Pivot Table Data'!L99","v":0},{"$f":"'Pivot Table Data'!S99","v":0},{"$f":"'Pivot Table Data'!T99","v":""},{"$f":"IF('Pivot Table Data'!O99=\"Yes\", 'Pivot Table Data'!T99, \"\")","v":""}]
[{"$f":"'Pivot Table Data'!B100","v":0},{"$f":"'Pivot Table Data'!F100","v":"Science Research Park"},{"$f":"'Pivot Table Data'!P100","v":"Mesa Canyon"},{"$f":"'Pivot Table Data'!I100","v":"L5"},{"$f":"'Pivot Table Data'!J100","v":"Electric Vehicle"},{"$f":"'Pivot Table Data'!K100","v":0},{"$f":"'Pivot Table Data'!L100","v":0},{"$f":"'Pivot Table Data'!S100","v":0},{"$f":"'Pivot Table Data'!T100","v":""},{"$f":"IF('Pivot Table Data'!O100=\"Yes\", 'Pivot Table Data'!T100, \"\")","v":""}]
[{"$f":"'Pivot Table Data'!B101","v":0},{"$f":"'Pivot Table Data'!F101","v":"Science Research Park"},{"$f":"'Pivot Table Data'!P101","v":"Mesa Canyon"},{"$f":"'Pivot Table Data'!I101","v":"L5"},{"$f":"'Pivot Table Data'!J101","v":"G"},{"$f":"'Pivot Table Data'!K101","v":0},{"$f":"'Pivot Table Data'!L101","v":0},{"$f":"'Pivot Table Data'!S101","v":217},{"$f":"'Pivot Table Data'!T101","v":""},{"$f":"IF('Pivot Table Data'!O101=\"Yes\", 'Pivot Table Data'!T101, \"\")","v":""}]
[{"$f":"'Pivot Table Data'!B102","v":0},{"$f":"'Pivot Table Data'!F102","v":"Science Research Park"},{"$f":"'Pivot Table Data'!P102","v":"Mesa Canyon"},{"$f":"'Pivot Table Data'!I102","v":"L5"},{"$f":"'Pivot Table Data'!J102","v":"Motorcycle Section"},{"$f":"'Pivot Table Data'!K102","v":0},{"$f":"'Pivot Table Data'!L102","v":0},{"$f":"'Pivot Table Data'!S102","v":0},{"$f":"'Pivot Table Data'!T102","v":""},{"$f":"IF('Pivot Table Data'!O102=\"Yes\", 'Pivot Table Data'!T102, \"\")","v":""}]
[{"$f":"'Pivot Table Data'!B103","v":0},{"$f":"'Pivot Table Data'!F103","v":"Science Research Park"},{"$f":"'Pivot Table Data'!P103","v":"Mesa Canyon"},{"$f":"'Pivot Table Data'!I103","v":"L6"},{"$f":"'Pivot Table Data'!J103","v":"Accessible"},{"$f":"'Pivot Table Data'!K103","v":0},{"$f":"'Pivot Table Data'!L103","v":0},{"$f":"'Pivot Table Data'!S103","v":0},{"$f":"'Pivot Table Data'!T103","v":""},{"$f":"IF('Pivot Table Data'!O103=\"Yes\", 'Pivot Table Data'!T103, \"\")","v":""}]
[{"$f":"'Pivot Table Data'!B104","v":0},{"$f":"'Pivot Table Data'!F104","v":"Science Research Park"},{"$f":"'Pivot Table Data'!P104","v":"Mesa Canyon"},{"$f":"'Pivot Table Data'!I104","v":"L6"},{"$f":"'Pivot Table Data'!J104","v":"Accessible (Van)"},{"$f":"'Pivot Table Data'!K104","v":0},{"$f":"'Pivot Table Data'!L104","v":0},{"$f":"'Pivot Table Data'!S104","v":0},{"$f":"'Pivot Table Data'!T104","v":""},{"$f":"IF('Pivot Table Data'!O104=\"Yes\", 'Pivot Table Data'!T104, \"\")","v":""}]
[{"$f":"'Pivot Table Data'!B105","v":0},{"$f":"'Pivot Table Data'!F105","v":"Science Research Park"},{"$f":"'Pivot Table Data'!P105","v":"Mesa Canyon"},{"$f":"'Pivot Table Data'!I105","v":"L6"},{"$f":"'Pivot Table Data'!J105","v":"B"},{"$f":"'Pivot Table Data'!K105","v":0},{"$f":"'Pivot Table Data'!L105","v":0},{"$f":"'Pivot Table Data'!S105","v":0},{"$f":"'Pivot Table Data'!T105","v":""},{"$f":"IF('Pivot Table Data'!O105=\"Yes\", 'Pivot Table Data'!T105, \"\")","v":""}]
[{"$f":"'Pivot Table Data'!B106","v":0},{"$f":"'Pivot Table Data'!F106","v":"Science Research Park"},{"$f":"'Pivot Table Data'!P106","v":"Mesa Canyon"},{"$f":"'Pivot Table Data'!I106","v":"L6"},{"$f":"'Pivot Table Data'!J106","v":"Electric Vehicle"},{"$f":"'Pivot Table Data'!K106","v":0},{"$f":"'Pivot Table Data'!L106","v":0},{"$f":"'Pivot Table Data'!S106","v":0},{"$f":"'Pivot Table Data'!T106","v":""},{"$f":"IF('Pivot Table Data'!O106=\"Yes\", 'Pivot Table Data'!T106, \"\")","v":""}]
[{"$f":"'Pivot Table Data'!B107","v":0},{"$f":"'Pivot Table Data'!F107","v":"Science Research Park"},{"$f":"'Pivot Table Data'!P107","v":"Mesa Canyon"},{"$f":"'Pivot Table Data'!I107","v":"L6"},{"$f":"'Pivot Table Data'!J107","v":"G"},{"$f":"'Pivot Table Data'!K107","v":0},{"$f":"'Pivot Table Data'!L107","v":0},{"$f":"'Pivot Table Data'!S107","v":217},{"$f":"'Pivot Table Data'!T107","v":""},{"$f":"IF('Pivot Table Data'!O107=\"Yes\", 'Pivot Table Data'!T107, \"\")","v":""}]
[{"$f":"'Pivot Table Data'!B108","v":0},{"$f":"'Pivot Table Data'!F108","v":"Science Research Park"},{"$f":"'Pivot Table Data'!P108","v":"Mesa Canyon"},{"$f":"'Pivot Table Data'!I108","v":"L6"},{"$f":"'Pivot Table Data'!J108","v":"Motorcycle Section"},{"$f":"'Pivot Table Data'!K108","v":0},{"$f":"'Pivot Table Data'!L108","v":0},{"$f":"'Pivot Table Data'!S108","v":0},{"$f":"'Pivot Table Data'!T108","v":""},{"$f":"IF('Pivot Table Data'!O108=\"Yes\", 'Pivot Table Data'!T108, \"\")","v":""}]
[{"$f":"'Pivot Table Data'!B109","v":0},{"$f":"'Pivot Table Data'!F109","v":"East Recreation"},{"$f":"'Pivot Table Data'!P109","v":"P701"},{"$f":"'Pivot Table Data'!I109","v":"-"},{"$f":"'Pivot Table Data'!J109","v":"S"},{"$f":"'Pivot Table Data'!K109","v":0},{"$f":"'Pivot Table Data'!L109","v":0},{"$f":"'Pivot Table Data'!S109","v":378},{"$f":"'Pivot Table Data'!T109","v":378},{"$f":"IF('Pivot Table Data'!O109=\"Yes\", 'Pivot Table Data'!T109, \"\")","v":378}]
[{"$f":"'Pivot Table Data'!B110","v":0},{"$f":"'Pivot Table Data'!F110","v":"Health Sciences East"},{"$f":"'Pivot Table Data'!P110","v":"P702"},{"$f":"'Pivot Table Data'!I110","v":"-"},{"$f":"'Pivot Table Data'!J110","v":"Accessible"},{"$f":"'Pivot Table Data'!K110","v":0},{"$f":"'Pivot Table Data'!L110","v":0},{"$f":"'Pivot Table Data'!S110","v":3},{"$f":"'Pivot Table Data'!T110","v":3},{"$f":"IF('Pivot Table Data'!O110=\"Yes\", 'Pivot Table Data'!T110, \"\")","v":""}]
[{"$f":"'Pivot Table Data'!B111","v":0},{"$f":"'Pivot Table Data'!F111","v":"Health Sciences East"},{"$f":"'Pivot Table Data'!P111","v":"P702"},{"$f":"'Pivot Table Data'!I111","v":"-"},{"$f":"'Pivot Table Data'!J111","v":"Accessible (Van)"},{"$f":"'Pivot Table Data'!K111","v":0},{"$f":"'Pivot Table Data'!L111","v":0},{"$f":"'Pivot Table Data'!S111","v":3},{"$f":"'Pivot Table Data'!T111","v":3},{"$f":"IF('Pivot Table Data'!O111=\"Yes\", 'Pivot Table Data'!T111, \"\")","v":""}]
[{"$f":"'Pivot Table Data'!B112","v":0},{"$f":"'Pivot Table Data'!F112","v":"Health Sciences East"},{"$f":"'Pivot Table Data'!P112","v":"P702"},{"$f":"'Pivot Table Data'!I112","v":"-"},{"$f":"'Pivot Table Data'!J112","v":"B"},{"$f":"'Pivot Table Data'!K112","v":0},{"$f":"'Pivot Table Data'!L112","v":0},{"$f":"'Pivot Table Data'!S112","v":183},{"$f":"'Pivot Table Data'!T112","v":183},{"$f":"IF('Pivot Table Data'!O112=\"Yes\", 'Pivot Table Data'!T112, \"\")","v":183}]
[{"$f":"'Pivot Table Data'!B113","v":0},{"$f":"'Pivot Table Data'!F113","v":"Health Sciences East"},{"$f":"'Pivot Table Data'!P113","v":"P703"},{"$f":"'Pivot Table Data'!I113","v":"-"},{"$f":"'Pivot Table Data'!J113","v":"Accessible"},{"$f":"'Pivot Table Data'!K113","v":0},{"$f":"'Pivot Table Data'!L113","v":0},{"$f":"'Pivot Table Data'!S113","v":0},{"$f":"'Pivot Table Data'!T113","v":0},{"$f":"IF('Pivot Table Data'!O113=\"Yes\", 'Pivot Table Data'!T113, \"\")","v":""}]
[{"$f":"'Pivot Table Data'!B114","v":0},{"$f":"'Pivot Table Data'!F114","v":"Health Sciences East"},{"$f":"'Pivot Table Data'!P114","v":"P703"},{"$f":"'Pivot Table Data'!I114","v":"-"},{"$f":"'Pivot Table Data'!J114","v":"Accessible (Van)"},{"$f":"'Pivot Table Data'!K114","v":0},{"$f":"'Pivot Table Data'!L114","v":0},{"$f":"'Pivot Table Data'!S114","v":11},{"$f":"'Pivot Table Data'!T114","v":11},{"$f":"IF('Pivot Table Data'!O114=\"Yes\", 'Pivot Table Data'!T114, \"\")","v":""}]
[{"$f":"'Pivot Table Data'!B115","v":0},{"$f":"'Pivot Table Data'!F115","v":"Health Sciences East"},{"$f":"'Pivot Table Data'!P115","v":"P703"},{"$f":"'Pivot Table Data'!I115","v":"-"},{"$f":"'Pivot Table Data'!J115","v":"Allocated"},{"$f":"'Pivot Table Data'!K115","v":"Ambulance"},{"$f":"'Pivot Table Data'!L115","v":0},{"$f":"'Pivot Table Data'!S115","v":2},{"$f":"'Pivot Table Data'!T115","v":2},{"$f":"IF('Pivot Table Data'!O115=\"Yes\", 'Pivot Table Data'!T115, \"\")","v":""}]
[{"$f":"'Pivot Table Data'!B116","v":0},{"$f":"'Pivot Table Data'!F116","v":"Health Sciences East"},{"$f":"'Pivot Table Data'!P116","v":"P703"},{"$f":"'Pivot Table Data'!I116","v":"-"},{"$f":"'Pivot Table Data'!J116","v":"D ($5.00)"},{"$f":"'Pivot Table Data'!K116","v":0},{"$f":"'Pivot Table Data'!L116","v":0},{"$f":"'Pivot Table Data'!S116","v":295},{"$f":"'Pivot Table Data'!T116","v":295},{"$f":"IF('Pivot Table Data'!O116=\"Yes\", 'Pivot Table Data'!T116, \"\")","v":295}]
[{"$f":"'Pivot Table Data'!B117","v":0},{"$f":"'Pivot Table Data'!F117","v":"Health Sciences East"},{"$f":"'Pivot Table Data'!P117","v":"P703"},{"$f":"'Pivot Table Data'!I117","v":"-"},{"$f":"'Pivot Table Data'!J117","v":"Electric Vehicle"},{"$f":"'Pivot Table Data'!K117","v":0},{"$f":"'Pivot Table Data'!L117","v":0},{"$f":"'Pivot Table Data'!S117","v":12},{"$f":"'Pivot Table Data'!T117","v":12},{"$f":"IF('Pivot Table Data'!O117=\"Yes\", 'Pivot Table Data'!T117, \"\")","v":""}]
[{"$f":"'Pivot Table Data'!B118","v":0},{"$f":"'Pivot Table Data'!F118","v":"Health Sciences East"},{"$f":"'Pivot Table Data'!P118","v":"P703"},{"$f":"'Pivot Table Data'!I118","v":"-"},{"$f":"'Pivot Table Data'!J118","v":"Loading"},{"$f":"'Pivot Table Data'!K118","v":0},{"$f":"'Pivot Table Data'!L118","v":0},{"$f":"'Pivot Table Data'!S118","v":2},{"$f":"'Pivot Table Data'!T118","v":2},{"$f":"IF('Pivot Table Data'!O118=\"Yes\", 'Pivot Table Data'!T118, \"\")","v":""}]
[{"$f":"'Pivot Table Data'!B119","v":0},{"$f":"'Pivot Table Data'!F119","v":"Health Sciences East"},{"$f":"'Pivot Table Data'!P119","v":"P703"},{"$f":"'Pivot Table Data'!I119","v":"-"},{"$f":"'Pivot Table Data'!J119","v":"Reserved"},{"$f":"'Pivot Table Data'!K119","v":"V2G"},{"$f":"'Pivot Table Data'!L119","v":0},{"$f":"'Pivot Table Data'!S119","v":1},{"$f":"'Pivot Table Data'!T119","v":1},{"$f":"IF('Pivot Table Data'!O119=\"Yes\", 'Pivot Table Data'!T119, \"\")","v":""}]
[{"$f":"'Pivot Table Data'!B120","v":0},{"$f":"'Pivot Table Data'!F120","v":"Health Sciences East"},{"$f":"'Pivot Table Data'!P120","v":"P703"},{"$f":"'Pivot Table Data'!I120","v":"-"},{"$f":"'Pivot Table Data'!J120","v":"Reserved"},{"$f":"'Pivot Table Data'!K120","v":0},{"$f":"'Pivot Table Data'!L120","v":0},{"$f":"'Pivot Table Data'!S120","v":1},{"$f":"'Pivot Table Data'!T120","v":1},{"$f":"IF('Pivot Table Data'!O120=\"Yes\", 'Pivot Table Data'!T120, \"\")","v":""}]
[{"$f":"'Pivot Table Data'!B121","v":0},{"$f":"'Pivot Table Data'!F121","v":"Health Sciences East"},{"$f":"'Pivot Table Data'!P121","v":"P703"},{"$f":"'Pivot Table Data'!I121","v":"-"},{"$f":"'Pivot Table Data'!J121","v":"UC Vehicle"},{"$f":"'Pivot Table Data'!K121","v":"UC Cart"},{"$f":"'Pivot Table Data'!L121","v":0},{"$f":"'Pivot Table Data'!S121","v":2},{"$f":"'Pivot Table Data'!T121","v":2},{"$f":"IF('Pivot Table Data'!O121=\"Yes\", 'Pivot Table Data'!T121, \"\")","v":""}]
[{"$f":"'Pivot Table Data'!B122","v":0},{"$f":"'Pivot Table Data'!F122","v":"Health Sciences East"},{"$f":"'Pivot Table Data'!P122","v":"P703"},{"$f":"'Pivot Table Data'!I122","v":"-"},{"$f":"'Pivot Table Data'!J122","v":"UC Vehicle"},{"$f":"'Pivot Table Data'!K122","v":0},{"$f":"'Pivot Table Data'!L122","v":0},{"$f":"'Pivot Table Data'!S122","v":19},{"$f":"'Pivot Table Data'!T122","v":19},{"$f":"IF('Pivot Table Data'!O122=\"Yes\", 'Pivot Table Data'!T122, \"\")","v":""}]
[{"$f":"'Pivot Table Data'!B123","v":0},{"$f":"'Pivot Table Data'!F123","v":"Health Sciences East"},{"$f":"'Pivot Table Data'!P123","v":"P703"},{"$f":"'Pivot Table Data'!I123","v":"-"},{"$f":"'Pivot Table Data'!J123","v":"Visitor"},{"$f":"'Pivot Table Data'!K123","v":"Radiation Oncology Center Patient"},{"$f":"'Pivot Table Data'!L123","v":0},{"$f":"'Pivot Table Data'!S123","v":17},{"$f":"'Pivot Table Data'!T123","v":17},{"$f":"IF('Pivot Table Data'!O123=\"Yes\", 'Pivot Table Data'!T123, \"\")","v":17}]
[{"$f":"'Pivot Table Data'!B124","v":0},{"$f":"'Pivot Table Data'!F124","v":"Health Sciences East"},{"$f":"'Pivot Table Data'!P124","v":"P704"},{"$f":"'Pivot Table Data'!I124","v":"-"},{"$f":"'Pivot Table Data'!J124","v":"D ($5.00)"},{"$f":"'Pivot Table Data'!K124","v":0},{"$f":"'Pivot Table Data'!L124","v":0},{"$f":"'Pivot Table Data'!S124","v":326},{"$f":"'Pivot Table Data'!T124","v":326},{"$f":"IF('Pivot Table Data'!O124=\"Yes\", 'Pivot Table Data'!T124, \"\")","v":326}]
[{"$f":"'Pivot Table Data'!B125","v":0},{"$f":"'Pivot Table Data'!F125","v":"Health Sciences East"},{"$f":"'Pivot Table Data'!P125","v":"P705"},{"$f":"'Pivot Table Data'!I125","v":"-"},{"$f":"'Pivot Table Data'!J125","v":"D ($5.00)"},{"$f":"'Pivot Table Data'!K125","v":0},{"$f":"'Pivot Table Data'!L125","v":0},{"$f":"'Pivot Table Data'!S125","v":266},{"$f":"'Pivot Table Data'!T125","v":266},{"$f":"IF('Pivot Table Data'!O125=\"Yes\", 'Pivot Table Data'!T125, \"\")","v":266}]
[{"$f":"'Pivot Table Data'!B126","v":0},{"$f":"'Pivot Table Data'!F126","v":"Preuss School"},{"$f":"'Pivot Table Data'!P126","v":"P706"},{"$f":"'Pivot Table Data'!I126","v":"-"},{"$f":"'Pivot Table Data'!J126","v":"A"},{"$f":"'Pivot Table Data'!K126","v":"Preuss"},{"$f":"'Pivot Table Data'!L126","v":0},{"$f":"'Pivot Table Data'!S126","v":6},{"$f":"'Pivot Table Data'!T126","v":6},{"$f":"IF('Pivot Table Data'!O126=\"Yes\", 'Pivot Table Data'!T126, \"\")","v":6}]
[{"$f":"'Pivot Table Data'!B127","v":0},{"$f":"'Pivot Table Data'!F127","v":"Preuss School"},{"$f":"'Pivot Table Data'!P127","v":"P706"},{"$f":"'Pivot Table Data'!I127","v":"-"},{"$f":"'Pivot Table Data'!J127","v":"Accessible"},{"$f":"'Pivot Table Data'!K127","v":0},{"$f":"'Pivot Table Data'!L127","v":0},{"$f":"'Pivot Table Data'!S127","v":1},{"$f":"'Pivot Table Data'!T127","v":1},{"$f":"IF('Pivot Table Data'!O127=\"Yes\", 'Pivot Table Data'!T127, \"\")","v":""}]
[{"$f":"'Pivot Table Data'!B128","v":0},{"$f":"'Pivot Table Data'!F128","v":"Preuss School"},{"$f":"'Pivot Table Data'!P128","v":"P706"},{"$f":"'Pivot Table Data'!I128","v":"-"},{"$f":"'Pivot Table Data'!J128","v":"Accessible (Van)"},{"$f":"'Pivot Table Data'!K128","v":0},{"$f":"'Pivot Table Data'!L128","v":0},{"$f":"'Pivot Table Data'!S128","v":3},{"$f":"'Pivot Table Data'!T128","v":3},{"$f":"IF('Pivot Table Data'!O128=\"Yes\", 'Pivot Table Data'!T128, \"\")","v":""}]
[{"$f":"'Pivot Table Data'!B129","v":0},{"$f":"'Pivot Table Data'!F129","v":"Preuss School"},{"$f":"'Pivot Table Data'!P129","v":"P706"},{"$f":"'Pivot Table Data'!I129","v":"-"},{"$f":"'Pivot Table Data'!J129","v":"B"},{"$f":"'Pivot Table Data'!K129","v":"Preuss"},{"$f":"'Pivot Table Data'!L129","v":0},{"$f":"'Pivot Table Data'!S129","v":59},{"$f":"'Pivot Table Data'!T129","v":59},{"$f":"IF('Pivot Table Data'!O129=\"Yes\", 'Pivot Table Data'!T129, \"\")","v":59}]
[{"$f":"'Pivot Table Data'!B130","v":0},{"$f":"'Pivot Table Data'!F130","v":"Preuss School"},{"$f":"'Pivot Table Data'!P130","v":"P706"},{"$f":"'Pivot Table Data'!I130","v":"-"},{"$f":"'Pivot Table Data'!J130","v":"Loading"},{"$f":"'Pivot Table Data'!K130","v":0},{"$f":"'Pivot Table Data'!L130","v":"30 minutes"},{"$f":"'Pivot Table Data'!S130","v":3},{"$f":"'Pivot Table Data'!T130","v":3},{"$f":"IF('Pivot Table Data'!O130=\"Yes\", 'Pivot Table Data'!T130, \"\")","v":""}]
[{"$f":"'Pivot Table Data'!B131","v":0},{"$f":"'Pivot Table Data'!F131","v":"Health Sciences East"},{"$f":"'Pivot Table Data'!P131","v":"P707"},{"$f":"'Pivot Table Data'!I131","v":"-"},{"$f":"'Pivot Table Data'!J131","v":"Accessible"},{"$f":"'Pivot Table Data'!K131","v":0},{"$f":"'Pivot Table Data'!L131","v":0},{"$f":"'Pivot Table Data'!S131","v":4},{"$f":"'Pivot Table Data'!T131","v":4},{"$f":"IF('Pivot Table Data'!O131=\"Yes\", 'Pivot Table Data'!T131, \"\")","v":""}]
[{"$f":"'Pivot Table Data'!B132","v":0},{"$f":"'Pivot Table Data'!F132","v":"Health Sciences East"},{"$f":"'Pivot Table Data'!P132","v":"P707"},{"$f":"'Pivot Table Data'!I132","v":"-"},{"$f":"'Pivot Table Data'!J132","v":"Accessible (Van)"},{"$f":"'Pivot Table Data'!K132","v":0},{"$f":"'Pivot Table Data'!L132","v":0},{"$f":"'Pivot Table Data'!S132","v":3},{"$f":"'Pivot Table Data'!T132","v":3},{"$f":"IF('Pivot Table Data'!O132=\"Yes\", 'Pivot Table Data'!T132, \"\")","v":""}]
[{"$f":"'Pivot Table Data'!B133","v":0},{"$f":"'Pivot Table Data'!F133","v":"Health Sciences East"},{"$f":"'Pivot Table Data'!P133","v":"P707"},{"$f":"'Pivot Table Data'!I133","v":"-"},{"$f":"'Pivot Table Data'!J133","v":"Electric Vehicle"},{"$f":"'Pivot Table Data'!K133","v":0},{"$f":"'Pivot Table Data'!L133","v":0},{"$f":"'Pivot Table Data'!S133","v":2},{"$f":"'Pivot Table Data'!T133","v":2},{"$f":"IF('Pivot Table Data'!O133=\"Yes\", 'Pivot Table Data'!T133, \"\")","v":""}]
[{"$f":"'Pivot Table Data'!B134","v":0},{"$f":"'Pivot Table Data'!F134","v":"Health Sciences East"},{"$f":"'Pivot Table Data'!P134","v":"P707"},{"$f":"'Pivot Table Data'!I134","v":"-"},{"$f":"'Pivot Table Data'!J134","v":"Reserved"},{"$f":"'Pivot Table Data'!K134","v":0},{"$f":"'Pivot Table Data'!L134","v":0},{"$f":"'Pivot Table Data'!S134","v":6},{"$f":"'Pivot Table Data'!T134","v":6},{"$f":"IF('Pivot Table Data'!O134=\"Yes\", 'Pivot Table Data'!T134, \"\")","v":""}]
[{"$f":"'Pivot Table Data'!B135","v":0},{"$f":"'Pivot Table Data'!F135","v":"Health Sciences East"},{"$f":"'Pivot Table Data'!P135","v":"P707"},{"$f":"'Pivot Table Data'!I135","v":"-"},{"$f":"'Pivot Table Data'!J135","v":"S"},{"$f":"'Pivot Table Data'!K135","v":0},{"$f":"'Pivot Table Data'!L135","v":0},{"$f":"'Pivot Table Data'!S135","v":194},{"$f":"'Pivot Table Data'!T135","v":194},{"$f":"IF('Pivot Table Data'!O135=\"Yes\", 'Pivot Table Data'!T135, \"\")","v":194}]
[{"$f":"'Pivot Table Data'!B136","v":0},{"$f":"'Pivot Table Data'!F136","v":"Health Sciences East"},{"$f":"'Pivot Table Data'!P136","v":"P751"},{"$f":"'Pivot Table Data'!I136","v":"-"},{"$f":"'Pivot Table Data'!J136","v":"Accessible"},{"$f":"'Pivot Table Data'!K136","v":0},{"$f":"'Pivot Table Data'!L136","v":0},{"$f":"'Pivot Table Data'!S136","v":2},{"$f":"'Pivot Table Data'!T136","v":2},{"$f":"IF('Pivot Table Data'!O136=\"Yes\", 'Pivot Table Data'!T136, \"\")","v":""}]
[{"$f":"'Pivot Table Data'!B137","v":0},{"$f":"'Pivot Table Data'!F137","v":"Health Sciences East"},{"$f":"'Pivot Table Data'!P137","v":"P751"},{"$f":"'Pivot Table Data'!I137","v":"-"},{"$f":"'Pivot Table Data'!J137","v":"Accessible (Van)"},{"$f":"'Pivot Table Data'!K137","v":0},{"$f":"'Pivot Table Data'!L137","v":0},{"$f":"'Pivot Table Data'!S137","v":2},{"$f":"'Pivot Table Data'!T137","v":2},{"$f":"IF('Pivot Table Data'!O137=\"Yes\", 'Pivot Table Data'!T137, \"\")","v":""}]
[{"$f":"'Pivot Table Data'!B138","v":0},{"$f":"'Pivot Table Data'!F138","v":"Health Sciences East"},{"$f":"'Pivot Table Data'!P138","v":"P751"},{"$f":"'Pivot Table Data'!I138","v":"-"},{"$f":"'Pivot Table Data'!J138","v":"Electric Vehicle"},{"$f":"'Pivot Table Data'!K138","v":0},{"$f":"'Pivot Table Data'!L138","v":0},{"$f":"'Pivot Table Data'!S138","v":0},{"$f":"'Pivot Table Data'!T138","v":0},{"$f":"IF('Pivot Table Data'!O138=\"Yes\", 'Pivot Table Data'!T138, \"\")","v":""}]
[{"$f":"'Pivot Table Data'!B139","v":0},{"$f":"'Pivot Table Data'!F139","v":"Health Sciences East"},{"$f":"'Pivot Table Data'!P139","v":"P751"},{"$f":"'Pivot Table Data'!I139","v":"-"},{"$f":"'Pivot Table Data'!J139","v":"Reserved"},{"$f":"'Pivot Table Data'!K139","v":"Valet"},{"$f":"'Pivot Table Data'!L139","v":0},{"$f":"'Pivot Table Data'!S139","v":0},{"$f":"'Pivot Table Data'!T139","v":0},{"$f":"IF('Pivot Table Data'!O139=\"Yes\", 'Pivot Table Data'!T139, \"\")","v":""}]
[{"$f":"'Pivot Table Data'!B140","v":0},{"$f":"'Pivot Table Data'!F140","v":"Health Sciences East"},{"$f":"'Pivot Table Data'!P140","v":"P751"},{"$f":"'Pivot Table Data'!I140","v":"-"},{"$f":"'Pivot Table Data'!J140","v":"Reserved"},{"$f":"'Pivot Table Data'!K140","v":0},{"$f":"'Pivot Table Data'!L140","v":0},{"$f":"'Pivot Table Data'!S140","v":0},{"$f":"'Pivot Table Data'!T140","v":0},{"$f":"IF('Pivot Table Data'!O140=\"Yes\", 'Pivot Table Data'!T140, \"\")","v":""}]
[{"$f":"'Pivot Table Data'!B141","v":0},{"$f":"'Pivot Table Data'!F141","v":"Health Sciences East"},{"$f":"'Pivot Table Data'!P141","v":"P751"},{"$f":"'Pivot Table Data'!I141","v":"-"},{"$f":"'Pivot Table Data'!J141","v":"Visitor"},{"$f":"'Pivot Table Data'!K141","v":0},{"$f":"'Pivot Table Data'!L141","v":"30 minutes"},{"$f":"'Pivot Table Data'!S141","v":3},{"$f":"'Pivot Table Data'!T141","v":3},{"$f":"IF('Pivot Table Data'!O141=\"Yes\", 'Pivot Table Data'!T141, \"\")","v":3}]
[{"$f":"'Pivot Table Data'!B142","v":0},{"$f":"'Pivot Table Data'!F142","v":"Health Sciences East"},{"$f":"'Pivot Table Data'!P142","v":"P752"},{"$f":"'Pivot Table Data'!I142","v":"-"},{"$f":"'Pivot Table Data'!J142","v":"Accessible"},{"$f":"'Pivot Table Data'!K142","v":0},{"$f":"'Pivot Table Data'!L142","v":0},{"$f":"'Pivot Table Data'!S142","v":0},{"$f":"'Pivot Table Data'!T142","v":0},{"$f":"IF('Pivot Table Data'!O142=\"Yes\", 'Pivot Table Data'!T142, \"\")","v":""}]
[{"$f":"'Pivot Table Data'!B143","v":0},{"$f":"'Pivot Table Data'!F143","v":"Health Sciences East"},{"$f":"'Pivot Table Data'!P143","v":"P752"},{"$f":"'Pivot Table Data'!I143","v":"-"},{"$f":"'Pivot Table Data'!J143","v":"Accessible (Van)"},{"$f":"'Pivot Table Data'!K143","v":0},{"$f":"'Pivot Table Data'!L143","v":0},{"$f":"'Pivot Table Data'!S143","v":2},{"$f":"'Pivot Table Data'!T143","v":2},{"$f":"IF('Pivot Table Data'!O143=\"Yes\", 'Pivot Table Data'!T143, \"\")","v":""}]
[{"$f":"'Pivot Table Data'!B144","v":0},{"$f":"'Pivot Table Data'!F144","v":"Health Sciences East"},{"$f":"'Pivot Table Data'!P144","v":"P752"},{"$f":"'Pivot Table Data'!I144","v":"-"},{"$f":"'Pivot Table Data'!J144","v":"Allocated"},{"$f":"'Pivot Table Data'!K144","v":"Physician On Call"},{"$f":"'Pivot Table Data'!L144","v":0},{"$f":"'Pivot Table Data'!S144","v":4},{"$f":"'Pivot Table Data'!T144","v":4},{"$f":"IF('Pivot Table Data'!O144=\"Yes\", 'Pivot Table Data'!T144, \"\")","v":""}]
[{"$f":"'Pivot Table Data'!B145","v":0},{"$f":"'Pivot Table Data'!F145","v":"Health Sciences East"},{"$f":"'Pivot Table Data'!P145","v":"P752"},{"$f":"'Pivot Table Data'!I145","v":"-"},{"$f":"'Pivot Table Data'!J145","v":"Reserved"},{"$f":"'Pivot Table Data'!K145","v":"Valet"},{"$f":"'Pivot Table Data'!L145","v":0},{"$f":"'Pivot Table Data'!S145","v":23},{"$f":"'Pivot Table Data'!T145","v":23},{"$f":"IF('Pivot Table Data'!O145=\"Yes\", 'Pivot Table Data'!T145, \"\")","v":""}]
[{"$f":"'Pivot Table Data'!B146","v":0},{"$f":"'Pivot Table Data'!F146","v":"Health Sciences East"},{"$f":"'Pivot Table Data'!P146","v":"P752"},{"$f":"'Pivot Table Data'!I146","v":"-"},{"$f":"'Pivot Table Data'!J146","v":"Reserved"},{"$f":"'Pivot Table Data'!K146","v":0},{"$f":"'Pivot Table Data'!L146","v":0},{"$f":"'Pivot Table Data'!S146","v":1},{"$f":"'Pivot Table Data'!T146","v":1},{"$f":"IF('Pivot Table Data'!O146=\"Yes\", 'Pivot Table Data'!T146, \"\")","v":""}]
[{"$f":"'Pivot Table Data'!B147","v":0},{"$f":"'Pivot Table Data'!F147","v":"Health Sciences East"},{"$f":"'Pivot Table Data'!P147","v":"P753"},{"$f":"'Pivot Table Data'!I147","v":"-"},{"$f":"'Pivot Table Data'!J147","v":"Accessible"},{"$f":"'Pivot Table Data'!K147","v":0},{"$f":"'Pivot Table Data'!L147","v":0},{"$f":"'Pivot Table Data'!S147","v":0},{"$f":"'Pivot Table Data'!T147","v":0},{"$f":"IF('Pivot Table Data'!O147=\"Yes\", 'Pivot Table Data'!T147, \"\")","v":""}]
[{"$f":"'Pivot Table Data'!B148","v":0},{"$f":"'Pivot Table Data'!F148","v":"Health Sciences East"},{"$f":"'Pivot Table Data'!P148","v":"P753"},{"$f":"'Pivot Table Data'!I148","v":"-"},{"$f":"'Pivot Table Data'!J148","v":"Accessible (Van)"},{"$f":"'Pivot Table Data'!K148","v":0},{"$f":"'Pivot Table Data'!L148","v":0},{"$f":"'Pivot Table Data'!S148","v":2},{"$f":"'Pivot Table Data'!T148","v":2},{"$f":"IF('Pivot Table Data'!O148=\"Yes\", 'Pivot Table Data'!T148, \"\")","v":""}]
[{"$f":"'Pivot Table Data'!B149","v":0},{"$f":"'Pivot Table Data'!F149","v":"Health Sciences East"},{"$f":"'Pivot Table Data'!P149","v":"P753"},{"$f":"'Pivot Table Data'!I149","v":"-"},{"$f":"'Pivot Table Data'!J149","v":"Reserved"},{"$f":"'Pivot Table Data'!K149","v":0},{"$f":"'Pivot Table Data'!L149","v":0},{"$f":"'Pivot Table Data'!S149","v":32},{"$f":"'Pivot Table Data'!T149","v":32},{"$f":"IF('Pivot Table Data'!O149=\"Yes\", 'Pivot Table Data'!T149, \"\")","v":""}]
[{"$f":"'Pivot Table Data'!B150","v":0},{"$f":"'Pivot Table Data'!F150","v":"Health Sciences East"},{"$f":"'Pivot Table Data'!P150","v":"P757"},{"$f":"'Pivot Table Data'!I150","v":"-"},{"$f":"'Pivot Table Data'!J150","v":"Loading"},{"$f":"'Pivot Table Data'!K150","v":"Shiley Surgery"},{"$f":"'Pivot Table Data'!L150","v":20},{"$f":"'Pivot Table Data'!S150","v":0},{"$f":"'Pivot Table Data'!T150","v":0},{"$f":"IF('Pivot Table Data'!O150=\"Yes\", 'Pivot Table Data'!T150, \"\")","v":""}]
[{"$f":"'Pivot Table Data'!B151","v":0},{"$f":"'Pivot Table Data'!F151","v":"Health Sciences East"},{"$f":"'Pivot Table Data'!P151","v":"P757"},{"$f":"'Pivot Table Data'!I151","v":"-"},{"$f":"'Pivot Table Data'!J151","v":"Reserved"},{"$f":"'Pivot Table Data'!K151","v":0},{"$f":"'Pivot Table Data'!L151","v":0},{"$f":"'Pivot Table Data'!S151","v":0},{"$f":"'Pivot Table Data'!T151","v":0},{"$f":"IF('Pivot Table Data'!O151=\"Yes\", 'Pivot Table Data'!T151, \"\")","v":""}]
[{"$f":"'Pivot Table Data'!B152","v":0},{"$f":"'Pivot Table Data'!F152","v":"Health Sciences East"},{"$f":"'Pivot Table Data'!P152","v":"P757"},{"$f":"'Pivot Table Data'!I152","v":"-"},{"$f":"'Pivot Table Data'!J152","v":"UC Vehicle"},{"$f":"'Pivot Table Data'!K152","v":0},{"$f":"'Pivot Table Data'!L152","v":0},{"$f":"'Pivot Table Data'!S152","v":0},{"$f":"'Pivot Table Data'!T152","v":0},{"$f":"IF('Pivot Table Data'!O152=\"Yes\", 'Pivot Table Data'!T152, \"\")","v":""}]
[{"$f":"'Pivot Table Data'!B153","v":0},{"$f":"'Pivot Table Data'!F153","v":"Health Sciences East"},{"$f":"'Pivot Table Data'!P153","v":"P758"},{"$f":"'Pivot Table Data'!I153","v":"-"},{"$f":"'Pivot Table Data'!J153","v":"Accessible"},{"$f":"'Pivot Table Data'!K153","v":0},{"$f":"'Pivot Table Data'!L153","v":0},{"$f":"'Pivot Table Data'!S153","v":2},{"$f":"'Pivot Table Data'!T153","v":2},{"$f":"IF('Pivot Table Data'!O153=\"Yes\", 'Pivot Table Data'!T153, \"\")","v":""}]
[{"$f":"'Pivot Table Data'!B154","v":0},{"$f":"'Pivot Table Data'!F154","v":"Health Sciences East"},{"$f":"'Pivot Table Data'!P154","v":"P758"},{"$f":"'Pivot Table Data'!I154","v":"-"},{"$f":"'Pivot Table Data'!J154","v":"Accessible (Van)"},{"$f":"'Pivot Table Data'!K154","v":0},{"$f":"'Pivot Table Data'!L154","v":0},{"$f":"'Pivot Table Data'!S154","v":0},{"$f":"'Pivot Table Data'!T154","v":0},{"$f":"IF('Pivot Table Data'!O154=\"Yes\", 'Pivot Table Data'!T154, \"\")","v":""}]
[{"$f":"'Pivot Table Data'!B155","v":0},{"$f":"'Pivot Table Data'!F155","v":"Health Sciences East"},{"$f":"'Pivot Table Data'!P155","v":"P758"},{"$f":"'Pivot Table Data'!I155","v":"-"},{"$f":"'Pivot Table Data'!J155","v":"Motorcycle Section"},{"$f":"'Pivot Table Data'!K155","v":0},{"$f":"'Pivot Table Data'!L155","v":0},{"$f":"'Pivot Table Data'!S155","v":0},{"$f":"'Pivot Table Data'!T155","v":0},{"$f":"IF('Pivot Table Data'!O155=\"Yes\", 'Pivot Table Data'!T155, \"\")","v":""}]
[{"$f":"'Pivot Table Data'!B156","v":0},{"$f":"'Pivot Table Data'!F156","v":"Health Sciences East"},{"$f":"'Pivot Table Data'!P156","v":"P758"},{"$f":"'Pivot Table Data'!I156","v":"-"},{"$f":"'Pivot Table Data'!J156","v":"Reserved"},{"$f":"'Pivot Table Data'!K156","v":0},{"$f":"'Pivot Table Data'!L156","v":0},{"$f":"'Pivot Table Data'!S156","v":5},{"$f":"'Pivot Table Data'!T156","v":5},{"$f":"IF('Pivot Table Data'!O156=\"Yes\", 'Pivot Table Data'!T156, \"\")","v":""}]
[{"$f":"'Pivot Table Data'!B157","v":0},{"$f":"'Pivot Table Data'!F157","v":"Health Sciences East"},{"$f":"'Pivot Table Data'!P157","v":"P759"},{"$f":"'Pivot Table Data'!I157","v":"-"},{"$f":"'Pivot Table Data'!J157","v":"A"},{"$f":"'Pivot Table Data'!K157","v":"Physician A"},{"$f":"'Pivot Table Data'!L157","v":0},{"$f":"'Pivot Table Data'!S157","v":87},{"$f":"'Pivot Table Data'!T157","v":87},{"$f":"IF('Pivot Table Data'!O157=\"Yes\", 'Pivot Table Data'!T157, \"\")","v":87}]
[{"$f":"'Pivot Table Data'!B158","v":0},{"$f":"'Pivot Table Data'!F158","v":"Health Sciences East"},{"$f":"'Pivot Table Data'!P158","v":"P759"},{"$f":"'Pivot Table Data'!I158","v":"-"},{"$f":"'Pivot Table Data'!J158","v":"Accessible"},{"$f":"'Pivot Table Data'!K158","v":0},{"$f":"'Pivot Table Data'!L158","v":0},{"$f":"'Pivot Table Data'!S158","v":4},{"$f":"'Pivot Table Data'!T158","v":4},{"$f":"IF('Pivot Table Data'!O158=\"Yes\", 'Pivot Table Data'!T158, \"\")","v":""}]
[{"$f":"'Pivot Table Data'!B159","v":0},{"$f":"'Pivot Table Data'!F159","v":"Health Sciences East"},{"$f":"'Pivot Table Data'!P159","v":"P759"},{"$f":"'Pivot Table Data'!I159","v":"-"},{"$f":"'Pivot Table Data'!J159","v":"Accessible (Van)"},{"$f":"'Pivot Table Data'!K159","v":0},{"$f":"'Pivot Table Data'!L159","v":0},{"$f":"'Pivot Table Data'!S159","v":5},{"$f":"'Pivot Table Data'!T159","v":5},{"$f":"IF('Pivot Table Data'!O159=\"Yes\", 'Pivot Table Data'!T159, \"\")","v":""}]
[{"$f":"'Pivot Table Data'!B160","v":0},{"$f":"'Pivot Table Data'!F160","v":"Health Sciences East"},{"$f":"'Pivot Table Data'!P160","v":"P759"},{"$f":"'Pivot Table Data'!I160","v":"-"},{"$f":"'Pivot Table Data'!J160","v":"Motorcycle Section"},{"$f":"'Pivot Table Data'!K160","v":0},{"$f":"'Pivot Table Data'!L160","v":0},{"$f":"'Pivot Table Data'!S160","v":1},{"$f":"'Pivot Table Data'!T160","v":1},{"$f":"IF('Pivot Table Data'!O160=\"Yes\", 'Pivot Table Data'!T160, \"\")","v":""}]
[{"$f":"'Pivot Table Data'!B161","v":0},{"$f":"'Pivot Table Data'!F161","v":"Health Sciences East"},{"$f":"'Pivot Table Data'!P161","v":"P759"},{"$f":"'Pivot Table Data'!I161","v":"-"},{"$f":"'Pivot Table Data'!J161","v":"Reserved"},{"$f":"'Pivot Table Data'!K161","v":"Alzheimer's Disease Research Center Patient"},{"$f":"'Pivot Table Data'!L161","v":0},{"$f":"'Pivot Table Data'!S161","v":10},{"$f":"'Pivot Table Data'!T161","v":10},{"$f":"IF('Pivot Table Data'!O161=\"Yes\", 'Pivot Table Data'!T161, \"\")","v":""}]
[{"$f":"'Pivot Table Data'!B162","v":0},{"$f":"'Pivot Table Data'!F162","v":"Health Sciences East"},{"$f":"'Pivot Table Data'!P162","v":"P759"},{"$f":"'Pivot Table Data'!I162","v":"-"},{"$f":"'Pivot Table Data'!J162","v":"Reserved"},{"$f":"'Pivot Table Data'!K162","v":"Brain Health and Memory Disorders"},{"$f":"'Pivot Table Data'!L162","v":0},{"$f":"'Pivot Table Data'!S162","v":5},{"$f":"'Pivot Table Data'!T162","v":5},{"$f":"IF('Pivot Table Data'!O162=\"Yes\", 'Pivot Table Data'!T162, \"\")","v":""}]
[{"$f":"'Pivot Table Data'!B163","v":0},{"$f":"'Pivot Table Data'!F163","v":"Health Sciences East"},{"$f":"'Pivot Table Data'!P163","v":"P759"},{"$f":"'Pivot Table Data'!I163","v":"-"},{"$f":"'Pivot Table Data'!J163","v":"Reserved"},{"$f":"'Pivot Table Data'!K163","v":"Huntington's Disease Clinical Research Center"},{"$f":"'Pivot Table Data'!L163","v":0},{"$f":"'Pivot Table Data'!S163","v":2},{"$f":"'Pivot Table Data'!T163","v":2},{"$f":"IF('Pivot Table Data'!O163=\"Yes\", 'Pivot Table Data'!T163, \"\")","v":""}]
[{"$f":"'Pivot Table Data'!B164","v":0},{"$f":"'Pivot Table Data'!F164","v":"Health Sciences East"},{"$f":"'Pivot Table Data'!P164","v":"P761"},{"$f":"'Pivot Table Data'!I164","v":"-"},{"$f":"'Pivot Table Data'!J164","v":"UC Vehicle"},{"$f":"'Pivot Table Data'!K164","v":0},{"$f":"'Pivot Table Data'!L164","v":0},{"$f":"'Pivot Table Data'!S164","v":3},{"$f":"'Pivot Table Data'!T164","v":3},{"$f":"IF('Pivot Table Data'!O164=\"Yes\", 'Pivot Table Data'!T164, \"\")","v":""}]
[{"$f":"'Pivot Table Data'!B165","v":0},{"$f":"'Pivot Table Data'!F165","v":"Health Sciences East"},{"$f":"'Pivot Table Data'!P165","v":"P762"},{"$f":"'Pivot Table Data'!I165","v":"-"},{"$f":"'Pivot Table Data'!J165","v":"Loading"},{"$f":"'Pivot Table Data'!K165","v":0},{"$f":"'Pivot Table Data'!L165","v":0},{"$f":"'Pivot Table Data'!S165","v":1},{"$f":"'Pivot Table Data'!T165","v":1},{"$f":"IF('Pivot Table Data'!O165=\"Yes\", 'Pivot Table Data'!T165, \"\")","v":""}]
[{"$f":"'Pivot Table Data'!B166","v":0},{"$f":"'Pivot Table Data'!F166","v":"Health Sciences East"},{"$f":"'Pivot Table Data'!P166","v":"P762"},{"$f":"'Pivot Table Data'!I166","v":"-"},{"$f":"'Pivot Table Data'!J166","v":"Service Yard"},{"$f":"'Pivot Table Data'!K166","v":0},{"$f":"'Pivot Table Data'!L166","v":0},{"$f":"'Pivot Table Data'!S166","v":3},{"$f":"'Pivot Table Data'!T166","v":3},{"$f":"IF('Pivot Table Data'!O166=\"Yes\", 'Pivot Table Data'!T166, \"\")","v":""}]
[{"$f":"'Pivot Table Data'!B167","v":0},{"$f":"'Pivot Table Data'!F167","v":"Science Research Park"},{"$f":"'Pivot Table Data'!P167","v":"P782"},{"$f":"'Pivot Table Data'!I167","v":"-"},{"$f":"'Pivot Table Data'!J167","v":"SS ($3.25)"},{"$f":"'Pivot Table Data'!K167","v":0},{"$f":"'Pivot Table Data'!L167","v":0},{"$f":"'Pivot Table Data'!S167","v":216},{"$f":"'Pivot Table Data'!T167","v":216},{"$f":"IF('Pivot Table Data'!O167=\"Yes\", 'Pivot Table Data'!T167, \"\")","v":216}]
[{"$f":"'Pivot Table Data'!B168","v":0},{"$f":"'Pivot Table Data'!F168","v":"Health Sciences East"},{"$f":"'Pivot Table Data'!P168","v":"P784"},{"$f":"'Pivot Table Data'!I168","v":"-"},{"$f":"'Pivot Table Data'!J168","v":"Accessible"},{"$f":"'Pivot Table Data'!K168","v":0},{"$f":"'Pivot Table Data'!L168","v":0},{"$f":"'Pivot Table Data'!S168","v":6},{"$f":"'Pivot Table Data'!T168","v":6},{"$f":"IF('Pivot Table Data'!O168=\"Yes\", 'Pivot Table Data'!T168, \"\")","v":""}]
[{"$f":"'Pivot Table Data'!B169","v":0},{"$f":"'Pivot Table Data'!F169","v":"Health Sciences East"},{"$f":"'Pivot Table Data'!P169","v":"P784"},{"$f":"'Pivot Table Data'!I169","v":"-"},{"$f":"'Pivot Table Data'!J169","v":"Accessible (Van)"},{"$f":"'Pivot Table Data'!K169","v":0},{"$f":"'Pivot Table Data'!L169","v":0},{"$f":"'Pivot Table Data'!S169","v":12},{"$f":"'Pivot Table Data'!T169","v":12},{"$f":"IF('Pivot Table Data'!O169=\"Yes\", 'Pivot Table Data'!T169, \"\")","v":""}]
[{"$f":"'Pivot Table Data'!B170","v":0},{"$f":"'Pivot Table Data'!F170","v":"Health Sciences East"},{"$f":"'Pivot Table Data'!P170","v":"P784"},{"$f":"'Pivot Table Data'!I170","v":"-"},{"$f":"'Pivot Table Data'!J170","v":"B"},{"$f":"'Pivot Table Data'!K170","v":0},{"$f":"'Pivot Table Data'!L170","v":0},{"$f":"'Pivot Table Data'!S170","v":81},{"$f":"'Pivot Table Data'!T170","v":81},{"$f":"IF('Pivot Table Data'!O170=\"Yes\", 'Pivot Table Data'!T170, \"\")","v":81}]
[{"$f":"'Pivot Table Data'!B171","v":0},{"$f":"'Pivot Table Data'!F171","v":"Health Sciences East"},{"$f":"'Pivot Table Data'!P171","v":"P784"},{"$f":"'Pivot Table Data'!I171","v":"-"},{"$f":"'Pivot Table Data'!J171","v":"Reserved"},{"$f":"'Pivot Table Data'!K171","v":"Valet"},{"$f":"'Pivot Table Data'!L171","v":0},{"$f":"'Pivot Table Data'!S171","v":9},{"$f":"'Pivot Table Data'!T171","v":9},{"$f":"IF('Pivot Table Data'!O171=\"Yes\", 'Pivot Table Data'!T171, \"\")","v":""}]
[{"$f":"'Pivot Table Data'!B172","v":0},{"$f":"'Pivot Table Data'!F172","v":"Health Sciences East"},{"$f":"'Pivot Table Data'!P172","v":"P785"},{"$f":"'Pivot Table Data'!I172","v":"-"},{"$f":"'Pivot Table Data'!J172","v":"Accessible"},{"$f":"'Pivot Table Data'!K172","v":0},{"$f":"'Pivot Table Data'!L172","v":0},{"$f":"'Pivot Table Data'!S172","v":0},{"$f":"'Pivot Table Data'!T172","v":0},{"$f":"IF('Pivot Table Data'!O172=\"Yes\", 'Pivot Table Data'!T172, \"\")","v":""}]
[{"$f":"'Pivot Table Data'!B173","v":0},{"$f":"'Pivot Table Data'!F173","v":"Health Sciences East"},{"$f":"'Pivot Table Data'!P173","v":"P785"},{"$f":"'Pivot Table Data'!I173","v":"-"},{"$f":"'Pivot Table Data'!J173","v":"Accessible (Van)"},{"$f":"'Pivot Table Data'!K173","v":0},{"$f":"'Pivot Table Data'!L173","v":0},{"$f":"'Pivot Table Data'!S173","v":8},{"$f":"'Pivot Table Data'!T173","v":8},{"$f":"IF('Pivot Table Data'!O173=\"Yes\", 'Pivot Table Data'!T173, \"\")","v":""}]
[{"$f":"'Pivot Table Data'!B174","v":0},{"$f":"'Pivot Table Data'!F174","v":"Health Sciences East"},{"$f":"'Pivot Table Data'!P174","v":"P785"},{"$f":"'Pivot Table Data'!I174","v":"-"},{"$f":"'Pivot Table Data'!J174","v":"B"},{"$f":"'Pivot Table Data'!K174","v":0},{"$f":"'Pivot Table Data'!L174","v":0},{"$f":"'Pivot Table Data'!S174","v":384},{"$f":"'Pivot Table Data'!T174","v":384},{"$f":"IF('Pivot Table Data'!O174=\"Yes\", 'Pivot Table Data'!T174, \"\")","v":384}]
[{"$f":"'Pivot Table Data'!B175","v":0},{"$f":"'Pivot Table Data'!F175","v":"Medical Center Hillcrest"},{"$f":"'Pivot Table Data'!P175","v":"Arbor"},{"$f":"'Pivot Table Data'!I175","v":"L1"},{"$f":"'Pivot Table Data'!J175","v":"Visitor"},{"$f":"'Pivot Table Data'!K175","v":0},{"$f":"'Pivot Table Data'!L175","v":0},{"$f":"'Pivot Table Data'!S175","v":41},{"$f":"'Pivot Table Data'!T175","v":263},{"$f":"IF('Pivot Table Data'!O175=\"Yes\", 'Pivot Table Data'!T175, \"\")","v":""}]
[{"$f":"'Pivot Table Data'!B176","v":0},{"$f":"'Pivot Table Data'!F176","v":"Medical Center Hillcrest"},{"$f":"'Pivot Table Data'!P176","v":"Arbor"},{"$f":"'Pivot Table Data'!I176","v":"L2"},{"$f":"'Pivot Table Data'!J176","v":"Visitor"},{"$f":"'Pivot Table Data'!K176","v":0},{"$f":"'Pivot Table Data'!L176","v":0},{"$f":"'Pivot Table Data'!S176","v":41},{"$f":"'Pivot Table Data'!T176","v":""},{"$f":"IF('Pivot Table Data'!O176=\"Yes\", 'Pivot Table Data'!T176, \"\")","v":""}]
[{"$f":"'Pivot Table Data'!B177","v":0},{"$f":"'Pivot Table Data'!F177","v":"Medical Center Hillcrest"},{"$f":"'Pivot Table Data'!P177","v":"Arbor"},{"$f":"'Pivot Table Data'!I177","v":"L3"},{"$f":"'Pivot Table Data'!J177","v":"Visitor"},{"$f":"'Pivot Table Data'!K177","v":0},{"$f":"'Pivot Table Data'!L177","v":0},{"$f":"'Pivot Table Data'!S177","v":39},{"$f":"'Pivot Table Data'!T177","v":""},{"$f":"IF('Pivot Table Data'!O177=\"Yes\", 'Pivot Table Data'!T177, \"\")","v":""}]
[{"$f":"'Pivot Table Data'!B178","v":0},{"$f":"'Pivot Table Data'!F178","v":"Medical Center Hillcrest"},{"$f":"'Pivot Table Data'!P178","v":"Arbor"},{"$f":"'Pivot Table Data'!I178","v":"L4"},{"$f":"'Pivot Table Data'!J178","v":"Visitor"},{"$f":"'Pivot Table Data'!K178","v":0},{"$f":"'Pivot Table Data'!L178","v":0},{"$f":"'Pivot Table Data'!S178","v":39},{"$f":"'Pivot Table Data'!T178","v":""},{"$f":"IF('Pivot Table Data'!O178=\"Yes\", 'Pivot Table Data'!T178, \"\")","v":""}]
[{"$f":"'Pivot Table Data'!B179","v":0},{"$f":"'Pivot Table Data'!F179","v":"Medical Center Hillcrest"},{"$f":"'Pivot Table Data'!P179","v":"Arbor"},{"$f":"'Pivot Table Data'!I179","v":"L5"},{"$f":"'Pivot Table Data'!J179","v":"Visitor"},{"$f":"'Pivot Table Data'!K179","v":0},{"$f":"'Pivot Table Data'!L179","v":0},{"$f":"'Pivot Table Data'!S179","v":39},{"$f":"'Pivot Table Data'!T179","v":""},{"$f":"IF('Pivot Table Data'!O179=\"Yes\", 'Pivot Table Data'!T179, \"\")","v":""}]
[{"$f":"'Pivot Table Data'!B180","v":0},{"$f":"'Pivot Table Data'!F180","v":"Medical Center Hillcrest"},{"$f":"'Pivot Table Data'!P180","v":"Arbor"},{"$f":"'Pivot Table Data'!I180","v":"L6"},{"$f":"'Pivot Table Data'!J180","v":"Visitor"},{"$f":"'Pivot Table Data'!K180","v":0},{"$f":"'Pivot Table Data'!L180","v":0},{"$f":"'Pivot Table Data'!S180","v":39},{"$f":"'Pivot Table Data'!T180","v":""},{"$f":"IF('Pivot Table Data'!O180=\"Yes\", 'Pivot Table Data'!T180, \"\")","v":""}]
[{"$f":"'Pivot Table Data'!B181","v":0},{"$f":"'Pivot Table Data'!F181","v":"Medical Center Hillcrest"},{"$f":"'Pivot Table Data'!P181","v":"Arbor"},{"$f":"'Pivot Table Data'!I181","v":"L7"},{"$f":"'Pivot Table Data'!J181","v":"Motorcycle Section"},{"$f":"'Pivot Table Data'!K181","v":0},{"$f":"'Pivot Table Data'!L181","v":0},{"$f":"'Pivot Table Data'!S181","v":10},{"$f":"'Pivot Table Data'!T181","v":10},{"$f":"IF('Pivot Table Data'!O181=\"Yes\", 'Pivot Table Data'!T181, \"\")","v":""}]
[{"$f":"'Pivot Table Data'!B182","v":0},{"$f":"'Pivot Table Data'!F182","v":"Medical Center Hillcrest"},{"$f":"'Pivot Table Data'!P182","v":"Arbor"},{"$f":"'Pivot Table Data'!I182","v":"L7"},{"$f":"'Pivot Table Data'!J182","v":"Visitor"},{"$f":"'Pivot Table Data'!K182","v":"Patient Visitor Reserved"},{"$f":"'Pivot Table Data'!L182","v":0},{"$f":"'Pivot Table Data'!S182","v":4},{"$f":"'Pivot Table Data'!T182","v":4},{"$f":"IF('Pivot Table Data'!O182=\"Yes\", 'Pivot Table Data'!T182, \"\")","v":""}]
[{"$f":"'Pivot Table Data'!B183","v":0},{"$f":"'Pivot Table Data'!F183","v":"Medical Center Hillcrest"},{"$f":"'Pivot Table Data'!P183","v":"Arbor"},{"$f":"'Pivot Table Data'!I183","v":"L7"},{"$f":"'Pivot Table Data'!J183","v":"Visitor"},{"$f":"'Pivot Table Data'!K183","v":0},{"$f":"'Pivot Table Data'!L183","v":0},{"$f":"'Pivot Table Data'!S183","v":25},{"$f":"'Pivot Table Data'!T183","v":""},{"$f":"IF('Pivot Table Data'!O183=\"Yes\", 'Pivot Table Data'!T183, \"\")","v":""}]
[{"$f":"'Pivot Table Data'!B184","v":0},{"$f":"'Pivot Table Data'!F184","v":"Medical Center Hillcrest"},{"$f":"'Pivot Table Data'!P184","v":"Arbor"},{"$f":"'Pivot Table Data'!I184","v":"L8"},{"$f":"'Pivot Table Data'!J184","v":"Accessible"},{"$f":"'Pivot Table Data'!K184","v":0},{"$f":"'Pivot Table Data'!L184","v":0},{"$f":"'Pivot Table Data'!S184","v":10},{"$f":"'Pivot Table Data'!T184","v":15},{"$f":"IF('Pivot Table Data'!O184=\"Yes\", 'Pivot Table Data'!T184, \"\")","v":""}]
[{"$f":"'Pivot Table Data'!B185","v":0},{"$f":"'Pivot Table Data'!F185","v":"Medical Center Hillcrest"},{"$f":"'Pivot Table Data'!P185","v":"Arbor"},{"$f":"'Pivot Table Data'!I185","v":"L8"},{"$f":"'Pivot Table Data'!J185","v":"Accessible (Van)"},{"$f":"'Pivot Table Data'!K185","v":0},{"$f":"'Pivot Table Data'!L185","v":0},{"$f":"'Pivot Table Data'!S185","v":0},{"$f":"'Pivot Table Data'!T185","v":0},{"$f":"IF('Pivot Table Data'!O185=\"Yes\", 'Pivot Table Data'!T185, \"\")","v":""}]
[{"$f":"'Pivot Table Data'!B186","v":0},{"$f":"'Pivot Table Data'!F186","v":"Medical Center Hillcrest"},{"$f":"'Pivot Table Data'!P186","v":"Arbor"},{"$f":"'Pivot Table Data'!I186","v":"L8"},{"$f":"'Pivot Table Data'!J186","v":"Reserved"},{"$f":"'Pivot Table Data'!K186","v":"Transportation Office"},{"$f":"'Pivot Table Data'!L186","v":0},{"$f":"'Pivot Table Data'!S186","v":1},{"$f":"'Pivot Table Data'!T186","v":1},{"$f":"IF('Pivot Table Data'!O186=\"Yes\", 'Pivot Table Data'!T186, \"\")","v":""}]
[{"$f":"'Pivot Table Data'!B187","v":0},{"$f":"'Pivot Table Data'!F187","v":"Medical Center Hillcrest"},{"$f":"'Pivot Table Data'!P187","v":"Arbor"},{"$f":"'Pivot Table Data'!I187","v":"L8"},{"$f":"'Pivot Table Data'!J187","v":"UC Vehicle"},{"$f":"'Pivot Table Data'!K187","v":0},{"$f":"'Pivot Table Data'!L187","v":0},{"$f":"'Pivot Table Data'!S187","v":2},{"$f":"'Pivot Table Data'!T187","v":2},{"$f":"IF('Pivot Table Data'!O187=\"Yes\", 'Pivot Table Data'!T187, \"\")","v":""}]
[{"$f":"'Pivot Table Data'!B188","v":0},{"$f":"'Pivot Table Data'!F188","v":"Medical Center Hillcrest"},{"$f":"'Pivot Table Data'!P188","v":"Arbor"},{"$f":"'Pivot Table Data'!I188","v":"L9"},{"$f":"'Pivot Table Data'!J188","v":"Electric Vehicle"},{"$f":"'Pivot Table Data'!K188","v":0},{"$f":"'Pivot Table Data'!L188","v":"4 Hours"},{"$f":"'Pivot Table Data'!S188","v":12},{"$f":"'Pivot Table Data'!T188","v":12},{"$f":"IF('Pivot Table Data'!O188=\"Yes\", 'Pivot Table Data'!T188, \"\")","v":""}]
[{"$f":"'Pivot Table Data'!B189","v":0},{"$f":"'Pivot Table Data'!F189","v":"Medical Center Hillcrest"},{"$f":"'Pivot Table Data'!P189","v":"Arbor"},{"$f":"'Pivot Table Data'!I189","v":"L9"},{"$f":"'Pivot Table Data'!J189","v":"Motorcycle Section"},{"$f":"'Pivot Table Data'!K189","v":0},{"$f":"'Pivot Table Data'!L189","v":0},{"$f":"'Pivot Table Data'!S189","v":0},{"$f":"'Pivot Table Data'!T189","v":""},{"$f":"IF('Pivot Table Data'!O189=\"Yes\", 'Pivot Table Data'!T189, \"\")","v":""}]
[{"$f":"'Pivot Table Data'!B190","v":0},{"$f":"'Pivot Table Data'!F190","v":"Medical Center Hillcrest"},{"$f":"'Pivot Table Data'!P190","v":"Arbor"},{"$f":"'Pivot Table Data'!I190","v":"L9"},{"$f":"'Pivot Table Data'!J190","v":"Reserved"},{"$f":"'Pivot Table Data'!K190","v":0},{"$f":"'Pivot Table Data'!L190","v":0},{"$f":"'Pivot Table Data'!S190","v":19},{"$f":"'Pivot Table Data'!T190","v":19},{"$f":"IF('Pivot Table Data'!O190=\"Yes\", 'Pivot Table Data'!T190, \"\")","v":""}]
[{"$f":"'Pivot Table Data'!B191","v":0},{"$f":"'Pivot Table Data'!F191","v":"Medical Center Hillcrest"},{"$f":"'Pivot Table Data'!P191","v":"Arbor"},{"$f":"'Pivot Table Data'!I191","v":"L10"},{"$f":"'Pivot Table Data'!J191","v":"A"},{"$f":"'Pivot Table Data'!K191","v":0},{"$f":"'Pivot Table Data'!L191","v":0},{"$f":"'Pivot Table Data'!S191","v":44},{"$f":"'Pivot Table Data'!T191","v":226},{"$f":"IF('Pivot Table Data'!O191=\"Yes\", 'Pivot Table Data'!T191, \"\")","v":""}]
[{"$f":"'Pivot Table Data'!B192","v":0},{"$f":"'Pivot Table Data'!F192","v":"Medical Center Hillcrest"},{"$f":"'Pivot Table Data'!P192","v":"Arbor"},{"$f":"'Pivot Table Data'!I192","v":"L10"},{"$f":"'Pivot Table Data'!J192","v":"Accessible"},{"$f":"'Pivot Table Data'!K192","v":0},{"$f":"'Pivot Table Data'!L192","v":0},{"$f":"'Pivot Table Data'!S192","v":3},{"$f":"'Pivot Table Data'!T192","v":""},{"$f":"IF('Pivot Table Data'!O192=\"Yes\", 'Pivot Table Data'!T192, \"\")","v":""}]
[{"$f":"'Pivot Table Data'!B193","v":0},{"$f":"'Pivot Table Data'!F193","v":"Medical Center Hillcrest"},{"$f":"'Pivot Table Data'!P193","v":"Arbor"},{"$f":"'Pivot Table Data'!I193","v":"L10"},{"$f":"'Pivot Table Data'!J193","v":"Accessible (Van)"},{"$f":"'Pivot Table Data'!K193","v":0},{"$f":"'Pivot Table Data'!L193","v":0},{"$f":"'Pivot Table Data'!S193","v":0},{"$f":"'Pivot Table Data'!T193","v":""},{"$f":"IF('Pivot Table Data'!O193=\"Yes\", 'Pivot Table Data'!T193, \"\")","v":""}]
[{"$f":"'Pivot Table Data'!B194","v":0},{"$f":"'Pivot Table Data'!F194","v":"Medical Center Hillcrest"},{"$f":"'Pivot Table Data'!P194","v":"Arbor"},{"$f":"'Pivot Table Data'!I194","v":"L11"},{"$f":"'Pivot Table Data'!J194","v":"A"},{"$f":"'Pivot Table Data'!K194","v":0},{"$f":"'Pivot Table Data'!L194","v":0},{"$f":"'Pivot Table Data'!S194","v":47},{"$f":"'Pivot Table Data'!T194","v":""},{"$f":"IF('Pivot Table Data'!O194=\"Yes\", 'Pivot Table Data'!T194, \"\")","v":""}]
[{"$f":"'Pivot Table Data'!B195","v":0},{"$f":"'Pivot Table Data'!F195","v":"Medical Center Hillcrest"},{"$f":"'Pivot Table Data'!P195","v":"Arbor"},{"$f":"'Pivot Table Data'!I195","v":"L12"},{"$f":"'Pivot Table Data'!J195","v":"A"},{"$f":"'Pivot Table Data'!K195","v":0},{"$f":"'Pivot Table Data'!L195","v":0},{"$f":"'Pivot Table Data'!S195","v":45},{"$f":"'Pivot Table Data'!T195","v":""},{"$f":"IF('Pivot Table Data'!O195=\"Yes\", 'Pivot Table Data'!T195, \"\")","v":""}]
[{"$f":"'Pivot Table Data'!B196","v":0},{"$f":"'Pivot Table Data'!F196","v":"Medical Center Hillcrest"},{"$f":"'Pivot Table Data'!P196","v":"Arbor"},{"$f":"'Pivot Table Data'!I196","v":"L12"},{"$f":"'Pivot Table Data'!J196","v":"Accessible"},{"$f":"'Pivot Table Data'!K196","v":0},{"$f":"'Pivot Table Data'!L196","v":0},{"$f":"'Pivot Table Data'!S196","v":1},{"$f":"'Pivot Table Data'!T196","v":""},{"$f":"IF('Pivot Table Data'!O196=\"Yes\", 'Pivot Table Data'!T196, \"\")","v":""}]
[{"$f":"'Pivot Table Data'!B197","v":0},{"$f":"'Pivot Table Data'!F197","v":"Medical Center Hillcrest"},{"$f":"'Pivot Table Data'!P197","v":"Arbor"},{"$f":"'Pivot Table Data'!I197","v":"L12"},{"$f":"'Pivot Table Data'!J197","v":"Accessible (Van)"},{"$f":"'Pivot Table Data'!K197","v":0},{"$f":"'Pivot Table Data'!L197","v":0},{"$f":"'Pivot Table Data'!S197","v":0},{"$f":"'Pivot Table Data'!T197","v":""},{"$f":"IF('Pivot Table Data'!O197=\"Yes\", 'Pivot Table Data'!T197, \"\")","v":""}]
[{"$f":"'Pivot Table Data'!B198","v":0},{"$f":"'Pivot Table Data'!F198","v":"Medical Center Hillcrest"},{"$f":"'Pivot Table Data'!P198","v":"Arbor"},{"$f":"'Pivot Table Data'!I198","v":"L13"},{"$f":"'Pivot Table Data'!J198","v":"A"},{"$f":"'Pivot Table Data'!K198","v":0},{"$f":"'Pivot Table Data'!L198","v":0},{"$f":"'Pivot Table Data'!S198","v":47},{"$f":"'Pivot Table Data'!T198","v":""},{"$f":"IF('Pivot Table Data'!O198=\"Yes\", 'Pivot Table Data'!T198, \"\")","v":""}]
[{"$f":"'Pivot Table Data'!B199","v":0},{"$f":"'Pivot Table Data'!F199","v":"Medical Center Hillcrest"},{"$f":"'Pivot Table Data'!P199","v":"Arbor"},{"$f":"'Pivot Table Data'!I199","v":"L14"},{"$f":"'Pivot Table Data'!J199","v":"A"},{"$f":"'Pivot Table Data'!K199","v":0},{"$f":"'Pivot Table Data'!L199","v":0},{"$f":"'Pivot Table Data'!S199","v":43},{"$f":"'Pivot Table Data'!T199","v":""},{"$f":"IF('Pivot Table Data'!O199=\"Yes\", 'Pivot Table Data'!T199, \"\")","v":""}]
[{"$f":"'Pivot Table Data'!B200","v":0},{"$f":"'Pivot Table Data'!F200","v":"Medical Center Hillcrest"},{"$f":"'Pivot Table Data'!P200","v":"Arbor"},{"$f":"'Pivot Table Data'!I200","v":"L14"},{"$f":"'Pivot Table Data'!J200","v":"Accessible"},{"$f":"'Pivot Table Data'!K200","v":0},{"$f":"'Pivot Table Data'!L200","v":0},{"$f":"'Pivot Table Data'!S200","v":1},{"$f":"'Pivot Table Data'!T200","v":""},{"$f":"IF('Pivot Table Data'!O200=\"Yes\", 'Pivot Table Data'!T200, \"\")","v":""}]
[{"$f":"'Pivot Table Data'!B201","v":0},{"$f":"'Pivot Table Data'!F201","v":"Medical Center Hillcrest"},{"$f":"'Pivot Table Data'!P201","v":"Arbor"},{"$f":"'Pivot Table Data'!I201","v":"L14"},{"$f":"'Pivot Table Data'!J201","v":"Accessible (Van)"},{"$f":"'Pivot Table Data'!K201","v":0},{"$f":"'Pivot Table Data'!L201","v":0},{"$f":"'Pivot Table Data'!S201","v":0},{"$f":"'Pivot Table Data'!T201","v":""},{"$f":"IF('Pivot Table Data'!O201=\"Yes\", 'Pivot Table Data'!T201, \"\")","v":""}]
[{"$f":"'Pivot Table Data'!B202","v":0},{"$f":"'Pivot Table Data'!F202","v":"Medical Center HIllcrest"},{"$f":"'Pivot Table Data'!P202","v":"First Ave"},{"$f":"'Pivot Table Data'!I202","v":"B2 & Ramps to Next Level"},{"$f":"'Pivot Table Data'!J202","v":"Accessible"},{"$f":"'Pivot Table Data'!K202","v":"Construction"},{"$f":"'Pivot Table Data'!L202","v":0},{"$f":"'Pivot Table Data'!S202","v":5},{"$f":"'Pivot Table Data'!T202","v":9},{"$f":"IF('Pivot Table Data'!O202=\"Yes\", 'Pivot Table Data'!T202, \"\")","v":""}]
[{"$f":"'Pivot Table Data'!B203","v":0},{"$f":"'Pivot Table Data'!F203","v":"Medical Center HIllcrest"},{"$f":"'Pivot Table Data'!P203","v":"First Ave"},{"$f":"'Pivot Table Data'!I203","v":"B2 & Ramps to Next Level"},{"$f":"'Pivot Table Data'!J203","v":"Accessible (Van)"},{"$f":"'Pivot Table Data'!K203","v":0},{"$f":"'Pivot Table Data'!L203","v":0},{"$f":"'Pivot Table Data'!S203","v":0},{"$f":"'Pivot Table Data'!T203","v":0},{"$f":"IF('Pivot Table Data'!O203=\"Yes\", 'Pivot Table Data'!T203, \"\")","v":""}]
[{"$f":"'Pivot Table Data'!B204","v":0},{"$f":"'Pivot Table Data'!F204","v":"Medical Center HIllcrest"},{"$f":"'Pivot Table Data'!P204","v":"First Ave"},{"$f":"'Pivot Table Data'!I204","v":"B2 & Ramps to Next Level"},{"$f":"'Pivot Table Data'!J204","v":"B"},{"$f":"'Pivot Table Data'!K204","v":"Construction"},{"$f":"'Pivot Table Data'!L204","v":0},{"$f":"'Pivot Table Data'!S204","v":242},{"$f":"'Pivot Table Data'!T204","v":438},{"$f":"IF('Pivot Table Data'!O204=\"Yes\", 'Pivot Table Data'!T204, \"\")","v":""}]
[{"$f":"'Pivot Table Data'!B205","v":0},{"$f":"'Pivot Table Data'!F205","v":"Medical Center HIllcrest"},{"$f":"'Pivot Table Data'!P205","v":"First Ave"},{"$f":"'Pivot Table Data'!I205","v":"B2 & Ramps to Next Level"},{"$f":"'Pivot Table Data'!J205","v":"Electric Vehicle"},{"$f":"'Pivot Table Data'!K205","v":"Construction"},{"$f":"'Pivot Table Data'!L205","v":0},{"$f":"'Pivot Table Data'!S205","v":0},{"$f":"'Pivot Table Data'!T205","v":0},{"$f":"IF('Pivot Table Data'!O205=\"Yes\", 'Pivot Table Data'!T205, \"\")","v":""}]
[{"$f":"'Pivot Table Data'!B206","v":0},{"$f":"'Pivot Table Data'!F206","v":"Medical Center HIllcrest"},{"$f":"'Pivot Table Data'!P206","v":"First Ave"},{"$f":"'Pivot Table Data'!I206","v":"B2 & Ramps to Next Level"},{"$f":"'Pivot Table Data'!J206","v":"Motorcycle Section"},{"$f":"'Pivot Table Data'!K206","v":"Construction"},{"$f":"'Pivot Table Data'!L206","v":0},{"$f":"'Pivot Table Data'!S206","v":15},{"$f":"'Pivot Table Data'!T206","v":23},{"$f":"IF('Pivot Table Data'!O206=\"Yes\", 'Pivot Table Data'!T206, \"\")","v":""}]
[{"$f":"'Pivot Table Data'!B207","v":0},{"$f":"'Pivot Table Data'!F207","v":"Medical Center HIllcrest"},{"$f":"'Pivot Table Data'!P207","v":"First Ave"},{"$f":"'Pivot Table Data'!I207","v":"B2 & Ramps to Next Level"},{"$f":"'Pivot Table Data'!J207","v":"Reserved"},{"$f":"'Pivot Table Data'!K207","v":0},{"$f":"'Pivot Table Data'!L207","v":0},{"$f":"'Pivot Table Data'!S207","v":8},{"$f":"'Pivot Table Data'!T207","v":8},{"$f":"IF('Pivot Table Data'!O207=\"Yes\", 'Pivot Table Data'!T207, \"\")","v":""}]
[{"$f":"'Pivot Table Data'!B208","v":0},{"$f":"'Pivot Table Data'!F208","v":"Medical Center HIllcrest"},{"$f":"'Pivot Table Data'!P208","v":"First Ave"},{"$f":"'Pivot Table Data'!I208","v":"B1 & Ramps to Next Level"},{"$f":"'Pivot Table Data'!J208","v":"A"},{"$f":"'Pivot Table Data'!K208","v":"Construction"},{"$f":"'Pivot Table Data'!L208","v":0},{"$f":"'Pivot Table Data'!S208","v":0},{"$f":"'Pivot Table Data'!T208","v":0},{"$f":"IF('Pivot Table Data'!O208=\"Yes\", 'Pivot Table Data'!T208, \"\")","v":""}]
[{"$f":"'Pivot Table Data'!B209","v":0},{"$f":"'Pivot Table Data'!F209","v":"Medical Center HIllcrest"},{"$f":"'Pivot Table Data'!P209","v":"First Ave"},{"$f":"'Pivot Table Data'!I209","v":"B1 & Ramps to Next Level"},{"$f":"'Pivot Table Data'!J209","v":"Accessible"},{"$f":"'Pivot Table Data'!K209","v":"Construction"},{"$f":"'Pivot Table Data'!L209","v":0},{"$f":"'Pivot Table Data'!S209","v":4},{"$f":"'Pivot Table Data'!T209","v":""},{"$f":"IF('Pivot Table Data'!O209=\"Yes\", 'Pivot Table Data'!T209, \"\")","v":""}]
[{"$f":"'Pivot Table Data'!B210","v":0},{"$f":"'Pivot Table Data'!F210","v":"Medical Center HIllcrest"},{"$f":"'Pivot Table Data'!P210","v":"First Ave"},{"$f":"'Pivot Table Data'!I210","v":"B1 & Ramps to Next Level"},{"$f":"'Pivot Table Data'!J210","v":"Accessible (Van)"},{"$f":"'Pivot Table Data'!K210","v":0},{"$f":"'Pivot Table Data'!L210","v":0},{"$f":"'Pivot Table Data'!S210","v":0},{"$f":"'Pivot Table Data'!T210","v":""},{"$f":"IF('Pivot Table Data'!O210=\"Yes\", 'Pivot Table Data'!T210, \"\")","v":""}]
[{"$f":"'Pivot Table Data'!B211","v":0},{"$f":"'Pivot Table Data'!F211","v":"Medical Center HIllcrest"},{"$f":"'Pivot Table Data'!P211","v":"First Ave"},{"$f":"'Pivot Table Data'!I211","v":"B1 & Ramps to Next Level"},{"$f":"'Pivot Table Data'!J211","v":"B"},{"$f":"'Pivot Table Data'!K211","v":"Construction"},{"$f":"'Pivot Table Data'!L211","v":0},{"$f":"'Pivot Table Data'!S211","v":196},{"$f":"'Pivot Table Data'!T211","v":""},{"$f":"IF('Pivot Table Data'!O211=\"Yes\", 'Pivot Table Data'!T211, \"\")","v":""}]
[{"$f":"'Pivot Table Data'!B212","v":0},{"$f":"'Pivot Table Data'!F212","v":"Medical Center HIllcrest"},{"$f":"'Pivot Table Data'!P212","v":"First Ave"},{"$f":"'Pivot Table Data'!I212","v":"B1 & Ramps to Next Level"},{"$f":"'Pivot Table Data'!J212","v":"Electric Vehicle"},{"$f":"'Pivot Table Data'!K212","v":"Construction"},{"$f":"'Pivot Table Data'!L212","v":0},{"$f":"'Pivot Table Data'!S212","v":0},{"$f":"'Pivot Table Data'!T212","v":""},{"$f":"IF('Pivot Table Data'!O212=\"Yes\", 'Pivot Table Data'!T212, \"\")","v":""}]
[{"$f":"'Pivot Table Data'!B213","v":0},{"$f":"'Pivot Table Data'!F213","v":"Medical Center HIllcrest"},{"$f":"'Pivot Table Data'!P213","v":"First Ave"},{"$f":"'Pivot Table Data'!I213","v":"B1 & Ramps to Next Level"},{"$f":"'Pivot Table Data'!J213","v":"Motorcycle Section"},{"$f":"'Pivot Table Data'!K213","v":"Construction"},{"$f":"'Pivot Table Data'!L213","v":0},{"$f":"'Pivot Table Data'!S213","v":8},{"$f":"'Pivot Table Data'!T213","v":""},{"$f":"IF('Pivot Table Data'!O213=\"Yes\", 'Pivot Table Data'!T213, \"\")","v":""}]
[{"$f":"'Pivot Table Data'!B214","v":0},{"$f":"'Pivot Table Data'!F214","v":"Medical Center HIllcrest"},{"$f":"'Pivot Table Data'!P214","v":"First Ave"},{"$f":"'Pivot Table Data'!I214","v":"B1 & Ramps to Next Level"},{"$f":"'Pivot Table Data'!J214","v":"Reserved"},{"$f":"'Pivot Table Data'!K214","v":0},{"$f":"'Pivot Table Data'!L214","v":0},{"$f":"'Pivot Table Data'!S214","v":0},{"$f":"'Pivot Table Data'!T214","v":""},{"$f":"IF('Pivot Table Data'!O214=\"Yes\", 'Pivot Table Data'!T214, \"\")","v":""}]
[{"$f":"'Pivot Table Data'!B215","v":0},{"$f":"'Pivot Table Data'!F215","v":"Medical Center HIllcrest"},{"$f":"'Pivot Table Data'!P215","v":"First Ave"},{"$f":"'Pivot Table Data'!I215","v":"PL & Ramps to Next Level"},{"$f":"'Pivot Table Data'!J215","v":"A"},{"$f":"'Pivot Table Data'!K215","v":0},{"$f":"'Pivot Table Data'!L215","v":0},{"$f":"'Pivot Table Data'!S215","v":0},{"$f":"'Pivot Table Data'!T215","v":0},{"$f":"IF('Pivot Table Data'!O215=\"Yes\", 'Pivot Table Data'!T215, \"\")","v":""}]
[{"$f":"'Pivot Table Data'!B216","v":0},{"$f":"'Pivot Table Data'!F216","v":"Medical Center HIllcrest"},{"$f":"'Pivot Table Data'!P216","v":"First Ave"},{"$f":"'Pivot Table Data'!I216","v":"PL & Ramps to Next Level"},{"$f":"'Pivot Table Data'!J216","v":"Accessible"},{"$f":"'Pivot Table Data'!K216","v":0},{"$f":"'Pivot Table Data'!L216","v":0},{"$f":"'Pivot Table Data'!S216","v":6},{"$f":"'Pivot Table Data'!T216","v":50},{"$f":"IF('Pivot Table Data'!O216=\"Yes\", 'Pivot Table Data'!T216, \"\")","v":""}]
[{"$f":"'Pivot Table Data'!B217","v":0},{"$f":"'Pivot Table Data'!F217","v":"Medical Center HIllcrest"},{"$f":"'Pivot Table Data'!P217","v":"First Ave"},{"$f":"'Pivot Table Data'!I217","v":"PL & Ramps to Next Level"},{"$f":"'Pivot Table Data'!J217","v":"Accessible (Van)"},{"$f":"'Pivot Table Data'!K217","v":0},{"$f":"'Pivot Table Data'!L217","v":0},{"$f":"'Pivot Table Data'!S217","v":0},{"$f":"'Pivot Table Data'!T217","v":""},{"$f":"IF('Pivot Table Data'!O217=\"Yes\", 'Pivot Table Data'!T217, \"\")","v":""}]
[{"$f":"'Pivot Table Data'!B218","v":0},{"$f":"'Pivot Table Data'!F218","v":"Medical Center HIllcrest"},{"$f":"'Pivot Table Data'!P218","v":"First Ave"},{"$f":"'Pivot Table Data'!I218","v":"PL & Ramps to Next Level"},{"$f":"'Pivot Table Data'!J218","v":"B"},{"$f":"'Pivot Table Data'!K218","v":0},{"$f":"'Pivot Table Data'!L218","v":0},{"$f":"'Pivot Table Data'!S218","v":193},{"$f":"'Pivot Table Data'!T218","v":1265},{"$f":"IF('Pivot Table Data'!O218=\"Yes\", 'Pivot Table Data'!T218, \"\")","v":""}]
[{"$f":"'Pivot Table Data'!B219","v":0},{"$f":"'Pivot Table Data'!F219","v":"Medical Center HIllcrest"},{"$f":"'Pivot Table Data'!P219","v":"First Ave"},{"$f":"'Pivot Table Data'!I219","v":"PL & Ramps to Next Level"},{"$f":"'Pivot Table Data'!J219","v":"Electric Vehicle"},{"$f":"'Pivot Table Data'!K219","v":0},{"$f":"'Pivot Table Data'!L219","v":0},{"$f":"'Pivot Table Data'!S219","v":0},{"$f":"'Pivot Table Data'!T219","v":30},{"$f":"IF('Pivot Table Data'!O219=\"Yes\", 'Pivot Table Data'!T219, \"\")","v":""}]
[{"$f":"'Pivot Table Data'!B220","v":0},{"$f":"'Pivot Table Data'!F220","v":"Medical Center HIllcrest"},{"$f":"'Pivot Table Data'!P220","v":"First Ave"},{"$f":"'Pivot Table Data'!I220","v":"PL & Ramps to Next Level"},{"$f":"'Pivot Table Data'!J220","v":"Motorcycle Section"},{"$f":"'Pivot Table Data'!K220","v":0},{"$f":"'Pivot Table Data'!L220","v":0},{"$f":"'Pivot Table Data'!S220","v":1},{"$f":"'Pivot Table Data'!T220","v":42},{"$f":"IF('Pivot Table Data'!O220=\"Yes\", 'Pivot Table Data'!T220, \"\")","v":""}]
[{"$f":"'Pivot Table Data'!B221","v":0},{"$f":"'Pivot Table Data'!F221","v":"Medical Center HIllcrest"},{"$f":"'Pivot Table Data'!P221","v":"First Ave"},{"$f":"'Pivot Table Data'!I221","v":"PL & Ramps to Next Level"},{"$f":"'Pivot Table Data'!J221","v":"Reserved"},{"$f":"'Pivot Table Data'!K221","v":0},{"$f":"'Pivot Table Data'!L221","v":0},{"$f":"'Pivot Table Data'!S221","v":0},{"$f":"'Pivot Table Data'!T221","v":""},{"$f":"IF('Pivot Table Data'!O221=\"Yes\", 'Pivot Table Data'!T221, \"\")","v":""}]
[{"$f":"'Pivot Table Data'!B222","v":0},{"$f":"'Pivot Table Data'!F222","v":"Medical Center HIllcrest"},{"$f":"'Pivot Table Data'!P222","v":"First Ave"},{"$f":"'Pivot Table Data'!I222","v":"P0 & Ramps to Next Level"},{"$f":"'Pivot Table Data'!J222","v":"A"},{"$f":"'Pivot Table Data'!K222","v":0},{"$f":"'Pivot Table Data'!L222","v":0},{"$f":"'Pivot Table Data'!S222","v":0},{"$f":"'Pivot Table Data'!T222","v":""},{"$f":"IF('Pivot Table Data'!O222=\"Yes\", 'Pivot Table Data'!T222, \"\")","v":""}]
[{"$f":"'Pivot Table Data'!B223","v":0},{"$f":"'Pivot Table Data'!F223","v":"Medical Center HIllcrest"},{"$f":"'Pivot Table Data'!P223","v":"First Ave"},{"$f":"'Pivot Table Data'!I223","v":"P0 & Ramps to Next Level"},{"$f":"'Pivot Table Data'!J223","v":"Accessible"},{"$f":"'Pivot Table Data'!K223","v":0},{"$f":"'Pivot Table Data'!L223","v":0},{"$f":"'Pivot Table Data'!S223","v":8},{"$f":"'Pivot Table Data'!T223","v":""},{"$f":"IF('Pivot Table Data'!O223=\"Yes\", 'Pivot Table Data'!T223, \"\")","v":""}]
[{"$f":"'Pivot Table Data'!B224","v":0},{"$f":"'Pivot Table Data'!F224","v":"Medical Center HIllcrest"},{"$f":"'Pivot Table Data'!P224","v":"First Ave"},{"$f":"'Pivot Table Data'!I224","v":"P0 & Ramps to Next Level"},{"$f":"'Pivot Table Data'!J224","v":"Accessible (Van)"},{"$f":"'Pivot Table Data'!K224","v":0},{"$f":"'Pivot Table Data'!L224","v":0},{"$f":"'Pivot Table Data'!S224","v":0},{"$f":"'Pivot Table Data'!T224","v":""},{"$f":"IF('Pivot Table Data'!O224=\"Yes\", 'Pivot Table Data'!T224, \"\")","v":""}]
[{"$f":"'Pivot Table Data'!B225","v":0},{"$f":"'Pivot Table Data'!F225","v":"Medical Center HIllcrest"},{"$f":"'Pivot Table Data'!P225","v":"First Ave"},{"$f":"'Pivot Table Data'!I225","v":"P0 & Ramps to Next Level"},{"$f":"'Pivot Table Data'!J225","v":"B"},{"$f":"'Pivot Table Data'!K225","v":0},{"$f":"'Pivot Table Data'!L225","v":0},{"$f":"'Pivot Table Data'!S225","v":179},{"$f":"'Pivot Table Data'!T225","v":""},{"$f":"IF('Pivot Table Data'!O225=\"Yes\", 'Pivot Table Data'!T225, \"\")","v":""}]
[{"$f":"'Pivot Table Data'!B226","v":0},{"$f":"'Pivot Table Data'!F226","v":"Medical Center HIllcrest"},{"$f":"'Pivot Table Data'!P226","v":"First Ave"},{"$f":"'Pivot Table Data'!I226","v":"P0 & Ramps to Next Level"},{"$f":"'Pivot Table Data'!J226","v":"Electric Vehicle"},{"$f":"'Pivot Table Data'!K226","v":0},{"$f":"'Pivot Table Data'!L226","v":0},{"$f":"'Pivot Table Data'!S226","v":10},{"$f":"'Pivot Table Data'!T226","v":""},{"$f":"IF('Pivot Table Data'!O226=\"Yes\", 'Pivot Table Data'!T226, \"\")","v":""}]
[{"$f":"'Pivot Table Data'!B227","v":0},{"$f":"'Pivot Table Data'!F227","v":"Medical Center HIllcrest"},{"$f":"'Pivot Table Data'!P227","v":"First Ave"},{"$f":"'Pivot Table Data'!I227","v":"P0 & Ramps to Next Level"},{"$f":"'Pivot Table Data'!J227","v":"Motorcycle Section"},{"$f":"'Pivot Table Data'!K227","v":0},{"$f":"'Pivot Table Data'!L227","v":0},{"$f":"'Pivot Table Data'!S227","v":8},{"$f":"'Pivot Table Data'!T227","v":""},{"$f":"IF('Pivot Table Data'!O227=\"Yes\", 'Pivot Table Data'!T227, \"\")","v":""}]
[{"$f":"'Pivot Table Data'!B228","v":0},{"$f":"'Pivot Table Data'!F228","v":"Medical Center HIllcrest"},{"$f":"'Pivot Table Data'!P228","v":"First Ave"},{"$f":"'Pivot Table Data'!I228","v":"P0 & Ramps to Next Level"},{"$f":"'Pivot Table Data'!J228","v":"Reserved"},{"$f":"'Pivot Table Data'!K228","v":0},{"$f":"'Pivot Table Data'!L228","v":0},{"$f":"'Pivot Table Data'!S228","v":0},{"$f":"'Pivot Table Data'!T228","v":""},{"$f":"IF('Pivot Table Data'!O228=\"Yes\", 'Pivot Table Data'!T228, \"\")","v":""}]
[{"$f":"'Pivot Table Data'!B229","v":0},{"$f":"'Pivot Table Data'!F229","v":"Medical Center HIllcrest"},{"$f":"'Pivot Table Data'!P229","v":"First Ave"},{"$f":"'Pivot Table Data'!I229","v":"P1 & Ramps to Next Level"},{"$f":"'Pivot Table Data'!J229","v":"A"},{"$f":"'Pivot Table Data'!K229","v":0},{"$f":"'Pivot Table Data'!L229","v":0},{"$f":"'Pivot Table Data'!S229","v":0},{"$f":"'Pivot Table Data'!T229","v":""},{"$f":"IF('Pivot Table Data'!O229=\"Yes\", 'Pivot Table Data'!T229, \"\")","v":""}]
[{"$f":"'Pivot Table Data'!B230","v":0},{"$f":"'Pivot Table Data'!F230","v":"Medical Center HIllcrest"},{"$f":"'Pivot Table Data'!P230","v":"First Ave"},{"$f":"'Pivot Table Data'!I230","v":"P1 & Ramps to Next Level"},{"$f":"'Pivot Table Data'!J230","v":"B"},{"$f":"'Pivot Table Data'!K230","v":0},{"$f":"'Pivot Table Data'!L230","v":0},{"$f":"'Pivot Table Data'!S230","v":158},{"$f":"'Pivot Table Data'!T230","v":""},{"$f":"IF('Pivot Table Data'!O230=\"Yes\", 'Pivot Table Data'!T230, \"\")","v":""}]
[{"$f":"'Pivot Table Data'!B231","v":0},{"$f":"'Pivot Table Data'!F231","v":"Medical Center HIllcrest"},{"$f":"'Pivot Table Data'!P231","v":"First Ave"},{"$f":"'Pivot Table Data'!I231","v":"P1 & Ramps to Next Level"},{"$f":"'Pivot Table Data'!J231","v":"Electric Vehicle"},{"$f":"'Pivot Table Data'!K231","v":0},{"$f":"'Pivot Table Data'!L231","v":0},{"$f":"'Pivot Table Data'!S231","v":10},{"$f":"'Pivot Table Data'!T231","v":""},{"$f":"IF('Pivot Table Data'!O231=\"Yes\", 'Pivot Table Data'!T231, \"\")","v":""}]
[{"$f":"'Pivot Table Data'!B232","v":0},{"$f":"'Pivot Table Data'!F232","v":"Medical Center HIllcrest"},{"$f":"'Pivot Table Data'!P232","v":"First Ave"},{"$f":"'Pivot Table Data'!I232","v":"P1 & Ramps to Next Level"},{"$f":"'Pivot Table Data'!J232","v":"Motorcycle Section"},{"$f":"'Pivot Table Data'!K232","v":0},{"$f":"'Pivot Table Data'!L232","v":0},{"$f":"'Pivot Table Data'!S232","v":6},{"$f":"'Pivot Table Data'!T232","v":""},{"$f":"IF('Pivot Table Data'!O232=\"Yes\", 'Pivot Table Data'!T232, \"\")","v":""}]
[{"$f":"'Pivot Table Data'!B233","v":0},{"$f":"'Pivot Table Data'!F233","v":"Medical Center HIllcrest"},{"$f":"'Pivot Table Data'!P233","v":"First Ave"},{"$f":"'Pivot Table Data'!I233","v":"P1 & Ramps to Next Level"},{"$f":"'Pivot Table Data'!J233","v":"Reserved"},{"$f":"'Pivot Table Data'!K233","v":0},{"$f":"'Pivot Table Data'!L233","v":0},{"$f":"'Pivot Table Data'!S233","v":0},{"$f":"'Pivot Table Data'!T233","v":""},{"$f":"IF('Pivot Table Data'!O233=\"Yes\", 'Pivot Table Data'!T233, \"\")","v":""}]
[{"$f":"'Pivot Table Data'!B234","v":0},{"$f":"'Pivot Table Data'!F234","v":"Medical Center HIllcrest"},{"$f":"'Pivot Table Data'!P234","v":"First Ave"},{"$f":"'Pivot Table Data'!I234","v":"P2 & Ramps to Next Level"},{"$f":"'Pivot Table Data'!J234","v":"Accessible"},{"$f":"'Pivot Table Data'!K234","v":0},{"$f":"'Pivot Table Data'!L234","v":0},{"$f":"'Pivot Table Data'!S234","v":6},{"$f":"'Pivot Table Data'!T234","v":""},{"$f":"IF('Pivot Table Data'!O234=\"Yes\", 'Pivot Table Data'!T234, \"\")","v":""}]
[{"$f":"'Pivot Table Data'!B235","v":0},{"$f":"'Pivot Table Data'!F235","v":"Medical Center HIllcrest"},{"$f":"'Pivot Table Data'!P235","v":"First Ave"},{"$f":"'Pivot Table Data'!I235","v":"P2 & Ramps to Next Level"},{"$f":"'Pivot Table Data'!J235","v":"Accessible (Van)"},{"$f":"'Pivot Table Data'!K235","v":0},{"$f":"'Pivot Table Data'!L235","v":0},{"$f":"'Pivot Table Data'!S235","v":0},{"$f":"'Pivot Table Data'!T235","v":""},{"$f":"IF('Pivot Table Data'!O235=\"Yes\", 'Pivot Table Data'!T235, \"\")","v":""}]
[{"$f":"'Pivot Table Data'!B236","v":0},{"$f":"'Pivot Table Data'!F236","v":"Medical Center HIllcrest"},{"$f":"'Pivot Table Data'!P236","v":"First Ave"},{"$f":"'Pivot Table Data'!I236","v":"P2 & Ramps to Next Level"},{"$f":"'Pivot Table Data'!J236","v":"Accessible"},{"$f":"'Pivot Table Data'!K236","v":0},{"$f":"'Pivot Table Data'!L236","v":0},{"$f":"'Pivot Table Data'!S236","v":8},{"$f":"'Pivot Table Data'!T236","v":""},{"$f":"IF('Pivot Table Data'!O236=\"Yes\", 'Pivot Table Data'!T236, \"\")","v":""}]
[{"$f":"'Pivot Table Data'!B237","v":0},{"$f":"'Pivot Table Data'!F237","v":"Medical Center HIllcrest"},{"$f":"'Pivot Table Data'!P237","v":"First Ave"},{"$f":"'Pivot Table Data'!I237","v":"P2 & Ramps to Next Level"},{"$f":"'Pivot Table Data'!J237","v":"Accessible (Van)"},{"$f":"'Pivot Table Data'!K237","v":0},{"$f":"'Pivot Table Data'!L237","v":0},{"$f":"'Pivot Table Data'!S237","v":0},{"$f":"'Pivot Table Data'!T237","v":""},{"$f":"IF('Pivot Table Data'!O237=\"Yes\", 'Pivot Table Data'!T237, \"\")","v":""}]
[{"$f":"'Pivot Table Data'!B238","v":0},{"$f":"'Pivot Table Data'!F238","v":"Medical Center HIllcrest"},{"$f":"'Pivot Table Data'!P238","v":"First Ave"},{"$f":"'Pivot Table Data'!I238","v":"P2 & Ramps to Next Level"},{"$f":"'Pivot Table Data'!J238","v":"B"},{"$f":"'Pivot Table Data'!K238","v":0},{"$f":"'Pivot Table Data'!L238","v":0},{"$f":"'Pivot Table Data'!S238","v":192},{"$f":"'Pivot Table Data'!T238","v":""},{"$f":"IF('Pivot Table Data'!O238=\"Yes\", 'Pivot Table Data'!T238, \"\")","v":""}]
[{"$f":"'Pivot Table Data'!B239","v":0},{"$f":"'Pivot Table Data'!F239","v":"Medical Center HIllcrest"},{"$f":"'Pivot Table Data'!P239","v":"First Ave"},{"$f":"'Pivot Table Data'!I239","v":"P2 & Ramps to Next Level"},{"$f":"'Pivot Table Data'!J239","v":"Electric Vehicle"},{"$f":"'Pivot Table Data'!K239","v":0},{"$f":"'Pivot Table Data'!L239","v":0},{"$f":"'Pivot Table Data'!S239","v":10},{"$f":"'Pivot Table Data'!T239","v":""},{"$f":"IF('Pivot Table Data'!O239=\"Yes\", 'Pivot Table Data'!T239, \"\")","v":""}]
[{"$f":"'Pivot Table Data'!B240","v":0},{"$f":"'Pivot Table Data'!F240","v":"Medical Center HIllcrest"},{"$f":"'Pivot Table Data'!P240","v":"First Ave"},{"$f":"'Pivot Table Data'!I240","v":"P2 & Ramps to Next Level"},{"$f":"'Pivot Table Data'!J240","v":"Motorcycle Section"},{"$f":"'Pivot Table Data'!K240","v":0},{"$f":"'Pivot Table Data'!L240","v":0},{"$f":"'Pivot Table Data'!S240","v":6},{"$f":"'Pivot Table Data'!T240","v":""},{"$f":"IF('Pivot Table Data'!O240=\"Yes\", 'Pivot Table Data'!T240, \"\")","v":""}]
[{"$f":"'Pivot Table Data'!B241","v":0},{"$f":"'Pivot Table Data'!F241","v":"Medical Center HIllcrest"},{"$f":"'Pivot Table Data'!P241","v":"First Ave"},{"$f":"'Pivot Table Data'!I241","v":"P2 & Ramps to Next Level"},{"$f":"'Pivot Table Data'!J241","v":"Reserved"},{"$f":"'Pivot Table Data'!K241","v":0},{"$f":"'Pivot Table Data'!L241","v":0},{"$f":"'Pivot Table Data'!S241","v":0},{"$f":"'Pivot Table Data'!T241","v":""},{"$f":"IF('Pivot Table Data'!O241=\"Yes\", 'Pivot Table Data'!T241, \"\")","v":""}]
[{"$f":"'Pivot Table Data'!B242","v":0},{"$f":"'Pivot Table Data'!F242","v":"Medical Center HIllcrest"},{"$f":"'Pivot Table Data'!P242","v":"First Ave"},{"$f":"'Pivot Table Data'!I242","v":"P3 & Ramps to Next Level"},{"$f":"'Pivot Table Data'!J242","v":"A"},{"$f":"'Pivot Table Data'!K242","v":0},{"$f":"'Pivot Table Data'!L242","v":0},{"$f":"'Pivot Table Data'!S242","v":0},{"$f":"'Pivot Table Data'!T242","v":""},{"$f":"IF('Pivot Table Data'!O242=\"Yes\", 'Pivot Table Data'!T242, \"\")","v":""}]
[{"$f":"'Pivot Table Data'!B243","v":0},{"$f":"'Pivot Table Data'!F243","v":"Medical Center HIllcrest"},{"$f":"'Pivot Table Data'!P243","v":"First Ave"},{"$f":"'Pivot Table Data'!I243","v":"P3 & Ramps to Next Level"},{"$f":"'Pivot Table Data'!J243","v":"Accessible"},{"$f":"'Pivot Table Data'!K243","v":0},{"$f":"'Pivot Table Data'!L243","v":0},{"$f":"'Pivot Table Data'!S243","v":9},{"$f":"'Pivot Table Data'!T243","v":""},{"$f":"IF('Pivot Table Data'!O243=\"Yes\", 'Pivot Table Data'!T243, \"\")","v":""}]
[{"$f":"'Pivot Table Data'!B244","v":0},{"$f":"'Pivot Table Data'!F244","v":"Medical Center HIllcrest"},{"$f":"'Pivot Table Data'!P244","v":"First Ave"},{"$f":"'Pivot Table Data'!I244","v":"P3 & Ramps to Next Level"},{"$f":"'Pivot Table Data'!J244","v":"Accessible (Van)"},{"$f":"'Pivot Table Data'!K244","v":0},{"$f":"'Pivot Table Data'!L244","v":0},{"$f":"'Pivot Table Data'!S244","v":0},{"$f":"'Pivot Table Data'!T244","v":""},{"$f":"IF('Pivot Table Data'!O244=\"Yes\", 'Pivot Table Data'!T244, \"\")","v":""}]
[{"$f":"'Pivot Table Data'!B245","v":0},{"$f":"'Pivot Table Data'!F245","v":"Medical Center HIllcrest"},{"$f":"'Pivot Table Data'!P245","v":"First Ave"},{"$f":"'Pivot Table Data'!I245","v":"P3 & Ramps to Next Level"},{"$f":"'Pivot Table Data'!J245","v":"B"},{"$f":"'Pivot Table Data'!K245","v":0},{"$f":"'Pivot Table Data'!L245","v":0},{"$f":"'Pivot Table Data'!S245","v":201},{"$f":"'Pivot Table Data'!T245","v":""},{"$f":"IF('Pivot Table Data'!O245=\"Yes\", 'Pivot Table Data'!T245, \"\")","v":""}]
[{"$f":"'Pivot Table Data'!B246","v":0},{"$f":"'Pivot Table Data'!F246","v":"Medical Center HIllcrest"},{"$f":"'Pivot Table Data'!P246","v":"First Ave"},{"$f":"'Pivot Table Data'!I246","v":"P3 & Ramps to Next Level"},{"$f":"'Pivot Table Data'!J246","v":"Electric Vehicle"},{"$f":"'Pivot Table Data'!K246","v":0},{"$f":"'Pivot Table Data'!L246","v":0},{"$f":"'Pivot Table Data'!S246","v":0},{"$f":"'Pivot Table Data'!T246","v":""},{"$f":"IF('Pivot Table Data'!O246=\"Yes\", 'Pivot Table Data'!T246, \"\")","v":""}]
[{"$f":"'Pivot Table Data'!B247","v":0},{"$f":"'Pivot Table Data'!F247","v":"Medical Center HIllcrest"},{"$f":"'Pivot Table Data'!P247","v":"First Ave"},{"$f":"'Pivot Table Data'!I247","v":"P3 & Ramps to Next Level"},{"$f":"'Pivot Table Data'!J247","v":"Motorcycle Section"},{"$f":"'Pivot Table Data'!K247","v":0},{"$f":"'Pivot Table Data'!L247","v":0},{"$f":"'Pivot Table Data'!S247","v":6},{"$f":"'Pivot Table Data'!T247","v":""},{"$f":"IF('Pivot Table Data'!O247=\"Yes\", 'Pivot Table Data'!T247, \"\")","v":""}]
[{"$f":"'Pivot Table Data'!B248","v":0},{"$f":"'Pivot Table Data'!F248","v":"Medical Center HIllcrest"},{"$f":"'Pivot Table Data'!P248","v":"First Ave"},{"$f":"'Pivot Table Data'!I248","v":"P3 & Ramps to Next Level"},{"$f":"'Pivot Table Data'!J248","v":"Reserved"},{"$f":"'Pivot Table Data'!K248","v":0},{"$f":"'Pivot Table Data'!L248","v":0},{"$f":"'Pivot Table Data'!S248","v":0},{"$f":"'Pivot Table Data'!T248","v":""},{"$f":"IF('Pivot Table Data'!O248=\"Yes\", 'Pivot Table Data'!T248, \"\")","v":""}]
[{"$f":"'Pivot Table Data'!B249","v":0},{"$f":"'Pivot Table Data'!F249","v":"Medical Center HIllcrest"},{"$f":"'Pivot Table Data'!P249","v":"First Ave"},{"$f":"'Pivot Table Data'!I249","v":"P4 & Ramps to Next Level"},{"$f":"'Pivot Table Data'!J249","v":"A"},{"$f":"'Pivot Table Data'!K249","v":0},{"$f":"'Pivot Table Data'!L249","v":0},{"$f":"'Pivot Table Data'!S249","v":0},{"$f":"'Pivot Table Data'!T249","v":""},{"$f":"IF('Pivot Table Data'!O249=\"Yes\", 'Pivot Table Data'!T249, \"\")","v":""}]
[{"$f":"'Pivot Table Data'!B250","v":0},{"$f":"'Pivot Table Data'!F250","v":"Medical Center HIllcrest"},{"$f":"'Pivot Table Data'!P250","v":"First Ave"},{"$f":"'Pivot Table Data'!I250","v":"P4 & Ramps to Next Level"},{"$f":"'Pivot Table Data'!J250","v":"Accessible"},{"$f":"'Pivot Table Data'!K250","v":0},{"$f":"'Pivot Table Data'!L250","v":0},{"$f":"'Pivot Table Data'!S250","v":8},{"$f":"'Pivot Table Data'!T250","v":""},{"$f":"IF('Pivot Table Data'!O250=\"Yes\", 'Pivot Table Data'!T250, \"\")","v":""}]
[{"$f":"'Pivot Table Data'!B251","v":0},{"$f":"'Pivot Table Data'!F251","v":"Medical Center HIllcrest"},{"$f":"'Pivot Table Data'!P251","v":"First Ave"},{"$f":"'Pivot Table Data'!I251","v":"P4 & Ramps to Next Level"},{"$f":"'Pivot Table Data'!J251","v":"Accessible (Van)"},{"$f":"'Pivot Table Data'!K251","v":0},{"$f":"'Pivot Table Data'!L251","v":0},{"$f":"'Pivot Table Data'!S251","v":0},{"$f":"'Pivot Table Data'!T251","v":""},{"$f":"IF('Pivot Table Data'!O251=\"Yes\", 'Pivot Table Data'!T251, \"\")","v":""}]
[{"$f":"'Pivot Table Data'!B252","v":0},{"$f":"'Pivot Table Data'!F252","v":"Medical Center HIllcrest"},{"$f":"'Pivot Table Data'!P252","v":"First Ave"},{"$f":"'Pivot Table Data'!I252","v":"P4 & Ramps to Next Level"},{"$f":"'Pivot Table Data'!J252","v":"B"},{"$f":"'Pivot Table Data'!K252","v":0},{"$f":"'Pivot Table Data'!L252","v":0},{"$f":"'Pivot Table Data'!S252","v":204},{"$f":"'Pivot Table Data'!T252","v":""},{"$f":"IF('Pivot Table Data'!O252=\"Yes\", 'Pivot Table Data'!T252, \"\")","v":""}]
[{"$f":"'Pivot Table Data'!B253","v":0},{"$f":"'Pivot Table Data'!F253","v":"Medical Center HIllcrest"},{"$f":"'Pivot Table Data'!P253","v":"First Ave"},{"$f":"'Pivot Table Data'!I253","v":"P4 & Ramps to Next Level"},{"$f":"'Pivot Table Data'!J253","v":"Electric Vehicle"},{"$f":"'Pivot Table Data'!K253","v":0},{"$f":"'Pivot Table Data'!L253","v":0},{"$f":"'Pivot Table Data'!S253","v":0},{"$f":"'Pivot Table Data'!T253","v":""},{"$f":"IF('Pivot Table Data'!O253=\"Yes\", 'Pivot Table Data'!T253, \"\")","v":""}]
[{"$f":"'Pivot Table Data'!B254","v":0},{"$f":"'Pivot Table Data'!F254","v":"Medical Center HIllcrest"},{"$f":"'Pivot Table Data'!P254","v":"First Ave"},{"$f":"'Pivot Table Data'!I254","v":"P4 & Ramps to Next Level"},{"$f":"'Pivot Table Data'!J254","v":"Motorcycle Section"},{"$f":"'Pivot Table Data'!K254","v":0},{"$f":"'Pivot Table Data'!L254","v":0},{"$f":"'Pivot Table Data'!S254","v":7},{"$f":"'Pivot Table Data'!T254","v":""},{"$f":"IF('Pivot Table Data'!O254=\"Yes\", 'Pivot Table Data'!T254, \"\")","v":""}]
[{"$f":"'Pivot Table Data'!B255","v":0},{"$f":"'Pivot Table Data'!F255","v":"Medical Center HIllcrest"},{"$f":"'Pivot Table Data'!P255","v":"First Ave"},{"$f":"'Pivot Table Data'!I255","v":"P4 & Ramps to Next Level"},{"$f":"'Pivot Table Data'!J255","v":"Reserved"},{"$f":"'Pivot Table Data'!K255","v":0},{"$f":"'Pivot Table Data'!L255","v":0},{"$f":"'Pivot Table Data'!S255","v":0},{"$f":"'Pivot Table Data'!T255","v":""},{"$f":"IF('Pivot Table Data'!O255=\"Yes\", 'Pivot Table Data'!T255, \"\")","v":""}]
[{"$f":"'Pivot Table Data'!B256","v":0},{"$f":"'Pivot Table Data'!F256","v":"Medical Center HIllcrest"},{"$f":"'Pivot Table Data'!P256","v":"First Ave"},{"$f":"'Pivot Table Data'!I256","v":"P5 Roof"},{"$f":"'Pivot Table Data'!J256","v":"A"},{"$f":"'Pivot Table Data'!K256","v":0},{"$f":"'Pivot Table Data'!L256","v":0},{"$f":"'Pivot Table Data'!S256","v":0},{"$f":"'Pivot Table Data'!T256","v":""},{"$f":"IF('Pivot Table Data'!O256=\"Yes\", 'Pivot Table Data'!T256, \"\")","v":""}]
[{"$f":"'Pivot Table Data'!B257","v":0},{"$f":"'Pivot Table Data'!F257","v":"Medical Center HIllcrest"},{"$f":"'Pivot Table Data'!P257","v":"First Ave"},{"$f":"'Pivot Table Data'!I257","v":"P5 Roof"},{"$f":"'Pivot Table Data'!J257","v":"Accessible"},{"$f":"'Pivot Table Data'!K257","v":0},{"$f":"'Pivot Table Data'!L257","v":0},{"$f":"'Pivot Table Data'!S257","v":5},{"$f":"'Pivot Table Data'!T257","v":""},{"$f":"IF('Pivot Table Data'!O257=\"Yes\", 'Pivot Table Data'!T257, \"\")","v":""}]
[{"$f":"'Pivot Table Data'!B258","v":0},{"$f":"'Pivot Table Data'!F258","v":"Medical Center HIllcrest"},{"$f":"'Pivot Table Data'!P258","v":"First Ave"},{"$f":"'Pivot Table Data'!I258","v":"P5 Roof"},{"$f":"'Pivot Table Data'!J258","v":"Accessible (Van)"},{"$f":"'Pivot Table Data'!K258","v":0},{"$f":"'Pivot Table Data'!L258","v":0},{"$f":"'Pivot Table Data'!S258","v":0},{"$f":"'Pivot Table Data'!T258","v":""},{"$f":"IF('Pivot Table Data'!O258=\"Yes\", 'Pivot Table Data'!T258, \"\")","v":""}]
[{"$f":"'Pivot Table Data'!B259","v":0},{"$f":"'Pivot Table Data'!F259","v":"Medical Center HIllcrest"},{"$f":"'Pivot Table Data'!P259","v":"First Ave"},{"$f":"'Pivot Table Data'!I259","v":"P5 Roof"},{"$f":"'Pivot Table Data'!J259","v":"B"},{"$f":"'Pivot Table Data'!K259","v":0},{"$f":"'Pivot Table Data'!L259","v":0},{"$f":"'Pivot Table Data'!S259","v":138},{"$f":"'Pivot Table Data'!T259","v":""},{"$f":"IF('Pivot Table Data'!O259=\"Yes\", 'Pivot Table Data'!T259, \"\")","v":""}]
[{"$f":"'Pivot Table Data'!B260","v":0},{"$f":"'Pivot Table Data'!F260","v":"Medical Center HIllcrest"},{"$f":"'Pivot Table Data'!P260","v":"First Ave"},{"$f":"'Pivot Table Data'!I260","v":"P5 Roof"},{"$f":"'Pivot Table Data'!J260","v":"Electric Vehicle"},{"$f":"'Pivot Table Data'!K260","v":0},{"$f":"'Pivot Table Data'!L260","v":0},{"$f":"'Pivot Table Data'!S260","v":0},{"$f":"'Pivot Table Data'!T260","v":""},{"$f":"IF('Pivot Table Data'!O260=\"Yes\", 'Pivot Table Data'!T260, \"\")","v":""}]
[{"$f":"'Pivot Table Data'!B261","v":0},{"$f":"'Pivot Table Data'!F261","v":"Medical Center HIllcrest"},{"$f":"'Pivot Table Data'!P261","v":"First Ave"},{"$f":"'Pivot Table Data'!I261","v":"P5 Roof"},{"$f":"'Pivot Table Data'!J261","v":"Motorcycle Section"},{"$f":"'Pivot Table Data'!K261","v":0},{"$f":"'Pivot Table Data'!L261","v":0},{"$f":"'Pivot Table Data'!S261","v":8},{"$f":"'Pivot Table Data'!T261","v":""},{"$f":"IF('Pivot Table Data'!O261=\"Yes\", 'Pivot Table Data'!T261, \"\")","v":""}]
[{"$f":"'Pivot Table Data'!B262","v":0},{"$f":"'Pivot Table Data'!F262","v":"Medical Center HIllcrest"},{"$f":"'Pivot Table Data'!P262","v":"First Ave"},{"$f":"'Pivot Table Data'!I262","v":"P5 Roof"},{"$f":"'Pivot Table Data'!J262","v":"Reserved"},{"$f":"'Pivot Table Data'!K262","v":0},{"$f":"'Pivot Table Data'!L262","v":0},{"$f":"'Pivot Table Data'!S262","v":0},{"$f":"'Pivot Table Data'!T262","v":""},{"$f":"IF('Pivot Table Data'!O262=\"Yes\", 'Pivot Table Data'!T262, \"\")","v":""}]
[{"$f":"'Pivot Table Data'!B263","v":0},{"$f":"'Pivot Table Data'!F263","v":"Medical Center Hillcrest"},{"$f":"'Pivot Table Data'!P263","v":"P952"},{"$f":"'Pivot Table Data'!I263","v":"-"},{"$f":"'Pivot Table Data'!J263","v":"Allocated"},{"$f":"'Pivot Table Data'!K263","v":"Law Enforcement Transport Vehicle"},{"$f":"'Pivot Table Data'!L263","v":0},{"$f":"'Pivot Table Data'!S263","v":4},{"$f":"'Pivot Table Data'!T263","v":4},{"$f":"IF('Pivot Table Data'!O263=\"Yes\", 'Pivot Table Data'!T263, \"\")","v":""}]
[{"$f":"'Pivot Table Data'!B264","v":0},{"$f":"'Pivot Table Data'!F264","v":"Medical Center Hillcrest"},{"$f":"'Pivot Table Data'!P264","v":"P952"},{"$f":"'Pivot Table Data'!I264","v":"-"},{"$f":"'Pivot Table Data'!J264","v":"Allocated"},{"$f":"'Pivot Table Data'!K264","v":"Mortuary Vehicle"},{"$f":"'Pivot Table Data'!L264","v":0},{"$f":"'Pivot Table Data'!S264","v":1},{"$f":"'Pivot Table Data'!T264","v":1},{"$f":"IF('Pivot Table Data'!O264=\"Yes\", 'Pivot Table Data'!T264, \"\")","v":""}]
[{"$f":"'Pivot Table Data'!B265","v":0},{"$f":"'Pivot Table Data'!F265","v":"Medical Center Hillcrest"},{"$f":"'Pivot Table Data'!P265","v":"P952"},{"$f":"'Pivot Table Data'!I265","v":"-"},{"$f":"'Pivot Table Data'!J265","v":"Loading"},{"$f":"'Pivot Table Data'!K265","v":0},{"$f":"'Pivot Table Data'!L265","v":20},{"$f":"'Pivot Table Data'!S265","v":2},{"$f":"'Pivot Table Data'!T265","v":2},{"$f":"IF('Pivot Table Data'!O265=\"Yes\", 'Pivot Table Data'!T265, \"\")","v":""}]
[{"$f":"'Pivot Table Data'!B266","v":0},{"$f":"'Pivot Table Data'!F266","v":"Medical Center Hillcrest"},{"$f":"'Pivot Table Data'!P266","v":"P952"},{"$f":"'Pivot Table Data'!I266","v":"-"},{"$f":"'Pivot Table Data'!J266","v":"Service Yard"},{"$f":"'Pivot Table Data'!K266","v":0},{"$f":"'Pivot Table Data'!L266","v":0},{"$f":"'Pivot Table Data'!S266","v":2},{"$f":"'Pivot Table Data'!T266","v":2},{"$f":"IF('Pivot Table Data'!O266=\"Yes\", 'Pivot Table Data'!T266, \"\")","v":""}]
[{"$f":"'Pivot Table Data'!B267","v":0},{"$f":"'Pivot Table Data'!F267","v":"Medical Center Hillcrest"},{"$f":"'Pivot Table Data'!P267","v":"P952"},{"$f":"'Pivot Table Data'!I267","v":"-"},{"$f":"'Pivot Table Data'!J267","v":"UC Vehicle"},{"$f":"'Pivot Table Data'!K267","v":0},{"$f":"'Pivot Table Data'!L267","v":0},{"$f":"'Pivot Table Data'!S267","v":2},{"$f":"'Pivot Table Data'!T267","v":2},{"$f":"IF('Pivot Table Data'!O267=\"Yes\", 'Pivot Table Data'!T267, \"\")","v":""}]
[{"$f":"'Pivot Table Data'!B268","v":0},{"$f":"'Pivot Table Data'!F268","v":"Medical Center Hillcrest"},{"$f":"'Pivot Table Data'!P268","v":"P953"},{"$f":"'Pivot Table Data'!I268","v":"-"},{"$f":"'Pivot Table Data'!J268","v":"Accessible"},{"$f":"'Pivot Table Data'!K268","v":0},{"$f":"'Pivot Table Data'!L268","v":0},{"$f":"'Pivot Table Data'!S268","v":3},{"$f":"'Pivot Table Data'!T268","v":3},{"$f":"IF('Pivot Table Data'!O268=\"Yes\", 'Pivot Table Data'!T268, \"\")","v":""}]
[{"$f":"'Pivot Table Data'!B269","v":0},{"$f":"'Pivot Table Data'!F269","v":"Medical Center Hillcrest"},{"$f":"'Pivot Table Data'!P269","v":"P953"},{"$f":"'Pivot Table Data'!I269","v":"-"},{"$f":"'Pivot Table Data'!J269","v":"Accessible (Van)"},{"$f":"'Pivot Table Data'!K269","v":0},{"$f":"'Pivot Table Data'!L269","v":0},{"$f":"'Pivot Table Data'!S269","v":0},{"$f":"'Pivot Table Data'!T269","v":0},{"$f":"IF('Pivot Table Data'!O269=\"Yes\", 'Pivot Table Data'!T269, \"\")","v":""}]
[{"$f":"'Pivot Table Data'!B270","v":0},{"$f":"'Pivot Table Data'!F270","v":"Medical Center Hillcrest"},{"$f":"'Pivot Table Data'!P270","v":"P953"},{"$f":"'Pivot Table Data'!I270","v":"-"},{"$f":"'Pivot Table Data'!J270","v":"B"},{"$f":"'Pivot Table Data'!K270","v":0},{"$f":"'Pivot Table Data'!L270","v":0},{"$f":"'Pivot Table Data'!S270","v":7},{"$f":"'Pivot Table Data'!T270","v":7},{"$f":"IF('Pivot Table Data'!O270=\"Yes\", 'Pivot Table Data'!T270, \"\")","v":""}]
[{"$f":"'Pivot Table Data'!B271","v":0},{"$f":"'Pivot Table Data'!F271","v":"Medical Center Hillcrest"},{"$f":"'Pivot Table Data'!P271","v":"P953"},{"$f":"'Pivot Table Data'!I271","v":"-"},{"$f":"'Pivot Table Data'!J271","v":"Reserved"},{"$f":"'Pivot Table Data'!K271","v":0},{"$f":"'Pivot Table Data'!L271","v":0},{"$f":"'Pivot Table Data'!S271","v":7},{"$f":"'Pivot Table Data'!T271","v":7},{"$f":"IF('Pivot Table Data'!O271=\"Yes\", 'Pivot Table Data'!T271, \"\")","v":""}]
[{"$f":"'Pivot Table Data'!B272","v":0},{"$f":"'Pivot Table Data'!F272","v":"Medical Center Hillcrest"},{"$f":"'Pivot Table Data'!P272","v":"P954"},{"$f":"'Pivot Table Data'!I272","v":"-"},{"$f":"'Pivot Table Data'!J272","v":"Accessible"},{"$f":"'Pivot Table Data'!K272","v":0},{"$f":"'Pivot Table Data'!L272","v":0},{"$f":"'Pivot Table Data'!S272","v":3},{"$f":"'Pivot Table Data'!T272","v":3},{"$f":"IF('Pivot Table Data'!O272=\"Yes\", 'Pivot Table Data'!T272, \"\")","v":""}]
[{"$f":"'Pivot Table Data'!B273","v":0},{"$f":"'Pivot Table Data'!F273","v":"Medical Center Hillcrest"},{"$f":"'Pivot Table Data'!P273","v":"P954"},{"$f":"'Pivot Table Data'!I273","v":"-"},{"$f":"'Pivot Table Data'!J273","v":"Accessible (Van)"},{"$f":"'Pivot Table Data'!K273","v":0},{"$f":"'Pivot Table Data'!L273","v":0},{"$f":"'Pivot Table Data'!S273","v":0},{"$f":"'Pivot Table Data'!T273","v":0},{"$f":"IF('Pivot Table Data'!O273=\"Yes\", 'Pivot Table Data'!T273, \"\")","v":""}]
[{"$f":"'Pivot Table Data'!B274","v":0},{"$f":"'Pivot Table Data'!F274","v":"Medical Center Hillcrest"},{"$f":"'Pivot Table Data'!P274","v":"P954"},{"$f":"'Pivot Table Data'!I274","v":"-"},{"$f":"'Pivot Table Data'!J274","v":"Allocated"},{"$f":"'Pivot Table Data'!K274","v":"Banister Family House"},{"$f":"'Pivot Table Data'!L274","v":0},{"$f":"'Pivot Table Data'!S274","v":12},{"$f":"'Pivot Table Data'!T274","v":12},{"$f":"IF('Pivot Table Data'!O274=\"Yes\", 'Pivot Table Data'!T274, \"\")","v":""}]
[{"$f":"'Pivot Table Data'!B275","v":0},{"$f":"'Pivot Table Data'!F275","v":"Medical Center Hillcrest"},{"$f":"'Pivot Table Data'!P275","v":"P954"},{"$f":"'Pivot Table Data'!I275","v":"-"},{"$f":"'Pivot Table Data'!J275","v":"Reserved"},{"$f":"'Pivot Table Data'!K275","v":0},{"$f":"'Pivot Table Data'!L275","v":0},{"$f":"'Pivot Table Data'!S275","v":25},{"$f":"'Pivot Table Data'!T275","v":25},{"$f":"IF('Pivot Table Data'!O275=\"Yes\", 'Pivot Table Data'!T275, \"\")","v":""}]
[{"$f":"'Pivot Table Data'!B276","v":0},{"$f":"'Pivot Table Data'!F276","v":"Medical Center Hillcrest"},{"$f":"'Pivot Table Data'!P276","v":"P955"},{"$f":"'Pivot Table Data'!I276","v":"-"},{"$f":"'Pivot Table Data'!J276","v":"A"},{"$f":"'Pivot Table Data'!K276","v":0},{"$f":"'Pivot Table Data'!L276","v":0},{"$f":"'Pivot Table Data'!S276","v":7},{"$f":"'Pivot Table Data'!T276","v":7},{"$f":"IF('Pivot Table Data'!O276=\"Yes\", 'Pivot Table Data'!T276, \"\")","v":""}]
[{"$f":"'Pivot Table Data'!B277","v":0},{"$f":"'Pivot Table Data'!F277","v":"Medical Center Hillcrest"},{"$f":"'Pivot Table Data'!P277","v":"P955"},{"$f":"'Pivot Table Data'!I277","v":"-"},{"$f":"'Pivot Table Data'!J277","v":"Accessible"},{"$f":"'Pivot Table Data'!K277","v":0},{"$f":"'Pivot Table Data'!L277","v":0},{"$f":"'Pivot Table Data'!S277","v":1},{"$f":"'Pivot Table Data'!T277","v":1},{"$f":"IF('Pivot Table Data'!O277=\"Yes\", 'Pivot Table Data'!T277, \"\")","v":""}]
[{"$f":"'Pivot Table Data'!B278","v":0},{"$f":"'Pivot Table Data'!F278","v":"Medical Center Hillcrest"},{"$f":"'Pivot Table Data'!P278","v":"P955"},{"$f":"'Pivot Table Data'!I278","v":"-"},{"$f":"'Pivot Table Data'!J278","v":"Accessible (Van)"},{"$f":"'Pivot Table Data'!K278","v":0},{"$f":"'Pivot Table Data'!L278","v":0},{"$f":"'Pivot Table Data'!S278","v":0},{"$f":"'Pivot Table Data'!T278","v":0},{"$f":"IF('Pivot Table Data'!O278=\"Yes\", 'Pivot Table Data'!T278, \"\")","v":""}]
[{"$f":"'Pivot Table Data'!B279","v":0},{"$f":"'Pivot Table Data'!F279","v":"Medical Center Hillcrest"},{"$f":"'Pivot Table Data'!P279","v":"P955"},{"$f":"'Pivot Table Data'!I279","v":"-"},{"$f":"'Pivot Table Data'!J279","v":"Loading"},{"$f":"'Pivot Table Data'!K279","v":0},{"$f":"'Pivot Table Data'!L279","v":0},{"$f":"'Pivot Table Data'!S279","v":2},{"$f":"'Pivot Table Data'!T279","v":2},{"$f":"IF('Pivot Table Data'!O279=\"Yes\", 'Pivot Table Data'!T279, \"\")","v":""}]
[{"$f":"'Pivot Table Data'!B280","v":0},{"$f":"'Pivot Table Data'!F280","v":"Medical Center Hillcrest"},{"$f":"'Pivot Table Data'!P280","v":"P955"},{"$f":"'Pivot Table Data'!I280","v":"-"},{"$f":"'Pivot Table Data'!J280","v":"Motorcycle Section"},{"$f":"'Pivot Table Data'!K280","v":0},{"$f":"'Pivot Table Data'!L280","v":0},{"$f":"'Pivot Table Data'!S280","v":3},{"$f":"'Pivot Table Data'!T280","v":3},{"$f":"IF('Pivot Table Data'!O280=\"Yes\", 'Pivot Table Data'!T280, \"\")","v":""}]
[{"$f":"'Pivot Table Data'!B281","v":0},{"$f":"'Pivot Table Data'!F281","v":"Medical Center Hillcrest"},{"$f":"'Pivot Table Data'!P281","v":"P955"},{"$f":"'Pivot Table Data'!I281","v":"-"},{"$f":"'Pivot Table Data'!J281","v":"Reserved"},{"$f":"'Pivot Table Data'!K281","v":0},{"$f":"'Pivot Table Data'!L281","v":0},{"$f":"'Pivot Table Data'!S281","v":21},{"$f":"'Pivot Table Data'!T281","v":21},{"$f":"IF('Pivot Table Data'!O281=\"Yes\", 'Pivot Table Data'!T281, \"\")","v":""}]
[{"$f":"'Pivot Table Data'!B282","v":0},{"$f":"'Pivot Table Data'!F282","v":"Medical Center Hillcrest"},{"$f":"'Pivot Table Data'!P282","v":"P955"},{"$f":"'Pivot Table Data'!I282","v":"-"},{"$f":"'Pivot Table Data'!J282","v":"Service Yard"},{"$f":"'Pivot Table Data'!K282","v":0},{"$f":"'Pivot Table Data'!L282","v":0},{"$f":"'Pivot Table Data'!S282","v":3},{"$f":"'Pivot Table Data'!T282","v":3},{"$f":"IF('Pivot Table Data'!O282=\"Yes\", 'Pivot Table Data'!T282, \"\")","v":""}]
[{"$f":"'Pivot Table Data'!B283","v":0},{"$f":"'Pivot Table Data'!F283","v":"Medical Center Hillcrest"},{"$f":"'Pivot Table Data'!P283","v":"P955"},{"$f":"'Pivot Table Data'!I283","v":"-"},{"$f":"'Pivot Table Data'!J283","v":"UC Vehicle"},{"$f":"'Pivot Table Data'!K283","v":"UC Cart"},{"$f":"'Pivot Table Data'!L283","v":0},{"$f":"'Pivot Table Data'!S283","v":1},{"$f":"'Pivot Table Data'!T283","v":1},{"$f":"IF('Pivot Table Data'!O283=\"Yes\", 'Pivot Table Data'!T283, \"\")","v":""}]
[{"$f":"'Pivot Table Data'!B284","v":0},{"$f":"'Pivot Table Data'!F284","v":"Medical Center Hillcrest"},{"$f":"'Pivot Table Data'!P284","v":"P955"},{"$f":"'Pivot Table Data'!I284","v":"-"},{"$f":"'Pivot Table Data'!J284","v":"UC Vehicle"},{"$f":"'Pivot Table Data'!K284","v":0},{"$f":"'Pivot Table Data'!L284","v":0},{"$f":"'Pivot Table Data'!S284","v":6},{"$f":"'Pivot Table Data'!T284","v":6},{"$f":"IF('Pivot Table Data'!O284=\"Yes\", 'Pivot Table Data'!T284, \"\")","v":""}]
[{"$f":"'Pivot Table Data'!B285","v":0},{"$f":"'Pivot Table Data'!F285","v":"Medical Center Hillcrest"},{"$f":"'Pivot Table Data'!P285","v":"P956"},{"$f":"'Pivot Table Data'!I285","v":"-"},{"$f":"'Pivot Table Data'!J285","v":"A"},{"$f":"'Pivot Table Data'!K285","v":0},{"$f":"'Pivot Table Data'!L285","v":0},{"$f":"'Pivot Table Data'!S285","v":2},{"$f":"'Pivot Table Data'!T285","v":2},{"$f":"IF('Pivot Table Data'!O285=\"Yes\", 'Pivot Table Data'!T285, \"\")","v":""}]
[{"$f":"'Pivot Table Data'!B286","v":0},{"$f":"'Pivot Table Data'!F286","v":"Medical Center Hillcrest"},{"$f":"'Pivot Table Data'!P286","v":"P956"},{"$f":"'Pivot Table Data'!I286","v":"-"},{"$f":"'Pivot Table Data'!J286","v":"Service Yard"},{"$f":"'Pivot Table Data'!K286","v":0},{"$f":"'Pivot Table Data'!L286","v":0},{"$f":"'Pivot Table Data'!S286","v":6},{"$f":"'Pivot Table Data'!T286","v":6},{"$f":"IF('Pivot Table Data'!O286=\"Yes\", 'Pivot Table Data'!T286, \"\")","v":""}]
[{"$f":"'Pivot Table Data'!B287","v":0},{"$f":"'Pivot Table Data'!F287","v":"Medical Center Hillcrest"},{"$f":"'Pivot Table Data'!P287","v":"P957"},{"$f":"'Pivot Table Data'!I287","v":"-"},{"$f":"'Pivot Table Data'!J287","v":"Accessible"},{"$f":"'Pivot Table Data'!K287","v":0},{"$f":"'Pivot Table Data'!L287","v":0},{"$f":"'Pivot Table Data'!S287","v":7},{"$f":"'Pivot Table Data'!T287","v":7},{"$f":"IF('Pivot Table Data'!O287=\"Yes\", 'Pivot Table Data'!T287, \"\")","v":""}]
[{"$f":"'Pivot Table Data'!B288","v":0},{"$f":"'Pivot Table Data'!F288","v":"Medical Center Hillcrest"},{"$f":"'Pivot Table Data'!P288","v":"P957"},{"$f":"'Pivot Table Data'!I288","v":"-"},{"$f":"'Pivot Table Data'!J288","v":"Accessible (Van)"},{"$f":"'Pivot Table Data'!K288","v":0},{"$f":"'Pivot Table Data'!L288","v":0},{"$f":"'Pivot Table Data'!S288","v":0},{"$f":"'Pivot Table Data'!T288","v":0},{"$f":"IF('Pivot Table Data'!O288=\"Yes\", 'Pivot Table Data'!T288, \"\")","v":""}]
[{"$f":"'Pivot Table Data'!B289","v":0},{"$f":"'Pivot Table Data'!F289","v":"Medical Center Hillcrest"},{"$f":"'Pivot Table Data'!P289","v":"P957"},{"$f":"'Pivot Table Data'!I289","v":"-"},{"$f":"'Pivot Table Data'!J289","v":"Allocated"},{"$f":"'Pivot Table Data'!K289","v":"Mail Vehicle"},{"$f":"'Pivot Table Data'!L289","v":0},{"$f":"'Pivot Table Data'!S289","v":1},{"$f":"'Pivot Table Data'!T289","v":1},{"$f":"IF('Pivot Table Data'!O289=\"Yes\", 'Pivot Table Data'!T289, \"\")","v":""}]
[{"$f":"'Pivot Table Data'!B290","v":0},{"$f":"'Pivot Table Data'!F290","v":"Medical Center Hillcrest"},{"$f":"'Pivot Table Data'!P290","v":"P957"},{"$f":"'Pivot Table Data'!I290","v":"-"},{"$f":"'Pivot Table Data'!J290","v":"Reserved"},{"$f":"'Pivot Table Data'!K290","v":"AVRC"},{"$f":"'Pivot Table Data'!L290","v":0},{"$f":"'Pivot Table Data'!S290","v":16},{"$f":"'Pivot Table Data'!T290","v":16},{"$f":"IF('Pivot Table Data'!O290=\"Yes\", 'Pivot Table Data'!T290, \"\")","v":""}]
[{"$f":"'Pivot Table Data'!B291","v":0},{"$f":"'Pivot Table Data'!F291","v":"Medical Center Hillcrest"},{"$f":"'Pivot Table Data'!P291","v":"P957"},{"$f":"'Pivot Table Data'!I291","v":"-"},{"$f":"'Pivot Table Data'!J291","v":"Reserved"},{"$f":"'Pivot Table Data'!K291","v":"Emergency Room"},{"$f":"'Pivot Table Data'!L291","v":0},{"$f":"'Pivot Table Data'!S291","v":20},{"$f":"'Pivot Table Data'!T291","v":20},{"$f":"IF('Pivot Table Data'!O291=\"Yes\", 'Pivot Table Data'!T291, \"\")","v":""}]
[{"$f":"'Pivot Table Data'!B292","v":0},{"$f":"'Pivot Table Data'!F292","v":"Medical Center Hillcrest"},{"$f":"'Pivot Table Data'!P292","v":"P957"},{"$f":"'Pivot Table Data'!I292","v":"-"},{"$f":"'Pivot Table Data'!J292","v":"Reserved"},{"$f":"'Pivot Table Data'!K292","v":"Valet"},{"$f":"'Pivot Table Data'!L292","v":0},{"$f":"'Pivot Table Data'!S292","v":10},{"$f":"'Pivot Table Data'!T292","v":10},{"$f":"IF('Pivot Table Data'!O292=\"Yes\", 'Pivot Table Data'!T292, \"\")","v":""}]
[{"$f":"'Pivot Table Data'!B293","v":0},{"$f":"'Pivot Table Data'!F293","v":"Medical Center Hillcrest"},{"$f":"'Pivot Table Data'!P293","v":"P957"},{"$f":"'Pivot Table Data'!I293","v":"-"},{"$f":"'Pivot Table Data'!J293","v":"Reserved"},{"$f":"'Pivot Table Data'!K293","v":0},{"$f":"'Pivot Table Data'!L293","v":0},{"$f":"'Pivot Table Data'!S293","v":21},{"$f":"'Pivot Table Data'!T293","v":21},{"$f":"IF('Pivot Table Data'!O293=\"Yes\", 'Pivot Table Data'!T293, \"\")","v":""}]
[{"$f":"'Pivot Table Data'!B294","v":0},{"$f":"'Pivot Table Data'!F294","v":"Medical Center Hillcrest"},{"$f":"'Pivot Table Data'!P294","v":"P957"},{"$f":"'Pivot Table Data'!I294","v":"-"},{"$f":"'Pivot Table Data'!J294","v":"UC Vehicle"},{"$f":"'Pivot Table Data'!K294","v":0},{"$f":"'Pivot Table Data'!L294","v":0},{"$f":"'Pivot Table Data'!S294","v":2},{"$f":"'Pivot Table Data'!T294","v":2},{"$f":"IF('Pivot Table Data'!O294=\"Yes\", 'Pivot Table Data'!T294, \"\")","v":""}]
[{"$f":"'Pivot Table Data'!B295","v":0},{"$f":"'Pivot Table Data'!F295","v":"Medical Center Hillcrest"},{"$f":"'Pivot Table Data'!P295","v":"P964"},{"$f":"'Pivot Table Data'!I295","v":"-"},{"$f":"'Pivot Table Data'!J295","v":"Accessible"},{"$f":"'Pivot Table Data'!K295","v":0},{"$f":"'Pivot Table Data'!L295","v":0},{"$f":"'Pivot Table Data'!S295","v":11},{"$f":"'Pivot Table Data'!T295","v":11},{"$f":"IF('Pivot Table Data'!O295=\"Yes\", 'Pivot Table Data'!T295, \"\")","v":""}]
[{"$f":"'Pivot Table Data'!B296","v":0},{"$f":"'Pivot Table Data'!F296","v":"Medical Center Hillcrest"},{"$f":"'Pivot Table Data'!P296","v":"P964"},{"$f":"'Pivot Table Data'!I296","v":"-"},{"$f":"'Pivot Table Data'!J296","v":"Accessible (Van)"},{"$f":"'Pivot Table Data'!K296","v":0},{"$f":"'Pivot Table Data'!L296","v":0},{"$f":"'Pivot Table Data'!S296","v":0},{"$f":"'Pivot Table Data'!T296","v":0},{"$f":"IF('Pivot Table Data'!O296=\"Yes\", 'Pivot Table Data'!T296, \"\")","v":""}]
[{"$f":"'Pivot Table Data'!B297","v":0},{"$f":"'Pivot Table Data'!F297","v":"Medical Center Hillcrest"},{"$f":"'Pivot Table Data'!P297","v":"P964"},{"$f":"'Pivot Table Data'!I297","v":"-"},{"$f":"'Pivot Table Data'!J297","v":"Allocated"},{"$f":"'Pivot Table Data'!K297","v":"Pulmonary Specialist"},{"$f":"'Pivot Table Data'!L297","v":0},{"$f":"'Pivot Table Data'!S297","v":12},{"$f":"'Pivot Table Data'!T297","v":12},{"$f":"IF('Pivot Table Data'!O297=\"Yes\", 'Pivot Table Data'!T297, \"\")","v":""}]
[{"$f":"'Pivot Table Data'!B298","v":0},{"$f":"'Pivot Table Data'!F298","v":"Medical Center Hillcrest"},{"$f":"'Pivot Table Data'!P298","v":"P964"},{"$f":"'Pivot Table Data'!I298","v":"-"},{"$f":"'Pivot Table Data'!J298","v":"Allocated"},{"$f":"'Pivot Table Data'!K298","v":"Security"},{"$f":"'Pivot Table Data'!L298","v":0},{"$f":"'Pivot Table Data'!S298","v":3},{"$f":"'Pivot Table Data'!T298","v":3},{"$f":"IF('Pivot Table Data'!O298=\"Yes\", 'Pivot Table Data'!T298, \"\")","v":""}]
[{"$f":"'Pivot Table Data'!B299","v":0},{"$f":"'Pivot Table Data'!F299","v":"Medical Center Hillcrest"},{"$f":"'Pivot Table Data'!P299","v":"P964"},{"$f":"'Pivot Table Data'!I299","v":"-"},{"$f":"'Pivot Table Data'!J299","v":"Reserved"},{"$f":"'Pivot Table Data'!K299","v":"Valet"},{"$f":"'Pivot Table Data'!L299","v":0},{"$f":"'Pivot Table Data'!S299","v":37},{"$f":"'Pivot Table Data'!T299","v":37},{"$f":"IF('Pivot Table Data'!O299=\"Yes\", 'Pivot Table Data'!T299, \"\")","v":""}]
[{"$f":"'Pivot Table Data'!B300","v":0},{"$f":"'Pivot Table Data'!F300","v":"Medical Center Hillcrest"},{"$f":"'Pivot Table Data'!P300","v":"P964"},{"$f":"'Pivot Table Data'!I300","v":"-"},{"$f":"'Pivot Table Data'!J300","v":"Visitor"},{"$f":"'Pivot Table Data'!K300","v":"Patient/Visitor"},{"$f":"'Pivot Table Data'!L300","v":0},{"$f":"'Pivot Table Data'!S300","v":41},{"$f":"'Pivot Table Data'!T300","v":41},{"$f":"IF('Pivot Table Data'!O300=\"Yes\", 'Pivot Table Data'!T300, \"\")","v":""}]
[{"$f":"'Pivot Table Data'!B301","v":0},{"$f":"'Pivot Table Data'!F301","v":"Medical Center Hillcrest"},{"$f":"'Pivot Table Data'!P301","v":"P964"},{"$f":"'Pivot Table Data'!I301","v":"-"},{"$f":"'Pivot Table Data'!J301","v":"Visitor"},{"$f":"'Pivot Table Data'!K301","v":"Patient/Visitor Reserved"},{"$f":"'Pivot Table Data'!L301","v":30},{"$f":"'Pivot Table Data'!S301","v":1},{"$f":"'Pivot Table Data'!T301","v":1},{"$f":"IF('Pivot Table Data'!O301=\"Yes\", 'Pivot Table Data'!T301, \"\")","v":""}]
[{"$f":"'Pivot Table Data'!B302","v":0},{"$f":"'Pivot Table Data'!F302","v":"Scripps Institution of Oceanography"},{"$f":"'Pivot Table Data'!P302","v":"P001"},{"$f":"'Pivot Table Data'!I302","v":"-"},{"$f":"'Pivot Table Data'!J302","v":"Accessible"},{"$f":"'Pivot Table Data'!K302","v":"Electric Vehicle"},{"$f":"'Pivot Table Data'!L302","v":0},{"$f":"'Pivot Table Data'!S302","v":1},{"$f":"'Pivot Table Data'!T302","v":1},{"$f":"IF('Pivot Table Data'!O302=\"Yes\", 'Pivot Table Data'!T302, \"\")","v":""}]
[{"$f":"'Pivot Table Data'!B303","v":0},{"$f":"'Pivot Table Data'!F303","v":"Scripps Institution of Oceanography"},{"$f":"'Pivot Table Data'!P303","v":"P001"},{"$f":"'Pivot Table Data'!I303","v":"-"},{"$f":"'Pivot Table Data'!J303","v":"Accessible (Van)"},{"$f":"'Pivot Table Data'!K303","v":0},{"$f":"'Pivot Table Data'!L303","v":0},{"$f":"'Pivot Table Data'!S303","v":0},{"$f":"'Pivot Table Data'!T303","v":0},{"$f":"IF('Pivot Table Data'!O303=\"Yes\", 'Pivot Table Data'!T303, \"\")","v":""}]
[{"$f":"'Pivot Table Data'!B304","v":0},{"$f":"'Pivot Table Data'!F304","v":"Scripps Institution of Oceanography"},{"$f":"'Pivot Table Data'!P304","v":"P001"},{"$f":"'Pivot Table Data'!I304","v":"-"},{"$f":"'Pivot Table Data'!J304","v":"B"},{"$f":"'Pivot Table Data'!K304","v":"Scripps Institution of Oceanography"},{"$f":"'Pivot Table Data'!L304","v":0},{"$f":"'Pivot Table Data'!S304","v":0},{"$f":"'Pivot Table Data'!T304","v":0},{"$f":"IF('Pivot Table Data'!O304=\"Yes\", 'Pivot Table Data'!T304, \"\")","v":0}]
[{"$f":"'Pivot Table Data'!B305","v":0},{"$f":"'Pivot Table Data'!F305","v":"Scripps Institution of Oceanography"},{"$f":"'Pivot Table Data'!P305","v":"P001"},{"$f":"'Pivot Table Data'!I305","v":"-"},{"$f":"'Pivot Table Data'!J305","v":"Electric Vehicle"},{"$f":"'Pivot Table Data'!K305","v":0},{"$f":"'Pivot Table Data'!L305","v":"4 hours"},{"$f":"'Pivot Table Data'!S305","v":9},{"$f":"'Pivot Table Data'!T305","v":9},{"$f":"IF('Pivot Table Data'!O305=\"Yes\", 'Pivot Table Data'!T305, \"\")","v":""}]
[{"$f":"'Pivot Table Data'!B306","v":0},{"$f":"'Pivot Table Data'!F306","v":"Scripps Institution of Oceanography"},{"$f":"'Pivot Table Data'!P306","v":"P001"},{"$f":"'Pivot Table Data'!I306","v":"-"},{"$f":"'Pivot Table Data'!J306","v":"Loading"},{"$f":"'Pivot Table Data'!K306","v":"Oversized"},{"$f":"'Pivot Table Data'!L306","v":"20 minutes"},{"$f":"'Pivot Table Data'!S306","v":1},{"$f":"'Pivot Table Data'!T306","v":1},{"$f":"IF('Pivot Table Data'!O306=\"Yes\", 'Pivot Table Data'!T306, \"\")","v":""}]
[{"$f":"'Pivot Table Data'!B307","v":0},{"$f":"'Pivot Table Data'!F307","v":"Scripps Institution of Oceanography"},{"$f":"'Pivot Table Data'!P307","v":"P001"},{"$f":"'Pivot Table Data'!I307","v":"-"},{"$f":"'Pivot Table Data'!J307","v":"Reserved"},{"$f":"'Pivot Table Data'!K307","v":0},{"$f":"'Pivot Table Data'!L307","v":0},{"$f":"'Pivot Table Data'!S307","v":1},{"$f":"'Pivot Table Data'!T307","v":1},{"$f":"IF('Pivot Table Data'!O307=\"Yes\", 'Pivot Table Data'!T307, \"\")","v":""}]
[{"$f":"'Pivot Table Data'!B308","v":0},{"$f":"'Pivot Table Data'!F308","v":"Scripps Institution of Oceanography"},{"$f":"'Pivot Table Data'!P308","v":"P002"},{"$f":"'Pivot Table Data'!I308","v":"-"},{"$f":"'Pivot Table Data'!J308","v":"Accessible"},{"$f":"'Pivot Table Data'!K308","v":0},{"$f":"'Pivot Table Data'!L308","v":0},{"$f":"'Pivot Table Data'!S308","v":2},{"$f":"'Pivot Table Data'!T308","v":2},{"$f":"IF('Pivot Table Data'!O308=\"Yes\", 'Pivot Table Data'!T308, \"\")","v":""}]
[{"$f":"'Pivot Table Data'!B309","v":0},{"$f":"'Pivot Table Data'!F309","v":"Scripps Institution of Oceanography"},{"$f":"'Pivot Table Data'!P309","v":"P002"},{"$f":"'Pivot Table Data'!I309","v":"-"},{"$f":"'Pivot Table Data'!J309","v":"Accessible (Van)"},{"$f":"'Pivot Table Data'!K309","v":0},{"$f":"'Pivot Table Data'!L309","v":0},{"$f":"'Pivot Table Data'!S309","v":0},{"$f":"'Pivot Table Data'!T309","v":0},{"$f":"IF('Pivot Table Data'!O309=\"Yes\", 'Pivot Table Data'!T309, \"\")","v":""}]
[{"$f":"'Pivot Table Data'!B310","v":0},{"$f":"'Pivot Table Data'!F310","v":"Scripps Institution of Oceanography"},{"$f":"'Pivot Table Data'!P310","v":"P002"},{"$f":"'Pivot Table Data'!I310","v":"-"},{"$f":"'Pivot Table Data'!J310","v":"B"},{"$f":"'Pivot Table Data'!K310","v":"Scripps Institution of Oceanography"},{"$f":"'Pivot Table Data'!L310","v":0},{"$f":"'Pivot Table Data'!S310","v":31},{"$f":"'Pivot Table Data'!T310","v":31},{"$f":"IF('Pivot Table Data'!O310=\"Yes\", 'Pivot Table Data'!T310, \"\")","v":31}]
[{"$f":"'Pivot Table Data'!B311","v":0},{"$f":"'Pivot Table Data'!F311","v":"Scripps Institution of Oceanography"},{"$f":"'Pivot Table Data'!P311","v":"P003"},{"$f":"'Pivot Table Data'!I311","v":"-"},{"$f":"'Pivot Table Data'!J311","v":"Accessible"},{"$f":"'Pivot Table Data'!K311","v":0},{"$f":"'Pivot Table Data'!L311","v":0},{"$f":"'Pivot Table Data'!S311","v":2},{"$f":"'Pivot Table Data'!T311","v":2},{"$f":"IF('Pivot Table Data'!O311=\"Yes\", 'Pivot Table Data'!T311, \"\")","v":""}]
[{"$f":"'Pivot Table Data'!B312","v":0},{"$f":"'Pivot Table Data'!F312","v":"Scripps Institution of Oceanography"},{"$f":"'Pivot Table Data'!P312","v":"P003"},{"$f":"'Pivot Table Data'!I312","v":"-"},{"$f":"'Pivot Table Data'!J312","v":"Accessible (Van)"},{"$f":"'Pivot Table Data'!K312","v":0},{"$f":"'Pivot Table Data'!L312","v":0},{"$f":"'Pivot Table Data'!S312","v":0},{"$f":"'Pivot Table Data'!T312","v":0},{"$f":"IF('Pivot Table Data'!O312=\"Yes\", 'Pivot Table Data'!T312, \"\")","v":""}]
[{"$f":"'Pivot Table Data'!B313","v":0},{"$f":"'Pivot Table Data'!F313","v":"Scripps Institution of Oceanography"},{"$f":"'Pivot Table Data'!P313","v":"P003"},{"$f":"'Pivot Table Data'!I313","v":"-"},{"$f":"'Pivot Table Data'!J313","v":"Allocated"},{"$f":"'Pivot Table Data'!K313","v":"Lifeguard"},{"$f":"'Pivot Table Data'!L313","v":0},{"$f":"'Pivot Table Data'!S313","v":1},{"$f":"'Pivot Table Data'!T313","v":1},{"$f":"IF('Pivot Table Data'!O313=\"Yes\", 'Pivot Table Data'!T313, \"\")","v":""}]
[{"$f":"'Pivot Table Data'!B314","v":0},{"$f":"'Pivot Table Data'!F314","v":"Scripps Institution of Oceanography"},{"$f":"'Pivot Table Data'!P314","v":"P003"},{"$f":"'Pivot Table Data'!I314","v":"-"},{"$f":"'Pivot Table Data'!J314","v":"B"},{"$f":"'Pivot Table Data'!K314","v":"Scripps Institution of Oceanography"},{"$f":"'Pivot Table Data'!L314","v":0},{"$f":"'Pivot Table Data'!S314","v":64},{"$f":"'Pivot Table Data'!T314","v":64},{"$f":"IF('Pivot Table Data'!O314=\"Yes\", 'Pivot Table Data'!T314, \"\")","v":64}]
[{"$f":"'Pivot Table Data'!B315","v":0},{"$f":"'Pivot Table Data'!F315","v":"Scripps Institution of Oceanography"},{"$f":"'Pivot Table Data'!P315","v":"P003"},{"$f":"'Pivot Table Data'!I315","v":"-"},{"$f":"'Pivot Table Data'!J315","v":"Loading"},{"$f":"'Pivot Table Data'!K315","v":"Commercial"},{"$f":"'Pivot Table Data'!L315","v":"20 minutes"},{"$f":"'Pivot Table Data'!S315","v":3},{"$f":"'Pivot Table Data'!T315","v":3},{"$f":"IF('Pivot Table Data'!O315=\"Yes\", 'Pivot Table Data'!T315, \"\")","v":""}]
[{"$f":"'Pivot Table Data'!B316","v":0},{"$f":"'Pivot Table Data'!F316","v":"Scripps Institution of Oceanography"},{"$f":"'Pivot Table Data'!P316","v":"P003"},{"$f":"'Pivot Table Data'!I316","v":"-"},{"$f":"'Pivot Table Data'!J316","v":"Loading"},{"$f":"'Pivot Table Data'!K316","v":0},{"$f":"'Pivot Table Data'!L316","v":"20 minutes"},{"$f":"'Pivot Table Data'!S316","v":2},{"$f":"'Pivot Table Data'!T316","v":2},{"$f":"IF('Pivot Table Data'!O316=\"Yes\", 'Pivot Table Data'!T316, \"\")","v":""}]
[{"$f":"'Pivot Table Data'!B317","v":0},{"$f":"'Pivot Table Data'!F317","v":"Scripps Institution of Oceanography"},{"$f":"'Pivot Table Data'!P317","v":"P003"},{"$f":"'Pivot Table Data'!I317","v":"-"},{"$f":"'Pivot Table Data'!J317","v":"Motorcycle Section"},{"$f":"'Pivot Table Data'!K317","v":0},{"$f":"'Pivot Table Data'!L317","v":0},{"$f":"'Pivot Table Data'!S317","v":0},{"$f":"'Pivot Table Data'!T317","v":0},{"$f":"IF('Pivot Table Data'!O317=\"Yes\", 'Pivot Table Data'!T317, \"\")","v":""}]
[{"$f":"'Pivot Table Data'!B318","v":0},{"$f":"'Pivot Table Data'!F318","v":"Scripps Institution of Oceanography"},{"$f":"'Pivot Table Data'!P318","v":"P004"},{"$f":"'Pivot Table Data'!I318","v":"-"},{"$f":"'Pivot Table Data'!J318","v":"Electric Vehicle"},{"$f":"'Pivot Table Data'!K318","v":0},{"$f":"'Pivot Table Data'!L318","v":0},{"$f":"'Pivot Table Data'!S318","v":1},{"$f":"'Pivot Table Data'!T318","v":1},{"$f":"IF('Pivot Table Data'!O318=\"Yes\", 'Pivot Table Data'!T318, \"\")","v":""}]
[{"$f":"'Pivot Table Data'!B319","v":0},{"$f":"'Pivot Table Data'!F319","v":"Scripps Institution of Oceanography"},{"$f":"'Pivot Table Data'!P319","v":"P004"},{"$f":"'Pivot Table Data'!I319","v":"-"},{"$f":"'Pivot Table Data'!J319","v":"Loading"},{"$f":"'Pivot Table Data'!K319","v":"Oversized Commercial"},{"$f":"'Pivot Table Data'!L319","v":"20 minutes"},{"$f":"'Pivot Table Data'!S319","v":2},{"$f":"'Pivot Table Data'!T319","v":2},{"$f":"IF('Pivot Table Data'!O319=\"Yes\", 'Pivot Table Data'!T319, \"\")","v":""}]
[{"$f":"'Pivot Table Data'!B320","v":0},{"$f":"'Pivot Table Data'!F320","v":"Scripps Institution of Oceanography"},{"$f":"'Pivot Table Data'!P320","v":"P004"},{"$f":"'Pivot Table Data'!I320","v":"-"},{"$f":"'Pivot Table Data'!J320","v":"Loading"},{"$f":"'Pivot Table Data'!K320","v":0},{"$f":"'Pivot Table Data'!L320","v":"20 minutes"},{"$f":"'Pivot Table Data'!S320","v":5},{"$f":"'Pivot Table Data'!T320","v":5},{"$f":"IF('Pivot Table Data'!O320=\"Yes\", 'Pivot Table Data'!T320, \"\")","v":""}]
[{"$f":"'Pivot Table Data'!B321","v":0},{"$f":"'Pivot Table Data'!F321","v":"Scripps Institution of Oceanography"},{"$f":"'Pivot Table Data'!P321","v":"P004"},{"$f":"'Pivot Table Data'!I321","v":"-"},{"$f":"'Pivot Table Data'!J321","v":"Service Yard"},{"$f":"'Pivot Table Data'!K321","v":0},{"$f":"'Pivot Table Data'!L321","v":0},{"$f":"'Pivot Table Data'!S321","v":1},{"$f":"'Pivot Table Data'!T321","v":1},{"$f":"IF('Pivot Table Data'!O321=\"Yes\", 'Pivot Table Data'!T321, \"\")","v":""}]
[{"$f":"'Pivot Table Data'!B322","v":0},{"$f":"'Pivot Table Data'!F322","v":"Scripps Institution of Oceanography"},{"$f":"'Pivot Table Data'!P322","v":"P004"},{"$f":"'Pivot Table Data'!I322","v":"-"},{"$f":"'Pivot Table Data'!J322","v":"UC Vehicle"},{"$f":"'Pivot Table Data'!K322","v":"UC Cart"},{"$f":"'Pivot Table Data'!L322","v":0},{"$f":"'Pivot Table Data'!S322","v":1},{"$f":"'Pivot Table Data'!T322","v":1},{"$f":"IF('Pivot Table Data'!O322=\"Yes\", 'Pivot Table Data'!T322, \"\")","v":""}]
[{"$f":"'Pivot Table Data'!B323","v":0},{"$f":"'Pivot Table Data'!F323","v":"Scripps Institution of Oceanography"},{"$f":"'Pivot Table Data'!P323","v":"P004"},{"$f":"'Pivot Table Data'!I323","v":"-"},{"$f":"'Pivot Table Data'!J323","v":"UC Vehicle"},{"$f":"'Pivot Table Data'!K323","v":0},{"$f":"'Pivot Table Data'!L323","v":0},{"$f":"'Pivot Table Data'!S323","v":5},{"$f":"'Pivot Table Data'!T323","v":5},{"$f":"IF('Pivot Table Data'!O323=\"Yes\", 'Pivot Table Data'!T323, \"\")","v":""}]
[{"$f":"'Pivot Table Data'!B324","v":0},{"$f":"'Pivot Table Data'!F324","v":"Scripps Institution of Oceanography"},{"$f":"'Pivot Table Data'!P324","v":"P005"},{"$f":"'Pivot Table Data'!I324","v":"-"},{"$f":"'Pivot Table Data'!J324","v":"Accessible"},{"$f":"'Pivot Table Data'!K324","v":0},{"$f":"'Pivot Table Data'!L324","v":0},{"$f":"'Pivot Table Data'!S324","v":1},{"$f":"'Pivot Table Data'!T324","v":1},{"$f":"IF('Pivot Table Data'!O324=\"Yes\", 'Pivot Table Data'!T324, \"\")","v":""}]
[{"$f":"'Pivot Table Data'!B325","v":0},{"$f":"'Pivot Table Data'!F325","v":"Scripps Institution of Oceanography"},{"$f":"'Pivot Table Data'!P325","v":"P005"},{"$f":"'Pivot Table Data'!I325","v":"-"},{"$f":"'Pivot Table Data'!J325","v":"Accessible (Van)"},{"$f":"'Pivot Table Data'!K325","v":0},{"$f":"'Pivot Table Data'!L325","v":0},{"$f":"'Pivot Table Data'!S325","v":0},{"$f":"'Pivot Table Data'!T325","v":0},{"$f":"IF('Pivot Table Data'!O325=\"Yes\", 'Pivot Table Data'!T325, \"\")","v":""}]
[{"$f":"'Pivot Table Data'!B326","v":0},{"$f":"'Pivot Table Data'!F326","v":"Scripps Institution of Oceanography"},{"$f":"'Pivot Table Data'!P326","v":"P005"},{"$f":"'Pivot Table Data'!I326","v":"-"},{"$f":"'Pivot Table Data'!J326","v":"Loading"},{"$f":"'Pivot Table Data'!K326","v":"Bars"},{"$f":"'Pivot Table Data'!L326","v":"20 minutes"},{"$f":"'Pivot Table Data'!S326","v":1},{"$f":"'Pivot Table Data'!T326","v":1},{"$f":"IF('Pivot Table Data'!O326=\"Yes\", 'Pivot Table Data'!T326, \"\")","v":""}]
[{"$f":"'Pivot Table Data'!B327","v":0},{"$f":"'Pivot Table Data'!F327","v":"Scripps Institution of Oceanography"},{"$f":"'Pivot Table Data'!P327","v":"P005"},{"$f":"'Pivot Table Data'!I327","v":"-"},{"$f":"'Pivot Table Data'!J327","v":"Motorcycle Section"},{"$f":"'Pivot Table Data'!K327","v":0},{"$f":"'Pivot Table Data'!L327","v":0},{"$f":"'Pivot Table Data'!S327","v":2},{"$f":"'Pivot Table Data'!T327","v":2},{"$f":"IF('Pivot Table Data'!O327=\"Yes\", 'Pivot Table Data'!T327, \"\")","v":""}]
[{"$f":"'Pivot Table Data'!B328","v":0},{"$f":"'Pivot Table Data'!F328","v":"Scripps Institution of Oceanography"},{"$f":"'Pivot Table Data'!P328","v":"P005"},{"$f":"'Pivot Table Data'!I328","v":"-"},{"$f":"'Pivot Table Data'!J328","v":"Service Yard"},{"$f":"'Pivot Table Data'!K328","v":"Bars"},{"$f":"'Pivot Table Data'!L328","v":0},{"$f":"'Pivot Table Data'!S328","v":1},{"$f":"'Pivot Table Data'!T328","v":1},{"$f":"IF('Pivot Table Data'!O328=\"Yes\", 'Pivot Table Data'!T328, \"\")","v":""}]
[{"$f":"'Pivot Table Data'!B329","v":0},{"$f":"'Pivot Table Data'!F329","v":"Scripps Institution of Oceanography"},{"$f":"'Pivot Table Data'!P329","v":"P006"},{"$f":"'Pivot Table Data'!I329","v":"-"},{"$f":"'Pivot Table Data'!J329","v":"Accessible"},{"$f":"'Pivot Table Data'!K329","v":0},{"$f":"'Pivot Table Data'!L329","v":0},{"$f":"'Pivot Table Data'!S329","v":1},{"$f":"'Pivot Table Data'!T329","v":1},{"$f":"IF('Pivot Table Data'!O329=\"Yes\", 'Pivot Table Data'!T329, \"\")","v":""}]
[{"$f":"'Pivot Table Data'!B330","v":0},{"$f":"'Pivot Table Data'!F330","v":"Scripps Institution of Oceanography"},{"$f":"'Pivot Table Data'!P330","v":"P006"},{"$f":"'Pivot Table Data'!I330","v":"-"},{"$f":"'Pivot Table Data'!J330","v":"Accessible (Van)"},{"$f":"'Pivot Table Data'!K330","v":0},{"$f":"'Pivot Table Data'!L330","v":0},{"$f":"'Pivot Table Data'!S330","v":0},{"$f":"'Pivot Table Data'!T330","v":0},{"$f":"IF('Pivot Table Data'!O330=\"Yes\", 'Pivot Table Data'!T330, \"\")","v":""}]
[{"$f":"'Pivot Table Data'!B331","v":0},{"$f":"'Pivot Table Data'!F331","v":"Scripps Institution of Oceanography"},{"$f":"'Pivot Table Data'!P331","v":"P006"},{"$f":"'Pivot Table Data'!I331","v":"-"},{"$f":"'Pivot Table Data'!J331","v":"B"},{"$f":"'Pivot Table Data'!K331","v":"Scripps Institution of Oceanography"},{"$f":"'Pivot Table Data'!L331","v":0},{"$f":"'Pivot Table Data'!S331","v":6},{"$f":"'Pivot Table Data'!T331","v":6},{"$f":"IF('Pivot Table Data'!O331=\"Yes\", 'Pivot Table Data'!T331, \"\")","v":6}]
[{"$f":"'Pivot Table Data'!B332","v":0},{"$f":"'Pivot Table Data'!F332","v":"Scripps Institution of Oceanography"},{"$f":"'Pivot Table Data'!P332","v":"P007"},{"$f":"'Pivot Table Data'!I332","v":"-"},{"$f":"'Pivot Table Data'!J332","v":"Accessible"},{"$f":"'Pivot Table Data'!K332","v":0},{"$f":"'Pivot Table Data'!L332","v":0},{"$f":"'Pivot Table Data'!S332","v":3},{"$f":"'Pivot Table Data'!T332","v":3},{"$f":"IF('Pivot Table Data'!O332=\"Yes\", 'Pivot Table Data'!T332, \"\")","v":""}]
[{"$f":"'Pivot Table Data'!B333","v":0},{"$f":"'Pivot Table Data'!F333","v":"Scripps Institution of Oceanography"},{"$f":"'Pivot Table Data'!P333","v":"P007"},{"$f":"'Pivot Table Data'!I333","v":"-"},{"$f":"'Pivot Table Data'!J333","v":"Accessible (Van)"},{"$f":"'Pivot Table Data'!K333","v":0},{"$f":"'Pivot Table Data'!L333","v":0},{"$f":"'Pivot Table Data'!S333","v":0},{"$f":"'Pivot Table Data'!T333","v":0},{"$f":"IF('Pivot Table Data'!O333=\"Yes\", 'Pivot Table Data'!T333, \"\")","v":""}]
[{"$f":"'Pivot Table Data'!B334","v":0},{"$f":"'Pivot Table Data'!F334","v":"Scripps Institution of Oceanography"},{"$f":"'Pivot Table Data'!P334","v":"P007"},{"$f":"'Pivot Table Data'!I334","v":"-"},{"$f":"'Pivot Table Data'!J334","v":"B"},{"$f":"'Pivot Table Data'!K334","v":"Scripps Institution of Oceanography"},{"$f":"'Pivot Table Data'!L334","v":0},{"$f":"'Pivot Table Data'!S334","v":22},{"$f":"'Pivot Table Data'!T334","v":22},{"$f":"IF('Pivot Table Data'!O334=\"Yes\", 'Pivot Table Data'!T334, \"\")","v":22}]
[{"$f":"'Pivot Table Data'!B335","v":0},{"$f":"'Pivot Table Data'!F335","v":"Scripps Institution of Oceanography"},{"$f":"'Pivot Table Data'!P335","v":"P007"},{"$f":"'Pivot Table Data'!I335","v":"-"},{"$f":"'Pivot Table Data'!J335","v":"Electric Vehicle"},{"$f":"'Pivot Table Data'!K335","v":0},{"$f":"'Pivot Table Data'!L335","v":0},{"$f":"'Pivot Table Data'!S335","v":8},{"$f":"'Pivot Table Data'!T335","v":8},{"$f":"IF('Pivot Table Data'!O335=\"Yes\", 'Pivot Table Data'!T335, \"\")","v":""}]
[{"$f":"'Pivot Table Data'!B336","v":0},{"$f":"'Pivot Table Data'!F336","v":"Scripps Institution of Oceanography"},{"$f":"'Pivot Table Data'!P336","v":"P007"},{"$f":"'Pivot Table Data'!I336","v":"-"},{"$f":"'Pivot Table Data'!J336","v":"Loading"},{"$f":"'Pivot Table Data'!K336","v":"Dock"},{"$f":"'Pivot Table Data'!L336","v":"20 minutes"},{"$f":"'Pivot Table Data'!S336","v":1},{"$f":"'Pivot Table Data'!T336","v":1},{"$f":"IF('Pivot Table Data'!O336=\"Yes\", 'Pivot Table Data'!T336, \"\")","v":""}]
[{"$f":"'Pivot Table Data'!B337","v":0},{"$f":"'Pivot Table Data'!F337","v":"Scripps Institution of Oceanography"},{"$f":"'Pivot Table Data'!P337","v":"P007"},{"$f":"'Pivot Table Data'!I337","v":"-"},{"$f":"'Pivot Table Data'!J337","v":"Loading"},{"$f":"'Pivot Table Data'!K337","v":0},{"$f":"'Pivot Table Data'!L337","v":"20 minutes"},{"$f":"'Pivot Table Data'!S337","v":1},{"$f":"'Pivot Table Data'!T337","v":1},{"$f":"IF('Pivot Table Data'!O337=\"Yes\", 'Pivot Table Data'!T337, \"\")","v":""}]
[{"$f":"'Pivot Table Data'!B338","v":0},{"$f":"'Pivot Table Data'!F338","v":"Scripps Institution of Oceanography"},{"$f":"'Pivot Table Data'!P338","v":"P007"},{"$f":"'Pivot Table Data'!I338","v":"-"},{"$f":"'Pivot Table Data'!J338","v":"Motorcycle Section"},{"$f":"'Pivot Table Data'!K338","v":0},{"$f":"'Pivot Table Data'!L338","v":0},{"$f":"'Pivot Table Data'!S338","v":2},{"$f":"'Pivot Table Data'!T338","v":2},{"$f":"IF('Pivot Table Data'!O338=\"Yes\", 'Pivot Table Data'!T338, \"\")","v":""}]
[{"$f":"'Pivot Table Data'!B339","v":0},{"$f":"'Pivot Table Data'!F339","v":"Scripps Institution of Oceanography"},{"$f":"'Pivot Table Data'!P339","v":"P007"},{"$f":"'Pivot Table Data'!I339","v":"-"},{"$f":"'Pivot Table Data'!J339","v":"UC Vehicle"},{"$f":"'Pivot Table Data'!K339","v":"UC Cart Bar"},{"$f":"'Pivot Table Data'!L339","v":0},{"$f":"'Pivot Table Data'!S339","v":1},{"$f":"'Pivot Table Data'!T339","v":1},{"$f":"IF('Pivot Table Data'!O339=\"Yes\", 'Pivot Table Data'!T339, \"\")","v":""}]
[{"$f":"'Pivot Table Data'!B340","v":0},{"$f":"'Pivot Table Data'!F340","v":"Scripps Institution of Oceanography"},{"$f":"'Pivot Table Data'!P340","v":"P007"},{"$f":"'Pivot Table Data'!I340","v":"-"},{"$f":"'Pivot Table Data'!J340","v":"UC Vehicle"},{"$f":"'Pivot Table Data'!K340","v":0},{"$f":"'Pivot Table Data'!L340","v":0},{"$f":"'Pivot Table Data'!S340","v":2},{"$f":"'Pivot Table Data'!T340","v":2},{"$f":"IF('Pivot Table Data'!O340=\"Yes\", 'Pivot Table Data'!T340, \"\")","v":""}]
[{"$f":"'Pivot Table Data'!B341","v":0},{"$f":"'Pivot Table Data'!F341","v":"Scripps Institution of Oceanography"},{"$f":"'Pivot Table Data'!P341","v":"P008"},{"$f":"'Pivot Table Data'!I341","v":"-"},{"$f":"'Pivot Table Data'!J341","v":"Accessible"},{"$f":"'Pivot Table Data'!K341","v":0},{"$f":"'Pivot Table Data'!L341","v":0},{"$f":"'Pivot Table Data'!S341","v":3},{"$f":"'Pivot Table Data'!T341","v":3},{"$f":"IF('Pivot Table Data'!O341=\"Yes\", 'Pivot Table Data'!T341, \"\")","v":""}]
[{"$f":"'Pivot Table Data'!B342","v":0},{"$f":"'Pivot Table Data'!F342","v":"Scripps Institution of Oceanography"},{"$f":"'Pivot Table Data'!P342","v":"P008"},{"$f":"'Pivot Table Data'!I342","v":"-"},{"$f":"'Pivot Table Data'!J342","v":"Accessible (Van)"},{"$f":"'Pivot Table Data'!K342","v":0},{"$f":"'Pivot Table Data'!L342","v":0},{"$f":"'Pivot Table Data'!S342","v":0},{"$f":"'Pivot Table Data'!T342","v":0},{"$f":"IF('Pivot Table Data'!O342=\"Yes\", 'Pivot Table Data'!T342, \"\")","v":""}]
[{"$f":"'Pivot Table Data'!B343","v":0},{"$f":"'Pivot Table Data'!F343","v":"Scripps Institution of Oceanography"},{"$f":"'Pivot Table Data'!P343","v":"P008"},{"$f":"'Pivot Table Data'!I343","v":"-"},{"$f":"'Pivot Table Data'!J343","v":"B"},{"$f":"'Pivot Table Data'!K343","v":"Scripps Institution of Oceanography"},{"$f":"'Pivot Table Data'!L343","v":0},{"$f":"'Pivot Table Data'!S343","v":26},{"$f":"'Pivot Table Data'!T343","v":26},{"$f":"IF('Pivot Table Data'!O343=\"Yes\", 'Pivot Table Data'!T343, \"\")","v":26}]
[{"$f":"'Pivot Table Data'!B344","v":0},{"$f":"'Pivot Table Data'!F344","v":"Scripps Institution of Oceanography"},{"$f":"'Pivot Table Data'!P344","v":"P008"},{"$f":"'Pivot Table Data'!I344","v":"-"},{"$f":"'Pivot Table Data'!J344","v":"Motorcycle Section"},{"$f":"'Pivot Table Data'!K344","v":0},{"$f":"'Pivot Table Data'!L344","v":0},{"$f":"'Pivot Table Data'!S344","v":1},{"$f":"'Pivot Table Data'!T344","v":1},{"$f":"IF('Pivot Table Data'!O344=\"Yes\", 'Pivot Table Data'!T344, \"\")","v":""}]
[{"$f":"'Pivot Table Data'!B345","v":0},{"$f":"'Pivot Table Data'!F345","v":"Scripps Institution of Oceanography"},{"$f":"'Pivot Table Data'!P345","v":"P009"},{"$f":"'Pivot Table Data'!I345","v":"-"},{"$f":"'Pivot Table Data'!J345","v":"Service Yard"},{"$f":"'Pivot Table Data'!K345","v":0},{"$f":"'Pivot Table Data'!L345","v":0},{"$f":"'Pivot Table Data'!S345","v":2},{"$f":"'Pivot Table Data'!T345","v":2},{"$f":"IF('Pivot Table Data'!O345=\"Yes\", 'Pivot Table Data'!T345, \"\")","v":""}]
[{"$f":"'Pivot Table Data'!B346","v":0},{"$f":"'Pivot Table Data'!F346","v":"Scripps Institution of Oceanography"},{"$f":"'Pivot Table Data'!P346","v":"P010"},{"$f":"'Pivot Table Data'!I346","v":"-"},{"$f":"'Pivot Table Data'!J346","v":"Accessible"},{"$f":"'Pivot Table Data'!K346","v":0},{"$f":"'Pivot Table Data'!L346","v":0},{"$f":"'Pivot Table Data'!S346","v":1},{"$f":"'Pivot Table Data'!T346","v":1},{"$f":"IF('Pivot Table Data'!O346=\"Yes\", 'Pivot Table Data'!T346, \"\")","v":""}]
[{"$f":"'Pivot Table Data'!B347","v":0},{"$f":"'Pivot Table Data'!F347","v":"Scripps Institution of Oceanography"},{"$f":"'Pivot Table Data'!P347","v":"P010"},{"$f":"'Pivot Table Data'!I347","v":"-"},{"$f":"'Pivot Table Data'!J347","v":"Accessible (Van)"},{"$f":"'Pivot Table Data'!K347","v":0},{"$f":"'Pivot Table Data'!L347","v":0},{"$f":"'Pivot Table Data'!S347","v":0},{"$f":"'Pivot Table Data'!T347","v":0},{"$f":"IF('Pivot Table Data'!O347=\"Yes\", 'Pivot Table Data'!T347, \"\")","v":""}]
[{"$f":"'Pivot Table Data'!B348","v":0},{"$f":"'Pivot Table Data'!F348","v":"Scripps Institution of Oceanography"},{"$f":"'Pivot Table Data'!P348","v":"P010"},{"$f":"'Pivot Table Data'!I348","v":"-"},{"$f":"'Pivot Table Data'!J348","v":"B"},{"$f":"'Pivot Table Data'!K348","v":"Scripps Institution of Oceanography"},{"$f":"'Pivot Table Data'!L348","v":0},{"$f":"'Pivot Table Data'!S348","v":23},{"$f":"'Pivot Table Data'!T348","v":23},{"$f":"IF('Pivot Table Data'!O348=\"Yes\", 'Pivot Table Data'!T348, \"\")","v":23}]
[{"$f":"'Pivot Table Data'!B349","v":0},{"$f":"'Pivot Table Data'!F349","v":"Scripps Institution of Oceanography"},{"$f":"'Pivot Table Data'!P349","v":"P011"},{"$f":"'Pivot Table Data'!I349","v":"-"},{"$f":"'Pivot Table Data'!J349","v":"Accessible"},{"$f":"'Pivot Table Data'!K349","v":0},{"$f":"'Pivot Table Data'!L349","v":0},{"$f":"'Pivot Table Data'!S349","v":1},{"$f":"'Pivot Table Data'!T349","v":1},{"$f":"IF('Pivot Table Data'!O349=\"Yes\", 'Pivot Table Data'!T349, \"\")","v":""}]
[{"$f":"'Pivot Table Data'!B350","v":0},{"$f":"'Pivot Table Data'!F350","v":"Scripps Institution of Oceanography"},{"$f":"'Pivot Table Data'!P350","v":"P011"},{"$f":"'Pivot Table Data'!I350","v":"-"},{"$f":"'Pivot Table Data'!J350","v":"Accessible (Van)"},{"$f":"'Pivot Table Data'!K350","v":0},{"$f":"'Pivot Table Data'!L350","v":0},{"$f":"'Pivot Table Data'!S350","v":0},{"$f":"'Pivot Table Data'!T350","v":0},{"$f":"IF('Pivot Table Data'!O350=\"Yes\", 'Pivot Table Data'!T350, \"\")","v":""}]
[{"$f":"'Pivot Table Data'!B351","v":0},{"$f":"'Pivot Table Data'!F351","v":"Scripps Institution of Oceanography"},{"$f":"'Pivot Table Data'!P351","v":"P011"},{"$f":"'Pivot Table Data'!I351","v":"-"},{"$f":"'Pivot Table Data'!J351","v":"Allocated"},{"$f":"'Pivot Table Data'!K351","v":"Coastal Access"},{"$f":"'Pivot Table Data'!L351","v":"1 hour"},{"$f":"'Pivot Table Data'!S351","v":4},{"$f":"'Pivot Table Data'!T351","v":4},{"$f":"IF('Pivot Table Data'!O351=\"Yes\", 'Pivot Table Data'!T351, \"\")","v":""}]
[{"$f":"'Pivot Table Data'!B352","v":0},{"$f":"'Pivot Table Data'!F352","v":"Scripps Institution of Oceanography"},{"$f":"'Pivot Table Data'!P352","v":"P011"},{"$f":"'Pivot Table Data'!I352","v":"-"},{"$f":"'Pivot Table Data'!J352","v":"B"},{"$f":"'Pivot Table Data'!K352","v":"Scripps Institution of Oceanography"},{"$f":"'Pivot Table Data'!L352","v":0},{"$f":"'Pivot Table Data'!S352","v":15},{"$f":"'Pivot Table Data'!T352","v":15},{"$f":"IF('Pivot Table Data'!O352=\"Yes\", 'Pivot Table Data'!T352, \"\")","v":15}]
[{"$f":"'Pivot Table Data'!B353","v":0},{"$f":"'Pivot Table Data'!F353","v":"Scripps Institution of Oceanography"},{"$f":"'Pivot Table Data'!P353","v":"P011"},{"$f":"'Pivot Table Data'!I353","v":"-"},{"$f":"'Pivot Table Data'!J353","v":"Loading"},{"$f":"'Pivot Table Data'!K353","v":0},{"$f":"'Pivot Table Data'!L353","v":"20 minutes"},{"$f":"'Pivot Table Data'!S353","v":1},{"$f":"'Pivot Table Data'!T353","v":1},{"$f":"IF('Pivot Table Data'!O353=\"Yes\", 'Pivot Table Data'!T353, \"\")","v":""}]
[{"$f":"'Pivot Table Data'!B354","v":0},{"$f":"'Pivot Table Data'!F354","v":"Scripps Institution of Oceanography"},{"$f":"'Pivot Table Data'!P354","v":"P011"},{"$f":"'Pivot Table Data'!I354","v":"-"},{"$f":"'Pivot Table Data'!J354","v":"Motorcycle Section"},{"$f":"'Pivot Table Data'!K354","v":0},{"$f":"'Pivot Table Data'!L354","v":0},{"$f":"'Pivot Table Data'!S354","v":1},{"$f":"'Pivot Table Data'!T354","v":1},{"$f":"IF('Pivot Table Data'!O354=\"Yes\", 'Pivot Table Data'!T354, \"\")","v":""}]
[{"$f":"'Pivot Table Data'!B355","v":0},{"$f":"'Pivot Table Data'!F355","v":"Scripps Institution of Oceanography"},{"$f":"'Pivot Table Data'!P355","v":"P012"},{"$f":"'Pivot Table Data'!I355","v":"-"},{"$f":"'Pivot Table Data'!J355","v":"Accessible"},{"$f":"'Pivot Table Data'!K355","v":0},{"$f":"'Pivot Table Data'!L355","v":0},{"$f":"'Pivot Table Data'!S355","v":1},{"$f":"'Pivot Table Data'!T355","v":1},{"$f":"IF('Pivot Table Data'!O355=\"Yes\", 'Pivot Table Data'!T355, \"\")","v":""}]
[{"$f":"'Pivot Table Data'!B356","v":0},{"$f":"'Pivot Table Data'!F356","v":"Scripps Institution of Oceanography"},{"$f":"'Pivot Table Data'!P356","v":"P012"},{"$f":"'Pivot Table Data'!I356","v":"-"},{"$f":"'Pivot Table Data'!J356","v":"Accessible (Van)"},{"$f":"'Pivot Table Data'!K356","v":0},{"$f":"'Pivot Table Data'!L356","v":0},{"$f":"'Pivot Table Data'!S356","v":0},{"$f":"'Pivot Table Data'!T356","v":0},{"$f":"IF('Pivot Table Data'!O356=\"Yes\", 'Pivot Table Data'!T356, \"\")","v":""}]
[{"$f":"'Pivot Table Data'!B357","v":0},{"$f":"'Pivot Table Data'!F357","v":"Scripps Institution of Oceanography"},{"$f":"'Pivot Table Data'!P357","v":"P012"},{"$f":"'Pivot Table Data'!I357","v":"-"},{"$f":"'Pivot Table Data'!J357","v":"B"},{"$f":"'Pivot Table Data'!K357","v":"Scripps Institution of Oceanography"},{"$f":"'Pivot Table Data'!L357","v":0},{"$f":"'Pivot Table Data'!S357","v":12},{"$f":"'Pivot Table Data'!T357","v":12},{"$f":"IF('Pivot Table Data'!O357=\"Yes\", 'Pivot Table Data'!T357, \"\")","v":12}]
[{"$f":"'Pivot Table Data'!B358","v":0},{"$f":"'Pivot Table Data'!F358","v":"Scripps Institution of Oceanography"},{"$f":"'Pivot Table Data'!P358","v":"P013"},{"$f":"'Pivot Table Data'!I358","v":"-"},{"$f":"'Pivot Table Data'!J358","v":"Accessible"},{"$f":"'Pivot Table Data'!K358","v":0},{"$f":"'Pivot Table Data'!L358","v":0},{"$f":"'Pivot Table Data'!S358","v":1},{"$f":"'Pivot Table Data'!T358","v":1},{"$f":"IF('Pivot Table Data'!O358=\"Yes\", 'Pivot Table Data'!T358, \"\")","v":""}]
[{"$f":"'Pivot Table Data'!B359","v":0},{"$f":"'Pivot Table Data'!F359","v":"Scripps Institution of Oceanography"},{"$f":"'Pivot Table Data'!P359","v":"P013"},{"$f":"'Pivot Table Data'!I359","v":"-"},{"$f":"'Pivot Table Data'!J359","v":"Accessible (Van)"},{"$f":"'Pivot Table Data'!K359","v":0},{"$f":"'Pivot Table Data'!L359","v":0},{"$f":"'Pivot Table Data'!S359","v":0},{"$f":"'Pivot Table Data'!T359","v":0},{"$f":"IF('Pivot Table Data'!O359=\"Yes\", 'Pivot Table Data'!T359, \"\")","v":""}]
[{"$f":"'Pivot Table Data'!B360","v":0},{"$f":"'Pivot Table Data'!F360","v":"Scripps Institution of Oceanography"},{"$f":"'Pivot Table Data'!P360","v":"P013"},{"$f":"'Pivot Table Data'!I360","v":"-"},{"$f":"'Pivot Table Data'!J360","v":"B"},{"$f":"'Pivot Table Data'!K360","v":"Scripps Institution of Oceanography"},{"$f":"'Pivot Table Data'!L360","v":0},{"$f":"'Pivot Table Data'!S360","v":12},{"$f":"'Pivot Table Data'!T360","v":12},{"$f":"IF('Pivot Table Data'!O360=\"Yes\", 'Pivot Table Data'!T360, \"\")","v":12}]
[{"$f":"'Pivot Table Data'!B361","v":0},{"$f":"'Pivot Table Data'!F361","v":"Scripps Institution of Oceanography"},{"$f":"'Pivot Table Data'!P361","v":"P013"},{"$f":"'Pivot Table Data'!I361","v":"-"},{"$f":"'Pivot Table Data'!J361","v":"Electric Vehicle"},{"$f":"'Pivot Table Data'!K361","v":0},{"$f":"'Pivot Table Data'!L361","v":0},{"$f":"'Pivot Table Data'!S361","v":2},{"$f":"'Pivot Table Data'!T361","v":2},{"$f":"IF('Pivot Table Data'!O361=\"Yes\", 'Pivot Table Data'!T361, \"\")","v":""}]
[{"$f":"'Pivot Table Data'!B362","v":0},{"$f":"'Pivot Table Data'!F362","v":"Scripps Institution of Oceanography"},{"$f":"'Pivot Table Data'!P362","v":"P014"},{"$f":"'Pivot Table Data'!I362","v":"-"},{"$f":"'Pivot Table Data'!J362","v":"Accessible"},{"$f":"'Pivot Table Data'!K362","v":0},{"$f":"'Pivot Table Data'!L362","v":0},{"$f":"'Pivot Table Data'!S362","v":1},{"$f":"'Pivot Table Data'!T362","v":1},{"$f":"IF('Pivot Table Data'!O362=\"Yes\", 'Pivot Table Data'!T362, \"\")","v":""}]
[{"$f":"'Pivot Table Data'!B363","v":0},{"$f":"'Pivot Table Data'!F363","v":"Scripps Institution of Oceanography"},{"$f":"'Pivot Table Data'!P363","v":"P014"},{"$f":"'Pivot Table Data'!I363","v":"-"},{"$f":"'Pivot Table Data'!J363","v":"Accessible (Van)"},{"$f":"'Pivot Table Data'!K363","v":0},{"$f":"'Pivot Table Data'!L363","v":0},{"$f":"'Pivot Table Data'!S363","v":3},{"$f":"'Pivot Table Data'!T363","v":3},{"$f":"IF('Pivot Table Data'!O363=\"Yes\", 'Pivot Table Data'!T363, \"\")","v":""}]
[{"$f":"'Pivot Table Data'!B364","v":0},{"$f":"'Pivot Table Data'!F364","v":"Scripps Institution of Oceanography"},{"$f":"'Pivot Table Data'!P364","v":"P014"},{"$f":"'Pivot Table Data'!I364","v":"-"},{"$f":"'Pivot Table Data'!J364","v":"B"},{"$f":"'Pivot Table Data'!K364","v":"Scripps Institution of Oceanography"},{"$f":"'Pivot Table Data'!L364","v":0},{"$f":"'Pivot Table Data'!S364","v":69},{"$f":"'Pivot Table Data'!T364","v":69},{"$f":"IF('Pivot Table Data'!O364=\"Yes\", 'Pivot Table Data'!T364, \"\")","v":69}]
[{"$f":"'Pivot Table Data'!B365","v":0},{"$f":"'Pivot Table Data'!F365","v":"Scripps Institution of Oceanography"},{"$f":"'Pivot Table Data'!P365","v":"P014"},{"$f":"'Pivot Table Data'!I365","v":"-"},{"$f":"'Pivot Table Data'!J365","v":"Electric Vehicle"},{"$f":"'Pivot Table Data'!K365","v":0},{"$f":"'Pivot Table Data'!L365","v":0},{"$f":"'Pivot Table Data'!S365","v":2},{"$f":"'Pivot Table Data'!T365","v":2},{"$f":"IF('Pivot Table Data'!O365=\"Yes\", 'Pivot Table Data'!T365, \"\")","v":""}]
[{"$f":"'Pivot Table Data'!B366","v":0},{"$f":"'Pivot Table Data'!F366","v":"Scripps Institution of Oceanography"},{"$f":"'Pivot Table Data'!P366","v":"P014"},{"$f":"'Pivot Table Data'!I366","v":"-"},{"$f":"'Pivot Table Data'!J366","v":"Motorcycle Section"},{"$f":"'Pivot Table Data'!K366","v":0},{"$f":"'Pivot Table Data'!L366","v":0},{"$f":"'Pivot Table Data'!S366","v":8},{"$f":"'Pivot Table Data'!T366","v":8},{"$f":"IF('Pivot Table Data'!O366=\"Yes\", 'Pivot Table Data'!T366, \"\")","v":""}]
[{"$f":"'Pivot Table Data'!B367","v":0},{"$f":"'Pivot Table Data'!F367","v":"Scripps Institution of Oceanography"},{"$f":"'Pivot Table Data'!P367","v":"P014"},{"$f":"'Pivot Table Data'!I367","v":"-"},{"$f":"'Pivot Table Data'!J367","v":"Reserved"},{"$f":"'Pivot Table Data'!K367","v":0},{"$f":"'Pivot Table Data'!L367","v":0},{"$f":"'Pivot Table Data'!S367","v":0},{"$f":"'Pivot Table Data'!T367","v":0},{"$f":"IF('Pivot Table Data'!O367=\"Yes\", 'Pivot Table Data'!T367, \"\")","v":""}]
[{"$f":"'Pivot Table Data'!B368","v":0},{"$f":"'Pivot Table Data'!F368","v":"Scripps Institution of Oceanography"},{"$f":"'Pivot Table Data'!P368","v":"P014"},{"$f":"'Pivot Table Data'!I368","v":"-"},{"$f":"'Pivot Table Data'!J368","v":"S"},{"$f":"'Pivot Table Data'!K368","v":0},{"$f":"'Pivot Table Data'!L368","v":0},{"$f":"'Pivot Table Data'!S368","v":26},{"$f":"'Pivot Table Data'!T368","v":26},{"$f":"IF('Pivot Table Data'!O368=\"Yes\", 'Pivot Table Data'!T368, \"\")","v":26}]
[{"$f":"'Pivot Table Data'!B369","v":0},{"$f":"'Pivot Table Data'!F369","v":"Scripps Institution of Oceanography"},{"$f":"'Pivot Table Data'!P369","v":"P014"},{"$f":"'Pivot Table Data'!I369","v":"-"},{"$f":"'Pivot Table Data'!J369","v":"Visitor"},{"$f":"'Pivot Table Data'!K369","v":0},{"$f":"'Pivot Table Data'!L369","v":0},{"$f":"'Pivot Table Data'!S369","v":4},{"$f":"'Pivot Table Data'!T369","v":4},{"$f":"IF('Pivot Table Data'!O369=\"Yes\", 'Pivot Table Data'!T369, \"\")","v":4}]
[{"$f":"'Pivot Table Data'!B370","v":0},{"$f":"'Pivot Table Data'!F370","v":"Scripps Institution of Oceanography"},{"$f":"'Pivot Table Data'!P370","v":"P015"},{"$f":"'Pivot Table Data'!I370","v":"-"},{"$f":"'Pivot Table Data'!J370","v":"Loading"},{"$f":"'Pivot Table Data'!K370","v":0},{"$f":"'Pivot Table Data'!L370","v":0},{"$f":"'Pivot Table Data'!S370","v":1},{"$f":"'Pivot Table Data'!T370","v":1},{"$f":"IF('Pivot Table Data'!O370=\"Yes\", 'Pivot Table Data'!T370, \"\")","v":""}]
[{"$f":"'Pivot Table Data'!B371","v":0},{"$f":"'Pivot Table Data'!F371","v":"Scripps Institution of Oceanography"},{"$f":"'Pivot Table Data'!P371","v":"P016"},{"$f":"'Pivot Table Data'!I371","v":"-"},{"$f":"'Pivot Table Data'!J371","v":"Accessible"},{"$f":"'Pivot Table Data'!K371","v":0},{"$f":"'Pivot Table Data'!L371","v":0},{"$f":"'Pivot Table Data'!S371","v":2},{"$f":"'Pivot Table Data'!T371","v":2},{"$f":"IF('Pivot Table Data'!O371=\"Yes\", 'Pivot Table Data'!T371, \"\")","v":""}]
[{"$f":"'Pivot Table Data'!B372","v":0},{"$f":"'Pivot Table Data'!F372","v":"Scripps Institution of Oceanography"},{"$f":"'Pivot Table Data'!P372","v":"P016"},{"$f":"'Pivot Table Data'!I372","v":"-"},{"$f":"'Pivot Table Data'!J372","v":"Accessible (Van)"},{"$f":"'Pivot Table Data'!K372","v":0},{"$f":"'Pivot Table Data'!L372","v":0},{"$f":"'Pivot Table Data'!S372","v":0},{"$f":"'Pivot Table Data'!T372","v":0},{"$f":"IF('Pivot Table Data'!O372=\"Yes\", 'Pivot Table Data'!T372, \"\")","v":""}]
[{"$f":"'Pivot Table Data'!B373","v":0},{"$f":"'Pivot Table Data'!F373","v":"Scripps Institution of Oceanography"},{"$f":"'Pivot Table Data'!P373","v":"P016"},{"$f":"'Pivot Table Data'!I373","v":"-"},{"$f":"'Pivot Table Data'!J373","v":"Motorcycle Section"},{"$f":"'Pivot Table Data'!K373","v":0},{"$f":"'Pivot Table Data'!L373","v":0},{"$f":"'Pivot Table Data'!S373","v":1},{"$f":"'Pivot Table Data'!T373","v":1},{"$f":"IF('Pivot Table Data'!O373=\"Yes\", 'Pivot Table Data'!T373, \"\")","v":""}]
[{"$f":"'Pivot Table Data'!B374","v":0},{"$f":"'Pivot Table Data'!F374","v":"Scripps Institution of Oceanography"},{"$f":"'Pivot Table Data'!P374","v":"P016"},{"$f":"'Pivot Table Data'!I374","v":"-"},{"$f":"'Pivot Table Data'!J374","v":"S"},{"$f":"'Pivot Table Data'!K374","v":"Scripps Institution of Oceanography"},{"$f":"'Pivot Table Data'!L374","v":0},{"$f":"'Pivot Table Data'!S374","v":58},{"$f":"'Pivot Table Data'!T374","v":58},{"$f":"IF('Pivot Table Data'!O374=\"Yes\", 'Pivot Table Data'!T374, \"\")","v":58}]
[{"$f":"'Pivot Table Data'!B375","v":0},{"$f":"'Pivot Table Data'!F375","v":"Scripps Institution of Oceanography"},{"$f":"'Pivot Table Data'!P375","v":"P017"},{"$f":"'Pivot Table Data'!I375","v":"-"},{"$f":"'Pivot Table Data'!J375","v":"Accessible"},{"$f":"'Pivot Table Data'!K375","v":0},{"$f":"'Pivot Table Data'!L375","v":0},{"$f":"'Pivot Table Data'!S375","v":2},{"$f":"'Pivot Table Data'!T375","v":2},{"$f":"IF('Pivot Table Data'!O375=\"Yes\", 'Pivot Table Data'!T375, \"\")","v":""}]
[{"$f":"'Pivot Table Data'!B376","v":0},{"$f":"'Pivot Table Data'!F376","v":"Scripps Institution of Oceanography"},{"$f":"'Pivot Table Data'!P376","v":"P017"},{"$f":"'Pivot Table Data'!I376","v":"-"},{"$f":"'Pivot Table Data'!J376","v":"Accessible (Van)"},{"$f":"'Pivot Table Data'!K376","v":0},{"$f":"'Pivot Table Data'!L376","v":0},{"$f":"'Pivot Table Data'!S376","v":7},{"$f":"'Pivot Table Data'!T376","v":7},{"$f":"IF('Pivot Table Data'!O376=\"Yes\", 'Pivot Table Data'!T376, \"\")","v":""}]
[{"$f":"'Pivot Table Data'!B377","v":0},{"$f":"'Pivot Table Data'!F377","v":"Scripps Institution of Oceanography"},{"$f":"'Pivot Table Data'!P377","v":"P017"},{"$f":"'Pivot Table Data'!I377","v":"-"},{"$f":"'Pivot Table Data'!J377","v":"Electric Vehicle"},{"$f":"'Pivot Table Data'!K377","v":0},{"$f":"'Pivot Table Data'!L377","v":0},{"$f":"'Pivot Table Data'!S377","v":2},{"$f":"'Pivot Table Data'!T377","v":2},{"$f":"IF('Pivot Table Data'!O377=\"Yes\", 'Pivot Table Data'!T377, \"\")","v":""}]
[{"$f":"'Pivot Table Data'!B378","v":0},{"$f":"'Pivot Table Data'!F378","v":"Scripps Institution of Oceanography"},{"$f":"'Pivot Table Data'!P378","v":"P017"},{"$f":"'Pivot Table Data'!I378","v":"-"},{"$f":"'Pivot Table Data'!J378","v":"Visitor"},{"$f":"'Pivot Table Data'!K378","v":"Birch Aquarium"},{"$f":"'Pivot Table Data'!L378","v":0},{"$f":"'Pivot Table Data'!S378","v":254},{"$f":"'Pivot Table Data'!T378","v":254},{"$f":"IF('Pivot Table Data'!O378=\"Yes\", 'Pivot Table Data'!T378, \"\")","v":254}]
[{"$f":"'Pivot Table Data'!B379","v":0},{"$f":"'Pivot Table Data'!F379","v":"Scripps Institution of Oceanography"},{"$f":"'Pivot Table Data'!P379","v":"P021"},{"$f":"'Pivot Table Data'!I379","v":"-"},{"$f":"'Pivot Table Data'!J379","v":"S"},{"$f":"'Pivot Table Data'!K379","v":"Scripps Institution of Oceanography"},{"$f":"'Pivot Table Data'!L379","v":0},{"$f":"'Pivot Table Data'!S379","v":75},{"$f":"'Pivot Table Data'!T379","v":75},{"$f":"IF('Pivot Table Data'!O379=\"Yes\", 'Pivot Table Data'!T379, \"\")","v":75}]
[{"$f":"'Pivot Table Data'!B380","v":0},{"$f":"'Pivot Table Data'!F380","v":"Scripps Institution of Oceanography"},{"$f":"'Pivot Table Data'!P380","v":"P032"},{"$f":"'Pivot Table Data'!I380","v":":Lower Lot"},{"$f":"'Pivot Table Data'!J380","v":"Visitor"},{"$f":"'Pivot Table Data'!K380","v":"Scripps Institution of Oceanography"},{"$f":"'Pivot Table Data'!L380","v":0},{"$f":"'Pivot Table Data'!S380","v":4},{"$f":"'Pivot Table Data'!T380","v":12},{"$f":"IF('Pivot Table Data'!O380=\"Yes\", 'Pivot Table Data'!T380, \"\")","v":12}]
[{"$f":"'Pivot Table Data'!B381","v":0},{"$f":"'Pivot Table Data'!F381","v":"Scripps Institution of Oceanography"},{"$f":"'Pivot Table Data'!P381","v":"P032"},{"$f":"'Pivot Table Data'!I381","v":"Loading Dock"},{"$f":"'Pivot Table Data'!J381","v":"Loading Zone"},{"$f":"'Pivot Table Data'!K381","v":"Scripps Institution of Oceanography"},{"$f":"'Pivot Table Data'!L381","v":0},{"$f":"'Pivot Table Data'!S381","v":4},{"$f":"'Pivot Table Data'!T381","v":4},{"$f":"IF('Pivot Table Data'!O381=\"Yes\", 'Pivot Table Data'!T381, \"\")","v":""}]
[{"$f":"'Pivot Table Data'!B382","v":0},{"$f":"'Pivot Table Data'!F382","v":"Scripps Institution of Oceanography"},{"$f":"'Pivot Table Data'!P382","v":"P032"},{"$f":"'Pivot Table Data'!I382","v":"Lower Lot"},{"$f":"'Pivot Table Data'!J382","v":"Accessible"},{"$f":"'Pivot Table Data'!K382","v":"Scripps Institution of Oceanography"},{"$f":"'Pivot Table Data'!L382","v":0},{"$f":"'Pivot Table Data'!S382","v":1},{"$f":"'Pivot Table Data'!T382","v":3},{"$f":"IF('Pivot Table Data'!O382=\"Yes\", 'Pivot Table Data'!T382, \"\")","v":3}]
[{"$f":"'Pivot Table Data'!B383","v":0},{"$f":"'Pivot Table Data'!F383","v":"Scripps Institution of Oceanography"},{"$f":"'Pivot Table Data'!P383","v":"P032"},{"$f":"'Pivot Table Data'!I383","v":"Upper Lot"},{"$f":"'Pivot Table Data'!J383","v":"Accessible"},{"$f":"'Pivot Table Data'!K383","v":"Scripps Institution of Oceanography"},{"$f":"'Pivot Table Data'!L383","v":0},{"$f":"'Pivot Table Data'!S383","v":2},{"$f":"'Pivot Table Data'!T383","v":""},{"$f":"IF('Pivot Table Data'!O383=\"Yes\", 'Pivot Table Data'!T383, \"\")","v":""}]
[{"$f":"'Pivot Table Data'!B384","v":0},{"$f":"'Pivot Table Data'!F384","v":"Scripps Institution of Oceanography"},{"$f":"'Pivot Table Data'!P384","v":"P032"},{"$f":"'Pivot Table Data'!I384","v":"Upper Lot"},{"$f":"'Pivot Table Data'!J384","v":"B"},{"$f":"'Pivot Table Data'!K384","v":"Scripps Institution of Oceanography"},{"$f":"'Pivot Table Data'!L384","v":0},{"$f":"'Pivot Table Data'!S384","v":9},{"$f":"'Pivot Table Data'!T384","v":9},{"$f":"IF('Pivot Table Data'!O384=\"Yes\", 'Pivot Table Data'!T384, \"\")","v":9}]
[{"$f":"'Pivot Table Data'!B385","v":0},{"$f":"'Pivot Table Data'!F385","v":"Scripps Institution of Oceanography"},{"$f":"'Pivot Table Data'!P385","v":"P032"},{"$f":"'Pivot Table Data'!I385","v":"Upper Lot"},{"$f":"'Pivot Table Data'!J385","v":"Construction"},{"$f":"'Pivot Table Data'!K385","v":"Scripps Institution of Oceanography"},{"$f":"'Pivot Table Data'!L385","v":0},{"$f":"'Pivot Table Data'!S385","v":4},{"$f":"'Pivot Table Data'!T385","v":4},{"$f":"IF('Pivot Table Data'!O385=\"Yes\", 'Pivot Table Data'!T385, \"\")","v":""}]
[{"$f":"'Pivot Table Data'!B386","v":0},{"$f":"'Pivot Table Data'!F386","v":"Scripps Institution of Oceanography"},{"$f":"'Pivot Table Data'!P386","v":"P032"},{"$f":"'Pivot Table Data'!I386","v":"Upper Lot"},{"$f":"'Pivot Table Data'!J386","v":"Electric Vehicle"},{"$f":"'Pivot Table Data'!K386","v":"Scripps Institution of Oceanography"},{"$f":"'Pivot Table Data'!L386","v":0},{"$f":"'Pivot Table Data'!S386","v":2},{"$f":"'Pivot Table Data'!T386","v":2},{"$f":"IF('Pivot Table Data'!O386=\"Yes\", 'Pivot Table Data'!T386, \"\")","v":2}]
[{"$f":"'Pivot Table Data'!B387","v":0},{"$f":"'Pivot Table Data'!F387","v":"Scripps Institution of Oceanography"},{"$f":"'Pivot Table Data'!P387","v":"P032"},{"$f":"'Pivot Table Data'!I387","v":"Upper Lot"},{"$f":"'Pivot Table Data'!J387","v":"Visitor"},{"$f":"'Pivot Table Data'!K387","v":"Scripps Institution of Oceanography"},{"$f":"'Pivot Table Data'!L387","v":0},{"$f":"'Pivot Table Data'!S387","v":8},{"$f":"'Pivot Table Data'!T387","v":""},{"$f":"IF('Pivot Table Data'!O387=\"Yes\", 'Pivot Table Data'!T387, \"\")","v":""}]
[{"$f":"'Pivot Table Data'!B388","v":0},{"$f":"'Pivot Table Data'!F388","v":8980},{"$f":"'Pivot Table Data'!P388","v":8980},{"$f":"'Pivot Table Data'!I388","v":"B2"},{"$f":"'Pivot Table Data'!J388","v":"A"},{"$f":"'Pivot Table Data'!K388","v":0},{"$f":"'Pivot Table Data'!L388","v":0},{"$f":"'Pivot Table Data'!S388","v":0},{"$f":"'Pivot Table Data'!T388","v":26},{"$f":"IF('Pivot Table Data'!O388=\"Yes\", 'Pivot Table Data'!T388, \"\")","v":26}]
[{"$f":"'Pivot Table Data'!B389","v":0},{"$f":"'Pivot Table Data'!F389","v":8980},{"$f":"'Pivot Table Data'!P389","v":8980},{"$f":"'Pivot Table Data'!I389","v":"B2"},{"$f":"'Pivot Table Data'!J389","v":"Accessible"},{"$f":"'Pivot Table Data'!K389","v":0},{"$f":"'Pivot Table Data'!L389","v":0},{"$f":"'Pivot Table Data'!S389","v":0},{"$f":"'Pivot Table Data'!T389","v":9},{"$f":"IF('Pivot Table Data'!O389=\"Yes\", 'Pivot Table Data'!T389, \"\")","v":""}]
[{"$f":"'Pivot Table Data'!B390","v":0},{"$f":"'Pivot Table Data'!F390","v":8980},{"$f":"'Pivot Table Data'!P390","v":8980},{"$f":"'Pivot Table Data'!I390","v":"B2"},{"$f":"'Pivot Table Data'!J390","v":"Accessible (Van)"},{"$f":"'Pivot Table Data'!K390","v":0},{"$f":"'Pivot Table Data'!L390","v":0},{"$f":"'Pivot Table Data'!S390","v":0},{"$f":"'Pivot Table Data'!T390","v":0},{"$f":"IF('Pivot Table Data'!O390=\"Yes\", 'Pivot Table Data'!T390, \"\")","v":""}]
[{"$f":"'Pivot Table Data'!B391","v":0},{"$f":"'Pivot Table Data'!F391","v":8980},{"$f":"'Pivot Table Data'!P391","v":8980},{"$f":"'Pivot Table Data'!I391","v":"B2"},{"$f":"'Pivot Table Data'!J391","v":"B"},{"$f":"'Pivot Table Data'!K391","v":0},{"$f":"'Pivot Table Data'!L391","v":0},{"$f":"'Pivot Table Data'!S391","v":0},{"$f":"'Pivot Table Data'!T391","v":33},{"$f":"IF('Pivot Table Data'!O391=\"Yes\", 'Pivot Table Data'!T391, \"\")","v":33}]
[{"$f":"'Pivot Table Data'!B392","v":0},{"$f":"'Pivot Table Data'!F392","v":8980},{"$f":"'Pivot Table Data'!P392","v":8980},{"$f":"'Pivot Table Data'!I392","v":"B2"},{"$f":"'Pivot Table Data'!J392","v":"Carpool"},{"$f":"'Pivot Table Data'!K392","v":0},{"$f":"'Pivot Table Data'!L392","v":0},{"$f":"'Pivot Table Data'!S392","v":0},{"$f":"'Pivot Table Data'!T392","v":19},{"$f":"IF('Pivot Table Data'!O392=\"Yes\", 'Pivot Table Data'!T392, \"\")","v":19}]
[{"$f":"'Pivot Table Data'!B393","v":0},{"$f":"'Pivot Table Data'!F393","v":8980},{"$f":"'Pivot Table Data'!P393","v":8980},{"$f":"'Pivot Table Data'!I393","v":"B2"},{"$f":"'Pivot Table Data'!J393","v":"Electric Vehicle"},{"$f":"'Pivot Table Data'!K393","v":0},{"$f":"'Pivot Table Data'!L393","v":0},{"$f":"'Pivot Table Data'!S393","v":0},{"$f":"'Pivot Table Data'!T393","v":18},{"$f":"IF('Pivot Table Data'!O393=\"Yes\", 'Pivot Table Data'!T393, \"\")","v":""}]
[{"$f":"'Pivot Table Data'!B394","v":0},{"$f":"'Pivot Table Data'!F394","v":8980},{"$f":"'Pivot Table Data'!P394","v":8980},{"$f":"'Pivot Table Data'!I394","v":"B2"},{"$f":"'Pivot Table Data'!J394","v":"Motorcycle Section"},{"$f":"'Pivot Table Data'!K394","v":0},{"$f":"'Pivot Table Data'!L394","v":0},{"$f":"'Pivot Table Data'!S394","v":0},{"$f":"'Pivot Table Data'!T394","v":10},{"$f":"IF('Pivot Table Data'!O394=\"Yes\", 'Pivot Table Data'!T394, \"\")","v":""}]
[{"$f":"'Pivot Table Data'!B395","v":0},{"$f":"'Pivot Table Data'!F395","v":8980},{"$f":"'Pivot Table Data'!P395","v":8980},{"$f":"'Pivot Table Data'!I395","v":"B2"},{"$f":"'Pivot Table Data'!J395","v":"Reserved"},{"$f":"'Pivot Table Data'!K395","v":0},{"$f":"'Pivot Table Data'!L395","v":0},{"$f":"'Pivot Table Data'!S395","v":0},{"$f":"'Pivot Table Data'!T395","v":5},{"$f":"IF('Pivot Table Data'!O395=\"Yes\", 'Pivot Table Data'!T395, \"\")","v":""}]
[{"$f":"'Pivot Table Data'!B396","v":0},{"$f":"'Pivot Table Data'!F396","v":8980},{"$f":"'Pivot Table Data'!P396","v":8980},{"$f":"'Pivot Table Data'!I396","v":"B2"},{"$f":"'Pivot Table Data'!J396","v":"S"},{"$f":"'Pivot Table Data'!K396","v":0},{"$f":"'Pivot Table Data'!L396","v":0},{"$f":"'Pivot Table Data'!S396","v":57},{"$f":"'Pivot Table Data'!T396","v":98},{"$f":"IF('Pivot Table Data'!O396=\"Yes\", 'Pivot Table Data'!T396, \"\")","v":98}]
[{"$f":"'Pivot Table Data'!B397","v":0},{"$f":"'Pivot Table Data'!F397","v":8980},{"$f":"'Pivot Table Data'!P397","v":8980},{"$f":"'Pivot Table Data'!I397","v":"B2"},{"$f":"'Pivot Table Data'!J397","v":"UC Cart"},{"$f":"'Pivot Table Data'!K397","v":0},{"$f":"'Pivot Table Data'!L397","v":0},{"$f":"'Pivot Table Data'!S397","v":0},{"$f":"'Pivot Table Data'!T397","v":1},{"$f":"IF('Pivot Table Data'!O397=\"Yes\", 'Pivot Table Data'!T397, \"\")","v":""}]
[{"$f":"'Pivot Table Data'!B398","v":0},{"$f":"'Pivot Table Data'!F398","v":8980},{"$f":"'Pivot Table Data'!P398","v":8980},{"$f":"'Pivot Table Data'!I398","v":"B2"},{"$f":"'Pivot Table Data'!J398","v":"UC Vehicle"},{"$f":"'Pivot Table Data'!K398","v":0},{"$f":"'Pivot Table Data'!L398","v":0},{"$f":"'Pivot Table Data'!S398","v":0},{"$f":"'Pivot Table Data'!T398","v":1},{"$f":"IF('Pivot Table Data'!O398=\"Yes\", 'Pivot Table Data'!T398, \"\")","v":""}]
[{"$f":"'Pivot Table Data'!B399","v":0},{"$f":"'Pivot Table Data'!F399","v":8980},{"$f":"'Pivot Table Data'!P399","v":8980},{"$f":"'Pivot Table Data'!I399","v":"B2"},{"$f":"'Pivot Table Data'!J399","v":"Visitor"},{"$f":"'Pivot Table Data'!K399","v":0},{"$f":"'Pivot Table Data'!L399","v":0},{"$f":"'Pivot Table Data'!S399","v":0},{"$f":"'Pivot Table Data'!T399","v":52},{"$f":"IF('Pivot Table Data'!O399=\"Yes\", 'Pivot Table Data'!T399, \"\")","v":52}]
[{"$f":"'Pivot Table Data'!B400","v":0},{"$f":"'Pivot Table Data'!F400","v":8980},{"$f":"'Pivot Table Data'!P400","v":8980},{"$f":"'Pivot Table Data'!I400","v":"B1"},{"$f":"'Pivot Table Data'!J400","v":"A"},{"$f":"'Pivot Table Data'!K400","v":0},{"$f":"'Pivot Table Data'!L400","v":0},{"$f":"'Pivot Table Data'!S400","v":26},{"$f":"'Pivot Table Data'!T400","v":""},{"$f":"IF('Pivot Table Data'!O400=\"Yes\", 'Pivot Table Data'!T400, \"\")","v":""}]
[{"$f":"'Pivot Table Data'!B401","v":0},{"$f":"'Pivot Table Data'!F401","v":8980},{"$f":"'Pivot Table Data'!P401","v":8980},{"$f":"'Pivot Table Data'!I401","v":"B1"},{"$f":"'Pivot Table Data'!J401","v":"Accessible"},{"$f":"'Pivot Table Data'!K401","v":0},{"$f":"'Pivot Table Data'!L401","v":0},{"$f":"'Pivot Table Data'!S401","v":0},{"$f":"'Pivot Table Data'!T401","v":""},{"$f":"IF('Pivot Table Data'!O401=\"Yes\", 'Pivot Table Data'!T401, \"\")","v":""}]
[{"$f":"'Pivot Table Data'!B402","v":0},{"$f":"'Pivot Table Data'!F402","v":8980},{"$f":"'Pivot Table Data'!P402","v":8980},{"$f":"'Pivot Table Data'!I402","v":"B1"},{"$f":"'Pivot Table Data'!J402","v":"Accessible (Van)"},{"$f":"'Pivot Table Data'!K402","v":0},{"$f":"'Pivot Table Data'!L402","v":0},{"$f":"'Pivot Table Data'!S402","v":0},{"$f":"'Pivot Table Data'!T402","v":""},{"$f":"IF('Pivot Table Data'!O402=\"Yes\", 'Pivot Table Data'!T402, \"\")","v":""}]
[{"$f":"'Pivot Table Data'!B403","v":0},{"$f":"'Pivot Table Data'!F403","v":8980},{"$f":"'Pivot Table Data'!P403","v":8980},{"$f":"'Pivot Table Data'!I403","v":"B1"},{"$f":"'Pivot Table Data'!J403","v":"B"},{"$f":"'Pivot Table Data'!K403","v":0},{"$f":"'Pivot Table Data'!L403","v":0},{"$f":"'Pivot Table Data'!S403","v":31},{"$f":"'Pivot Table Data'!T403","v":""},{"$f":"IF('Pivot Table Data'!O403=\"Yes\", 'Pivot Table Data'!T403, \"\")","v":""}]
[{"$f":"'Pivot Table Data'!B404","v":0},{"$f":"'Pivot Table Data'!F404","v":8980},{"$f":"'Pivot Table Data'!P404","v":8980},{"$f":"'Pivot Table Data'!I404","v":"B1"},{"$f":"'Pivot Table Data'!J404","v":"Carpool"},{"$f":"'Pivot Table Data'!K404","v":0},{"$f":"'Pivot Table Data'!L404","v":0},{"$f":"'Pivot Table Data'!S404","v":0},{"$f":"'Pivot Table Data'!T404","v":""},{"$f":"IF('Pivot Table Data'!O404=\"Yes\", 'Pivot Table Data'!T404, \"\")","v":""}]
[{"$f":"'Pivot Table Data'!B405","v":0},{"$f":"'Pivot Table Data'!F405","v":8980},{"$f":"'Pivot Table Data'!P405","v":8980},{"$f":"'Pivot Table Data'!I405","v":"B1"},{"$f":"'Pivot Table Data'!J405","v":"Electric Vehicle"},{"$f":"'Pivot Table Data'!K405","v":0},{"$f":"'Pivot Table Data'!L405","v":0},{"$f":"'Pivot Table Data'!S405","v":0},{"$f":"'Pivot Table Data'!T405","v":""},{"$f":"IF('Pivot Table Data'!O405=\"Yes\", 'Pivot Table Data'!T405, \"\")","v":""}]
[{"$f":"'Pivot Table Data'!B406","v":0},{"$f":"'Pivot Table Data'!F406","v":8980},{"$f":"'Pivot Table Data'!P406","v":8980},{"$f":"'Pivot Table Data'!I406","v":"B1"},{"$f":"'Pivot Table Data'!J406","v":"Motorcycle Section"},{"$f":"'Pivot Table Data'!K406","v":0},{"$f":"'Pivot Table Data'!L406","v":0},{"$f":"'Pivot Table Data'!S406","v":0},{"$f":"'Pivot Table Data'!T406","v":""},{"$f":"IF('Pivot Table Data'!O406=\"Yes\", 'Pivot Table Data'!T406, \"\")","v":""}]
[{"$f":"'Pivot Table Data'!B407","v":0},{"$f":"'Pivot Table Data'!F407","v":8980},{"$f":"'Pivot Table Data'!P407","v":8980},{"$f":"'Pivot Table Data'!I407","v":"B1"},{"$f":"'Pivot Table Data'!J407","v":"Reserved"},{"$f":"'Pivot Table Data'!K407","v":0},{"$f":"'Pivot Table Data'!L407","v":0},{"$f":"'Pivot Table Data'!S407","v":0},{"$f":"'Pivot Table Data'!T407","v":""},{"$f":"IF('Pivot Table Data'!O407=\"Yes\", 'Pivot Table Data'!T407, \"\")","v":""}]
[{"$f":"'Pivot Table Data'!B408","v":0},{"$f":"'Pivot Table Data'!F408","v":8980},{"$f":"'Pivot Table Data'!P408","v":8980},{"$f":"'Pivot Table Data'!I408","v":"B1"},{"$f":"'Pivot Table Data'!J408","v":"S"},{"$f":"'Pivot Table Data'!K408","v":0},{"$f":"'Pivot Table Data'!L408","v":0},{"$f":"'Pivot Table Data'!S408","v":0},{"$f":"'Pivot Table Data'!T408","v":""},{"$f":"IF('Pivot Table Data'!O408=\"Yes\", 'Pivot Table Data'!T408, \"\")","v":""}]
[{"$f":"'Pivot Table Data'!B409","v":0},{"$f":"'Pivot Table Data'!F409","v":8980},{"$f":"'Pivot Table Data'!P409","v":8980},{"$f":"'Pivot Table Data'!I409","v":"B1"},{"$f":"'Pivot Table Data'!J409","v":"UC Cart"},{"$f":"'Pivot Table Data'!K409","v":0},{"$f":"'Pivot Table Data'!L409","v":0},{"$f":"'Pivot Table Data'!S409","v":0},{"$f":"'Pivot Table Data'!T409","v":""},{"$f":"IF('Pivot Table Data'!O409=\"Yes\", 'Pivot Table Data'!T409, \"\")","v":""}]
[{"$f":"'Pivot Table Data'!B410","v":0},{"$f":"'Pivot Table Data'!F410","v":8980},{"$f":"'Pivot Table Data'!P410","v":8980},{"$f":"'Pivot Table Data'!I410","v":"B1"},{"$f":"'Pivot Table Data'!J410","v":"UC Vehicle"},{"$f":"'Pivot Table Data'!K410","v":0},{"$f":"'Pivot Table Data'!L410","v":0},{"$f":"'Pivot Table Data'!S410","v":0},{"$f":"'Pivot Table Data'!T410","v":""},{"$f":"IF('Pivot Table Data'!O410=\"Yes\", 'Pivot Table Data'!T410, \"\")","v":""}]
[{"$f":"'Pivot Table Data'!B411","v":0},{"$f":"'Pivot Table Data'!F411","v":8980},{"$f":"'Pivot Table Data'!P411","v":8980},{"$f":"'Pivot Table Data'!I411","v":"B1"},{"$f":"'Pivot Table Data'!J411","v":"Visitor"},{"$f":"'Pivot Table Data'!K411","v":0},{"$f":"'Pivot Table Data'!L411","v":0},{"$f":"'Pivot Table Data'!S411","v":0},{"$f":"'Pivot Table Data'!T411","v":""},{"$f":"IF('Pivot Table Data'!O411=\"Yes\", 'Pivot Table Data'!T411, \"\")","v":""}]
[{"$f":"'Pivot Table Data'!B412","v":0},{"$f":"'Pivot Table Data'!F412","v":8980},{"$f":"'Pivot Table Data'!P412","v":8980},{"$f":"'Pivot Table Data'!I412","v":"Ground Floor"},{"$f":"'Pivot Table Data'!J412","v":"A"},{"$f":"'Pivot Table Data'!K412","v":0},{"$f":"'Pivot Table Data'!L412","v":0},{"$f":"'Pivot Table Data'!S412","v":0},{"$f":"'Pivot Table Data'!T412","v":""},{"$f":"IF('Pivot Table Data'!O412=\"Yes\", 'Pivot Table Data'!T412, \"\")","v":""}]
[{"$f":"'Pivot Table Data'!B413","v":0},{"$f":"'Pivot Table Data'!F413","v":8980},{"$f":"'Pivot Table Data'!P413","v":8980},{"$f":"'Pivot Table Data'!I413","v":"Ground Floor"},{"$f":"'Pivot Table Data'!J413","v":"Accessible"},{"$f":"'Pivot Table Data'!K413","v":0},{"$f":"'Pivot Table Data'!L413","v":0},{"$f":"'Pivot Table Data'!S413","v":7},{"$f":"'Pivot Table Data'!T413","v":""},{"$f":"IF('Pivot Table Data'!O413=\"Yes\", 'Pivot Table Data'!T413, \"\")","v":""}]
[{"$f":"'Pivot Table Data'!B414","v":0},{"$f":"'Pivot Table Data'!F414","v":8980},{"$f":"'Pivot Table Data'!P414","v":8980},{"$f":"'Pivot Table Data'!I414","v":"Ground Floor"},{"$f":"'Pivot Table Data'!J414","v":"Accessible (Van)"},{"$f":"'Pivot Table Data'!K414","v":0},{"$f":"'Pivot Table Data'!L414","v":0},{"$f":"'Pivot Table Data'!S414","v":0},{"$f":"'Pivot Table Data'!T414","v":""},{"$f":"IF('Pivot Table Data'!O414=\"Yes\", 'Pivot Table Data'!T414, \"\")","v":""}]
[{"$f":"'Pivot Table Data'!B415","v":0},{"$f":"'Pivot Table Data'!F415","v":8980},{"$f":"'Pivot Table Data'!P415","v":8980},{"$f":"'Pivot Table Data'!I415","v":"Ground Floor"},{"$f":"'Pivot Table Data'!J415","v":"B"},{"$f":"'Pivot Table Data'!K415","v":0},{"$f":"'Pivot Table Data'!L415","v":0},{"$f":"'Pivot Table Data'!S415","v":2},{"$f":"'Pivot Table Data'!T415","v":""},{"$f":"IF('Pivot Table Data'!O415=\"Yes\", 'Pivot Table Data'!T415, \"\")","v":""}]
[{"$f":"'Pivot Table Data'!B416","v":0},{"$f":"'Pivot Table Data'!F416","v":8980},{"$f":"'Pivot Table Data'!P416","v":8980},{"$f":"'Pivot Table Data'!I416","v":"Ground Floor"},{"$f":"'Pivot Table Data'!J416","v":"Carpool"},{"$f":"'Pivot Table Data'!K416","v":0},{"$f":"'Pivot Table Data'!L416","v":0},{"$f":"'Pivot Table Data'!S416","v":0},{"$f":"'Pivot Table Data'!T416","v":""},{"$f":"IF('Pivot Table Data'!O416=\"Yes\", 'Pivot Table Data'!T416, \"\")","v":""}]
[{"$f":"'Pivot Table Data'!B417","v":0},{"$f":"'Pivot Table Data'!F417","v":8980},{"$f":"'Pivot Table Data'!P417","v":8980},{"$f":"'Pivot Table Data'!I417","v":"Ground Floor"},{"$f":"'Pivot Table Data'!J417","v":"Electric Vehicle"},{"$f":"'Pivot Table Data'!K417","v":0},{"$f":"'Pivot Table Data'!L417","v":0},{"$f":"'Pivot Table Data'!S417","v":12},{"$f":"'Pivot Table Data'!T417","v":""},{"$f":"IF('Pivot Table Data'!O417=\"Yes\", 'Pivot Table Data'!T417, \"\")","v":""}]
[{"$f":"'Pivot Table Data'!B418","v":0},{"$f":"'Pivot Table Data'!F418","v":8980},{"$f":"'Pivot Table Data'!P418","v":8980},{"$f":"'Pivot Table Data'!I418","v":"Ground Floor"},{"$f":"'Pivot Table Data'!J418","v":"Motorcycle Section"},{"$f":"'Pivot Table Data'!K418","v":0},{"$f":"'Pivot Table Data'!L418","v":0},{"$f":"'Pivot Table Data'!S418","v":10},{"$f":"'Pivot Table Data'!T418","v":""},{"$f":"IF('Pivot Table Data'!O418=\"Yes\", 'Pivot Table Data'!T418, \"\")","v":""}]
[{"$f":"'Pivot Table Data'!B419","v":0},{"$f":"'Pivot Table Data'!F419","v":8980},{"$f":"'Pivot Table Data'!P419","v":8980},{"$f":"'Pivot Table Data'!I419","v":"Ground Floor"},{"$f":"'Pivot Table Data'!J419","v":"Reserved"},{"$f":"'Pivot Table Data'!K419","v":0},{"$f":"'Pivot Table Data'!L419","v":0},{"$f":"'Pivot Table Data'!S419","v":0},{"$f":"'Pivot Table Data'!T419","v":""},{"$f":"IF('Pivot Table Data'!O419=\"Yes\", 'Pivot Table Data'!T419, \"\")","v":""}]
[{"$f":"'Pivot Table Data'!B420","v":0},{"$f":"'Pivot Table Data'!F420","v":8980},{"$f":"'Pivot Table Data'!P420","v":8980},{"$f":"'Pivot Table Data'!I420","v":"Ground Floor"},{"$f":"'Pivot Table Data'!J420","v":"S"},{"$f":"'Pivot Table Data'!K420","v":0},{"$f":"'Pivot Table Data'!L420","v":0},{"$f":"'Pivot Table Data'!S420","v":0},{"$f":"'Pivot Table Data'!T420","v":""},{"$f":"IF('Pivot Table Data'!O420=\"Yes\", 'Pivot Table Data'!T420, \"\")","v":""}]
[{"$f":"'Pivot Table Data'!B421","v":0},{"$f":"'Pivot Table Data'!F421","v":8980},{"$f":"'Pivot Table Data'!P421","v":8980},{"$f":"'Pivot Table Data'!I421","v":"Ground Floor"},{"$f":"'Pivot Table Data'!J421","v":"UC Cart"},{"$f":"'Pivot Table Data'!K421","v":0},{"$f":"'Pivot Table Data'!L421","v":0},{"$f":"'Pivot Table Data'!S421","v":0},{"$f":"'Pivot Table Data'!T421","v":""},{"$f":"IF('Pivot Table Data'!O421=\"Yes\", 'Pivot Table Data'!T421, \"\")","v":""}]
[{"$f":"'Pivot Table Data'!B422","v":0},{"$f":"'Pivot Table Data'!F422","v":8980},{"$f":"'Pivot Table Data'!P422","v":8980},{"$f":"'Pivot Table Data'!I422","v":"Ground Floor"},{"$f":"'Pivot Table Data'!J422","v":"UC Vehicle"},{"$f":"'Pivot Table Data'!K422","v":0},{"$f":"'Pivot Table Data'!L422","v":0},{"$f":"'Pivot Table Data'!S422","v":0},{"$f":"'Pivot Table Data'!T422","v":""},{"$f":"IF('Pivot Table Data'!O422=\"Yes\", 'Pivot Table Data'!T422, \"\")","v":""}]
[{"$f":"'Pivot Table Data'!B423","v":0},{"$f":"'Pivot Table Data'!F423","v":8980},{"$f":"'Pivot Table Data'!P423","v":8980},{"$f":"'Pivot Table Data'!I423","v":"Ground Floor"},{"$f":"'Pivot Table Data'!J423","v":"Visitor"},{"$f":"'Pivot Table Data'!K423","v":0},{"$f":"'Pivot Table Data'!L423","v":0},{"$f":"'Pivot Table Data'!S423","v":18},{"$f":"'Pivot Table Data'!T423","v":""},{"$f":"IF('Pivot Table Data'!O423=\"Yes\", 'Pivot Table Data'!T423, \"\")","v":""}]
[{"$f":"'Pivot Table Data'!B424","v":0},{"$f":"'Pivot Table Data'!F424","v":8980},{"$f":"'Pivot Table Data'!P424","v":8980},{"$f":"'Pivot Table Data'!I424","v":"L2"},{"$f":"'Pivot Table Data'!J424","v":"A"},{"$f":"'Pivot Table Data'!K424","v":0},{"$f":"'Pivot Table Data'!L424","v":0},{"$f":"'Pivot Table Data'!S424","v":0},{"$f":"'Pivot Table Data'!T424","v":""},{"$f":"IF('Pivot Table Data'!O424=\"Yes\", 'Pivot Table Data'!T424, \"\")","v":""}]
[{"$f":"'Pivot Table Data'!B425","v":0},{"$f":"'Pivot Table Data'!F425","v":8980},{"$f":"'Pivot Table Data'!P425","v":8980},{"$f":"'Pivot Table Data'!I425","v":"L2"},{"$f":"'Pivot Table Data'!J425","v":"Accessible"},{"$f":"'Pivot Table Data'!K425","v":0},{"$f":"'Pivot Table Data'!L425","v":0},{"$f":"'Pivot Table Data'!S425","v":0},{"$f":"'Pivot Table Data'!T425","v":""},{"$f":"IF('Pivot Table Data'!O425=\"Yes\", 'Pivot Table Data'!T425, \"\")","v":""}]
[{"$f":"'Pivot Table Data'!B426","v":0},{"$f":"'Pivot Table Data'!F426","v":8980},{"$f":"'Pivot Table Data'!P426","v":8980},{"$f":"'Pivot Table Data'!I426","v":"L2"},{"$f":"'Pivot Table Data'!J426","v":"Accessible (Van)"},{"$f":"'Pivot Table Data'!K426","v":0},{"$f":"'Pivot Table Data'!L426","v":0},{"$f":"'Pivot Table Data'!S426","v":0},{"$f":"'Pivot Table Data'!T426","v":""},{"$f":"IF('Pivot Table Data'!O426=\"Yes\", 'Pivot Table Data'!T426, \"\")","v":""}]
[{"$f":"'Pivot Table Data'!B427","v":0},{"$f":"'Pivot Table Data'!F427","v":8980},{"$f":"'Pivot Table Data'!P427","v":8980},{"$f":"'Pivot Table Data'!I427","v":"L2"},{"$f":"'Pivot Table Data'!J427","v":"B"},{"$f":"'Pivot Table Data'!K427","v":0},{"$f":"'Pivot Table Data'!L427","v":0},{"$f":"'Pivot Table Data'!S427","v":0},{"$f":"'Pivot Table Data'!T427","v":""},{"$f":"IF('Pivot Table Data'!O427=\"Yes\", 'Pivot Table Data'!T427, \"\")","v":""}]
[{"$f":"'Pivot Table Data'!B428","v":0},{"$f":"'Pivot Table Data'!F428","v":8980},{"$f":"'Pivot Table Data'!P428","v":8980},{"$f":"'Pivot Table Data'!I428","v":"L2"},{"$f":"'Pivot Table Data'!J428","v":"Carpool"},{"$f":"'Pivot Table Data'!K428","v":0},{"$f":"'Pivot Table Data'!L428","v":0},{"$f":"'Pivot Table Data'!S428","v":19},{"$f":"'Pivot Table Data'!T428","v":""},{"$f":"IF('Pivot Table Data'!O428=\"Yes\", 'Pivot Table Data'!T428, \"\")","v":""}]
[{"$f":"'Pivot Table Data'!B429","v":0},{"$f":"'Pivot Table Data'!F429","v":8980},{"$f":"'Pivot Table Data'!P429","v":8980},{"$f":"'Pivot Table Data'!I429","v":"L2"},{"$f":"'Pivot Table Data'!J429","v":"Electric Vehicle"},{"$f":"'Pivot Table Data'!K429","v":0},{"$f":"'Pivot Table Data'!L429","v":0},{"$f":"'Pivot Table Data'!S429","v":6},{"$f":"'Pivot Table Data'!T429","v":""},{"$f":"IF('Pivot Table Data'!O429=\"Yes\", 'Pivot Table Data'!T429, \"\")","v":""}]
[{"$f":"'Pivot Table Data'!B430","v":0},{"$f":"'Pivot Table Data'!F430","v":8980},{"$f":"'Pivot Table Data'!P430","v":8980},{"$f":"'Pivot Table Data'!I430","v":"L2"},{"$f":"'Pivot Table Data'!J430","v":"Motorcycle Section"},{"$f":"'Pivot Table Data'!K430","v":0},{"$f":"'Pivot Table Data'!L430","v":0},{"$f":"'Pivot Table Data'!S430","v":0},{"$f":"'Pivot Table Data'!T430","v":""},{"$f":"IF('Pivot Table Data'!O430=\"Yes\", 'Pivot Table Data'!T430, \"\")","v":""}]
[{"$f":"'Pivot Table Data'!B431","v":0},{"$f":"'Pivot Table Data'!F431","v":8980},{"$f":"'Pivot Table Data'!P431","v":8980},{"$f":"'Pivot Table Data'!I431","v":"L2"},{"$f":"'Pivot Table Data'!J431","v":"Reserved"},{"$f":"'Pivot Table Data'!K431","v":0},{"$f":"'Pivot Table Data'!L431","v":0},{"$f":"'Pivot Table Data'!S431","v":5},{"$f":"'Pivot Table Data'!T431","v":""},{"$f":"IF('Pivot Table Data'!O431=\"Yes\", 'Pivot Table Data'!T431, \"\")","v":""}]
[{"$f":"'Pivot Table Data'!B432","v":0},{"$f":"'Pivot Table Data'!F432","v":8980},{"$f":"'Pivot Table Data'!P432","v":8980},{"$f":"'Pivot Table Data'!I432","v":"L2"},{"$f":"'Pivot Table Data'!J432","v":"S"},{"$f":"'Pivot Table Data'!K432","v":0},{"$f":"'Pivot Table Data'!L432","v":0},{"$f":"'Pivot Table Data'!S432","v":0},{"$f":"'Pivot Table Data'!T432","v":""},{"$f":"IF('Pivot Table Data'!O432=\"Yes\", 'Pivot Table Data'!T432, \"\")","v":""}]
[{"$f":"'Pivot Table Data'!B433","v":0},{"$f":"'Pivot Table Data'!F433","v":8980},{"$f":"'Pivot Table Data'!P433","v":8980},{"$f":"'Pivot Table Data'!I433","v":"L2"},{"$f":"'Pivot Table Data'!J433","v":"UC Cart"},{"$f":"'Pivot Table Data'!K433","v":0},{"$f":"'Pivot Table Data'!L433","v":0},{"$f":"'Pivot Table Data'!S433","v":1},{"$f":"'Pivot Table Data'!T433","v":""},{"$f":"IF('Pivot Table Data'!O433=\"Yes\", 'Pivot Table Data'!T433, \"\")","v":""}]
[{"$f":"'Pivot Table Data'!B434","v":0},{"$f":"'Pivot Table Data'!F434","v":8980},{"$f":"'Pivot Table Data'!P434","v":8980},{"$f":"'Pivot Table Data'!I434","v":"L2"},{"$f":"'Pivot Table Data'!J434","v":"UC Vehicle"},{"$f":"'Pivot Table Data'!K434","v":0},{"$f":"'Pivot Table Data'!L434","v":0},{"$f":"'Pivot Table Data'!S434","v":1},{"$f":"'Pivot Table Data'!T434","v":""},{"$f":"IF('Pivot Table Data'!O434=\"Yes\", 'Pivot Table Data'!T434, \"\")","v":""}]
[{"$f":"'Pivot Table Data'!B435","v":0},{"$f":"'Pivot Table Data'!F435","v":8980},{"$f":"'Pivot Table Data'!P435","v":8980},{"$f":"'Pivot Table Data'!I435","v":"L2"},{"$f":"'Pivot Table Data'!J435","v":"Visitor"},{"$f":"'Pivot Table Data'!K435","v":0},{"$f":"'Pivot Table Data'!L435","v":0},{"$f":"'Pivot Table Data'!S435","v":21},{"$f":"'Pivot Table Data'!T435","v":""},{"$f":"IF('Pivot Table Data'!O435=\"Yes\", 'Pivot Table Data'!T435, \"\")","v":""}]
[{"$f":"'Pivot Table Data'!B436","v":0},{"$f":"'Pivot Table Data'!F436","v":8980},{"$f":"'Pivot Table Data'!P436","v":8980},{"$f":"'Pivot Table Data'!I436","v":"Ground"},{"$f":"'Pivot Table Data'!J436","v":"Accessible"},{"$f":"'Pivot Table Data'!K436","v":0},{"$f":"'Pivot Table Data'!L436","v":0},{"$f":"'Pivot Table Data'!S436","v":2},{"$f":"'Pivot Table Data'!T436","v":""},{"$f":"IF('Pivot Table Data'!O436=\"Yes\", 'Pivot Table Data'!T436, \"\")","v":""}]
[{"$f":"'Pivot Table Data'!B437","v":0},{"$f":"'Pivot Table Data'!F437","v":8980},{"$f":"'Pivot Table Data'!P437","v":8980},{"$f":"'Pivot Table Data'!I437","v":"Ground"},{"$f":"'Pivot Table Data'!J437","v":"S"},{"$f":"'Pivot Table Data'!K437","v":0},{"$f":"'Pivot Table Data'!L437","v":0},{"$f":"'Pivot Table Data'!S437","v":41},{"$f":"'Pivot Table Data'!T437","v":""},{"$f":"IF('Pivot Table Data'!O437=\"Yes\", 'Pivot Table Data'!T437, \"\")","v":""}]
[{"$f":"'Pivot Table Data'!B438","v":0},{"$f":"'Pivot Table Data'!F438","v":8980},{"$f":"'Pivot Table Data'!P438","v":8980},{"$f":"'Pivot Table Data'!I438","v":"Ground"},{"$f":"'Pivot Table Data'!J438","v":"Visitor"},{"$f":"'Pivot Table Data'!K438","v":"Loading"},{"$f":"'Pivot Table Data'!L438","v":20},{"$f":"'Pivot Table Data'!S438","v":4},{"$f":"'Pivot Table Data'!T438","v":4},{"$f":"IF('Pivot Table Data'!O438=\"Yes\", 'Pivot Table Data'!T438, \"\")","v":4}]
[{"$f":"'Pivot Table Data'!B439","v":0},{"$f":"'Pivot Table Data'!F439","v":8980},{"$f":"'Pivot Table Data'!P439","v":8980},{"$f":"'Pivot Table Data'!I439","v":"Ground"},{"$f":"'Pivot Table Data'!J439","v":"Visitor"},{"$f":"'Pivot Table Data'!K439","v":0},{"$f":"'Pivot Table Data'!L439","v":0},{"$f":"'Pivot Table Data'!S439","v":13},{"$f":"'Pivot Table Data'!T439","v":""},{"$f":"IF('Pivot Table Data'!O439=\"Yes\", 'Pivot Table Data'!T439, \"\")","v":""}]
[{"$f":"'Pivot Table Data'!B440","v":0},{"$f":"'Pivot Table Data'!F440","v":"University Center"},{"$f":"'Pivot Table Data'!P440","v":"Gilman"},{"$f":"'Pivot Table Data'!I440","v":"Basement"},{"$f":"'Pivot Table Data'!J440","v":"Accessible"},{"$f":"'Pivot Table Data'!K440","v":0},{"$f":"'Pivot Table Data'!L440","v":0},{"$f":"'Pivot Table Data'!S440","v":11},{"$f":"'Pivot Table Data'!T440","v":32},{"$f":"IF('Pivot Table Data'!O440=\"Yes\", 'Pivot Table Data'!T440, \"\")","v":""}]
[{"$f":"'Pivot Table Data'!B441","v":0},{"$f":"'Pivot Table Data'!F441","v":"University Center"},{"$f":"'Pivot Table Data'!P441","v":"Gilman"},{"$f":"'Pivot Table Data'!I441","v":"Basement"},{"$f":"'Pivot Table Data'!J441","v":"Accessible (Van)"},{"$f":"'Pivot Table Data'!K441","v":0},{"$f":"'Pivot Table Data'!L441","v":0},{"$f":"'Pivot Table Data'!S441","v":4},{"$f":"'Pivot Table Data'!T441","v":10},{"$f":"IF('Pivot Table Data'!O441=\"Yes\", 'Pivot Table Data'!T441, \"\")","v":""}]
[{"$f":"'Pivot Table Data'!B442","v":0},{"$f":"'Pivot Table Data'!F442","v":"University Center"},{"$f":"'Pivot Table Data'!P442","v":"Gilman"},{"$f":"'Pivot Table Data'!I442","v":"Basement"},{"$f":"'Pivot Table Data'!J442","v":"Reserved"},{"$f":"'Pivot Table Data'!K442","v":"Credit Union Member"},{"$f":"'Pivot Table Data'!L442","v":0},{"$f":"'Pivot Table Data'!S442","v":10},{"$f":"'Pivot Table Data'!T442","v":10},{"$f":"IF('Pivot Table Data'!O442=\"Yes\", 'Pivot Table Data'!T442, \"\")","v":""}]
[{"$f":"'Pivot Table Data'!B443","v":0},{"$f":"'Pivot Table Data'!F443","v":"University Center"},{"$f":"'Pivot Table Data'!P443","v":"Gilman"},{"$f":"'Pivot Table Data'!I443","v":"Basement"},{"$f":"'Pivot Table Data'!J443","v":"Reserved"},{"$f":"'Pivot Table Data'!K443","v":"Credit Union Staff"},{"$f":"'Pivot Table Data'!L443","v":0},{"$f":"'Pivot Table Data'!S443","v":10},{"$f":"'Pivot Table Data'!T443","v":10},{"$f":"IF('Pivot Table Data'!O443=\"Yes\", 'Pivot Table Data'!T443, \"\")","v":""}]
[{"$f":"'Pivot Table Data'!B444","v":0},{"$f":"'Pivot Table Data'!F444","v":"University Center"},{"$f":"'Pivot Table Data'!P444","v":"Gilman"},{"$f":"'Pivot Table Data'!I444","v":"Basement"},{"$f":"'Pivot Table Data'!J444","v":"Reserved"},{"$f":"'Pivot Table Data'!K444","v":"Target"},{"$f":"'Pivot Table Data'!L444","v":0},{"$f":"'Pivot Table Data'!S444","v":7},{"$f":"'Pivot Table Data'!T444","v":7},{"$f":"IF('Pivot Table Data'!O444=\"Yes\", 'Pivot Table Data'!T444, \"\")","v":""}]
[{"$f":"'Pivot Table Data'!B445","v":0},{"$f":"'Pivot Table Data'!F445","v":"University Center"},{"$f":"'Pivot Table Data'!P445","v":"Gilman"},{"$f":"'Pivot Table Data'!I445","v":"Basement"},{"$f":"'Pivot Table Data'!J445","v":"Reserved"},{"$f":"'Pivot Table Data'!K445","v":0},{"$f":"'Pivot Table Data'!L445","v":0},{"$f":"'Pivot Table Data'!S445","v":9},{"$f":"'Pivot Table Data'!T445","v":13},{"$f":"IF('Pivot Table Data'!O445=\"Yes\", 'Pivot Table Data'!T445, \"\")","v":""}]
[{"$f":"'Pivot Table Data'!B446","v":0},{"$f":"'Pivot Table Data'!F446","v":"University Center"},{"$f":"'Pivot Table Data'!P446","v":"Gilman"},{"$f":"'Pivot Table Data'!I446","v":"Basement"},{"$f":"'Pivot Table Data'!J446","v":"Reserved"},{"$f":"'Pivot Table Data'!K446","v":0},{"$f":"'Pivot Table Data'!L446","v":0},{"$f":"'Pivot Table Data'!S446","v":1},{"$f":"'Pivot Table Data'!T446","v":""},{"$f":"IF('Pivot Table Data'!O446=\"Yes\", 'Pivot Table Data'!T446, \"\")","v":""}]
[{"$f":"'Pivot Table Data'!B447","v":0},{"$f":"'Pivot Table Data'!F447","v":"University Center"},{"$f":"'Pivot Table Data'!P447","v":"Gilman"},{"$f":"'Pivot Table Data'!I447","v":"Basement"},{"$f":"'Pivot Table Data'!J447","v":"Visitor"},{"$f":"'Pivot Table Data'!K447","v":"2 hour"},{"$f":"'Pivot Table Data'!L447","v":"2 hour"},{"$f":"'Pivot Table Data'!S447","v":48},{"$f":"'Pivot Table Data'!T447","v":145},{"$f":"IF('Pivot Table Data'!O447=\"Yes\", 'Pivot Table Data'!T447, \"\")","v":145}]
[{"$f":"'Pivot Table Data'!B448","v":0},{"$f":"'Pivot Table Data'!F448","v":"University Center"},{"$f":"'Pivot Table Data'!P448","v":"Gilman"},{"$f":"'Pivot Table Data'!I448","v":"Basement"},{"$f":"'Pivot Table Data'!J448","v":"Visitor"},{"$f":"'Pivot Table Data'!K448","v":0},{"$f":"'Pivot Table Data'!L448","v":0},{"$f":"'Pivot Table Data'!S448","v":31},{"$f":"'Pivot Table Data'!T448","v":31},{"$f":"IF('Pivot Table Data'!O448=\"Yes\", 'Pivot Table Data'!T448, \"\")","v":31}]
[{"$f":"'Pivot Table Data'!B449","v":0},{"$f":"'Pivot Table Data'!F449","v":"University Center"},{"$f":"'Pivot Table Data'!P449","v":"Gilman"},{"$f":"'Pivot Table Data'!I449","v":"Ground Floor (Gilman)"},{"$f":"'Pivot Table Data'!J449","v":"Accessible"},{"$f":"'Pivot Table Data'!K449","v":0},{"$f":"'Pivot Table Data'!L449","v":0},{"$f":"'Pivot Table Data'!S449","v":21},{"$f":"'Pivot Table Data'!T449","v":""},{"$f":"IF('Pivot Table Data'!O449=\"Yes\", 'Pivot Table Data'!T449, \"\")","v":""}]
[{"$f":"'Pivot Table Data'!B450","v":0},{"$f":"'Pivot Table Data'!F450","v":"University Center"},{"$f":"'Pivot Table Data'!P450","v":"Gilman"},{"$f":"'Pivot Table Data'!I450","v":"Ground Floor (Gilman)"},{"$f":"'Pivot Table Data'!J450","v":"Accessible (Van)"},{"$f":"'Pivot Table Data'!K450","v":0},{"$f":"'Pivot Table Data'!L450","v":0},{"$f":"'Pivot Table Data'!S450","v":6},{"$f":"'Pivot Table Data'!T450","v":""},{"$f":"IF('Pivot Table Data'!O450=\"Yes\", 'Pivot Table Data'!T450, \"\")","v":""}]
[{"$f":"'Pivot Table Data'!B451","v":0},{"$f":"'Pivot Table Data'!F451","v":"University Center"},{"$f":"'Pivot Table Data'!P451","v":"Gilman"},{"$f":"'Pivot Table Data'!I451","v":"Ground Floor (Gilman)"},{"$f":"'Pivot Table Data'!J451","v":"Electric Vehicle"},{"$f":"'Pivot Table Data'!K451","v":"ADA"},{"$f":"'Pivot Table Data'!L451","v":0},{"$f":"'Pivot Table Data'!S451","v":1},{"$f":"'Pivot Table Data'!T451","v":1},{"$f":"IF('Pivot Table Data'!O451=\"Yes\", 'Pivot Table Data'!T451, \"\")","v":""}]
[{"$f":"'Pivot Table Data'!B452","v":0},{"$f":"'Pivot Table Data'!F452","v":"University Center"},{"$f":"'Pivot Table Data'!P452","v":"Gilman"},{"$f":"'Pivot Table Data'!I452","v":"Ground Floor (Gilman)"},{"$f":"'Pivot Table Data'!J452","v":"Electric Vehicle"},{"$f":"'Pivot Table Data'!K452","v":0},{"$f":"'Pivot Table Data'!L452","v":0},{"$f":"'Pivot Table Data'!S452","v":7},{"$f":"'Pivot Table Data'!T452","v":32},{"$f":"IF('Pivot Table Data'!O452=\"Yes\", 'Pivot Table Data'!T452, \"\")","v":""}]
[{"$f":"'Pivot Table Data'!B453","v":0},{"$f":"'Pivot Table Data'!F453","v":"University Center"},{"$f":"'Pivot Table Data'!P453","v":"Gilman"},{"$f":"'Pivot Table Data'!I453","v":"Ground Floor (Gilman)"},{"$f":"'Pivot Table Data'!J453","v":"Motorcycle Section"},{"$f":"'Pivot Table Data'!K453","v":0},{"$f":"'Pivot Table Data'!L453","v":0},{"$f":"'Pivot Table Data'!S453","v":12},{"$f":"'Pivot Table Data'!T453","v":12},{"$f":"IF('Pivot Table Data'!O453=\"Yes\", 'Pivot Table Data'!T453, \"\")","v":""}]
[{"$f":"'Pivot Table Data'!B454","v":0},{"$f":"'Pivot Table Data'!F454","v":"University Center"},{"$f":"'Pivot Table Data'!P454","v":"Gilman"},{"$f":"'Pivot Table Data'!I454","v":"Ground Floor (Gilman)"},{"$f":"'Pivot Table Data'!J454","v":"Reserved"},{"$f":"'Pivot Table Data'!K454","v":"Curbside"},{"$f":"'Pivot Table Data'!L454","v":0},{"$f":"'Pivot Table Data'!S454","v":5},{"$f":"'Pivot Table Data'!T454","v":5},{"$f":"IF('Pivot Table Data'!O454=\"Yes\", 'Pivot Table Data'!T454, \"\")","v":""}]
[{"$f":"'Pivot Table Data'!B455","v":0},{"$f":"'Pivot Table Data'!F455","v":"University Center"},{"$f":"'Pivot Table Data'!P455","v":"Gilman"},{"$f":"'Pivot Table Data'!I455","v":"Ground Floor (Gilman)"},{"$f":"'Pivot Table Data'!J455","v":"Reserved"},{"$f":"'Pivot Table Data'!K455","v":"Enterprise"},{"$f":"'Pivot Table Data'!L455","v":0},{"$f":"'Pivot Table Data'!S455","v":3},{"$f":"'Pivot Table Data'!T455","v":3},{"$f":"IF('Pivot Table Data'!O455=\"Yes\", 'Pivot Table Data'!T455, \"\")","v":""}]
[{"$f":"'Pivot Table Data'!B456","v":0},{"$f":"'Pivot Table Data'!F456","v":"University Center"},{"$f":"'Pivot Table Data'!P456","v":"Gilman"},{"$f":"'Pivot Table Data'!I456","v":"Ground Floor (Gilman)"},{"$f":"'Pivot Table Data'!J456","v":"Reserved"},{"$f":"'Pivot Table Data'!K456","v":0},{"$f":"'Pivot Table Data'!L456","v":0},{"$f":"'Pivot Table Data'!S456","v":3},{"$f":"'Pivot Table Data'!T456","v":""},{"$f":"IF('Pivot Table Data'!O456=\"Yes\", 'Pivot Table Data'!T456, \"\")","v":""}]
[{"$f":"'Pivot Table Data'!B457","v":0},{"$f":"'Pivot Table Data'!F457","v":"University Center"},{"$f":"'Pivot Table Data'!P457","v":"Gilman"},{"$f":"'Pivot Table Data'!I457","v":"Ground Floor (Gilman)"},{"$f":"'Pivot Table Data'!J457","v":"UC Vehicle"},{"$f":"'Pivot Table Data'!K457","v":"UC Cart"},{"$f":"'Pivot Table Data'!L457","v":0},{"$f":"'Pivot Table Data'!S457","v":1},{"$f":"'Pivot Table Data'!T457","v":12},{"$f":"IF('Pivot Table Data'!O457=\"Yes\", 'Pivot Table Data'!T457, \"\")","v":""}]
[{"$f":"'Pivot Table Data'!B458","v":0},{"$f":"'Pivot Table Data'!F458","v":"University Center"},{"$f":"'Pivot Table Data'!P458","v":"Gilman"},{"$f":"'Pivot Table Data'!I458","v":"Ground Floor (Gilman)"},{"$f":"'Pivot Table Data'!J458","v":"Visitor"},{"$f":"'Pivot Table Data'!K458","v":"2 hour"},{"$f":"'Pivot Table Data'!L458","v":"2 hour"},{"$f":"'Pivot Table Data'!S458","v":60},{"$f":"'Pivot Table Data'!T458","v":""},{"$f":"IF('Pivot Table Data'!O458=\"Yes\", 'Pivot Table Data'!T458, \"\")","v":""}]
[{"$f":"'Pivot Table Data'!B459","v":0},{"$f":"'Pivot Table Data'!F459","v":"University Center"},{"$f":"'Pivot Table Data'!P459","v":"Gilman"},{"$f":"'Pivot Table Data'!I459","v":"Ground Floor (Gilman)"},{"$f":"'Pivot Table Data'!J459","v":"Visitor"},{"$f":"'Pivot Table Data'!K459","v":0},{"$f":"'Pivot Table Data'!L459","v":0},{"$f":"'Pivot Table Data'!S459","v":0},{"$f":"'Pivot Table Data'!T459","v":""},{"$f":"IF('Pivot Table Data'!O459=\"Yes\", 'Pivot Table Data'!T459, \"\")","v":""}]
[{"$f":"'Pivot Table Data'!B460","v":0},{"$f":"'Pivot Table Data'!F460","v":"University Center"},{"$f":"'Pivot Table Data'!P460","v":"Gilman"},{"$f":"'Pivot Table Data'!I460","v":"L2"},{"$f":"'Pivot Table Data'!J460","v":"A"},{"$f":"'Pivot Table Data'!K460","v":0},{"$f":"'Pivot Table Data'!L460","v":0},{"$f":"'Pivot Table Data'!S460","v":93},{"$f":"'Pivot Table Data'!T460","v":401},{"$f":"IF('Pivot Table Data'!O460=\"Yes\", 'Pivot Table Data'!T460, \"\")","v":401}]
[{"$f":"'Pivot Table Data'!B461","v":0},{"$f":"'Pivot Table Data'!F461","v":"University Center"},{"$f":"'Pivot Table Data'!P461","v":"Gilman"},{"$f":"'Pivot Table Data'!I461","v":"L2"},{"$f":"'Pivot Table Data'!J461","v":"Electric Vehicle"},{"$f":"'Pivot Table Data'!K461","v":0},{"$f":"'Pivot Table Data'!L461","v":0},{"$f":"'Pivot Table Data'!S461","v":25},{"$f":"'Pivot Table Data'!T461","v":""},{"$f":"IF('Pivot Table Data'!O461=\"Yes\", 'Pivot Table Data'!T461, \"\")","v":""}]
[{"$f":"'Pivot Table Data'!B462","v":0},{"$f":"'Pivot Table Data'!F462","v":"University Center"},{"$f":"'Pivot Table Data'!P462","v":"Gilman"},{"$f":"'Pivot Table Data'!I462","v":"L2"},{"$f":"'Pivot Table Data'!J462","v":"UC Vehicle"},{"$f":"'Pivot Table Data'!K462","v":"UC Cart"},{"$f":"'Pivot Table Data'!L462","v":0},{"$f":"'Pivot Table Data'!S462","v":4},{"$f":"'Pivot Table Data'!T462","v":""},{"$f":"IF('Pivot Table Data'!O462=\"Yes\", 'Pivot Table Data'!T462, \"\")","v":""}]
[{"$f":"'Pivot Table Data'!B463","v":0},{"$f":"'Pivot Table Data'!F463","v":"University Center"},{"$f":"'Pivot Table Data'!P463","v":"Gilman"},{"$f":"'Pivot Table Data'!I463","v":"L2"},{"$f":"'Pivot Table Data'!J463","v":"Visitor"},{"$f":"'Pivot Table Data'!K463","v":"2 hour"},{"$f":"'Pivot Table Data'!L463","v":"2 hour"},{"$f":"'Pivot Table Data'!S463","v":37},{"$f":"'Pivot Table Data'!T463","v":""},{"$f":"IF('Pivot Table Data'!O463=\"Yes\", 'Pivot Table Data'!T463, \"\")","v":""}]
[{"$f":"'Pivot Table Data'!B464","v":0},{"$f":"'Pivot Table Data'!F464","v":"University Center"},{"$f":"'Pivot Table Data'!P464","v":"Gilman"},{"$f":"'Pivot Table Data'!I464","v":"L2"},{"$f":"'Pivot Table Data'!J464","v":"Visitor"},{"$f":"'Pivot Table Data'!K464","v":0},{"$f":"'Pivot Table Data'!L464","v":0},{"$f":"'Pivot Table Data'!S464","v":0},{"$f":"'Pivot Table Data'!T464","v":""},{"$f":"IF('Pivot Table Data'!O464=\"Yes\", 'Pivot Table Data'!T464, \"\")","v":""}]
[{"$f":"'Pivot Table Data'!B465","v":0},{"$f":"'Pivot Table Data'!F465","v":"University Center"},{"$f":"'Pivot Table Data'!P465","v":"Gilman"},{"$f":"'Pivot Table Data'!I465","v":"L3"},{"$f":"'Pivot Table Data'!J465","v":"A"},{"$f":"'Pivot Table Data'!K465","v":0},{"$f":"'Pivot Table Data'!L465","v":0},{"$f":"'Pivot Table Data'!S465","v":153},{"$f":"'Pivot Table Data'!T465","v":""},{"$f":"IF('Pivot Table Data'!O465=\"Yes\", 'Pivot Table Data'!T465, \"\")","v":""}]
[{"$f":"'Pivot Table Data'!B466","v":0},{"$f":"'Pivot Table Data'!F466","v":"University Center"},{"$f":"'Pivot Table Data'!P466","v":"Gilman"},{"$f":"'Pivot Table Data'!I466","v":"L3"},{"$f":"'Pivot Table Data'!J466","v":"UC Vehicle"},{"$f":"'Pivot Table Data'!K466","v":"UC Cart"},{"$f":"'Pivot Table Data'!L466","v":0},{"$f":"'Pivot Table Data'!S466","v":4},{"$f":"'Pivot Table Data'!T466","v":""},{"$f":"IF('Pivot Table Data'!O466=\"Yes\", 'Pivot Table Data'!T466, \"\")","v":""}]
[{"$f":"'Pivot Table Data'!B467","v":0},{"$f":"'Pivot Table Data'!F467","v":"University Center"},{"$f":"'Pivot Table Data'!P467","v":"Gilman"},{"$f":"'Pivot Table Data'!I467","v":"L4"},{"$f":"'Pivot Table Data'!J467","v":"A"},{"$f":"'Pivot Table Data'!K467","v":0},{"$f":"'Pivot Table Data'!L467","v":0},{"$f":"'Pivot Table Data'!S467","v":155},{"$f":"'Pivot Table Data'!T467","v":""},{"$f":"IF('Pivot Table Data'!O467=\"Yes\", 'Pivot Table Data'!T467, \"\")","v":""}]
[{"$f":"'Pivot Table Data'!B468","v":0},{"$f":"'Pivot Table Data'!F468","v":"University Center"},{"$f":"'Pivot Table Data'!P468","v":"Gilman"},{"$f":"'Pivot Table Data'!I468","v":"L4"},{"$f":"'Pivot Table Data'!J468","v":"UC Vehicle"},{"$f":"'Pivot Table Data'!K468","v":"UC Cart"},{"$f":"'Pivot Table Data'!L468","v":0},{"$f":"'Pivot Table Data'!S468","v":3},{"$f":"'Pivot Table Data'!T468","v":""},{"$f":"IF('Pivot Table Data'!O468=\"Yes\", 'Pivot Table Data'!T468, \"\")","v":""}]
[{"$f":"'Pivot Table Data'!B469","v":0},{"$f":"'Pivot Table Data'!F469","v":"University Center"},{"$f":"'Pivot Table Data'!P469","v":"Gilman"},{"$f":"'Pivot Table Data'!I469","v":"Roof"},{"$f":"'Pivot Table Data'!J469","v":"B"},{"$f":"'Pivot Table Data'!K469","v":0},{"$f":"'Pivot Table Data'!L469","v":0},{"$f":"'Pivot Table Data'!S469","v":123},{"$f":"'Pivot Table Data'!T469","v":123},{"$f":"IF('Pivot Table Data'!O469=\"Yes\", 'Pivot Table Data'!T469, \"\")","v":123}]
[{"$f":"'Pivot Table Data'!B470","v":0},{"$f":"'Pivot Table Data'!F470","v":"Roosevelt College"},{"$f":"'Pivot Table Data'!P470","v":"Hopkins"},{"$f":"'Pivot Table Data'!I470","v":"B2"},{"$f":"'Pivot Table Data'!J470","v":"Motorcycle Section"},{"$f":"'Pivot Table Data'!K470","v":0},{"$f":"'Pivot Table Data'!L470","v":0},{"$f":"'Pivot Table Data'!S470","v":7},{"$f":"'Pivot Table Data'!T470","v":21},{"$f":"IF('Pivot Table Data'!O470=\"Yes\", 'Pivot Table Data'!T470, \"\")","v":""}]
[{"$f":"'Pivot Table Data'!B471","v":0},{"$f":"'Pivot Table Data'!F471","v":"Roosevelt College"},{"$f":"'Pivot Table Data'!P471","v":"Hopkins"},{"$f":"'Pivot Table Data'!I471","v":"B2"},{"$f":"'Pivot Table Data'!J471","v":"Reserved"},{"$f":"'Pivot Table Data'!K471","v":"V2G"},{"$f":"'Pivot Table Data'!L471","v":0},{"$f":"'Pivot Table Data'!S471","v":0},{"$f":"'Pivot Table Data'!T471","v":0},{"$f":"IF('Pivot Table Data'!O471=\"Yes\", 'Pivot Table Data'!T471, \"\")","v":""}]
[{"$f":"'Pivot Table Data'!B472","v":0},{"$f":"'Pivot Table Data'!F472","v":"Roosevelt College"},{"$f":"'Pivot Table Data'!P472","v":"Hopkins"},{"$f":"'Pivot Table Data'!I472","v":"B2"},{"$f":"'Pivot Table Data'!J472","v":"S"},{"$f":"'Pivot Table Data'!K472","v":0},{"$f":"'Pivot Table Data'!L472","v":0},{"$f":"'Pivot Table Data'!S472","v":174},{"$f":"'Pivot Table Data'!T472","v":174},{"$f":"IF('Pivot Table Data'!O472=\"Yes\", 'Pivot Table Data'!T472, \"\")","v":174}]
[{"$f":"'Pivot Table Data'!B473","v":0},{"$f":"'Pivot Table Data'!F473","v":"Roosevelt College"},{"$f":"'Pivot Table Data'!P473","v":"Hopkins"},{"$f":"'Pivot Table Data'!I473","v":"B2"},{"$f":"'Pivot Table Data'!J473","v":"SR"},{"$f":"'Pivot Table Data'!K473","v":0},{"$f":"'Pivot Table Data'!L473","v":0},{"$f":"'Pivot Table Data'!S473","v":51},{"$f":"'Pivot Table Data'!T473","v":51},{"$f":"IF('Pivot Table Data'!O473=\"Yes\", 'Pivot Table Data'!T473, \"\")","v":51}]
[{"$f":"'Pivot Table Data'!B474","v":0},{"$f":"'Pivot Table Data'!F474","v":"Roosevelt College"},{"$f":"'Pivot Table Data'!P474","v":"Hopkins"},{"$f":"'Pivot Table Data'!I474","v":"B2"},{"$f":"'Pivot Table Data'!J474","v":"UC Vehicle"},{"$f":"'Pivot Table Data'!K474","v":0},{"$f":"'Pivot Table Data'!L474","v":0},{"$f":"'Pivot Table Data'!S474","v":9},{"$f":"'Pivot Table Data'!T474","v":9},{"$f":"IF('Pivot Table Data'!O474=\"Yes\", 'Pivot Table Data'!T474, \"\")","v":""}]
[{"$f":"'Pivot Table Data'!B475","v":0},{"$f":"'Pivot Table Data'!F475","v":"Roosevelt College"},{"$f":"'Pivot Table Data'!P475","v":"Hopkins"},{"$f":"'Pivot Table Data'!I475","v":"B1"},{"$f":"'Pivot Table Data'!J475","v":"Accessible"},{"$f":"'Pivot Table Data'!K475","v":0},{"$f":"'Pivot Table Data'!L475","v":0},{"$f":"'Pivot Table Data'!S475","v":3},{"$f":"'Pivot Table Data'!T475","v":17},{"$f":"IF('Pivot Table Data'!O475=\"Yes\", 'Pivot Table Data'!T475, \"\")","v":""}]
[{"$f":"'Pivot Table Data'!B476","v":0},{"$f":"'Pivot Table Data'!F476","v":"Roosevelt College"},{"$f":"'Pivot Table Data'!P476","v":"Hopkins"},{"$f":"'Pivot Table Data'!I476","v":"B1"},{"$f":"'Pivot Table Data'!J476","v":"Accessible (Van)"},{"$f":"'Pivot Table Data'!K476","v":0},{"$f":"'Pivot Table Data'!L476","v":0},{"$f":"'Pivot Table Data'!S476","v":0},{"$f":"'Pivot Table Data'!T476","v":5},{"$f":"IF('Pivot Table Data'!O476=\"Yes\", 'Pivot Table Data'!T476, \"\")","v":""}]
[{"$f":"'Pivot Table Data'!B477","v":0},{"$f":"'Pivot Table Data'!F477","v":"Roosevelt College"},{"$f":"'Pivot Table Data'!P477","v":"Hopkins"},{"$f":"'Pivot Table Data'!I477","v":"B1"},{"$f":"'Pivot Table Data'!J477","v":"Accessible (Van)"},{"$f":"'Pivot Table Data'!K477","v":0},{"$f":"'Pivot Table Data'!L477","v":0},{"$f":"'Pivot Table Data'!S477","v":0},{"$f":"'Pivot Table Data'!T477","v":""},{"$f":"IF('Pivot Table Data'!O477=\"Yes\", 'Pivot Table Data'!T477, \"\")","v":""}]
[{"$f":"'Pivot Table Data'!B478","v":0},{"$f":"'Pivot Table Data'!F478","v":"Roosevelt College"},{"$f":"'Pivot Table Data'!P478","v":"Hopkins"},{"$f":"'Pivot Table Data'!I478","v":"B1"},{"$f":"'Pivot Table Data'!J478","v":"B"},{"$f":"'Pivot Table Data'!K478","v":0},{"$f":"'Pivot Table Data'!L478","v":0},{"$f":"'Pivot Table Data'!S478","v":93},{"$f":"'Pivot Table Data'!T478","v":639},{"$f":"IF('Pivot Table Data'!O478=\"Yes\", 'Pivot Table Data'!T478, \"\")","v":639}]
[{"$f":"'Pivot Table Data'!B479","v":0},{"$f":"'Pivot Table Data'!F479","v":"Roosevelt College"},{"$f":"'Pivot Table Data'!P479","v":"Hopkins"},{"$f":"'Pivot Table Data'!I479","v":"B1"},{"$f":"'Pivot Table Data'!J479","v":"Carpool"},{"$f":"'Pivot Table Data'!K479","v":"2 Person"},{"$f":"'Pivot Table Data'!L479","v":0},{"$f":"'Pivot Table Data'!S479","v":63},{"$f":"'Pivot Table Data'!T479","v":78},{"$f":"IF('Pivot Table Data'!O479=\"Yes\", 'Pivot Table Data'!T479, \"\")","v":78}]
[{"$f":"'Pivot Table Data'!B480","v":0},{"$f":"'Pivot Table Data'!F480","v":"Roosevelt College"},{"$f":"'Pivot Table Data'!P480","v":"Hopkins"},{"$f":"'Pivot Table Data'!I480","v":"B1"},{"$f":"'Pivot Table Data'!J480","v":"Electric Vehicle"},{"$f":"'Pivot Table Data'!K480","v":"ADA"},{"$f":"'Pivot Table Data'!L480","v":0},{"$f":"'Pivot Table Data'!S480","v":2},{"$f":"'Pivot Table Data'!T480","v":2},{"$f":"IF('Pivot Table Data'!O480=\"Yes\", 'Pivot Table Data'!T480, \"\")","v":""}]
[{"$f":"'Pivot Table Data'!B481","v":0},{"$f":"'Pivot Table Data'!F481","v":"Roosevelt College"},{"$f":"'Pivot Table Data'!P481","v":"Hopkins"},{"$f":"'Pivot Table Data'!I481","v":"B1"},{"$f":"'Pivot Table Data'!J481","v":"Electric Vehicle"},{"$f":"'Pivot Table Data'!K481","v":0},{"$f":"'Pivot Table Data'!L481","v":0},{"$f":"'Pivot Table Data'!S481","v":20},{"$f":"'Pivot Table Data'!T481","v":20},{"$f":"IF('Pivot Table Data'!O481=\"Yes\", 'Pivot Table Data'!T481, \"\")","v":""}]
[{"$f":"'Pivot Table Data'!B482","v":0},{"$f":"'Pivot Table Data'!F482","v":"Roosevelt College"},{"$f":"'Pivot Table Data'!P482","v":"Hopkins"},{"$f":"'Pivot Table Data'!I482","v":"B1"},{"$f":"'Pivot Table Data'!J482","v":"Motorcycle Section"},{"$f":"'Pivot Table Data'!K482","v":0},{"$f":"'Pivot Table Data'!L482","v":0},{"$f":"'Pivot Table Data'!S482","v":7},{"$f":"'Pivot Table Data'!T482","v":""},{"$f":"IF('Pivot Table Data'!O482=\"Yes\", 'Pivot Table Data'!T482, \"\")","v":""}]
[{"$f":"'Pivot Table Data'!B483","v":0},{"$f":"'Pivot Table Data'!F483","v":"Roosevelt College"},{"$f":"'Pivot Table Data'!P483","v":"Hopkins"},{"$f":"'Pivot Table Data'!I483","v":"B1"},{"$f":"'Pivot Table Data'!J483","v":"Reserved"},{"$f":"'Pivot Table Data'!K483","v":0},{"$f":"'Pivot Table Data'!L483","v":0},{"$f":"'Pivot Table Data'!S483","v":6},{"$f":"'Pivot Table Data'!T483","v":10},{"$f":"IF('Pivot Table Data'!O483=\"Yes\", 'Pivot Table Data'!T483, \"\")","v":""}]
[{"$f":"'Pivot Table Data'!B484","v":0},{"$f":"'Pivot Table Data'!F484","v":"Roosevelt College"},{"$f":"'Pivot Table Data'!P484","v":"Hopkins"},{"$f":"'Pivot Table Data'!I484","v":"B1"},{"$f":"'Pivot Table Data'!J484","v":"S"},{"$f":"'Pivot Table Data'!K484","v":0},{"$f":"'Pivot Table Data'!L484","v":0},{"$f":"'Pivot Table Data'!S484","v":0},{"$f":"'Pivot Table Data'!T484","v":""},{"$f":"IF('Pivot Table Data'!O484=\"Yes\", 'Pivot Table Data'!T484, \"\")","v":""}]
[{"$f":"'Pivot Table Data'!B485","v":0},{"$f":"'Pivot Table Data'!F485","v":"Roosevelt College"},{"$f":"'Pivot Table Data'!P485","v":"Hopkins"},{"$f":"'Pivot Table Data'!I485","v":"B1"},{"$f":"'Pivot Table Data'!J485","v":"Visitor"},{"$f":"'Pivot Table Data'!K485","v":"5 Minute"},{"$f":"'Pivot Table Data'!L485","v":"5 minutes"},{"$f":"'Pivot Table Data'!S485","v":1},{"$f":"'Pivot Table Data'!T485","v":1},{"$f":"IF('Pivot Table Data'!O485=\"Yes\", 'Pivot Table Data'!T485, \"\")","v":1}]
[{"$f":"'Pivot Table Data'!B486","v":0},{"$f":"'Pivot Table Data'!F486","v":"Roosevelt College"},{"$f":"'Pivot Table Data'!P486","v":"Hopkins"},{"$f":"'Pivot Table Data'!I486","v":"Ground Floor"},{"$f":"'Pivot Table Data'!J486","v":"B"},{"$f":"'Pivot Table Data'!K486","v":0},{"$f":"'Pivot Table Data'!L486","v":0},{"$f":"'Pivot Table Data'!S486","v":197},{"$f":"'Pivot Table Data'!T486","v":""},{"$f":"IF('Pivot Table Data'!O486=\"Yes\", 'Pivot Table Data'!T486, \"\")","v":""}]
[{"$f":"'Pivot Table Data'!B487","v":0},{"$f":"'Pivot Table Data'!F487","v":"Roosevelt College"},{"$f":"'Pivot Table Data'!P487","v":"Hopkins"},{"$f":"'Pivot Table Data'!I487","v":"Ground Floor"},{"$f":"'Pivot Table Data'!J487","v":"Carpool"},{"$f":"'Pivot Table Data'!K487","v":"2 Person"},{"$f":"'Pivot Table Data'!L487","v":0},{"$f":"'Pivot Table Data'!S487","v":15},{"$f":"'Pivot Table Data'!T487","v":""},{"$f":"IF('Pivot Table Data'!O487=\"Yes\", 'Pivot Table Data'!T487, \"\")","v":""}]
[{"$f":"'Pivot Table Data'!B488","v":0},{"$f":"'Pivot Table Data'!F488","v":"Roosevelt College"},{"$f":"'Pivot Table Data'!P488","v":"Hopkins"},{"$f":"'Pivot Table Data'!I488","v":"L2"},{"$f":"'Pivot Table Data'!J488","v":"B"},{"$f":"'Pivot Table Data'!K488","v":0},{"$f":"'Pivot Table Data'!L488","v":0},{"$f":"'Pivot Table Data'!S488","v":209},{"$f":"'Pivot Table Data'!T488","v":""},{"$f":"IF('Pivot Table Data'!O488=\"Yes\", 'Pivot Table Data'!T488, \"\")","v":""}]
[{"$f":"'Pivot Table Data'!B489","v":0},{"$f":"'Pivot Table Data'!F489","v":"Roosevelt College"},{"$f":"'Pivot Table Data'!P489","v":"Hopkins"},{"$f":"'Pivot Table Data'!I489","v":"L2"},{"$f":"'Pivot Table Data'!J489","v":"Motorcycle Section"},{"$f":"'Pivot Table Data'!K489","v":0},{"$f":"'Pivot Table Data'!L489","v":0},{"$f":"'Pivot Table Data'!S489","v":7},{"$f":"'Pivot Table Data'!T489","v":""},{"$f":"IF('Pivot Table Data'!O489=\"Yes\", 'Pivot Table Data'!T489, \"\")","v":""}]
[{"$f":"'Pivot Table Data'!B490","v":0},{"$f":"'Pivot Table Data'!F490","v":"Roosevelt College"},{"$f":"'Pivot Table Data'!P490","v":"Hopkins"},{"$f":"'Pivot Table Data'!I490","v":"L3"},{"$f":"'Pivot Table Data'!J490","v":"A"},{"$f":"'Pivot Table Data'!K490","v":0},{"$f":"'Pivot Table Data'!L490","v":0},{"$f":"'Pivot Table Data'!S490","v":62},{"$f":"'Pivot Table Data'!T490","v":295},{"$f":"IF('Pivot Table Data'!O490=\"Yes\", 'Pivot Table Data'!T490, \"\")","v":295}]
[{"$f":"'Pivot Table Data'!B491","v":0},{"$f":"'Pivot Table Data'!F491","v":"Roosevelt College"},{"$f":"'Pivot Table Data'!P491","v":"Hopkins"},{"$f":"'Pivot Table Data'!I491","v":"L3"},{"$f":"'Pivot Table Data'!J491","v":"Accessible"},{"$f":"'Pivot Table Data'!K491","v":0},{"$f":"'Pivot Table Data'!L491","v":0},{"$f":"'Pivot Table Data'!S491","v":0},{"$f":"'Pivot Table Data'!T491","v":""},{"$f":"IF('Pivot Table Data'!O491=\"Yes\", 'Pivot Table Data'!T491, \"\")","v":""}]
[{"$f":"'Pivot Table Data'!B492","v":0},{"$f":"'Pivot Table Data'!F492","v":"Roosevelt College"},{"$f":"'Pivot Table Data'!P492","v":"Hopkins"},{"$f":"'Pivot Table Data'!I492","v":"L3"},{"$f":"'Pivot Table Data'!J492","v":"Accessible (Van)"},{"$f":"'Pivot Table Data'!K492","v":0},{"$f":"'Pivot Table Data'!L492","v":0},{"$f":"'Pivot Table Data'!S492","v":0},{"$f":"'Pivot Table Data'!T492","v":""},{"$f":"IF('Pivot Table Data'!O492=\"Yes\", 'Pivot Table Data'!T492, \"\")","v":""}]
[{"$f":"'Pivot Table Data'!B493","v":0},{"$f":"'Pivot Table Data'!F493","v":"Roosevelt College"},{"$f":"'Pivot Table Data'!P493","v":"Hopkins"},{"$f":"'Pivot Table Data'!I493","v":"L3"},{"$f":"'Pivot Table Data'!J493","v":"B"},{"$f":"'Pivot Table Data'!K493","v":0},{"$f":"'Pivot Table Data'!L493","v":0},{"$f":"'Pivot Table Data'!S493","v":140},{"$f":"'Pivot Table Data'!T493","v":""},{"$f":"IF('Pivot Table Data'!O493=\"Yes\", 'Pivot Table Data'!T493, \"\")","v":""}]
[{"$f":"'Pivot Table Data'!B494","v":0},{"$f":"'Pivot Table Data'!F494","v":"Roosevelt College"},{"$f":"'Pivot Table Data'!P494","v":"Hopkins"},{"$f":"'Pivot Table Data'!I494","v":"L3"},{"$f":"'Pivot Table Data'!J494","v":"Carpool"},{"$f":"'Pivot Table Data'!K494","v":"S 3-Person"},{"$f":"'Pivot Table Data'!L494","v":0},{"$f":"'Pivot Table Data'!S494","v":6},{"$f":"'Pivot Table Data'!T494","v":6},{"$f":"IF('Pivot Table Data'!O494=\"Yes\", 'Pivot Table Data'!T494, \"\")","v":6}]
[{"$f":"'Pivot Table Data'!B495","v":0},{"$f":"'Pivot Table Data'!F495","v":"Roosevelt College"},{"$f":"'Pivot Table Data'!P495","v":"Hopkins"},{"$f":"'Pivot Table Data'!I495","v":"L3"},{"$f":"'Pivot Table Data'!J495","v":"Carpool"},{"$f":"'Pivot Table Data'!K495","v":"S 3-Person"},{"$f":"'Pivot Table Data'!L495","v":0},{"$f":"'Pivot Table Data'!S495","v":0},{"$f":"'Pivot Table Data'!T495","v":""},{"$f":"IF('Pivot Table Data'!O495=\"Yes\", 'Pivot Table Data'!T495, \"\")","v":""}]
[{"$f":"'Pivot Table Data'!B496","v":0},{"$f":"'Pivot Table Data'!F496","v":"Roosevelt College"},{"$f":"'Pivot Table Data'!P496","v":"Hopkins"},{"$f":"'Pivot Table Data'!I496","v":"L4"},{"$f":"'Pivot Table Data'!J496","v":"A"},{"$f":"'Pivot Table Data'!K496","v":0},{"$f":"'Pivot Table Data'!L496","v":0},{"$f":"'Pivot Table Data'!S496","v":175},{"$f":"'Pivot Table Data'!T496","v":""},{"$f":"IF('Pivot Table Data'!O496=\"Yes\", 'Pivot Table Data'!T496, \"\")","v":""}]
[{"$f":"'Pivot Table Data'!B497","v":0},{"$f":"'Pivot Table Data'!F497","v":"Roosevelt College"},{"$f":"'Pivot Table Data'!P497","v":"Hopkins"},{"$f":"'Pivot Table Data'!I497","v":"L4"},{"$f":"'Pivot Table Data'!J497","v":"Accessible"},{"$f":"'Pivot Table Data'!K497","v":0},{"$f":"'Pivot Table Data'!L497","v":0},{"$f":"'Pivot Table Data'!S497","v":13},{"$f":"'Pivot Table Data'!T497","v":""},{"$f":"IF('Pivot Table Data'!O497=\"Yes\", 'Pivot Table Data'!T497, \"\")","v":""}]
[{"$f":"'Pivot Table Data'!B498","v":0},{"$f":"'Pivot Table Data'!F498","v":"Roosevelt College"},{"$f":"'Pivot Table Data'!P498","v":"Hopkins"},{"$f":"'Pivot Table Data'!I498","v":"L4"},{"$f":"'Pivot Table Data'!J498","v":"Accessible (Van)"},{"$f":"'Pivot Table Data'!K498","v":0},{"$f":"'Pivot Table Data'!L498","v":0},{"$f":"'Pivot Table Data'!S498","v":2},{"$f":"'Pivot Table Data'!T498","v":""},{"$f":"IF('Pivot Table Data'!O498=\"Yes\", 'Pivot Table Data'!T498, \"\")","v":""}]
[{"$f":"'Pivot Table Data'!B499","v":0},{"$f":"'Pivot Table Data'!F499","v":"Roosevelt College"},{"$f":"'Pivot Table Data'!P499","v":"Hopkins"},{"$f":"'Pivot Table Data'!I499","v":"L4"},{"$f":"'Pivot Table Data'!J499","v":"Reserved"},{"$f":"'Pivot Table Data'!K499","v":0},{"$f":"'Pivot Table Data'!L499","v":0},{"$f":"'Pivot Table Data'!S499","v":1},{"$f":"'Pivot Table Data'!T499","v":""},{"$f":"IF('Pivot Table Data'!O499=\"Yes\", 'Pivot Table Data'!T499, \"\")","v":""}]
[{"$f":"'Pivot Table Data'!B500","v":0},{"$f":"'Pivot Table Data'!F500","v":"Roosevelt College"},{"$f":"'Pivot Table Data'!P500","v":"Hopkins"},{"$f":"'Pivot Table Data'!I500","v":"Roof"},{"$f":"'Pivot Table Data'!J500","v":"A"},{"$f":"'Pivot Table Data'!K500","v":0},{"$f":"'Pivot Table Data'!L500","v":0},{"$f":"'Pivot Table Data'!S500","v":58},{"$f":"'Pivot Table Data'!T500","v":""},{"$f":"IF('Pivot Table Data'!O500=\"Yes\", 'Pivot Table Data'!T500, \"\")","v":""}]
[{"$f":"'Pivot Table Data'!B501","v":0},{"$f":"'Pivot Table Data'!F501","v":"Roosevelt College"},{"$f":"'Pivot Table Data'!P501","v":"Hopkins"},{"$f":"'Pivot Table Data'!I501","v":"Roof"},{"$f":"'Pivot Table Data'!J501","v":"Accessible"},{"$f":"'Pivot Table Data'!K501","v":0},{"$f":"'Pivot Table Data'!L501","v":0},{"$f":"'Pivot Table Data'!S501","v":1},{"$f":"'Pivot Table Data'!T501","v":""},{"$f":"IF('Pivot Table Data'!O501=\"Yes\", 'Pivot Table Data'!T501, \"\")","v":""}]
[{"$f":"'Pivot Table Data'!B502","v":0},{"$f":"'Pivot Table Data'!F502","v":"Roosevelt College"},{"$f":"'Pivot Table Data'!P502","v":"Hopkins"},{"$f":"'Pivot Table Data'!I502","v":"Roof"},{"$f":"'Pivot Table Data'!J502","v":"Accessible (Van)"},{"$f":"'Pivot Table Data'!K502","v":0},{"$f":"'Pivot Table Data'!L502","v":0},{"$f":"'Pivot Table Data'!S502","v":3},{"$f":"'Pivot Table Data'!T502","v":""},{"$f":"IF('Pivot Table Data'!O502=\"Yes\", 'Pivot Table Data'!T502, \"\")","v":""}]
[{"$f":"'Pivot Table Data'!B503","v":0},{"$f":"'Pivot Table Data'!F503","v":"Roosevelt College"},{"$f":"'Pivot Table Data'!P503","v":"Hopkins"},{"$f":"'Pivot Table Data'!I503","v":"Roof"},{"$f":"'Pivot Table Data'!J503","v":"Reserved"},{"$f":"'Pivot Table Data'!K503","v":0},{"$f":"'Pivot Table Data'!L503","v":0},{"$f":"'Pivot Table Data'!S503","v":3},{"$f":"'Pivot Table Data'!T503","v":""},{"$f":"IF('Pivot Table Data'!O503=\"Yes\", 'Pivot Table Data'!T503, \"\")","v":""}]
[{"$f":"'Pivot Table Data'!B504","v":0},{"$f":"'Pivot Table Data'!F504","v":"Roosevelt College"},{"$f":"'Pivot Table Data'!P504","v":"Hopkins"},{"$f":"'Pivot Table Data'!I504","v":"Roof"},{"$f":"'Pivot Table Data'!J504","v":"Visitor"},{"$f":"'Pivot Table Data'!K504","v":0},{"$f":"'Pivot Table Data'!L504","v":0},{"$f":"'Pivot Table Data'!S504","v":90},{"$f":"'Pivot Table Data'!T504","v":90},{"$f":"IF('Pivot Table Data'!O504=\"Yes\", 'Pivot Table Data'!T504, \"\")","v":90}]
[{"$f":"'Pivot Table Data'!B505","v":0},{"$f":"'Pivot Table Data'!F505","v":"Roosevelt College"},{"$f":"'Pivot Table Data'!P505","v":"Pangea"},{"$f":"'Pivot Table Data'!I505","v":"B5"},{"$f":"'Pivot Table Data'!J505","v":"S"},{"$f":"'Pivot Table Data'!K505","v":0},{"$f":"'Pivot Table Data'!L505","v":0},{"$f":"'Pivot Table Data'!S505","v":199},{"$f":"'Pivot Table Data'!T505","v":199},{"$f":"IF('Pivot Table Data'!O505=\"Yes\", 'Pivot Table Data'!T505, \"\")","v":199}]
[{"$f":"'Pivot Table Data'!B506","v":0},{"$f":"'Pivot Table Data'!F506","v":"Roosevelt College"},{"$f":"'Pivot Table Data'!P506","v":"Pangea"},{"$f":"'Pivot Table Data'!I506","v":"B5"},{"$f":"'Pivot Table Data'!J506","v":"SR"},{"$f":"'Pivot Table Data'!K506","v":0},{"$f":"'Pivot Table Data'!L506","v":0},{"$f":"'Pivot Table Data'!S506","v":0},{"$f":"'Pivot Table Data'!T506","v":184},{"$f":"IF('Pivot Table Data'!O506=\"Yes\", 'Pivot Table Data'!T506, \"\")","v":184}]
[{"$f":"'Pivot Table Data'!B507","v":0},{"$f":"'Pivot Table Data'!F507","v":"Roosevelt College"},{"$f":"'Pivot Table Data'!P507","v":"Pangea"},{"$f":"'Pivot Table Data'!I507","v":"B4"},{"$f":"'Pivot Table Data'!J507","v":"S"},{"$f":"'Pivot Table Data'!K507","v":0},{"$f":"'Pivot Table Data'!L507","v":0},{"$f":"'Pivot Table Data'!S507","v":0},{"$f":"'Pivot Table Data'!T507","v":""},{"$f":"IF('Pivot Table Data'!O507=\"Yes\", 'Pivot Table Data'!T507, \"\")","v":""}]
[{"$f":"'Pivot Table Data'!B508","v":0},{"$f":"'Pivot Table Data'!F508","v":"Roosevelt College"},{"$f":"'Pivot Table Data'!P508","v":"Pangea"},{"$f":"'Pivot Table Data'!I508","v":"B4"},{"$f":"'Pivot Table Data'!J508","v":"SR"},{"$f":"'Pivot Table Data'!K508","v":0},{"$f":"'Pivot Table Data'!L508","v":0},{"$f":"'Pivot Table Data'!S508","v":184},{"$f":"'Pivot Table Data'!T508","v":""},{"$f":"IF('Pivot Table Data'!O508=\"Yes\", 'Pivot Table Data'!T508, \"\")","v":""}]
[{"$f":"'Pivot Table Data'!B509","v":0},{"$f":"'Pivot Table Data'!F509","v":"Roosevelt College"},{"$f":"'Pivot Table Data'!P509","v":"Pangea"},{"$f":"'Pivot Table Data'!I509","v":"B4"},{"$f":"'Pivot Table Data'!J509","v":"UC Vehicle"},{"$f":"'Pivot Table Data'!K509","v":0},{"$f":"'Pivot Table Data'!L509","v":0},{"$f":"'Pivot Table Data'!S509","v":1},{"$f":"'Pivot Table Data'!T509","v":3},{"$f":"IF('Pivot Table Data'!O509=\"Yes\", 'Pivot Table Data'!T509, \"\")","v":""}]
[{"$f":"'Pivot Table Data'!B510","v":0},{"$f":"'Pivot Table Data'!F510","v":"Roosevelt College"},{"$f":"'Pivot Table Data'!P510","v":"Pangea"},{"$f":"'Pivot Table Data'!I510","v":"B3"},{"$f":"'Pivot Table Data'!J510","v":"B"},{"$f":"'Pivot Table Data'!K510","v":0},{"$f":"'Pivot Table Data'!L510","v":0},{"$f":"'Pivot Table Data'!S510","v":189},{"$f":"'Pivot Table Data'!T510","v":387},{"$f":"IF('Pivot Table Data'!O510=\"Yes\", 'Pivot Table Data'!T510, \"\")","v":387}]
[{"$f":"'Pivot Table Data'!B511","v":0},{"$f":"'Pivot Table Data'!F511","v":"Roosevelt College"},{"$f":"'Pivot Table Data'!P511","v":"Pangea"},{"$f":"'Pivot Table Data'!I511","v":"B3"},{"$f":"'Pivot Table Data'!J511","v":"Motorcycle Section"},{"$f":"'Pivot Table Data'!K511","v":0},{"$f":"'Pivot Table Data'!L511","v":0},{"$f":"'Pivot Table Data'!S511","v":30},{"$f":"'Pivot Table Data'!T511","v":30},{"$f":"IF('Pivot Table Data'!O511=\"Yes\", 'Pivot Table Data'!T511, \"\")","v":""}]
[{"$f":"'Pivot Table Data'!B512","v":0},{"$f":"'Pivot Table Data'!F512","v":"Roosevelt College"},{"$f":"'Pivot Table Data'!P512","v":"Pangea"},{"$f":"'Pivot Table Data'!I512","v":"B3"},{"$f":"'Pivot Table Data'!J512","v":"S"},{"$f":"'Pivot Table Data'!K512","v":0},{"$f":"'Pivot Table Data'!L512","v":0},{"$f":"'Pivot Table Data'!S512","v":0},{"$f":"'Pivot Table Data'!T512","v":""},{"$f":"IF('Pivot Table Data'!O512=\"Yes\", 'Pivot Table Data'!T512, \"\")","v":""}]
[{"$f":"'Pivot Table Data'!B513","v":0},{"$f":"'Pivot Table Data'!F513","v":"Roosevelt College"},{"$f":"'Pivot Table Data'!P513","v":"Pangea"},{"$f":"'Pivot Table Data'!I513","v":"B3"},{"$f":"'Pivot Table Data'!J513","v":"SR"},{"$f":"'Pivot Table Data'!K513","v":0},{"$f":"'Pivot Table Data'!L513","v":0},{"$f":"'Pivot Table Data'!S513","v":0},{"$f":"'Pivot Table Data'!T513","v":""},{"$f":"IF('Pivot Table Data'!O513=\"Yes\", 'Pivot Table Data'!T513, \"\")","v":""}]
[{"$f":"'Pivot Table Data'!B514","v":0},{"$f":"'Pivot Table Data'!F514","v":"Roosevelt College"},{"$f":"'Pivot Table Data'!P514","v":"Pangea"},{"$f":"'Pivot Table Data'!I514","v":"B2"},{"$f":"'Pivot Table Data'!J514","v":"B"},{"$f":"'Pivot Table Data'!K514","v":0},{"$f":"'Pivot Table Data'!L514","v":0},{"$f":"'Pivot Table Data'!S514","v":175},{"$f":"'Pivot Table Data'!T514","v":""},{"$f":"IF('Pivot Table Data'!O514=\"Yes\", 'Pivot Table Data'!T514, \"\")","v":""}]
[{"$f":"'Pivot Table Data'!B515","v":0},{"$f":"'Pivot Table Data'!F515","v":"Roosevelt College"},{"$f":"'Pivot Table Data'!P515","v":"Pangea"},{"$f":"'Pivot Table Data'!I515","v":"B2"},{"$f":"'Pivot Table Data'!J515","v":"Motorcycle Section"},{"$f":"'Pivot Table Data'!K515","v":0},{"$f":"'Pivot Table Data'!L515","v":0},{"$f":"'Pivot Table Data'!S515","v":0},{"$f":"'Pivot Table Data'!T515","v":""},{"$f":"IF('Pivot Table Data'!O515=\"Yes\", 'Pivot Table Data'!T515, \"\")","v":""}]
[{"$f":"'Pivot Table Data'!B516","v":0},{"$f":"'Pivot Table Data'!F516","v":"Roosevelt College"},{"$f":"'Pivot Table Data'!P516","v":"Pangea"},{"$f":"'Pivot Table Data'!I516","v":"B1 (Pangea Ent)"},{"$f":"'Pivot Table Data'!J516","v":"A"},{"$f":"'Pivot Table Data'!K516","v":0},{"$f":"'Pivot Table Data'!L516","v":0},{"$f":"'Pivot Table Data'!S516","v":90},{"$f":"'Pivot Table Data'!T516","v":142},{"$f":"IF('Pivot Table Data'!O516=\"Yes\", 'Pivot Table Data'!T516, \"\")","v":142}]
[{"$f":"'Pivot Table Data'!B517","v":0},{"$f":"'Pivot Table Data'!F517","v":"Roosevelt College"},{"$f":"'Pivot Table Data'!P517","v":"Pangea"},{"$f":"'Pivot Table Data'!I517","v":"B1 (Pangea Ent)"},{"$f":"'Pivot Table Data'!J517","v":"A"},{"$f":"'Pivot Table Data'!K517","v":0},{"$f":"'Pivot Table Data'!L517","v":0},{"$f":"'Pivot Table Data'!S517","v":29},{"$f":"'Pivot Table Data'!T517","v":""},{"$f":"IF('Pivot Table Data'!O517=\"Yes\", 'Pivot Table Data'!T517, \"\")","v":""}]
[{"$f":"'Pivot Table Data'!B518","v":0},{"$f":"'Pivot Table Data'!F518","v":"Roosevelt College"},{"$f":"'Pivot Table Data'!P518","v":"Pangea"},{"$f":"'Pivot Table Data'!I518","v":"B1 (Pangea Ent)"},{"$f":"'Pivot Table Data'!J518","v":"Accessible"},{"$f":"'Pivot Table Data'!K518","v":0},{"$f":"'Pivot Table Data'!L518","v":0},{"$f":"'Pivot Table Data'!S518","v":7},{"$f":"'Pivot Table Data'!T518","v":17},{"$f":"IF('Pivot Table Data'!O518=\"Yes\", 'Pivot Table Data'!T518, \"\")","v":""}]
[{"$f":"'Pivot Table Data'!B519","v":0},{"$f":"'Pivot Table Data'!F519","v":"Roosevelt College"},{"$f":"'Pivot Table Data'!P519","v":"Pangea"},{"$f":"'Pivot Table Data'!I519","v":"B1 (Pangea Ent)"},{"$f":"'Pivot Table Data'!J519","v":"Accessible (Van)"},{"$f":"'Pivot Table Data'!K519","v":0},{"$f":"'Pivot Table Data'!L519","v":0},{"$f":"'Pivot Table Data'!S519","v":0},{"$f":"'Pivot Table Data'!T519","v":0},{"$f":"IF('Pivot Table Data'!O519=\"Yes\", 'Pivot Table Data'!T519, \"\")","v":""}]
[{"$f":"'Pivot Table Data'!B520","v":0},{"$f":"'Pivot Table Data'!F520","v":"Roosevelt College"},{"$f":"'Pivot Table Data'!P520","v":"Pangea"},{"$f":"'Pivot Table Data'!I520","v":"B1 (Pangea Ent)"},{"$f":"'Pivot Table Data'!J520","v":"B"},{"$f":"'Pivot Table Data'!K520","v":0},{"$f":"'Pivot Table Data'!L520","v":0},{"$f":"'Pivot Table Data'!S520","v":23},{"$f":"'Pivot Table Data'!T520","v":""},{"$f":"IF('Pivot Table Data'!O520=\"Yes\", 'Pivot Table Data'!T520, \"\")","v":""}]
[{"$f":"'Pivot Table Data'!B521","v":0},{"$f":"'Pivot Table Data'!F521","v":"Roosevelt College"},{"$f":"'Pivot Table Data'!P521","v":"Pangea"},{"$f":"'Pivot Table Data'!I521","v":"B1 (Pangea Ent)"},{"$f":"'Pivot Table Data'!J521","v":"Electric Vehicle"},{"$f":"'Pivot Table Data'!K521","v":0},{"$f":"'Pivot Table Data'!L521","v":0},{"$f":"'Pivot Table Data'!S521","v":4},{"$f":"'Pivot Table Data'!T521","v":4},{"$f":"IF('Pivot Table Data'!O521=\"Yes\", 'Pivot Table Data'!T521, \"\")","v":""}]
[{"$f":"'Pivot Table Data'!B522","v":0},{"$f":"'Pivot Table Data'!F522","v":"Roosevelt College"},{"$f":"'Pivot Table Data'!P522","v":"Pangea"},{"$f":"'Pivot Table Data'!I522","v":"B1 (Pangea Ent)"},{"$f":"'Pivot Table Data'!J522","v":"Motorcycle Section"},{"$f":"'Pivot Table Data'!K522","v":0},{"$f":"'Pivot Table Data'!L522","v":0},{"$f":"'Pivot Table Data'!S522","v":0},{"$f":"'Pivot Table Data'!T522","v":""},{"$f":"IF('Pivot Table Data'!O522=\"Yes\", 'Pivot Table Data'!T522, \"\")","v":""}]
[{"$f":"'Pivot Table Data'!B523","v":0},{"$f":"'Pivot Table Data'!F523","v":"Roosevelt College"},{"$f":"'Pivot Table Data'!P523","v":"Pangea"},{"$f":"'Pivot Table Data'!I523","v":"B1 (Pangea Ent)"},{"$f":"'Pivot Table Data'!J523","v":"Reserved"},{"$f":"'Pivot Table Data'!K523","v":0},{"$f":"'Pivot Table Data'!L523","v":0},{"$f":"'Pivot Table Data'!S523","v":3},{"$f":"'Pivot Table Data'!T523","v":3},{"$f":"IF('Pivot Table Data'!O523=\"Yes\", 'Pivot Table Data'!T523, \"\")","v":""}]
[{"$f":"'Pivot Table Data'!B524","v":0},{"$f":"'Pivot Table Data'!F524","v":"Roosevelt College"},{"$f":"'Pivot Table Data'!P524","v":"Pangea"},{"$f":"'Pivot Table Data'!I524","v":"B1 (Pangea Ent)"},{"$f":"'Pivot Table Data'!J524","v":"UC Vehicle"},{"$f":"'Pivot Table Data'!K524","v":0},{"$f":"'Pivot Table Data'!L524","v":0},{"$f":"'Pivot Table Data'!S524","v":2},{"$f":"'Pivot Table Data'!T524","v":""},{"$f":"IF('Pivot Table Data'!O524=\"Yes\", 'Pivot Table Data'!T524, \"\")","v":""}]
[{"$f":"'Pivot Table Data'!B525","v":0},{"$f":"'Pivot Table Data'!F525","v":"Roosevelt College"},{"$f":"'Pivot Table Data'!P525","v":"Pangea"},{"$f":"'Pivot Table Data'!I525","v":"Roof (Ground at Scholars Dr)"},{"$f":"'Pivot Table Data'!J525","v":"A"},{"$f":"'Pivot Table Data'!K525","v":0},{"$f":"'Pivot Table Data'!L525","v":0},{"$f":"'Pivot Table Data'!S525","v":23},{"$f":"'Pivot Table Data'!T525","v":""},{"$f":"IF('Pivot Table Data'!O525=\"Yes\", 'Pivot Table Data'!T525, \"\")","v":""}]
[{"$f":"'Pivot Table Data'!B526","v":0},{"$f":"'Pivot Table Data'!F526","v":"Roosevelt College"},{"$f":"'Pivot Table Data'!P526","v":"Pangea"},{"$f":"'Pivot Table Data'!I526","v":"Roof (Ground at Scholars Dr)"},{"$f":"'Pivot Table Data'!J526","v":"Accessible"},{"$f":"'Pivot Table Data'!K526","v":0},{"$f":"'Pivot Table Data'!L526","v":0},{"$f":"'Pivot Table Data'!S526","v":10},{"$f":"'Pivot Table Data'!T526","v":""},{"$f":"IF('Pivot Table Data'!O526=\"Yes\", 'Pivot Table Data'!T526, \"\")","v":""}]
[{"$f":"'Pivot Table Data'!B527","v":0},{"$f":"'Pivot Table Data'!F527","v":"Roosevelt College"},{"$f":"'Pivot Table Data'!P527","v":"Pangea"},{"$f":"'Pivot Table Data'!I527","v":"Roof (Ground at Scholars Dr)"},{"$f":"'Pivot Table Data'!J527","v":"Accessible (Van)"},{"$f":"'Pivot Table Data'!K527","v":0},{"$f":"'Pivot Table Data'!L527","v":0},{"$f":"'Pivot Table Data'!S527","v":0},{"$f":"'Pivot Table Data'!T527","v":""},{"$f":"IF('Pivot Table Data'!O527=\"Yes\", 'Pivot Table Data'!T527, \"\")","v":""}]
[{"$f":"'Pivot Table Data'!B528","v":0},{"$f":"'Pivot Table Data'!F528","v":"Roosevelt College"},{"$f":"'Pivot Table Data'!P528","v":"Pangea"},{"$f":"'Pivot Table Data'!I528","v":"Roof (Ground at Scholars Dr)"},{"$f":"'Pivot Table Data'!J528","v":"Motorcycle Section"},{"$f":"'Pivot Table Data'!K528","v":0},{"$f":"'Pivot Table Data'!L528","v":0},{"$f":"'Pivot Table Data'!S528","v":0},{"$f":"'Pivot Table Data'!T528","v":""},{"$f":"IF('Pivot Table Data'!O528=\"Yes\", 'Pivot Table Data'!T528, \"\")","v":""}]
[{"$f":"'Pivot Table Data'!B529","v":0},{"$f":"'Pivot Table Data'!F529","v":"Roosevelt College"},{"$f":"'Pivot Table Data'!P529","v":"Pangea"},{"$f":"'Pivot Table Data'!I529","v":"Roof (Ground at Scholars Dr)"},{"$f":"'Pivot Table Data'!J529","v":"Motorcycle Section"},{"$f":"'Pivot Table Data'!K529","v":0},{"$f":"'Pivot Table Data'!L529","v":0},{"$f":"'Pivot Table Data'!S529","v":0},{"$f":"'Pivot Table Data'!T529","v":""},{"$f":"IF('Pivot Table Data'!O529=\"Yes\", 'Pivot Table Data'!T529, \"\")","v":""}]
[{"$f":"'Pivot Table Data'!B530","v":0},{"$f":"'Pivot Table Data'!F530","v":"Roosevelt College"},{"$f":"'Pivot Table Data'!P530","v":"Pangea"},{"$f":"'Pivot Table Data'!I530","v":"Roof (Ground at Scholars Dr)"},{"$f":"'Pivot Table Data'!J530","v":"Reserved"},{"$f":"'Pivot Table Data'!K530","v":"Enterprise"},{"$f":"'Pivot Table Data'!L530","v":0},{"$f":"'Pivot Table Data'!S530","v":4},{"$f":"'Pivot Table Data'!T530","v":4},{"$f":"IF('Pivot Table Data'!O530=\"Yes\", 'Pivot Table Data'!T530, \"\")","v":""}]
[{"$f":"'Pivot Table Data'!B531","v":0},{"$f":"'Pivot Table Data'!F531","v":"Roosevelt College"},{"$f":"'Pivot Table Data'!P531","v":"Pangea"},{"$f":"'Pivot Table Data'!I531","v":"Roof (Ground at Scholars Dr)"},{"$f":"'Pivot Table Data'!J531","v":"Visitor"},{"$f":"'Pivot Table Data'!K531","v":0},{"$f":"'Pivot Table Data'!L531","v":0},{"$f":"'Pivot Table Data'!S531","v":76},{"$f":"'Pivot Table Data'!T531","v":76},{"$f":"IF('Pivot Table Data'!O531=\"Yes\", 'Pivot Table Data'!T531, \"\")","v":76}]
[{"$f":"'Pivot Table Data'!B532","v":0},{"$f":"'Pivot Table Data'!F532","v":"North Torrey Pines Living and Learning"},{"$f":"'Pivot Table Data'!P532","v":"Scholars"},{"$f":"'Pivot Table Data'!I532","v":"B2"},{"$f":"'Pivot Table Data'!J532","v":"Accessible"},{"$f":"'Pivot Table Data'!K532","v":0},{"$f":"'Pivot Table Data'!L532","v":0},{"$f":"'Pivot Table Data'!S532","v":4},{"$f":"'Pivot Table Data'!T532","v":48},{"$f":"IF('Pivot Table Data'!O532=\"Yes\", 'Pivot Table Data'!T532, \"\")","v":""}]
[{"$f":"'Pivot Table Data'!B533","v":0},{"$f":"'Pivot Table Data'!F533","v":"North Torrey Pines Living and Learning"},{"$f":"'Pivot Table Data'!P533","v":"Scholars"},{"$f":"'Pivot Table Data'!I533","v":"B2"},{"$f":"'Pivot Table Data'!J533","v":"Accessible (Van)"},{"$f":"'Pivot Table Data'!K533","v":0},{"$f":"'Pivot Table Data'!L533","v":0},{"$f":"'Pivot Table Data'!S533","v":9},{"$f":"'Pivot Table Data'!T533","v":12},{"$f":"IF('Pivot Table Data'!O533=\"Yes\", 'Pivot Table Data'!T533, \"\")","v":""}]
[{"$f":"'Pivot Table Data'!B534","v":0},{"$f":"'Pivot Table Data'!F534","v":"North Torrey Pines Living and Learning"},{"$f":"'Pivot Table Data'!P534","v":"Scholars"},{"$f":"'Pivot Table Data'!I534","v":"B2"},{"$f":"'Pivot Table Data'!J534","v":"B"},{"$f":"'Pivot Table Data'!K534","v":0},{"$f":"'Pivot Table Data'!L534","v":0},{"$f":"'Pivot Table Data'!S534","v":341},{"$f":"'Pivot Table Data'!T534","v":381},{"$f":"IF('Pivot Table Data'!O534=\"Yes\", 'Pivot Table Data'!T534, \"\")","v":381}]
[{"$f":"'Pivot Table Data'!B535","v":0},{"$f":"'Pivot Table Data'!F535","v":"North Torrey Pines Living and Learning"},{"$f":"'Pivot Table Data'!P535","v":"Scholars"},{"$f":"'Pivot Table Data'!I535","v":"B2"},{"$f":"'Pivot Table Data'!J535","v":"Motorcycle Section"},{"$f":"'Pivot Table Data'!K535","v":0},{"$f":"'Pivot Table Data'!L535","v":0},{"$f":"'Pivot Table Data'!S535","v":30},{"$f":"'Pivot Table Data'!T535","v":30},{"$f":"IF('Pivot Table Data'!O535=\"Yes\", 'Pivot Table Data'!T535, \"\")","v":""}]
[{"$f":"'Pivot Table Data'!B536","v":0},{"$f":"'Pivot Table Data'!F536","v":"North Torrey Pines Living and Learning"},{"$f":"'Pivot Table Data'!P536","v":"Scholars"},{"$f":"'Pivot Table Data'!I536","v":"B2"},{"$f":"'Pivot Table Data'!J536","v":"Reserved"},{"$f":"'Pivot Table Data'!K536","v":0},{"$f":"'Pivot Table Data'!L536","v":0},{"$f":"'Pivot Table Data'!S536","v":4},{"$f":"'Pivot Table Data'!T536","v":26},{"$f":"IF('Pivot Table Data'!O536=\"Yes\", 'Pivot Table Data'!T536, \"\")","v":""}]
[{"$f":"'Pivot Table Data'!B537","v":0},{"$f":"'Pivot Table Data'!F537","v":"North Torrey Pines Living and Learning"},{"$f":"'Pivot Table Data'!P537","v":"Scholars"},{"$f":"'Pivot Table Data'!I537","v":"B2"},{"$f":"'Pivot Table Data'!J537","v":"SR"},{"$f":"'Pivot Table Data'!K537","v":0},{"$f":"'Pivot Table Data'!L537","v":0},{"$f":"'Pivot Table Data'!S537","v":103},{"$f":"'Pivot Table Data'!T537","v":103},{"$f":"IF('Pivot Table Data'!O537=\"Yes\", 'Pivot Table Data'!T537, \"\")","v":103}]
[{"$f":"'Pivot Table Data'!B538","v":0},{"$f":"'Pivot Table Data'!F538","v":"North Torrey Pines Living and Learning"},{"$f":"'Pivot Table Data'!P538","v":"Scholars"},{"$f":"'Pivot Table Data'!I538","v":"B1"},{"$f":"'Pivot Table Data'!J538","v":"A"},{"$f":"'Pivot Table Data'!K538","v":0},{"$f":"'Pivot Table Data'!L538","v":0},{"$f":"'Pivot Table Data'!S538","v":295},{"$f":"'Pivot Table Data'!T538","v":295},{"$f":"IF('Pivot Table Data'!O538=\"Yes\", 'Pivot Table Data'!T538, \"\")","v":295}]
[{"$f":"'Pivot Table Data'!B539","v":0},{"$f":"'Pivot Table Data'!F539","v":"North Torrey Pines Living and Learning"},{"$f":"'Pivot Table Data'!P539","v":"Scholars"},{"$f":"'Pivot Table Data'!I539","v":"B1"},{"$f":"'Pivot Table Data'!J539","v":"Accessible"},{"$f":"'Pivot Table Data'!K539","v":0},{"$f":"'Pivot Table Data'!L539","v":0},{"$f":"'Pivot Table Data'!S539","v":17},{"$f":"'Pivot Table Data'!T539","v":""},{"$f":"IF('Pivot Table Data'!O539=\"Yes\", 'Pivot Table Data'!T539, \"\")","v":""}]
[{"$f":"'Pivot Table Data'!B540","v":0},{"$f":"'Pivot Table Data'!F540","v":"North Torrey Pines Living and Learning"},{"$f":"'Pivot Table Data'!P540","v":"Scholars"},{"$f":"'Pivot Table Data'!I540","v":"B1"},{"$f":"'Pivot Table Data'!J540","v":"Accessible (Van)"},{"$f":"'Pivot Table Data'!K540","v":0},{"$f":"'Pivot Table Data'!L540","v":0},{"$f":"'Pivot Table Data'!S540","v":2},{"$f":"'Pivot Table Data'!T540","v":""},{"$f":"IF('Pivot Table Data'!O540=\"Yes\", 'Pivot Table Data'!T540, \"\")","v":""}]
[{"$f":"'Pivot Table Data'!B541","v":0},{"$f":"'Pivot Table Data'!F541","v":"North Torrey Pines Living and Learning"},{"$f":"'Pivot Table Data'!P541","v":"Scholars"},{"$f":"'Pivot Table Data'!I541","v":"B1"},{"$f":"'Pivot Table Data'!J541","v":"B"},{"$f":"'Pivot Table Data'!K541","v":0},{"$f":"'Pivot Table Data'!L541","v":0},{"$f":"'Pivot Table Data'!S541","v":40},{"$f":"'Pivot Table Data'!T541","v":""},{"$f":"IF('Pivot Table Data'!O541=\"Yes\", 'Pivot Table Data'!T541, \"\")","v":""}]
[{"$f":"'Pivot Table Data'!B542","v":0},{"$f":"'Pivot Table Data'!F542","v":"North Torrey Pines Living and Learning"},{"$f":"'Pivot Table Data'!P542","v":"Scholars"},{"$f":"'Pivot Table Data'!I542","v":"B1"},{"$f":"'Pivot Table Data'!J542","v":"Carpool"},{"$f":"'Pivot Table Data'!K542","v":"2 Person"},{"$f":"'Pivot Table Data'!L542","v":0},{"$f":"'Pivot Table Data'!S542","v":92},{"$f":"'Pivot Table Data'!T542","v":92},{"$f":"IF('Pivot Table Data'!O542=\"Yes\", 'Pivot Table Data'!T542, \"\")","v":92}]
[{"$f":"'Pivot Table Data'!B543","v":0},{"$f":"'Pivot Table Data'!F543","v":"North Torrey Pines Living and Learning"},{"$f":"'Pivot Table Data'!P543","v":"Scholars"},{"$f":"'Pivot Table Data'!I543","v":"B1"},{"$f":"'Pivot Table Data'!J543","v":"Motorcycle Section"},{"$f":"'Pivot Table Data'!K543","v":0},{"$f":"'Pivot Table Data'!L543","v":0},{"$f":"'Pivot Table Data'!S543","v":0},{"$f":"'Pivot Table Data'!T543","v":""},{"$f":"IF('Pivot Table Data'!O543=\"Yes\", 'Pivot Table Data'!T543, \"\")","v":""}]
[{"$f":"'Pivot Table Data'!B544","v":0},{"$f":"'Pivot Table Data'!F544","v":"North Torrey Pines Living and Learning"},{"$f":"'Pivot Table Data'!P544","v":"Scholars"},{"$f":"'Pivot Table Data'!I544","v":"B1"},{"$f":"'Pivot Table Data'!J544","v":"Reserved"},{"$f":"'Pivot Table Data'!K544","v":0},{"$f":"'Pivot Table Data'!L544","v":0},{"$f":"'Pivot Table Data'!S544","v":8},{"$f":"'Pivot Table Data'!T544","v":""},{"$f":"IF('Pivot Table Data'!O544=\"Yes\", 'Pivot Table Data'!T544, \"\")","v":""}]
[{"$f":"'Pivot Table Data'!B545","v":0},{"$f":"'Pivot Table Data'!F545","v":"North Torrey Pines Living and Learning"},{"$f":"'Pivot Table Data'!P545","v":"Scholars"},{"$f":"'Pivot Table Data'!I545","v":"B1"},{"$f":"'Pivot Table Data'!J545","v":"Service Yard"},{"$f":"'Pivot Table Data'!K545","v":0},{"$f":"'Pivot Table Data'!L545","v":0},{"$f":"'Pivot Table Data'!S545","v":4},{"$f":"'Pivot Table Data'!T545","v":4},{"$f":"IF('Pivot Table Data'!O545=\"Yes\", 'Pivot Table Data'!T545, \"\")","v":""}]
[{"$f":"'Pivot Table Data'!B546","v":0},{"$f":"'Pivot Table Data'!F546","v":"North Torrey Pines Living and Learning"},{"$f":"'Pivot Table Data'!P546","v":"Scholars"},{"$f":"'Pivot Table Data'!I546","v":"B1"},{"$f":"'Pivot Table Data'!J546","v":"Visitor"},{"$f":"'Pivot Table Data'!K546","v":0},{"$f":"'Pivot Table Data'!L546","v":0},{"$f":"'Pivot Table Data'!S546","v":42},{"$f":"'Pivot Table Data'!T546","v":42},{"$f":"IF('Pivot Table Data'!O546=\"Yes\", 'Pivot Table Data'!T546, \"\")","v":42}]
[{"$f":"'Pivot Table Data'!B547","v":0},{"$f":"'Pivot Table Data'!F547","v":"North Torrey Pines Living and Learning"},{"$f":"'Pivot Table Data'!P547","v":"Scholars"},{"$f":"'Pivot Table Data'!I547","v":"Ground"},{"$f":"'Pivot Table Data'!J547","v":"Accessible"},{"$f":"'Pivot Table Data'!K547","v":0},{"$f":"'Pivot Table Data'!L547","v":0},{"$f":"'Pivot Table Data'!S547","v":27},{"$f":"'Pivot Table Data'!T547","v":""},{"$f":"IF('Pivot Table Data'!O547=\"Yes\", 'Pivot Table Data'!T547, \"\")","v":""}]
[{"$f":"'Pivot Table Data'!B548","v":0},{"$f":"'Pivot Table Data'!F548","v":"North Torrey Pines Living and Learning"},{"$f":"'Pivot Table Data'!P548","v":"Scholars"},{"$f":"'Pivot Table Data'!I548","v":"Ground"},{"$f":"'Pivot Table Data'!J548","v":"Accessible (Van)"},{"$f":"'Pivot Table Data'!K548","v":0},{"$f":"'Pivot Table Data'!L548","v":"4-Hours"},{"$f":"'Pivot Table Data'!S548","v":0},{"$f":"'Pivot Table Data'!T548","v":0},{"$f":"IF('Pivot Table Data'!O548=\"Yes\", 'Pivot Table Data'!T548, \"\")","v":""}]
[{"$f":"'Pivot Table Data'!B549","v":0},{"$f":"'Pivot Table Data'!F549","v":"North Torrey Pines Living and Learning"},{"$f":"'Pivot Table Data'!P549","v":"Scholars"},{"$f":"'Pivot Table Data'!I549","v":"Ground"},{"$f":"'Pivot Table Data'!J549","v":"Accessible (Van)"},{"$f":"'Pivot Table Data'!K549","v":0},{"$f":"'Pivot Table Data'!L549","v":0},{"$f":"'Pivot Table Data'!S549","v":1},{"$f":"'Pivot Table Data'!T549","v":""},{"$f":"IF('Pivot Table Data'!O549=\"Yes\", 'Pivot Table Data'!T549, \"\")","v":""}]
[{"$f":"'Pivot Table Data'!B550","v":0},{"$f":"'Pivot Table Data'!F550","v":"North Torrey Pines Living and Learning"},{"$f":"'Pivot Table Data'!P550","v":"Scholars"},{"$f":"'Pivot Table Data'!I550","v":"Ground"},{"$f":"'Pivot Table Data'!J550","v":"Electric Vehicle"},{"$f":"'Pivot Table Data'!K550","v":"ADA"},{"$f":"'Pivot Table Data'!L550","v":"4-Hours"},{"$f":"'Pivot Table Data'!S550","v":5},{"$f":"'Pivot Table Data'!T550","v":5},{"$f":"IF('Pivot Table Data'!O550=\"Yes\", 'Pivot Table Data'!T550, \"\")","v":""}]
[{"$f":"'Pivot Table Data'!B551","v":0},{"$f":"'Pivot Table Data'!F551","v":"North Torrey Pines Living and Learning"},{"$f":"'Pivot Table Data'!P551","v":"Scholars"},{"$f":"'Pivot Table Data'!I551","v":"Ground"},{"$f":"'Pivot Table Data'!J551","v":"Electric Vehicle"},{"$f":"'Pivot Table Data'!K551","v":0},{"$f":"'Pivot Table Data'!L551","v":0},{"$f":"'Pivot Table Data'!S551","v":30},{"$f":"'Pivot Table Data'!T551","v":30},{"$f":"IF('Pivot Table Data'!O551=\"Yes\", 'Pivot Table Data'!T551, \"\")","v":""}]
[{"$f":"'Pivot Table Data'!B552","v":0},{"$f":"'Pivot Table Data'!F552","v":"North Torrey Pines Living and Learning"},{"$f":"'Pivot Table Data'!P552","v":"Scholars"},{"$f":"'Pivot Table Data'!I552","v":"Ground"},{"$f":"'Pivot Table Data'!J552","v":"Motorcycle Section"},{"$f":"'Pivot Table Data'!K552","v":0},{"$f":"'Pivot Table Data'!L552","v":0},{"$f":"'Pivot Table Data'!S552","v":0},{"$f":"'Pivot Table Data'!T552","v":""},{"$f":"IF('Pivot Table Data'!O552=\"Yes\", 'Pivot Table Data'!T552, \"\")","v":""}]
[{"$f":"'Pivot Table Data'!B553","v":0},{"$f":"'Pivot Table Data'!F553","v":"North Torrey Pines Living and Learning"},{"$f":"'Pivot Table Data'!P553","v":"Scholars"},{"$f":"'Pivot Table Data'!I553","v":"Ground"},{"$f":"'Pivot Table Data'!J553","v":"Reserved"},{"$f":"'Pivot Table Data'!K553","v":"Food Pickup"},{"$f":"'Pivot Table Data'!L553","v":15},{"$f":"'Pivot Table Data'!S553","v":3},{"$f":"'Pivot Table Data'!T553","v":3},{"$f":"IF('Pivot Table Data'!O553=\"Yes\", 'Pivot Table Data'!T553, \"\")","v":""}]
[{"$f":"'Pivot Table Data'!B554","v":0},{"$f":"'Pivot Table Data'!F554","v":"North Torrey Pines Living and Learning"},{"$f":"'Pivot Table Data'!P554","v":"Scholars"},{"$f":"'Pivot Table Data'!I554","v":"Ground"},{"$f":"'Pivot Table Data'!J554","v":"Reserved"},{"$f":"'Pivot Table Data'!K554","v":0},{"$f":"'Pivot Table Data'!L554","v":0},{"$f":"'Pivot Table Data'!S554","v":14},{"$f":"'Pivot Table Data'!T554","v":""},{"$f":"IF('Pivot Table Data'!O554=\"Yes\", 'Pivot Table Data'!T554, \"\")","v":""}]
[{"$f":"'Pivot Table Data'!B555","v":0},{"$f":"'Pivot Table Data'!F555","v":"North Torrey Pines Living and Learning"},{"$f":"'Pivot Table Data'!P555","v":"Scholars"},{"$f":"'Pivot Table Data'!I555","v":"Ground"},{"$f":"'Pivot Table Data'!J555","v":"Visitor"},{"$f":"'Pivot Table Data'!K555","v":"2-Hour Limit"},{"$f":"'Pivot Table Data'!L555","v":60},{"$f":"'Pivot Table Data'!S555","v":111},{"$f":"'Pivot Table Data'!T555","v":111},{"$f":"IF('Pivot Table Data'!O555=\"Yes\", 'Pivot Table Data'!T555, \"\")","v":111}]
[{"$f":"'Pivot Table Data'!B556","v":0},{"$f":"'Pivot Table Data'!F556","v":"Health Sciences West"},{"$f":"'Pivot Table Data'!P556","v":"South"},{"$f":"'Pivot Table Data'!I556","v":"Basement (Level 1)"},{"$f":"'Pivot Table Data'!J556","v":"A"},{"$f":"'Pivot Table Data'!K556","v":0},{"$f":"'Pivot Table Data'!L556","v":0},{"$f":"'Pivot Table Data'!S556","v":185},{"$f":"'Pivot Table Data'!T556","v":449},{"$f":"IF('Pivot Table Data'!O556=\"Yes\", 'Pivot Table Data'!T556, \"\")","v":449}]
[{"$f":"'Pivot Table Data'!B557","v":0},{"$f":"'Pivot Table Data'!F557","v":"Health Sciences West"},{"$f":"'Pivot Table Data'!P557","v":"South"},{"$f":"'Pivot Table Data'!I557","v":"Basement (Level 1)"},{"$f":"'Pivot Table Data'!J557","v":"Accessible"},{"$f":"'Pivot Table Data'!K557","v":0},{"$f":"'Pivot Table Data'!L557","v":0},{"$f":"'Pivot Table Data'!S557","v":1},{"$f":"'Pivot Table Data'!T557","v":22},{"$f":"IF('Pivot Table Data'!O557=\"Yes\", 'Pivot Table Data'!T557, \"\")","v":""}]
[{"$f":"'Pivot Table Data'!B558","v":0},{"$f":"'Pivot Table Data'!F558","v":"Health Sciences West"},{"$f":"'Pivot Table Data'!P558","v":"South"},{"$f":"'Pivot Table Data'!I558","v":"Basement (Level 1)"},{"$f":"'Pivot Table Data'!J558","v":"Accessible (Van)"},{"$f":"'Pivot Table Data'!K558","v":0},{"$f":"'Pivot Table Data'!L558","v":0},{"$f":"'Pivot Table Data'!S558","v":0},{"$f":"'Pivot Table Data'!T558","v":1},{"$f":"IF('Pivot Table Data'!O558=\"Yes\", 'Pivot Table Data'!T558, \"\")","v":""}]
[{"$f":"'Pivot Table Data'!B559","v":0},{"$f":"'Pivot Table Data'!F559","v":"Health Sciences West"},{"$f":"'Pivot Table Data'!P559","v":"South"},{"$f":"'Pivot Table Data'!I559","v":"Basement (Level 1)"},{"$f":"'Pivot Table Data'!J559","v":"Electric Vehicle"},{"$f":"'Pivot Table Data'!K559","v":0},{"$f":"'Pivot Table Data'!L559","v":0},{"$f":"'Pivot Table Data'!S559","v":8},{"$f":"'Pivot Table Data'!T559","v":30},{"$f":"IF('Pivot Table Data'!O559=\"Yes\", 'Pivot Table Data'!T559, \"\")","v":""}]
[{"$f":"'Pivot Table Data'!B560","v":0},{"$f":"'Pivot Table Data'!F560","v":"Health Sciences West"},{"$f":"'Pivot Table Data'!P560","v":"South"},{"$f":"'Pivot Table Data'!I560","v":"Basement (Level 1)"},{"$f":"'Pivot Table Data'!J560","v":"Motorcycle Section"},{"$f":"'Pivot Table Data'!K560","v":0},{"$f":"'Pivot Table Data'!L560","v":0},{"$f":"'Pivot Table Data'!S560","v":3},{"$f":"'Pivot Table Data'!T560","v":15},{"$f":"IF('Pivot Table Data'!O560=\"Yes\", 'Pivot Table Data'!T560, \"\")","v":""}]
[{"$f":"'Pivot Table Data'!B561","v":0},{"$f":"'Pivot Table Data'!F561","v":"Health Sciences West"},{"$f":"'Pivot Table Data'!P561","v":"South"},{"$f":"'Pivot Table Data'!I561","v":"Basement (Level 1)"},{"$f":"'Pivot Table Data'!J561","v":"S"},{"$f":"'Pivot Table Data'!K561","v":0},{"$f":"'Pivot Table Data'!L561","v":0},{"$f":"'Pivot Table Data'!S561","v":1},{"$f":"'Pivot Table Data'!T561","v":1},{"$f":"IF('Pivot Table Data'!O561=\"Yes\", 'Pivot Table Data'!T561, \"\")","v":1}]
[{"$f":"'Pivot Table Data'!B562","v":0},{"$f":"'Pivot Table Data'!F562","v":"Health Sciences West"},{"$f":"'Pivot Table Data'!P562","v":"South"},{"$f":"'Pivot Table Data'!I562","v":"Basement (Level 1)"},{"$f":"'Pivot Table Data'!J562","v":"Service Yard"},{"$f":"'Pivot Table Data'!K562","v":0},{"$f":"'Pivot Table Data'!L562","v":0},{"$f":"'Pivot Table Data'!S562","v":2},{"$f":"'Pivot Table Data'!T562","v":2},{"$f":"IF('Pivot Table Data'!O562=\"Yes\", 'Pivot Table Data'!T562, \"\")","v":""}]
[{"$f":"'Pivot Table Data'!B563","v":0},{"$f":"'Pivot Table Data'!F563","v":"Health Sciences West"},{"$f":"'Pivot Table Data'!P563","v":"South"},{"$f":"'Pivot Table Data'!I563","v":"Basement (Level 1)"},{"$f":"'Pivot Table Data'!J563","v":"SR"},{"$f":"'Pivot Table Data'!K563","v":0},{"$f":"'Pivot Table Data'!L563","v":0},{"$f":"'Pivot Table Data'!S563","v":68},{"$f":"'Pivot Table Data'!T563","v":68},{"$f":"IF('Pivot Table Data'!O563=\"Yes\", 'Pivot Table Data'!T563, \"\")","v":68}]
[{"$f":"'Pivot Table Data'!B564","v":0},{"$f":"'Pivot Table Data'!F564","v":"Health Sciences West"},{"$f":"'Pivot Table Data'!P564","v":"South"},{"$f":"'Pivot Table Data'!I564","v":"Basement (Level 1)"},{"$f":"'Pivot Table Data'!J564","v":"UC Vehicle"},{"$f":"'Pivot Table Data'!K564","v":"UC Cart"},{"$f":"'Pivot Table Data'!L564","v":0},{"$f":"'Pivot Table Data'!S564","v":3},{"$f":"'Pivot Table Data'!T564","v":9},{"$f":"IF('Pivot Table Data'!O564=\"Yes\", 'Pivot Table Data'!T564, \"\")","v":""}]
[{"$f":"'Pivot Table Data'!B565","v":0},{"$f":"'Pivot Table Data'!F565","v":"Health Sciences West"},{"$f":"'Pivot Table Data'!P565","v":"South"},{"$f":"'Pivot Table Data'!I565","v":"Basement (Level 1)"},{"$f":"'Pivot Table Data'!J565","v":"UC Vehicle"},{"$f":"'Pivot Table Data'!K565","v":0},{"$f":"'Pivot Table Data'!L565","v":0},{"$f":"'Pivot Table Data'!S565","v":4},{"$f":"'Pivot Table Data'!T565","v":4},{"$f":"IF('Pivot Table Data'!O565=\"Yes\", 'Pivot Table Data'!T565, \"\")","v":""}]
[{"$f":"'Pivot Table Data'!B566","v":0},{"$f":"'Pivot Table Data'!F566","v":"Health Sciences West"},{"$f":"'Pivot Table Data'!P566","v":"South"},{"$f":"'Pivot Table Data'!I566","v":"Level 2"},{"$f":"'Pivot Table Data'!J566","v":"A"},{"$f":"'Pivot Table Data'!K566","v":0},{"$f":"'Pivot Table Data'!L566","v":0},{"$f":"'Pivot Table Data'!S566","v":240},{"$f":"'Pivot Table Data'!T566","v":""},{"$f":"IF('Pivot Table Data'!O566=\"Yes\", 'Pivot Table Data'!T566, \"\")","v":""}]
[{"$f":"'Pivot Table Data'!B567","v":0},{"$f":"'Pivot Table Data'!F567","v":"Health Sciences West"},{"$f":"'Pivot Table Data'!P567","v":"South"},{"$f":"'Pivot Table Data'!I567","v":"Level 2"},{"$f":"'Pivot Table Data'!J567","v":"Accessible"},{"$f":"'Pivot Table Data'!K567","v":0},{"$f":"'Pivot Table Data'!L567","v":0},{"$f":"'Pivot Table Data'!S567","v":5},{"$f":"'Pivot Table Data'!T567","v":""},{"$f":"IF('Pivot Table Data'!O567=\"Yes\", 'Pivot Table Data'!T567, \"\")","v":""}]
[{"$f":"'Pivot Table Data'!B568","v":0},{"$f":"'Pivot Table Data'!F568","v":"Health Sciences West"},{"$f":"'Pivot Table Data'!P568","v":"South"},{"$f":"'Pivot Table Data'!I568","v":"Level 2"},{"$f":"'Pivot Table Data'!J568","v":"Accessible (Van)"},{"$f":"'Pivot Table Data'!K568","v":0},{"$f":"'Pivot Table Data'!L568","v":0},{"$f":"'Pivot Table Data'!S568","v":0},{"$f":"'Pivot Table Data'!T568","v":""},{"$f":"IF('Pivot Table Data'!O568=\"Yes\", 'Pivot Table Data'!T568, \"\")","v":""}]
[{"$f":"'Pivot Table Data'!B569","v":0},{"$f":"'Pivot Table Data'!F569","v":"Health Sciences West"},{"$f":"'Pivot Table Data'!P569","v":"South"},{"$f":"'Pivot Table Data'!I569","v":"Level 2"},{"$f":"'Pivot Table Data'!J569","v":"B"},{"$f":"'Pivot Table Data'!K569","v":0},{"$f":"'Pivot Table Data'!L569","v":0},{"$f":"'Pivot Table Data'!S569","v":0},{"$f":"'Pivot Table Data'!T569","v":537},{"$f":"IF('Pivot Table Data'!O569=\"Yes\", 'Pivot Table Data'!T569, \"\")","v":537}]
[{"$f":"'Pivot Table Data'!B570","v":0},{"$f":"'Pivot Table Data'!F570","v":"Health Sciences West"},{"$f":"'Pivot Table Data'!P570","v":"South"},{"$f":"'Pivot Table Data'!I570","v":"Level 2"},{"$f":"'Pivot Table Data'!J570","v":"Carpool"},{"$f":"'Pivot Table Data'!K570","v":"2 Person Carpool"},{"$f":"'Pivot Table Data'!L570","v":0},{"$f":"'Pivot Table Data'!S570","v":0},{"$f":"'Pivot Table Data'!T570","v":61},{"$f":"IF('Pivot Table Data'!O570=\"Yes\", 'Pivot Table Data'!T570, \"\")","v":61}]
[{"$f":"'Pivot Table Data'!B571","v":0},{"$f":"'Pivot Table Data'!F571","v":"Health Sciences West"},{"$f":"'Pivot Table Data'!P571","v":"South"},{"$f":"'Pivot Table Data'!I571","v":"Level 2"},{"$f":"'Pivot Table Data'!J571","v":"Electric Vehicle"},{"$f":"'Pivot Table Data'!K571","v":0},{"$f":"'Pivot Table Data'!L571","v":0},{"$f":"'Pivot Table Data'!S571","v":8},{"$f":"'Pivot Table Data'!T571","v":""},{"$f":"IF('Pivot Table Data'!O571=\"Yes\", 'Pivot Table Data'!T571, \"\")","v":""}]
[{"$f":"'Pivot Table Data'!B572","v":0},{"$f":"'Pivot Table Data'!F572","v":"Health Sciences West"},{"$f":"'Pivot Table Data'!P572","v":"South"},{"$f":"'Pivot Table Data'!I572","v":"Level 2"},{"$f":"'Pivot Table Data'!J572","v":"Motorcycle Section"},{"$f":"'Pivot Table Data'!K572","v":0},{"$f":"'Pivot Table Data'!L572","v":0},{"$f":"'Pivot Table Data'!S572","v":3},{"$f":"'Pivot Table Data'!T572","v":""},{"$f":"IF('Pivot Table Data'!O572=\"Yes\", 'Pivot Table Data'!T572, \"\")","v":""}]
[{"$f":"'Pivot Table Data'!B573","v":0},{"$f":"'Pivot Table Data'!F573","v":"Health Sciences West"},{"$f":"'Pivot Table Data'!P573","v":"South"},{"$f":"'Pivot Table Data'!I573","v":"Level 2"},{"$f":"'Pivot Table Data'!J573","v":"S"},{"$f":"'Pivot Table Data'!K573","v":0},{"$f":"'Pivot Table Data'!L573","v":0},{"$f":"'Pivot Table Data'!S573","v":0},{"$f":"'Pivot Table Data'!T573","v":""},{"$f":"IF('Pivot Table Data'!O573=\"Yes\", 'Pivot Table Data'!T573, \"\")","v":""}]
[{"$f":"'Pivot Table Data'!B574","v":0},{"$f":"'Pivot Table Data'!F574","v":"Health Sciences West"},{"$f":"'Pivot Table Data'!P574","v":"South"},{"$f":"'Pivot Table Data'!I574","v":"Level 2"},{"$f":"'Pivot Table Data'!J574","v":"UC Vehicle"},{"$f":"'Pivot Table Data'!K574","v":"UC Cart"},{"$f":"'Pivot Table Data'!L574","v":0},{"$f":"'Pivot Table Data'!S574","v":2},{"$f":"'Pivot Table Data'!T574","v":""},{"$f":"IF('Pivot Table Data'!O574=\"Yes\", 'Pivot Table Data'!T574, \"\")","v":""}]
[{"$f":"'Pivot Table Data'!B575","v":0},{"$f":"'Pivot Table Data'!F575","v":"Health Sciences West"},{"$f":"'Pivot Table Data'!P575","v":"South"},{"$f":"'Pivot Table Data'!I575","v":"Level 3"},{"$f":"'Pivot Table Data'!J575","v":"A"},{"$f":"'Pivot Table Data'!K575","v":0},{"$f":"'Pivot Table Data'!L575","v":0},{"$f":"'Pivot Table Data'!S575","v":24},{"$f":"'Pivot Table Data'!T575","v":""},{"$f":"IF('Pivot Table Data'!O575=\"Yes\", 'Pivot Table Data'!T575, \"\")","v":""}]
[{"$f":"'Pivot Table Data'!B576","v":0},{"$f":"'Pivot Table Data'!F576","v":"Health Sciences West"},{"$f":"'Pivot Table Data'!P576","v":"South"},{"$f":"'Pivot Table Data'!I576","v":"Level 3"},{"$f":"'Pivot Table Data'!J576","v":"Accessible"},{"$f":"'Pivot Table Data'!K576","v":0},{"$f":"'Pivot Table Data'!L576","v":0},{"$f":"'Pivot Table Data'!S576","v":5},{"$f":"'Pivot Table Data'!T576","v":""},{"$f":"IF('Pivot Table Data'!O576=\"Yes\", 'Pivot Table Data'!T576, \"\")","v":""}]
[{"$f":"'Pivot Table Data'!B577","v":0},{"$f":"'Pivot Table Data'!F577","v":"Health Sciences West"},{"$f":"'Pivot Table Data'!P577","v":"South"},{"$f":"'Pivot Table Data'!I577","v":"Level 3"},{"$f":"'Pivot Table Data'!J577","v":"Accessible (Van)"},{"$f":"'Pivot Table Data'!K577","v":0},{"$f":"'Pivot Table Data'!L577","v":0},{"$f":"'Pivot Table Data'!S577","v":1},{"$f":"'Pivot Table Data'!T577","v":""},{"$f":"IF('Pivot Table Data'!O577=\"Yes\", 'Pivot Table Data'!T577, \"\")","v":""}]
[{"$f":"'Pivot Table Data'!B578","v":0},{"$f":"'Pivot Table Data'!F578","v":"Health Sciences West"},{"$f":"'Pivot Table Data'!P578","v":"South"},{"$f":"'Pivot Table Data'!I578","v":"Level 3"},{"$f":"'Pivot Table Data'!J578","v":"B"},{"$f":"'Pivot Table Data'!K578","v":0},{"$f":"'Pivot Table Data'!L578","v":0},{"$f":"'Pivot Table Data'!S578","v":92},{"$f":"'Pivot Table Data'!T578","v":""},{"$f":"IF('Pivot Table Data'!O578=\"Yes\", 'Pivot Table Data'!T578, \"\")","v":""}]
[{"$f":"'Pivot Table Data'!B579","v":0},{"$f":"'Pivot Table Data'!F579","v":"Health Sciences West"},{"$f":"'Pivot Table Data'!P579","v":"South"},{"$f":"'Pivot Table Data'!I579","v":"Level 3"},{"$f":"'Pivot Table Data'!J579","v":"Carpool"},{"$f":"'Pivot Table Data'!K579","v":"B 3-Person"},{"$f":"'Pivot Table Data'!L579","v":0},{"$f":"'Pivot Table Data'!S579","v":3},{"$f":"'Pivot Table Data'!T579","v":3},{"$f":"IF('Pivot Table Data'!O579=\"Yes\", 'Pivot Table Data'!T579, \"\")","v":3}]
[{"$f":"'Pivot Table Data'!B580","v":0},{"$f":"'Pivot Table Data'!F580","v":"Health Sciences West"},{"$f":"'Pivot Table Data'!P580","v":"South"},{"$f":"'Pivot Table Data'!I580","v":"Level 3"},{"$f":"'Pivot Table Data'!J580","v":"Electric Vehicle"},{"$f":"'Pivot Table Data'!K580","v":0},{"$f":"'Pivot Table Data'!L580","v":0},{"$f":"'Pivot Table Data'!S580","v":6},{"$f":"'Pivot Table Data'!T580","v":""},{"$f":"IF('Pivot Table Data'!O580=\"Yes\", 'Pivot Table Data'!T580, \"\")","v":""}]
[{"$f":"'Pivot Table Data'!B581","v":0},{"$f":"'Pivot Table Data'!F581","v":"Health Sciences West"},{"$f":"'Pivot Table Data'!P581","v":"South"},{"$f":"'Pivot Table Data'!I581","v":"Level 3"},{"$f":"'Pivot Table Data'!J581","v":"Motorcycle Section"},{"$f":"'Pivot Table Data'!K581","v":0},{"$f":"'Pivot Table Data'!L581","v":0},{"$f":"'Pivot Table Data'!S581","v":3},{"$f":"'Pivot Table Data'!T581","v":""},{"$f":"IF('Pivot Table Data'!O581=\"Yes\", 'Pivot Table Data'!T581, \"\")","v":""}]
[{"$f":"'Pivot Table Data'!B582","v":0},{"$f":"'Pivot Table Data'!F582","v":"Health Sciences West"},{"$f":"'Pivot Table Data'!P582","v":"South"},{"$f":"'Pivot Table Data'!I582","v":"Level 3"},{"$f":"'Pivot Table Data'!J582","v":"Reserved"},{"$f":"'Pivot Table Data'!K582","v":0},{"$f":"'Pivot Table Data'!L582","v":0},{"$f":"'Pivot Table Data'!S582","v":5},{"$f":"'Pivot Table Data'!T582","v":5},{"$f":"IF('Pivot Table Data'!O582=\"Yes\", 'Pivot Table Data'!T582, \"\")","v":""}]
[{"$f":"'Pivot Table Data'!B583","v":0},{"$f":"'Pivot Table Data'!F583","v":"Health Sciences West"},{"$f":"'Pivot Table Data'!P583","v":"South"},{"$f":"'Pivot Table Data'!I583","v":"Level 3"},{"$f":"'Pivot Table Data'!J583","v":"UC Vehicle"},{"$f":"'Pivot Table Data'!K583","v":"UC Cart"},{"$f":"'Pivot Table Data'!L583","v":0},{"$f":"'Pivot Table Data'!S583","v":2},{"$f":"'Pivot Table Data'!T583","v":""},{"$f":"IF('Pivot Table Data'!O583=\"Yes\", 'Pivot Table Data'!T583, \"\")","v":""}]
[{"$f":"'Pivot Table Data'!B584","v":0},{"$f":"'Pivot Table Data'!F584","v":"Health Sciences West"},{"$f":"'Pivot Table Data'!P584","v":"South"},{"$f":"'Pivot Table Data'!I584","v":"Level 3"},{"$f":"'Pivot Table Data'!J584","v":"Visitor"},{"$f":"'Pivot Table Data'!K584","v":0},{"$f":"'Pivot Table Data'!L584","v":0},{"$f":"'Pivot Table Data'!S584","v":113},{"$f":"'Pivot Table Data'!T584","v":113},{"$f":"IF('Pivot Table Data'!O584=\"Yes\", 'Pivot Table Data'!T584, \"\")","v":113}]
[{"$f":"'Pivot Table Data'!B585","v":0},{"$f":"'Pivot Table Data'!F585","v":"Health Sciences West"},{"$f":"'Pivot Table Data'!P585","v":"South"},{"$f":"'Pivot Table Data'!I585","v":"Level 4"},{"$f":"'Pivot Table Data'!J585","v":"A"},{"$f":"'Pivot Table Data'!K585","v":0},{"$f":"'Pivot Table Data'!L585","v":0},{"$f":"'Pivot Table Data'!S585","v":0},{"$f":"'Pivot Table Data'!T585","v":""},{"$f":"IF('Pivot Table Data'!O585=\"Yes\", 'Pivot Table Data'!T585, \"\")","v":""}]
[{"$f":"'Pivot Table Data'!B586","v":0},{"$f":"'Pivot Table Data'!F586","v":"Health Sciences West"},{"$f":"'Pivot Table Data'!P586","v":"South"},{"$f":"'Pivot Table Data'!I586","v":"Level 4"},{"$f":"'Pivot Table Data'!J586","v":"Accessible"},{"$f":"'Pivot Table Data'!K586","v":0},{"$f":"'Pivot Table Data'!L586","v":0},{"$f":"'Pivot Table Data'!S586","v":6},{"$f":"'Pivot Table Data'!T586","v":""},{"$f":"IF('Pivot Table Data'!O586=\"Yes\", 'Pivot Table Data'!T586, \"\")","v":""}]
[{"$f":"'Pivot Table Data'!B587","v":0},{"$f":"'Pivot Table Data'!F587","v":"Health Sciences West"},{"$f":"'Pivot Table Data'!P587","v":"South"},{"$f":"'Pivot Table Data'!I587","v":"Level 4"},{"$f":"'Pivot Table Data'!J587","v":"Accessible (Van)"},{"$f":"'Pivot Table Data'!K587","v":0},{"$f":"'Pivot Table Data'!L587","v":0},{"$f":"'Pivot Table Data'!S587","v":0},{"$f":"'Pivot Table Data'!T587","v":""},{"$f":"IF('Pivot Table Data'!O587=\"Yes\", 'Pivot Table Data'!T587, \"\")","v":""}]
[{"$f":"'Pivot Table Data'!B588","v":0},{"$f":"'Pivot Table Data'!F588","v":"Health Sciences West"},{"$f":"'Pivot Table Data'!P588","v":"South"},{"$f":"'Pivot Table Data'!I588","v":"Level 4"},{"$f":"'Pivot Table Data'!J588","v":"B"},{"$f":"'Pivot Table Data'!K588","v":0},{"$f":"'Pivot Table Data'!L588","v":0},{"$f":"'Pivot Table Data'!S588","v":183},{"$f":"'Pivot Table Data'!T588","v":""},{"$f":"IF('Pivot Table Data'!O588=\"Yes\", 'Pivot Table Data'!T588, \"\")","v":""}]
[{"$f":"'Pivot Table Data'!B589","v":0},{"$f":"'Pivot Table Data'!F589","v":"Health Sciences West"},{"$f":"'Pivot Table Data'!P589","v":"South"},{"$f":"'Pivot Table Data'!I589","v":"Level 4"},{"$f":"'Pivot Table Data'!J589","v":"Carpool"},{"$f":"'Pivot Table Data'!K589","v":"2 Person Carpool"},{"$f":"'Pivot Table Data'!L589","v":0},{"$f":"'Pivot Table Data'!S589","v":61},{"$f":"'Pivot Table Data'!T589","v":""},{"$f":"IF('Pivot Table Data'!O589=\"Yes\", 'Pivot Table Data'!T589, \"\")","v":""}]
[{"$f":"'Pivot Table Data'!B590","v":0},{"$f":"'Pivot Table Data'!F590","v":"Health Sciences West"},{"$f":"'Pivot Table Data'!P590","v":"South"},{"$f":"'Pivot Table Data'!I590","v":"Level 4"},{"$f":"'Pivot Table Data'!J590","v":"Electric Vehicle"},{"$f":"'Pivot Table Data'!K590","v":0},{"$f":"'Pivot Table Data'!L590","v":0},{"$f":"'Pivot Table Data'!S590","v":8},{"$f":"'Pivot Table Data'!T590","v":""},{"$f":"IF('Pivot Table Data'!O590=\"Yes\", 'Pivot Table Data'!T590, \"\")","v":""}]
[{"$f":"'Pivot Table Data'!B591","v":0},{"$f":"'Pivot Table Data'!F591","v":"Health Sciences West"},{"$f":"'Pivot Table Data'!P591","v":"South"},{"$f":"'Pivot Table Data'!I591","v":"Level 4"},{"$f":"'Pivot Table Data'!J591","v":"Motorcycle Section"},{"$f":"'Pivot Table Data'!K591","v":0},{"$f":"'Pivot Table Data'!L591","v":0},{"$f":"'Pivot Table Data'!S591","v":3},{"$f":"'Pivot Table Data'!T591","v":""},{"$f":"IF('Pivot Table Data'!O591=\"Yes\", 'Pivot Table Data'!T591, \"\")","v":""}]
[{"$f":"'Pivot Table Data'!B592","v":0},{"$f":"'Pivot Table Data'!F592","v":"Health Sciences West"},{"$f":"'Pivot Table Data'!P592","v":"South"},{"$f":"'Pivot Table Data'!I592","v":"Level 4"},{"$f":"'Pivot Table Data'!J592","v":"UC Vehicle"},{"$f":"'Pivot Table Data'!K592","v":"UC Cart"},{"$f":"'Pivot Table Data'!L592","v":0},{"$f":"'Pivot Table Data'!S592","v":1},{"$f":"'Pivot Table Data'!T592","v":""},{"$f":"IF('Pivot Table Data'!O592=\"Yes\", 'Pivot Table Data'!T592, \"\")","v":""}]
[{"$f":"'Pivot Table Data'!B593","v":0},{"$f":"'Pivot Table Data'!F593","v":"Health Sciences West"},{"$f":"'Pivot Table Data'!P593","v":"South"},{"$f":"'Pivot Table Data'!I593","v":"Level 5"},{"$f":"'Pivot Table Data'!J593","v":"Accessible"},{"$f":"'Pivot Table Data'!K593","v":0},{"$f":"'Pivot Table Data'!L593","v":0},{"$f":"'Pivot Table Data'!S593","v":5},{"$f":"'Pivot Table Data'!T593","v":""},{"$f":"IF('Pivot Table Data'!O593=\"Yes\", 'Pivot Table Data'!T593, \"\")","v":""}]
[{"$f":"'Pivot Table Data'!B594","v":0},{"$f":"'Pivot Table Data'!F594","v":"Health Sciences West"},{"$f":"'Pivot Table Data'!P594","v":"South"},{"$f":"'Pivot Table Data'!I594","v":"Level 5"},{"$f":"'Pivot Table Data'!J594","v":"Accessible (Van)"},{"$f":"'Pivot Table Data'!K594","v":0},{"$f":"'Pivot Table Data'!L594","v":0},{"$f":"'Pivot Table Data'!S594","v":0},{"$f":"'Pivot Table Data'!T594","v":""},{"$f":"IF('Pivot Table Data'!O594=\"Yes\", 'Pivot Table Data'!T594, \"\")","v":""}]
[{"$f":"'Pivot Table Data'!B595","v":0},{"$f":"'Pivot Table Data'!F595","v":"Health Sciences West"},{"$f":"'Pivot Table Data'!P595","v":"South"},{"$f":"'Pivot Table Data'!I595","v":"Level 5"},{"$f":"'Pivot Table Data'!J595","v":"B"},{"$f":"'Pivot Table Data'!K595","v":0},{"$f":"'Pivot Table Data'!L595","v":0},{"$f":"'Pivot Table Data'!S595","v":262},{"$f":"'Pivot Table Data'!T595","v":""},{"$f":"IF('Pivot Table Data'!O595=\"Yes\", 'Pivot Table Data'!T595, \"\")","v":""}]
[{"$f":"'Pivot Table Data'!B596","v":0},{"$f":"'Pivot Table Data'!F596","v":"Health Sciences West"},{"$f":"'Pivot Table Data'!P596","v":"South"},{"$f":"'Pivot Table Data'!I596","v":"Level 5"},{"$f":"'Pivot Table Data'!J596","v":"Motorcycle Section"},{"$f":"'Pivot Table Data'!K596","v":0},{"$f":"'Pivot Table Data'!L596","v":0},{"$f":"'Pivot Table Data'!S596","v":3},{"$f":"'Pivot Table Data'!T596","v":""},{"$f":"IF('Pivot Table Data'!O596=\"Yes\", 'Pivot Table Data'!T596, \"\")","v":""}]
[{"$f":"'Pivot Table Data'!B597","v":0},{"$f":"'Pivot Table Data'!F597","v":"Health Sciences West"},{"$f":"'Pivot Table Data'!P597","v":"South"},{"$f":"'Pivot Table Data'!I597","v":"Level 5"},{"$f":"'Pivot Table Data'!J597","v":"UC Vehicle"},{"$f":"'Pivot Table Data'!K597","v":"UC Cart"},{"$f":"'Pivot Table Data'!L597","v":0},{"$f":"'Pivot Table Data'!S597","v":1},{"$f":"'Pivot Table Data'!T597","v":""},{"$f":"IF('Pivot Table Data'!O597=\"Yes\", 'Pivot Table Data'!T597, \"\")","v":""}]
[{"$f":"'Pivot Table Data'!B598","v":0},{"$f":"'Pivot Table Data'!F598","v":"Revelle College "},{"$f":"'Pivot Table Data'!P598","v":"-"},{"$f":"'Pivot Table Data'!I598","v":"-"},{"$f":"'Pivot Table Data'!J598","v":"Loading"},{"$f":"'Pivot Table Data'!K598","v":"Curb"},{"$f":"'Pivot Table Data'!L598","v":30},{"$f":"'Pivot Table Data'!S598","v":10},{"$f":"'Pivot Table Data'!T598","v":10},{"$f":"IF('Pivot Table Data'!O598=\"Yes\", 'Pivot Table Data'!T598, \"\")","v":""}]
[{"$f":"'Pivot Table Data'!B599","v":0},{"$f":"'Pivot Table Data'!F599","v":"Revelle College "},{"$f":"'Pivot Table Data'!P599","v":"-"},{"$f":"'Pivot Table Data'!I599","v":"-"},{"$f":"'Pivot Table Data'!J599","v":"Reserved"},{"$f":"'Pivot Table Data'!K599","v":0},{"$f":"'Pivot Table Data'!L599","v":0},{"$f":"'Pivot Table Data'!S599","v":0},{"$f":"'Pivot Table Data'!T599","v":0},{"$f":"IF('Pivot Table Data'!O599=\"Yes\", 'Pivot Table Data'!T599, \"\")","v":""}]
[{"$f":"'Pivot Table Data'!B600","v":0},{"$f":"'Pivot Table Data'!F600","v":"Revelle College "},{"$f":"'Pivot Table Data'!P600","v":"P101"},{"$f":"'Pivot Table Data'!I600","v":"-"},{"$f":"'Pivot Table Data'!J600","v":"Accessible"},{"$f":"'Pivot Table Data'!K600","v":0},{"$f":"'Pivot Table Data'!L600","v":0},{"$f":"'Pivot Table Data'!S600","v":10},{"$f":"'Pivot Table Data'!T600","v":10},{"$f":"IF('Pivot Table Data'!O600=\"Yes\", 'Pivot Table Data'!T600, \"\")","v":""}]
[{"$f":"'Pivot Table Data'!B601","v":0},{"$f":"'Pivot Table Data'!F601","v":"Revelle College "},{"$f":"'Pivot Table Data'!P601","v":"P101"},{"$f":"'Pivot Table Data'!I601","v":"-"},{"$f":"'Pivot Table Data'!J601","v":"Accessible (Van)"},{"$f":"'Pivot Table Data'!K601","v":0},{"$f":"'Pivot Table Data'!L601","v":0},{"$f":"'Pivot Table Data'!S601","v":2},{"$f":"'Pivot Table Data'!T601","v":2},{"$f":"IF('Pivot Table Data'!O601=\"Yes\", 'Pivot Table Data'!T601, \"\")","v":""}]
[{"$f":"'Pivot Table Data'!B602","v":0},{"$f":"'Pivot Table Data'!F602","v":"Revelle College "},{"$f":"'Pivot Table Data'!P602","v":"P101"},{"$f":"'Pivot Table Data'!I602","v":"-"},{"$f":"'Pivot Table Data'!J602","v":"Reserved"},{"$f":"'Pivot Table Data'!K602","v":0},{"$f":"'Pivot Table Data'!L602","v":0},{"$f":"'Pivot Table Data'!S602","v":1},{"$f":"'Pivot Table Data'!T602","v":1},{"$f":"IF('Pivot Table Data'!O602=\"Yes\", 'Pivot Table Data'!T602, \"\")","v":""}]
[{"$f":"'Pivot Table Data'!B603","v":0},{"$f":"'Pivot Table Data'!F603","v":"Revelle College "},{"$f":"'Pivot Table Data'!P603","v":"P106"},{"$f":"'Pivot Table Data'!I603","v":"-"},{"$f":"'Pivot Table Data'!J603","v":"Accessible"},{"$f":"'Pivot Table Data'!K603","v":0},{"$f":"'Pivot Table Data'!L603","v":0},{"$f":"'Pivot Table Data'!S603","v":0},{"$f":"'Pivot Table Data'!T603","v":0},{"$f":"IF('Pivot Table Data'!O603=\"Yes\", 'Pivot Table Data'!T603, \"\")","v":""}]
[{"$f":"'Pivot Table Data'!B604","v":0},{"$f":"'Pivot Table Data'!F604","v":"Revelle College "},{"$f":"'Pivot Table Data'!P604","v":"P106"},{"$f":"'Pivot Table Data'!I604","v":"-"},{"$f":"'Pivot Table Data'!J604","v":"Accessible (Van)"},{"$f":"'Pivot Table Data'!K604","v":0},{"$f":"'Pivot Table Data'!L604","v":0},{"$f":"'Pivot Table Data'!S604","v":1},{"$f":"'Pivot Table Data'!T604","v":1},{"$f":"IF('Pivot Table Data'!O604=\"Yes\", 'Pivot Table Data'!T604, \"\")","v":""}]
[{"$f":"'Pivot Table Data'!B605","v":0},{"$f":"'Pivot Table Data'!F605","v":"Revelle College "},{"$f":"'Pivot Table Data'!P605","v":"P106"},{"$f":"'Pivot Table Data'!I605","v":"-"},{"$f":"'Pivot Table Data'!J605","v":"Motorcycle Section"},{"$f":"'Pivot Table Data'!K605","v":0},{"$f":"'Pivot Table Data'!L605","v":0},{"$f":"'Pivot Table Data'!S605","v":2},{"$f":"'Pivot Table Data'!T605","v":2},{"$f":"IF('Pivot Table Data'!O605=\"Yes\", 'Pivot Table Data'!T605, \"\")","v":""}]
[{"$f":"'Pivot Table Data'!B606","v":0},{"$f":"'Pivot Table Data'!F606","v":"Revelle College "},{"$f":"'Pivot Table Data'!P606","v":"P106"},{"$f":"'Pivot Table Data'!I606","v":"-"},{"$f":"'Pivot Table Data'!J606","v":"Reserved"},{"$f":"'Pivot Table Data'!K606","v":0},{"$f":"'Pivot Table Data'!L606","v":0},{"$f":"'Pivot Table Data'!S606","v":5},{"$f":"'Pivot Table Data'!T606","v":5},{"$f":"IF('Pivot Table Data'!O606=\"Yes\", 'Pivot Table Data'!T606, \"\")","v":""}]
[{"$f":"'Pivot Table Data'!B607","v":0},{"$f":"'Pivot Table Data'!F607","v":"Revelle College "},{"$f":"'Pivot Table Data'!P607","v":"P106"},{"$f":"'Pivot Table Data'!I607","v":"-"},{"$f":"'Pivot Table Data'!J607","v":"Visitor"},{"$f":"'Pivot Table Data'!K607","v":0},{"$f":"'Pivot Table Data'!L607","v":0},{"$f":"'Pivot Table Data'!S607","v":1},{"$f":"'Pivot Table Data'!T607","v":1},{"$f":"IF('Pivot Table Data'!O607=\"Yes\", 'Pivot Table Data'!T607, \"\")","v":1}]
[{"$f":"'Pivot Table Data'!B608","v":0},{"$f":"'Pivot Table Data'!F608","v":"Revelle College "},{"$f":"'Pivot Table Data'!P608","v":"P110"},{"$f":"'Pivot Table Data'!I608","v":"-"},{"$f":"'Pivot Table Data'!J608","v":"Service Yard"},{"$f":"'Pivot Table Data'!K608","v":0},{"$f":"'Pivot Table Data'!L608","v":0},{"$f":"'Pivot Table Data'!S608","v":5},{"$f":"'Pivot Table Data'!T608","v":5},{"$f":"IF('Pivot Table Data'!O608=\"Yes\", 'Pivot Table Data'!T608, \"\")","v":""}]
[{"$f":"'Pivot Table Data'!B609","v":0},{"$f":"'Pivot Table Data'!F609","v":"Revelle College "},{"$f":"'Pivot Table Data'!P609","v":"P112"},{"$f":"'Pivot Table Data'!I609","v":"-"},{"$f":"'Pivot Table Data'!J609","v":"Service Yard"},{"$f":"'Pivot Table Data'!K609","v":0},{"$f":"'Pivot Table Data'!L609","v":0},{"$f":"'Pivot Table Data'!S609","v":6},{"$f":"'Pivot Table Data'!T609","v":6},{"$f":"IF('Pivot Table Data'!O609=\"Yes\", 'Pivot Table Data'!T609, \"\")","v":""}]
[{"$f":"'Pivot Table Data'!B610","v":0},{"$f":"'Pivot Table Data'!F610","v":"Muir College"},{"$f":"'Pivot Table Data'!P610","v":"P113"},{"$f":"'Pivot Table Data'!I610","v":"-"},{"$f":"'Pivot Table Data'!J610","v":"Accessible"},{"$f":"'Pivot Table Data'!K610","v":0},{"$f":"'Pivot Table Data'!L610","v":0},{"$f":"'Pivot Table Data'!S610","v":0},{"$f":"'Pivot Table Data'!T610","v":0},{"$f":"IF('Pivot Table Data'!O610=\"Yes\", 'Pivot Table Data'!T610, \"\")","v":""}]
[{"$f":"'Pivot Table Data'!B611","v":0},{"$f":"'Pivot Table Data'!F611","v":"Muir College"},{"$f":"'Pivot Table Data'!P611","v":"P113"},{"$f":"'Pivot Table Data'!I611","v":"-"},{"$f":"'Pivot Table Data'!J611","v":"Accessible (Van)"},{"$f":"'Pivot Table Data'!K611","v":0},{"$f":"'Pivot Table Data'!L611","v":0},{"$f":"'Pivot Table Data'!S611","v":2},{"$f":"'Pivot Table Data'!T611","v":2},{"$f":"IF('Pivot Table Data'!O611=\"Yes\", 'Pivot Table Data'!T611, \"\")","v":""}]
[{"$f":"'Pivot Table Data'!B612","v":0},{"$f":"'Pivot Table Data'!F612","v":"Muir College"},{"$f":"'Pivot Table Data'!P612","v":"P113"},{"$f":"'Pivot Table Data'!I612","v":"-"},{"$f":"'Pivot Table Data'!J612","v":"Loading"},{"$f":"'Pivot Table Data'!K612","v":0},{"$f":"'Pivot Table Data'!L612","v":0},{"$f":"'Pivot Table Data'!S612","v":1},{"$f":"'Pivot Table Data'!T612","v":1},{"$f":"IF('Pivot Table Data'!O612=\"Yes\", 'Pivot Table Data'!T612, \"\")","v":""}]
[{"$f":"'Pivot Table Data'!B613","v":0},{"$f":"'Pivot Table Data'!F613","v":"Muir College"},{"$f":"'Pivot Table Data'!P613","v":"P113"},{"$f":"'Pivot Table Data'!I613","v":"-"},{"$f":"'Pivot Table Data'!J613","v":"Motorcycle Section"},{"$f":"'Pivot Table Data'!K613","v":0},{"$f":"'Pivot Table Data'!L613","v":0},{"$f":"'Pivot Table Data'!S613","v":1},{"$f":"'Pivot Table Data'!T613","v":1},{"$f":"IF('Pivot Table Data'!O613=\"Yes\", 'Pivot Table Data'!T613, \"\")","v":""}]
[{"$f":"'Pivot Table Data'!B614","v":0},{"$f":"'Pivot Table Data'!F614","v":"Muir College"},{"$f":"'Pivot Table Data'!P614","v":"P113"},{"$f":"'Pivot Table Data'!I614","v":"-"},{"$f":"'Pivot Table Data'!J614","v":"Reserved"},{"$f":"'Pivot Table Data'!K614","v":"Food Pick-Up"},{"$f":"'Pivot Table Data'!L614","v":"15 min"},{"$f":"'Pivot Table Data'!S614","v":3},{"$f":"'Pivot Table Data'!T614","v":3},{"$f":"IF('Pivot Table Data'!O614=\"Yes\", 'Pivot Table Data'!T614, \"\")","v":""}]
[{"$f":"'Pivot Table Data'!B615","v":0},{"$f":"'Pivot Table Data'!F615","v":"Muir College"},{"$f":"'Pivot Table Data'!P615","v":"P113"},{"$f":"'Pivot Table Data'!I615","v":"-"},{"$f":"'Pivot Table Data'!J615","v":"Reserved"},{"$f":"'Pivot Table Data'!K615","v":0},{"$f":"'Pivot Table Data'!L615","v":0},{"$f":"'Pivot Table Data'!S615","v":1},{"$f":"'Pivot Table Data'!T615","v":1},{"$f":"IF('Pivot Table Data'!O615=\"Yes\", 'Pivot Table Data'!T615, \"\")","v":""}]
[{"$f":"'Pivot Table Data'!B616","v":0},{"$f":"'Pivot Table Data'!F616","v":"Muir College"},{"$f":"'Pivot Table Data'!P616","v":"P113"},{"$f":"'Pivot Table Data'!I616","v":"-"},{"$f":"'Pivot Table Data'!J616","v":"Visitor"},{"$f":"'Pivot Table Data'!K616","v":0},{"$f":"'Pivot Table Data'!L616","v":"2 hours"},{"$f":"'Pivot Table Data'!S616","v":22},{"$f":"'Pivot Table Data'!T616","v":22},{"$f":"IF('Pivot Table Data'!O616=\"Yes\", 'Pivot Table Data'!T616, \"\")","v":22}]
[{"$f":"'Pivot Table Data'!B617","v":0},{"$f":"'Pivot Table Data'!F617","v":"Revelle College "},{"$f":"'Pivot Table Data'!P617","v":"P116"},{"$f":"'Pivot Table Data'!I617","v":"-"},{"$f":"'Pivot Table Data'!J617","v":"Allocated"},{"$f":"'Pivot Table Data'!K617","v":"Catering Vehicle"},{"$f":"'Pivot Table Data'!L617","v":0},{"$f":"'Pivot Table Data'!S617","v":5},{"$f":"'Pivot Table Data'!T617","v":5},{"$f":"IF('Pivot Table Data'!O617=\"Yes\", 'Pivot Table Data'!T617, \"\")","v":""}]
[{"$f":"'Pivot Table Data'!B618","v":0},{"$f":"'Pivot Table Data'!F618","v":"Revelle College "},{"$f":"'Pivot Table Data'!P618","v":"P116"},{"$f":"'Pivot Table Data'!I618","v":"-"},{"$f":"'Pivot Table Data'!J618","v":"Allocated"},{"$f":"'Pivot Table Data'!K618","v":"Housing, Dining, and Hospitality Vehicle"},{"$f":"'Pivot Table Data'!L618","v":0},{"$f":"'Pivot Table Data'!S618","v":5},{"$f":"'Pivot Table Data'!T618","v":5},{"$f":"IF('Pivot Table Data'!O618=\"Yes\", 'Pivot Table Data'!T618, \"\")","v":""}]
[{"$f":"'Pivot Table Data'!B619","v":0},{"$f":"'Pivot Table Data'!F619","v":"Revelle College "},{"$f":"'Pivot Table Data'!P619","v":"P116"},{"$f":"'Pivot Table Data'!I619","v":"-"},{"$f":"'Pivot Table Data'!J619","v":"Allocated"},{"$f":"'Pivot Table Data'!K619","v":"UC Vehicle #0796"},{"$f":"'Pivot Table Data'!L619","v":0},{"$f":"'Pivot Table Data'!S619","v":1},{"$f":"'Pivot Table Data'!T619","v":1},{"$f":"IF('Pivot Table Data'!O619=\"Yes\", 'Pivot Table Data'!T619, \"\")","v":""}]
[{"$f":"'Pivot Table Data'!B620","v":0},{"$f":"'Pivot Table Data'!F620","v":"Revelle College "},{"$f":"'Pivot Table Data'!P620","v":"P116"},{"$f":"'Pivot Table Data'!I620","v":"-"},{"$f":"'Pivot Table Data'!J620","v":"UC Vehicle"},{"$f":"'Pivot Table Data'!K620","v":"Electric Vehicle"},{"$f":"'Pivot Table Data'!L620","v":"4-Hour"},{"$f":"'Pivot Table Data'!S620","v":2},{"$f":"'Pivot Table Data'!T620","v":2},{"$f":"IF('Pivot Table Data'!O620=\"Yes\", 'Pivot Table Data'!T620, \"\")","v":""}]
[{"$f":"'Pivot Table Data'!B621","v":0},{"$f":"'Pivot Table Data'!F621","v":"Muir College"},{"$f":"'Pivot Table Data'!P621","v":"P201"},{"$f":"'Pivot Table Data'!I621","v":"-"},{"$f":"'Pivot Table Data'!J621","v":"A"},{"$f":"'Pivot Table Data'!K621","v":0},{"$f":"'Pivot Table Data'!L621","v":0},{"$f":"'Pivot Table Data'!S621","v":11},{"$f":"'Pivot Table Data'!T621","v":11},{"$f":"IF('Pivot Table Data'!O621=\"Yes\", 'Pivot Table Data'!T621, \"\")","v":11}]
[{"$f":"'Pivot Table Data'!B622","v":0},{"$f":"'Pivot Table Data'!F622","v":"Muir College"},{"$f":"'Pivot Table Data'!P622","v":"P201"},{"$f":"'Pivot Table Data'!I622","v":"-"},{"$f":"'Pivot Table Data'!J622","v":"Accessible"},{"$f":"'Pivot Table Data'!K622","v":0},{"$f":"'Pivot Table Data'!L622","v":0},{"$f":"'Pivot Table Data'!S622","v":2},{"$f":"'Pivot Table Data'!T622","v":2},{"$f":"IF('Pivot Table Data'!O622=\"Yes\", 'Pivot Table Data'!T622, \"\")","v":""}]
[{"$f":"'Pivot Table Data'!B623","v":0},{"$f":"'Pivot Table Data'!F623","v":"Muir College"},{"$f":"'Pivot Table Data'!P623","v":"P201"},{"$f":"'Pivot Table Data'!I623","v":"-"},{"$f":"'Pivot Table Data'!J623","v":"Accessible (Van)"},{"$f":"'Pivot Table Data'!K623","v":0},{"$f":"'Pivot Table Data'!L623","v":0},{"$f":"'Pivot Table Data'!S623","v":1},{"$f":"'Pivot Table Data'!T623","v":1},{"$f":"IF('Pivot Table Data'!O623=\"Yes\", 'Pivot Table Data'!T623, \"\")","v":""}]
[{"$f":"'Pivot Table Data'!B624","v":0},{"$f":"'Pivot Table Data'!F624","v":"Muir College"},{"$f":"'Pivot Table Data'!P624","v":"P201"},{"$f":"'Pivot Table Data'!I624","v":"-"},{"$f":"'Pivot Table Data'!J624","v":"Loading"},{"$f":"'Pivot Table Data'!K624","v":"Space"},{"$f":"'Pivot Table Data'!L624","v":15},{"$f":"'Pivot Table Data'!S624","v":8},{"$f":"'Pivot Table Data'!T624","v":8},{"$f":"IF('Pivot Table Data'!O624=\"Yes\", 'Pivot Table Data'!T624, \"\")","v":""}]
[{"$f":"'Pivot Table Data'!B625","v":0},{"$f":"'Pivot Table Data'!F625","v":"Muir College"},{"$f":"'Pivot Table Data'!P625","v":"P201"},{"$f":"'Pivot Table Data'!I625","v":"-"},{"$f":"'Pivot Table Data'!J625","v":"Motorcycle Section"},{"$f":"'Pivot Table Data'!K625","v":0},{"$f":"'Pivot Table Data'!L625","v":0},{"$f":"'Pivot Table Data'!S625","v":3},{"$f":"'Pivot Table Data'!T625","v":3},{"$f":"IF('Pivot Table Data'!O625=\"Yes\", 'Pivot Table Data'!T625, \"\")","v":""}]
[{"$f":"'Pivot Table Data'!B626","v":0},{"$f":"'Pivot Table Data'!F626","v":"Muir College"},{"$f":"'Pivot Table Data'!P626","v":"P202"},{"$f":"'Pivot Table Data'!I626","v":"-"},{"$f":"'Pivot Table Data'!J626","v":"Accessible"},{"$f":"'Pivot Table Data'!K626","v":0},{"$f":"'Pivot Table Data'!L626","v":0},{"$f":"'Pivot Table Data'!S626","v":0},{"$f":"'Pivot Table Data'!T626","v":0},{"$f":"IF('Pivot Table Data'!O626=\"Yes\", 'Pivot Table Data'!T626, \"\")","v":""}]
[{"$f":"'Pivot Table Data'!B627","v":0},{"$f":"'Pivot Table Data'!F627","v":"Muir College"},{"$f":"'Pivot Table Data'!P627","v":"P202"},{"$f":"'Pivot Table Data'!I627","v":"-"},{"$f":"'Pivot Table Data'!J627","v":"Accessible (Van)"},{"$f":"'Pivot Table Data'!K627","v":0},{"$f":"'Pivot Table Data'!L627","v":0},{"$f":"'Pivot Table Data'!S627","v":2},{"$f":"'Pivot Table Data'!T627","v":2},{"$f":"IF('Pivot Table Data'!O627=\"Yes\", 'Pivot Table Data'!T627, \"\")","v":""}]
[{"$f":"'Pivot Table Data'!B628","v":0},{"$f":"'Pivot Table Data'!F628","v":"Muir College"},{"$f":"'Pivot Table Data'!P628","v":"P202"},{"$f":"'Pivot Table Data'!I628","v":"-"},{"$f":"'Pivot Table Data'!J628","v":"Loading"},{"$f":"'Pivot Table Data'!K628","v":"Space"},{"$f":"'Pivot Table Data'!L628","v":20},{"$f":"'Pivot Table Data'!S628","v":4},{"$f":"'Pivot Table Data'!T628","v":4},{"$f":"IF('Pivot Table Data'!O628=\"Yes\", 'Pivot Table Data'!T628, \"\")","v":""}]
[{"$f":"'Pivot Table Data'!B629","v":0},{"$f":"'Pivot Table Data'!F629","v":"Muir College"},{"$f":"'Pivot Table Data'!P629","v":"P202"},{"$f":"'Pivot Table Data'!I629","v":"-"},{"$f":"'Pivot Table Data'!J629","v":"Reserved"},{"$f":"'Pivot Table Data'!K629","v":0},{"$f":"'Pivot Table Data'!L629","v":0},{"$f":"'Pivot Table Data'!S629","v":1},{"$f":"'Pivot Table Data'!T629","v":1},{"$f":"IF('Pivot Table Data'!O629=\"Yes\", 'Pivot Table Data'!T629, \"\")","v":""}]
[{"$f":"'Pivot Table Data'!B630","v":0},{"$f":"'Pivot Table Data'!F630","v":"Muir College"},{"$f":"'Pivot Table Data'!P630","v":"P202"},{"$f":"'Pivot Table Data'!I630","v":"-"},{"$f":"'Pivot Table Data'!J630","v":"Service Yard"},{"$f":"'Pivot Table Data'!K630","v":0},{"$f":"'Pivot Table Data'!L630","v":0},{"$f":"'Pivot Table Data'!S630","v":2},{"$f":"'Pivot Table Data'!T630","v":2},{"$f":"IF('Pivot Table Data'!O630=\"Yes\", 'Pivot Table Data'!T630, \"\")","v":""}]
[{"$f":"'Pivot Table Data'!B631","v":0},{"$f":"'Pivot Table Data'!F631","v":"Muir College"},{"$f":"'Pivot Table Data'!P631","v":"P203"},{"$f":"'Pivot Table Data'!I631","v":"-"},{"$f":"'Pivot Table Data'!J631","v":"Reserved"},{"$f":"'Pivot Table Data'!K631","v":0},{"$f":"'Pivot Table Data'!L631","v":0},{"$f":"'Pivot Table Data'!S631","v":6},{"$f":"'Pivot Table Data'!T631","v":6},{"$f":"IF('Pivot Table Data'!O631=\"Yes\", 'Pivot Table Data'!T631, \"\")","v":""}]
[{"$f":"'Pivot Table Data'!B632","v":0},{"$f":"'Pivot Table Data'!F632","v":"Muir College"},{"$f":"'Pivot Table Data'!P632","v":"P204"},{"$f":"'Pivot Table Data'!I632","v":"-"},{"$f":"'Pivot Table Data'!J632","v":"Allocated"},{"$f":"'Pivot Table Data'!K632","v":"Housing/Dining Maintenance Vehicle"},{"$f":"'Pivot Table Data'!L632","v":0},{"$f":"'Pivot Table Data'!S632","v":2},{"$f":"'Pivot Table Data'!T632","v":2},{"$f":"IF('Pivot Table Data'!O632=\"Yes\", 'Pivot Table Data'!T632, \"\")","v":""}]
[{"$f":"'Pivot Table Data'!B633","v":0},{"$f":"'Pivot Table Data'!F633","v":"Muir College"},{"$f":"'Pivot Table Data'!P633","v":"P205"},{"$f":"'Pivot Table Data'!I633","v":"-"},{"$f":"'Pivot Table Data'!J633","v":"Service Yard"},{"$f":"'Pivot Table Data'!K633","v":0},{"$f":"'Pivot Table Data'!L633","v":0},{"$f":"'Pivot Table Data'!S633","v":4},{"$f":"'Pivot Table Data'!T633","v":4},{"$f":"IF('Pivot Table Data'!O633=\"Yes\", 'Pivot Table Data'!T633, \"\")","v":""}]
[{"$f":"'Pivot Table Data'!B634","v":0},{"$f":"'Pivot Table Data'!F634","v":"Muir College"},{"$f":"'Pivot Table Data'!P634","v":"P206"},{"$f":"'Pivot Table Data'!I634","v":"-"},{"$f":"'Pivot Table Data'!J634","v":"A"},{"$f":"'Pivot Table Data'!K634","v":0},{"$f":"'Pivot Table Data'!L634","v":"2 Hour"},{"$f":"'Pivot Table Data'!S634","v":32},{"$f":"'Pivot Table Data'!T634","v":32},{"$f":"IF('Pivot Table Data'!O634=\"Yes\", 'Pivot Table Data'!T634, \"\")","v":32}]
[{"$f":"'Pivot Table Data'!B635","v":0},{"$f":"'Pivot Table Data'!F635","v":"Muir College"},{"$f":"'Pivot Table Data'!P635","v":"P206"},{"$f":"'Pivot Table Data'!I635","v":"-"},{"$f":"'Pivot Table Data'!J635","v":"Accessible"},{"$f":"'Pivot Table Data'!K635","v":0},{"$f":"'Pivot Table Data'!L635","v":0},{"$f":"'Pivot Table Data'!S635","v":4},{"$f":"'Pivot Table Data'!T635","v":4},{"$f":"IF('Pivot Table Data'!O635=\"Yes\", 'Pivot Table Data'!T635, \"\")","v":""}]
[{"$f":"'Pivot Table Data'!B636","v":0},{"$f":"'Pivot Table Data'!F636","v":"Muir College"},{"$f":"'Pivot Table Data'!P636","v":"P206"},{"$f":"'Pivot Table Data'!I636","v":"-"},{"$f":"'Pivot Table Data'!J636","v":"Accessible (Van)"},{"$f":"'Pivot Table Data'!K636","v":0},{"$f":"'Pivot Table Data'!L636","v":0},{"$f":"'Pivot Table Data'!S636","v":2},{"$f":"'Pivot Table Data'!T636","v":2},{"$f":"IF('Pivot Table Data'!O636=\"Yes\", 'Pivot Table Data'!T636, \"\")","v":""}]
[{"$f":"'Pivot Table Data'!B637","v":0},{"$f":"'Pivot Table Data'!F637","v":"Muir College"},{"$f":"'Pivot Table Data'!P637","v":"P206"},{"$f":"'Pivot Table Data'!I637","v":"-"},{"$f":"'Pivot Table Data'!J637","v":"B"},{"$f":"'Pivot Table Data'!K637","v":0},{"$f":"'Pivot Table Data'!L637","v":"2 Hour"},{"$f":"'Pivot Table Data'!S637","v":0},{"$f":"'Pivot Table Data'!T637","v":0},{"$f":"IF('Pivot Table Data'!O637=\"Yes\", 'Pivot Table Data'!T637, \"\")","v":0}]
[{"$f":"'Pivot Table Data'!B638","v":0},{"$f":"'Pivot Table Data'!F638","v":"Muir College"},{"$f":"'Pivot Table Data'!P638","v":"P206"},{"$f":"'Pivot Table Data'!I638","v":"-"},{"$f":"'Pivot Table Data'!J638","v":"Commercial Loading"},{"$f":"'Pivot Table Data'!K638","v":0},{"$f":"'Pivot Table Data'!L638","v":0},{"$f":"'Pivot Table Data'!S638","v":4},{"$f":"'Pivot Table Data'!T638","v":4},{"$f":"IF('Pivot Table Data'!O638=\"Yes\", 'Pivot Table Data'!T638, \"\")","v":""}]
[{"$f":"'Pivot Table Data'!B639","v":0},{"$f":"'Pivot Table Data'!F639","v":"Muir College"},{"$f":"'Pivot Table Data'!P639","v":"P206"},{"$f":"'Pivot Table Data'!I639","v":"-"},{"$f":"'Pivot Table Data'!J639","v":"Electric Vehicle"},{"$f":"'Pivot Table Data'!K639","v":0},{"$f":"'Pivot Table Data'!L639","v":"4-Hour"},{"$f":"'Pivot Table Data'!S639","v":2},{"$f":"'Pivot Table Data'!T639","v":2},{"$f":"IF('Pivot Table Data'!O639=\"Yes\", 'Pivot Table Data'!T639, \"\")","v":""}]
[{"$f":"'Pivot Table Data'!B640","v":0},{"$f":"'Pivot Table Data'!F640","v":"Muir College"},{"$f":"'Pivot Table Data'!P640","v":"P206"},{"$f":"'Pivot Table Data'!I640","v":"-"},{"$f":"'Pivot Table Data'!J640","v":"Loading Zone"},{"$f":"'Pivot Table Data'!K640","v":0},{"$f":"'Pivot Table Data'!L640","v":"5 Min"},{"$f":"'Pivot Table Data'!S640","v":1},{"$f":"'Pivot Table Data'!T640","v":1},{"$f":"IF('Pivot Table Data'!O640=\"Yes\", 'Pivot Table Data'!T640, \"\")","v":""}]
[{"$f":"'Pivot Table Data'!B641","v":0},{"$f":"'Pivot Table Data'!F641","v":"Muir College"},{"$f":"'Pivot Table Data'!P641","v":"P206"},{"$f":"'Pivot Table Data'!I641","v":"-"},{"$f":"'Pivot Table Data'!J641","v":"UC Vehicle"},{"$f":"'Pivot Table Data'!K641","v":0},{"$f":"'Pivot Table Data'!L641","v":0},{"$f":"'Pivot Table Data'!S641","v":4},{"$f":"'Pivot Table Data'!T641","v":4},{"$f":"IF('Pivot Table Data'!O641=\"Yes\", 'Pivot Table Data'!T641, \"\")","v":""}]
[{"$f":"'Pivot Table Data'!B642","v":0},{"$f":"'Pivot Table Data'!F642","v":"Muir College"},{"$f":"'Pivot Table Data'!P642","v":"P206"},{"$f":"'Pivot Table Data'!I642","v":"-"},{"$f":"'Pivot Table Data'!J642","v":"Visitor"},{"$f":"'Pivot Table Data'!K642","v":0},{"$f":"'Pivot Table Data'!L642","v":"2 Hour"},{"$f":"'Pivot Table Data'!S642","v":5},{"$f":"'Pivot Table Data'!T642","v":5},{"$f":"IF('Pivot Table Data'!O642=\"Yes\", 'Pivot Table Data'!T642, \"\")","v":5}]
[{"$f":"'Pivot Table Data'!B643","v":0},{"$f":"'Pivot Table Data'!F643","v":"Marshall College"},{"$f":"'Pivot Table Data'!P643","v":"P303"},{"$f":"'Pivot Table Data'!I643","v":"-"},{"$f":"'Pivot Table Data'!J643","v":"A"},{"$f":"'Pivot Table Data'!K643","v":0},{"$f":"'Pivot Table Data'!L643","v":0},{"$f":"'Pivot Table Data'!S643","v":88},{"$f":"'Pivot Table Data'!T643","v":88},{"$f":"IF('Pivot Table Data'!O643=\"Yes\", 'Pivot Table Data'!T643, \"\")","v":88}]
[{"$f":"'Pivot Table Data'!B644","v":0},{"$f":"'Pivot Table Data'!F644","v":"Marshall College"},{"$f":"'Pivot Table Data'!P644","v":"P303"},{"$f":"'Pivot Table Data'!I644","v":"-"},{"$f":"'Pivot Table Data'!J644","v":"Accessible"},{"$f":"'Pivot Table Data'!K644","v":0},{"$f":"'Pivot Table Data'!L644","v":0},{"$f":"'Pivot Table Data'!S644","v":5},{"$f":"'Pivot Table Data'!T644","v":5},{"$f":"IF('Pivot Table Data'!O644=\"Yes\", 'Pivot Table Data'!T644, \"\")","v":""}]
[{"$f":"'Pivot Table Data'!B645","v":0},{"$f":"'Pivot Table Data'!F645","v":"Marshall College"},{"$f":"'Pivot Table Data'!P645","v":"P303"},{"$f":"'Pivot Table Data'!I645","v":"-"},{"$f":"'Pivot Table Data'!J645","v":"Accessible (Van)"},{"$f":"'Pivot Table Data'!K645","v":0},{"$f":"'Pivot Table Data'!L645","v":0},{"$f":"'Pivot Table Data'!S645","v":1},{"$f":"'Pivot Table Data'!T645","v":1},{"$f":"IF('Pivot Table Data'!O645=\"Yes\", 'Pivot Table Data'!T645, \"\")","v":""}]
[{"$f":"'Pivot Table Data'!B646","v":0},{"$f":"'Pivot Table Data'!F646","v":"Marshall College"},{"$f":"'Pivot Table Data'!P646","v":"P303"},{"$f":"'Pivot Table Data'!I646","v":"-"},{"$f":"'Pivot Table Data'!J646","v":"Loading"},{"$f":"'Pivot Table Data'!K646","v":0},{"$f":"'Pivot Table Data'!L646","v":"20 minutes"},{"$f":"'Pivot Table Data'!S646","v":2},{"$f":"'Pivot Table Data'!T646","v":2},{"$f":"IF('Pivot Table Data'!O646=\"Yes\", 'Pivot Table Data'!T646, \"\")","v":""}]
[{"$f":"'Pivot Table Data'!B647","v":0},{"$f":"'Pivot Table Data'!F647","v":"Marshall College"},{"$f":"'Pivot Table Data'!P647","v":"P303"},{"$f":"'Pivot Table Data'!I647","v":"-"},{"$f":"'Pivot Table Data'!J647","v":"Reserved"},{"$f":"'Pivot Table Data'!K647","v":0},{"$f":"'Pivot Table Data'!L647","v":0},{"$f":"'Pivot Table Data'!S647","v":5},{"$f":"'Pivot Table Data'!T647","v":5},{"$f":"IF('Pivot Table Data'!O647=\"Yes\", 'Pivot Table Data'!T647, \"\")","v":""}]
[{"$f":"'Pivot Table Data'!B648","v":0},{"$f":"'Pivot Table Data'!F648","v":"Marshall College"},{"$f":"'Pivot Table Data'!P648","v":"P303"},{"$f":"'Pivot Table Data'!I648","v":"-"},{"$f":"'Pivot Table Data'!J648","v":"Service Yard"},{"$f":"'Pivot Table Data'!K648","v":0},{"$f":"'Pivot Table Data'!L648","v":0},{"$f":"'Pivot Table Data'!S648","v":2},{"$f":"'Pivot Table Data'!T648","v":2},{"$f":"IF('Pivot Table Data'!O648=\"Yes\", 'Pivot Table Data'!T648, \"\")","v":""}]
[{"$f":"'Pivot Table Data'!B649","v":0},{"$f":"'Pivot Table Data'!F649","v":"Marshall College"},{"$f":"'Pivot Table Data'!P649","v":"P303"},{"$f":"'Pivot Table Data'!I649","v":"-"},{"$f":"'Pivot Table Data'!J649","v":"Visitor"},{"$f":"'Pivot Table Data'!K649","v":"5 Minute"},{"$f":"'Pivot Table Data'!L649","v":"5 minutes"},{"$f":"'Pivot Table Data'!S649","v":2},{"$f":"'Pivot Table Data'!T649","v":2},{"$f":"IF('Pivot Table Data'!O649=\"Yes\", 'Pivot Table Data'!T649, \"\")","v":2}]
[{"$f":"'Pivot Table Data'!B650","v":0},{"$f":"'Pivot Table Data'!F650","v":"Marshall College"},{"$f":"'Pivot Table Data'!P650","v":"P303"},{"$f":"'Pivot Table Data'!I650","v":"-"},{"$f":"'Pivot Table Data'!J650","v":"Visitor"},{"$f":"'Pivot Table Data'!K650","v":0},{"$f":"'Pivot Table Data'!L650","v":0},{"$f":"'Pivot Table Data'!S650","v":28},{"$f":"'Pivot Table Data'!T650","v":28},{"$f":"IF('Pivot Table Data'!O650=\"Yes\", 'Pivot Table Data'!T650, \"\")","v":28}]
[{"$f":"'Pivot Table Data'!B651","v":0},{"$f":"'Pivot Table Data'!F651","v":"Marshall College"},{"$f":"'Pivot Table Data'!P651","v":"P304"},{"$f":"'Pivot Table Data'!I651","v":"-"},{"$f":"'Pivot Table Data'!J651","v":"Accessible"},{"$f":"'Pivot Table Data'!K651","v":0},{"$f":"'Pivot Table Data'!L651","v":0},{"$f":"'Pivot Table Data'!S651","v":1},{"$f":"'Pivot Table Data'!T651","v":1},{"$f":"IF('Pivot Table Data'!O651=\"Yes\", 'Pivot Table Data'!T651, \"\")","v":""}]
[{"$f":"'Pivot Table Data'!B652","v":0},{"$f":"'Pivot Table Data'!F652","v":"Marshall College"},{"$f":"'Pivot Table Data'!P652","v":"P304"},{"$f":"'Pivot Table Data'!I652","v":"-"},{"$f":"'Pivot Table Data'!J652","v":"Accessible (Van)"},{"$f":"'Pivot Table Data'!K652","v":0},{"$f":"'Pivot Table Data'!L652","v":0},{"$f":"'Pivot Table Data'!S652","v":1},{"$f":"'Pivot Table Data'!T652","v":1},{"$f":"IF('Pivot Table Data'!O652=\"Yes\", 'Pivot Table Data'!T652, \"\")","v":""}]
[{"$f":"'Pivot Table Data'!B653","v":0},{"$f":"'Pivot Table Data'!F653","v":"Marshall College"},{"$f":"'Pivot Table Data'!P653","v":"P304"},{"$f":"'Pivot Table Data'!I653","v":"-"},{"$f":"'Pivot Table Data'!J653","v":"B"},{"$f":"'Pivot Table Data'!K653","v":0},{"$f":"'Pivot Table Data'!L653","v":0},{"$f":"'Pivot Table Data'!S653","v":0},{"$f":"'Pivot Table Data'!T653","v":0},{"$f":"IF('Pivot Table Data'!O653=\"Yes\", 'Pivot Table Data'!T653, \"\")","v":0}]
[{"$f":"'Pivot Table Data'!B654","v":0},{"$f":"'Pivot Table Data'!F654","v":"Marshall College"},{"$f":"'Pivot Table Data'!P654","v":"P304"},{"$f":"'Pivot Table Data'!I654","v":"-"},{"$f":"'Pivot Table Data'!J654","v":"Loading"},{"$f":"'Pivot Table Data'!K654","v":0},{"$f":"'Pivot Table Data'!L654","v":"20 minutes"},{"$f":"'Pivot Table Data'!S654","v":2},{"$f":"'Pivot Table Data'!T654","v":2},{"$f":"IF('Pivot Table Data'!O654=\"Yes\", 'Pivot Table Data'!T654, \"\")","v":""}]
[{"$f":"'Pivot Table Data'!B655","v":0},{"$f":"'Pivot Table Data'!F655","v":"Marshall College"},{"$f":"'Pivot Table Data'!P655","v":"P304"},{"$f":"'Pivot Table Data'!I655","v":"-"},{"$f":"'Pivot Table Data'!J655","v":"Motorcycle Section"},{"$f":"'Pivot Table Data'!K655","v":0},{"$f":"'Pivot Table Data'!L655","v":0},{"$f":"'Pivot Table Data'!S655","v":5},{"$f":"'Pivot Table Data'!T655","v":5},{"$f":"IF('Pivot Table Data'!O655=\"Yes\", 'Pivot Table Data'!T655, \"\")","v":""}]
[{"$f":"'Pivot Table Data'!B656","v":0},{"$f":"'Pivot Table Data'!F656","v":"Marshall College"},{"$f":"'Pivot Table Data'!P656","v":"P304"},{"$f":"'Pivot Table Data'!I656","v":"-"},{"$f":"'Pivot Table Data'!J656","v":"S"},{"$f":"'Pivot Table Data'!K656","v":0},{"$f":"'Pivot Table Data'!L656","v":0},{"$f":"'Pivot Table Data'!S656","v":72},{"$f":"'Pivot Table Data'!T656","v":72},{"$f":"IF('Pivot Table Data'!O656=\"Yes\", 'Pivot Table Data'!T656, \"\")","v":72}]
[{"$f":"'Pivot Table Data'!B657","v":0},{"$f":"'Pivot Table Data'!F657","v":"Marshall College"},{"$f":"'Pivot Table Data'!P657","v":"P304"},{"$f":"'Pivot Table Data'!I657","v":"-"},{"$f":"'Pivot Table Data'!J657","v":"Service Yard"},{"$f":"'Pivot Table Data'!K657","v":0},{"$f":"'Pivot Table Data'!L657","v":0},{"$f":"'Pivot Table Data'!S657","v":2},{"$f":"'Pivot Table Data'!T657","v":2},{"$f":"IF('Pivot Table Data'!O657=\"Yes\", 'Pivot Table Data'!T657, \"\")","v":""}]
[{"$f":"'Pivot Table Data'!B658","v":0},{"$f":"'Pivot Table Data'!F658","v":"Roosevelt College"},{"$f":"'Pivot Table Data'!P658","v":"P306"},{"$f":"'Pivot Table Data'!I658","v":"-"},{"$f":"'Pivot Table Data'!J658","v":"Accessible"},{"$f":"'Pivot Table Data'!K658","v":0},{"$f":"'Pivot Table Data'!L658","v":0},{"$f":"'Pivot Table Data'!S658","v":3},{"$f":"'Pivot Table Data'!T658","v":3},{"$f":"IF('Pivot Table Data'!O658=\"Yes\", 'Pivot Table Data'!T658, \"\")","v":""}]
[{"$f":"'Pivot Table Data'!B659","v":0},{"$f":"'Pivot Table Data'!F659","v":"Roosevelt College"},{"$f":"'Pivot Table Data'!P659","v":"P306"},{"$f":"'Pivot Table Data'!I659","v":"-"},{"$f":"'Pivot Table Data'!J659","v":"Accessible (Van)"},{"$f":"'Pivot Table Data'!K659","v":0},{"$f":"'Pivot Table Data'!L659","v":0},{"$f":"'Pivot Table Data'!S659","v":0},{"$f":"'Pivot Table Data'!T659","v":0},{"$f":"IF('Pivot Table Data'!O659=\"Yes\", 'Pivot Table Data'!T659, \"\")","v":""}]
[{"$f":"'Pivot Table Data'!B660","v":0},{"$f":"'Pivot Table Data'!F660","v":"Roosevelt College"},{"$f":"'Pivot Table Data'!P660","v":"P306"},{"$f":"'Pivot Table Data'!I660","v":"-"},{"$f":"'Pivot Table Data'!J660","v":"Loading"},{"$f":"'Pivot Table Data'!K660","v":0},{"$f":"'Pivot Table Data'!L660","v":"20 minutes"},{"$f":"'Pivot Table Data'!S660","v":4},{"$f":"'Pivot Table Data'!T660","v":4},{"$f":"IF('Pivot Table Data'!O660=\"Yes\", 'Pivot Table Data'!T660, \"\")","v":""}]
[{"$f":"'Pivot Table Data'!B661","v":0},{"$f":"'Pivot Table Data'!F661","v":"Roosevelt College"},{"$f":"'Pivot Table Data'!P661","v":"P306"},{"$f":"'Pivot Table Data'!I661","v":"-"},{"$f":"'Pivot Table Data'!J661","v":"Reserved"},{"$f":"'Pivot Table Data'!K661","v":0},{"$f":"'Pivot Table Data'!L661","v":0},{"$f":"'Pivot Table Data'!S661","v":4},{"$f":"'Pivot Table Data'!T661","v":4},{"$f":"IF('Pivot Table Data'!O661=\"Yes\", 'Pivot Table Data'!T661, \"\")","v":""}]
[{"$f":"'Pivot Table Data'!B662","v":0},{"$f":"'Pivot Table Data'!F662","v":"Roosevelt College"},{"$f":"'Pivot Table Data'!P662","v":"P306"},{"$f":"'Pivot Table Data'!I662","v":"-"},{"$f":"'Pivot Table Data'!J662","v":"UC Vehicle"},{"$f":"'Pivot Table Data'!K662","v":0},{"$f":"'Pivot Table Data'!L662","v":0},{"$f":"'Pivot Table Data'!S662","v":3},{"$f":"'Pivot Table Data'!T662","v":3},{"$f":"IF('Pivot Table Data'!O662=\"Yes\", 'Pivot Table Data'!T662, \"\")","v":""}]
[{"$f":"'Pivot Table Data'!B663","v":0},{"$f":"'Pivot Table Data'!F663","v":"Marshall College"},{"$f":"'Pivot Table Data'!P663","v":"P310"},{"$f":"'Pivot Table Data'!I663","v":"-"},{"$f":"'Pivot Table Data'!J663","v":"Accessible"},{"$f":"'Pivot Table Data'!K663","v":0},{"$f":"'Pivot Table Data'!L663","v":0},{"$f":"'Pivot Table Data'!S663","v":2},{"$f":"'Pivot Table Data'!T663","v":2},{"$f":"IF('Pivot Table Data'!O663=\"Yes\", 'Pivot Table Data'!T663, \"\")","v":""}]
[{"$f":"'Pivot Table Data'!B664","v":0},{"$f":"'Pivot Table Data'!F664","v":"Marshall College"},{"$f":"'Pivot Table Data'!P664","v":"P310"},{"$f":"'Pivot Table Data'!I664","v":"-"},{"$f":"'Pivot Table Data'!J664","v":"Accessible (Van)"},{"$f":"'Pivot Table Data'!K664","v":0},{"$f":"'Pivot Table Data'!L664","v":0},{"$f":"'Pivot Table Data'!S664","v":0},{"$f":"'Pivot Table Data'!T664","v":0},{"$f":"IF('Pivot Table Data'!O664=\"Yes\", 'Pivot Table Data'!T664, \"\")","v":""}]
[{"$f":"'Pivot Table Data'!B665","v":0},{"$f":"'Pivot Table Data'!F665","v":"Marshall College"},{"$f":"'Pivot Table Data'!P665","v":"P310"},{"$f":"'Pivot Table Data'!I665","v":"-"},{"$f":"'Pivot Table Data'!J665","v":"Loading"},{"$f":"'Pivot Table Data'!K665","v":0},{"$f":"'Pivot Table Data'!L665","v":"20 minutes"},{"$f":"'Pivot Table Data'!S665","v":2},{"$f":"'Pivot Table Data'!T665","v":2},{"$f":"IF('Pivot Table Data'!O665=\"Yes\", 'Pivot Table Data'!T665, \"\")","v":""}]
[{"$f":"'Pivot Table Data'!B666","v":0},{"$f":"'Pivot Table Data'!F666","v":"North Campus"},{"$f":"'Pivot Table Data'!P666","v":"P351"},{"$f":"'Pivot Table Data'!I666","v":"-"},{"$f":"'Pivot Table Data'!J666","v":"A"},{"$f":"'Pivot Table Data'!K666","v":0},{"$f":"'Pivot Table Data'!L666","v":0},{"$f":"'Pivot Table Data'!S666","v":22},{"$f":"'Pivot Table Data'!T666","v":22},{"$f":"IF('Pivot Table Data'!O666=\"Yes\", 'Pivot Table Data'!T666, \"\")","v":22}]
[{"$f":"'Pivot Table Data'!B667","v":0},{"$f":"'Pivot Table Data'!F667","v":"North Campus"},{"$f":"'Pivot Table Data'!P667","v":"P351"},{"$f":"'Pivot Table Data'!I667","v":"-"},{"$f":"'Pivot Table Data'!J667","v":"Reserved"},{"$f":"'Pivot Table Data'!K667","v":"Rady School"},{"$f":"'Pivot Table Data'!L667","v":0},{"$f":"'Pivot Table Data'!S667","v":3},{"$f":"'Pivot Table Data'!T667","v":3},{"$f":"IF('Pivot Table Data'!O667=\"Yes\", 'Pivot Table Data'!T667, \"\")","v":""}]
[{"$f":"'Pivot Table Data'!B668","v":0},{"$f":"'Pivot Table Data'!F668","v":"North Campus"},{"$f":"'Pivot Table Data'!P668","v":"P351"},{"$f":"'Pivot Table Data'!I668","v":"-"},{"$f":"'Pivot Table Data'!J668","v":"Reserved"},{"$f":"'Pivot Table Data'!K668","v":0},{"$f":"'Pivot Table Data'!L668","v":0},{"$f":"'Pivot Table Data'!S668","v":7},{"$f":"'Pivot Table Data'!T668","v":7},{"$f":"IF('Pivot Table Data'!O668=\"Yes\", 'Pivot Table Data'!T668, \"\")","v":""}]
[{"$f":"'Pivot Table Data'!B669","v":0},{"$f":"'Pivot Table Data'!F669","v":"North Campus"},{"$f":"'Pivot Table Data'!P669","v":"P352"},{"$f":"'Pivot Table Data'!I669","v":"-"},{"$f":"'Pivot Table Data'!J669","v":"Accessible"},{"$f":"'Pivot Table Data'!K669","v":0},{"$f":"'Pivot Table Data'!L669","v":0},{"$f":"'Pivot Table Data'!S669","v":0},{"$f":"'Pivot Table Data'!T669","v":0},{"$f":"IF('Pivot Table Data'!O669=\"Yes\", 'Pivot Table Data'!T669, \"\")","v":""}]
[{"$f":"'Pivot Table Data'!B670","v":0},{"$f":"'Pivot Table Data'!F670","v":"North Campus"},{"$f":"'Pivot Table Data'!P670","v":"P352"},{"$f":"'Pivot Table Data'!I670","v":"-"},{"$f":"'Pivot Table Data'!J670","v":"Accessible (Van)"},{"$f":"'Pivot Table Data'!K670","v":0},{"$f":"'Pivot Table Data'!L670","v":0},{"$f":"'Pivot Table Data'!S670","v":1},{"$f":"'Pivot Table Data'!T670","v":1},{"$f":"IF('Pivot Table Data'!O670=\"Yes\", 'Pivot Table Data'!T670, \"\")","v":""}]
[{"$f":"'Pivot Table Data'!B671","v":0},{"$f":"'Pivot Table Data'!F671","v":"North Campus"},{"$f":"'Pivot Table Data'!P671","v":"P352"},{"$f":"'Pivot Table Data'!I671","v":"-"},{"$f":"'Pivot Table Data'!J671","v":"Loading"},{"$f":"'Pivot Table Data'!K671","v":0},{"$f":"'Pivot Table Data'!L671","v":"20 minutes"},{"$f":"'Pivot Table Data'!S671","v":1},{"$f":"'Pivot Table Data'!T671","v":1},{"$f":"IF('Pivot Table Data'!O671=\"Yes\", 'Pivot Table Data'!T671, \"\")","v":""}]
[{"$f":"'Pivot Table Data'!B672","v":0},{"$f":"'Pivot Table Data'!F672","v":"North Campus"},{"$f":"'Pivot Table Data'!P672","v":"P352"},{"$f":"'Pivot Table Data'!I672","v":"-"},{"$f":"'Pivot Table Data'!J672","v":"Service Yard"},{"$f":"'Pivot Table Data'!K672","v":0},{"$f":"'Pivot Table Data'!L672","v":0},{"$f":"'Pivot Table Data'!S672","v":2},{"$f":"'Pivot Table Data'!T672","v":2},{"$f":"IF('Pivot Table Data'!O672=\"Yes\", 'Pivot Table Data'!T672, \"\")","v":""}]
[{"$f":"'Pivot Table Data'!B673","v":0},{"$f":"'Pivot Table Data'!F673","v":"North Campus"},{"$f":"'Pivot Table Data'!P673","v":"P353"},{"$f":"'Pivot Table Data'!I673","v":"-"},{"$f":"'Pivot Table Data'!J673","v":"Accessible"},{"$f":"'Pivot Table Data'!K673","v":0},{"$f":"'Pivot Table Data'!L673","v":0},{"$f":"'Pivot Table Data'!S673","v":3},{"$f":"'Pivot Table Data'!T673","v":3},{"$f":"IF('Pivot Table Data'!O673=\"Yes\", 'Pivot Table Data'!T673, \"\")","v":""}]
[{"$f":"'Pivot Table Data'!B674","v":0},{"$f":"'Pivot Table Data'!F674","v":"North Campus"},{"$f":"'Pivot Table Data'!P674","v":"P353"},{"$f":"'Pivot Table Data'!I674","v":"-"},{"$f":"'Pivot Table Data'!J674","v":"Accessible (Van)"},{"$f":"'Pivot Table Data'!K674","v":0},{"$f":"'Pivot Table Data'!L674","v":0},{"$f":"'Pivot Table Data'!S674","v":1},{"$f":"'Pivot Table Data'!T674","v":1},{"$f":"IF('Pivot Table Data'!O674=\"Yes\", 'Pivot Table Data'!T674, \"\")","v":""}]
[{"$f":"'Pivot Table Data'!B675","v":0},{"$f":"'Pivot Table Data'!F675","v":"North Campus"},{"$f":"'Pivot Table Data'!P675","v":"P353"},{"$f":"'Pivot Table Data'!I675","v":"-"},{"$f":"'Pivot Table Data'!J675","v":"Allocated"},{"$f":"'Pivot Table Data'!K675","v":"Fuel-efficient Vehicle"},{"$f":"'Pivot Table Data'!L675","v":0},{"$f":"'Pivot Table Data'!S675","v":1},{"$f":"'Pivot Table Data'!T675","v":1},{"$f":"IF('Pivot Table Data'!O675=\"Yes\", 'Pivot Table Data'!T675, \"\")","v":""}]
[{"$f":"'Pivot Table Data'!B676","v":0},{"$f":"'Pivot Table Data'!F676","v":"North Campus"},{"$f":"'Pivot Table Data'!P676","v":"P353"},{"$f":"'Pivot Table Data'!I676","v":"-"},{"$f":"'Pivot Table Data'!J676","v":"Loading"},{"$f":"'Pivot Table Data'!K676","v":0},{"$f":"'Pivot Table Data'!L676","v":"20 minutes"},{"$f":"'Pivot Table Data'!S676","v":17},{"$f":"'Pivot Table Data'!T676","v":17},{"$f":"IF('Pivot Table Data'!O676=\"Yes\", 'Pivot Table Data'!T676, \"\")","v":""}]
[{"$f":"'Pivot Table Data'!B677","v":0},{"$f":"'Pivot Table Data'!F677","v":"North Campus"},{"$f":"'Pivot Table Data'!P677","v":"P353"},{"$f":"'Pivot Table Data'!I677","v":"-"},{"$f":"'Pivot Table Data'!J677","v":"UC Vehicle"},{"$f":"'Pivot Table Data'!K677","v":0},{"$f":"'Pivot Table Data'!L677","v":0},{"$f":"'Pivot Table Data'!S677","v":3},{"$f":"'Pivot Table Data'!T677","v":3},{"$f":"IF('Pivot Table Data'!O677=\"Yes\", 'Pivot Table Data'!T677, \"\")","v":""}]
[{"$f":"'Pivot Table Data'!B678","v":0},{"$f":"'Pivot Table Data'!F678","v":"Roosevelt College"},{"$f":"'Pivot Table Data'!P678","v":"P354"},{"$f":"'Pivot Table Data'!I678","v":"-"},{"$f":"'Pivot Table Data'!J678","v":"Accessible"},{"$f":"'Pivot Table Data'!K678","v":0},{"$f":"'Pivot Table Data'!L678","v":0},{"$f":"'Pivot Table Data'!S678","v":4},{"$f":"'Pivot Table Data'!T678","v":4},{"$f":"IF('Pivot Table Data'!O678=\"Yes\", 'Pivot Table Data'!T678, \"\")","v":""}]
[{"$f":"'Pivot Table Data'!B679","v":0},{"$f":"'Pivot Table Data'!F679","v":"Roosevelt College"},{"$f":"'Pivot Table Data'!P679","v":"P354"},{"$f":"'Pivot Table Data'!I679","v":"-"},{"$f":"'Pivot Table Data'!J679","v":"Accessible (Van)"},{"$f":"'Pivot Table Data'!K679","v":0},{"$f":"'Pivot Table Data'!L679","v":0},{"$f":"'Pivot Table Data'!S679","v":0},{"$f":"'Pivot Table Data'!T679","v":0},{"$f":"IF('Pivot Table Data'!O679=\"Yes\", 'Pivot Table Data'!T679, \"\")","v":""}]
[{"$f":"'Pivot Table Data'!B680","v":0},{"$f":"'Pivot Table Data'!F680","v":"Roosevelt College"},{"$f":"'Pivot Table Data'!P680","v":"P354"},{"$f":"'Pivot Table Data'!I680","v":"-"},{"$f":"'Pivot Table Data'!J680","v":"Reserved"},{"$f":"'Pivot Table Data'!K680","v":0},{"$f":"'Pivot Table Data'!L680","v":0},{"$f":"'Pivot Table Data'!S680","v":1},{"$f":"'Pivot Table Data'!T680","v":1},{"$f":"IF('Pivot Table Data'!O680=\"Yes\", 'Pivot Table Data'!T680, \"\")","v":""}]
[{"$f":"'Pivot Table Data'!B681","v":0},{"$f":"'Pivot Table Data'!F681","v":"Roosevelt College"},{"$f":"'Pivot Table Data'!P681","v":"P354"},{"$f":"'Pivot Table Data'!I681","v":"-"},{"$f":"'Pivot Table Data'!J681","v":"Service Yard"},{"$f":"'Pivot Table Data'!K681","v":0},{"$f":"'Pivot Table Data'!L681","v":0},{"$f":"'Pivot Table Data'!S681","v":8},{"$f":"'Pivot Table Data'!T681","v":8},{"$f":"IF('Pivot Table Data'!O681=\"Yes\", 'Pivot Table Data'!T681, \"\")","v":""}]
[{"$f":"'Pivot Table Data'!B682","v":0},{"$f":"'Pivot Table Data'!F682","v":"Roosevelt College"},{"$f":"'Pivot Table Data'!P682","v":"P354"},{"$f":"'Pivot Table Data'!I682","v":"-"},{"$f":"'Pivot Table Data'!J682","v":"UC Vehicle"},{"$f":"'Pivot Table Data'!K682","v":0},{"$f":"'Pivot Table Data'!L682","v":0},{"$f":"'Pivot Table Data'!S682","v":2},{"$f":"'Pivot Table Data'!T682","v":2},{"$f":"IF('Pivot Table Data'!O682=\"Yes\", 'Pivot Table Data'!T682, \"\")","v":""}]
[{"$f":"'Pivot Table Data'!B683","v":0},{"$f":"'Pivot Table Data'!F683","v":"North Campus"},{"$f":"'Pivot Table Data'!P683","v":"P357"},{"$f":"'Pivot Table Data'!I683","v":"-"},{"$f":"'Pivot Table Data'!J683","v":"Accessible"},{"$f":"'Pivot Table Data'!K683","v":0},{"$f":"'Pivot Table Data'!L683","v":0},{"$f":"'Pivot Table Data'!S683","v":2},{"$f":"'Pivot Table Data'!T683","v":2},{"$f":"IF('Pivot Table Data'!O683=\"Yes\", 'Pivot Table Data'!T683, \"\")","v":""}]
[{"$f":"'Pivot Table Data'!B684","v":0},{"$f":"'Pivot Table Data'!F684","v":"North Campus"},{"$f":"'Pivot Table Data'!P684","v":"P357"},{"$f":"'Pivot Table Data'!I684","v":"-"},{"$f":"'Pivot Table Data'!J684","v":"Accessible (Van)"},{"$f":"'Pivot Table Data'!K684","v":0},{"$f":"'Pivot Table Data'!L684","v":0},{"$f":"'Pivot Table Data'!S684","v":3},{"$f":"'Pivot Table Data'!T684","v":3},{"$f":"IF('Pivot Table Data'!O684=\"Yes\", 'Pivot Table Data'!T684, \"\")","v":""}]
[{"$f":"'Pivot Table Data'!B685","v":0},{"$f":"'Pivot Table Data'!F685","v":"North Campus"},{"$f":"'Pivot Table Data'!P685","v":"P357"},{"$f":"'Pivot Table Data'!I685","v":"-"},{"$f":"'Pivot Table Data'!J685","v":"B"},{"$f":"'Pivot Table Data'!K685","v":0},{"$f":"'Pivot Table Data'!L685","v":0},{"$f":"'Pivot Table Data'!S685","v":117},{"$f":"'Pivot Table Data'!T685","v":117},{"$f":"IF('Pivot Table Data'!O685=\"Yes\", 'Pivot Table Data'!T685, \"\")","v":117}]
[{"$f":"'Pivot Table Data'!B686","v":0},{"$f":"'Pivot Table Data'!F686","v":"North Campus"},{"$f":"'Pivot Table Data'!P686","v":"P357"},{"$f":"'Pivot Table Data'!I686","v":"-"},{"$f":"'Pivot Table Data'!J686","v":"Electric Vehicle"},{"$f":"'Pivot Table Data'!K686","v":0},{"$f":"'Pivot Table Data'!L686","v":"4-Hour"},{"$f":"'Pivot Table Data'!S686","v":10},{"$f":"'Pivot Table Data'!T686","v":10},{"$f":"IF('Pivot Table Data'!O686=\"Yes\", 'Pivot Table Data'!T686, \"\")","v":""}]
[{"$f":"'Pivot Table Data'!B687","v":0},{"$f":"'Pivot Table Data'!F687","v":"North Campus"},{"$f":"'Pivot Table Data'!P687","v":"P357"},{"$f":"'Pivot Table Data'!I687","v":"-"},{"$f":"'Pivot Table Data'!J687","v":"Motorcycle Section"},{"$f":"'Pivot Table Data'!K687","v":0},{"$f":"'Pivot Table Data'!L687","v":0},{"$f":"'Pivot Table Data'!S687","v":12},{"$f":"'Pivot Table Data'!T687","v":12},{"$f":"IF('Pivot Table Data'!O687=\"Yes\", 'Pivot Table Data'!T687, \"\")","v":""}]
[{"$f":"'Pivot Table Data'!B688","v":0},{"$f":"'Pivot Table Data'!F688","v":"North Campus"},{"$f":"'Pivot Table Data'!P688","v":"P357"},{"$f":"'Pivot Table Data'!I688","v":"-"},{"$f":"'Pivot Table Data'!J688","v":"Reserved"},{"$f":"'Pivot Table Data'!K688","v":0},{"$f":"'Pivot Table Data'!L688","v":0},{"$f":"'Pivot Table Data'!S688","v":4},{"$f":"'Pivot Table Data'!T688","v":4},{"$f":"IF('Pivot Table Data'!O688=\"Yes\", 'Pivot Table Data'!T688, \"\")","v":""}]
[{"$f":"'Pivot Table Data'!B689","v":0},{"$f":"'Pivot Table Data'!F689","v":"North Campus"},{"$f":"'Pivot Table Data'!P689","v":"P357"},{"$f":"'Pivot Table Data'!I689","v":"-"},{"$f":"'Pivot Table Data'!J689","v":"Service Yard"},{"$f":"'Pivot Table Data'!K689","v":0},{"$f":"'Pivot Table Data'!L689","v":0},{"$f":"'Pivot Table Data'!S689","v":2},{"$f":"'Pivot Table Data'!T689","v":2},{"$f":"IF('Pivot Table Data'!O689=\"Yes\", 'Pivot Table Data'!T689, \"\")","v":""}]
[{"$f":"'Pivot Table Data'!B690","v":0},{"$f":"'Pivot Table Data'!F690","v":"North Campus"},{"$f":"'Pivot Table Data'!P690","v":"P357"},{"$f":"'Pivot Table Data'!I690","v":"-"},{"$f":"'Pivot Table Data'!J690","v":"Visitor"},{"$f":"'Pivot Table Data'!K690","v":0},{"$f":"'Pivot Table Data'!L690","v":0},{"$f":"'Pivot Table Data'!S690","v":13},{"$f":"'Pivot Table Data'!T690","v":13},{"$f":"IF('Pivot Table Data'!O690=\"Yes\", 'Pivot Table Data'!T690, \"\")","v":13}]
[{"$f":"'Pivot Table Data'!B691","v":0},{"$f":"'Pivot Table Data'!F691","v":"North Campus"},{"$f":"'Pivot Table Data'!P691","v":"P358"},{"$f":"'Pivot Table Data'!I691","v":"-"},{"$f":"'Pivot Table Data'!J691","v":"UC Vehicle"},{"$f":"'Pivot Table Data'!K691","v":0},{"$f":"'Pivot Table Data'!L691","v":0},{"$f":"'Pivot Table Data'!S691","v":1},{"$f":"'Pivot Table Data'!T691","v":1},{"$f":"IF('Pivot Table Data'!O691=\"Yes\", 'Pivot Table Data'!T691, \"\")","v":""}]
[{"$f":"'Pivot Table Data'!B692","v":0},{"$f":"'Pivot Table Data'!F692","v":"North Campus"},{"$f":"'Pivot Table Data'!P692","v":"P359"},{"$f":"'Pivot Table Data'!I692","v":"-"},{"$f":"'Pivot Table Data'!J692","v":"B"},{"$f":"'Pivot Table Data'!K692","v":0},{"$f":"'Pivot Table Data'!L692","v":0},{"$f":"'Pivot Table Data'!S692","v":49},{"$f":"'Pivot Table Data'!T692","v":49},{"$f":"IF('Pivot Table Data'!O692=\"Yes\", 'Pivot Table Data'!T692, \"\")","v":49}]
[{"$f":"'Pivot Table Data'!B693","v":0},{"$f":"'Pivot Table Data'!F693","v":"North Campus"},{"$f":"'Pivot Table Data'!P693","v":"P359"},{"$f":"'Pivot Table Data'!I693","v":"-"},{"$f":"'Pivot Table Data'!J693","v":"UC Vehicle"},{"$f":"'Pivot Table Data'!K693","v":0},{"$f":"'Pivot Table Data'!L693","v":0},{"$f":"'Pivot Table Data'!S693","v":7},{"$f":"'Pivot Table Data'!T693","v":7},{"$f":"IF('Pivot Table Data'!O693=\"Yes\", 'Pivot Table Data'!T693, \"\")","v":""}]
[{"$f":"'Pivot Table Data'!B694","v":0},{"$f":"'Pivot Table Data'!F694","v":"Torrey Pines Center"},{"$f":"'Pivot Table Data'!P694","v":"P384"},{"$f":"'Pivot Table Data'!I694","v":"-"},{"$f":"'Pivot Table Data'!J694","v":"Allocated"},{"$f":"'Pivot Table Data'!K694","v":"SCRM"},{"$f":"'Pivot Table Data'!L694","v":0},{"$f":"'Pivot Table Data'!S694","v":0},{"$f":"'Pivot Table Data'!T694","v":0},{"$f":"IF('Pivot Table Data'!O694=\"Yes\", 'Pivot Table Data'!T694, \"\")","v":""}]
[{"$f":"'Pivot Table Data'!B695","v":0},{"$f":"'Pivot Table Data'!F695","v":"Torrey Pines Center"},{"$f":"'Pivot Table Data'!P695","v":"P384"},{"$f":"'Pivot Table Data'!I695","v":"-"},{"$f":"'Pivot Table Data'!J695","v":"B"},{"$f":"'Pivot Table Data'!K695","v":"Sanford Consortium"},{"$f":"'Pivot Table Data'!L695","v":0},{"$f":"'Pivot Table Data'!S695","v":175},{"$f":"'Pivot Table Data'!T695","v":175},{"$f":"IF('Pivot Table Data'!O695=\"Yes\", 'Pivot Table Data'!T695, \"\")","v":175}]
[{"$f":"'Pivot Table Data'!B696","v":0},{"$f":"'Pivot Table Data'!F696","v":"Torrey Pines Center"},{"$f":"'Pivot Table Data'!P696","v":"P384"},{"$f":"'Pivot Table Data'!I696","v":"-"},{"$f":"'Pivot Table Data'!J696","v":"Motorcycle Section"},{"$f":"'Pivot Table Data'!K696","v":0},{"$f":"'Pivot Table Data'!L696","v":0},{"$f":"'Pivot Table Data'!S696","v":4},{"$f":"'Pivot Table Data'!T696","v":4},{"$f":"IF('Pivot Table Data'!O696=\"Yes\", 'Pivot Table Data'!T696, \"\")","v":""}]
[{"$f":"'Pivot Table Data'!B697","v":0},{"$f":"'Pivot Table Data'!F697","v":"Torrey Pines Center"},{"$f":"'Pivot Table Data'!P697","v":"P385"},{"$f":"'Pivot Table Data'!I697","v":"-"},{"$f":"'Pivot Table Data'!J697","v":"Accessible"},{"$f":"'Pivot Table Data'!K697","v":0},{"$f":"'Pivot Table Data'!L697","v":0},{"$f":"'Pivot Table Data'!S697","v":3},{"$f":"'Pivot Table Data'!T697","v":3},{"$f":"IF('Pivot Table Data'!O697=\"Yes\", 'Pivot Table Data'!T697, \"\")","v":""}]
[{"$f":"'Pivot Table Data'!B698","v":0},{"$f":"'Pivot Table Data'!F698","v":"Torrey Pines Center"},{"$f":"'Pivot Table Data'!P698","v":"P385"},{"$f":"'Pivot Table Data'!I698","v":"-"},{"$f":"'Pivot Table Data'!J698","v":"Accessible (Van)"},{"$f":"'Pivot Table Data'!K698","v":0},{"$f":"'Pivot Table Data'!L698","v":0},{"$f":"'Pivot Table Data'!S698","v":7},{"$f":"'Pivot Table Data'!T698","v":7},{"$f":"IF('Pivot Table Data'!O698=\"Yes\", 'Pivot Table Data'!T698, \"\")","v":""}]
[{"$f":"'Pivot Table Data'!B699","v":0},{"$f":"'Pivot Table Data'!F699","v":"Torrey Pines Center"},{"$f":"'Pivot Table Data'!P699","v":"P385"},{"$f":"'Pivot Table Data'!I699","v":"-"},{"$f":"'Pivot Table Data'!J699","v":"Reserved"},{"$f":"'Pivot Table Data'!K699","v":0},{"$f":"'Pivot Table Data'!L699","v":0},{"$f":"'Pivot Table Data'!S699","v":11},{"$f":"'Pivot Table Data'!T699","v":11},{"$f":"IF('Pivot Table Data'!O699=\"Yes\", 'Pivot Table Data'!T699, \"\")","v":""}]
[{"$f":"'Pivot Table Data'!B700","v":0},{"$f":"'Pivot Table Data'!F700","v":"Torrey Pines Center"},{"$f":"'Pivot Table Data'!P700","v":"P385"},{"$f":"'Pivot Table Data'!I700","v":"-"},{"$f":"'Pivot Table Data'!J700","v":"Visitor"},{"$f":"'Pivot Table Data'!K700","v":"Sanford Consortium"},{"$f":"'Pivot Table Data'!L700","v":0},{"$f":"'Pivot Table Data'!S700","v":202},{"$f":"'Pivot Table Data'!T700","v":202},{"$f":"IF('Pivot Table Data'!O700=\"Yes\", 'Pivot Table Data'!T700, \"\")","v":202}]
[{"$f":"'Pivot Table Data'!B701","v":0},{"$f":"'Pivot Table Data'!F701","v":"Torrey Pines Center"},{"$f":"'Pivot Table Data'!P701","v":"P386 (Gliderport)"},{"$f":"'Pivot Table Data'!I701","v":"-"},{"$f":"'Pivot Table Data'!J701","v":"SS ($3.25)"},{"$f":"'Pivot Table Data'!K701","v":0},{"$f":"'Pivot Table Data'!L701","v":0},{"$f":"'Pivot Table Data'!S701","v":335},{"$f":"'Pivot Table Data'!T701","v":335},{"$f":"IF('Pivot Table Data'!O701=\"Yes\", 'Pivot Table Data'!T701, \"\")","v":335}]
[{"$f":"'Pivot Table Data'!B702","v":0},{"$f":"'Pivot Table Data'!F702","v":"Pepper Canyon"},{"$f":"'Pivot Table Data'!P702","v":"P401"},{"$f":"'Pivot Table Data'!I702","v":"-"},{"$f":"'Pivot Table Data'!J702","v":"Accessible"},{"$f":"'Pivot Table Data'!K702","v":0},{"$f":"'Pivot Table Data'!L702","v":0},{"$f":"'Pivot Table Data'!S702","v":0},{"$f":"'Pivot Table Data'!T702","v":0},{"$f":"IF('Pivot Table Data'!O702=\"Yes\", 'Pivot Table Data'!T702, \"\")","v":""}]
[{"$f":"'Pivot Table Data'!B703","v":0},{"$f":"'Pivot Table Data'!F703","v":"Pepper Canyon"},{"$f":"'Pivot Table Data'!P703","v":"P401"},{"$f":"'Pivot Table Data'!I703","v":"-"},{"$f":"'Pivot Table Data'!J703","v":"Accessible (Van)"},{"$f":"'Pivot Table Data'!K703","v":0},{"$f":"'Pivot Table Data'!L703","v":0},{"$f":"'Pivot Table Data'!S703","v":1},{"$f":"'Pivot Table Data'!T703","v":1},{"$f":"IF('Pivot Table Data'!O703=\"Yes\", 'Pivot Table Data'!T703, \"\")","v":""}]
[{"$f":"'Pivot Table Data'!B704","v":0},{"$f":"'Pivot Table Data'!F704","v":"Pepper Canyon"},{"$f":"'Pivot Table Data'!P704","v":"P401"},{"$f":"'Pivot Table Data'!I704","v":"-"},{"$f":"'Pivot Table Data'!J704","v":"Loading"},{"$f":"'Pivot Table Data'!K704","v":0},{"$f":"'Pivot Table Data'!L704","v":20},{"$f":"'Pivot Table Data'!S704","v":2},{"$f":"'Pivot Table Data'!T704","v":2},{"$f":"IF('Pivot Table Data'!O704=\"Yes\", 'Pivot Table Data'!T704, \"\")","v":""}]
[{"$f":"'Pivot Table Data'!B705","v":0},{"$f":"'Pivot Table Data'!F705","v":"Pepper Canyon"},{"$f":"'Pivot Table Data'!P705","v":"P401"},{"$f":"'Pivot Table Data'!I705","v":"-"},{"$f":"'Pivot Table Data'!J705","v":"SR"},{"$f":"'Pivot Table Data'!K705","v":0},{"$f":"'Pivot Table Data'!L705","v":0},{"$f":"'Pivot Table Data'!S705","v":96},{"$f":"'Pivot Table Data'!T705","v":96},{"$f":"IF('Pivot Table Data'!O705=\"Yes\", 'Pivot Table Data'!T705, \"\")","v":96}]
[{"$f":"'Pivot Table Data'!B706","v":0},{"$f":"'Pivot Table Data'!F706","v":"Pepper Canyon"},{"$f":"'Pivot Table Data'!P706","v":"P402"},{"$f":"'Pivot Table Data'!I706","v":"-"},{"$f":"'Pivot Table Data'!J706","v":"A"},{"$f":"'Pivot Table Data'!K706","v":"24/7 Enforced"},{"$f":"'Pivot Table Data'!L706","v":0},{"$f":"'Pivot Table Data'!S706","v":4},{"$f":"'Pivot Table Data'!T706","v":4},{"$f":"IF('Pivot Table Data'!O706=\"Yes\", 'Pivot Table Data'!T706, \"\")","v":4}]
[{"$f":"'Pivot Table Data'!B707","v":0},{"$f":"'Pivot Table Data'!F707","v":"Pepper Canyon"},{"$f":"'Pivot Table Data'!P707","v":"P402"},{"$f":"'Pivot Table Data'!I707","v":"-"},{"$f":"'Pivot Table Data'!J707","v":"Accessible"},{"$f":"'Pivot Table Data'!K707","v":0},{"$f":"'Pivot Table Data'!L707","v":0},{"$f":"'Pivot Table Data'!S707","v":2},{"$f":"'Pivot Table Data'!T707","v":2},{"$f":"IF('Pivot Table Data'!O707=\"Yes\", 'Pivot Table Data'!T707, \"\")","v":""}]
[{"$f":"'Pivot Table Data'!B708","v":0},{"$f":"'Pivot Table Data'!F708","v":"Pepper Canyon"},{"$f":"'Pivot Table Data'!P708","v":"P402"},{"$f":"'Pivot Table Data'!I708","v":"-"},{"$f":"'Pivot Table Data'!J708","v":"Accessible (Van)"},{"$f":"'Pivot Table Data'!K708","v":0},{"$f":"'Pivot Table Data'!L708","v":0},{"$f":"'Pivot Table Data'!S708","v":1},{"$f":"'Pivot Table Data'!T708","v":1},{"$f":"IF('Pivot Table Data'!O708=\"Yes\", 'Pivot Table Data'!T708, \"\")","v":""}]
[{"$f":"'Pivot Table Data'!B709","v":0},{"$f":"'Pivot Table Data'!F709","v":"Pepper Canyon"},{"$f":"'Pivot Table Data'!P709","v":"P402"},{"$f":"'Pivot Table Data'!I709","v":"-"},{"$f":"'Pivot Table Data'!J709","v":"Loading"},{"$f":"'Pivot Table Data'!K709","v":0},{"$f":"'Pivot Table Data'!L709","v":"20 minutes"},{"$f":"'Pivot Table Data'!S709","v":7},{"$f":"'Pivot Table Data'!T709","v":7},{"$f":"IF('Pivot Table Data'!O709=\"Yes\", 'Pivot Table Data'!T709, \"\")","v":""}]
[{"$f":"'Pivot Table Data'!B710","v":0},{"$f":"'Pivot Table Data'!F710","v":"Pepper Canyon"},{"$f":"'Pivot Table Data'!P710","v":"P402"},{"$f":"'Pivot Table Data'!I710","v":"-"},{"$f":"'Pivot Table Data'!J710","v":"Motorcycle Section"},{"$f":"'Pivot Table Data'!K710","v":0},{"$f":"'Pivot Table Data'!L710","v":0},{"$f":"'Pivot Table Data'!S710","v":2},{"$f":"'Pivot Table Data'!T710","v":2},{"$f":"IF('Pivot Table Data'!O710=\"Yes\", 'Pivot Table Data'!T710, \"\")","v":""}]
[{"$f":"'Pivot Table Data'!B711","v":0},{"$f":"'Pivot Table Data'!F711","v":"Pepper Canyon"},{"$f":"'Pivot Table Data'!P711","v":"P402"},{"$f":"'Pivot Table Data'!I711","v":"-"},{"$f":"'Pivot Table Data'!J711","v":"Reserved"},{"$f":"'Pivot Table Data'!K711","v":0},{"$f":"'Pivot Table Data'!L711","v":0},{"$f":"'Pivot Table Data'!S711","v":4},{"$f":"'Pivot Table Data'!T711","v":4},{"$f":"IF('Pivot Table Data'!O711=\"Yes\", 'Pivot Table Data'!T711, \"\")","v":""}]
[{"$f":"'Pivot Table Data'!B712","v":0},{"$f":"'Pivot Table Data'!F712","v":"Pepper Canyon"},{"$f":"'Pivot Table Data'!P712","v":"P402"},{"$f":"'Pivot Table Data'!I712","v":"-"},{"$f":"'Pivot Table Data'!J712","v":"Service Yard"},{"$f":"'Pivot Table Data'!K712","v":0},{"$f":"'Pivot Table Data'!L712","v":0},{"$f":"'Pivot Table Data'!S712","v":2},{"$f":"'Pivot Table Data'!T712","v":2},{"$f":"IF('Pivot Table Data'!O712=\"Yes\", 'Pivot Table Data'!T712, \"\")","v":""}]
[{"$f":"'Pivot Table Data'!B713","v":0},{"$f":"'Pivot Table Data'!F713","v":"Pepper Canyon"},{"$f":"'Pivot Table Data'!P713","v":"P402"},{"$f":"'Pivot Table Data'!I713","v":"-"},{"$f":"'Pivot Table Data'!J713","v":"UC Vehicle"},{"$f":"'Pivot Table Data'!K713","v":0},{"$f":"'Pivot Table Data'!L713","v":0},{"$f":"'Pivot Table Data'!S713","v":2},{"$f":"'Pivot Table Data'!T713","v":2},{"$f":"IF('Pivot Table Data'!O713=\"Yes\", 'Pivot Table Data'!T713, \"\")","v":""}]
[{"$f":"'Pivot Table Data'!B714","v":0},{"$f":"'Pivot Table Data'!F714","v":"Pepper Canyon"},{"$f":"'Pivot Table Data'!P714","v":"P402"},{"$f":"'Pivot Table Data'!I714","v":"-"},{"$f":"'Pivot Table Data'!J714","v":"Visitor"},{"$f":"'Pivot Table Data'!K714","v":0},{"$f":"'Pivot Table Data'!L714","v":0},{"$f":"'Pivot Table Data'!S714","v":3},{"$f":"'Pivot Table Data'!T714","v":3},{"$f":"IF('Pivot Table Data'!O714=\"Yes\", 'Pivot Table Data'!T714, \"\")","v":3}]
[{"$f":"'Pivot Table Data'!B715","v":0},{"$f":"'Pivot Table Data'!F715","v":"University Center"},{"$f":"'Pivot Table Data'!P715","v":"P405"},{"$f":"'Pivot Table Data'!I715","v":"-"},{"$f":"'Pivot Table Data'!J715","v":"Loading"},{"$f":"'Pivot Table Data'!K715","v":"Commercial"},{"$f":"'Pivot Table Data'!L715","v":30},{"$f":"'Pivot Table Data'!S715","v":6},{"$f":"'Pivot Table Data'!T715","v":6},{"$f":"IF('Pivot Table Data'!O715=\"Yes\", 'Pivot Table Data'!T715, \"\")","v":""}]
[{"$f":"'Pivot Table Data'!B716","v":0},{"$f":"'Pivot Table Data'!F716","v":"University Center"},{"$f":"'Pivot Table Data'!P716","v":"P405"},{"$f":"'Pivot Table Data'!I716","v":"-"},{"$f":"'Pivot Table Data'!J716","v":"Loading"},{"$f":"'Pivot Table Data'!K716","v":0},{"$f":"'Pivot Table Data'!L716","v":20},{"$f":"'Pivot Table Data'!S716","v":6},{"$f":"'Pivot Table Data'!T716","v":6},{"$f":"IF('Pivot Table Data'!O716=\"Yes\", 'Pivot Table Data'!T716, \"\")","v":""}]
[{"$f":"'Pivot Table Data'!B717","v":0},{"$f":"'Pivot Table Data'!F717","v":"University Center"},{"$f":"'Pivot Table Data'!P717","v":"P405"},{"$f":"'Pivot Table Data'!I717","v":"-"},{"$f":"'Pivot Table Data'!J717","v":"Reserved"},{"$f":"'Pivot Table Data'!K717","v":0},{"$f":"'Pivot Table Data'!L717","v":0},{"$f":"'Pivot Table Data'!S717","v":1},{"$f":"'Pivot Table Data'!T717","v":1},{"$f":"IF('Pivot Table Data'!O717=\"Yes\", 'Pivot Table Data'!T717, \"\")","v":""}]
[{"$f":"'Pivot Table Data'!B718","v":0},{"$f":"'Pivot Table Data'!F718","v":"University Center"},{"$f":"'Pivot Table Data'!P718","v":"P405"},{"$f":"'Pivot Table Data'!I718","v":"-"},{"$f":"'Pivot Table Data'!J718","v":"Service Yard"},{"$f":"'Pivot Table Data'!K718","v":0},{"$f":"'Pivot Table Data'!L718","v":0},{"$f":"'Pivot Table Data'!S718","v":10},{"$f":"'Pivot Table Data'!T718","v":10},{"$f":"IF('Pivot Table Data'!O718=\"Yes\", 'Pivot Table Data'!T718, \"\")","v":""}]
[{"$f":"'Pivot Table Data'!B719","v":0},{"$f":"'Pivot Table Data'!F719","v":"Pepper Canyon"},{"$f":"'Pivot Table Data'!P719","v":"P406"},{"$f":"'Pivot Table Data'!I719","v":"-"},{"$f":"'Pivot Table Data'!J719","v":"Accessible"},{"$f":"'Pivot Table Data'!K719","v":0},{"$f":"'Pivot Table Data'!L719","v":0},{"$f":"'Pivot Table Data'!S719","v":2},{"$f":"'Pivot Table Data'!T719","v":2},{"$f":"IF('Pivot Table Data'!O719=\"Yes\", 'Pivot Table Data'!T719, \"\")","v":""}]
[{"$f":"'Pivot Table Data'!B720","v":0},{"$f":"'Pivot Table Data'!F720","v":"Pepper Canyon"},{"$f":"'Pivot Table Data'!P720","v":"P406"},{"$f":"'Pivot Table Data'!I720","v":"-"},{"$f":"'Pivot Table Data'!J720","v":"Accessible (Van)"},{"$f":"'Pivot Table Data'!K720","v":0},{"$f":"'Pivot Table Data'!L720","v":0},{"$f":"'Pivot Table Data'!S720","v":0},{"$f":"'Pivot Table Data'!T720","v":0},{"$f":"IF('Pivot Table Data'!O720=\"Yes\", 'Pivot Table Data'!T720, \"\")","v":""}]
[{"$f":"'Pivot Table Data'!B721","v":0},{"$f":"'Pivot Table Data'!F721","v":"Pepper Canyon"},{"$f":"'Pivot Table Data'!P721","v":"P406"},{"$f":"'Pivot Table Data'!I721","v":"-"},{"$f":"'Pivot Table Data'!J721","v":"B"},{"$f":"'Pivot Table Data'!K721","v":0},{"$f":"'Pivot Table Data'!L721","v":0},{"$f":"'Pivot Table Data'!S721","v":18},{"$f":"'Pivot Table Data'!T721","v":18},{"$f":"IF('Pivot Table Data'!O721=\"Yes\", 'Pivot Table Data'!T721, \"\")","v":18}]
[{"$f":"'Pivot Table Data'!B722","v":0},{"$f":"'Pivot Table Data'!F722","v":"Pepper Canyon"},{"$f":"'Pivot Table Data'!P722","v":"P406"},{"$f":"'Pivot Table Data'!I722","v":"-"},{"$f":"'Pivot Table Data'!J722","v":"Loading"},{"$f":"'Pivot Table Data'!K722","v":0},{"$f":"'Pivot Table Data'!L722","v":0},{"$f":"'Pivot Table Data'!S722","v":2},{"$f":"'Pivot Table Data'!T722","v":2},{"$f":"IF('Pivot Table Data'!O722=\"Yes\", 'Pivot Table Data'!T722, \"\")","v":""}]
[{"$f":"'Pivot Table Data'!B723","v":0},{"$f":"'Pivot Table Data'!F723","v":"Pepper Canyon"},{"$f":"'Pivot Table Data'!P723","v":"P406"},{"$f":"'Pivot Table Data'!I723","v":"-"},{"$f":"'Pivot Table Data'!J723","v":"Motorcycle Section"},{"$f":"'Pivot Table Data'!K723","v":0},{"$f":"'Pivot Table Data'!L723","v":0},{"$f":"'Pivot Table Data'!S723","v":3},{"$f":"'Pivot Table Data'!T723","v":3},{"$f":"IF('Pivot Table Data'!O723=\"Yes\", 'Pivot Table Data'!T723, \"\")","v":""}]
[{"$f":"'Pivot Table Data'!B724","v":0},{"$f":"'Pivot Table Data'!F724","v":"University Center"},{"$f":"'Pivot Table Data'!P724","v":"P407"},{"$f":"'Pivot Table Data'!I724","v":"-"},{"$f":"'Pivot Table Data'!J724","v":"Loading"},{"$f":"'Pivot Table Data'!K724","v":"Dock"},{"$f":"'Pivot Table Data'!L724","v":0},{"$f":"'Pivot Table Data'!S724","v":1},{"$f":"'Pivot Table Data'!T724","v":1},{"$f":"IF('Pivot Table Data'!O724=\"Yes\", 'Pivot Table Data'!T724, \"\")","v":""}]
[{"$f":"'Pivot Table Data'!B725","v":0},{"$f":"'Pivot Table Data'!F725","v":"University Center"},{"$f":"'Pivot Table Data'!P725","v":"P407"},{"$f":"'Pivot Table Data'!I725","v":"-"},{"$f":"'Pivot Table Data'!J725","v":"Service Yard"},{"$f":"'Pivot Table Data'!K725","v":0},{"$f":"'Pivot Table Data'!L725","v":0},{"$f":"'Pivot Table Data'!S725","v":3},{"$f":"'Pivot Table Data'!T725","v":3},{"$f":"IF('Pivot Table Data'!O725=\"Yes\", 'Pivot Table Data'!T725, \"\")","v":""}]
[{"$f":"'Pivot Table Data'!B726","v":0},{"$f":"'Pivot Table Data'!F726","v":"Muir College"},{"$f":"'Pivot Table Data'!P726","v":"P414"},{"$f":"'Pivot Table Data'!I726","v":"-"},{"$f":"'Pivot Table Data'!J726","v":"A"},{"$f":"'Pivot Table Data'!K726","v":0},{"$f":"'Pivot Table Data'!L726","v":0},{"$f":"'Pivot Table Data'!S726","v":3},{"$f":"'Pivot Table Data'!T726","v":3},{"$f":"IF('Pivot Table Data'!O726=\"Yes\", 'Pivot Table Data'!T726, \"\")","v":3}]
[{"$f":"'Pivot Table Data'!B727","v":0},{"$f":"'Pivot Table Data'!F727","v":"Muir College"},{"$f":"'Pivot Table Data'!P727","v":"P414"},{"$f":"'Pivot Table Data'!I727","v":"-"},{"$f":"'Pivot Table Data'!J727","v":"Loading"},{"$f":"'Pivot Table Data'!K727","v":0},{"$f":"'Pivot Table Data'!L727","v":0},{"$f":"'Pivot Table Data'!S727","v":7},{"$f":"'Pivot Table Data'!T727","v":7},{"$f":"IF('Pivot Table Data'!O727=\"Yes\", 'Pivot Table Data'!T727, \"\")","v":""}]
[{"$f":"'Pivot Table Data'!B728","v":0},{"$f":"'Pivot Table Data'!F728","v":"Muir College"},{"$f":"'Pivot Table Data'!P728","v":"P414"},{"$f":"'Pivot Table Data'!I728","v":"-"},{"$f":"'Pivot Table Data'!J728","v":"Reserved"},{"$f":"'Pivot Table Data'!K728","v":0},{"$f":"'Pivot Table Data'!L728","v":0},{"$f":"'Pivot Table Data'!S728","v":2},{"$f":"'Pivot Table Data'!T728","v":2},{"$f":"IF('Pivot Table Data'!O728=\"Yes\", 'Pivot Table Data'!T728, \"\")","v":""}]
[{"$f":"'Pivot Table Data'!B729","v":0},{"$f":"'Pivot Table Data'!F729","v":"Muir College"},{"$f":"'Pivot Table Data'!P729","v":"P414"},{"$f":"'Pivot Table Data'!I729","v":"-"},{"$f":"'Pivot Table Data'!J729","v":"Service Yard"},{"$f":"'Pivot Table Data'!K729","v":0},{"$f":"'Pivot Table Data'!L729","v":0},{"$f":"'Pivot Table Data'!S729","v":4},{"$f":"'Pivot Table Data'!T729","v":4},{"$f":"IF('Pivot Table Data'!O729=\"Yes\", 'Pivot Table Data'!T729, \"\")","v":""}]
[{"$f":"'Pivot Table Data'!B730","v":0},{"$f":"'Pivot Table Data'!F730","v":"Muir College"},{"$f":"'Pivot Table Data'!P730","v":"P415"},{"$f":"'Pivot Table Data'!I730","v":"-"},{"$f":"'Pivot Table Data'!J730","v":"Accessible"},{"$f":"'Pivot Table Data'!K730","v":0},{"$f":"'Pivot Table Data'!L730","v":0},{"$f":"'Pivot Table Data'!S730","v":1},{"$f":"'Pivot Table Data'!T730","v":1},{"$f":"IF('Pivot Table Data'!O730=\"Yes\", 'Pivot Table Data'!T730, \"\")","v":""}]
[{"$f":"'Pivot Table Data'!B731","v":0},{"$f":"'Pivot Table Data'!F731","v":"Muir College"},{"$f":"'Pivot Table Data'!P731","v":"P415"},{"$f":"'Pivot Table Data'!I731","v":"-"},{"$f":"'Pivot Table Data'!J731","v":"Accessible (Van)"},{"$f":"'Pivot Table Data'!K731","v":0},{"$f":"'Pivot Table Data'!L731","v":0},{"$f":"'Pivot Table Data'!S731","v":0},{"$f":"'Pivot Table Data'!T731","v":0},{"$f":"IF('Pivot Table Data'!O731=\"Yes\", 'Pivot Table Data'!T731, \"\")","v":""}]
[{"$f":"'Pivot Table Data'!B732","v":0},{"$f":"'Pivot Table Data'!F732","v":"Muir College"},{"$f":"'Pivot Table Data'!P732","v":"P415"},{"$f":"'Pivot Table Data'!I732","v":"-"},{"$f":"'Pivot Table Data'!J732","v":"Reserved"},{"$f":"'Pivot Table Data'!K732","v":"Student Health Patient"},{"$f":"'Pivot Table Data'!L732","v":0},{"$f":"'Pivot Table Data'!S732","v":5},{"$f":"'Pivot Table Data'!T732","v":5},{"$f":"IF('Pivot Table Data'!O732=\"Yes\", 'Pivot Table Data'!T732, \"\")","v":""}]
[{"$f":"'Pivot Table Data'!B733","v":0},{"$f":"'Pivot Table Data'!F733","v":"Muir College"},{"$f":"'Pivot Table Data'!P733","v":"P415"},{"$f":"'Pivot Table Data'!I733","v":"-"},{"$f":"'Pivot Table Data'!J733","v":"Reserved"},{"$f":"'Pivot Table Data'!K733","v":0},{"$f":"'Pivot Table Data'!L733","v":0},{"$f":"'Pivot Table Data'!S733","v":3},{"$f":"'Pivot Table Data'!T733","v":3},{"$f":"IF('Pivot Table Data'!O733=\"Yes\", 'Pivot Table Data'!T733, \"\")","v":""}]
[{"$f":"'Pivot Table Data'!B734","v":0},{"$f":"'Pivot Table Data'!F734","v":"Muir College"},{"$f":"'Pivot Table Data'!P734","v":"P416"},{"$f":"'Pivot Table Data'!I734","v":"-"},{"$f":"'Pivot Table Data'!J734","v":"Accessible"},{"$f":"'Pivot Table Data'!K734","v":0},{"$f":"'Pivot Table Data'!L734","v":0},{"$f":"'Pivot Table Data'!S734","v":14},{"$f":"'Pivot Table Data'!T734","v":14},{"$f":"IF('Pivot Table Data'!O734=\"Yes\", 'Pivot Table Data'!T734, \"\")","v":""}]
[{"$f":"'Pivot Table Data'!B735","v":0},{"$f":"'Pivot Table Data'!F735","v":"Muir College"},{"$f":"'Pivot Table Data'!P735","v":"P416"},{"$f":"'Pivot Table Data'!I735","v":"-"},{"$f":"'Pivot Table Data'!J735","v":"Accessible (Van)"},{"$f":"'Pivot Table Data'!K735","v":0},{"$f":"'Pivot Table Data'!L735","v":0},{"$f":"'Pivot Table Data'!S735","v":9},{"$f":"'Pivot Table Data'!T735","v":9},{"$f":"IF('Pivot Table Data'!O735=\"Yes\", 'Pivot Table Data'!T735, \"\")","v":""}]
[{"$f":"'Pivot Table Data'!B736","v":0},{"$f":"'Pivot Table Data'!F736","v":"Muir College"},{"$f":"'Pivot Table Data'!P736","v":"P416"},{"$f":"'Pivot Table Data'!I736","v":"-"},{"$f":"'Pivot Table Data'!J736","v":"Loading"},{"$f":"'Pivot Table Data'!K736","v":"Curb"},{"$f":"'Pivot Table Data'!L736","v":0},{"$f":"'Pivot Table Data'!S736","v":1},{"$f":"'Pivot Table Data'!T736","v":1},{"$f":"IF('Pivot Table Data'!O736=\"Yes\", 'Pivot Table Data'!T736, \"\")","v":""}]
[{"$f":"'Pivot Table Data'!B737","v":0},{"$f":"'Pivot Table Data'!F737","v":"Muir College"},{"$f":"'Pivot Table Data'!P737","v":"P416"},{"$f":"'Pivot Table Data'!I737","v":"-"},{"$f":"'Pivot Table Data'!J737","v":"Reserved"},{"$f":"'Pivot Table Data'!K737","v":"Blue Reserved"},{"$f":"'Pivot Table Data'!L737","v":0},{"$f":"'Pivot Table Data'!S737","v":21},{"$f":"'Pivot Table Data'!T737","v":21},{"$f":"IF('Pivot Table Data'!O737=\"Yes\", 'Pivot Table Data'!T737, \"\")","v":""}]
[{"$f":"'Pivot Table Data'!B738","v":0},{"$f":"'Pivot Table Data'!F738","v":"Muir College"},{"$f":"'Pivot Table Data'!P738","v":"P416"},{"$f":"'Pivot Table Data'!I738","v":"-"},{"$f":"'Pivot Table Data'!J738","v":"Reserved"},{"$f":"'Pivot Table Data'!K738","v":"Gold Reserved"},{"$f":"'Pivot Table Data'!L738","v":0},{"$f":"'Pivot Table Data'!S738","v":22},{"$f":"'Pivot Table Data'!T738","v":22},{"$f":"IF('Pivot Table Data'!O738=\"Yes\", 'Pivot Table Data'!T738, \"\")","v":""}]
[{"$f":"'Pivot Table Data'!B739","v":0},{"$f":"'Pivot Table Data'!F739","v":"Muir College"},{"$f":"'Pivot Table Data'!P739","v":"P416"},{"$f":"'Pivot Table Data'!I739","v":"-"},{"$f":"'Pivot Table Data'!J739","v":"Reserved"},{"$f":"'Pivot Table Data'!K739","v":"Target"},{"$f":"'Pivot Table Data'!L739","v":0},{"$f":"'Pivot Table Data'!S739","v":1},{"$f":"'Pivot Table Data'!T739","v":1},{"$f":"IF('Pivot Table Data'!O739=\"Yes\", 'Pivot Table Data'!T739, \"\")","v":""}]
[{"$f":"'Pivot Table Data'!B740","v":0},{"$f":"'Pivot Table Data'!F740","v":"Warren College"},{"$f":"'Pivot Table Data'!P740","v":"P418"},{"$f":"'Pivot Table Data'!I740","v":"-"},{"$f":"'Pivot Table Data'!J740","v":"Accessible"},{"$f":"'Pivot Table Data'!K740","v":0},{"$f":"'Pivot Table Data'!L740","v":0},{"$f":"'Pivot Table Data'!S740","v":4},{"$f":"'Pivot Table Data'!T740","v":4},{"$f":"IF('Pivot Table Data'!O740=\"Yes\", 'Pivot Table Data'!T740, \"\")","v":""}]
[{"$f":"'Pivot Table Data'!B741","v":0},{"$f":"'Pivot Table Data'!F741","v":"Warren College"},{"$f":"'Pivot Table Data'!P741","v":"P418"},{"$f":"'Pivot Table Data'!I741","v":"-"},{"$f":"'Pivot Table Data'!J741","v":"Accessible (Van)"},{"$f":"'Pivot Table Data'!K741","v":0},{"$f":"'Pivot Table Data'!L741","v":0},{"$f":"'Pivot Table Data'!S741","v":2},{"$f":"'Pivot Table Data'!T741","v":2},{"$f":"IF('Pivot Table Data'!O741=\"Yes\", 'Pivot Table Data'!T741, \"\")","v":""}]
[{"$f":"'Pivot Table Data'!B742","v":0},{"$f":"'Pivot Table Data'!F742","v":"Warren College"},{"$f":"'Pivot Table Data'!P742","v":"P418"},{"$f":"'Pivot Table Data'!I742","v":"-"},{"$f":"'Pivot Table Data'!J742","v":"Loading"},{"$f":"'Pivot Table Data'!K742","v":0},{"$f":"'Pivot Table Data'!L742","v":"20 minutes"},{"$f":"'Pivot Table Data'!S742","v":1},{"$f":"'Pivot Table Data'!T742","v":1},{"$f":"IF('Pivot Table Data'!O742=\"Yes\", 'Pivot Table Data'!T742, \"\")","v":""}]
[{"$f":"'Pivot Table Data'!B743","v":0},{"$f":"'Pivot Table Data'!F743","v":"University Center"},{"$f":"'Pivot Table Data'!P743","v":"P501"},{"$f":"'Pivot Table Data'!I743","v":"-"},{"$f":"'Pivot Table Data'!J743","v":"Accessible"},{"$f":"'Pivot Table Data'!K743","v":0},{"$f":"'Pivot Table Data'!L743","v":0},{"$f":"'Pivot Table Data'!S743","v":1},{"$f":"'Pivot Table Data'!T743","v":1},{"$f":"IF('Pivot Table Data'!O743=\"Yes\", 'Pivot Table Data'!T743, \"\")","v":""}]
[{"$f":"'Pivot Table Data'!B744","v":0},{"$f":"'Pivot Table Data'!F744","v":"University Center"},{"$f":"'Pivot Table Data'!P744","v":"P501"},{"$f":"'Pivot Table Data'!I744","v":"-"},{"$f":"'Pivot Table Data'!J744","v":"Accessible (Van)"},{"$f":"'Pivot Table Data'!K744","v":0},{"$f":"'Pivot Table Data'!L744","v":0},{"$f":"'Pivot Table Data'!S744","v":4},{"$f":"'Pivot Table Data'!T744","v":4},{"$f":"IF('Pivot Table Data'!O744=\"Yes\", 'Pivot Table Data'!T744, \"\")","v":""}]
[{"$f":"'Pivot Table Data'!B745","v":0},{"$f":"'Pivot Table Data'!F745","v":"University Center"},{"$f":"'Pivot Table Data'!P745","v":"P501"},{"$f":"'Pivot Table Data'!I745","v":"-"},{"$f":"'Pivot Table Data'!J745","v":"Loading"},{"$f":"'Pivot Table Data'!K745","v":"Dock"},{"$f":"'Pivot Table Data'!L745","v":0},{"$f":"'Pivot Table Data'!S745","v":1},{"$f":"'Pivot Table Data'!T745","v":1},{"$f":"IF('Pivot Table Data'!O745=\"Yes\", 'Pivot Table Data'!T745, \"\")","v":""}]
[{"$f":"'Pivot Table Data'!B746","v":0},{"$f":"'Pivot Table Data'!F746","v":"University Center"},{"$f":"'Pivot Table Data'!P746","v":"P501"},{"$f":"'Pivot Table Data'!I746","v":"-"},{"$f":"'Pivot Table Data'!J746","v":"Service Yard"},{"$f":"'Pivot Table Data'!K746","v":0},{"$f":"'Pivot Table Data'!L746","v":0},{"$f":"'Pivot Table Data'!S746","v":6},{"$f":"'Pivot Table Data'!T746","v":6},{"$f":"IF('Pivot Table Data'!O746=\"Yes\", 'Pivot Table Data'!T746, \"\")","v":""}]
[{"$f":"'Pivot Table Data'!B747","v":0},{"$f":"'Pivot Table Data'!F747","v":"Warren College"},{"$f":"'Pivot Table Data'!P747","v":"P502"},{"$f":"'Pivot Table Data'!I747","v":"-"},{"$f":"'Pivot Table Data'!J747","v":"Loading"},{"$f":"'Pivot Table Data'!K747","v":0},{"$f":"'Pivot Table Data'!L747","v":"20 minutes"},{"$f":"'Pivot Table Data'!S747","v":4},{"$f":"'Pivot Table Data'!T747","v":4},{"$f":"IF('Pivot Table Data'!O747=\"Yes\", 'Pivot Table Data'!T747, \"\")","v":""}]
[{"$f":"'Pivot Table Data'!B748","v":0},{"$f":"'Pivot Table Data'!F748","v":"Warren College"},{"$f":"'Pivot Table Data'!P748","v":"P502"},{"$f":"'Pivot Table Data'!I748","v":"-"},{"$f":"'Pivot Table Data'!J748","v":"Reserved"},{"$f":"'Pivot Table Data'!K748","v":0},{"$f":"'Pivot Table Data'!L748","v":0},{"$f":"'Pivot Table Data'!S748","v":6},{"$f":"'Pivot Table Data'!T748","v":6},{"$f":"IF('Pivot Table Data'!O748=\"Yes\", 'Pivot Table Data'!T748, \"\")","v":""}]
[{"$f":"'Pivot Table Data'!B749","v":0},{"$f":"'Pivot Table Data'!F749","v":"Warren College"},{"$f":"'Pivot Table Data'!P749","v":"P503"},{"$f":"'Pivot Table Data'!I749","v":"-"},{"$f":"'Pivot Table Data'!J749","v":"A"},{"$f":"'Pivot Table Data'!K749","v":0},{"$f":"'Pivot Table Data'!L749","v":"4 hours"},{"$f":"'Pivot Table Data'!S749","v":8},{"$f":"'Pivot Table Data'!T749","v":8},{"$f":"IF('Pivot Table Data'!O749=\"Yes\", 'Pivot Table Data'!T749, \"\")","v":8}]
[{"$f":"'Pivot Table Data'!B750","v":0},{"$f":"'Pivot Table Data'!F750","v":"Warren College"},{"$f":"'Pivot Table Data'!P750","v":"P503"},{"$f":"'Pivot Table Data'!I750","v":"-"},{"$f":"'Pivot Table Data'!J750","v":"Accessible"},{"$f":"'Pivot Table Data'!K750","v":0},{"$f":"'Pivot Table Data'!L750","v":0},{"$f":"'Pivot Table Data'!S750","v":1},{"$f":"'Pivot Table Data'!T750","v":1},{"$f":"IF('Pivot Table Data'!O750=\"Yes\", 'Pivot Table Data'!T750, \"\")","v":""}]
[{"$f":"'Pivot Table Data'!B751","v":0},{"$f":"'Pivot Table Data'!F751","v":"Warren College"},{"$f":"'Pivot Table Data'!P751","v":"P503"},{"$f":"'Pivot Table Data'!I751","v":"-"},{"$f":"'Pivot Table Data'!J751","v":"Accessible (Van)"},{"$f":"'Pivot Table Data'!K751","v":0},{"$f":"'Pivot Table Data'!L751","v":0},{"$f":"'Pivot Table Data'!S751","v":5},{"$f":"'Pivot Table Data'!T751","v":5},{"$f":"IF('Pivot Table Data'!O751=\"Yes\", 'Pivot Table Data'!T751, \"\")","v":""}]
[{"$f":"'Pivot Table Data'!B752","v":0},{"$f":"'Pivot Table Data'!F752","v":"Warren College"},{"$f":"'Pivot Table Data'!P752","v":"P503"},{"$f":"'Pivot Table Data'!I752","v":"-"},{"$f":"'Pivot Table Data'!J752","v":"B"},{"$f":"'Pivot Table Data'!K752","v":0},{"$f":"'Pivot Table Data'!L752","v":"1 hour"},{"$f":"'Pivot Table Data'!S752","v":2},{"$f":"'Pivot Table Data'!T752","v":2},{"$f":"IF('Pivot Table Data'!O752=\"Yes\", 'Pivot Table Data'!T752, \"\")","v":2}]
[{"$f":"'Pivot Table Data'!B753","v":0},{"$f":"'Pivot Table Data'!F753","v":"Warren College"},{"$f":"'Pivot Table Data'!P753","v":"P503"},{"$f":"'Pivot Table Data'!I753","v":"-"},{"$f":"'Pivot Table Data'!J753","v":"Motorcycle Section"},{"$f":"'Pivot Table Data'!K753","v":0},{"$f":"'Pivot Table Data'!L753","v":0},{"$f":"'Pivot Table Data'!S753","v":5},{"$f":"'Pivot Table Data'!T753","v":5},{"$f":"IF('Pivot Table Data'!O753=\"Yes\", 'Pivot Table Data'!T753, \"\")","v":""}]
[{"$f":"'Pivot Table Data'!B754","v":0},{"$f":"'Pivot Table Data'!F754","v":"Warren College"},{"$f":"'Pivot Table Data'!P754","v":"P503"},{"$f":"'Pivot Table Data'!I754","v":"-"},{"$f":"'Pivot Table Data'!J754","v":"Reserved"},{"$f":"'Pivot Table Data'!K754","v":0},{"$f":"'Pivot Table Data'!L754","v":0},{"$f":"'Pivot Table Data'!S754","v":23},{"$f":"'Pivot Table Data'!T754","v":23},{"$f":"IF('Pivot Table Data'!O754=\"Yes\", 'Pivot Table Data'!T754, \"\")","v":""}]
[{"$f":"'Pivot Table Data'!B755","v":0},{"$f":"'Pivot Table Data'!F755","v":"Warren College"},{"$f":"'Pivot Table Data'!P755","v":"P503"},{"$f":"'Pivot Table Data'!I755","v":"-"},{"$f":"'Pivot Table Data'!J755","v":"Visitor"},{"$f":"'Pivot Table Data'!K755","v":0},{"$f":"'Pivot Table Data'!L755","v":"3 hours"},{"$f":"'Pivot Table Data'!S755","v":10},{"$f":"'Pivot Table Data'!T755","v":10},{"$f":"IF('Pivot Table Data'!O755=\"Yes\", 'Pivot Table Data'!T755, \"\")","v":10}]
[{"$f":"'Pivot Table Data'!B756","v":0},{"$f":"'Pivot Table Data'!F756","v":"Warren College"},{"$f":"'Pivot Table Data'!P756","v":"P504"},{"$f":"'Pivot Table Data'!I756","v":"-"},{"$f":"'Pivot Table Data'!J756","v":"Accessible"},{"$f":"'Pivot Table Data'!K756","v":0},{"$f":"'Pivot Table Data'!L756","v":0},{"$f":"'Pivot Table Data'!S756","v":4},{"$f":"'Pivot Table Data'!T756","v":4},{"$f":"IF('Pivot Table Data'!O756=\"Yes\", 'Pivot Table Data'!T756, \"\")","v":""}]
[{"$f":"'Pivot Table Data'!B757","v":0},{"$f":"'Pivot Table Data'!F757","v":"Warren College"},{"$f":"'Pivot Table Data'!P757","v":"P504"},{"$f":"'Pivot Table Data'!I757","v":"-"},{"$f":"'Pivot Table Data'!J757","v":"Accessible (Van)"},{"$f":"'Pivot Table Data'!K757","v":0},{"$f":"'Pivot Table Data'!L757","v":0},{"$f":"'Pivot Table Data'!S757","v":2},{"$f":"'Pivot Table Data'!T757","v":2},{"$f":"IF('Pivot Table Data'!O757=\"Yes\", 'Pivot Table Data'!T757, \"\")","v":""}]
[{"$f":"'Pivot Table Data'!B758","v":0},{"$f":"'Pivot Table Data'!F758","v":"Warren College"},{"$f":"'Pivot Table Data'!P758","v":"P504"},{"$f":"'Pivot Table Data'!I758","v":"-"},{"$f":"'Pivot Table Data'!J758","v":"Loading"},{"$f":"'Pivot Table Data'!K758","v":0},{"$f":"'Pivot Table Data'!L758","v":0},{"$f":"'Pivot Table Data'!S758","v":8},{"$f":"'Pivot Table Data'!T758","v":8},{"$f":"IF('Pivot Table Data'!O758=\"Yes\", 'Pivot Table Data'!T758, \"\")","v":""}]
[{"$f":"'Pivot Table Data'!B759","v":0},{"$f":"'Pivot Table Data'!F759","v":"Warren College"},{"$f":"'Pivot Table Data'!P759","v":"P504"},{"$f":"'Pivot Table Data'!I759","v":"-"},{"$f":"'Pivot Table Data'!J759","v":"Motorcycle Section"},{"$f":"'Pivot Table Data'!K759","v":0},{"$f":"'Pivot Table Data'!L759","v":0},{"$f":"'Pivot Table Data'!S759","v":1},{"$f":"'Pivot Table Data'!T759","v":1},{"$f":"IF('Pivot Table Data'!O759=\"Yes\", 'Pivot Table Data'!T759, \"\")","v":""}]
[{"$f":"'Pivot Table Data'!B760","v":0},{"$f":"'Pivot Table Data'!F760","v":"Warren College"},{"$f":"'Pivot Table Data'!P760","v":"P504"},{"$f":"'Pivot Table Data'!I760","v":"-"},{"$f":"'Pivot Table Data'!J760","v":"Reserved"},{"$f":"'Pivot Table Data'!K760","v":0},{"$f":"'Pivot Table Data'!L760","v":0},{"$f":"'Pivot Table Data'!S760","v":6},{"$f":"'Pivot Table Data'!T760","v":6},{"$f":"IF('Pivot Table Data'!O760=\"Yes\", 'Pivot Table Data'!T760, \"\")","v":""}]
[{"$f":"'Pivot Table Data'!B761","v":0},{"$f":"'Pivot Table Data'!F761","v":"Warren College"},{"$f":"'Pivot Table Data'!P761","v":"P504"},{"$f":"'Pivot Table Data'!I761","v":"-"},{"$f":"'Pivot Table Data'!J761","v":"SR"},{"$f":"'Pivot Table Data'!K761","v":0},{"$f":"'Pivot Table Data'!L761","v":0},{"$f":"'Pivot Table Data'!S761","v":27},{"$f":"'Pivot Table Data'!T761","v":27},{"$f":"IF('Pivot Table Data'!O761=\"Yes\", 'Pivot Table Data'!T761, \"\")","v":27}]
[{"$f":"'Pivot Table Data'!B762","v":0},{"$f":"'Pivot Table Data'!F762","v":"Warren College"},{"$f":"'Pivot Table Data'!P762","v":"P504"},{"$f":"'Pivot Table Data'!I762","v":"-"},{"$f":"'Pivot Table Data'!J762","v":"Visitor"},{"$f":"'Pivot Table Data'!K762","v":0},{"$f":"'Pivot Table Data'!L762","v":0},{"$f":"'Pivot Table Data'!S762","v":6},{"$f":"'Pivot Table Data'!T762","v":6},{"$f":"IF('Pivot Table Data'!O762=\"Yes\", 'Pivot Table Data'!T762, \"\")","v":6}]
[{"$f":"'Pivot Table Data'!B763","v":0},{"$f":"'Pivot Table Data'!F763","v":"Warren College"},{"$f":"'Pivot Table Data'!P763","v":"P505"},{"$f":"'Pivot Table Data'!I763","v":"-"},{"$f":"'Pivot Table Data'!J763","v":"Loading"},{"$f":"'Pivot Table Data'!K763","v":"Dock"},{"$f":"'Pivot Table Data'!L763","v":0},{"$f":"'Pivot Table Data'!S763","v":1},{"$f":"'Pivot Table Data'!T763","v":1},{"$f":"IF('Pivot Table Data'!O763=\"Yes\", 'Pivot Table Data'!T763, \"\")","v":""}]
[{"$f":"'Pivot Table Data'!B764","v":0},{"$f":"'Pivot Table Data'!F764","v":"Warren College"},{"$f":"'Pivot Table Data'!P764","v":"P505"},{"$f":"'Pivot Table Data'!I764","v":"-"},{"$f":"'Pivot Table Data'!J764","v":"Reserved"},{"$f":"'Pivot Table Data'!K764","v":0},{"$f":"'Pivot Table Data'!L764","v":0},{"$f":"'Pivot Table Data'!S764","v":4},{"$f":"'Pivot Table Data'!T764","v":4},{"$f":"IF('Pivot Table Data'!O764=\"Yes\", 'Pivot Table Data'!T764, \"\")","v":""}]
[{"$f":"'Pivot Table Data'!B765","v":0},{"$f":"'Pivot Table Data'!F765","v":"Warren College"},{"$f":"'Pivot Table Data'!P765","v":"P505"},{"$f":"'Pivot Table Data'!I765","v":"-"},{"$f":"'Pivot Table Data'!J765","v":"Service Yard"},{"$f":"'Pivot Table Data'!K765","v":0},{"$f":"'Pivot Table Data'!L765","v":0},{"$f":"'Pivot Table Data'!S765","v":2},{"$f":"'Pivot Table Data'!T765","v":2},{"$f":"IF('Pivot Table Data'!O765=\"Yes\", 'Pivot Table Data'!T765, \"\")","v":""}]
[{"$f":"'Pivot Table Data'!B766","v":0},{"$f":"'Pivot Table Data'!F766","v":"Warren College"},{"$f":"'Pivot Table Data'!P766","v":"P506"},{"$f":"'Pivot Table Data'!I766","v":"-"},{"$f":"'Pivot Table Data'!J766","v":"A"},{"$f":"'Pivot Table Data'!K766","v":0},{"$f":"'Pivot Table Data'!L766","v":"3 hours"},{"$f":"'Pivot Table Data'!S766","v":3},{"$f":"'Pivot Table Data'!T766","v":3},{"$f":"IF('Pivot Table Data'!O766=\"Yes\", 'Pivot Table Data'!T766, \"\")","v":3}]
[{"$f":"'Pivot Table Data'!B767","v":0},{"$f":"'Pivot Table Data'!F767","v":"Warren College"},{"$f":"'Pivot Table Data'!P767","v":"P506"},{"$f":"'Pivot Table Data'!I767","v":"-"},{"$f":"'Pivot Table Data'!J767","v":"Accessible"},{"$f":"'Pivot Table Data'!K767","v":0},{"$f":"'Pivot Table Data'!L767","v":0},{"$f":"'Pivot Table Data'!S767","v":1},{"$f":"'Pivot Table Data'!T767","v":1},{"$f":"IF('Pivot Table Data'!O767=\"Yes\", 'Pivot Table Data'!T767, \"\")","v":""}]
[{"$f":"'Pivot Table Data'!B768","v":0},{"$f":"'Pivot Table Data'!F768","v":"Warren College"},{"$f":"'Pivot Table Data'!P768","v":"P506"},{"$f":"'Pivot Table Data'!I768","v":"-"},{"$f":"'Pivot Table Data'!J768","v":"Accessible (Van)"},{"$f":"'Pivot Table Data'!K768","v":0},{"$f":"'Pivot Table Data'!L768","v":0},{"$f":"'Pivot Table Data'!S768","v":1},{"$f":"'Pivot Table Data'!T768","v":1},{"$f":"IF('Pivot Table Data'!O768=\"Yes\", 'Pivot Table Data'!T768, \"\")","v":""}]
[{"$f":"'Pivot Table Data'!B769","v":0},{"$f":"'Pivot Table Data'!F769","v":"Warren College"},{"$f":"'Pivot Table Data'!P769","v":"P506"},{"$f":"'Pivot Table Data'!I769","v":"-"},{"$f":"'Pivot Table Data'!J769","v":"Motorcycle Section"},{"$f":"'Pivot Table Data'!K769","v":0},{"$f":"'Pivot Table Data'!L769","v":0},{"$f":"'Pivot Table Data'!S769","v":1},{"$f":"'Pivot Table Data'!T769","v":1},{"$f":"IF('Pivot Table Data'!O769=\"Yes\", 'Pivot Table Data'!T769, \"\")","v":""}]
[{"$f":"'Pivot Table Data'!B770","v":0},{"$f":"'Pivot Table Data'!F770","v":"Warren College"},{"$f":"'Pivot Table Data'!P770","v":"P506"},{"$f":"'Pivot Table Data'!I770","v":"-"},{"$f":"'Pivot Table Data'!J770","v":"Service Yard"},{"$f":"'Pivot Table Data'!K770","v":0},{"$f":"'Pivot Table Data'!L770","v":0},{"$f":"'Pivot Table Data'!S770","v":1},{"$f":"'Pivot Table Data'!T770","v":1},{"$f":"IF('Pivot Table Data'!O770=\"Yes\", 'Pivot Table Data'!T770, \"\")","v":""}]
[{"$f":"'Pivot Table Data'!B771","v":0},{"$f":"'Pivot Table Data'!F771","v":"Warren College"},{"$f":"'Pivot Table Data'!P771","v":"P506"},{"$f":"'Pivot Table Data'!I771","v":"-"},{"$f":"'Pivot Table Data'!J771","v":"UC Vehicle"},{"$f":"'Pivot Table Data'!K771","v":0},{"$f":"'Pivot Table Data'!L771","v":0},{"$f":"'Pivot Table Data'!S771","v":2},{"$f":"'Pivot Table Data'!T771","v":2},{"$f":"IF('Pivot Table Data'!O771=\"Yes\", 'Pivot Table Data'!T771, \"\")","v":""}]
[{"$f":"'Pivot Table Data'!B772","v":0},{"$f":"'Pivot Table Data'!F772","v":"Warren College"},{"$f":"'Pivot Table Data'!P772","v":"P506"},{"$f":"'Pivot Table Data'!I772","v":"-"},{"$f":"'Pivot Table Data'!J772","v":"Visitor"},{"$f":"'Pivot Table Data'!K772","v":0},{"$f":"'Pivot Table Data'!L772","v":"3 hours"},{"$f":"'Pivot Table Data'!S772","v":12},{"$f":"'Pivot Table Data'!T772","v":12},{"$f":"IF('Pivot Table Data'!O772=\"Yes\", 'Pivot Table Data'!T772, \"\")","v":12}]
[{"$f":"'Pivot Table Data'!B773","v":0},{"$f":"'Pivot Table Data'!F773","v":"Campus Services"},{"$f":"'Pivot Table Data'!P773","v":"P507"},{"$f":"'Pivot Table Data'!I773","v":"-"},{"$f":"'Pivot Table Data'!J773","v":"Accessible"},{"$f":"'Pivot Table Data'!K773","v":0},{"$f":"'Pivot Table Data'!L773","v":0},{"$f":"'Pivot Table Data'!S773","v":8},{"$f":"'Pivot Table Data'!T773","v":8},{"$f":"IF('Pivot Table Data'!O773=\"Yes\", 'Pivot Table Data'!T773, \"\")","v":""}]
[{"$f":"'Pivot Table Data'!B774","v":0},{"$f":"'Pivot Table Data'!F774","v":"Campus Services"},{"$f":"'Pivot Table Data'!P774","v":"P507"},{"$f":"'Pivot Table Data'!I774","v":"-"},{"$f":"'Pivot Table Data'!J774","v":"Accessible (Van)"},{"$f":"'Pivot Table Data'!K774","v":0},{"$f":"'Pivot Table Data'!L774","v":0},{"$f":"'Pivot Table Data'!S774","v":1},{"$f":"'Pivot Table Data'!T774","v":1},{"$f":"IF('Pivot Table Data'!O774=\"Yes\", 'Pivot Table Data'!T774, \"\")","v":""}]
[{"$f":"'Pivot Table Data'!B775","v":0},{"$f":"'Pivot Table Data'!F775","v":"Campus Services"},{"$f":"'Pivot Table Data'!P775","v":"P507"},{"$f":"'Pivot Table Data'!I775","v":"-"},{"$f":"'Pivot Table Data'!J775","v":"Allocated"},{"$f":"'Pivot Table Data'!K775","v":"Key Pick Up"},{"$f":"'Pivot Table Data'!L775","v":0},{"$f":"'Pivot Table Data'!S775","v":1},{"$f":"'Pivot Table Data'!T775","v":1},{"$f":"IF('Pivot Table Data'!O775=\"Yes\", 'Pivot Table Data'!T775, \"\")","v":""}]
[{"$f":"'Pivot Table Data'!B776","v":0},{"$f":"'Pivot Table Data'!F776","v":"Campus Services"},{"$f":"'Pivot Table Data'!P776","v":"P507"},{"$f":"'Pivot Table Data'!I776","v":"-"},{"$f":"'Pivot Table Data'!J776","v":"B"},{"$f":"'Pivot Table Data'!K776","v":0},{"$f":"'Pivot Table Data'!L776","v":0},{"$f":"'Pivot Table Data'!S776","v":63},{"$f":"'Pivot Table Data'!T776","v":63},{"$f":"IF('Pivot Table Data'!O776=\"Yes\", 'Pivot Table Data'!T776, \"\")","v":63}]
[{"$f":"'Pivot Table Data'!B777","v":0},{"$f":"'Pivot Table Data'!F777","v":"Campus Services"},{"$f":"'Pivot Table Data'!P777","v":"P507"},{"$f":"'Pivot Table Data'!I777","v":"-"},{"$f":"'Pivot Table Data'!J777","v":"Electric Vehicle"},{"$f":"'Pivot Table Data'!K777","v":0},{"$f":"'Pivot Table Data'!L777","v":0},{"$f":"'Pivot Table Data'!S777","v":2},{"$f":"'Pivot Table Data'!T777","v":2},{"$f":"IF('Pivot Table Data'!O777=\"Yes\", 'Pivot Table Data'!T777, \"\")","v":""}]
[{"$f":"'Pivot Table Data'!B778","v":0},{"$f":"'Pivot Table Data'!F778","v":"Campus Services"},{"$f":"'Pivot Table Data'!P778","v":"P507"},{"$f":"'Pivot Table Data'!I778","v":"-"},{"$f":"'Pivot Table Data'!J778","v":"Loading"},{"$f":"'Pivot Table Data'!K778","v":0},{"$f":"'Pivot Table Data'!L778","v":0},{"$f":"'Pivot Table Data'!S778","v":3},{"$f":"'Pivot Table Data'!T778","v":3},{"$f":"IF('Pivot Table Data'!O778=\"Yes\", 'Pivot Table Data'!T778, \"\")","v":""}]
[{"$f":"'Pivot Table Data'!B779","v":0},{"$f":"'Pivot Table Data'!F779","v":"Campus Services"},{"$f":"'Pivot Table Data'!P779","v":"P507"},{"$f":"'Pivot Table Data'!I779","v":"-"},{"$f":"'Pivot Table Data'!J779","v":"Motorcycle Section"},{"$f":"'Pivot Table Data'!K779","v":0},{"$f":"'Pivot Table Data'!L779","v":0},{"$f":"'Pivot Table Data'!S779","v":5},{"$f":"'Pivot Table Data'!T779","v":5},{"$f":"IF('Pivot Table Data'!O779=\"Yes\", 'Pivot Table Data'!T779, \"\")","v":""}]
[{"$f":"'Pivot Table Data'!B780","v":0},{"$f":"'Pivot Table Data'!F780","v":"Campus Services"},{"$f":"'Pivot Table Data'!P780","v":"P507"},{"$f":"'Pivot Table Data'!I780","v":"-"},{"$f":"'Pivot Table Data'!J780","v":"Service Yard"},{"$f":"'Pivot Table Data'!K780","v":0},{"$f":"'Pivot Table Data'!L780","v":0},{"$f":"'Pivot Table Data'!S780","v":12},{"$f":"'Pivot Table Data'!T780","v":12},{"$f":"IF('Pivot Table Data'!O780=\"Yes\", 'Pivot Table Data'!T780, \"\")","v":""}]
[{"$f":"'Pivot Table Data'!B781","v":0},{"$f":"'Pivot Table Data'!F781","v":"Campus Services"},{"$f":"'Pivot Table Data'!P781","v":"P507"},{"$f":"'Pivot Table Data'!I781","v":"-"},{"$f":"'Pivot Table Data'!J781","v":"UC Vehicle"},{"$f":"'Pivot Table Data'!K781","v":"Reserved"},{"$f":"'Pivot Table Data'!L781","v":0},{"$f":"'Pivot Table Data'!S781","v":2},{"$f":"'Pivot Table Data'!T781","v":2},{"$f":"IF('Pivot Table Data'!O781=\"Yes\", 'Pivot Table Data'!T781, \"\")","v":""}]
[{"$f":"'Pivot Table Data'!B782","v":0},{"$f":"'Pivot Table Data'!F782","v":"Campus Services"},{"$f":"'Pivot Table Data'!P782","v":"P507"},{"$f":"'Pivot Table Data'!I782","v":"-"},{"$f":"'Pivot Table Data'!J782","v":"UC Vehicle"},{"$f":"'Pivot Table Data'!K782","v":0},{"$f":"'Pivot Table Data'!L782","v":0},{"$f":"'Pivot Table Data'!S782","v":133},{"$f":"'Pivot Table Data'!T782","v":133},{"$f":"IF('Pivot Table Data'!O782=\"Yes\", 'Pivot Table Data'!T782, \"\")","v":""}]
[{"$f":"'Pivot Table Data'!B783","v":0},{"$f":"'Pivot Table Data'!F783","v":"Campus Services"},{"$f":"'Pivot Table Data'!P783","v":"P507"},{"$f":"'Pivot Table Data'!I783","v":"-"},{"$f":"'Pivot Table Data'!J783","v":"Visitor"},{"$f":"'Pivot Table Data'!K783","v":"Police Visitor"},{"$f":"'Pivot Table Data'!L783","v":0},{"$f":"'Pivot Table Data'!S783","v":4},{"$f":"'Pivot Table Data'!T783","v":4},{"$f":"IF('Pivot Table Data'!O783=\"Yes\", 'Pivot Table Data'!T783, \"\")","v":4}]
[{"$f":"'Pivot Table Data'!B784","v":0},{"$f":"'Pivot Table Data'!F784","v":"Campus Services"},{"$f":"'Pivot Table Data'!P784","v":"P507"},{"$f":"'Pivot Table Data'!I784","v":"-"},{"$f":"'Pivot Table Data'!J784","v":"Visitor"},{"$f":"'Pivot Table Data'!K784","v":0},{"$f":"'Pivot Table Data'!L784","v":0},{"$f":"'Pivot Table Data'!S784","v":16},{"$f":"'Pivot Table Data'!T784","v":16},{"$f":"IF('Pivot Table Data'!O784=\"Yes\", 'Pivot Table Data'!T784, \"\")","v":16}]
[{"$f":"'Pivot Table Data'!B785","v":0},{"$f":"'Pivot Table Data'!F785","v":"Warren College"},{"$f":"'Pivot Table Data'!P785","v":"P508"},{"$f":"'Pivot Table Data'!I785","v":"-"},{"$f":"'Pivot Table Data'!J785","v":"A"},{"$f":"'Pivot Table Data'!K785","v":"24/7 Enforced"},{"$f":"'Pivot Table Data'!L785","v":0},{"$f":"'Pivot Table Data'!S785","v":1},{"$f":"'Pivot Table Data'!T785","v":1},{"$f":"IF('Pivot Table Data'!O785=\"Yes\", 'Pivot Table Data'!T785, \"\")","v":1}]
[{"$f":"'Pivot Table Data'!B786","v":0},{"$f":"'Pivot Table Data'!F786","v":"Warren College"},{"$f":"'Pivot Table Data'!P786","v":"P508"},{"$f":"'Pivot Table Data'!I786","v":"-"},{"$f":"'Pivot Table Data'!J786","v":"Accessible"},{"$f":"'Pivot Table Data'!K786","v":0},{"$f":"'Pivot Table Data'!L786","v":0},{"$f":"'Pivot Table Data'!S786","v":3},{"$f":"'Pivot Table Data'!T786","v":3},{"$f":"IF('Pivot Table Data'!O786=\"Yes\", 'Pivot Table Data'!T786, \"\")","v":""}]
[{"$f":"'Pivot Table Data'!B787","v":0},{"$f":"'Pivot Table Data'!F787","v":"Warren College"},{"$f":"'Pivot Table Data'!P787","v":"P508"},{"$f":"'Pivot Table Data'!I787","v":"-"},{"$f":"'Pivot Table Data'!J787","v":"Accessible (Van)"},{"$f":"'Pivot Table Data'!K787","v":0},{"$f":"'Pivot Table Data'!L787","v":0},{"$f":"'Pivot Table Data'!S787","v":7},{"$f":"'Pivot Table Data'!T787","v":7},{"$f":"IF('Pivot Table Data'!O787=\"Yes\", 'Pivot Table Data'!T787, \"\")","v":""}]
[{"$f":"'Pivot Table Data'!B788","v":0},{"$f":"'Pivot Table Data'!F788","v":"Warren College"},{"$f":"'Pivot Table Data'!P788","v":"P508"},{"$f":"'Pivot Table Data'!I788","v":"-"},{"$f":"'Pivot Table Data'!J788","v":"Loading"},{"$f":"'Pivot Table Data'!K788","v":0},{"$f":"'Pivot Table Data'!L788","v":"20 minutes"},{"$f":"'Pivot Table Data'!S788","v":0},{"$f":"'Pivot Table Data'!T788","v":0},{"$f":"IF('Pivot Table Data'!O788=\"Yes\", 'Pivot Table Data'!T788, \"\")","v":""}]
[{"$f":"'Pivot Table Data'!B789","v":0},{"$f":"'Pivot Table Data'!F789","v":"Warren College"},{"$f":"'Pivot Table Data'!P789","v":"P508"},{"$f":"'Pivot Table Data'!I789","v":"-"},{"$f":"'Pivot Table Data'!J789","v":"Reserved"},{"$f":"'Pivot Table Data'!K789","v":0},{"$f":"'Pivot Table Data'!L789","v":0},{"$f":"'Pivot Table Data'!S789","v":25},{"$f":"'Pivot Table Data'!T789","v":25},{"$f":"IF('Pivot Table Data'!O789=\"Yes\", 'Pivot Table Data'!T789, \"\")","v":""}]
[{"$f":"'Pivot Table Data'!B790","v":0},{"$f":"'Pivot Table Data'!F790","v":"Warren College"},{"$f":"'Pivot Table Data'!P790","v":"P508"},{"$f":"'Pivot Table Data'!I790","v":"-"},{"$f":"'Pivot Table Data'!J790","v":"Visitor"},{"$f":"'Pivot Table Data'!K790","v":0},{"$f":"'Pivot Table Data'!L790","v":0},{"$f":"'Pivot Table Data'!S790","v":0},{"$f":"'Pivot Table Data'!T790","v":0},{"$f":"IF('Pivot Table Data'!O790=\"Yes\", 'Pivot Table Data'!T790, \"\")","v":0}]
[{"$f":"'Pivot Table Data'!B791","v":0},{"$f":"'Pivot Table Data'!F791","v":"Warren College"},{"$f":"'Pivot Table Data'!P791","v":"P509"},{"$f":"'Pivot Table Data'!I791","v":"-"},{"$f":"'Pivot Table Data'!J791","v":"Loading"},{"$f":"'Pivot Table Data'!K791","v":"Dock"},{"$f":"'Pivot Table Data'!L791","v":0},{"$f":"'Pivot Table Data'!S791","v":1},{"$f":"'Pivot Table Data'!T791","v":1},{"$f":"IF('Pivot Table Data'!O791=\"Yes\", 'Pivot Table Data'!T791, \"\")","v":""}]
[{"$f":"'Pivot Table Data'!B792","v":0},{"$f":"'Pivot Table Data'!F792","v":"Warren College"},{"$f":"'Pivot Table Data'!P792","v":"P509"},{"$f":"'Pivot Table Data'!I792","v":"-"},{"$f":"'Pivot Table Data'!J792","v":"Reserved"},{"$f":"'Pivot Table Data'!K792","v":0},{"$f":"'Pivot Table Data'!L792","v":0},{"$f":"'Pivot Table Data'!S792","v":1},{"$f":"'Pivot Table Data'!T792","v":1},{"$f":"IF('Pivot Table Data'!O792=\"Yes\", 'Pivot Table Data'!T792, \"\")","v":""}]
[{"$f":"'Pivot Table Data'!B793","v":0},{"$f":"'Pivot Table Data'!F793","v":"Warren College"},{"$f":"'Pivot Table Data'!P793","v":"P509"},{"$f":"'Pivot Table Data'!I793","v":"-"},{"$f":"'Pivot Table Data'!J793","v":"Service Yard"},{"$f":"'Pivot Table Data'!K793","v":0},{"$f":"'Pivot Table Data'!L793","v":0},{"$f":"'Pivot Table Data'!S793","v":4},{"$f":"'Pivot Table Data'!T793","v":4},{"$f":"IF('Pivot Table Data'!O793=\"Yes\", 'Pivot Table Data'!T793, \"\")","v":""}]
[{"$f":"'Pivot Table Data'!B794","v":0},{"$f":"'Pivot Table Data'!F794","v":"Warren College"},{"$f":"'Pivot Table Data'!P794","v":"P509"},{"$f":"'Pivot Table Data'!I794","v":"-"},{"$f":"'Pivot Table Data'!J794","v":"UC Vehicle"},{"$f":"'Pivot Table Data'!K794","v":"UC Cart"},{"$f":"'Pivot Table Data'!L794","v":0},{"$f":"'Pivot Table Data'!S794","v":1},{"$f":"'Pivot Table Data'!T794","v":1},{"$f":"IF('Pivot Table Data'!O794=\"Yes\", 'Pivot Table Data'!T794, \"\")","v":""}]
[{"$f":"'Pivot Table Data'!B795","v":0},{"$f":"'Pivot Table Data'!F795","v":"Campus Services"},{"$f":"'Pivot Table Data'!P795","v":"P510"},{"$f":"'Pivot Table Data'!I795","v":"-"},{"$f":"'Pivot Table Data'!J795","v":"A"},{"$f":"'Pivot Table Data'!K795","v":0},{"$f":"'Pivot Table Data'!L795","v":0},{"$f":"'Pivot Table Data'!S795","v":26},{"$f":"'Pivot Table Data'!T795","v":26},{"$f":"IF('Pivot Table Data'!O795=\"Yes\", 'Pivot Table Data'!T795, \"\")","v":26}]
[{"$f":"'Pivot Table Data'!B796","v":0},{"$f":"'Pivot Table Data'!F796","v":"Campus Services"},{"$f":"'Pivot Table Data'!P796","v":"P510"},{"$f":"'Pivot Table Data'!I796","v":"-"},{"$f":"'Pivot Table Data'!J796","v":"B"},{"$f":"'Pivot Table Data'!K796","v":0},{"$f":"'Pivot Table Data'!L796","v":0},{"$f":"'Pivot Table Data'!S796","v":157},{"$f":"'Pivot Table Data'!T796","v":157},{"$f":"IF('Pivot Table Data'!O796=\"Yes\", 'Pivot Table Data'!T796, \"\")","v":157}]
[{"$f":"'Pivot Table Data'!B797","v":0},{"$f":"'Pivot Table Data'!F797","v":"Campus Services"},{"$f":"'Pivot Table Data'!P797","v":"P510"},{"$f":"'Pivot Table Data'!I797","v":"-"},{"$f":"'Pivot Table Data'!J797","v":"Motorcycle Section"},{"$f":"'Pivot Table Data'!K797","v":0},{"$f":"'Pivot Table Data'!L797","v":0},{"$f":"'Pivot Table Data'!S797","v":3},{"$f":"'Pivot Table Data'!T797","v":3},{"$f":"IF('Pivot Table Data'!O797=\"Yes\", 'Pivot Table Data'!T797, \"\")","v":""}]
[{"$f":"'Pivot Table Data'!B798","v":0},{"$f":"'Pivot Table Data'!F798","v":"Campus Services"},{"$f":"'Pivot Table Data'!P798","v":"P510"},{"$f":"'Pivot Table Data'!I798","v":"-"},{"$f":"'Pivot Table Data'!J798","v":"Reserved"},{"$f":"'Pivot Table Data'!K798","v":0},{"$f":"'Pivot Table Data'!L798","v":0},{"$f":"'Pivot Table Data'!S798","v":3},{"$f":"'Pivot Table Data'!T798","v":3},{"$f":"IF('Pivot Table Data'!O798=\"Yes\", 'Pivot Table Data'!T798, \"\")","v":""}]
[{"$f":"'Pivot Table Data'!B799","v":0},{"$f":"'Pivot Table Data'!F799","v":"Campus Services"},{"$f":"'Pivot Table Data'!P799","v":"P510"},{"$f":"'Pivot Table Data'!I799","v":"-"},{"$f":"'Pivot Table Data'!J799","v":"Service Yard"},{"$f":"'Pivot Table Data'!K799","v":0},{"$f":"'Pivot Table Data'!L799","v":0},{"$f":"'Pivot Table Data'!S799","v":1},{"$f":"'Pivot Table Data'!T799","v":1},{"$f":"IF('Pivot Table Data'!O799=\"Yes\", 'Pivot Table Data'!T799, \"\")","v":""}]
[{"$f":"'Pivot Table Data'!B800","v":0},{"$f":"'Pivot Table Data'!F800","v":"Campus Services"},{"$f":"'Pivot Table Data'!P800","v":"P510"},{"$f":"'Pivot Table Data'!I800","v":"-"},{"$f":"'Pivot Table Data'!J800","v":"Visitor"},{"$f":"'Pivot Table Data'!K800","v":0},{"$f":"'Pivot Table Data'!L800","v":0},{"$f":"'Pivot Table Data'!S800","v":9},{"$f":"'Pivot Table Data'!T800","v":9},{"$f":"IF('Pivot Table Data'!O800=\"Yes\", 'Pivot Table Data'!T800, \"\")","v":9}]
[{"$f":"'Pivot Table Data'!B801","v":0},{"$f":"'Pivot Table Data'!F801","v":"Health Sciences West"},{"$f":"'Pivot Table Data'!P801","v":"P601"},{"$f":"'Pivot Table Data'!I801","v":"-"},{"$f":"'Pivot Table Data'!J801","v":"Accessible"},{"$f":"'Pivot Table Data'!K801","v":0},{"$f":"'Pivot Table Data'!L801","v":0},{"$f":"'Pivot Table Data'!S801","v":7},{"$f":"'Pivot Table Data'!T801","v":7},{"$f":"IF('Pivot Table Data'!O801=\"Yes\", 'Pivot Table Data'!T801, \"\")","v":""}]
[{"$f":"'Pivot Table Data'!B802","v":0},{"$f":"'Pivot Table Data'!F802","v":"Health Sciences West"},{"$f":"'Pivot Table Data'!P802","v":"P601"},{"$f":"'Pivot Table Data'!I802","v":"-"},{"$f":"'Pivot Table Data'!J802","v":"Accessible (Van)"},{"$f":"'Pivot Table Data'!K802","v":0},{"$f":"'Pivot Table Data'!L802","v":0},{"$f":"'Pivot Table Data'!S802","v":3},{"$f":"'Pivot Table Data'!T802","v":3},{"$f":"IF('Pivot Table Data'!O802=\"Yes\", 'Pivot Table Data'!T802, \"\")","v":""}]
[{"$f":"'Pivot Table Data'!B803","v":0},{"$f":"'Pivot Table Data'!F803","v":"Health Sciences West"},{"$f":"'Pivot Table Data'!P803","v":"P601"},{"$f":"'Pivot Table Data'!I803","v":"-"},{"$f":"'Pivot Table Data'!J803","v":"Loading"},{"$f":"'Pivot Table Data'!K803","v":"Dock"},{"$f":"'Pivot Table Data'!L803","v":0},{"$f":"'Pivot Table Data'!S803","v":1},{"$f":"'Pivot Table Data'!T803","v":1},{"$f":"IF('Pivot Table Data'!O803=\"Yes\", 'Pivot Table Data'!T803, \"\")","v":""}]
[{"$f":"'Pivot Table Data'!B804","v":0},{"$f":"'Pivot Table Data'!F804","v":"Health Sciences West"},{"$f":"'Pivot Table Data'!P804","v":"P602"},{"$f":"'Pivot Table Data'!I804","v":"-"},{"$f":"'Pivot Table Data'!J804","v":"A"},{"$f":"'Pivot Table Data'!K804","v":"2hr"},{"$f":"'Pivot Table Data'!L804","v":120},{"$f":"'Pivot Table Data'!S804","v":36},{"$f":"'Pivot Table Data'!T804","v":36},{"$f":"IF('Pivot Table Data'!O804=\"Yes\", 'Pivot Table Data'!T804, \"\")","v":36}]
[{"$f":"'Pivot Table Data'!B805","v":0},{"$f":"'Pivot Table Data'!F805","v":"Health Sciences West"},{"$f":"'Pivot Table Data'!P805","v":"P602"},{"$f":"'Pivot Table Data'!I805","v":"-"},{"$f":"'Pivot Table Data'!J805","v":"A"},{"$f":"'Pivot Table Data'!K805","v":0},{"$f":"'Pivot Table Data'!L805","v":0},{"$f":"'Pivot Table Data'!S805","v":73},{"$f":"'Pivot Table Data'!T805","v":73},{"$f":"IF('Pivot Table Data'!O805=\"Yes\", 'Pivot Table Data'!T805, \"\")","v":73}]
[{"$f":"'Pivot Table Data'!B806","v":0},{"$f":"'Pivot Table Data'!F806","v":"Health Sciences West"},{"$f":"'Pivot Table Data'!P806","v":"P602"},{"$f":"'Pivot Table Data'!I806","v":"-"},{"$f":"'Pivot Table Data'!J806","v":"Accessible"},{"$f":"'Pivot Table Data'!K806","v":0},{"$f":"'Pivot Table Data'!L806","v":0},{"$f":"'Pivot Table Data'!S806","v":2},{"$f":"'Pivot Table Data'!T806","v":2},{"$f":"IF('Pivot Table Data'!O806=\"Yes\", 'Pivot Table Data'!T806, \"\")","v":""}]
[{"$f":"'Pivot Table Data'!B807","v":0},{"$f":"'Pivot Table Data'!F807","v":"Health Sciences West"},{"$f":"'Pivot Table Data'!P807","v":"P602"},{"$f":"'Pivot Table Data'!I807","v":"-"},{"$f":"'Pivot Table Data'!J807","v":"Accessible (Van)"},{"$f":"'Pivot Table Data'!K807","v":0},{"$f":"'Pivot Table Data'!L807","v":0},{"$f":"'Pivot Table Data'!S807","v":2},{"$f":"'Pivot Table Data'!T807","v":2},{"$f":"IF('Pivot Table Data'!O807=\"Yes\", 'Pivot Table Data'!T807, \"\")","v":""}]
[{"$f":"'Pivot Table Data'!B808","v":0},{"$f":"'Pivot Table Data'!F808","v":"Health Sciences West"},{"$f":"'Pivot Table Data'!P808","v":"P602"},{"$f":"'Pivot Table Data'!I808","v":"-"},{"$f":"'Pivot Table Data'!J808","v":"Carpool"},{"$f":"'Pivot Table Data'!K808","v":"B 3-Person"},{"$f":"'Pivot Table Data'!L808","v":0},{"$f":"'Pivot Table Data'!S808","v":9},{"$f":"'Pivot Table Data'!T808","v":9},{"$f":"IF('Pivot Table Data'!O808=\"Yes\", 'Pivot Table Data'!T808, \"\")","v":9}]
[{"$f":"'Pivot Table Data'!B809","v":0},{"$f":"'Pivot Table Data'!F809","v":"Health Sciences West"},{"$f":"'Pivot Table Data'!P809","v":"P602"},{"$f":"'Pivot Table Data'!I809","v":"-"},{"$f":"'Pivot Table Data'!J809","v":"Electric Vehicle"},{"$f":"'Pivot Table Data'!K809","v":0},{"$f":"'Pivot Table Data'!L809","v":0},{"$f":"'Pivot Table Data'!S809","v":4},{"$f":"'Pivot Table Data'!T809","v":4},{"$f":"IF('Pivot Table Data'!O809=\"Yes\", 'Pivot Table Data'!T809, \"\")","v":""}]
[{"$f":"'Pivot Table Data'!B810","v":0},{"$f":"'Pivot Table Data'!F810","v":"Health Sciences West"},{"$f":"'Pivot Table Data'!P810","v":"P602"},{"$f":"'Pivot Table Data'!I810","v":"-"},{"$f":"'Pivot Table Data'!J810","v":"Reserved"},{"$f":"'Pivot Table Data'!K810","v":0},{"$f":"'Pivot Table Data'!L810","v":0},{"$f":"'Pivot Table Data'!S810","v":90},{"$f":"'Pivot Table Data'!T810","v":90},{"$f":"IF('Pivot Table Data'!O810=\"Yes\", 'Pivot Table Data'!T810, \"\")","v":""}]
[{"$f":"'Pivot Table Data'!B811","v":0},{"$f":"'Pivot Table Data'!F811","v":"Health Sciences West"},{"$f":"'Pivot Table Data'!P811","v":"P602"},{"$f":"'Pivot Table Data'!I811","v":"-"},{"$f":"'Pivot Table Data'!J811","v":"UC Vehicle"},{"$f":"'Pivot Table Data'!K811","v":0},{"$f":"'Pivot Table Data'!L811","v":0},{"$f":"'Pivot Table Data'!S811","v":2},{"$f":"'Pivot Table Data'!T811","v":2},{"$f":"IF('Pivot Table Data'!O811=\"Yes\", 'Pivot Table Data'!T811, \"\")","v":""}]
[{"$f":"'Pivot Table Data'!B812","v":0},{"$f":"'Pivot Table Data'!F812","v":"Health Sciences West"},{"$f":"'Pivot Table Data'!P812","v":"P602"},{"$f":"'Pivot Table Data'!I812","v":"-"},{"$f":"'Pivot Table Data'!J812","v":"Visitor"},{"$f":"'Pivot Table Data'!K812","v":0},{"$f":"'Pivot Table Data'!L812","v":0},{"$f":"'Pivot Table Data'!S812","v":12},{"$f":"'Pivot Table Data'!T812","v":12},{"$f":"IF('Pivot Table Data'!O812=\"Yes\", 'Pivot Table Data'!T812, \"\")","v":12}]
[{"$f":"'Pivot Table Data'!B813","v":0},{"$f":"'Pivot Table Data'!F813","v":"Health Sciences West"},{"$f":"'Pivot Table Data'!P813","v":"P603"},{"$f":"'Pivot Table Data'!I813","v":"-"},{"$f":"'Pivot Table Data'!J813","v":"A"},{"$f":"'Pivot Table Data'!K813","v":0},{"$f":"'Pivot Table Data'!L813","v":0},{"$f":"'Pivot Table Data'!S813","v":0},{"$f":"'Pivot Table Data'!T813","v":0},{"$f":"IF('Pivot Table Data'!O813=\"Yes\", 'Pivot Table Data'!T813, \"\")","v":0}]
[{"$f":"'Pivot Table Data'!B814","v":0},{"$f":"'Pivot Table Data'!F814","v":"Health Sciences West"},{"$f":"'Pivot Table Data'!P814","v":"P603"},{"$f":"'Pivot Table Data'!I814","v":"-"},{"$f":"'Pivot Table Data'!J814","v":"Accessible"},{"$f":"'Pivot Table Data'!K814","v":0},{"$f":"'Pivot Table Data'!L814","v":0},{"$f":"'Pivot Table Data'!S814","v":6},{"$f":"'Pivot Table Data'!T814","v":6},{"$f":"IF('Pivot Table Data'!O814=\"Yes\", 'Pivot Table Data'!T814, \"\")","v":""}]
[{"$f":"'Pivot Table Data'!B815","v":0},{"$f":"'Pivot Table Data'!F815","v":"Health Sciences West"},{"$f":"'Pivot Table Data'!P815","v":"P603"},{"$f":"'Pivot Table Data'!I815","v":"-"},{"$f":"'Pivot Table Data'!J815","v":"Accessible (Van)"},{"$f":"'Pivot Table Data'!K815","v":0},{"$f":"'Pivot Table Data'!L815","v":0},{"$f":"'Pivot Table Data'!S815","v":9},{"$f":"'Pivot Table Data'!T815","v":9},{"$f":"IF('Pivot Table Data'!O815=\"Yes\", 'Pivot Table Data'!T815, \"\")","v":""}]
[{"$f":"'Pivot Table Data'!B816","v":0},{"$f":"'Pivot Table Data'!F816","v":"Health Sciences West"},{"$f":"'Pivot Table Data'!P816","v":"P603"},{"$f":"'Pivot Table Data'!I816","v":"-"},{"$f":"'Pivot Table Data'!J816","v":"Loading"},{"$f":"'Pivot Table Data'!K816","v":0},{"$f":"'Pivot Table Data'!L816","v":0},{"$f":"'Pivot Table Data'!S816","v":4},{"$f":"'Pivot Table Data'!T816","v":4},{"$f":"IF('Pivot Table Data'!O816=\"Yes\", 'Pivot Table Data'!T816, \"\")","v":""}]
[{"$f":"'Pivot Table Data'!B817","v":0},{"$f":"'Pivot Table Data'!F817","v":"Health Sciences West"},{"$f":"'Pivot Table Data'!P817","v":"P603"},{"$f":"'Pivot Table Data'!I817","v":"-"},{"$f":"'Pivot Table Data'!J817","v":"Motorcycle Section"},{"$f":"'Pivot Table Data'!K817","v":0},{"$f":"'Pivot Table Data'!L817","v":0},{"$f":"'Pivot Table Data'!S817","v":0},{"$f":"'Pivot Table Data'!T817","v":0},{"$f":"IF('Pivot Table Data'!O817=\"Yes\", 'Pivot Table Data'!T817, \"\")","v":""}]
[{"$f":"'Pivot Table Data'!B818","v":0},{"$f":"'Pivot Table Data'!F818","v":"Health Sciences West"},{"$f":"'Pivot Table Data'!P818","v":"P603"},{"$f":"'Pivot Table Data'!I818","v":"-"},{"$f":"'Pivot Table Data'!J818","v":"Reserved"},{"$f":"'Pivot Table Data'!K818","v":"Enterprise"},{"$f":"'Pivot Table Data'!L818","v":0},{"$f":"'Pivot Table Data'!S818","v":0},{"$f":"'Pivot Table Data'!T818","v":0},{"$f":"IF('Pivot Table Data'!O818=\"Yes\", 'Pivot Table Data'!T818, \"\")","v":""}]
[{"$f":"'Pivot Table Data'!B819","v":0},{"$f":"'Pivot Table Data'!F819","v":"Health Sciences West"},{"$f":"'Pivot Table Data'!P819","v":"P603"},{"$f":"'Pivot Table Data'!I819","v":"-"},{"$f":"'Pivot Table Data'!J819","v":"Reserved"},{"$f":"'Pivot Table Data'!K819","v":0},{"$f":"'Pivot Table Data'!L819","v":0},{"$f":"'Pivot Table Data'!S819","v":0},{"$f":"'Pivot Table Data'!T819","v":0},{"$f":"IF('Pivot Table Data'!O819=\"Yes\", 'Pivot Table Data'!T819, \"\")","v":""}]
[{"$f":"'Pivot Table Data'!B820","v":0},{"$f":"'Pivot Table Data'!F820","v":"Health Sciences West"},{"$f":"'Pivot Table Data'!P820","v":"P603"},{"$f":"'Pivot Table Data'!I820","v":"-"},{"$f":"'Pivot Table Data'!J820","v":"Service Yard"},{"$f":"'Pivot Table Data'!K820","v":0},{"$f":"'Pivot Table Data'!L820","v":0},{"$f":"'Pivot Table Data'!S820","v":2},{"$f":"'Pivot Table Data'!T820","v":2},{"$f":"IF('Pivot Table Data'!O820=\"Yes\", 'Pivot Table Data'!T820, \"\")","v":""}]
[{"$f":"'Pivot Table Data'!B821","v":0},{"$f":"'Pivot Table Data'!F821","v":"Health Sciences West"},{"$f":"'Pivot Table Data'!P821","v":"P603"},{"$f":"'Pivot Table Data'!I821","v":"-"},{"$f":"'Pivot Table Data'!J821","v":"Visitor"},{"$f":"'Pivot Table Data'!K821","v":0},{"$f":"'Pivot Table Data'!L821","v":0},{"$f":"'Pivot Table Data'!S821","v":36},{"$f":"'Pivot Table Data'!T821","v":36},{"$f":"IF('Pivot Table Data'!O821=\"Yes\", 'Pivot Table Data'!T821, \"\")","v":36}]
[{"$f":"'Pivot Table Data'!B822","v":0},{"$f":"'Pivot Table Data'!F822","v":"Health Sciences West"},{"$f":"'Pivot Table Data'!P822","v":"P604"},{"$f":"'Pivot Table Data'!I822","v":"-"},{"$f":"'Pivot Table Data'!J822","v":"Accessible"},{"$f":"'Pivot Table Data'!K822","v":0},{"$f":"'Pivot Table Data'!L822","v":0},{"$f":"'Pivot Table Data'!S822","v":0},{"$f":"'Pivot Table Data'!T822","v":0},{"$f":"IF('Pivot Table Data'!O822=\"Yes\", 'Pivot Table Data'!T822, \"\")","v":""}]
[{"$f":"'Pivot Table Data'!B823","v":0},{"$f":"'Pivot Table Data'!F823","v":"Health Sciences West"},{"$f":"'Pivot Table Data'!P823","v":"P604"},{"$f":"'Pivot Table Data'!I823","v":"-"},{"$f":"'Pivot Table Data'!J823","v":"Accessible (Van)"},{"$f":"'Pivot Table Data'!K823","v":0},{"$f":"'Pivot Table Data'!L823","v":0},{"$f":"'Pivot Table Data'!S823","v":0},{"$f":"'Pivot Table Data'!T823","v":0},{"$f":"IF('Pivot Table Data'!O823=\"Yes\", 'Pivot Table Data'!T823, \"\")","v":""}]
[{"$f":"'Pivot Table Data'!B824","v":0},{"$f":"'Pivot Table Data'!F824","v":"Health Sciences West"},{"$f":"'Pivot Table Data'!P824","v":"P604"},{"$f":"'Pivot Table Data'!I824","v":"-"},{"$f":"'Pivot Table Data'!J824","v":"B"},{"$f":"'Pivot Table Data'!K824","v":0},{"$f":"'Pivot Table Data'!L824","v":0},{"$f":"'Pivot Table Data'!S824","v":0},{"$f":"'Pivot Table Data'!T824","v":0},{"$f":"IF('Pivot Table Data'!O824=\"Yes\", 'Pivot Table Data'!T824, \"\")","v":0}]
[{"$f":"'Pivot Table Data'!B825","v":0},{"$f":"'Pivot Table Data'!F825","v":"Health Sciences West"},{"$f":"'Pivot Table Data'!P825","v":"P605"},{"$f":"'Pivot Table Data'!I825","v":"-"},{"$f":"'Pivot Table Data'!J825","v":"Accessible"},{"$f":"'Pivot Table Data'!K825","v":0},{"$f":"'Pivot Table Data'!L825","v":0},{"$f":"'Pivot Table Data'!S825","v":1},{"$f":"'Pivot Table Data'!T825","v":1},{"$f":"IF('Pivot Table Data'!O825=\"Yes\", 'Pivot Table Data'!T825, \"\")","v":""}]
[{"$f":"'Pivot Table Data'!B826","v":0},{"$f":"'Pivot Table Data'!F826","v":"Health Sciences West"},{"$f":"'Pivot Table Data'!P826","v":"P605"},{"$f":"'Pivot Table Data'!I826","v":"-"},{"$f":"'Pivot Table Data'!J826","v":"Accessible (Van)"},{"$f":"'Pivot Table Data'!K826","v":0},{"$f":"'Pivot Table Data'!L826","v":0},{"$f":"'Pivot Table Data'!S826","v":0},{"$f":"'Pivot Table Data'!T826","v":0},{"$f":"IF('Pivot Table Data'!O826=\"Yes\", 'Pivot Table Data'!T826, \"\")","v":""}]
[{"$f":"'Pivot Table Data'!B827","v":0},{"$f":"'Pivot Table Data'!F827","v":"Health Sciences West"},{"$f":"'Pivot Table Data'!P827","v":"P605"},{"$f":"'Pivot Table Data'!I827","v":"-"},{"$f":"'Pivot Table Data'!J827","v":"Reserved"},{"$f":"'Pivot Table Data'!K827","v":0},{"$f":"'Pivot Table Data'!L827","v":0},{"$f":"'Pivot Table Data'!S827","v":8},{"$f":"'Pivot Table Data'!T827","v":8},{"$f":"IF('Pivot Table Data'!O827=\"Yes\", 'Pivot Table Data'!T827, \"\")","v":""}]
[{"$f":"'Pivot Table Data'!B828","v":0},{"$f":"'Pivot Table Data'!F828","v":"Health Sciences West"},{"$f":"'Pivot Table Data'!P828","v":"P605"},{"$f":"'Pivot Table Data'!I828","v":"-"},{"$f":"'Pivot Table Data'!J828","v":"UC Vehicle"},{"$f":"'Pivot Table Data'!K828","v":0},{"$f":"'Pivot Table Data'!L828","v":0},{"$f":"'Pivot Table Data'!S828","v":7},{"$f":"'Pivot Table Data'!T828","v":7},{"$f":"IF('Pivot Table Data'!O828=\"Yes\", 'Pivot Table Data'!T828, \"\")","v":""}]
[{"$f":"'Pivot Table Data'!B829","v":0},{"$f":"'Pivot Table Data'!F829","v":"Health Sciences West"},{"$f":"'Pivot Table Data'!P829","v":"P606"},{"$f":"'Pivot Table Data'!I829","v":"-"},{"$f":"'Pivot Table Data'!J829","v":"Accessible"},{"$f":"'Pivot Table Data'!K829","v":0},{"$f":"'Pivot Table Data'!L829","v":0},{"$f":"'Pivot Table Data'!S829","v":0},{"$f":"'Pivot Table Data'!T829","v":0},{"$f":"IF('Pivot Table Data'!O829=\"Yes\", 'Pivot Table Data'!T829, \"\")","v":""}]
[{"$f":"'Pivot Table Data'!B830","v":0},{"$f":"'Pivot Table Data'!F830","v":"Health Sciences West"},{"$f":"'Pivot Table Data'!P830","v":"P606"},{"$f":"'Pivot Table Data'!I830","v":"-"},{"$f":"'Pivot Table Data'!J830","v":"Accessible (Van)"},{"$f":"'Pivot Table Data'!K830","v":0},{"$f":"'Pivot Table Data'!L830","v":0},{"$f":"'Pivot Table Data'!S830","v":2},{"$f":"'Pivot Table Data'!T830","v":2},{"$f":"IF('Pivot Table Data'!O830=\"Yes\", 'Pivot Table Data'!T830, \"\")","v":""}]
[{"$f":"'Pivot Table Data'!B831","v":0},{"$f":"'Pivot Table Data'!F831","v":"Health Sciences West"},{"$f":"'Pivot Table Data'!P831","v":"P606"},{"$f":"'Pivot Table Data'!I831","v":"-"},{"$f":"'Pivot Table Data'!J831","v":"Loading"},{"$f":"'Pivot Table Data'!K831","v":"Dock"},{"$f":"'Pivot Table Data'!L831","v":0},{"$f":"'Pivot Table Data'!S831","v":2},{"$f":"'Pivot Table Data'!T831","v":2},{"$f":"IF('Pivot Table Data'!O831=\"Yes\", 'Pivot Table Data'!T831, \"\")","v":""}]
[{"$f":"'Pivot Table Data'!B832","v":0},{"$f":"'Pivot Table Data'!F832","v":"Health Sciences West"},{"$f":"'Pivot Table Data'!P832","v":"P606"},{"$f":"'Pivot Table Data'!I832","v":"-"},{"$f":"'Pivot Table Data'!J832","v":"Reserved"},{"$f":"'Pivot Table Data'!K832","v":0},{"$f":"'Pivot Table Data'!L832","v":0},{"$f":"'Pivot Table Data'!S832","v":6},{"$f":"'Pivot Table Data'!T832","v":6},{"$f":"IF('Pivot Table Data'!O832=\"Yes\", 'Pivot Table Data'!T832, \"\")","v":""}]
[{"$f":"'Pivot Table Data'!B833","v":0},{"$f":"'Pivot Table Data'!F833","v":"Health Sciences West"},{"$f":"'Pivot Table Data'!P833","v":"P607"},{"$f":"'Pivot Table Data'!I833","v":"-"},{"$f":"'Pivot Table Data'!J833","v":"Service Yard"},{"$f":"'Pivot Table Data'!K833","v":"Dock"},{"$f":"'Pivot Table Data'!L833","v":0},{"$f":"'Pivot Table Data'!S833","v":5},{"$f":"'Pivot Table Data'!T833","v":5},{"$f":"IF('Pivot Table Data'!O833=\"Yes\", 'Pivot Table Data'!T833, \"\")","v":""}]
[{"$f":"'Pivot Table Data'!B834","v":0},{"$f":"'Pivot Table Data'!F834","v":"Health Sciences West"},{"$f":"'Pivot Table Data'!P834","v":"P608"},{"$f":"'Pivot Table Data'!I834","v":"-"},{"$f":"'Pivot Table Data'!J834","v":"Accessible"},{"$f":"'Pivot Table Data'!K834","v":0},{"$f":"'Pivot Table Data'!L834","v":0},{"$f":"'Pivot Table Data'!S834","v":2},{"$f":"'Pivot Table Data'!T834","v":2},{"$f":"IF('Pivot Table Data'!O834=\"Yes\", 'Pivot Table Data'!T834, \"\")","v":""}]
[{"$f":"'Pivot Table Data'!B835","v":0},{"$f":"'Pivot Table Data'!F835","v":"Health Sciences West"},{"$f":"'Pivot Table Data'!P835","v":"P608"},{"$f":"'Pivot Table Data'!I835","v":"-"},{"$f":"'Pivot Table Data'!J835","v":"Accessible (Van)"},{"$f":"'Pivot Table Data'!K835","v":0},{"$f":"'Pivot Table Data'!L835","v":0},{"$f":"'Pivot Table Data'!S835","v":0},{"$f":"'Pivot Table Data'!T835","v":0},{"$f":"IF('Pivot Table Data'!O835=\"Yes\", 'Pivot Table Data'!T835, \"\")","v":""}]
[{"$f":"'Pivot Table Data'!B836","v":0},{"$f":"'Pivot Table Data'!F836","v":"Health Sciences West"},{"$f":"'Pivot Table Data'!P836","v":"P608"},{"$f":"'Pivot Table Data'!I836","v":"-"},{"$f":"'Pivot Table Data'!J836","v":"Loading"},{"$f":"'Pivot Table Data'!K836","v":0},{"$f":"'Pivot Table Data'!L836","v":0},{"$f":"'Pivot Table Data'!S836","v":8},{"$f":"'Pivot Table Data'!T836","v":8},{"$f":"IF('Pivot Table Data'!O836=\"Yes\", 'Pivot Table Data'!T836, \"\")","v":""}]
[{"$f":"'Pivot Table Data'!B837","v":0},{"$f":"'Pivot Table Data'!F837","v":"Health Sciences West"},{"$f":"'Pivot Table Data'!P837","v":"P608"},{"$f":"'Pivot Table Data'!I837","v":"-"},{"$f":"'Pivot Table Data'!J837","v":"Reserved"},{"$f":"'Pivot Table Data'!K837","v":0},{"$f":"'Pivot Table Data'!L837","v":0},{"$f":"'Pivot Table Data'!S837","v":1},{"$f":"'Pivot Table Data'!T837","v":1},{"$f":"IF('Pivot Table Data'!O837=\"Yes\", 'Pivot Table Data'!T837, \"\")","v":""}]
[{"$f":"'Pivot Table Data'!B838","v":0},{"$f":"'Pivot Table Data'!F838","v":"Health Sciences West"},{"$f":"'Pivot Table Data'!P838","v":"P610"},{"$f":"'Pivot Table Data'!I838","v":"-"},{"$f":"'Pivot Table Data'!J838","v":"A"},{"$f":"'Pivot Table Data'!K838","v":0},{"$f":"'Pivot Table Data'!L838","v":0},{"$f":"'Pivot Table Data'!S838","v":113},{"$f":"'Pivot Table Data'!T838","v":113},{"$f":"IF('Pivot Table Data'!O838=\"Yes\", 'Pivot Table Data'!T838, \"\")","v":113}]
[{"$f":"'Pivot Table Data'!B839","v":0},{"$f":"'Pivot Table Data'!F839","v":"Health Sciences West"},{"$f":"'Pivot Table Data'!P839","v":"P610"},{"$f":"'Pivot Table Data'!I839","v":"-"},{"$f":"'Pivot Table Data'!J839","v":"Accessible"},{"$f":"'Pivot Table Data'!K839","v":0},{"$f":"'Pivot Table Data'!L839","v":0},{"$f":"'Pivot Table Data'!S839","v":0},{"$f":"'Pivot Table Data'!T839","v":0},{"$f":"IF('Pivot Table Data'!O839=\"Yes\", 'Pivot Table Data'!T839, \"\")","v":""}]
[{"$f":"'Pivot Table Data'!B840","v":0},{"$f":"'Pivot Table Data'!F840","v":"Health Sciences West"},{"$f":"'Pivot Table Data'!P840","v":"P610"},{"$f":"'Pivot Table Data'!I840","v":"-"},{"$f":"'Pivot Table Data'!J840","v":"Accessible (Van)"},{"$f":"'Pivot Table Data'!K840","v":0},{"$f":"'Pivot Table Data'!L840","v":0},{"$f":"'Pivot Table Data'!S840","v":5},{"$f":"'Pivot Table Data'!T840","v":5},{"$f":"IF('Pivot Table Data'!O840=\"Yes\", 'Pivot Table Data'!T840, \"\")","v":""}]
[{"$f":"'Pivot Table Data'!B841","v":0},{"$f":"'Pivot Table Data'!F841","v":"Health Sciences West"},{"$f":"'Pivot Table Data'!P841","v":"P610"},{"$f":"'Pivot Table Data'!I841","v":"-"},{"$f":"'Pivot Table Data'!J841","v":"Carpool"},{"$f":"'Pivot Table Data'!K841","v":"A 3-Person"},{"$f":"'Pivot Table Data'!L841","v":0},{"$f":"'Pivot Table Data'!S841","v":2},{"$f":"'Pivot Table Data'!T841","v":2},{"$f":"IF('Pivot Table Data'!O841=\"Yes\", 'Pivot Table Data'!T841, \"\")","v":2}]
[{"$f":"'Pivot Table Data'!B842","v":0},{"$f":"'Pivot Table Data'!F842","v":"Health Sciences West"},{"$f":"'Pivot Table Data'!P842","v":"P610"},{"$f":"'Pivot Table Data'!I842","v":"-"},{"$f":"'Pivot Table Data'!J842","v":"Electric Vehicle"},{"$f":"'Pivot Table Data'!K842","v":0},{"$f":"'Pivot Table Data'!L842","v":0},{"$f":"'Pivot Table Data'!S842","v":6},{"$f":"'Pivot Table Data'!T842","v":6},{"$f":"IF('Pivot Table Data'!O842=\"Yes\", 'Pivot Table Data'!T842, \"\")","v":""}]
[{"$f":"'Pivot Table Data'!B843","v":0},{"$f":"'Pivot Table Data'!F843","v":"Health Sciences West"},{"$f":"'Pivot Table Data'!P843","v":"P610"},{"$f":"'Pivot Table Data'!I843","v":"-"},{"$f":"'Pivot Table Data'!J843","v":"Reserved"},{"$f":"'Pivot Table Data'!K843","v":"Enterprise"},{"$f":"'Pivot Table Data'!L843","v":0},{"$f":"'Pivot Table Data'!S843","v":4},{"$f":"'Pivot Table Data'!T843","v":4},{"$f":"IF('Pivot Table Data'!O843=\"Yes\", 'Pivot Table Data'!T843, \"\")","v":""}]
[{"$f":"'Pivot Table Data'!B844","v":0},{"$f":"'Pivot Table Data'!F844","v":"Health Sciences West"},{"$f":"'Pivot Table Data'!P844","v":"P610"},{"$f":"'Pivot Table Data'!I844","v":"-"},{"$f":"'Pivot Table Data'!J844","v":"Reserved"},{"$f":"'Pivot Table Data'!K844","v":"EXCITE LAB"},{"$f":"'Pivot Table Data'!L844","v":0},{"$f":"'Pivot Table Data'!S844","v":10},{"$f":"'Pivot Table Data'!T844","v":10},{"$f":"IF('Pivot Table Data'!O844=\"Yes\", 'Pivot Table Data'!T844, \"\")","v":""}]
[{"$f":"'Pivot Table Data'!B845","v":0},{"$f":"'Pivot Table Data'!F845","v":"Health Sciences West"},{"$f":"'Pivot Table Data'!P845","v":"P610"},{"$f":"'Pivot Table Data'!I845","v":"-"},{"$f":"'Pivot Table Data'!J845","v":"Reserved"},{"$f":"'Pivot Table Data'!K845","v":0},{"$f":"'Pivot Table Data'!L845","v":0},{"$f":"'Pivot Table Data'!S845","v":9},{"$f":"'Pivot Table Data'!T845","v":9},{"$f":"IF('Pivot Table Data'!O845=\"Yes\", 'Pivot Table Data'!T845, \"\")","v":""}]
[{"$f":"'Pivot Table Data'!B846","v":0},{"$f":"'Pivot Table Data'!F846","v":"Theater District Living & Learning"},{"$f":"'Pivot Table Data'!P846","v":"TDLLN"},{"$f":"'Pivot Table Data'!I846","v":"L1"},{"$f":"'Pivot Table Data'!J846","v":"Accessible"},{"$f":"'Pivot Table Data'!K846","v":0},{"$f":"'Pivot Table Data'!L846","v":0},{"$f":"'Pivot Table Data'!S846","v":17},{"$f":"'Pivot Table Data'!T846","v":17},{"$f":"IF('Pivot Table Data'!O846=\"Yes\", 'Pivot Table Data'!T846, \"\")","v":""}]
[{"$f":"'Pivot Table Data'!B847","v":0},{"$f":"'Pivot Table Data'!F847","v":"Theater District Living & Learning"},{"$f":"'Pivot Table Data'!P847","v":"TDLLN"},{"$f":"'Pivot Table Data'!I847","v":"L1"},{"$f":"'Pivot Table Data'!J847","v":"Accessible (Van)"},{"$f":"'Pivot Table Data'!K847","v":0},{"$f":"'Pivot Table Data'!L847","v":0},{"$f":"'Pivot Table Data'!S847","v":5},{"$f":"'Pivot Table Data'!T847","v":5},{"$f":"IF('Pivot Table Data'!O847=\"Yes\", 'Pivot Table Data'!T847, \"\")","v":""}]
[{"$f":"'Pivot Table Data'!B848","v":0},{"$f":"'Pivot Table Data'!F848","v":"Theater District Living & Learning"},{"$f":"'Pivot Table Data'!P848","v":"TDLLN"},{"$f":"'Pivot Table Data'!I848","v":"L1"},{"$f":"'Pivot Table Data'!J848","v":"B"},{"$f":"'Pivot Table Data'!K848","v":0},{"$f":"'Pivot Table Data'!L848","v":0},{"$f":"'Pivot Table Data'!S848","v":0},{"$f":"'Pivot Table Data'!T848","v":393},{"$f":"IF('Pivot Table Data'!O848=\"Yes\", 'Pivot Table Data'!T848, \"\")","v":393}]
[{"$f":"'Pivot Table Data'!B849","v":0},{"$f":"'Pivot Table Data'!F849","v":"Theater District Living & Learning"},{"$f":"'Pivot Table Data'!P849","v":"TDLLN"},{"$f":"'Pivot Table Data'!I849","v":"L1"},{"$f":"'Pivot Table Data'!J849","v":"Carpool"},{"$f":"'Pivot Table Data'!K849","v":0},{"$f":"'Pivot Table Data'!L849","v":0},{"$f":"'Pivot Table Data'!S849","v":0},{"$f":"'Pivot Table Data'!T849","v":87},{"$f":"IF('Pivot Table Data'!O849=\"Yes\", 'Pivot Table Data'!T849, \"\")","v":87}]
[{"$f":"'Pivot Table Data'!B850","v":0},{"$f":"'Pivot Table Data'!F850","v":"Theater District Living & Learning"},{"$f":"'Pivot Table Data'!P850","v":"TDLLN"},{"$f":"'Pivot Table Data'!I850","v":"L1"},{"$f":"'Pivot Table Data'!J850","v":"Electric Vehicle"},{"$f":"'Pivot Table Data'!K850","v":"ADA"},{"$f":"'Pivot Table Data'!L850","v":0},{"$f":"'Pivot Table Data'!S850","v":5},{"$f":"'Pivot Table Data'!T850","v":5},{"$f":"IF('Pivot Table Data'!O850=\"Yes\", 'Pivot Table Data'!T850, \"\")","v":""}]
[{"$f":"'Pivot Table Data'!B851","v":0},{"$f":"'Pivot Table Data'!F851","v":"Theater District Living & Learning"},{"$f":"'Pivot Table Data'!P851","v":"TDLLN"},{"$f":"'Pivot Table Data'!I851","v":"L1"},{"$f":"'Pivot Table Data'!J851","v":"Electric Vehicle"},{"$f":"'Pivot Table Data'!K851","v":0},{"$f":"'Pivot Table Data'!L851","v":0},{"$f":"'Pivot Table Data'!S851","v":34},{"$f":"'Pivot Table Data'!T851","v":92},{"$f":"IF('Pivot Table Data'!O851=\"Yes\", 'Pivot Table Data'!T851, \"\")","v":""}]
[{"$f":"'Pivot Table Data'!B852","v":0},{"$f":"'Pivot Table Data'!F852","v":"Theater District Living & Learning"},{"$f":"'Pivot Table Data'!P852","v":"TDLLN"},{"$f":"'Pivot Table Data'!I852","v":"L1"},{"$f":"'Pivot Table Data'!J852","v":"Motorcycle Section"},{"$f":"'Pivot Table Data'!K852","v":0},{"$f":"'Pivot Table Data'!L852","v":0},{"$f":"'Pivot Table Data'!S852","v":0},{"$f":"'Pivot Table Data'!T852","v":0},{"$f":"IF('Pivot Table Data'!O852=\"Yes\", 'Pivot Table Data'!T852, \"\")","v":""}]
[{"$f":"'Pivot Table Data'!B853","v":0},{"$f":"'Pivot Table Data'!F853","v":"Theater District Living & Learning"},{"$f":"'Pivot Table Data'!P853","v":"TDLLN"},{"$f":"'Pivot Table Data'!I853","v":"L1"},{"$f":"'Pivot Table Data'!J853","v":"Reserved"},{"$f":"'Pivot Table Data'!K853","v":0},{"$f":"'Pivot Table Data'!L853","v":0},{"$f":"'Pivot Table Data'!S853","v":0},{"$f":"'Pivot Table Data'!T853","v":0},{"$f":"IF('Pivot Table Data'!O853=\"Yes\", 'Pivot Table Data'!T853, \"\")","v":""}]
[{"$f":"'Pivot Table Data'!B854","v":0},{"$f":"'Pivot Table Data'!F854","v":"Theater District Living & Learning"},{"$f":"'Pivot Table Data'!P854","v":"TDLLN"},{"$f":"'Pivot Table Data'!I854","v":"L1"},{"$f":"'Pivot Table Data'!J854","v":"Service Yard"},{"$f":"'Pivot Table Data'!K854","v":0},{"$f":"'Pivot Table Data'!L854","v":0},{"$f":"'Pivot Table Data'!S854","v":5},{"$f":"'Pivot Table Data'!T854","v":5},{"$f":"IF('Pivot Table Data'!O854=\"Yes\", 'Pivot Table Data'!T854, \"\")","v":""}]
[{"$f":"'Pivot Table Data'!B855","v":0},{"$f":"'Pivot Table Data'!F855","v":"Theater District Living & Learning"},{"$f":"'Pivot Table Data'!P855","v":"TDLLN"},{"$f":"'Pivot Table Data'!I855","v":"L1"},{"$f":"'Pivot Table Data'!J855","v":"SR"},{"$f":"'Pivot Table Data'!K855","v":0},{"$f":"'Pivot Table Data'!L855","v":0},{"$f":"'Pivot Table Data'!S855","v":0},{"$f":"'Pivot Table Data'!T855","v":91},{"$f":"IF('Pivot Table Data'!O855=\"Yes\", 'Pivot Table Data'!T855, \"\")","v":91}]
[{"$f":"'Pivot Table Data'!B856","v":0},{"$f":"'Pivot Table Data'!F856","v":"Theater District Living & Learning"},{"$f":"'Pivot Table Data'!P856","v":"TDLLN"},{"$f":"'Pivot Table Data'!I856","v":"L1"},{"$f":"'Pivot Table Data'!J856","v":"UC Cart"},{"$f":"'Pivot Table Data'!K856","v":0},{"$f":"'Pivot Table Data'!L856","v":0},{"$f":"'Pivot Table Data'!S856","v":15},{"$f":"'Pivot Table Data'!T856","v":15},{"$f":"IF('Pivot Table Data'!O856=\"Yes\", 'Pivot Table Data'!T856, \"\")","v":""}]
[{"$f":"'Pivot Table Data'!B857","v":0},{"$f":"'Pivot Table Data'!F857","v":"Theater District Living & Learning"},{"$f":"'Pivot Table Data'!P857","v":"TDLLN"},{"$f":"'Pivot Table Data'!I857","v":"L1"},{"$f":"'Pivot Table Data'!J857","v":"UC Vehicle"},{"$f":"'Pivot Table Data'!K857","v":0},{"$f":"'Pivot Table Data'!L857","v":0},{"$f":"'Pivot Table Data'!S857","v":0},{"$f":"'Pivot Table Data'!T857","v":0},{"$f":"IF('Pivot Table Data'!O857=\"Yes\", 'Pivot Table Data'!T857, \"\")","v":""}]
[{"$f":"'Pivot Table Data'!B858","v":0},{"$f":"'Pivot Table Data'!F858","v":"Theater District Living & Learning"},{"$f":"'Pivot Table Data'!P858","v":"TDLLN"},{"$f":"'Pivot Table Data'!I858","v":"L1"},{"$f":"'Pivot Table Data'!J858","v":"Visitor"},{"$f":"'Pivot Table Data'!K858","v":0},{"$f":"'Pivot Table Data'!L858","v":0},{"$f":"'Pivot Table Data'!S858","v":132},{"$f":"'Pivot Table Data'!T858","v":156},{"$f":"IF('Pivot Table Data'!O858=\"Yes\", 'Pivot Table Data'!T858, \"\")","v":156}]
[{"$f":"'Pivot Table Data'!B859","v":0},{"$f":"'Pivot Table Data'!F859","v":"Theater District Living & Learning"},{"$f":"'Pivot Table Data'!P859","v":"TDLLN"},{"$f":"'Pivot Table Data'!I859","v":"L1"},{"$f":"'Pivot Table Data'!J859","v":"Visitor"},{"$f":"'Pivot Table Data'!K859","v":0},{"$f":"'Pivot Table Data'!L859","v":0},{"$f":"'Pivot Table Data'!S859","v":0},{"$f":"'Pivot Table Data'!T859","v":""},{"$f":"IF('Pivot Table Data'!O859=\"Yes\", 'Pivot Table Data'!T859, \"\")","v":""}]
[{"$f":"'Pivot Table Data'!B860","v":0},{"$f":"'Pivot Table Data'!F860","v":"Theater District Living & Learning"},{"$f":"'Pivot Table Data'!P860","v":"TDLLN"},{"$f":"'Pivot Table Data'!I860","v":"L2"},{"$f":"'Pivot Table Data'!J860","v":"A"},{"$f":"'Pivot Table Data'!K860","v":0},{"$f":"'Pivot Table Data'!L860","v":0},{"$f":"'Pivot Table Data'!S860","v":134},{"$f":"'Pivot Table Data'!T860","v":182},{"$f":"IF('Pivot Table Data'!O860=\"Yes\", 'Pivot Table Data'!T860, \"\")","v":182}]
[{"$f":"'Pivot Table Data'!B861","v":0},{"$f":"'Pivot Table Data'!F861","v":"Theater District Living & Learning"},{"$f":"'Pivot Table Data'!P861","v":"TDLLN"},{"$f":"'Pivot Table Data'!I861","v":"L2"},{"$f":"'Pivot Table Data'!J861","v":"Accessible"},{"$f":"'Pivot Table Data'!K861","v":0},{"$f":"'Pivot Table Data'!L861","v":0},{"$f":"'Pivot Table Data'!S861","v":0},{"$f":"'Pivot Table Data'!T861","v":""},{"$f":"IF('Pivot Table Data'!O861=\"Yes\", 'Pivot Table Data'!T861, \"\")","v":""}]
[{"$f":"'Pivot Table Data'!B862","v":0},{"$f":"'Pivot Table Data'!F862","v":"Theater District Living & Learning"},{"$f":"'Pivot Table Data'!P862","v":"TDLLN"},{"$f":"'Pivot Table Data'!I862","v":"L2"},{"$f":"'Pivot Table Data'!J862","v":"Accessible (Van)"},{"$f":"'Pivot Table Data'!K862","v":0},{"$f":"'Pivot Table Data'!L862","v":0},{"$f":"'Pivot Table Data'!S862","v":0},{"$f":"'Pivot Table Data'!T862","v":""},{"$f":"IF('Pivot Table Data'!O862=\"Yes\", 'Pivot Table Data'!T862, \"\")","v":""}]
[{"$f":"'Pivot Table Data'!B863","v":0},{"$f":"'Pivot Table Data'!F863","v":"Theater District Living & Learning"},{"$f":"'Pivot Table Data'!P863","v":"TDLLN"},{"$f":"'Pivot Table Data'!I863","v":"L2"},{"$f":"'Pivot Table Data'!J863","v":"B"},{"$f":"'Pivot Table Data'!K863","v":0},{"$f":"'Pivot Table Data'!L863","v":0},{"$f":"'Pivot Table Data'!S863","v":0},{"$f":"'Pivot Table Data'!T863","v":""},{"$f":"IF('Pivot Table Data'!O863=\"Yes\", 'Pivot Table Data'!T863, \"\")","v":""}]
[{"$f":"'Pivot Table Data'!B864","v":0},{"$f":"'Pivot Table Data'!F864","v":"Theater District Living & Learning"},{"$f":"'Pivot Table Data'!P864","v":"TDLLN"},{"$f":"'Pivot Table Data'!I864","v":"L2"},{"$f":"'Pivot Table Data'!J864","v":"Carpool"},{"$f":"'Pivot Table Data'!K864","v":0},{"$f":"'Pivot Table Data'!L864","v":0},{"$f":"'Pivot Table Data'!S864","v":87},{"$f":"'Pivot Table Data'!T864","v":""},{"$f":"IF('Pivot Table Data'!O864=\"Yes\", 'Pivot Table Data'!T864, \"\")","v":""}]
[{"$f":"'Pivot Table Data'!B865","v":0},{"$f":"'Pivot Table Data'!F865","v":"Theater District Living & Learning"},{"$f":"'Pivot Table Data'!P865","v":"TDLLN"},{"$f":"'Pivot Table Data'!I865","v":"L2"},{"$f":"'Pivot Table Data'!J865","v":"Electric Vehicle"},{"$f":"'Pivot Table Data'!K865","v":"ADA"},{"$f":"'Pivot Table Data'!L865","v":0},{"$f":"'Pivot Table Data'!S865","v":0},{"$f":"'Pivot Table Data'!T865","v":""},{"$f":"IF('Pivot Table Data'!O865=\"Yes\", 'Pivot Table Data'!T865, \"\")","v":""}]
[{"$f":"'Pivot Table Data'!B866","v":0},{"$f":"'Pivot Table Data'!F866","v":"Theater District Living & Learning"},{"$f":"'Pivot Table Data'!P866","v":"TDLLN"},{"$f":"'Pivot Table Data'!I866","v":"L2"},{"$f":"'Pivot Table Data'!J866","v":"Electric Vehicle"},{"$f":"'Pivot Table Data'!K866","v":0},{"$f":"'Pivot Table Data'!L866","v":0},{"$f":"'Pivot Table Data'!S866","v":58},{"$f":"'Pivot Table Data'!T866","v":""},{"$f":"IF('Pivot Table Data'!O866=\"Yes\", 'Pivot Table Data'!T866, \"\")","v":""}]
[{"$f":"'Pivot Table Data'!B867","v":0},{"$f":"'Pivot Table Data'!F867","v":"Theater District Living & Learning"},{"$f":"'Pivot Table Data'!P867","v":"TDLLN"},{"$f":"'Pivot Table Data'!I867","v":"L2"},{"$f":"'Pivot Table Data'!J867","v":"Motorcycle Section"},{"$f":"'Pivot Table Data'!K867","v":0},{"$f":"'Pivot Table Data'!L867","v":0},{"$f":"'Pivot Table Data'!S867","v":0},{"$f":"'Pivot Table Data'!T867","v":""},{"$f":"IF('Pivot Table Data'!O867=\"Yes\", 'Pivot Table Data'!T867, \"\")","v":""}]
[{"$f":"'Pivot Table Data'!B868","v":0},{"$f":"'Pivot Table Data'!F868","v":"Theater District Living & Learning"},{"$f":"'Pivot Table Data'!P868","v":"TDLLN"},{"$f":"'Pivot Table Data'!I868","v":"L2"},{"$f":"'Pivot Table Data'!J868","v":"Reserved"},{"$f":"'Pivot Table Data'!K868","v":0},{"$f":"'Pivot Table Data'!L868","v":0},{"$f":"'Pivot Table Data'!S868","v":0},{"$f":"'Pivot Table Data'!T868","v":""},{"$f":"IF('Pivot Table Data'!O868=\"Yes\", 'Pivot Table Data'!T868, \"\")","v":""}]
[{"$f":"'Pivot Table Data'!B869","v":0},{"$f":"'Pivot Table Data'!F869","v":"Theater District Living & Learning"},{"$f":"'Pivot Table Data'!P869","v":"TDLLN"},{"$f":"'Pivot Table Data'!I869","v":"L2"},{"$f":"'Pivot Table Data'!J869","v":"Service Yard"},{"$f":"'Pivot Table Data'!K869","v":0},{"$f":"'Pivot Table Data'!L869","v":0},{"$f":"'Pivot Table Data'!S869","v":0},{"$f":"'Pivot Table Data'!T869","v":""},{"$f":"IF('Pivot Table Data'!O869=\"Yes\", 'Pivot Table Data'!T869, \"\")","v":""}]
[{"$f":"'Pivot Table Data'!B870","v":0},{"$f":"'Pivot Table Data'!F870","v":"Theater District Living & Learning"},{"$f":"'Pivot Table Data'!P870","v":"TDLLN"},{"$f":"'Pivot Table Data'!I870","v":"L2"},{"$f":"'Pivot Table Data'!J870","v":"SR"},{"$f":"'Pivot Table Data'!K870","v":0},{"$f":"'Pivot Table Data'!L870","v":0},{"$f":"'Pivot Table Data'!S870","v":0},{"$f":"'Pivot Table Data'!T870","v":""},{"$f":"IF('Pivot Table Data'!O870=\"Yes\", 'Pivot Table Data'!T870, \"\")","v":""}]
[{"$f":"'Pivot Table Data'!B871","v":0},{"$f":"'Pivot Table Data'!F871","v":"Theater District Living & Learning"},{"$f":"'Pivot Table Data'!P871","v":"TDLLN"},{"$f":"'Pivot Table Data'!I871","v":"L2"},{"$f":"'Pivot Table Data'!J871","v":"UC Cart"},{"$f":"'Pivot Table Data'!K871","v":0},{"$f":"'Pivot Table Data'!L871","v":0},{"$f":"'Pivot Table Data'!S871","v":0},{"$f":"'Pivot Table Data'!T871","v":""},{"$f":"IF('Pivot Table Data'!O871=\"Yes\", 'Pivot Table Data'!T871, \"\")","v":""}]
[{"$f":"'Pivot Table Data'!B872","v":0},{"$f":"'Pivot Table Data'!F872","v":"Theater District Living & Learning"},{"$f":"'Pivot Table Data'!P872","v":"TDLLN"},{"$f":"'Pivot Table Data'!I872","v":"L2"},{"$f":"'Pivot Table Data'!J872","v":"Visitor"},{"$f":"'Pivot Table Data'!K872","v":0},{"$f":"'Pivot Table Data'!L872","v":0},{"$f":"'Pivot Table Data'!S872","v":24},{"$f":"'Pivot Table Data'!T872","v":""},{"$f":"IF('Pivot Table Data'!O872=\"Yes\", 'Pivot Table Data'!T872, \"\")","v":""}]
[{"$f":"'Pivot Table Data'!B873","v":0},{"$f":"'Pivot Table Data'!F873","v":"Theater District Living & Learning"},{"$f":"'Pivot Table Data'!P873","v":"TDLLN"},{"$f":"'Pivot Table Data'!I873","v":"L3"},{"$f":"'Pivot Table Data'!J873","v":"A"},{"$f":"'Pivot Table Data'!K873","v":0},{"$f":"'Pivot Table Data'!L873","v":0},{"$f":"'Pivot Table Data'!S873","v":48},{"$f":"'Pivot Table Data'!T873","v":""},{"$f":"IF('Pivot Table Data'!O873=\"Yes\", 'Pivot Table Data'!T873, \"\")","v":""}]
[{"$f":"'Pivot Table Data'!B874","v":0},{"$f":"'Pivot Table Data'!F874","v":"Theater District Living & Learning"},{"$f":"'Pivot Table Data'!P874","v":"TDLLN"},{"$f":"'Pivot Table Data'!I874","v":"L3"},{"$f":"'Pivot Table Data'!J874","v":"Accessible"},{"$f":"'Pivot Table Data'!K874","v":0},{"$f":"'Pivot Table Data'!L874","v":0},{"$f":"'Pivot Table Data'!S874","v":0},{"$f":"'Pivot Table Data'!T874","v":""},{"$f":"IF('Pivot Table Data'!O874=\"Yes\", 'Pivot Table Data'!T874, \"\")","v":""}]
[{"$f":"'Pivot Table Data'!B875","v":0},{"$f":"'Pivot Table Data'!F875","v":"Theater District Living & Learning"},{"$f":"'Pivot Table Data'!P875","v":"TDLLN"},{"$f":"'Pivot Table Data'!I875","v":"L3"},{"$f":"'Pivot Table Data'!J875","v":"Accessible (Van)"},{"$f":"'Pivot Table Data'!K875","v":0},{"$f":"'Pivot Table Data'!L875","v":0},{"$f":"'Pivot Table Data'!S875","v":0},{"$f":"'Pivot Table Data'!T875","v":""},{"$f":"IF('Pivot Table Data'!O875=\"Yes\", 'Pivot Table Data'!T875, \"\")","v":""}]
[{"$f":"'Pivot Table Data'!B876","v":0},{"$f":"'Pivot Table Data'!F876","v":"Theater District Living & Learning"},{"$f":"'Pivot Table Data'!P876","v":"TDLLN"},{"$f":"'Pivot Table Data'!I876","v":"L3"},{"$f":"'Pivot Table Data'!J876","v":"B"},{"$f":"'Pivot Table Data'!K876","v":0},{"$f":"'Pivot Table Data'!L876","v":0},{"$f":"'Pivot Table Data'!S876","v":197},{"$f":"'Pivot Table Data'!T876","v":""},{"$f":"IF('Pivot Table Data'!O876=\"Yes\", 'Pivot Table Data'!T876, \"\")","v":""}]
[{"$f":"'Pivot Table Data'!B877","v":0},{"$f":"'Pivot Table Data'!F877","v":"Theater District Living & Learning"},{"$f":"'Pivot Table Data'!P877","v":"TDLLN"},{"$f":"'Pivot Table Data'!I877","v":"L3"},{"$f":"'Pivot Table Data'!J877","v":"Carpool"},{"$f":"'Pivot Table Data'!K877","v":0},{"$f":"'Pivot Table Data'!L877","v":0},{"$f":"'Pivot Table Data'!S877","v":0},{"$f":"'Pivot Table Data'!T877","v":""},{"$f":"IF('Pivot Table Data'!O877=\"Yes\", 'Pivot Table Data'!T877, \"\")","v":""}]
[{"$f":"'Pivot Table Data'!B878","v":0},{"$f":"'Pivot Table Data'!F878","v":"Theater District Living & Learning"},{"$f":"'Pivot Table Data'!P878","v":"TDLLN"},{"$f":"'Pivot Table Data'!I878","v":"L3"},{"$f":"'Pivot Table Data'!J878","v":"Electric Vehicle"},{"$f":"'Pivot Table Data'!K878","v":"ADA"},{"$f":"'Pivot Table Data'!L878","v":0},{"$f":"'Pivot Table Data'!S878","v":0},{"$f":"'Pivot Table Data'!T878","v":""},{"$f":"IF('Pivot Table Data'!O878=\"Yes\", 'Pivot Table Data'!T878, \"\")","v":""}]
[{"$f":"'Pivot Table Data'!B879","v":0},{"$f":"'Pivot Table Data'!F879","v":"Theater District Living & Learning"},{"$f":"'Pivot Table Data'!P879","v":"TDLLN"},{"$f":"'Pivot Table Data'!I879","v":"L3"},{"$f":"'Pivot Table Data'!J879","v":"Electric Vehicle"},{"$f":"'Pivot Table Data'!K879","v":0},{"$f":"'Pivot Table Data'!L879","v":0},{"$f":"'Pivot Table Data'!S879","v":0},{"$f":"'Pivot Table Data'!T879","v":""},{"$f":"IF('Pivot Table Data'!O879=\"Yes\", 'Pivot Table Data'!T879, \"\")","v":""}]
[{"$f":"'Pivot Table Data'!B880","v":0},{"$f":"'Pivot Table Data'!F880","v":"Theater District Living & Learning"},{"$f":"'Pivot Table Data'!P880","v":"TDLLN"},{"$f":"'Pivot Table Data'!I880","v":"L3"},{"$f":"'Pivot Table Data'!J880","v":"Motorcycle Section"},{"$f":"'Pivot Table Data'!K880","v":0},{"$f":"'Pivot Table Data'!L880","v":0},{"$f":"'Pivot Table Data'!S880","v":0},{"$f":"'Pivot Table Data'!T880","v":""},{"$f":"IF('Pivot Table Data'!O880=\"Yes\", 'Pivot Table Data'!T880, \"\")","v":""}]
[{"$f":"'Pivot Table Data'!B881","v":0},{"$f":"'Pivot Table Data'!F881","v":"Theater District Living & Learning"},{"$f":"'Pivot Table Data'!P881","v":"TDLLN"},{"$f":"'Pivot Table Data'!I881","v":"L3"},{"$f":"'Pivot Table Data'!J881","v":"Reserved"},{"$f":"'Pivot Table Data'!K881","v":0},{"$f":"'Pivot Table Data'!L881","v":0},{"$f":"'Pivot Table Data'!S881","v":0},{"$f":"'Pivot Table Data'!T881","v":""},{"$f":"IF('Pivot Table Data'!O881=\"Yes\", 'Pivot Table Data'!T881, \"\")","v":""}]
[{"$f":"'Pivot Table Data'!B882","v":0},{"$f":"'Pivot Table Data'!F882","v":"Theater District Living & Learning"},{"$f":"'Pivot Table Data'!P882","v":"TDLLN"},{"$f":"'Pivot Table Data'!I882","v":"L3"},{"$f":"'Pivot Table Data'!J882","v":"Service Yard"},{"$f":"'Pivot Table Data'!K882","v":0},{"$f":"'Pivot Table Data'!L882","v":0},{"$f":"'Pivot Table Data'!S882","v":0},{"$f":"'Pivot Table Data'!T882","v":""},{"$f":"IF('Pivot Table Data'!O882=\"Yes\", 'Pivot Table Data'!T882, \"\")","v":""}]
[{"$f":"'Pivot Table Data'!B883","v":0},{"$f":"'Pivot Table Data'!F883","v":"Theater District Living & Learning"},{"$f":"'Pivot Table Data'!P883","v":"TDLLN"},{"$f":"'Pivot Table Data'!I883","v":"L3"},{"$f":"'Pivot Table Data'!J883","v":"SR"},{"$f":"'Pivot Table Data'!K883","v":0},{"$f":"'Pivot Table Data'!L883","v":0},{"$f":"'Pivot Table Data'!S883","v":0},{"$f":"'Pivot Table Data'!T883","v":""},{"$f":"IF('Pivot Table Data'!O883=\"Yes\", 'Pivot Table Data'!T883, \"\")","v":""}]
[{"$f":"'Pivot Table Data'!B884","v":0},{"$f":"'Pivot Table Data'!F884","v":"Theater District Living & Learning"},{"$f":"'Pivot Table Data'!P884","v":"TDLLN"},{"$f":"'Pivot Table Data'!I884","v":"L3"},{"$f":"'Pivot Table Data'!J884","v":"UC Cart"},{"$f":"'Pivot Table Data'!K884","v":0},{"$f":"'Pivot Table Data'!L884","v":0},{"$f":"'Pivot Table Data'!S884","v":0},{"$f":"'Pivot Table Data'!T884","v":""},{"$f":"IF('Pivot Table Data'!O884=\"Yes\", 'Pivot Table Data'!T884, \"\")","v":""}]
[{"$f":"'Pivot Table Data'!B885","v":0},{"$f":"'Pivot Table Data'!F885","v":"Theater District Living & Learning"},{"$f":"'Pivot Table Data'!P885","v":"TDLLN"},{"$f":"'Pivot Table Data'!I885","v":"L3"},{"$f":"'Pivot Table Data'!J885","v":"UC Vehicle"},{"$f":"'Pivot Table Data'!K885","v":0},{"$f":"'Pivot Table Data'!L885","v":0},{"$f":"'Pivot Table Data'!S885","v":0},{"$f":"'Pivot Table Data'!T885","v":""},{"$f":"IF('Pivot Table Data'!O885=\"Yes\", 'Pivot Table Data'!T885, \"\")","v":""}]
[{"$f":"'Pivot Table Data'!B886","v":0},{"$f":"'Pivot Table Data'!F886","v":"Theater District Living & Learning"},{"$f":"'Pivot Table Data'!P886","v":"TDLLN"},{"$f":"'Pivot Table Data'!I886","v":"L3"},{"$f":"'Pivot Table Data'!J886","v":"Visitor"},{"$f":"'Pivot Table Data'!K886","v":0},{"$f":"'Pivot Table Data'!L886","v":0},{"$f":"'Pivot Table Data'!S886","v":0},{"$f":"'Pivot Table Data'!T886","v":""},{"$f":"IF('Pivot Table Data'!O886=\"Yes\", 'Pivot Table Data'!T886, \"\")","v":""}]
[{"$f":"'Pivot Table Data'!B887","v":0},{"$f":"'Pivot Table Data'!F887","v":"Theater District Living & Learning"},{"$f":"'Pivot Table Data'!P887","v":"TDLLN"},{"$f":"'Pivot Table Data'!I887","v":"L4"},{"$f":"'Pivot Table Data'!J887","v":"A"},{"$f":"'Pivot Table Data'!K887","v":0},{"$f":"'Pivot Table Data'!L887","v":0},{"$f":"'Pivot Table Data'!S887","v":0},{"$f":"'Pivot Table Data'!T887","v":""},{"$f":"IF('Pivot Table Data'!O887=\"Yes\", 'Pivot Table Data'!T887, \"\")","v":""}]
[{"$f":"'Pivot Table Data'!B888","v":0},{"$f":"'Pivot Table Data'!F888","v":"Theater District Living & Learning"},{"$f":"'Pivot Table Data'!P888","v":"TDLLN"},{"$f":"'Pivot Table Data'!I888","v":"L4"},{"$f":"'Pivot Table Data'!J888","v":"Accessible"},{"$f":"'Pivot Table Data'!K888","v":0},{"$f":"'Pivot Table Data'!L888","v":0},{"$f":"'Pivot Table Data'!S888","v":0},{"$f":"'Pivot Table Data'!T888","v":""},{"$f":"IF('Pivot Table Data'!O888=\"Yes\", 'Pivot Table Data'!T888, \"\")","v":""}]
[{"$f":"'Pivot Table Data'!B889","v":0},{"$f":"'Pivot Table Data'!F889","v":"Theater District Living & Learning"},{"$f":"'Pivot Table Data'!P889","v":"TDLLN"},{"$f":"'Pivot Table Data'!I889","v":"L4"},{"$f":"'Pivot Table Data'!J889","v":"Accessible (Van)"},{"$f":"'Pivot Table Data'!K889","v":0},{"$f":"'Pivot Table Data'!L889","v":0},{"$f":"'Pivot Table Data'!S889","v":0},{"$f":"'Pivot Table Data'!T889","v":""},{"$f":"IF('Pivot Table Data'!O889=\"Yes\", 'Pivot Table Data'!T889, \"\")","v":""}]
[{"$f":"'Pivot Table Data'!B890","v":0},{"$f":"'Pivot Table Data'!F890","v":"Theater District Living & Learning"},{"$f":"'Pivot Table Data'!P890","v":"TDLLN"},{"$f":"'Pivot Table Data'!I890","v":"L4"},{"$f":"'Pivot Table Data'!J890","v":"B"},{"$f":"'Pivot Table Data'!K890","v":0},{"$f":"'Pivot Table Data'!L890","v":0},{"$f":"'Pivot Table Data'!S890","v":196},{"$f":"'Pivot Table Data'!T890","v":""},{"$f":"IF('Pivot Table Data'!O890=\"Yes\", 'Pivot Table Data'!T890, \"\")","v":""}]
[{"$f":"'Pivot Table Data'!B891","v":0},{"$f":"'Pivot Table Data'!F891","v":"Theater District Living & Learning"},{"$f":"'Pivot Table Data'!P891","v":"TDLLN"},{"$f":"'Pivot Table Data'!I891","v":"L4"},{"$f":"'Pivot Table Data'!J891","v":"Carpool"},{"$f":"'Pivot Table Data'!K891","v":0},{"$f":"'Pivot Table Data'!L891","v":0},{"$f":"'Pivot Table Data'!S891","v":0},{"$f":"'Pivot Table Data'!T891","v":""},{"$f":"IF('Pivot Table Data'!O891=\"Yes\", 'Pivot Table Data'!T891, \"\")","v":""}]
[{"$f":"'Pivot Table Data'!B892","v":0},{"$f":"'Pivot Table Data'!F892","v":"Theater District Living & Learning"},{"$f":"'Pivot Table Data'!P892","v":"TDLLN"},{"$f":"'Pivot Table Data'!I892","v":"L4"},{"$f":"'Pivot Table Data'!J892","v":"Electric Vehicle"},{"$f":"'Pivot Table Data'!K892","v":"ADA"},{"$f":"'Pivot Table Data'!L892","v":0},{"$f":"'Pivot Table Data'!S892","v":0},{"$f":"'Pivot Table Data'!T892","v":""},{"$f":"IF('Pivot Table Data'!O892=\"Yes\", 'Pivot Table Data'!T892, \"\")","v":""}]
[{"$f":"'Pivot Table Data'!B893","v":0},{"$f":"'Pivot Table Data'!F893","v":"Theater District Living & Learning"},{"$f":"'Pivot Table Data'!P893","v":"TDLLN"},{"$f":"'Pivot Table Data'!I893","v":"L4"},{"$f":"'Pivot Table Data'!J893","v":"Electric Vehicle"},{"$f":"'Pivot Table Data'!K893","v":0},{"$f":"'Pivot Table Data'!L893","v":0},{"$f":"'Pivot Table Data'!S893","v":0},{"$f":"'Pivot Table Data'!T893","v":""},{"$f":"IF('Pivot Table Data'!O893=\"Yes\", 'Pivot Table Data'!T893, \"\")","v":""}]
[{"$f":"'Pivot Table Data'!B894","v":0},{"$f":"'Pivot Table Data'!F894","v":"Theater District Living & Learning"},{"$f":"'Pivot Table Data'!P894","v":"TDLLN"},{"$f":"'Pivot Table Data'!I894","v":"L4"},{"$f":"'Pivot Table Data'!J894","v":"Motorcycle Section"},{"$f":"'Pivot Table Data'!K894","v":0},{"$f":"'Pivot Table Data'!L894","v":0},{"$f":"'Pivot Table Data'!S894","v":0},{"$f":"'Pivot Table Data'!T894","v":""},{"$f":"IF('Pivot Table Data'!O894=\"Yes\", 'Pivot Table Data'!T894, \"\")","v":""}]
[{"$f":"'Pivot Table Data'!B895","v":0},{"$f":"'Pivot Table Data'!F895","v":"Theater District Living & Learning"},{"$f":"'Pivot Table Data'!P895","v":"TDLLN"},{"$f":"'Pivot Table Data'!I895","v":"L4"},{"$f":"'Pivot Table Data'!J895","v":"Reserved"},{"$f":"'Pivot Table Data'!K895","v":0},{"$f":"'Pivot Table Data'!L895","v":0},{"$f":"'Pivot Table Data'!S895","v":0},{"$f":"'Pivot Table Data'!T895","v":""},{"$f":"IF('Pivot Table Data'!O895=\"Yes\", 'Pivot Table Data'!T895, \"\")","v":""}]
[{"$f":"'Pivot Table Data'!B896","v":0},{"$f":"'Pivot Table Data'!F896","v":"Theater District Living & Learning"},{"$f":"'Pivot Table Data'!P896","v":"TDLLN"},{"$f":"'Pivot Table Data'!I896","v":"L4"},{"$f":"'Pivot Table Data'!J896","v":"Service Yard"},{"$f":"'Pivot Table Data'!K896","v":0},{"$f":"'Pivot Table Data'!L896","v":0},{"$f":"'Pivot Table Data'!S896","v":0},{"$f":"'Pivot Table Data'!T896","v":""},{"$f":"IF('Pivot Table Data'!O896=\"Yes\", 'Pivot Table Data'!T896, \"\")","v":""}]
[{"$f":"'Pivot Table Data'!B897","v":0},{"$f":"'Pivot Table Data'!F897","v":"Theater District Living & Learning"},{"$f":"'Pivot Table Data'!P897","v":"TDLLN"},{"$f":"'Pivot Table Data'!I897","v":"L4"},{"$f":"'Pivot Table Data'!J897","v":"SR"},{"$f":"'Pivot Table Data'!K897","v":0},{"$f":"'Pivot Table Data'!L897","v":0},{"$f":"'Pivot Table Data'!S897","v":91},{"$f":"'Pivot Table Data'!T897","v":""},{"$f":"IF('Pivot Table Data'!O897=\"Yes\", 'Pivot Table Data'!T897, \"\")","v":""}]
[{"$f":"'Pivot Table Data'!B898","v":0},{"$f":"'Pivot Table Data'!F898","v":"Theater District Living & Learning"},{"$f":"'Pivot Table Data'!P898","v":"TDLLN"},{"$f":"'Pivot Table Data'!I898","v":"L4"},{"$f":"'Pivot Table Data'!J898","v":"UC Cart"},{"$f":"'Pivot Table Data'!K898","v":0},{"$f":"'Pivot Table Data'!L898","v":0},{"$f":"'Pivot Table Data'!S898","v":0},{"$f":"'Pivot Table Data'!T898","v":""},{"$f":"IF('Pivot Table Data'!O898=\"Yes\", 'Pivot Table Data'!T898, \"\")","v":""}]
[{"$f":"'Pivot Table Data'!B899","v":0},{"$f":"'Pivot Table Data'!F899","v":"Theater District Living & Learning"},{"$f":"'Pivot Table Data'!P899","v":"TDLLN"},{"$f":"'Pivot Table Data'!I899","v":"L4"},{"$f":"'Pivot Table Data'!J899","v":"UC Vehicle"},{"$f":"'Pivot Table Data'!K899","v":0},{"$f":"'Pivot Table Data'!L899","v":0},{"$f":"'Pivot Table Data'!S899","v":0},{"$f":"'Pivot Table Data'!T899","v":""},{"$f":"IF('Pivot Table Data'!O899=\"Yes\", 'Pivot Table Data'!T899, \"\")","v":""}]
[{"$f":"'Pivot Table Data'!B900","v":0},{"$f":"'Pivot Table Data'!F900","v":"Theater District Living & Learning"},{"$f":"'Pivot Table Data'!P900","v":"TDLLN"},{"$f":"'Pivot Table Data'!I900","v":"L4"},{"$f":"'Pivot Table Data'!J900","v":"Visitor"},{"$f":"'Pivot Table Data'!K900","v":0},{"$f":"'Pivot Table Data'!L900","v":0},{"$f":"'Pivot Table Data'!S900","v":0},{"$f":"'Pivot Table Data'!T900","v":""},{"$f":"IF('Pivot Table Data'!O900=\"Yes\", 'Pivot Table Data'!T900, \"\")","v":""}]
[{"$f":"'Pivot Table Data'!B901","v":0},{"$f":"'Pivot Table Data'!F901","v":"Torrey Pines Center"},{"$f":"'Pivot Table Data'!P901","v":"Torrey Pines Center North"},{"$f":"'Pivot Table Data'!I901","v":"-"},{"$f":"'Pivot Table Data'!J901","v":"Accessible"},{"$f":"'Pivot Table Data'!K901","v":0},{"$f":"'Pivot Table Data'!L901","v":0},{"$f":"'Pivot Table Data'!S901","v":1},{"$f":"'Pivot Table Data'!T901","v":3},{"$f":"IF('Pivot Table Data'!O901=\"Yes\", 'Pivot Table Data'!T901, \"\")","v":""}]
[{"$f":"'Pivot Table Data'!B902","v":0},{"$f":"'Pivot Table Data'!F902","v":"Torrey Pines Center"},{"$f":"'Pivot Table Data'!P902","v":"Torrey Pines Center North"},{"$f":"'Pivot Table Data'!I902","v":"-"},{"$f":"'Pivot Table Data'!J902","v":"Accessible (Van)"},{"$f":"'Pivot Table Data'!K902","v":0},{"$f":"'Pivot Table Data'!L902","v":0},{"$f":"'Pivot Table Data'!S902","v":2},{"$f":"'Pivot Table Data'!T902","v":2},{"$f":"IF('Pivot Table Data'!O902=\"Yes\", 'Pivot Table Data'!T902, \"\")","v":""}]
[{"$f":"'Pivot Table Data'!B903","v":0},{"$f":"'Pivot Table Data'!F903","v":"Torrey Pines Center"},{"$f":"'Pivot Table Data'!P903","v":"Torrey Pines Center North"},{"$f":"'Pivot Table Data'!I903","v":"-"},{"$f":"'Pivot Table Data'!J903","v":"B"},{"$f":"'Pivot Table Data'!K903","v":"Oversized"},{"$f":"'Pivot Table Data'!L903","v":0},{"$f":"'Pivot Table Data'!S903","v":5},{"$f":"'Pivot Table Data'!T903","v":5},{"$f":"IF('Pivot Table Data'!O903=\"Yes\", 'Pivot Table Data'!T903, \"\")","v":5}]
[{"$f":"'Pivot Table Data'!B904","v":0},{"$f":"'Pivot Table Data'!F904","v":"Torrey Pines Center"},{"$f":"'Pivot Table Data'!P904","v":"Torrey Pines Center North"},{"$f":"'Pivot Table Data'!I904","v":"-"},{"$f":"'Pivot Table Data'!J904","v":"B"},{"$f":"'Pivot Table Data'!K904","v":0},{"$f":"'Pivot Table Data'!L904","v":0},{"$f":"'Pivot Table Data'!S904","v":18},{"$f":"'Pivot Table Data'!T904","v":183},{"$f":"IF('Pivot Table Data'!O904=\"Yes\", 'Pivot Table Data'!T904, \"\")","v":183}]
[{"$f":"'Pivot Table Data'!B905","v":0},{"$f":"'Pivot Table Data'!F905","v":"Torrey Pines Center"},{"$f":"'Pivot Table Data'!P905","v":"Torrey Pines Center North"},{"$f":"'Pivot Table Data'!I905","v":"-"},{"$f":"'Pivot Table Data'!J905","v":"Loading"},{"$f":"'Pivot Table Data'!K905","v":0},{"$f":"'Pivot Table Data'!L905","v":0},{"$f":"'Pivot Table Data'!S905","v":1},{"$f":"'Pivot Table Data'!T905","v":1},{"$f":"IF('Pivot Table Data'!O905=\"Yes\", 'Pivot Table Data'!T905, \"\")","v":""}]
[{"$f":"'Pivot Table Data'!B906","v":0},{"$f":"'Pivot Table Data'!F906","v":"Torrey Pines Center"},{"$f":"'Pivot Table Data'!P906","v":"Torrey Pines Center North"},{"$f":"'Pivot Table Data'!I906","v":"-"},{"$f":"'Pivot Table Data'!J906","v":"Reserved"},{"$f":"'Pivot Table Data'!K906","v":0},{"$f":"'Pivot Table Data'!L906","v":0},{"$f":"'Pivot Table Data'!S906","v":7},{"$f":"'Pivot Table Data'!T906","v":10},{"$f":"IF('Pivot Table Data'!O906=\"Yes\", 'Pivot Table Data'!T906, \"\")","v":""}]
[{"$f":"'Pivot Table Data'!B907","v":0},{"$f":"'Pivot Table Data'!F907","v":"Torrey Pines Center"},{"$f":"'Pivot Table Data'!P907","v":"Torrey Pines Center North"},{"$f":"'Pivot Table Data'!I907","v":"-"},{"$f":"'Pivot Table Data'!J907","v":"Service Yard"},{"$f":"'Pivot Table Data'!K907","v":0},{"$f":"'Pivot Table Data'!L907","v":0},{"$f":"'Pivot Table Data'!S907","v":1},{"$f":"'Pivot Table Data'!T907","v":1},{"$f":"IF('Pivot Table Data'!O907=\"Yes\", 'Pivot Table Data'!T907, \"\")","v":""}]
[{"$f":"'Pivot Table Data'!B908","v":0},{"$f":"'Pivot Table Data'!F908","v":"Torrey Pines Center"},{"$f":"'Pivot Table Data'!P908","v":"Torrey Pines Center North"},{"$f":"'Pivot Table Data'!I908","v":"-"},{"$f":"'Pivot Table Data'!J908","v":"B"},{"$f":"'Pivot Table Data'!K908","v":0},{"$f":"'Pivot Table Data'!L908","v":0},{"$f":"'Pivot Table Data'!S908","v":80},{"$f":"'Pivot Table Data'!T908","v":""},{"$f":"IF('Pivot Table Data'!O908=\"Yes\", 'Pivot Table Data'!T908, \"\")","v":""}]
[{"$f":"'Pivot Table Data'!B909","v":0},{"$f":"'Pivot Table Data'!F909","v":"Torrey Pines Center"},{"$f":"'Pivot Table Data'!P909","v":"Torrey Pines Center North"},{"$f":"'Pivot Table Data'!I909","v":"-"},{"$f":"'Pivot Table Data'!J909","v":"Carpool"},{"$f":"'Pivot Table Data'!K909","v":"A 3-Person"},{"$f":"'Pivot Table Data'!L909","v":0},{"$f":"'Pivot Table Data'!S909","v":1},{"$f":"'Pivot Table Data'!T909","v":1},{"$f":"IF('Pivot Table Data'!O909=\"Yes\", 'Pivot Table Data'!T909, \"\")","v":1}]
[{"$f":"'Pivot Table Data'!B910","v":0},{"$f":"'Pivot Table Data'!F910","v":"Torrey Pines Center"},{"$f":"'Pivot Table Data'!P910","v":"Torrey Pines Center North"},{"$f":"'Pivot Table Data'!I910","v":"-"},{"$f":"'Pivot Table Data'!J910","v":"Motorcycle Section"},{"$f":"'Pivot Table Data'!K910","v":0},{"$f":"'Pivot Table Data'!L910","v":0},{"$f":"'Pivot Table Data'!S910","v":2},{"$f":"'Pivot Table Data'!T910","v":2},{"$f":"IF('Pivot Table Data'!O910=\"Yes\", 'Pivot Table Data'!T910, \"\")","v":""}]
[{"$f":"'Pivot Table Data'!B911","v":0},{"$f":"'Pivot Table Data'!F911","v":"Torrey Pines Center"},{"$f":"'Pivot Table Data'!P911","v":"Torrey Pines Center North"},{"$f":"'Pivot Table Data'!I911","v":"-"},{"$f":"'Pivot Table Data'!J911","v":"B"},{"$f":"'Pivot Table Data'!K911","v":0},{"$f":"'Pivot Table Data'!L911","v":0},{"$f":"'Pivot Table Data'!S911","v":29},{"$f":"'Pivot Table Data'!T911","v":""},{"$f":"IF('Pivot Table Data'!O911=\"Yes\", 'Pivot Table Data'!T911, \"\")","v":""}]
[{"$f":"'Pivot Table Data'!B912","v":0},{"$f":"'Pivot Table Data'!F912","v":"Torrey Pines Center"},{"$f":"'Pivot Table Data'!P912","v":"Torrey Pines Center North"},{"$f":"'Pivot Table Data'!I912","v":"-"},{"$f":"'Pivot Table Data'!J912","v":"S"},{"$f":"'Pivot Table Data'!K912","v":0},{"$f":"'Pivot Table Data'!L912","v":0},{"$f":"'Pivot Table Data'!S912","v":5},{"$f":"'Pivot Table Data'!T912","v":5},{"$f":"IF('Pivot Table Data'!O912=\"Yes\", 'Pivot Table Data'!T912, \"\")","v":5}]
[{"$f":"'Pivot Table Data'!B913","v":0},{"$f":"'Pivot Table Data'!F913","v":"Torrey Pines Center"},{"$f":"'Pivot Table Data'!P913","v":"Torrey Pines Center North"},{"$f":"'Pivot Table Data'!I913","v":"-"},{"$f":"'Pivot Table Data'!J913","v":"B"},{"$f":"'Pivot Table Data'!K913","v":0},{"$f":"'Pivot Table Data'!L913","v":0},{"$f":"'Pivot Table Data'!S913","v":55},{"$f":"'Pivot Table Data'!T913","v":""},{"$f":"IF('Pivot Table Data'!O913=\"Yes\", 'Pivot Table Data'!T913, \"\")","v":""}]
[{"$f":"'Pivot Table Data'!B914","v":0},{"$f":"'Pivot Table Data'!F914","v":"Torrey Pines Center"},{"$f":"'Pivot Table Data'!P914","v":"Torrey Pines Center North"},{"$f":"'Pivot Table Data'!I914","v":"-"},{"$f":"'Pivot Table Data'!J914","v":"Accessible"},{"$f":"'Pivot Table Data'!K914","v":0},{"$f":"'Pivot Table Data'!L914","v":0},{"$f":"'Pivot Table Data'!S914","v":2},{"$f":"'Pivot Table Data'!T914","v":""},{"$f":"IF('Pivot Table Data'!O914=\"Yes\", 'Pivot Table Data'!T914, \"\")","v":""}]
[{"$f":"'Pivot Table Data'!B915","v":0},{"$f":"'Pivot Table Data'!F915","v":"Torrey Pines Center"},{"$f":"'Pivot Table Data'!P915","v":"Torrey Pines Center North"},{"$f":"'Pivot Table Data'!I915","v":"-"},{"$f":"'Pivot Table Data'!J915","v":"Accessible (Van)"},{"$f":"'Pivot Table Data'!K915","v":0},{"$f":"'Pivot Table Data'!L915","v":0},{"$f":"'Pivot Table Data'!S915","v":0},{"$f":"'Pivot Table Data'!T915","v":""},{"$f":"IF('Pivot Table Data'!O915=\"Yes\", 'Pivot Table Data'!T915, \"\")","v":""}]
[{"$f":"'Pivot Table Data'!B916","v":0},{"$f":"'Pivot Table Data'!F916","v":"Torrey Pines Center"},{"$f":"'Pivot Table Data'!P916","v":"Torrey Pines Center North"},{"$f":"'Pivot Table Data'!I916","v":"-"},{"$f":"'Pivot Table Data'!J916","v":"B"},{"$f":"'Pivot Table Data'!K916","v":0},{"$f":"'Pivot Table Data'!L916","v":0},{"$f":"'Pivot Table Data'!S916","v":1},{"$f":"'Pivot Table Data'!T916","v":""},{"$f":"IF('Pivot Table Data'!O916=\"Yes\", 'Pivot Table Data'!T916, \"\")","v":""}]
[{"$f":"'Pivot Table Data'!B917","v":0},{"$f":"'Pivot Table Data'!F917","v":"Torrey Pines Center"},{"$f":"'Pivot Table Data'!P917","v":"Torrey Pines Center North"},{"$f":"'Pivot Table Data'!I917","v":"-"},{"$f":"'Pivot Table Data'!J917","v":"Reserved"},{"$f":"'Pivot Table Data'!K917","v":"Vanpool"},{"$f":"'Pivot Table Data'!L917","v":0},{"$f":"'Pivot Table Data'!S917","v":1},{"$f":"'Pivot Table Data'!T917","v":1},{"$f":"IF('Pivot Table Data'!O917=\"Yes\", 'Pivot Table Data'!T917, \"\")","v":""}]
[{"$f":"'Pivot Table Data'!B918","v":0},{"$f":"'Pivot Table Data'!F918","v":"Torrey Pines Center"},{"$f":"'Pivot Table Data'!P918","v":"Torrey Pines Center North"},{"$f":"'Pivot Table Data'!I918","v":"-"},{"$f":"'Pivot Table Data'!J918","v":"Reserved"},{"$f":"'Pivot Table Data'!K918","v":0},{"$f":"'Pivot Table Data'!L918","v":0},{"$f":"'Pivot Table Data'!S918","v":3},{"$f":"'Pivot Table Data'!T918","v":""},{"$f":"IF('Pivot Table Data'!O918=\"Yes\", 'Pivot Table Data'!T918, \"\")","v":""}]
[{"$f":"'Pivot Table Data'!B919","v":0},{"$f":"'Pivot Table Data'!F919","v":"Torrey Pines Center"},{"$f":"'Pivot Table Data'!P919","v":"Torrey Pines Center North"},{"$f":"'Pivot Table Data'!I919","v":"-"},{"$f":"'Pivot Table Data'!J919","v":"Visitor"},{"$f":"'Pivot Table Data'!K919","v":0},{"$f":"'Pivot Table Data'!L919","v":0},{"$f":"'Pivot Table Data'!S919","v":10},{"$f":"'Pivot Table Data'!T919","v":10},{"$f":"IF('Pivot Table Data'!O919=\"Yes\", 'Pivot Table Data'!T919, \"\")","v":10}]
[{"$f":"'Pivot Table Data'!B920","v":0},{"$f":"'Pivot Table Data'!F920","v":"Torrey Pines Center"},{"$f":"'Pivot Table Data'!P920","v":"Torrey Pines Center South"},{"$f":"'Pivot Table Data'!I920","v":"Ground (Level 2)"},{"$f":"'Pivot Table Data'!J920","v":"Accessible"},{"$f":"'Pivot Table Data'!K920","v":0},{"$f":"'Pivot Table Data'!L920","v":0},{"$f":"'Pivot Table Data'!S920","v":6},{"$f":"'Pivot Table Data'!T920","v":16},{"$f":"IF('Pivot Table Data'!O920=\"Yes\", 'Pivot Table Data'!T920, \"\")","v":""}]
[{"$f":"'Pivot Table Data'!B921","v":0},{"$f":"'Pivot Table Data'!F921","v":"Torrey Pines Center"},{"$f":"'Pivot Table Data'!P921","v":"Torrey Pines Center South"},{"$f":"'Pivot Table Data'!I921","v":"Ground (Level 2)"},{"$f":"'Pivot Table Data'!J921","v":"Accessible (Van)"},{"$f":"'Pivot Table Data'!K921","v":0},{"$f":"'Pivot Table Data'!L921","v":0},{"$f":"'Pivot Table Data'!S921","v":0},{"$f":"'Pivot Table Data'!T921","v":0},{"$f":"IF('Pivot Table Data'!O921=\"Yes\", 'Pivot Table Data'!T921, \"\")","v":""}]
[{"$f":"'Pivot Table Data'!B922","v":0},{"$f":"'Pivot Table Data'!F922","v":"Torrey Pines Center"},{"$f":"'Pivot Table Data'!P922","v":"Torrey Pines Center South"},{"$f":"'Pivot Table Data'!I922","v":"Ground (Level 2)"},{"$f":"'Pivot Table Data'!J922","v":"B"},{"$f":"'Pivot Table Data'!K922","v":0},{"$f":"'Pivot Table Data'!L922","v":0},{"$f":"'Pivot Table Data'!S922","v":98},{"$f":"'Pivot Table Data'!T922","v":373},{"$f":"IF('Pivot Table Data'!O922=\"Yes\", 'Pivot Table Data'!T922, \"\")","v":373}]
[{"$f":"'Pivot Table Data'!B923","v":0},{"$f":"'Pivot Table Data'!F923","v":"Torrey Pines Center"},{"$f":"'Pivot Table Data'!P923","v":"Torrey Pines Center South"},{"$f":"'Pivot Table Data'!I923","v":"Ground (Level 2)"},{"$f":"'Pivot Table Data'!J923","v":"Carpool"},{"$f":"'Pivot Table Data'!K923","v":"B 3-Person"},{"$f":"'Pivot Table Data'!L923","v":0},{"$f":"'Pivot Table Data'!S923","v":4},{"$f":"'Pivot Table Data'!T923","v":10},{"$f":"IF('Pivot Table Data'!O923=\"Yes\", 'Pivot Table Data'!T923, \"\")","v":10}]
[{"$f":"'Pivot Table Data'!B924","v":0},{"$f":"'Pivot Table Data'!F924","v":"Torrey Pines Center"},{"$f":"'Pivot Table Data'!P924","v":"Torrey Pines Center South"},{"$f":"'Pivot Table Data'!I924","v":"Ground (Level 2)"},{"$f":"'Pivot Table Data'!J924","v":"Loading"},{"$f":"'Pivot Table Data'!K924","v":0},{"$f":"'Pivot Table Data'!L924","v":"20 minutes"},{"$f":"'Pivot Table Data'!S924","v":2},{"$f":"'Pivot Table Data'!T924","v":2},{"$f":"IF('Pivot Table Data'!O924=\"Yes\", 'Pivot Table Data'!T924, \"\")","v":""}]
[{"$f":"'Pivot Table Data'!B925","v":0},{"$f":"'Pivot Table Data'!F925","v":"Torrey Pines Center"},{"$f":"'Pivot Table Data'!P925","v":"Torrey Pines Center South"},{"$f":"'Pivot Table Data'!I925","v":"Ground (Level 2)"},{"$f":"'Pivot Table Data'!J925","v":"Motorcycle Section"},{"$f":"'Pivot Table Data'!K925","v":0},{"$f":"'Pivot Table Data'!L925","v":0},{"$f":"'Pivot Table Data'!S925","v":2},{"$f":"'Pivot Table Data'!T925","v":10},{"$f":"IF('Pivot Table Data'!O925=\"Yes\", 'Pivot Table Data'!T925, \"\")","v":""}]
[{"$f":"'Pivot Table Data'!B926","v":0},{"$f":"'Pivot Table Data'!F926","v":"Torrey Pines Center"},{"$f":"'Pivot Table Data'!P926","v":"Torrey Pines Center South"},{"$f":"'Pivot Table Data'!I926","v":"Ground (Level 2)"},{"$f":"'Pivot Table Data'!J926","v":"Reserved"},{"$f":"'Pivot Table Data'!K926","v":"EH&S"},{"$f":"'Pivot Table Data'!L926","v":0},{"$f":"'Pivot Table Data'!S926","v":3},{"$f":"'Pivot Table Data'!T926","v":3},{"$f":"IF('Pivot Table Data'!O926=\"Yes\", 'Pivot Table Data'!T926, \"\")","v":""}]
[{"$f":"'Pivot Table Data'!B927","v":0},{"$f":"'Pivot Table Data'!F927","v":"Torrey Pines Center"},{"$f":"'Pivot Table Data'!P927","v":"Torrey Pines Center South"},{"$f":"'Pivot Table Data'!I927","v":"Ground (Level 2)"},{"$f":"'Pivot Table Data'!J927","v":"Reserved"},{"$f":"'Pivot Table Data'!K927","v":"Emergency Response Veh"},{"$f":"'Pivot Table Data'!L927","v":0},{"$f":"'Pivot Table Data'!S927","v":1},{"$f":"'Pivot Table Data'!T927","v":2},{"$f":"IF('Pivot Table Data'!O927=\"Yes\", 'Pivot Table Data'!T927, \"\")","v":""}]
[{"$f":"'Pivot Table Data'!B928","v":0},{"$f":"'Pivot Table Data'!F928","v":"Torrey Pines Center"},{"$f":"'Pivot Table Data'!P928","v":"Torrey Pines Center South"},{"$f":"'Pivot Table Data'!I928","v":"Ground (Level 2)"},{"$f":"'Pivot Table Data'!J928","v":"Reserved"},{"$f":"'Pivot Table Data'!K928","v":"Office"},{"$f":"'Pivot Table Data'!L928","v":0},{"$f":"'Pivot Table Data'!S928","v":2},{"$f":"'Pivot Table Data'!T928","v":2},{"$f":"IF('Pivot Table Data'!O928=\"Yes\", 'Pivot Table Data'!T928, \"\")","v":""}]
[{"$f":"'Pivot Table Data'!B929","v":0},{"$f":"'Pivot Table Data'!F929","v":"Torrey Pines Center"},{"$f":"'Pivot Table Data'!P929","v":"Torrey Pines Center South"},{"$f":"'Pivot Table Data'!I929","v":"Ground (Level 2)"},{"$f":"'Pivot Table Data'!J929","v":"Reserved"},{"$f":"'Pivot Table Data'!K929","v":"Property Manager"},{"$f":"'Pivot Table Data'!L929","v":0},{"$f":"'Pivot Table Data'!S929","v":3},{"$f":"'Pivot Table Data'!T929","v":3},{"$f":"IF('Pivot Table Data'!O929=\"Yes\", 'Pivot Table Data'!T929, \"\")","v":""}]
[{"$f":"'Pivot Table Data'!B930","v":0},{"$f":"'Pivot Table Data'!F930","v":"Torrey Pines Center"},{"$f":"'Pivot Table Data'!P930","v":"Torrey Pines Center South"},{"$f":"'Pivot Table Data'!I930","v":"Ground (Level 2)"},{"$f":"'Pivot Table Data'!J930","v":"UC Vehicle"},{"$f":"'Pivot Table Data'!K930","v":"UC Electric Cart"},{"$f":"'Pivot Table Data'!L930","v":0},{"$f":"'Pivot Table Data'!S930","v":6},{"$f":"'Pivot Table Data'!T930","v":12},{"$f":"IF('Pivot Table Data'!O930=\"Yes\", 'Pivot Table Data'!T930, \"\")","v":""}]
[{"$f":"'Pivot Table Data'!B931","v":0},{"$f":"'Pivot Table Data'!F931","v":"Torrey Pines Center"},{"$f":"'Pivot Table Data'!P931","v":"Torrey Pines Center South"},{"$f":"'Pivot Table Data'!I931","v":"Ground (Level 2)"},{"$f":"'Pivot Table Data'!J931","v":"UC Vehicle"},{"$f":"'Pivot Table Data'!K931","v":0},{"$f":"'Pivot Table Data'!L931","v":0},{"$f":"'Pivot Table Data'!S931","v":2},{"$f":"'Pivot Table Data'!T931","v":20},{"$f":"IF('Pivot Table Data'!O931=\"Yes\", 'Pivot Table Data'!T931, \"\")","v":""}]
[{"$f":"'Pivot Table Data'!B932","v":0},{"$f":"'Pivot Table Data'!F932","v":"Torrey Pines Center"},{"$f":"'Pivot Table Data'!P932","v":"Torrey Pines Center South"},{"$f":"'Pivot Table Data'!I932","v":"Ground (Level 2)"},{"$f":"'Pivot Table Data'!J932","v":"UC Vehicle"},{"$f":"'Pivot Table Data'!K932","v":0},{"$f":"'Pivot Table Data'!L932","v":0},{"$f":"'Pivot Table Data'!S932","v":10},{"$f":"'Pivot Table Data'!T932","v":""},{"$f":"IF('Pivot Table Data'!O932=\"Yes\", 'Pivot Table Data'!T932, \"\")","v":""}]
[{"$f":"'Pivot Table Data'!B933","v":0},{"$f":"'Pivot Table Data'!F933","v":"Torrey Pines Center"},{"$f":"'Pivot Table Data'!P933","v":"Torrey Pines Center South"},{"$f":"'Pivot Table Data'!I933","v":"Basement (Level 1)"},{"$f":"'Pivot Table Data'!J933","v":"Accessible"},{"$f":"'Pivot Table Data'!K933","v":0},{"$f":"'Pivot Table Data'!L933","v":0},{"$f":"'Pivot Table Data'!S933","v":4},{"$f":"'Pivot Table Data'!T933","v":""},{"$f":"IF('Pivot Table Data'!O933=\"Yes\", 'Pivot Table Data'!T933, \"\")","v":""}]
[{"$f":"'Pivot Table Data'!B934","v":0},{"$f":"'Pivot Table Data'!F934","v":"Torrey Pines Center"},{"$f":"'Pivot Table Data'!P934","v":"Torrey Pines Center South"},{"$f":"'Pivot Table Data'!I934","v":"Basement (Level 1)"},{"$f":"'Pivot Table Data'!J934","v":"Accessible (Van)"},{"$f":"'Pivot Table Data'!K934","v":0},{"$f":"'Pivot Table Data'!L934","v":0},{"$f":"'Pivot Table Data'!S934","v":0},{"$f":"'Pivot Table Data'!T934","v":""},{"$f":"IF('Pivot Table Data'!O934=\"Yes\", 'Pivot Table Data'!T934, \"\")","v":""}]
[{"$f":"'Pivot Table Data'!B935","v":0},{"$f":"'Pivot Table Data'!F935","v":"Torrey Pines Center"},{"$f":"'Pivot Table Data'!P935","v":"Torrey Pines Center South"},{"$f":"'Pivot Table Data'!I935","v":"Basement (Level 1)"},{"$f":"'Pivot Table Data'!J935","v":"B"},{"$f":"'Pivot Table Data'!K935","v":0},{"$f":"'Pivot Table Data'!L935","v":0},{"$f":"'Pivot Table Data'!S935","v":275},{"$f":"'Pivot Table Data'!T935","v":""},{"$f":"IF('Pivot Table Data'!O935=\"Yes\", 'Pivot Table Data'!T935, \"\")","v":""}]
[{"$f":"'Pivot Table Data'!B936","v":0},{"$f":"'Pivot Table Data'!F936","v":"Torrey Pines Center"},{"$f":"'Pivot Table Data'!P936","v":"Torrey Pines Center South"},{"$f":"'Pivot Table Data'!I936","v":"Basement (Level 1)"},{"$f":"'Pivot Table Data'!J936","v":"Carpool"},{"$f":"'Pivot Table Data'!K936","v":"B 3-Person"},{"$f":"'Pivot Table Data'!L936","v":0},{"$f":"'Pivot Table Data'!S936","v":6},{"$f":"'Pivot Table Data'!T936","v":""},{"$f":"IF('Pivot Table Data'!O936=\"Yes\", 'Pivot Table Data'!T936, \"\")","v":""}]
[{"$f":"'Pivot Table Data'!B937","v":0},{"$f":"'Pivot Table Data'!F937","v":"Torrey Pines Center"},{"$f":"'Pivot Table Data'!P937","v":"Torrey Pines Center South"},{"$f":"'Pivot Table Data'!I937","v":"Basement (Level 1)"},{"$f":"'Pivot Table Data'!J937","v":"Electric Vehicle"},{"$f":"'Pivot Table Data'!K937","v":0},{"$f":"'Pivot Table Data'!L937","v":0},{"$f":"'Pivot Table Data'!S937","v":10},{"$f":"'Pivot Table Data'!T937","v":10},{"$f":"IF('Pivot Table Data'!O937=\"Yes\", 'Pivot Table Data'!T937, \"\")","v":""}]
[{"$f":"'Pivot Table Data'!B938","v":0},{"$f":"'Pivot Table Data'!F938","v":"Torrey Pines Center"},{"$f":"'Pivot Table Data'!P938","v":"Torrey Pines Center South"},{"$f":"'Pivot Table Data'!I938","v":"Basement (Level 1)"},{"$f":"'Pivot Table Data'!J938","v":"Motorcycle Section"},{"$f":"'Pivot Table Data'!K938","v":0},{"$f":"'Pivot Table Data'!L938","v":0},{"$f":"'Pivot Table Data'!S938","v":8},{"$f":"'Pivot Table Data'!T938","v":""},{"$f":"IF('Pivot Table Data'!O938=\"Yes\", 'Pivot Table Data'!T938, \"\")","v":""}]
[{"$f":"'Pivot Table Data'!B939","v":0},{"$f":"'Pivot Table Data'!F939","v":"Torrey Pines Center"},{"$f":"'Pivot Table Data'!P939","v":"Torrey Pines Center South"},{"$f":"'Pivot Table Data'!I939","v":"Basement (Level 1)"},{"$f":"'Pivot Table Data'!J939","v":"Reserved"},{"$f":"'Pivot Table Data'!K939","v":"Emergency Response Veh"},{"$f":"'Pivot Table Data'!L939","v":0},{"$f":"'Pivot Table Data'!S939","v":1},{"$f":"'Pivot Table Data'!T939","v":""},{"$f":"IF('Pivot Table Data'!O939=\"Yes\", 'Pivot Table Data'!T939, \"\")","v":""}]
[{"$f":"'Pivot Table Data'!B940","v":0},{"$f":"'Pivot Table Data'!F940","v":"Torrey Pines Center"},{"$f":"'Pivot Table Data'!P940","v":"Torrey Pines Center South"},{"$f":"'Pivot Table Data'!I940","v":"Basement (Level 1)"},{"$f":"'Pivot Table Data'!J940","v":"Reserved"},{"$f":"'Pivot Table Data'!K940","v":0},{"$f":"'Pivot Table Data'!L940","v":0},{"$f":"'Pivot Table Data'!S940","v":2},{"$f":"'Pivot Table Data'!T940","v":2},{"$f":"IF('Pivot Table Data'!O940=\"Yes\", 'Pivot Table Data'!T940, \"\")","v":""}]
[{"$f":"'Pivot Table Data'!B941","v":0},{"$f":"'Pivot Table Data'!F941","v":"Torrey Pines Center"},{"$f":"'Pivot Table Data'!P941","v":"Torrey Pines Center South"},{"$f":"'Pivot Table Data'!I941","v":"Basement (Level 1)"},{"$f":"'Pivot Table Data'!J941","v":"S"},{"$f":"'Pivot Table Data'!K941","v":0},{"$f":"'Pivot Table Data'!L941","v":0},{"$f":"'Pivot Table Data'!S941","v":0},{"$f":"'Pivot Table Data'!T941","v":0},{"$f":"IF('Pivot Table Data'!O941=\"Yes\", 'Pivot Table Data'!T941, \"\")","v":0}]
[{"$f":"'Pivot Table Data'!B942","v":0},{"$f":"'Pivot Table Data'!F942","v":"Torrey Pines Center"},{"$f":"'Pivot Table Data'!P942","v":"Torrey Pines Center South"},{"$f":"'Pivot Table Data'!I942","v":"Basement (Level 1)"},{"$f":"'Pivot Table Data'!J942","v":"UC Vehicle"},{"$f":"'Pivot Table Data'!K942","v":"UC Electric Cart"},{"$f":"'Pivot Table Data'!L942","v":0},{"$f":"'Pivot Table Data'!S942","v":6},{"$f":"'Pivot Table Data'!T942","v":""},{"$f":"IF('Pivot Table Data'!O942=\"Yes\", 'Pivot Table Data'!T942, \"\")","v":""}]
[{"$f":"'Pivot Table Data'!B943","v":0},{"$f":"'Pivot Table Data'!F943","v":"Torrey Pines Center"},{"$f":"'Pivot Table Data'!P943","v":"Torrey Pines Center South"},{"$f":"'Pivot Table Data'!I943","v":"Basement (Level 1)"},{"$f":"'Pivot Table Data'!J943","v":"Visitor"},{"$f":"'Pivot Table Data'!K943","v":0},{"$f":"'Pivot Table Data'!L943","v":0},{"$f":"'Pivot Table Data'!S943","v":9},{"$f":"'Pivot Table Data'!T943","v":17},{"$f":"IF('Pivot Table Data'!O943=\"Yes\", 'Pivot Table Data'!T943, \"\")","v":17}]
[{"$f":"'Pivot Table Data'!B944","v":0},{"$f":"'Pivot Table Data'!F944","v":"Torrey Pines Center"},{"$f":"'Pivot Table Data'!P944","v":"Torrey Pines Center South"},{"$f":"'Pivot Table Data'!I944","v":"Surface Lot (Ground Level)"},{"$f":"'Pivot Table Data'!J944","v":"Accessible"},{"$f":"'Pivot Table Data'!K944","v":0},{"$f":"'Pivot Table Data'!L944","v":0},{"$f":"'Pivot Table Data'!S944","v":6},{"$f":"'Pivot Table Data'!T944","v":""},{"$f":"IF('Pivot Table Data'!O944=\"Yes\", 'Pivot Table Data'!T944, \"\")","v":""}]
[{"$f":"'Pivot Table Data'!B945","v":0},{"$f":"'Pivot Table Data'!F945","v":"Torrey Pines Center"},{"$f":"'Pivot Table Data'!P945","v":"Torrey Pines Center South"},{"$f":"'Pivot Table Data'!I945","v":"Surface Lot (Ground Level)"},{"$f":"'Pivot Table Data'!J945","v":"Accessible (Van)"},{"$f":"'Pivot Table Data'!K945","v":0},{"$f":"'Pivot Table Data'!L945","v":0},{"$f":"'Pivot Table Data'!S945","v":0},{"$f":"'Pivot Table Data'!T945","v":""},{"$f":"IF('Pivot Table Data'!O945=\"Yes\", 'Pivot Table Data'!T945, \"\")","v":""}]
[{"$f":"'Pivot Table Data'!B946","v":0},{"$f":"'Pivot Table Data'!F946","v":"Torrey Pines Center"},{"$f":"'Pivot Table Data'!P946","v":"Torrey Pines Center South"},{"$f":"'Pivot Table Data'!I946","v":"Surface Lot (Ground Level)"},{"$f":"'Pivot Table Data'!J946","v":"Loading"},{"$f":"'Pivot Table Data'!K946","v":"Bars"},{"$f":"'Pivot Table Data'!L946","v":"20 minutes"},{"$f":"'Pivot Table Data'!S946","v":4},{"$f":"'Pivot Table Data'!T946","v":4},{"$f":"IF('Pivot Table Data'!O946=\"Yes\", 'Pivot Table Data'!T946, \"\")","v":""}]
[{"$f":"'Pivot Table Data'!B947","v":0},{"$f":"'Pivot Table Data'!F947","v":"Torrey Pines Center"},{"$f":"'Pivot Table Data'!P947","v":"Torrey Pines Center South"},{"$f":"'Pivot Table Data'!I947","v":"Surface Lot (Ground Level)"},{"$f":"'Pivot Table Data'!J947","v":"UC Vehicle"},{"$f":"'Pivot Table Data'!K947","v":0},{"$f":"'Pivot Table Data'!L947","v":0},{"$f":"'Pivot Table Data'!S947","v":8},{"$f":"'Pivot Table Data'!T947","v":""},{"$f":"IF('Pivot Table Data'!O947=\"Yes\", 'Pivot Table Data'!T947, \"\")","v":""}]
[{"$f":"'Pivot Table Data'!B948","v":0},{"$f":"'Pivot Table Data'!F948","v":"Torrey Pines Center"},{"$f":"'Pivot Table Data'!P948","v":"Torrey Pines Center South"},{"$f":"'Pivot Table Data'!I948","v":"Surface Lot (Ground Level)"},{"$f":"'Pivot Table Data'!J948","v":"Visitor"},{"$f":"'Pivot Table Data'!K948","v":0},{"$f":"'Pivot Table Data'!L948","v":0},{"$f":"'Pivot Table Data'!S948","v":8},{"$f":"'Pivot Table Data'!T948","v":""},{"$f":"IF('Pivot Table Data'!O948=\"Yes\", 'Pivot Table Data'!T948, \"\")","v":""}]
[{"$f":"'Pivot Table Data'!B949","v":0},{"$f":"'Pivot Table Data'!F949","v":0},{"$f":"'Pivot Table Data'!P949","v":0},{"$f":"'Pivot Table Data'!I949","v":0},{"$f":"'Pivot Table Data'!J949","v":0},{"$f":"'Pivot Table Data'!K949","v":0},{"$f":"'Pivot Table Data'!L949","v":0},{"$f":"'Pivot Table Data'!S949","v":0},{"$f":"'Pivot Table Data'!T949","v":0},{"$f":"IF('Pivot Table Data'!O949=\"Yes\", 'Pivot Table Data'!T949, \"\")","v":""}]
[{"$f":"'Pivot Table Data'!B950","v":0},{"$f":"'Pivot Table Data'!F950","v":0},{"$f":"'Pivot Table Data'!P950","v":0},{"$f":"'Pivot Table Data'!I950","v":0},{"$f":"'Pivot Table Data'!J950","v":0},{"$f":"'Pivot Table Data'!K950","v":0},{"$f":"'Pivot Table Data'!L950","v":0},{"$f":"'Pivot Table Data'!S950","v":0},{"$f":"'Pivot Table Data'!T950","v":0},{"$f":"IF('Pivot Table Data'!O950=\"Yes\", 'Pivot Table Data'!T950, \"\")","v":""}]
[{"$f":"'Pivot Table Data'!B951","v":0},{"$f":"'Pivot Table Data'!F951","v":0},{"$f":"'Pivot Table Data'!P951","v":0},{"$f":"'Pivot Table Data'!I951","v":0},{"$f":"'Pivot Table Data'!J951","v":0},{"$f":"'Pivot Table Data'!K951","v":0},{"$f":"'Pivot Table Data'!L951","v":0},{"$f":"'Pivot Table Data'!S951","v":0},{"$f":"'Pivot Table Data'!T951","v":""},{"$f":"IF('Pivot Table Data'!O951=\"Yes\", 'Pivot Table Data'!T951, \"\")","v":""}]
[{"$f":"'Pivot Table Data'!B952","v":0},{"$f":"'Pivot Table Data'!F952","v":0},{"$f":"'Pivot Table Data'!P952","v":0},{"$f":"'Pivot Table Data'!I952","v":0},{"$f":"'Pivot Table Data'!J952","v":0},{"$f":"'Pivot Table Data'!K952","v":0},{"$f":"'Pivot Table Data'!L952","v":0},{"$f":"'Pivot Table Data'!S952","v":0},{"$f":"'Pivot Table Data'!T952","v":""},{"$f":"IF('Pivot Table Data'!O952=\"Yes\", 'Pivot Table Data'!T952, \"\")","v":""}]
[{"$f":"'Pivot Table Data'!B953","v":0},{"$f":"'Pivot Table Data'!F953","v":0},{"$f":"'Pivot Table Data'!P953","v":0},{"$f":"'Pivot Table Data'!I953","v":0},{"$f":"'Pivot Table Data'!J953","v":0},{"$f":"'Pivot Table Data'!K953","v":0},{"$f":"'Pivot Table Data'!L953","v":0},{"$f":"'Pivot Table Data'!S953","v":0},{"$f":"'Pivot Table Data'!T953","v":""},{"$f":"IF('Pivot Table Data'!O953=\"Yes\", 'Pivot Table Data'!T953, \"\")","v":""}]
[{"$f":"'Pivot Table Data'!B954","v":0},{"$f":"'Pivot Table Data'!F954","v":0},{"$f":"'Pivot Table Data'!P954","v":0},{"$f":"'Pivot Table Data'!I954","v":0},{"$f":"'Pivot Table Data'!J954","v":0},{"$f":"'Pivot Table Data'!K954","v":0},{"$f":"'Pivot Table Data'!L954","v":0},{"$f":"'Pivot Table Data'!S954","v":0},{"$f":"'Pivot Table Data'!T954","v":""},{"$f":"IF('Pivot Table Data'!O954=\"Yes\", 'Pivot Table Data'!T954, \"\")","v":""}]
[{"$f":"'Pivot Table Data'!B955","v":0},{"$f":"'Pivot Table Data'!F955","v":0},{"$f":"'Pivot Table Data'!P955","v":0},{"$f":"'Pivot Table Data'!I955","v":0},{"$f":"'Pivot Table Data'!J955","v":0},{"$f":"'Pivot Table Data'!K955","v":0},{"$f":"'Pivot Table Data'!L955","v":0},{"$f":"'Pivot Table Data'!S955","v":0},{"$f":"'Pivot Table Data'!T955","v":""},{"$f":"IF('Pivot Table Data'!O955=\"Yes\", 'Pivot Table Data'!T955, \"\")","v":""}]
[{"$f":"'Pivot Table Data'!B956","v":0},{"$f":"'Pivot Table Data'!F956","v":0},{"$f":"'Pivot Table Data'!P956","v":0},{"$f":"'Pivot Table Data'!I956","v":0},{"$f":"'Pivot Table Data'!J956","v":0},{"$f":"'Pivot Table Data'!K956","v":0},{"$f":"'Pivot Table Data'!L956","v":0},{"$f":"'Pivot Table Data'!S956","v":0},{"$f":"'Pivot Table Data'!T956","v":""},{"$f":"IF('Pivot Table Data'!O956=\"Yes\", 'Pivot Table Data'!T956, \"\")","v":""}]
[{"$f":"'Pivot Table Data'!B957","v":0},{"$f":"'Pivot Table Data'!F957","v":0},{"$f":"'Pivot Table Data'!P957","v":0},{"$f":"'Pivot Table Data'!I957","v":0},{"$f":"'Pivot Table Data'!J957","v":0},{"$f":"'Pivot Table Data'!K957","v":0},{"$f":"'Pivot Table Data'!L957","v":0},{"$f":"'Pivot Table Data'!S957","v":0},{"$f":"'Pivot Table Data'!T957","v":""},{"$f":"IF('Pivot Table Data'!O957=\"Yes\", 'Pivot Table Data'!T957, \"\")","v":""}]
[{"$f":"'Pivot Table Data'!B958","v":0},{"$f":"'Pivot Table Data'!F958","v":0},{"$f":"'Pivot Table Data'!P958","v":0},{"$f":"'Pivot Table Data'!I958","v":0},{"$f":"'Pivot Table Data'!J958","v":0},{"$f":"'Pivot Table Data'!K958","v":0},{"$f":"'Pivot Table Data'!L958","v":0},{"$f":"'Pivot Table Data'!S958","v":0},{"$f":"'Pivot Table Data'!T958","v":""},{"$f":"IF('Pivot Table Data'!O958=\"Yes\", 'Pivot Table Data'!T958, \"\")","v":""}]
[{"$f":"'Pivot Table Data'!B959","v":0},{"$f":"'Pivot Table Data'!F959","v":0},{"$f":"'Pivot Table Data'!P959","v":0},{"$f":"'Pivot Table Data'!I959","v":0},{"$f":"'Pivot Table Data'!J959","v":0},{"$f":"'Pivot Table Data'!K959","v":0},{"$f":"'Pivot Table Data'!L959","v":0},{"$f":"'Pivot Table Data'!S959","v":0},{"$f":"'Pivot Table Data'!T959","v":""},{"$f":"IF('Pivot Table Data'!O959=\"Yes\", 'Pivot Table Data'!T959, \"\")","v":""}]
[{"$f":"'Pivot Table Data'!B960","v":0},{"$f":"'Pivot Table Data'!F960","v":0},{"$f":"'Pivot Table Data'!P960","v":0},{"$f":"'Pivot Table Data'!I960","v":0},{"$f":"'Pivot Table Data'!J960","v":0},{"$f":"'Pivot Table Data'!K960","v":0},{"$f":"'Pivot Table Data'!L960","v":0},{"$f":"'Pivot Table Data'!S960","v":0},{"$f":"'Pivot Table Data'!T960","v":""},{"$f":"IF('Pivot Table Data'!O960=\"Yes\", 'Pivot Table Data'!T960, \"\")","v":""}]
[{"$f":"'Pivot Table Data'!B961","v":0},{"$f":"'Pivot Table Data'!F961","v":0},{"$f":"'Pivot Table Data'!P961","v":0},{"$f":"'Pivot Table Data'!I961","v":0},{"$f":"'Pivot Table Data'!J961","v":0},{"$f":"'Pivot Table Data'!K961","v":0},{"$f":"'Pivot Table Data'!L961","v":0},{"$f":"'Pivot Table Data'!S961","v":0},{"$f":"'Pivot Table Data'!T961","v":""},{"$f":"IF('Pivot Table Data'!O961=\"Yes\", 'Pivot Table Data'!T961, \"\")","v":""}]
[{"$f":"'Pivot Table Data'!B962","v":0},{"$f":"'Pivot Table Data'!F962","v":0},{"$f":"'Pivot Table Data'!P962","v":0},{"$f":"'Pivot Table Data'!I962","v":0},{"$f":"'Pivot Table Data'!J962","v":0},{"$f":"'Pivot Table Data'!K962","v":0},{"$f":"'Pivot Table Data'!L962","v":0},{"$f":"'Pivot Table Data'!S962","v":0},{"$f":"'Pivot Table Data'!T962","v":""},{"$f":"IF('Pivot Table Data'!O962=\"Yes\", 'Pivot Table Data'!T962, \"\")","v":""}]
[{"$f":"'Pivot Table Data'!B963","v":0},{"$f":"'Pivot Table Data'!F963","v":0},{"$f":"'Pivot Table Data'!P963","v":0},{"$f":"'Pivot Table Data'!I963","v":0},{"$f":"'Pivot Table Data'!J963","v":0},{"$f":"'Pivot Table Data'!K963","v":0},{"$f":"'Pivot Table Data'!L963","v":0},{"$f":"'Pivot Table Data'!S963","v":0},{"$f":"'Pivot Table Data'!T963","v":""},{"$f":"IF('Pivot Table Data'!O963=\"Yes\", 'Pivot Table Data'!T963, \"\")","v":""}]
[{"$f":"'Pivot Table Data'!B964","v":0},{"$f":"'Pivot Table Data'!F964","v":0},{"$f":"'Pivot Table Data'!P964","v":0},{"$f":"'Pivot Table Data'!I964","v":0},{"$f":"'Pivot Table Data'!J964","v":0},{"$f":"'Pivot Table Data'!K964","v":0},{"$f":"'Pivot Table Data'!L964","v":0},{"$f":"'Pivot Table Data'!S964","v":0},{"$f":"'Pivot Table Data'!T964","v":""},{"$f":"IF('Pivot Table Data'!O964=\"Yes\", 'Pivot Table Data'!T964, \"\")","v":""}]
[{"$f":"'Pivot Table Data'!B965","v":0},{"$f":"'Pivot Table Data'!F965","v":0},{"$f":"'Pivot Table Data'!P965","v":0},{"$f":"'Pivot Table Data'!I965","v":0},{"$f":"'Pivot Table Data'!J965","v":0},{"$f":"'Pivot Table Data'!K965","v":0},{"$f":"'Pivot Table Data'!L965","v":0},{"$f":"'Pivot Table Data'!S965","v":0},{"$f":"'Pivot Table Data'!T965","v":""},{"$f":"IF('Pivot Table Data'!O965=\"Yes\", 'Pivot Table Data'!T965, \"\")","v":""}]
[{"$f":"'Pivot Table Data'!B966","v":0},{"$f":"'Pivot Table Data'!F966","v":0},{"$f":"'Pivot Table Data'!P966","v":0},{"$f":"'Pivot Table Data'!I966","v":0},{"$f":"'Pivot Table Data'!J966","v":0},{"$f":"'Pivot Table Data'!K966","v":0},{"$f":"'Pivot Table Data'!L966","v":0},{"$f":"'Pivot Table Data'!S966","v":0},{"$f":"'Pivot Table Data'!T966","v":""},{"$f":"IF('Pivot Table Data'!O966=\"Yes\", 'Pivot Table Data'!T966, \"\")","v":""}]
[{"$f":"'Pivot Table Data'!B967","v":0},{"$f":"'Pivot Table Data'!F967","v":0},{"$f":"'Pivot Table Data'!P967","v":0},{"$f":"'Pivot Table Data'!I967","v":0},{"$f":"'Pivot Table Data'!J967","v":0},{"$f":"'Pivot Table Data'!K967","v":0},{"$f":"'Pivot Table Data'!L967","v":0},{"$f":"'Pivot Table Data'!S967","v":0},{"$f":"'Pivot Table Data'!T967","v":""},{"$f":"IF('Pivot Table Data'!O967=\"Yes\", 'Pivot Table Data'!T967, \"\")","v":""}]
[{"$f":"'Pivot Table Data'!B968","v":0},{"$f":"'Pivot Table Data'!F968","v":0},{"$f":"'Pivot Table Data'!P968","v":0},{"$f":"'Pivot Table Data'!I968","v":0},{"$f":"'Pivot Table Data'!J968","v":0},{"$f":"'Pivot Table Data'!K968","v":0},{"$f":"'Pivot Table Data'!L968","v":0},{"$f":"'Pivot Table Data'!S968","v":0},{"$f":"'Pivot Table Data'!T968","v":""},{"$f":"IF('Pivot Table Data'!O968=\"Yes\", 'Pivot Table Data'!T968, \"\")","v":""}]
[{"$f":"'Pivot Table Data'!B969","v":0},{"$f":"'Pivot Table Data'!F969","v":0},{"$f":"'Pivot Table Data'!P969","v":0},{"$f":"'Pivot Table Data'!I969","v":0},{"$f":"'Pivot Table Data'!J969","v":0},{"$f":"'Pivot Table Data'!K969","v":0},{"$f":"'Pivot Table Data'!L969","v":0},{"$f":"'Pivot Table Data'!S969","v":0},{"$f":"'Pivot Table Data'!T969","v":""},{"$f":"IF('Pivot Table Data'!O969=\"Yes\", 'Pivot Table Data'!T969, \"\")","v":""}]
[{"$f":"'Pivot Table Data'!B970","v":0},{"$f":"'Pivot Table Data'!F970","v":0},{"$f":"'Pivot Table Data'!P970","v":0},{"$f":"'Pivot Table Data'!I970","v":0},{"$f":"'Pivot Table Data'!J970","v":0},{"$f":"'Pivot Table Data'!K970","v":0},{"$f":"'Pivot Table Data'!L970","v":0},{"$f":"'Pivot Table Data'!S970","v":0},{"$f":"'Pivot Table Data'!T970","v":""},{"$f":"IF('Pivot Table Data'!O970=\"Yes\", 'Pivot Table Data'!T970, \"\")","v":""}]
[{"$f":"'Pivot Table Data'!B971","v":0},{"$f":"'Pivot Table Data'!F971","v":0},{"$f":"'Pivot Table Data'!P971","v":0},{"$f":"'Pivot Table Data'!I971","v":0},{"$f":"'Pivot Table Data'!J971","v":0},{"$f":"'Pivot Table Data'!K971","v":0},{"$f":"'Pivot Table Data'!L971","v":0},{"$f":"'Pivot Table Data'!S971","v":0},{"$f":"'Pivot Table Data'!T971","v":""},{"$f":"IF('Pivot Table Data'!O971=\"Yes\", 'Pivot Table Data'!T971, \"\")","v":""}]
[{"$f":"'Pivot Table Data'!B972","v":0},{"$f":"'Pivot Table Data'!F972","v":0},{"$f":"'Pivot Table Data'!P972","v":0},{"$f":"'Pivot Table Data'!I972","v":0},{"$f":"'Pivot Table Data'!J972","v":0},{"$f":"'Pivot Table Data'!K972","v":0},{"$f":"'Pivot Table Data'!L972","v":0},{"$f":"'Pivot Table Data'!S972","v":0},{"$f":"'Pivot Table Data'!T972","v":""},{"$f":"IF('Pivot Table Data'!O972=\"Yes\", 'Pivot Table Data'!T972, \"\")","v":""}]
[{"$f":"'Pivot Table Data'!B973","v":0},{"$f":"'Pivot Table Data'!F973","v":0},{"$f":"'Pivot Table Data'!P973","v":0},{"$f":"'Pivot Table Data'!I973","v":0},{"$f":"'Pivot Table Data'!J973","v":0},{"$f":"'Pivot Table Data'!K973","v":0},{"$f":"'Pivot Table Data'!L973","v":0},{"$f":"'Pivot Table Data'!S973","v":0},{"$f":"'Pivot Table Data'!T973","v":""},{"$f":"IF('Pivot Table Data'!O973=\"Yes\", 'Pivot Table Data'!T973, \"\")","v":""}]
[{"$f":"'Pivot Table Data'!B974","v":0},{"$f":"'Pivot Table Data'!F974","v":0},{"$f":"'Pivot Table Data'!P974","v":0},{"$f":"'Pivot Table Data'!I974","v":0},{"$f":"'Pivot Table Data'!J974","v":0},{"$f":"'Pivot Table Data'!K974","v":0},{"$f":"'Pivot Table Data'!L974","v":0},{"$f":"'Pivot Table Data'!S974","v":0},{"$f":"'Pivot Table Data'!T974","v":""},{"$f":"IF('Pivot Table Data'!O974=\"Yes\", 'Pivot Table Data'!T974, \"\")","v":""}]
[{"$f":"'Pivot Table Data'!B975","v":0},{"$f":"'Pivot Table Data'!F975","v":0},{"$f":"'Pivot Table Data'!P975","v":0},{"$f":"'Pivot Table Data'!I975","v":0},{"$f":"'Pivot Table Data'!J975","v":0},{"$f":"'Pivot Table Data'!K975","v":0},{"$f":"'Pivot Table Data'!L975","v":0},{"$f":"'Pivot Table Data'!S975","v":0},{"$f":"'Pivot Table Data'!T975","v":""},{"$f":"IF('Pivot Table Data'!O975=\"Yes\", 'Pivot Table Data'!T975, \"\")","v":""}]
[{"$f":"'Pivot Table Data'!B976","v":0},{"$f":"'Pivot Table Data'!F976","v":0},{"$f":"'Pivot Table Data'!P976","v":0},{"$f":"'Pivot Table Data'!I976","v":0},{"$f":"'Pivot Table Data'!J976","v":0},{"$f":"'Pivot Table Data'!K976","v":0},{"$f":"'Pivot Table Data'!L976","v":0},{"$f":"'Pivot Table Data'!S976","v":0},{"$f":"'Pivot Table Data'!T976","v":""},{"$f":"IF('Pivot Table Data'!O976=\"Yes\", 'Pivot Table Data'!T976, \"\")","v":""}]
[{"$f":"'Pivot Table Data'!B977","v":0},{"$f":"'Pivot Table Data'!F977","v":0},{"$f":"'Pivot Table Data'!P977","v":0},{"$f":"'Pivot Table Data'!I977","v":0},{"$f":"'Pivot Table Data'!J977","v":0},{"$f":"'Pivot Table Data'!K977","v":0},{"$f":"'Pivot Table Data'!L977","v":0},{"$f":"'Pivot Table Data'!S977","v":0},{"$f":"'Pivot Table Data'!T977","v":""},{"$f":"IF('Pivot Table Data'!O977=\"Yes\", 'Pivot Table Data'!T977, \"\")","v":""}]
[{"$f":"'Pivot Table Data'!B978","v":0},{"$f":"'Pivot Table Data'!F978","v":0},{"$f":"'Pivot Table Data'!P978","v":0},{"$f":"'Pivot Table Data'!I978","v":0},{"$f":"'Pivot Table Data'!J978","v":0},{"$f":"'Pivot Table Data'!K978","v":0},{"$f":"'Pivot Table Data'!L978","v":0},{"$f":"'Pivot Table Data'!S978","v":0},{"$f":"'Pivot Table Data'!T978","v":""},{"$f":"IF('Pivot Table Data'!O978=\"Yes\", 'Pivot Table Data'!T978, \"\")","v":""}]
[{"$f":"'Pivot Table Data'!B979","v":0},{"$f":"'Pivot Table Data'!F979","v":0},{"$f":"'Pivot Table Data'!P979","v":0},{"$f":"'Pivot Table Data'!I979","v":0},{"$f":"'Pivot Table Data'!J979","v":0},{"$f":"'Pivot Table Data'!K979","v":0},{"$f":"'Pivot Table Data'!L979","v":0},{"$f":"'Pivot Table Data'!S979","v":0},{"$f":"'Pivot Table Data'!T979","v":""},{"$f":"IF('Pivot Table Data'!O979=\"Yes\", 'Pivot Table Data'!T979, \"\")","v":""}]
[{"$f":"'Pivot Table Data'!B980","v":0},{"$f":"'Pivot Table Data'!F980","v":0},{"$f":"'Pivot Table Data'!P980","v":0},{"$f":"'Pivot Table Data'!I980","v":0},{"$f":"'Pivot Table Data'!J980","v":0},{"$f":"'Pivot Table Data'!K980","v":0},{"$f":"'Pivot Table Data'!L980","v":0},{"$f":"'Pivot Table Data'!S980","v":0},{"$f":"'Pivot Table Data'!T980","v":""},{"$f":"IF('Pivot Table Data'!O980=\"Yes\", 'Pivot Table Data'!T980, \"\")","v":""}]
[{"$f":"'Pivot Table Data'!B981","v":0},{"$f":"'Pivot Table Data'!F981","v":0},{"$f":"'Pivot Table Data'!P981","v":0},{"$f":"'Pivot Table Data'!I981","v":0},{"$f":"'Pivot Table Data'!J981","v":0},{"$f":"'Pivot Table Data'!K981","v":0},{"$f":"'Pivot Table Data'!L981","v":0},{"$f":"'Pivot Table Data'!S981","v":0},{"$f":"'Pivot Table Data'!T981","v":""},{"$f":"IF('Pivot Table Data'!O981=\"Yes\", 'Pivot Table Data'!T981, \"\")","v":""}]
[{"$f":"'Pivot Table Data'!B982","v":0},{"$f":"'Pivot Table Data'!F982","v":0},{"$f":"'Pivot Table Data'!P982","v":0},{"$f":"'Pivot Table Data'!I982","v":0},{"$f":"'Pivot Table Data'!J982","v":0},{"$f":"'Pivot Table Data'!K982","v":0},{"$f":"'Pivot Table Data'!L982","v":0},{"$f":"'Pivot Table Data'!S982","v":0},{"$f":"'Pivot Table Data'!T982","v":""},{"$f":"IF('Pivot Table Data'!O982=\"Yes\", 'Pivot Table Data'!T982, \"\")","v":""}]
[{"$f":"'Pivot Table Data'!B983","v":0},{"$f":"'Pivot Table Data'!F983","v":0},{"$f":"'Pivot Table Data'!P983","v":0},{"$f":"'Pivot Table Data'!I983","v":0},{"$f":"'Pivot Table Data'!J983","v":0},{"$f":"'Pivot Table Data'!K983","v":0},{"$f":"'Pivot Table Data'!L983","v":0},{"$f":"'Pivot Table Data'!S983","v":0},{"$f":"'Pivot Table Data'!T983","v":""},{"$f":"IF('Pivot Table Data'!O983=\"Yes\", 'Pivot Table Data'!T983, \"\")","v":""}]
[{"$f":"'Pivot Table Data'!B984","v":0},{"$f":"'Pivot Table Data'!F984","v":0},{"$f":"'Pivot Table Data'!P984","v":0},{"$f":"'Pivot Table Data'!I984","v":0},{"$f":"'Pivot Table Data'!J984","v":0},{"$f":"'Pivot Table Data'!K984","v":0},{"$f":"'Pivot Table Data'!L984","v":0},{"$f":"'Pivot Table Data'!S984","v":0},{"$f":"'Pivot Table Data'!T984","v":""},{"$f":"IF('Pivot Table Data'!O984=\"Yes\", 'Pivot Table Data'!T984, \"\")","v":""}]
[{"$f":"'Pivot Table Data'!B985","v":0},{"$f":"'Pivot Table Data'!F985","v":0},{"$f":"'Pivot Table Data'!P985","v":0},{"$f":"'Pivot Table Data'!I985","v":0},{"$f":"'Pivot Table Data'!J985","v":0},{"$f":"'Pivot Table Data'!K985","v":0},{"$f":"'Pivot Table Data'!L985","v":0},{"$f":"'Pivot Table Data'!S985","v":0},{"$f":"'Pivot Table Data'!T985","v":""},{"$f":"IF('Pivot Table Data'!O985=\"Yes\", 'Pivot Table Data'!T985, \"\")","v":""}]
[{"$f":"'Pivot Table Data'!B986","v":0},{"$f":"'Pivot Table Data'!F986","v":0},{"$f":"'Pivot Table Data'!P986","v":0},{"$f":"'Pivot Table Data'!I986","v":0},{"$f":"'Pivot Table Data'!J986","v":0},{"$f":"'Pivot Table Data'!K986","v":0},{"$f":"'Pivot Table Data'!L986","v":0},{"$f":"'Pivot Table Data'!S986","v":0},{"$f":"'Pivot Table Data'!T986","v":""},{"$f":"IF('Pivot Table Data'!O986=\"Yes\", 'Pivot Table Data'!T986, \"\")","v":""}]
[{"$f":"'Pivot Table Data'!B987","v":0},{"$f":"'Pivot Table Data'!F987","v":0},{"$f":"'Pivot Table Data'!P987","v":0},{"$f":"'Pivot Table Data'!I987","v":0},{"$f":"'Pivot Table Data'!J987","v":0},{"$f":"'Pivot Table Data'!K987","v":0},{"$f":"'Pivot Table Data'!L987","v":0},{"$f":"'Pivot Table Data'!S987","v":0},{"$f":"'Pivot Table Data'!T987","v":""},{"$f":"IF('Pivot Table Data'!O987=\"Yes\", 'Pivot Table Data'!T987, \"\")","v":""}]
[{"$f":"'Pivot Table Data'!B988","v":0},{"$f":"'Pivot Table Data'!F988","v":0},{"$f":"'Pivot Table Data'!P988","v":0},{"$f":"'Pivot Table Data'!I988","v":0},{"$f":"'Pivot Table Data'!J988","v":0},{"$f":"'Pivot Table Data'!K988","v":0},{"$f":"'Pivot Table Data'!L988","v":0},{"$f":"'Pivot Table Data'!S988","v":0},{"$f":"'Pivot Table Data'!T988","v":""},{"$f":"IF('Pivot Table Data'!O988=\"Yes\", 'Pivot Table Data'!T988, \"\")","v":""}]
[{"$f":"'Pivot Table Data'!B989","v":0},{"$f":"'Pivot Table Data'!F989","v":0},{"$f":"'Pivot Table Data'!P989","v":0},{"$f":"'Pivot Table Data'!I989","v":0},{"$f":"'Pivot Table Data'!J989","v":0},{"$f":"'Pivot Table Data'!K989","v":0},{"$f":"'Pivot Table Data'!L989","v":0},{"$f":"'Pivot Table Data'!S989","v":0},{"$f":"'Pivot Table Data'!T989","v":""},{"$f":"IF('Pivot Table Data'!O989=\"Yes\", 'Pivot Table Data'!T989, \"\")","v":""}]
[{"$f":"'Pivot Table Data'!B990","v":0},{"$f":"'Pivot Table Data'!F990","v":0},{"$f":"'Pivot Table Data'!P990","v":0},{"$f":"'Pivot Table Data'!I990","v":0},{"$f":"'Pivot Table Data'!J990","v":0},{"$f":"'Pivot Table Data'!K990","v":0},{"$f":"'Pivot Table Data'!L990","v":0},{"$f":"'Pivot Table Data'!S990","v":0},{"$f":"'Pivot Table Data'!T990","v":""},{"$f":"IF('Pivot Table Data'!O990=\"Yes\", 'Pivot Table Data'!T990, \"\")","v":""}]
[{"$f":"'Pivot Table Data'!B991","v":0},{"$f":"'Pivot Table Data'!F991","v":0},{"$f":"'Pivot Table Data'!P991","v":0},{"$f":"'Pivot Table Data'!I991","v":0},{"$f":"'Pivot Table Data'!J991","v":0},{"$f":"'Pivot Table Data'!K991","v":0},{"$f":"'Pivot Table Data'!L991","v":0},{"$f":"'Pivot Table Data'!S991","v":0},{"$f":"'Pivot Table Data'!T991","v":""},{"$f":"IF('Pivot Table Data'!O991=\"Yes\", 'Pivot Table Data'!T991, \"\")","v":""}]
[{"$f":"'Pivot Table Data'!B992","v":0},{"$f":"'Pivot Table Data'!F992","v":0},{"$f":"'Pivot Table Data'!P992","v":0},{"$f":"'Pivot Table Data'!I992","v":0},{"$f":"'Pivot Table Data'!J992","v":0},{"$f":"'Pivot Table Data'!K992","v":0},{"$f":"'Pivot Table Data'!L992","v":0},{"$f":"'Pivot Table Data'!S992","v":0},{"$f":"'Pivot Table Data'!T992","v":""},{"$f":"IF('Pivot Table Data'!O992=\"Yes\", 'Pivot Table Data'!T992, \"\")","v":""}]
[{"$f":"'Pivot Table Data'!B993","v":0},{"$f":"'Pivot Table Data'!F993","v":0},{"$f":"'Pivot Table Data'!P993","v":0},{"$f":"'Pivot Table Data'!I993","v":0},{"$f":"'Pivot Table Data'!J993","v":0},{"$f":"'Pivot Table Data'!K993","v":0},{"$f":"'Pivot Table Data'!L993","v":0},{"$f":"'Pivot Table Data'!S993","v":0},{"$f":"'Pivot Table Data'!T993","v":""},{"$f":"IF('Pivot Table Data'!O993=\"Yes\", 'Pivot Table Data'!T993, \"\")","v":""}]
[{"$f":"'Pivot Table Data'!B994","v":0},{"$f":"'Pivot Table Data'!F994","v":0},{"$f":"'Pivot Table Data'!P994","v":0},{"$f":"'Pivot Table Data'!I994","v":0},{"$f":"'Pivot Table Data'!J994","v":0},{"$f":"'Pivot Table Data'!K994","v":0},{"$f":"'Pivot Table Data'!L994","v":0},{"$f":"'Pivot Table Data'!S994","v":0},{"$f":"'Pivot Table Data'!T994","v":""},{"$f":"IF('Pivot Table Data'!O994=\"Yes\", 'Pivot Table Data'!T994, \"\")","v":""}]
[{"$f":"'Pivot Table Data'!B995","v":0},{"$f":"'Pivot Table Data'!F995","v":0},{"$f":"'Pivot Table Data'!P995","v":0},{"$f":"'Pivot Table Data'!I995","v":0},{"$f":"'Pivot Table Data'!J995","v":0},{"$f":"'Pivot Table Data'!K995","v":0},{"$f":"'Pivot Table Data'!L995","v":0},{"$f":"'Pivot Table Data'!S995","v":0},{"$f":"'Pivot Table Data'!T995","v":""},{"$f":"IF('Pivot Table Data'!O995=\"Yes\", 'Pivot Table Data'!T995, \"\")","v":""}]
[{"$f":"'Pivot Table Data'!B996","v":0},{"$f":"'Pivot Table Data'!F996","v":0},{"$f":"'Pivot Table Data'!P996","v":0},{"$f":"'Pivot Table Data'!I996","v":0},{"$f":"'Pivot Table Data'!J996","v":0},{"$f":"'Pivot Table Data'!K996","v":0},{"$f":"'Pivot Table Data'!L996","v":0},{"$f":"'Pivot Table Data'!S996","v":0},{"$f":"'Pivot Table Data'!T996","v":""},{"$f":"IF('Pivot Table Data'!O996=\"Yes\", 'Pivot Table Data'!T996, \"\")","v":""}]
[{"$f":"'Pivot Table Data'!B997","v":0},{"$f":"'Pivot Table Data'!F997","v":0},{"$f":"'Pivot Table Data'!P997","v":0},{"$f":"'Pivot Table Data'!I997","v":0},{"$f":"'Pivot Table Data'!J997","v":0},{"$f":"'Pivot Table Data'!K997","v":0},{"$f":"'Pivot Table Data'!L997","v":0},{"$f":"'Pivot Table Data'!S997","v":0},{"$f":"'Pivot Table Data'!T997","v":""},{"$f":"IF('Pivot Table Data'!O997=\"Yes\", 'Pivot Table Data'!T997, \"\")","v":""}]
[{"$f":"'Pivot Table Data'!B998","v":0},{"$f":"'Pivot Table Data'!F998","v":0},{"$f":"'Pivot Table Data'!P998","v":0},{"$f":"'Pivot Table Data'!I998","v":0},{"$f":"'Pivot Table Data'!J998","v":0},{"$f":"'Pivot Table Data'!K998","v":0},{"$f":"'Pivot Table Data'!L998","v":0},{"$f":"'Pivot Table Data'!S998","v":0},{"$f":"'Pivot Table Data'!T998","v":""},{"$f":"IF('Pivot Table Data'!O998=\"Yes\", 'Pivot Table Data'!T998, \"\")","v":""}]
[{"$f":"'Pivot Table Data'!B999","v":0},{"$f":"'Pivot Table Data'!F999","v":0},{"$f":"'Pivot Table Data'!P999","v":0},{"$f":"'Pivot Table Data'!I999","v":0},{"$f":"'Pivot Table Data'!J999","v":0},{"$f":"'Pivot Table Data'!K999","v":0},{"$f":"'Pivot Table Data'!L999","v":0},{"$f":"'Pivot Table Data'!S999","v":0},{"$f":"'Pivot Table Data'!T999","v":""},{"$f":"IF('Pivot Table Data'!O999=\"Yes\", 'Pivot Table Data'!T999, \"\")","v":""}]
[{"$f":"'Pivot Table Data'!B1000","v":0},{"$f":"'Pivot Table Data'!F1000","v":0},{"$f":"'Pivot Table Data'!P1000","v":0},{"$f":"'Pivot Table Data'!I1000","v":0},{"$f":"'Pivot Table Data'!J1000","v":0},{"$f":"'Pivot Table Data'!K1000","v":0},{"$f":"'Pivot Table Data'!L1000","v":0},{"$f":"'Pivot Table Data'!S1000","v":0},{"$f":"'Pivot Table Data'!T1000","v":""},{"$f":"IF('Pivot Table Data'!O1000=\"Yes\", 'Pivot Table Data'!T1000, \"\")","v":""}]
[{"$f":"'Pivot Table Data'!B1001","v":0},{"$f":"'Pivot Table Data'!F1001","v":0},{"$f":"'Pivot Table Data'!P1001","v":0},{"$f":"'Pivot Table Data'!I1001","v":0},{"$f":"'Pivot Table Data'!J1001","v":0},{"$f":"'Pivot Table Data'!K1001","v":0},{"$f":"'Pivot Table Data'!L1001","v":0},{"$f":"'Pivot Table Data'!S1001","v":0},{"$f":"'Pivot Table Data'!T1001","v":""},{"$f":"IF('Pivot Table Data'!O1001=\"Yes\", 'Pivot Table Data'!T1001, \"\")","v":""}]

{"sheet":"Print QPass Forms","index":8,"n_rows":1001,"n_cols":28,"rows_kept":1001,"cut":false,"hidden":true,"merged":[]}
["Day / Date :",null,null,null,"Name(s) :"]
[]
[null,null,null,null,null,null,null,null,null,null,null,null,"* Only enter the number of open spaces"]
[{"$f":"'Pivot Table Data'!B4","v":"Zone #"},{"$f":"'Pivot Table Data'!F4","v":"Neighborhood"},{"$f":"'Pivot Table Data'!P4","v":"Lot  / Structure"},{"$f":"'Pivot Table Data'!I4","v":"Garage Level"},{"$f":"'Pivot Table Data'!J4","v":"Space Type"},{"$f":"'Pivot Table Data'!K4","v":"Space Subtype"},{"$f":"'Pivot Table Data'!L4","v":"Time Limit [minutes]"},"Stall Count (Inventory)","Stall Count (Occupancy)","Stall Count (QPass)",{"$f":"'Pivot Table Data'!AB4","v":"6am"},{"$f":"'Pivot Table Data'!AC4","v":"7am"},{"$f":"'Pivot Table Data'!AD4","v":"8am"},{"$f":"'Pivot Table Data'!AE4","v":"9am"},{"$f":"'Pivot Table Data'!AF4","v":"10am"},{"$f":"'Pivot Table Data'!AG4","v":"11am"},{"$f":"'Pivot Table Data'!AH4","v":"12pm"},{"$f":"'Pivot Table Data'!AI4","v":"1pm"},{"$f":"'Pivot Table Data'!AJ4","v":"2pm"},{"$f":"'Pivot Table Data'!AK4","v":"3pm"},{"$f":"'Pivot Table Data'!AL4","v":"4pm"},{"$f":"'Pivot Table Data'!AM4","v":"5pm"},{"$f":"'Pivot Table Data'!AN4","v":"6pm"},{"$f":"'Pivot Table Data'!AO4","v":"7pm"},{"$f":"'Pivot Table Data'!AP4","v":"8pm"},{"$f":"'Pivot Table Data'!AQ4","v":"9pm"},{"$f":"'Pivot Table Data'!AR4","v":"10pm"},"Notes"]
[{"$f":"'Pivot Table Data'!B5","v":0},{"$f":"'Pivot Table Data'!F5","v":"Health Sciences East"},{"$f":"'Pivot Table Data'!P5","v":"Athena"},{"$f":"'Pivot Table Data'!I5","v":"Ground Floor"},{"$f":"'Pivot Table Data'!J5","v":"A"},{"$f":"'Pivot Table Data'!K5","v":0},{"$f":"'Pivot Table Data'!L5","v":0},{"$f":"'Pivot Table Data'!S5","v":4},{"$f":"'Pivot Table Data'!T5","v":307},{"$f":"IF('Pivot Table Data'!O5=\"Yes\", 'Pivot Table Data'!T5, \"\")","v":307}]
[{"$f":"'Pivot Table Data'!B6","v":0},{"$f":"'Pivot Table Data'!F6","v":"Health Sciences East"},{"$f":"'Pivot Table Data'!P6","v":"Athena"},{"$f":"'Pivot Table Data'!I6","v":"Ground Floor"},{"$f":"'Pivot Table Data'!J6","v":"Accessible"},{"$f":"'Pivot Table Data'!K6","v":0},{"$f":"'Pivot Table Data'!L6","v":0},{"$f":"'Pivot Table Data'!S6","v":49},{"$f":"'Pivot Table Data'!T6","v":71},{"$f":"IF('Pivot Table Data'!O6=\"Yes\", 'Pivot Table Data'!T6, \"\")","v":""}]
[{"$f":"'Pivot Table Data'!B7","v":0},{"$f":"'Pivot Table Data'!F7","v":"Health Sciences East"},{"$f":"'Pivot Table Data'!P7","v":"Athena"},{"$f":"'Pivot Table Data'!I7","v":"Ground Floor"},{"$f":"'Pivot Table Data'!J7","v":"Accessible (Van)"},{"$f":"'Pivot Table Data'!K7","v":0},{"$f":"'Pivot Table Data'!L7","v":0},{"$f":"'Pivot Table Data'!S7","v":3},{"$f":"'Pivot Table Data'!T7","v":8},{"$f":"IF('Pivot Table Data'!O7=\"Yes\", 'Pivot Table Data'!T7, \"\")","v":""}]
[{"$f":"'Pivot Table Data'!B8","v":0},{"$f":"'Pivot Table Data'!F8","v":"Health Sciences East"},{"$f":"'Pivot Table Data'!P8","v":"Athena"},{"$f":"'Pivot Table Data'!I8","v":"Ground Floor"},{"$f":"'Pivot Table Data'!J8","v":"Accessible (Van)"},{"$f":"'Pivot Table Data'!K8","v":0},{"$f":"'Pivot Table Data'!L8","v":0},{"$f":"'Pivot Table Data'!S8","v":0},{"$f":"'Pivot Table Data'!T8","v":""},{"$f":"IF('Pivot Table Data'!O8=\"Yes\", 'Pivot Table Data'!T8, \"\")","v":""}]
[{"$f":"'Pivot Table Data'!B9","v":0},{"$f":"'Pivot Table Data'!F9","v":"Health Sciences East"},{"$f":"'Pivot Table Data'!P9","v":"Athena"},{"$f":"'Pivot Table Data'!I9","v":"Ground Floor"},{"$f":"'Pivot Table Data'!J9","v":"Electric Vehicle"},{"$f":"'Pivot Table Data'!K9","v":"ADA"},{"$f":"'Pivot Table Data'!L9","v":0},{"$f":"'Pivot Table Data'!S9","v":2},{"$f":"'Pivot Table Data'!T9","v":2},{"$f":"IF('Pivot Table Data'!O9=\"Yes\", 'Pivot Table Data'!T9, \"\")","v":""}]
[{"$f":"'Pivot Table Data'!B10","v":0},{"$f":"'Pivot Table Data'!F10","v":"Health Sciences East"},{"$f":"'Pivot Table Data'!P10","v":"Athena"},{"$f":"'Pivot Table Data'!I10","v":"Ground Floor"},{"$f":"'Pivot Table Data'!J10","v":"Electric Vehicle"},{"$f":"'Pivot Table Data'!K10","v":0},{"$f":"'Pivot Table Data'!L10","v":0},{"$f":"'Pivot Table Data'!S10","v":16},{"$f":"'Pivot Table Data'!T10","v":16},{"$f":"IF('Pivot Table Data'!O10=\"Yes\", 'Pivot Table Data'!T10, \"\")","v":""}]
[{"$f":"'Pivot Table Data'!B11","v":0},{"$f":"'Pivot Table Data'!F11","v":"Health Sciences East"},{"$f":"'Pivot Table Data'!P11","v":"Athena"},{"$f":"'Pivot Table Data'!I11","v":"Ground Floor"},{"$f":"'Pivot Table Data'!J11","v":"Motorcycle Section"},{"$f":"'Pivot Table Data'!K11","v":0},{"$f":"'Pivot Table Data'!L11","v":0},{"$f":"'Pivot Table Data'!S11","v":0},{"$f":"'Pivot Table Data'!T11","v":30},{"$f":"IF('Pivot Table Data'!O11=\"Yes\", 'Pivot Table Data'!T11, \"\")","v":""}]
[{"$f":"'Pivot Table Data'!B12","v":0},{"$f":"'Pivot Table Data'!F12","v":"Health Sciences East"},{"$f":"'Pivot Table Data'!P12","v":"Athena"},{"$f":"'Pivot Table Data'!I12","v":"Ground Floor"},{"$f":"'Pivot Table Data'!J12","v":"Visitor"},{"$f":"'Pivot Table Data'!K12","v":"Patient/Visitor Reserved"},{"$f":"'Pivot Table Data'!L12","v":"30 minutes"},{"$f":"'Pivot Table Data'!S12","v":9},{"$f":"'Pivot Table Data'!T12","v":9},{"$f":"IF('Pivot Table Data'!O12=\"Yes\", 'Pivot Table Data'!T12, \"\")","v":9}]
[{"$f":"'Pivot Table Data'!B13","v":0},{"$f":"'Pivot Table Data'!F13","v":"Health Sciences East"},{"$f":"'Pivot Table Data'!P13","v":"Athena"},{"$f":"'Pivot Table Data'!I13","v":"Ground Floor"},{"$f":"'Pivot Table Data'!J13","v":"Visitor"},{"$f":"'Pivot Table Data'!K13","v":0},{"$f":"'Pivot Table Data'!L13","v":0},{"$f":"'Pivot Table Data'!S13","v":64},{"$f":"'Pivot Table Data'!T13","v":237},{"$f":"IF('Pivot Table Data'!O13=\"Yes\", 'Pivot Table Data'!T13, \"\")","v":237}]
[{"$f":"'Pivot Table Data'!B14","v":0},{"$f":"'Pivot Table Data'!F14","v":"Health Sciences East"},{"$f":"'Pivot Table Data'!P14","v":"Athena"},{"$f":"'Pivot Table Data'!I14","v":"L2"},{"$f":"'Pivot Table Data'!J14","v":"A"},{"$f":"'Pivot Table Data'!K14","v":0},{"$f":"'Pivot Table Data'!L14","v":0},{"$f":"'Pivot Table Data'!S14","v":9},{"$f":"'Pivot Table Data'!T14","v":""},{"$f":"IF('Pivot Table Data'!O14=\"Yes\", 'Pivot Table Data'!T14, \"\")","v":""}]
[{"$f":"'Pivot Table Data'!B15","v":0},{"$f":"'Pivot Table Data'!F15","v":"Health Sciences East"},{"$f":"'Pivot Table Data'!P15","v":"Athena"},{"$f":"'Pivot Table Data'!I15","v":"L2"},{"$f":"'Pivot Table Data'!J15","v":"Accessible"},{"$f":"'Pivot Table Data'!K15","v":0},{"$f":"'Pivot Table Data'!L15","v":0},{"$f":"'Pivot Table Data'!S15","v":15},{"$f":"'Pivot Table Data'!T15","v":""},{"$f":"IF('Pivot Table Data'!O15=\"Yes\", 'Pivot Table Data'!T15, \"\")","v":""}]
[{"$f":"'Pivot Table Data'!B16","v":0},{"$f":"'Pivot Table Data'!F16","v":"Health Sciences East"},{"$f":"'Pivot Table Data'!P16","v":"Athena"},{"$f":"'Pivot Table Data'!I16","v":"L2"},{"$f":"'Pivot Table Data'!J16","v":"Accessible (Van)"},{"$f":"'Pivot Table Data'!K16","v":0},{"$f":"'Pivot Table Data'!L16","v":0},{"$f":"'Pivot Table Data'!S16","v":3},{"$f":"'Pivot Table Data'!T16","v":""},{"$f":"IF('Pivot Table Data'!O16=\"Yes\", 'Pivot Table Data'!T16, \"\")","v":""}]
[{"$f":"'Pivot Table Data'!B17","v":0},{"$f":"'Pivot Table Data'!F17","v":"Health Sciences East"},{"$f":"'Pivot Table Data'!P17","v":"Athena"},{"$f":"'Pivot Table Data'!I17","v":"L2"},{"$f":"'Pivot Table Data'!J17","v":"Motorcycle Section"},{"$f":"'Pivot Table Data'!K17","v":0},{"$f":"'Pivot Table Data'!L17","v":0},{"$f":"'Pivot Table Data'!S17","v":10},{"$f":"'Pivot Table Data'!T17","v":""},{"$f":"IF('Pivot Table Data'!O17=\"Yes\", 'Pivot Table Data'!T17, \"\")","v":""}]
[{"$f":"'Pivot Table Data'!B18","v":0},{"$f":"'Pivot Table Data'!F18","v":"Health Sciences East"},{"$f":"'Pivot Table Data'!P18","v":"Athena"},{"$f":"'Pivot Table Data'!I18","v":"L2"},{"$f":"'Pivot Table Data'!J18","v":"Motorcycle Section"},{"$f":"'Pivot Table Data'!K18","v":0},{"$f":"'Pivot Table Data'!L18","v":0},{"$f":"'Pivot Table Data'!S18","v":2},{"$f":"'Pivot Table Data'!T18","v":""},{"$f":"IF('Pivot Table Data'!O18=\"Yes\", 'Pivot Table Data'!T18, \"\")","v":""}]
[{"$f":"'Pivot Table Data'!B19","v":0},{"$f":"'Pivot Table Data'!F19","v":"Health Sciences East"},{"$f":"'Pivot Table Data'!P19","v":"Athena"},{"$f":"'Pivot Table Data'!I19","v":"L2"},{"$f":"'Pivot Table Data'!J19","v":"Visitor"},{"$f":"'Pivot Table Data'!K19","v":"Infusion"},{"$f":"'Pivot Table Data'!L19","v":0},{"$f":"'Pivot Table Data'!S19","v":30},{"$f":"'Pivot Table Data'!T19","v":30},{"$f":"IF('Pivot Table Data'!O19=\"Yes\", 'Pivot Table Data'!T19, \"\")","v":30}]
[{"$f":"'Pivot Table Data'!B20","v":0},{"$f":"'Pivot Table Data'!F20","v":"Health Sciences East"},{"$f":"'Pivot Table Data'!P20","v":"Athena"},{"$f":"'Pivot Table Data'!I20","v":"L2"},{"$f":"'Pivot Table Data'!J20","v":"Visitor"},{"$f":"'Pivot Table Data'!K20","v":"Radiation"},{"$f":"'Pivot Table Data'!L20","v":0},{"$f":"'Pivot Table Data'!S20","v":10},{"$f":"'Pivot Table Data'!T20","v":10},{"$f":"IF('Pivot Table Data'!O20=\"Yes\", 'Pivot Table Data'!T20, \"\")","v":10}]
[{"$f":"'Pivot Table Data'!B21","v":0},{"$f":"'Pivot Table Data'!F21","v":"Health Sciences East"},{"$f":"'Pivot Table Data'!P21","v":"Athena"},{"$f":"'Pivot Table Data'!I21","v":"L2"},{"$f":"'Pivot Table Data'!J21","v":"Visitor"},{"$f":"'Pivot Table Data'!K21","v":0},{"$f":"'Pivot Table Data'!L21","v":0},{"$f":"'Pivot Table Data'!S21","v":115},{"$f":"'Pivot Table Data'!T21","v":""},{"$f":"IF('Pivot Table Data'!O21=\"Yes\", 'Pivot Table Data'!T21, \"\")","v":""}]
[{"$f":"'Pivot Table Data'!B22","v":0},{"$f":"'Pivot Table Data'!F22","v":"Health Sciences East"},{"$f":"'Pivot Table Data'!P22","v":"Athena"},{"$f":"'Pivot Table Data'!I22","v":"L3"},{"$f":"'Pivot Table Data'!J22","v":"A"},{"$f":"'Pivot Table Data'!K22","v":0},{"$f":"'Pivot Table Data'!L22","v":0},{"$f":"'Pivot Table Data'!S22","v":147},{"$f":"'Pivot Table Data'!T22","v":""},{"$f":"IF('Pivot Table Data'!O22=\"Yes\", 'Pivot Table Data'!T22, \"\")","v":""}]
[{"$f":"'Pivot Table Data'!B23","v":0},{"$f":"'Pivot Table Data'!F23","v":"Health Sciences East"},{"$f":"'Pivot Table Data'!P23","v":"Athena"},{"$f":"'Pivot Table Data'!I23","v":"L3"},{"$f":"'Pivot Table Data'!J23","v":"A"},{"$f":"'Pivot Table Data'!K23","v":0},{"$f":"'Pivot Table Data'!L23","v":0},{"$f":"'Pivot Table Data'!S23","v":0},{"$f":"'Pivot Table Data'!T23","v":""},{"$f":"IF('Pivot Table Data'!O23=\"Yes\", 'Pivot Table Data'!T23, \"\")","v":""}]
[{"$f":"'Pivot Table Data'!B24","v":0},{"$f":"'Pivot Table Data'!F24","v":"Health Sciences East"},{"$f":"'Pivot Table Data'!P24","v":"Athena"},{"$f":"'Pivot Table Data'!I24","v":"L3"},{"$f":"'Pivot Table Data'!J24","v":"A"},{"$f":"'Pivot Table Data'!K24","v":0},{"$f":"'Pivot Table Data'!L24","v":0},{"$f":"'Pivot Table Data'!S24","v":0},{"$f":"'Pivot Table Data'!T24","v":""},{"$f":"IF('Pivot Table Data'!O24=\"Yes\", 'Pivot Table Data'!T24, \"\")","v":""}]
[{"$f":"'Pivot Table Data'!B25","v":0},{"$f":"'Pivot Table Data'!F25","v":"Health Sciences East"},{"$f":"'Pivot Table Data'!P25","v":"Athena"},{"$f":"'Pivot Table Data'!I25","v":"L3"},{"$f":"'Pivot Table Data'!J25","v":"Accessible"},{"$f":"'Pivot Table Data'!K25","v":0},{"$f":"'Pivot Table Data'!L25","v":0},{"$f":"'Pivot Table Data'!S25","v":7},{"$f":"'Pivot Table Data'!T25","v":""},{"$f":"IF('Pivot Table Data'!O25=\"Yes\", 'Pivot Table Data'!T25, \"\")","v":""}]
[{"$f":"'Pivot Table Data'!B26","v":0},{"$f":"'Pivot Table Data'!F26","v":"Health Sciences East"},{"$f":"'Pivot Table Data'!P26","v":"Athena"},{"$f":"'Pivot Table Data'!I26","v":"L3"},{"$f":"'Pivot Table Data'!J26","v":"Accessible (Van)"},{"$f":"'Pivot Table Data'!K26","v":0},{"$f":"'Pivot Table Data'!L26","v":0},{"$f":"'Pivot Table Data'!S26","v":2},{"$f":"'Pivot Table Data'!T26","v":""},{"$f":"IF('Pivot Table Data'!O26=\"Yes\", 'Pivot Table Data'!T26, \"\")","v":""}]
[{"$f":"'Pivot Table Data'!B27","v":0},{"$f":"'Pivot Table Data'!F27","v":"Health Sciences East"},{"$f":"'Pivot Table Data'!P27","v":"Athena"},{"$f":"'Pivot Table Data'!I27","v":"L3"},{"$f":"'Pivot Table Data'!J27","v":"B"},{"$f":"'Pivot Table Data'!K27","v":0},{"$f":"'Pivot Table Data'!L27","v":0},{"$f":"'Pivot Table Data'!S27","v":0},{"$f":"'Pivot Table Data'!T27","v":540},{"$f":"IF('Pivot Table Data'!O27=\"Yes\", 'Pivot Table Data'!T27, \"\")","v":540}]
[{"$f":"'Pivot Table Data'!B28","v":0},{"$f":"'Pivot Table Data'!F28","v":"Health Sciences East"},{"$f":"'Pivot Table Data'!P28","v":"Athena"},{"$f":"'Pivot Table Data'!I28","v":"L3"},{"$f":"'Pivot Table Data'!J28","v":"Visitor"},{"$f":"'Pivot Table Data'!K28","v":0},{"$f":"'Pivot Table Data'!L28","v":0},{"$f":"'Pivot Table Data'!S28","v":58},{"$f":"'Pivot Table Data'!T28","v":""},{"$f":"IF('Pivot Table Data'!O28=\"Yes\", 'Pivot Table Data'!T28, \"\")","v":""}]
[{"$f":"'Pivot Table Data'!B29","v":0},{"$f":"'Pivot Table Data'!F29","v":"Health Sciences East"},{"$f":"'Pivot Table Data'!P29","v":"Athena"},{"$f":"'Pivot Table Data'!I29","v":"L4"},{"$f":"'Pivot Table Data'!J29","v":"A"},{"$f":"'Pivot Table Data'!K29","v":0},{"$f":"'Pivot Table Data'!L29","v":0},{"$f":"'Pivot Table Data'!S29","v":147},{"$f":"'Pivot Table Data'!T29","v":""},{"$f":"IF('Pivot Table Data'!O29=\"Yes\", 'Pivot Table Data'!T29, \"\")","v":""}]
[{"$f":"'Pivot Table Data'!B30","v":0},{"$f":"'Pivot Table Data'!F30","v":"Health Sciences East"},{"$f":"'Pivot Table Data'!P30","v":"Athena"},{"$f":"'Pivot Table Data'!I30","v":"L4"},{"$f":"'Pivot Table Data'!J30","v":"B"},{"$f":"'Pivot Table Data'!K30","v":0},{"$f":"'Pivot Table Data'!L30","v":0},{"$f":"'Pivot Table Data'!S30","v":76},{"$f":"'Pivot Table Data'!T30","v":""},{"$f":"IF('Pivot Table Data'!O30=\"Yes\", 'Pivot Table Data'!T30, \"\")","v":""}]
[{"$f":"'Pivot Table Data'!B31","v":0},{"$f":"'Pivot Table Data'!F31","v":"Health Sciences East"},{"$f":"'Pivot Table Data'!P31","v":"Athena"},{"$f":"'Pivot Table Data'!I31","v":"L4"},{"$f":"'Pivot Table Data'!J31","v":"Motorcycle Section"},{"$f":"'Pivot Table Data'!K31","v":0},{"$f":"'Pivot Table Data'!L31","v":0},{"$f":"'Pivot Table Data'!S31","v":5},{"$f":"'Pivot Table Data'!T31","v":""},{"$f":"IF('Pivot Table Data'!O31=\"Yes\", 'Pivot Table Data'!T31, \"\")","v":""}]
[{"$f":"'Pivot Table Data'!B32","v":0},{"$f":"'Pivot Table Data'!F32","v":"Health Sciences East"},{"$f":"'Pivot Table Data'!P32","v":"Athena"},{"$f":"'Pivot Table Data'!I32","v":"L4"},{"$f":"'Pivot Table Data'!J32","v":"Reserved"},{"$f":"'Pivot Table Data'!K32","v":0},{"$f":"'Pivot Table Data'!L32","v":0},{"$f":"'Pivot Table Data'!S32","v":6},{"$f":"'Pivot Table Data'!T32","v":6},{"$f":"IF('Pivot Table Data'!O32=\"Yes\", 'Pivot Table Data'!T32, \"\")","v":""}]
[{"$f":"'Pivot Table Data'!B33","v":0},{"$f":"'Pivot Table Data'!F33","v":"Health Sciences East"},{"$f":"'Pivot Table Data'!P33","v":"Athena"},{"$f":"'Pivot Table Data'!I33","v":"L5"},{"$f":"'Pivot Table Data'!J33","v":"B"},{"$f":"'Pivot Table Data'!K33","v":0},{"$f":"'Pivot Table Data'!L33","v":0},{"$f":"'Pivot Table Data'!S33","v":225},{"$f":"'Pivot Table Data'!T33","v":""},{"$f":"IF('Pivot Table Data'!O33=\"Yes\", 'Pivot Table Data'!T33, \"\")","v":""}]
[{"$f":"'Pivot Table Data'!B34","v":0},{"$f":"'Pivot Table Data'!F34","v":"Health Sciences East"},{"$f":"'Pivot Table Data'!P34","v":"Athena"},{"$f":"'Pivot Table Data'!I34","v":"L5"},{"$f":"'Pivot Table Data'!J34","v":"Electric Vehicle"},{"$f":"'Pivot Table Data'!K34","v":0},{"$f":"'Pivot Table Data'!L34","v":"12-Hour"},{"$f":"'Pivot Table Data'!S34","v":0},{"$f":"'Pivot Table Data'!T34","v":27},{"$f":"IF('Pivot Table Data'!O34=\"Yes\", 'Pivot Table Data'!T34, \"\")","v":""}]
[{"$f":"'Pivot Table Data'!B35","v":0},{"$f":"'Pivot Table Data'!F35","v":"Health Sciences East"},{"$f":"'Pivot Table Data'!P35","v":"Athena"},{"$f":"'Pivot Table Data'!I35","v":"L5"},{"$f":"'Pivot Table Data'!J35","v":"Motorcycle Section"},{"$f":"'Pivot Table Data'!K35","v":0},{"$f":"'Pivot Table Data'!L35","v":0},{"$f":"'Pivot Table Data'!S35","v":5},{"$f":"'Pivot Table Data'!T35","v":""},{"$f":"IF('Pivot Table Data'!O35=\"Yes\", 'Pivot Table Data'!T35, \"\")","v":""}]
[{"$f":"'Pivot Table Data'!B36","v":0},{"$f":"'Pivot Table Data'!F36","v":"Health Sciences East"},{"$f":"'Pivot Table Data'!P36","v":"Athena"},{"$f":"'Pivot Table Data'!I36","v":"L6"},{"$f":"'Pivot Table Data'!J36","v":"B"},{"$f":"'Pivot Table Data'!K36","v":0},{"$f":"'Pivot Table Data'!L36","v":0},{"$f":"'Pivot Table Data'!S36","v":133},{"$f":"'Pivot Table Data'!T36","v":""},{"$f":"IF('Pivot Table Data'!O36=\"Yes\", 'Pivot Table Data'!T36, \"\")","v":""}]
[{"$f":"'Pivot Table Data'!B37","v":0},{"$f":"'Pivot Table Data'!F37","v":"Health Sciences East"},{"$f":"'Pivot Table Data'!P37","v":"Athena"},{"$f":"'Pivot Table Data'!I37","v":"L6"},{"$f":"'Pivot Table Data'!J37","v":"Electric Vehicle"},{"$f":"'Pivot Table Data'!K37","v":0},{"$f":"'Pivot Table Data'!L37","v":"12-Hour"},{"$f":"'Pivot Table Data'!S37","v":27},{"$f":"'Pivot Table Data'!T37","v":""},{"$f":"IF('Pivot Table Data'!O37=\"Yes\", 'Pivot Table Data'!T37, \"\")","v":""}]
[{"$f":"'Pivot Table Data'!B38","v":0},{"$f":"'Pivot Table Data'!F38","v":"Health Sciences East"},{"$f":"'Pivot Table Data'!P38","v":"Athena"},{"$f":"'Pivot Table Data'!I38","v":"L6"},{"$f":"'Pivot Table Data'!J38","v":"Motorcycle Section"},{"$f":"'Pivot Table Data'!K38","v":0},{"$f":"'Pivot Table Data'!L38","v":0},{"$f":"'Pivot Table Data'!S38","v":8},{"$f":"'Pivot Table Data'!T38","v":""},{"$f":"IF('Pivot Table Data'!O38=\"Yes\", 'Pivot Table Data'!T38, \"\")","v":""}]
[{"$f":"'Pivot Table Data'!B39","v":0},{"$f":"'Pivot Table Data'!F39","v":"Health Sciences East"},{"$f":"'Pivot Table Data'!P39","v":"Athena"},{"$f":"'Pivot Table Data'!I39","v":"Roof"},{"$f":"'Pivot Table Data'!J39","v":"B"},{"$f":"'Pivot Table Data'!K39","v":0},{"$f":"'Pivot Table Data'!L39","v":0},{"$f":"'Pivot Table Data'!S39","v":106},{"$f":"'Pivot Table Data'!T39","v":""},{"$f":"IF('Pivot Table Data'!O39=\"Yes\", 'Pivot Table Data'!T39, \"\")","v":""}]
[{"$f":"'Pivot Table Data'!B40","v":0},{"$f":"'Pivot Table Data'!F40","v":"Health Sciences East"},{"$f":"'Pivot Table Data'!P40","v":"Campus Point East"},{"$f":"'Pivot Table Data'!I40","v":"L1"},{"$f":"'Pivot Table Data'!J40","v":"A"},{"$f":"'Pivot Table Data'!K40","v":"24/7 Enforced"},{"$f":"'Pivot Table Data'!L40","v":0},{"$f":"'Pivot Table Data'!S40","v":177},{"$f":"'Pivot Table Data'!T40","v":371},{"$f":"IF('Pivot Table Data'!O40=\"Yes\", 'Pivot Table Data'!T40, \"\")","v":371}]
[{"$f":"'Pivot Table Data'!B41","v":0},{"$f":"'Pivot Table Data'!F41","v":"Health Sciences East"},{"$f":"'Pivot Table Data'!P41","v":"Campus Point East"},{"$f":"'Pivot Table Data'!I41","v":"L2"},{"$f":"'Pivot Table Data'!J41","v":"A"},{"$f":"'Pivot Table Data'!K41","v":"24/7 Enforced"},{"$f":"'Pivot Table Data'!L41","v":0},{"$f":"'Pivot Table Data'!S41","v":194},{"$f":"'Pivot Table Data'!T41","v":""},{"$f":"IF('Pivot Table Data'!O41=\"Yes\", 'Pivot Table Data'!T41, \"\")","v":""}]
[{"$f":"'Pivot Table Data'!B42","v":0},{"$f":"'Pivot Table Data'!F42","v":"Health Sciences East"},{"$f":"'Pivot Table Data'!P42","v":"Campus Point East"},{"$f":"'Pivot Table Data'!I42","v":"L2"},{"$f":"'Pivot Table Data'!J42","v":"Accessible"},{"$f":"'Pivot Table Data'!K42","v":0},{"$f":"'Pivot Table Data'!L42","v":0},{"$f":"'Pivot Table Data'!S42","v":11},{"$f":"'Pivot Table Data'!T42","v":11},{"$f":"IF('Pivot Table Data'!O42=\"Yes\", 'Pivot Table Data'!T42, \"\")","v":""}]
[{"$f":"'Pivot Table Data'!B43","v":0},{"$f":"'Pivot Table Data'!F43","v":"Health Sciences East"},{"$f":"'Pivot Table Data'!P43","v":"Campus Point East"},{"$f":"'Pivot Table Data'!I43","v":"L2"},{"$f":"'Pivot Table Data'!J43","v":"Accessible (Van)"},{"$f":"'Pivot Table Data'!K43","v":0},{"$f":"'Pivot Table Data'!L43","v":0},{"$f":"'Pivot Table Data'!S43","v":1},{"$f":"'Pivot Table Data'!T43","v":1},{"$f":"IF('Pivot Table Data'!O43=\"Yes\", 'Pivot Table Data'!T43, \"\")","v":""}]
[{"$f":"'Pivot Table Data'!B44","v":0},{"$f":"'Pivot Table Data'!F44","v":"Health Sciences East"},{"$f":"'Pivot Table Data'!P44","v":"Campus Point East"},{"$f":"'Pivot Table Data'!I44","v":"L2"},{"$f":"'Pivot Table Data'!J44","v":"Electric Vehicle"},{"$f":"'Pivot Table Data'!K44","v":0},{"$f":"'Pivot Table Data'!L44","v":0},{"$f":"'Pivot Table Data'!S44","v":3},{"$f":"'Pivot Table Data'!T44","v":3},{"$f":"IF('Pivot Table Data'!O44=\"Yes\", 'Pivot Table Data'!T44, \"\")","v":""}]
[{"$f":"'Pivot Table Data'!B45","v":0},{"$f":"'Pivot Table Data'!F45","v":"Health Sciences East"},{"$f":"'Pivot Table Data'!P45","v":"Campus Point East"},{"$f":"'Pivot Table Data'!I45","v":"L2"},{"$f":"'Pivot Table Data'!J45","v":"Motorcycle Section"},{"$f":"'Pivot Table Data'!K45","v":0},{"$f":"'Pivot Table Data'!L45","v":0},{"$f":"'Pivot Table Data'!S45","v":8},{"$f":"'Pivot Table Data'!T45","v":8},{"$f":"IF('Pivot Table Data'!O45=\"Yes\", 'Pivot Table Data'!T45, \"\")","v":""}]
[{"$f":"'Pivot Table Data'!B46","v":0},{"$f":"'Pivot Table Data'!F46","v":"Health Sciences East"},{"$f":"'Pivot Table Data'!P46","v":"Campus Point East"},{"$f":"'Pivot Table Data'!I46","v":"L2"},{"$f":"'Pivot Table Data'!J46","v":"Reserved"},{"$f":"'Pivot Table Data'!K46","v":0},{"$f":"'Pivot Table Data'!L46","v":0},{"$f":"'Pivot Table Data'!S46","v":40},{"$f":"'Pivot Table Data'!T46","v":40},{"$f":"IF('Pivot Table Data'!O46=\"Yes\", 'Pivot Table Data'!T46, \"\")","v":""}]
[{"$f":"'Pivot Table Data'!B47","v":0},{"$f":"'Pivot Table Data'!F47","v":"Health Sciences East"},{"$f":"'Pivot Table Data'!P47","v":"Campus Point East"},{"$f":"'Pivot Table Data'!I47","v":"L3"},{"$f":"'Pivot Table Data'!J47","v":"Reserved"},{"$f":"'Pivot Table Data'!K47","v":"Valet"},{"$f":"'Pivot Table Data'!L47","v":0},{"$f":"'Pivot Table Data'!S47","v":127},{"$f":"'Pivot Table Data'!T47","v":127},{"$f":"IF('Pivot Table Data'!O47=\"Yes\", 'Pivot Table Data'!T47, \"\")","v":""}]
[{"$f":"'Pivot Table Data'!B48","v":0},{"$f":"'Pivot Table Data'!F48","v":"Health Sciences East"},{"$f":"'Pivot Table Data'!P48","v":"Campus Point East"},{"$f":"'Pivot Table Data'!I48","v":"L3"},{"$f":"'Pivot Table Data'!J48","v":"Visitor"},{"$f":"'Pivot Table Data'!K48","v":0},{"$f":"'Pivot Table Data'!L48","v":0},{"$f":"'Pivot Table Data'!S48","v":138},{"$f":"'Pivot Table Data'!T48","v":138},{"$f":"IF('Pivot Table Data'!O48=\"Yes\", 'Pivot Table Data'!T48, \"\")","v":138}]
[{"$f":"'Pivot Table Data'!B49","v":0},{"$f":"'Pivot Table Data'!F49","v":"Health Sciences East"},{"$f":"'Pivot Table Data'!P49","v":"Campus Point West"},{"$f":"'Pivot Table Data'!I49","v":"B3"},{"$f":"'Pivot Table Data'!J49","v":"Motorcycle Section"},{"$f":"'Pivot Table Data'!K49","v":0},{"$f":"'Pivot Table Data'!L49","v":0},{"$f":"'Pivot Table Data'!S49","v":0},{"$f":"'Pivot Table Data'!T49","v":0},{"$f":"IF('Pivot Table Data'!O49=\"Yes\", 'Pivot Table Data'!T49, \"\")","v":""}]
[{"$f":"'Pivot Table Data'!B50","v":0},{"$f":"'Pivot Table Data'!F50","v":"Health Sciences East"},{"$f":"'Pivot Table Data'!P50","v":"Campus Point West"},{"$f":"'Pivot Table Data'!I50","v":"B3"},{"$f":"'Pivot Table Data'!J50","v":"Visitor"},{"$f":"'Pivot Table Data'!K50","v":0},{"$f":"'Pivot Table Data'!L50","v":0},{"$f":"'Pivot Table Data'!S50","v":130},{"$f":"'Pivot Table Data'!T50","v":611},{"$f":"IF('Pivot Table Data'!O50=\"Yes\", 'Pivot Table Data'!T50, \"\")","v":611}]
[{"$f":"'Pivot Table Data'!B51","v":0},{"$f":"'Pivot Table Data'!F51","v":"Health Sciences East"},{"$f":"'Pivot Table Data'!P51","v":"Campus Point West"},{"$f":"'Pivot Table Data'!I51","v":"B2"},{"$f":"'Pivot Table Data'!J51","v":"Motorcycle Section"},{"$f":"'Pivot Table Data'!K51","v":0},{"$f":"'Pivot Table Data'!L51","v":0},{"$f":"'Pivot Table Data'!S51","v":0},{"$f":"'Pivot Table Data'!T51","v":""},{"$f":"IF('Pivot Table Data'!O51=\"Yes\", 'Pivot Table Data'!T51, \"\")","v":""}]
[{"$f":"'Pivot Table Data'!B52","v":0},{"$f":"'Pivot Table Data'!F52","v":"Health Sciences East"},{"$f":"'Pivot Table Data'!P52","v":"Campus Point West"},{"$f":"'Pivot Table Data'!I52","v":"B2"},{"$f":"'Pivot Table Data'!J52","v":"Visitor"},{"$f":"'Pivot Table Data'!K52","v":0},{"$f":"'Pivot Table Data'!L52","v":0},{"$f":"'Pivot Table Data'!S52","v":181},{"$f":"'Pivot Table Data'!T52","v":""},{"$f":"IF('Pivot Table Data'!O52=\"Yes\", 'Pivot Table Data'!T52, \"\")","v":""}]
[{"$f":"'Pivot Table Data'!B53","v":0},{"$f":"'Pivot Table Data'!F53","v":"Health Sciences East"},{"$f":"'Pivot Table Data'!P53","v":"Campus Point West"},{"$f":"'Pivot Table Data'!I53","v":"B1"},{"$f":"'Pivot Table Data'!J53","v":"Accessible"},{"$f":"'Pivot Table Data'!K53","v":0},{"$f":"'Pivot Table Data'!L53","v":0},{"$f":"'Pivot Table Data'!S53","v":31},{"$f":"'Pivot Table Data'!T53","v":87},{"$f":"IF('Pivot Table Data'!O53=\"Yes\", 'Pivot Table Data'!T53, \"\")","v":""}]
[{"$f":"'Pivot Table Data'!B54","v":0},{"$f":"'Pivot Table Data'!F54","v":"Health Sciences East"},{"$f":"'Pivot Table Data'!P54","v":"Campus Point West"},{"$f":"'Pivot Table Data'!I54","v":"B1"},{"$f":"'Pivot Table Data'!J54","v":"Accessible (Van)"},{"$f":"'Pivot Table Data'!K54","v":0},{"$f":"'Pivot Table Data'!L54","v":0},{"$f":"'Pivot Table Data'!S54","v":6},{"$f":"'Pivot Table Data'!T54","v":17},{"$f":"IF('Pivot Table Data'!O54=\"Yes\", 'Pivot Table Data'!T54, \"\")","v":""}]
[{"$f":"'Pivot Table Data'!B55","v":0},{"$f":"'Pivot Table Data'!F55","v":"Health Sciences East"},{"$f":"'Pivot Table Data'!P55","v":"Campus Point West"},{"$f":"'Pivot Table Data'!I55","v":"B1"},{"$f":"'Pivot Table Data'!J55","v":"Electric Vehicle"},{"$f":"'Pivot Table Data'!K55","v":0},{"$f":"'Pivot Table Data'!L55","v":0},{"$f":"'Pivot Table Data'!S55","v":6},{"$f":"'Pivot Table Data'!T55","v":6},{"$f":"IF('Pivot Table Data'!O55=\"Yes\", 'Pivot Table Data'!T55, \"\")","v":""}]
[{"$f":"'Pivot Table Data'!B56","v":0},{"$f":"'Pivot Table Data'!F56","v":"Health Sciences East"},{"$f":"'Pivot Table Data'!P56","v":"Campus Point West"},{"$f":"'Pivot Table Data'!I56","v":"B1"},{"$f":"'Pivot Table Data'!J56","v":"Visitor"},{"$f":"'Pivot Table Data'!K56","v":0},{"$f":"'Pivot Table Data'!L56","v":0},{"$f":"'Pivot Table Data'!S56","v":109},{"$f":"'Pivot Table Data'!T56","v":""},{"$f":"IF('Pivot Table Data'!O56=\"Yes\", 'Pivot Table Data'!T56, \"\")","v":""}]
[{"$f":"'Pivot Table Data'!B57","v":0},{"$f":"'Pivot Table Data'!F57","v":"Health Sciences East"},{"$f":"'Pivot Table Data'!P57","v":"Campus Point West"},{"$f":"'Pivot Table Data'!I57","v":"Ground Floor"},{"$f":"'Pivot Table Data'!J57","v":"A"},{"$f":"'Pivot Table Data'!K57","v":"24/7 Enforced"},{"$f":"'Pivot Table Data'!L57","v":0},{"$f":"'Pivot Table Data'!S57","v":7},{"$f":"'Pivot Table Data'!T57","v":7},{"$f":"IF('Pivot Table Data'!O57=\"Yes\", 'Pivot Table Data'!T57, \"\")","v":7}]
[{"$f":"'Pivot Table Data'!B58","v":0},{"$f":"'Pivot Table Data'!F58","v":"Health Sciences East"},{"$f":"'Pivot Table Data'!P58","v":"Campus Point West"},{"$f":"'Pivot Table Data'!I58","v":"Ground Floor"},{"$f":"'Pivot Table Data'!J58","v":"Accessible"},{"$f":"'Pivot Table Data'!K58","v":0},{"$f":"'Pivot Table Data'!L58","v":0},{"$f":"'Pivot Table Data'!S58","v":24},{"$f":"'Pivot Table Data'!T58","v":""},{"$f":"IF('Pivot Table Data'!O58=\"Yes\", 'Pivot Table Data'!T58, \"\")","v":""}]
[{"$f":"'Pivot Table Data'!B59","v":0},{"$f":"'Pivot Table Data'!F59","v":"Health Sciences East"},{"$f":"'Pivot Table Data'!P59","v":"Campus Point West"},{"$f":"'Pivot Table Data'!I59","v":"Ground Floor"},{"$f":"'Pivot Table Data'!J59","v":"Accessible (Van)"},{"$f":"'Pivot Table Data'!K59","v":0},{"$f":"'Pivot Table Data'!L59","v":0},{"$f":"'Pivot Table Data'!S59","v":7},{"$f":"'Pivot Table Data'!T59","v":""},{"$f":"IF('Pivot Table Data'!O59=\"Yes\", 'Pivot Table Data'!T59, \"\")","v":""}]
[{"$f":"'Pivot Table Data'!B60","v":0},{"$f":"'Pivot Table Data'!F60","v":"Health Sciences East"},{"$f":"'Pivot Table Data'!P60","v":"Campus Point West"},{"$f":"'Pivot Table Data'!I60","v":"Ground Floor"},{"$f":"'Pivot Table Data'!J60","v":"Motorcycle Section"},{"$f":"'Pivot Table Data'!K60","v":0},{"$f":"'Pivot Table Data'!L60","v":0},{"$f":"'Pivot Table Data'!S60","v":0},{"$f":"'Pivot Table Data'!T60","v":""},{"$f":"IF('Pivot Table Data'!O60=\"Yes\", 'Pivot Table Data'!T60, \"\")","v":""}]
[{"$f":"'Pivot Table Data'!B61","v":0},{"$f":"'Pivot Table Data'!F61","v":"Health Sciences East"},{"$f":"'Pivot Table Data'!P61","v":"Campus Point West"},{"$f":"'Pivot Table Data'!I61","v":"Ground Floor"},{"$f":"'Pivot Table Data'!J61","v":"Reserved"},{"$f":"'Pivot Table Data'!K61","v":"Emergency Room"},{"$f":"'Pivot Table Data'!L61","v":0},{"$f":"'Pivot Table Data'!S61","v":10},{"$f":"'Pivot Table Data'!T61","v":10},{"$f":"IF('Pivot Table Data'!O61=\"Yes\", 'Pivot Table Data'!T61, \"\")","v":""}]
[{"$f":"'Pivot Table Data'!B62","v":0},{"$f":"'Pivot Table Data'!F62","v":"Health Sciences East"},{"$f":"'Pivot Table Data'!P62","v":"Campus Point West"},{"$f":"'Pivot Table Data'!I62","v":"Ground Floor"},{"$f":"'Pivot Table Data'!J62","v":"Reserved"},{"$f":"'Pivot Table Data'!K62","v":0},{"$f":"'Pivot Table Data'!L62","v":0},{"$f":"'Pivot Table Data'!S62","v":6},{"$f":"'Pivot Table Data'!T62","v":18},{"$f":"IF('Pivot Table Data'!O62=\"Yes\", 'Pivot Table Data'!T62, \"\")","v":""}]
[{"$f":"'Pivot Table Data'!B63","v":0},{"$f":"'Pivot Table Data'!F63","v":"Health Sciences East"},{"$f":"'Pivot Table Data'!P63","v":"Campus Point West"},{"$f":"'Pivot Table Data'!I63","v":"Ground Floor"},{"$f":"'Pivot Table Data'!J63","v":"Reserved"},{"$f":"'Pivot Table Data'!K63","v":0},{"$f":"'Pivot Table Data'!L63","v":0},{"$f":"'Pivot Table Data'!S63","v":2},{"$f":"'Pivot Table Data'!T63","v":""},{"$f":"IF('Pivot Table Data'!O63=\"Yes\", 'Pivot Table Data'!T63, \"\")","v":""}]
[{"$f":"'Pivot Table Data'!B64","v":0},{"$f":"'Pivot Table Data'!F64","v":"Health Sciences East"},{"$f":"'Pivot Table Data'!P64","v":"Campus Point West"},{"$f":"'Pivot Table Data'!I64","v":"Ground Floor"},{"$f":"'Pivot Table Data'!J64","v":"Reserved"},{"$f":"'Pivot Table Data'!K64","v":0},{"$f":"'Pivot Table Data'!L64","v":0},{"$f":"'Pivot Table Data'!S64","v":10},{"$f":"'Pivot Table Data'!T64","v":""},{"$f":"IF('Pivot Table Data'!O64=\"Yes\", 'Pivot Table Data'!T64, \"\")","v":""}]
[{"$f":"'Pivot Table Data'!B65","v":0},{"$f":"'Pivot Table Data'!F65","v":"Health Sciences East"},{"$f":"'Pivot Table Data'!P65","v":"Campus Point West"},{"$f":"'Pivot Table Data'!I65","v":"Ground Floor"},{"$f":"'Pivot Table Data'!J65","v":"Visitor"},{"$f":"'Pivot Table Data'!K65","v":"Patient/Visitor Reserved"},{"$f":"'Pivot Table Data'!L65","v":"30 minutes"},{"$f":"'Pivot Table Data'!S65","v":1},{"$f":"'Pivot Table Data'!T65","v":1},{"$f":"IF('Pivot Table Data'!O65=\"Yes\", 'Pivot Table Data'!T65, \"\")","v":1}]
[{"$f":"'Pivot Table Data'!B66","v":0},{"$f":"'Pivot Table Data'!F66","v":"Health Sciences East"},{"$f":"'Pivot Table Data'!P66","v":"Campus Point West"},{"$f":"'Pivot Table Data'!I66","v":"Ground Floor"},{"$f":"'Pivot Table Data'!J66","v":"Visitor"},{"$f":"'Pivot Table Data'!K66","v":0},{"$f":"'Pivot Table Data'!L66","v":0},{"$f":"'Pivot Table Data'!S66","v":47},{"$f":"'Pivot Table Data'!T66","v":""},{"$f":"IF('Pivot Table Data'!O66=\"Yes\", 'Pivot Table Data'!T66, \"\")","v":""}]
[{"$f":"'Pivot Table Data'!B67","v":0},{"$f":"'Pivot Table Data'!F67","v":"Health Sciences East"},{"$f":"'Pivot Table Data'!P67","v":"Campus Point West"},{"$f":"'Pivot Table Data'!I67","v":"Ground Floor"},{"$f":"'Pivot Table Data'!J67","v":"Visitor"},{"$f":"'Pivot Table Data'!K67","v":0},{"$f":"'Pivot Table Data'!L67","v":0},{"$f":"'Pivot Table Data'!S67","v":18},{"$f":"'Pivot Table Data'!T67","v":""},{"$f":"IF('Pivot Table Data'!O67=\"Yes\", 'Pivot Table Data'!T67, \"\")","v":""}]
[{"$f":"'Pivot Table Data'!B68","v":0},{"$f":"'Pivot Table Data'!F68","v":"Health Sciences East"},{"$f":"'Pivot Table Data'!P68","v":"Campus Point West"},{"$f":"'Pivot Table Data'!I68","v":"Roof"},{"$f":"'Pivot Table Data'!J68","v":"Accessible"},{"$f":"'Pivot Table Data'!K68","v":0},{"$f":"'Pivot Table Data'!L68","v":0},{"$f":"'Pivot Table Data'!S68","v":32},{"$f":"'Pivot Table Data'!T68","v":""},{"$f":"IF('Pivot Table Data'!O68=\"Yes\", 'Pivot Table Data'!T68, \"\")","v":""}]
[{"$f":"'Pivot Table Data'!B69","v":0},{"$f":"'Pivot Table Data'!F69","v":"Health Sciences East"},{"$f":"'Pivot Table Data'!P69","v":"Campus Point West"},{"$f":"'Pivot Table Data'!I69","v":"Roof"},{"$f":"'Pivot Table Data'!J69","v":"Accessible (Van)"},{"$f":"'Pivot Table Data'!K69","v":0},{"$f":"'Pivot Table Data'!L69","v":0},{"$f":"'Pivot Table Data'!S69","v":4},{"$f":"'Pivot Table Data'!T69","v":""},{"$f":"IF('Pivot Table Data'!O69=\"Yes\", 'Pivot Table Data'!T69, \"\")","v":""}]
[{"$f":"'Pivot Table Data'!B70","v":0},{"$f":"'Pivot Table Data'!F70","v":"Health Sciences East"},{"$f":"'Pivot Table Data'!P70","v":"Campus Point West"},{"$f":"'Pivot Table Data'!I70","v":"Roof"},{"$f":"'Pivot Table Data'!J70","v":"Motorcycle Section"},{"$f":"'Pivot Table Data'!K70","v":0},{"$f":"'Pivot Table Data'!L70","v":0},{"$f":"'Pivot Table Data'!S70","v":0},{"$f":"'Pivot Table Data'!T70","v":""},{"$f":"IF('Pivot Table Data'!O70=\"Yes\", 'Pivot Table Data'!T70, \"\")","v":""}]
[{"$f":"'Pivot Table Data'!B71","v":0},{"$f":"'Pivot Table Data'!F71","v":"Health Sciences East"},{"$f":"'Pivot Table Data'!P71","v":"Campus Point West"},{"$f":"'Pivot Table Data'!I71","v":"Roof"},{"$f":"'Pivot Table Data'!J71","v":"Visitor"},{"$f":"'Pivot Table Data'!K71","v":0},{"$f":"'Pivot Table Data'!L71","v":0},{"$f":"'Pivot Table Data'!S71","v":126},{"$f":"'Pivot Table Data'!T71","v":""},{"$f":"IF('Pivot Table Data'!O71=\"Yes\", 'Pivot Table Data'!T71, \"\")","v":""}]
[{"$f":"'Pivot Table Data'!B72","v":0},{"$f":"'Pivot Table Data'!F72","v":"Health Sciences East"},{"$f":"'Pivot Table Data'!P72","v":"Curb"},{"$f":"'Pivot Table Data'!I72","v":"-"},{"$f":"'Pivot Table Data'!J72","v":0},{"$f":"'Pivot Table Data'!K72","v":0},{"$f":"'Pivot Table Data'!L72","v":0},{"$f":"'Pivot Table Data'!S72","v":0},{"$f":"'Pivot Table Data'!T72","v":0},{"$f":"IF('Pivot Table Data'!O72=\"Yes\", 'Pivot Table Data'!T72, \"\")","v":""}]
[{"$f":"'Pivot Table Data'!B73","v":0},{"$f":"'Pivot Table Data'!F73","v":"Science Research Park"},{"$f":"'Pivot Table Data'!P73","v":"Mesa Canyon"},{"$f":"'Pivot Table Data'!I73","v":"Ground"},{"$f":"'Pivot Table Data'!J73","v":"Accessible"},{"$f":"'Pivot Table Data'!K73","v":0},{"$f":"'Pivot Table Data'!L73","v":0},{"$f":"'Pivot Table Data'!S73","v":5},{"$f":"'Pivot Table Data'!T73","v":12},{"$f":"IF('Pivot Table Data'!O73=\"Yes\", 'Pivot Table Data'!T73, \"\")","v":""}]
[{"$f":"'Pivot Table Data'!B74","v":0},{"$f":"'Pivot Table Data'!F74","v":"Science Research Park"},{"$f":"'Pivot Table Data'!P74","v":"Mesa Canyon"},{"$f":"'Pivot Table Data'!I74","v":"Ground"},{"$f":"'Pivot Table Data'!J74","v":"Accessible (Van)"},{"$f":"'Pivot Table Data'!K74","v":0},{"$f":"'Pivot Table Data'!L74","v":0},{"$f":"'Pivot Table Data'!S74","v":2},{"$f":"'Pivot Table Data'!T74","v":5},{"$f":"IF('Pivot Table Data'!O74=\"Yes\", 'Pivot Table Data'!T74, \"\")","v":""}]
[{"$f":"'Pivot Table Data'!B75","v":0},{"$f":"'Pivot Table Data'!F75","v":"Science Research Park"},{"$f":"'Pivot Table Data'!P75","v":"Mesa Canyon"},{"$f":"'Pivot Table Data'!I75","v":"Ground"},{"$f":"'Pivot Table Data'!J75","v":"B"},{"$f":"'Pivot Table Data'!K75","v":0},{"$f":"'Pivot Table Data'!L75","v":0},{"$f":"'Pivot Table Data'!S75","v":148},{"$f":"'Pivot Table Data'!T75","v":497},{"$f":"IF('Pivot Table Data'!O75=\"Yes\", 'Pivot Table Data'!T75, \"\")","v":497}]
[{"$f":"'Pivot Table Data'!B76","v":0},{"$f":"'Pivot Table Data'!F76","v":"Science Research Park"},{"$f":"'Pivot Table Data'!P76","v":"Mesa Canyon"},{"$f":"'Pivot Table Data'!I76","v":"Ground"},{"$f":"'Pivot Table Data'!J76","v":"Electric Vehicle"},{"$f":"'Pivot Table Data'!K76","v":0},{"$f":"'Pivot Table Data'!L76","v":0},{"$f":"'Pivot Table Data'!S76","v":18},{"$f":"'Pivot Table Data'!T76","v":33},{"$f":"IF('Pivot Table Data'!O76=\"Yes\", 'Pivot Table Data'!T76, \"\")","v":""}]
[{"$f":"'Pivot Table Data'!B77","v":0},{"$f":"'Pivot Table Data'!F77","v":"Science Research Park"},{"$f":"'Pivot Table Data'!P77","v":"Mesa Canyon"},{"$f":"'Pivot Table Data'!I77","v":"Ground"},{"$f":"'Pivot Table Data'!J77","v":"G"},{"$f":"'Pivot Table Data'!K77","v":0},{"$f":"'Pivot Table Data'!L77","v":0},{"$f":"'Pivot Table Data'!S77","v":0},{"$f":"'Pivot Table Data'!T77","v":578},{"$f":"IF('Pivot Table Data'!O77=\"Yes\", 'Pivot Table Data'!T77, \"\")","v":""}]
[{"$f":"'Pivot Table Data'!B78","v":0},{"$f":"'Pivot Table Data'!F78","v":"Science Research Park"},{"$f":"'Pivot Table Data'!P78","v":"Mesa Canyon"},{"$f":"'Pivot Table Data'!I78","v":"Ground"},{"$f":"'Pivot Table Data'!J78","v":"Motorcycle Section"},{"$f":"'Pivot Table Data'!K78","v":0},{"$f":"'Pivot Table Data'!L78","v":0},{"$f":"'Pivot Table Data'!S78","v":6},{"$f":"'Pivot Table Data'!T78","v":16},{"$f":"IF('Pivot Table Data'!O78=\"Yes\", 'Pivot Table Data'!T78, \"\")","v":""}]
[{"$f":"'Pivot Table Data'!B79","v":0},{"$f":"'Pivot Table Data'!F79","v":"Science Research Park"},{"$f":"'Pivot Table Data'!P79","v":"Mesa Canyon"},{"$f":"'Pivot Table Data'!I79","v":"L2"},{"$f":"'Pivot Table Data'!J79","v":"Accessible"},{"$f":"'Pivot Table Data'!K79","v":0},{"$f":"'Pivot Table Data'!L79","v":0},{"$f":"'Pivot Table Data'!S79","v":4},{"$f":"'Pivot Table Data'!T79","v":""},{"$f":"IF('Pivot Table Data'!O79=\"Yes\", 'Pivot Table Data'!T79, \"\")","v":""}]
[{"$f":"'Pivot Table Data'!B80","v":0},{"$f":"'Pivot Table Data'!F80","v":"Science Research Park"},{"$f":"'Pivot Table Data'!P80","v":"Mesa Canyon"},{"$f":"'Pivot Table Data'!I80","v":"L2"},{"$f":"'Pivot Table Data'!J80","v":"Accessible (Van)"},{"$f":"'Pivot Table Data'!K80","v":0},{"$f":"'Pivot Table Data'!L80","v":0},{"$f":"'Pivot Table Data'!S80","v":1},{"$f":"'Pivot Table Data'!T80","v":""},{"$f":"IF('Pivot Table Data'!O80=\"Yes\", 'Pivot Table Data'!T80, \"\")","v":""}]
[{"$f":"'Pivot Table Data'!B81","v":0},{"$f":"'Pivot Table Data'!F81","v":"Science Research Park"},{"$f":"'Pivot Table Data'!P81","v":"Mesa Canyon"},{"$f":"'Pivot Table Data'!I81","v":"L2"},{"$f":"'Pivot Table Data'!J81","v":"B"},{"$f":"'Pivot Table Data'!K81","v":0},{"$f":"'Pivot Table Data'!L81","v":0},{"$f":"'Pivot Table Data'!S81","v":218},{"$f":"'Pivot Table Data'!T81","v":""},{"$f":"IF('Pivot Table Data'!O81=\"Yes\", 'Pivot Table Data'!T81, \"\")","v":""}]
[{"$f":"'Pivot Table Data'!B82","v":0},{"$f":"'Pivot Table Data'!F82","v":"Science Research Park"},{"$f":"'Pivot Table Data'!P82","v":"Mesa Canyon"},{"$f":"'Pivot Table Data'!I82","v":"L2"},{"$f":"'Pivot Table Data'!J82","v":"Electric Vehicle"},{"$f":"'Pivot Table Data'!K82","v":0},{"$f":"'Pivot Table Data'!L82","v":0},{"$f":"'Pivot Table Data'!S82","v":6},{"$f":"'Pivot Table Data'!T82","v":""},{"$f":"IF('Pivot Table Data'!O82=\"Yes\", 'Pivot Table Data'!T82, \"\")","v":""}]
[{"$f":"'Pivot Table Data'!B83","v":0},{"$f":"'Pivot Table Data'!F83","v":"Science Research Park"},{"$f":"'Pivot Table Data'!P83","v":"Mesa Canyon"},{"$f":"'Pivot Table Data'!I83","v":"L2"},{"$f":"'Pivot Table Data'!J83","v":"G"},{"$f":"'Pivot Table Data'!K83","v":0},{"$f":"'Pivot Table Data'!L83","v":0},{"$f":"'Pivot Table Data'!S83","v":0},{"$f":"'Pivot Table Data'!T83","v":""},{"$f":"IF('Pivot Table Data'!O83=\"Yes\", 'Pivot Table Data'!T83, \"\")","v":""}]
[{"$f":"'Pivot Table Data'!B84","v":0},{"$f":"'Pivot Table Data'!F84","v":"Science Research Park"},{"$f":"'Pivot Table Data'!P84","v":"Mesa Canyon"},{"$f":"'Pivot Table Data'!I84","v":"L2"},{"$f":"'Pivot Table Data'!J84","v":"Motorcycle Section"},{"$f":"'Pivot Table Data'!K84","v":0},{"$f":"'Pivot Table Data'!L84","v":0},{"$f":"'Pivot Table Data'!S84","v":0},{"$f":"'Pivot Table Data'!T84","v":""},{"$f":"IF('Pivot Table Data'!O84=\"Yes\", 'Pivot Table Data'!T84, \"\")","v":""}]
[{"$f":"'Pivot Table Data'!B85","v":0},{"$f":"'Pivot Table Data'!F85","v":"Science Research Park"},{"$f":"'Pivot Table Data'!P85","v":"Mesa Canyon"},{"$f":"'Pivot Table Data'!I85","v":"L3"},{"$f":"'Pivot Table Data'!J85","v":"Accessible"},{"$f":"'Pivot Table Data'!K85","v":0},{"$f":"'Pivot Table Data'!L85","v":0},{"$f":"'Pivot Table Data'!S85","v":3},{"$f":"'Pivot Table Data'!T85","v":""},{"$f":"IF('Pivot Table Data'!O85=\"Yes\", 'Pivot Table Data'!T85, \"\")","v":""}]
[{"$f":"'Pivot Table Data'!B86","v":0},{"$f":"'Pivot Table Data'!F86","v":"Science Research Park"},{"$f":"'Pivot Table Data'!P86","v":"Mesa Canyon"},{"$f":"'Pivot Table Data'!I86","v":"L3"},{"$f":"'Pivot Table Data'!J86","v":"Accessible (Van)"},{"$f":"'Pivot Table Data'!K86","v":0},{"$f":"'Pivot Table Data'!L86","v":0},{"$f":"'Pivot Table Data'!S86","v":2},{"$f":"'Pivot Table Data'!T86","v":""},{"$f":"IF('Pivot Table Data'!O86=\"Yes\", 'Pivot Table Data'!T86, \"\")","v":""}]
[{"$f":"'Pivot Table Data'!B87","v":0},{"$f":"'Pivot Table Data'!F87","v":"Science Research Park"},{"$f":"'Pivot Table Data'!P87","v":"Mesa Canyon"},{"$f":"'Pivot Table Data'!I87","v":"L3"},{"$f":"'Pivot Table Data'!J87","v":"B"},{"$f":"'Pivot Table Data'!K87","v":0},{"$f":"'Pivot Table Data'!L87","v":0},{"$f":"'Pivot Table Data'!S87","v":131},{"$f":"'Pivot Table Data'!T87","v":""},{"$f":"IF('Pivot Table Data'!O87=\"Yes\", 'Pivot Table Data'!T87, \"\")","v":""}]
[{"$f":"'Pivot Table Data'!B88","v":0},{"$f":"'Pivot Table Data'!F88","v":"Science Research Park"},{"$f":"'Pivot Table Data'!P88","v":"Mesa Canyon"},{"$f":"'Pivot Table Data'!I88","v":"L3"},{"$f":"'Pivot Table Data'!J88","v":"Electric Vehicle"},{"$f":"'Pivot Table Data'!K88","v":0},{"$f":"'Pivot Table Data'!L88","v":0},{"$f":"'Pivot Table Data'!S88","v":7},{"$f":"'Pivot Table Data'!T88","v":""},{"$f":"IF('Pivot Table Data'!O88=\"Yes\", 'Pivot Table Data'!T88, \"\")","v":""}]
[{"$f":"'Pivot Table Data'!B89","v":0},{"$f":"'Pivot Table Data'!F89","v":"Science Research Park"},{"$f":"'Pivot Table Data'!P89","v":"Mesa Canyon"},{"$f":"'Pivot Table Data'!I89","v":"L3"},{"$f":"'Pivot Table Data'!J89","v":"G"},{"$f":"'Pivot Table Data'!K89","v":0},{"$f":"'Pivot Table Data'!L89","v":0},{"$f":"'Pivot Table Data'!S89","v":0},{"$f":"'Pivot Table Data'!T89","v":""},{"$f":"IF('Pivot Table Data'!O89=\"Yes\", 'Pivot Table Data'!T89, \"\")","v":""}]
[{"$f":"'Pivot Table Data'!B90","v":0},{"$f":"'Pivot Table Data'!F90","v":"Science Research Park"},{"$f":"'Pivot Table Data'!P90","v":"Mesa Canyon"},{"$f":"'Pivot Table Data'!I90","v":"L3"},{"$f":"'Pivot Table Data'!J90","v":"Motorcycle Section"},{"$f":"'Pivot Table Data'!K90","v":0},{"$f":"'Pivot Table Data'!L90","v":0},{"$f":"'Pivot Table Data'!S90","v":10},{"$f":"'Pivot Table Data'!T90","v":""},{"$f":"IF('Pivot Table Data'!O90=\"Yes\", 'Pivot Table Data'!T90, \"\")","v":""}]
[{"$f":"'Pivot Table Data'!B91","v":0},{"$f":"'Pivot Table Data'!F91","v":"Science Research Park"},{"$f":"'Pivot Table Data'!P91","v":"Mesa Canyon"},{"$f":"'Pivot Table Data'!I91","v":"L4"},{"$f":"'Pivot Table Data'!J91","v":"Accessible"},{"$f":"'Pivot Table Data'!K91","v":0},{"$f":"'Pivot Table Data'!L91","v":0},{"$f":"'Pivot Table Data'!S91","v":0},{"$f":"'Pivot Table Data'!T91","v":""},{"$f":"IF('Pivot Table Data'!O91=\"Yes\", 'Pivot Table Data'!T91, \"\")","v":""}]
[{"$f":"'Pivot Table Data'!B92","v":0},{"$f":"'Pivot Table Data'!F92","v":"Science Research Park"},{"$f":"'Pivot Table Data'!P92","v":"Mesa Canyon"},{"$f":"'Pivot Table Data'!I92","v":"L4"},{"$f":"'Pivot Table Data'!J92","v":"Accessible (Van)"},{"$f":"'Pivot Table Data'!K92","v":0},{"$f":"'Pivot Table Data'!L92","v":0},{"$f":"'Pivot Table Data'!S92","v":0},{"$f":"'Pivot Table Data'!T92","v":""},{"$f":"IF('Pivot Table Data'!O92=\"Yes\", 'Pivot Table Data'!T92, \"\")","v":""}]
[{"$f":"'Pivot Table Data'!B93","v":0},{"$f":"'Pivot Table Data'!F93","v":"Science Research Park"},{"$f":"'Pivot Table Data'!P93","v":"Mesa Canyon"},{"$f":"'Pivot Table Data'!I93","v":"L4"},{"$f":"'Pivot Table Data'!J93","v":"B"},{"$f":"'Pivot Table Data'!K93","v":0},{"$f":"'Pivot Table Data'!L93","v":0},{"$f":"'Pivot Table Data'!S93","v":0},{"$f":"'Pivot Table Data'!T93","v":""},{"$f":"IF('Pivot Table Data'!O93=\"Yes\", 'Pivot Table Data'!T93, \"\")","v":""}]
[{"$f":"'Pivot Table Data'!B94","v":0},{"$f":"'Pivot Table Data'!F94","v":"Science Research Park"},{"$f":"'Pivot Table Data'!P94","v":"Mesa Canyon"},{"$f":"'Pivot Table Data'!I94","v":"L4"},{"$f":"'Pivot Table Data'!J94","v":"Electric Vehicle"},{"$f":"'Pivot Table Data'!K94","v":0},{"$f":"'Pivot Table Data'!L94","v":0},{"$f":"'Pivot Table Data'!S94","v":2},{"$f":"'Pivot Table Data'!T94","v":""},{"$f":"IF('Pivot Table Data'!O94=\"Yes\", 'Pivot Table Data'!T94, \"\")","v":""}]
[{"$f":"'Pivot Table Data'!B95","v":0},{"$f":"'Pivot Table Data'!F95","v":"Science Research Park"},{"$f":"'Pivot Table Data'!P95","v":"Mesa Canyon"},{"$f":"'Pivot Table Data'!I95","v":"L4"},{"$f":"'Pivot Table Data'!J95","v":"G"},{"$f":"'Pivot Table Data'!K95","v":0},{"$f":"'Pivot Table Data'!L95","v":0},{"$f":"'Pivot Table Data'!S95","v":144},{"$f":"'Pivot Table Data'!T95","v":""},{"$f":"IF('Pivot Table Data'!O95=\"Yes\", 'Pivot Table Data'!T95, \"\")","v":""}]
[{"$f":"'Pivot Table Data'!B96","v":0},{"$f":"'Pivot Table Data'!F96","v":"Science Research Park"},{"$f":"'Pivot Table Data'!P96","v":"Mesa Canyon"},{"$f":"'Pivot Table Data'!I96","v":"L4"},{"$f":"'Pivot Table Data'!J96","v":"Motorcycle Section"},{"$f":"'Pivot Table Data'!K96","v":0},{"$f":"'Pivot Table Data'!L96","v":0},{"$f":"'Pivot Table Data'!S96","v":0},{"$f":"'Pivot Table Data'!T96","v":""},{"$f":"IF('Pivot Table Data'!O96=\"Yes\", 'Pivot Table Data'!T96, \"\")","v":""}]
[{"$f":"'Pivot Table Data'!B97","v":0},{"$f":"'Pivot Table Data'!F97","v":"Science Research Park"},{"$f":"'Pivot Table Data'!P97","v":"Mesa Canyon"},{"$f":"'Pivot Table Data'!I97","v":"L5"},{"$f":"'Pivot Table Data'!J97","v":"Accessible"},{"$f":"'Pivot Table Data'!K97","v":0},{"$f":"'Pivot Table Data'!L97","v":0},{"$f":"'Pivot Table Data'!S97","v":0},{"$f":"'Pivot Table Data'!T97","v":""},{"$f":"IF('Pivot Table Data'!O97=\"Yes\", 'Pivot Table Data'!T97, \"\")","v":""}]
[{"$f":"'Pivot Table Data'!B98","v":0},{"$f":"'Pivot Table Data'!F98","v":"Science Research Park"},{"$f":"'Pivot Table Data'!P98","v":"Mesa Canyon"},{"$f":"'Pivot Table Data'!I98","v":"L5"},{"$f":"'Pivot Table Data'!J98","v":"Accessible (Van)"},{"$f":"'Pivot Table Data'!K98","v":0},{"$f":"'Pivot Table Data'!L98","v":0},{"$f":"'Pivot Table Data'!S98","v":0},{"$f":"'Pivot Table Data'!T98","v":""},{"$f":"IF('Pivot Table Data'!O98=\"Yes\", 'Pivot Table Data'!T98, \"\")","v":""}]
[{"$f":"'Pivot Table Data'!B99","v":0},{"$f":"'Pivot Table Data'!F99","v":"Science Research Park"},{"$f":"'Pivot Table Data'!P99","v":"Mesa Canyon"},{"$f":"'Pivot Table Data'!I99","v":"L5"},{"$f":"'Pivot Table Data'!J99","v":"B"},{"$f":"'Pivot Table Data'!K99","v":0},{"$f":"'Pivot Table Data'!L99","v":0},{"$f":"'Pivot Table Data'!S99","v":0},{"$f":"'Pivot Table Data'!T99","v":""},{"$f":"IF('Pivot Table Data'!O99=\"Yes\", 'Pivot Table Data'!T99, \"\")","v":""}]
[{"$f":"'Pivot Table Data'!B100","v":0},{"$f":"'Pivot Table Data'!F100","v":"Science Research Park"},{"$f":"'Pivot Table Data'!P100","v":"Mesa Canyon"},{"$f":"'Pivot Table Data'!I100","v":"L5"},{"$f":"'Pivot Table Data'!J100","v":"Electric Vehicle"},{"$f":"'Pivot Table Data'!K100","v":0},{"$f":"'Pivot Table Data'!L100","v":0},{"$f":"'Pivot Table Data'!S100","v":0},{"$f":"'Pivot Table Data'!T100","v":""},{"$f":"IF('Pivot Table Data'!O100=\"Yes\", 'Pivot Table Data'!T100, \"\")","v":""}]
[{"$f":"'Pivot Table Data'!B101","v":0},{"$f":"'Pivot Table Data'!F101","v":"Science Research Park"},{"$f":"'Pivot Table Data'!P101","v":"Mesa Canyon"},{"$f":"'Pivot Table Data'!I101","v":"L5"},{"$f":"'Pivot Table Data'!J101","v":"G"},{"$f":"'Pivot Table Data'!K101","v":0},{"$f":"'Pivot Table Data'!L101","v":0},{"$f":"'Pivot Table Data'!S101","v":217},{"$f":"'Pivot Table Data'!T101","v":""},{"$f":"IF('Pivot Table Data'!O101=\"Yes\", 'Pivot Table Data'!T101, \"\")","v":""}]
[{"$f":"'Pivot Table Data'!B102","v":0},{"$f":"'Pivot Table Data'!F102","v":"Science Research Park"},{"$f":"'Pivot Table Data'!P102","v":"Mesa Canyon"},{"$f":"'Pivot Table Data'!I102","v":"L5"},{"$f":"'Pivot Table Data'!J102","v":"Motorcycle Section"},{"$f":"'Pivot Table Data'!K102","v":0},{"$f":"'Pivot Table Data'!L102","v":0},{"$f":"'Pivot Table Data'!S102","v":0},{"$f":"'Pivot Table Data'!T102","v":""},{"$f":"IF('Pivot Table Data'!O102=\"Yes\", 'Pivot Table Data'!T102, \"\")","v":""}]
[{"$f":"'Pivot Table Data'!B103","v":0},{"$f":"'Pivot Table Data'!F103","v":"Science Research Park"},{"$f":"'Pivot Table Data'!P103","v":"Mesa Canyon"},{"$f":"'Pivot Table Data'!I103","v":"L6"},{"$f":"'Pivot Table Data'!J103","v":"Accessible"},{"$f":"'Pivot Table Data'!K103","v":0},{"$f":"'Pivot Table Data'!L103","v":0},{"$f":"'Pivot Table Data'!S103","v":0},{"$f":"'Pivot Table Data'!T103","v":""},{"$f":"IF('Pivot Table Data'!O103=\"Yes\", 'Pivot Table Data'!T103, \"\")","v":""}]
[{"$f":"'Pivot Table Data'!B104","v":0},{"$f":"'Pivot Table Data'!F104","v":"Science Research Park"},{"$f":"'Pivot Table Data'!P104","v":"Mesa Canyon"},{"$f":"'Pivot Table Data'!I104","v":"L6"},{"$f":"'Pivot Table Data'!J104","v":"Accessible (Van)"},{"$f":"'Pivot Table Data'!K104","v":0},{"$f":"'Pivot Table Data'!L104","v":0},{"$f":"'Pivot Table Data'!S104","v":0},{"$f":"'Pivot Table Data'!T104","v":""},{"$f":"IF('Pivot Table Data'!O104=\"Yes\", 'Pivot Table Data'!T104, \"\")","v":""}]
[{"$f":"'Pivot Table Data'!B105","v":0},{"$f":"'Pivot Table Data'!F105","v":"Science Research Park"},{"$f":"'Pivot Table Data'!P105","v":"Mesa Canyon"},{"$f":"'Pivot Table Data'!I105","v":"L6"},{"$f":"'Pivot Table Data'!J105","v":"B"},{"$f":"'Pivot Table Data'!K105","v":0},{"$f":"'Pivot Table Data'!L105","v":0},{"$f":"'Pivot Table Data'!S105","v":0},{"$f":"'Pivot Table Data'!T105","v":""},{"$f":"IF('Pivot Table Data'!O105=\"Yes\", 'Pivot Table Data'!T105, \"\")","v":""}]
[{"$f":"'Pivot Table Data'!B106","v":0},{"$f":"'Pivot Table Data'!F106","v":"Science Research Park"},{"$f":"'Pivot Table Data'!P106","v":"Mesa Canyon"},{"$f":"'Pivot Table Data'!I106","v":"L6"},{"$f":"'Pivot Table Data'!J106","v":"Electric Vehicle"},{"$f":"'Pivot Table Data'!K106","v":0},{"$f":"'Pivot Table Data'!L106","v":0},{"$f":"'Pivot Table Data'!S106","v":0},{"$f":"'Pivot Table Data'!T106","v":""},{"$f":"IF('Pivot Table Data'!O106=\"Yes\", 'Pivot Table Data'!T106, \"\")","v":""}]
[{"$f":"'Pivot Table Data'!B107","v":0},{"$f":"'Pivot Table Data'!F107","v":"Science Research Park"},{"$f":"'Pivot Table Data'!P107","v":"Mesa Canyon"},{"$f":"'Pivot Table Data'!I107","v":"L6"},{"$f":"'Pivot Table Data'!J107","v":"G"},{"$f":"'Pivot Table Data'!K107","v":0},{"$f":"'Pivot Table Data'!L107","v":0},{"$f":"'Pivot Table Data'!S107","v":217},{"$f":"'Pivot Table Data'!T107","v":""},{"$f":"IF('Pivot Table Data'!O107=\"Yes\", 'Pivot Table Data'!T107, \"\")","v":""}]
[{"$f":"'Pivot Table Data'!B108","v":0},{"$f":"'Pivot Table Data'!F108","v":"Science Research Park"},{"$f":"'Pivot Table Data'!P108","v":"Mesa Canyon"},{"$f":"'Pivot Table Data'!I108","v":"L6"},{"$f":"'Pivot Table Data'!J108","v":"Motorcycle Section"},{"$f":"'Pivot Table Data'!K108","v":0},{"$f":"'Pivot Table Data'!L108","v":0},{"$f":"'Pivot Table Data'!S108","v":0},{"$f":"'Pivot Table Data'!T108","v":""},{"$f":"IF('Pivot Table Data'!O108=\"Yes\", 'Pivot Table Data'!T108, \"\")","v":""}]
[{"$f":"'Pivot Table Data'!B109","v":0},{"$f":"'Pivot Table Data'!F109","v":"East Recreation"},{"$f":"'Pivot Table Data'!P109","v":"P701"},{"$f":"'Pivot Table Data'!I109","v":"-"},{"$f":"'Pivot Table Data'!J109","v":"S"},{"$f":"'Pivot Table Data'!K109","v":0},{"$f":"'Pivot Table Data'!L109","v":0},{"$f":"'Pivot Table Data'!S109","v":378},{"$f":"'Pivot Table Data'!T109","v":378},{"$f":"IF('Pivot Table Data'!O109=\"Yes\", 'Pivot Table Data'!T109, \"\")","v":378}]
[{"$f":"'Pivot Table Data'!B110","v":0},{"$f":"'Pivot Table Data'!F110","v":"Health Sciences East"},{"$f":"'Pivot Table Data'!P110","v":"P702"},{"$f":"'Pivot Table Data'!I110","v":"-"},{"$f":"'Pivot Table Data'!J110","v":"Accessible"},{"$f":"'Pivot Table Data'!K110","v":0},{"$f":"'Pivot Table Data'!L110","v":0},{"$f":"'Pivot Table Data'!S110","v":3},{"$f":"'Pivot Table Data'!T110","v":3},{"$f":"IF('Pivot Table Data'!O110=\"Yes\", 'Pivot Table Data'!T110, \"\")","v":""}]
[{"$f":"'Pivot Table Data'!B111","v":0},{"$f":"'Pivot Table Data'!F111","v":"Health Sciences East"},{"$f":"'Pivot Table Data'!P111","v":"P702"},{"$f":"'Pivot Table Data'!I111","v":"-"},{"$f":"'Pivot Table Data'!J111","v":"Accessible (Van)"},{"$f":"'Pivot Table Data'!K111","v":0},{"$f":"'Pivot Table Data'!L111","v":0},{"$f":"'Pivot Table Data'!S111","v":3},{"$f":"'Pivot Table Data'!T111","v":3},{"$f":"IF('Pivot Table Data'!O111=\"Yes\", 'Pivot Table Data'!T111, \"\")","v":""}]
[{"$f":"'Pivot Table Data'!B112","v":0},{"$f":"'Pivot Table Data'!F112","v":"Health Sciences East"},{"$f":"'Pivot Table Data'!P112","v":"P702"},{"$f":"'Pivot Table Data'!I112","v":"-"},{"$f":"'Pivot Table Data'!J112","v":"B"},{"$f":"'Pivot Table Data'!K112","v":0},{"$f":"'Pivot Table Data'!L112","v":0},{"$f":"'Pivot Table Data'!S112","v":183},{"$f":"'Pivot Table Data'!T112","v":183},{"$f":"IF('Pivot Table Data'!O112=\"Yes\", 'Pivot Table Data'!T112, \"\")","v":183}]
[{"$f":"'Pivot Table Data'!B113","v":0},{"$f":"'Pivot Table Data'!F113","v":"Health Sciences East"},{"$f":"'Pivot Table Data'!P113","v":"P703"},{"$f":"'Pivot Table Data'!I113","v":"-"},{"$f":"'Pivot Table Data'!J113","v":"Accessible"},{"$f":"'Pivot Table Data'!K113","v":0},{"$f":"'Pivot Table Data'!L113","v":0},{"$f":"'Pivot Table Data'!S113","v":0},{"$f":"'Pivot Table Data'!T113","v":0},{"$f":"IF('Pivot Table Data'!O113=\"Yes\", 'Pivot Table Data'!T113, \"\")","v":""}]
[{"$f":"'Pivot Table Data'!B114","v":0},{"$f":"'Pivot Table Data'!F114","v":"Health Sciences East"},{"$f":"'Pivot Table Data'!P114","v":"P703"},{"$f":"'Pivot Table Data'!I114","v":"-"},{"$f":"'Pivot Table Data'!J114","v":"Accessible (Van)"},{"$f":"'Pivot Table Data'!K114","v":0},{"$f":"'Pivot Table Data'!L114","v":0},{"$f":"'Pivot Table Data'!S114","v":11},{"$f":"'Pivot Table Data'!T114","v":11},{"$f":"IF('Pivot Table Data'!O114=\"Yes\", 'Pivot Table Data'!T114, \"\")","v":""}]
[{"$f":"'Pivot Table Data'!B115","v":0},{"$f":"'Pivot Table Data'!F115","v":"Health Sciences East"},{"$f":"'Pivot Table Data'!P115","v":"P703"},{"$f":"'Pivot Table Data'!I115","v":"-"},{"$f":"'Pivot Table Data'!J115","v":"Allocated"},{"$f":"'Pivot Table Data'!K115","v":"Ambulance"},{"$f":"'Pivot Table Data'!L115","v":0},{"$f":"'Pivot Table Data'!S115","v":2},{"$f":"'Pivot Table Data'!T115","v":2},{"$f":"IF('Pivot Table Data'!O115=\"Yes\", 'Pivot Table Data'!T115, \"\")","v":""}]
[{"$f":"'Pivot Table Data'!B116","v":0},{"$f":"'Pivot Table Data'!F116","v":"Health Sciences East"},{"$f":"'Pivot Table Data'!P116","v":"P703"},{"$f":"'Pivot Table Data'!I116","v":"-"},{"$f":"'Pivot Table Data'!J116","v":"D ($5.00)"},{"$f":"'Pivot Table Data'!K116","v":0},{"$f":"'Pivot Table Data'!L116","v":0},{"$f":"'Pivot Table Data'!S116","v":295},{"$f":"'Pivot Table Data'!T116","v":295},{"$f":"IF('Pivot Table Data'!O116=\"Yes\", 'Pivot Table Data'!T116, \"\")","v":295}]
[{"$f":"'Pivot Table Data'!B117","v":0},{"$f":"'Pivot Table Data'!F117","v":"Health Sciences East"},{"$f":"'Pivot Table Data'!P117","v":"P703"},{"$f":"'Pivot Table Data'!I117","v":"-"},{"$f":"'Pivot Table Data'!J117","v":"Electric Vehicle"},{"$f":"'Pivot Table Data'!K117","v":0},{"$f":"'Pivot Table Data'!L117","v":0},{"$f":"'Pivot Table Data'!S117","v":12},{"$f":"'Pivot Table Data'!T117","v":12},{"$f":"IF('Pivot Table Data'!O117=\"Yes\", 'Pivot Table Data'!T117, \"\")","v":""}]
[{"$f":"'Pivot Table Data'!B118","v":0},{"$f":"'Pivot Table Data'!F118","v":"Health Sciences East"},{"$f":"'Pivot Table Data'!P118","v":"P703"},{"$f":"'Pivot Table Data'!I118","v":"-"},{"$f":"'Pivot Table Data'!J118","v":"Loading"},{"$f":"'Pivot Table Data'!K118","v":0},{"$f":"'Pivot Table Data'!L118","v":0},{"$f":"'Pivot Table Data'!S118","v":2},{"$f":"'Pivot Table Data'!T118","v":2},{"$f":"IF('Pivot Table Data'!O118=\"Yes\", 'Pivot Table Data'!T118, \"\")","v":""}]
[{"$f":"'Pivot Table Data'!B119","v":0},{"$f":"'Pivot Table Data'!F119","v":"Health Sciences East"},{"$f":"'Pivot Table Data'!P119","v":"P703"},{"$f":"'Pivot Table Data'!I119","v":"-"},{"$f":"'Pivot Table Data'!J119","v":"Reserved"},{"$f":"'Pivot Table Data'!K119","v":"V2G"},{"$f":"'Pivot Table Data'!L119","v":0},{"$f":"'Pivot Table Data'!S119","v":1},{"$f":"'Pivot Table Data'!T119","v":1},{"$f":"IF('Pivot Table Data'!O119=\"Yes\", 'Pivot Table Data'!T119, \"\")","v":""}]
[{"$f":"'Pivot Table Data'!B120","v":0},{"$f":"'Pivot Table Data'!F120","v":"Health Sciences East"},{"$f":"'Pivot Table Data'!P120","v":"P703"},{"$f":"'Pivot Table Data'!I120","v":"-"},{"$f":"'Pivot Table Data'!J120","v":"Reserved"},{"$f":"'Pivot Table Data'!K120","v":0},{"$f":"'Pivot Table Data'!L120","v":0},{"$f":"'Pivot Table Data'!S120","v":1},{"$f":"'Pivot Table Data'!T120","v":1},{"$f":"IF('Pivot Table Data'!O120=\"Yes\", 'Pivot Table Data'!T120, \"\")","v":""}]
[{"$f":"'Pivot Table Data'!B121","v":0},{"$f":"'Pivot Table Data'!F121","v":"Health Sciences East"},{"$f":"'Pivot Table Data'!P121","v":"P703"},{"$f":"'Pivot Table Data'!I121","v":"-"},{"$f":"'Pivot Table Data'!J121","v":"UC Vehicle"},{"$f":"'Pivot Table Data'!K121","v":"UC Cart"},{"$f":"'Pivot Table Data'!L121","v":0},{"$f":"'Pivot Table Data'!S121","v":2},{"$f":"'Pivot Table Data'!T121","v":2},{"$f":"IF('Pivot Table Data'!O121=\"Yes\", 'Pivot Table Data'!T121, \"\")","v":""}]
[{"$f":"'Pivot Table Data'!B122","v":0},{"$f":"'Pivot Table Data'!F122","v":"Health Sciences East"},{"$f":"'Pivot Table Data'!P122","v":"P703"},{"$f":"'Pivot Table Data'!I122","v":"-"},{"$f":"'Pivot Table Data'!J122","v":"UC Vehicle"},{"$f":"'Pivot Table Data'!K122","v":0},{"$f":"'Pivot Table Data'!L122","v":0},{"$f":"'Pivot Table Data'!S122","v":19},{"$f":"'Pivot Table Data'!T122","v":19},{"$f":"IF('Pivot Table Data'!O122=\"Yes\", 'Pivot Table Data'!T122, \"\")","v":""}]
[{"$f":"'Pivot Table Data'!B123","v":0},{"$f":"'Pivot Table Data'!F123","v":"Health Sciences East"},{"$f":"'Pivot Table Data'!P123","v":"P703"},{"$f":"'Pivot Table Data'!I123","v":"-"},{"$f":"'Pivot Table Data'!J123","v":"Visitor"},{"$f":"'Pivot Table Data'!K123","v":"Radiation Oncology Center Patient"},{"$f":"'Pivot Table Data'!L123","v":0},{"$f":"'Pivot Table Data'!S123","v":17},{"$f":"'Pivot Table Data'!T123","v":17},{"$f":"IF('Pivot Table Data'!O123=\"Yes\", 'Pivot Table Data'!T123, \"\")","v":17}]
[{"$f":"'Pivot Table Data'!B124","v":0},{"$f":"'Pivot Table Data'!F124","v":"Health Sciences East"},{"$f":"'Pivot Table Data'!P124","v":"P704"},{"$f":"'Pivot Table Data'!I124","v":"-"},{"$f":"'Pivot Table Data'!J124","v":"D ($5.00)"},{"$f":"'Pivot Table Data'!K124","v":0},{"$f":"'Pivot Table Data'!L124","v":0},{"$f":"'Pivot Table Data'!S124","v":326},{"$f":"'Pivot Table Data'!T124","v":326},{"$f":"IF('Pivot Table Data'!O124=\"Yes\", 'Pivot Table Data'!T124, \"\")","v":326}]
[{"$f":"'Pivot Table Data'!B125","v":0},{"$f":"'Pivot Table Data'!F125","v":"Health Sciences East"},{"$f":"'Pivot Table Data'!P125","v":"P705"},{"$f":"'Pivot Table Data'!I125","v":"-"},{"$f":"'Pivot Table Data'!J125","v":"D ($5.00)"},{"$f":"'Pivot Table Data'!K125","v":0},{"$f":"'Pivot Table Data'!L125","v":0},{"$f":"'Pivot Table Data'!S125","v":266},{"$f":"'Pivot Table Data'!T125","v":266},{"$f":"IF('Pivot Table Data'!O125=\"Yes\", 'Pivot Table Data'!T125, \"\")","v":266}]
[{"$f":"'Pivot Table Data'!B126","v":0},{"$f":"'Pivot Table Data'!F126","v":"Preuss School"},{"$f":"'Pivot Table Data'!P126","v":"P706"},{"$f":"'Pivot Table Data'!I126","v":"-"},{"$f":"'Pivot Table Data'!J126","v":"A"},{"$f":"'Pivot Table Data'!K126","v":"Preuss"},{"$f":"'Pivot Table Data'!L126","v":0},{"$f":"'Pivot Table Data'!S126","v":6},{"$f":"'Pivot Table Data'!T126","v":6},{"$f":"IF('Pivot Table Data'!O126=\"Yes\", 'Pivot Table Data'!T126, \"\")","v":6}]
[{"$f":"'Pivot Table Data'!B127","v":0},{"$f":"'Pivot Table Data'!F127","v":"Preuss School"},{"$f":"'Pivot Table Data'!P127","v":"P706"},{"$f":"'Pivot Table Data'!I127","v":"-"},{"$f":"'Pivot Table Data'!J127","v":"Accessible"},{"$f":"'Pivot Table Data'!K127","v":0},{"$f":"'Pivot Table Data'!L127","v":0},{"$f":"'Pivot Table Data'!S127","v":1},{"$f":"'Pivot Table Data'!T127","v":1},{"$f":"IF('Pivot Table Data'!O127=\"Yes\", 'Pivot Table Data'!T127, \"\")","v":""}]
[{"$f":"'Pivot Table Data'!B128","v":0},{"$f":"'Pivot Table Data'!F128","v":"Preuss School"},{"$f":"'Pivot Table Data'!P128","v":"P706"},{"$f":"'Pivot Table Data'!I128","v":"-"},{"$f":"'Pivot Table Data'!J128","v":"Accessible (Van)"},{"$f":"'Pivot Table Data'!K128","v":0},{"$f":"'Pivot Table Data'!L128","v":0},{"$f":"'Pivot Table Data'!S128","v":3},{"$f":"'Pivot Table Data'!T128","v":3},{"$f":"IF('Pivot Table Data'!O128=\"Yes\", 'Pivot Table Data'!T128, \"\")","v":""}]
[{"$f":"'Pivot Table Data'!B129","v":0},{"$f":"'Pivot Table Data'!F129","v":"Preuss School"},{"$f":"'Pivot Table Data'!P129","v":"P706"},{"$f":"'Pivot Table Data'!I129","v":"-"},{"$f":"'Pivot Table Data'!J129","v":"B"},{"$f":"'Pivot Table Data'!K129","v":"Preuss"},{"$f":"'Pivot Table Data'!L129","v":0},{"$f":"'Pivot Table Data'!S129","v":59},{"$f":"'Pivot Table Data'!T129","v":59},{"$f":"IF('Pivot Table Data'!O129=\"Yes\", 'Pivot Table Data'!T129, \"\")","v":59}]
[{"$f":"'Pivot Table Data'!B130","v":0},{"$f":"'Pivot Table Data'!F130","v":"Preuss School"},{"$f":"'Pivot Table Data'!P130","v":"P706"},{"$f":"'Pivot Table Data'!I130","v":"-"},{"$f":"'Pivot Table Data'!J130","v":"Loading"},{"$f":"'Pivot Table Data'!K130","v":0},{"$f":"'Pivot Table Data'!L130","v":"30 minutes"},{"$f":"'Pivot Table Data'!S130","v":3},{"$f":"'Pivot Table Data'!T130","v":3},{"$f":"IF('Pivot Table Data'!O130=\"Yes\", 'Pivot Table Data'!T130, \"\")","v":""}]
[{"$f":"'Pivot Table Data'!B131","v":0},{"$f":"'Pivot Table Data'!F131","v":"Health Sciences East"},{"$f":"'Pivot Table Data'!P131","v":"P707"},{"$f":"'Pivot Table Data'!I131","v":"-"},{"$f":"'Pivot Table Data'!J131","v":"Accessible"},{"$f":"'Pivot Table Data'!K131","v":0},{"$f":"'Pivot Table Data'!L131","v":0},{"$f":"'Pivot Table Data'!S131","v":4},{"$f":"'Pivot Table Data'!T131","v":4},{"$f":"IF('Pivot Table Data'!O131=\"Yes\", 'Pivot Table Data'!T131, \"\")","v":""}]
[{"$f":"'Pivot Table Data'!B132","v":0},{"$f":"'Pivot Table Data'!F132","v":"Health Sciences East"},{"$f":"'Pivot Table Data'!P132","v":"P707"},{"$f":"'Pivot Table Data'!I132","v":"-"},{"$f":"'Pivot Table Data'!J132","v":"Accessible (Van)"},{"$f":"'Pivot Table Data'!K132","v":0},{"$f":"'Pivot Table Data'!L132","v":0},{"$f":"'Pivot Table Data'!S132","v":3},{"$f":"'Pivot Table Data'!T132","v":3},{"$f":"IF('Pivot Table Data'!O132=\"Yes\", 'Pivot Table Data'!T132, \"\")","v":""}]
[{"$f":"'Pivot Table Data'!B133","v":0},{"$f":"'Pivot Table Data'!F133","v":"Health Sciences East"},{"$f":"'Pivot Table Data'!P133","v":"P707"},{"$f":"'Pivot Table Data'!I133","v":"-"},{"$f":"'Pivot Table Data'!J133","v":"Electric Vehicle"},{"$f":"'Pivot Table Data'!K133","v":0},{"$f":"'Pivot Table Data'!L133","v":0},{"$f":"'Pivot Table Data'!S133","v":2},{"$f":"'Pivot Table Data'!T133","v":2},{"$f":"IF('Pivot Table Data'!O133=\"Yes\", 'Pivot Table Data'!T133, \"\")","v":""}]
[{"$f":"'Pivot Table Data'!B134","v":0},{"$f":"'Pivot Table Data'!F134","v":"Health Sciences East"},{"$f":"'Pivot Table Data'!P134","v":"P707"},{"$f":"'Pivot Table Data'!I134","v":"-"},{"$f":"'Pivot Table Data'!J134","v":"Reserved"},{"$f":"'Pivot Table Data'!K134","v":0},{"$f":"'Pivot Table Data'!L134","v":0},{"$f":"'Pivot Table Data'!S134","v":6},{"$f":"'Pivot Table Data'!T134","v":6},{"$f":"IF('Pivot Table Data'!O134=\"Yes\", 'Pivot Table Data'!T134, \"\")","v":""}]
[{"$f":"'Pivot Table Data'!B135","v":0},{"$f":"'Pivot Table Data'!F135","v":"Health Sciences East"},{"$f":"'Pivot Table Data'!P135","v":"P707"},{"$f":"'Pivot Table Data'!I135","v":"-"},{"$f":"'Pivot Table Data'!J135","v":"S"},{"$f":"'Pivot Table Data'!K135","v":0},{"$f":"'Pivot Table Data'!L135","v":0},{"$f":"'Pivot Table Data'!S135","v":194},{"$f":"'Pivot Table Data'!T135","v":194},{"$f":"IF('Pivot Table Data'!O135=\"Yes\", 'Pivot Table Data'!T135, \"\")","v":194}]
[{"$f":"'Pivot Table Data'!B136","v":0},{"$f":"'Pivot Table Data'!F136","v":"Health Sciences East"},{"$f":"'Pivot Table Data'!P136","v":"P751"},{"$f":"'Pivot Table Data'!I136","v":"-"},{"$f":"'Pivot Table Data'!J136","v":"Accessible"},{"$f":"'Pivot Table Data'!K136","v":0},{"$f":"'Pivot Table Data'!L136","v":0},{"$f":"'Pivot Table Data'!S136","v":2},{"$f":"'Pivot Table Data'!T136","v":2},{"$f":"IF('Pivot Table Data'!O136=\"Yes\", 'Pivot Table Data'!T136, \"\")","v":""}]
[{"$f":"'Pivot Table Data'!B137","v":0},{"$f":"'Pivot Table Data'!F137","v":"Health Sciences East"},{"$f":"'Pivot Table Data'!P137","v":"P751"},{"$f":"'Pivot Table Data'!I137","v":"-"},{"$f":"'Pivot Table Data'!J137","v":"Accessible (Van)"},{"$f":"'Pivot Table Data'!K137","v":0},{"$f":"'Pivot Table Data'!L137","v":0},{"$f":"'Pivot Table Data'!S137","v":2},{"$f":"'Pivot Table Data'!T137","v":2},{"$f":"IF('Pivot Table Data'!O137=\"Yes\", 'Pivot Table Data'!T137, \"\")","v":""}]
[{"$f":"'Pivot Table Data'!B138","v":0},{"$f":"'Pivot Table Data'!F138","v":"Health Sciences East"},{"$f":"'Pivot Table Data'!P138","v":"P751"},{"$f":"'Pivot Table Data'!I138","v":"-"},{"$f":"'Pivot Table Data'!J138","v":"Electric Vehicle"},{"$f":"'Pivot Table Data'!K138","v":0},{"$f":"'Pivot Table Data'!L138","v":0},{"$f":"'Pivot Table Data'!S138","v":0},{"$f":"'Pivot Table Data'!T138","v":0},{"$f":"IF('Pivot Table Data'!O138=\"Yes\", 'Pivot Table Data'!T138, \"\")","v":""}]
[{"$f":"'Pivot Table Data'!B139","v":0},{"$f":"'Pivot Table Data'!F139","v":"Health Sciences East"},{"$f":"'Pivot Table Data'!P139","v":"P751"},{"$f":"'Pivot Table Data'!I139","v":"-"},{"$f":"'Pivot Table Data'!J139","v":"Reserved"},{"$f":"'Pivot Table Data'!K139","v":"Valet"},{"$f":"'Pivot Table Data'!L139","v":0},{"$f":"'Pivot Table Data'!S139","v":0},{"$f":"'Pivot Table Data'!T139","v":0},{"$f":"IF('Pivot Table Data'!O139=\"Yes\", 'Pivot Table Data'!T139, \"\")","v":""}]
[{"$f":"'Pivot Table Data'!B140","v":0},{"$f":"'Pivot Table Data'!F140","v":"Health Sciences East"},{"$f":"'Pivot Table Data'!P140","v":"P751"},{"$f":"'Pivot Table Data'!I140","v":"-"},{"$f":"'Pivot Table Data'!J140","v":"Reserved"},{"$f":"'Pivot Table Data'!K140","v":0},{"$f":"'Pivot Table Data'!L140","v":0},{"$f":"'Pivot Table Data'!S140","v":0},{"$f":"'Pivot Table Data'!T140","v":0},{"$f":"IF('Pivot Table Data'!O140=\"Yes\", 'Pivot Table Data'!T140, \"\")","v":""}]
[{"$f":"'Pivot Table Data'!B141","v":0},{"$f":"'Pivot Table Data'!F141","v":"Health Sciences East"},{"$f":"'Pivot Table Data'!P141","v":"P751"},{"$f":"'Pivot Table Data'!I141","v":"-"},{"$f":"'Pivot Table Data'!J141","v":"Visitor"},{"$f":"'Pivot Table Data'!K141","v":0},{"$f":"'Pivot Table Data'!L141","v":"30 minutes"},{"$f":"'Pivot Table Data'!S141","v":3},{"$f":"'Pivot Table Data'!T141","v":3},{"$f":"IF('Pivot Table Data'!O141=\"Yes\", 'Pivot Table Data'!T141, \"\")","v":3}]
[{"$f":"'Pivot Table Data'!B142","v":0},{"$f":"'Pivot Table Data'!F142","v":"Health Sciences East"},{"$f":"'Pivot Table Data'!P142","v":"P752"},{"$f":"'Pivot Table Data'!I142","v":"-"},{"$f":"'Pivot Table Data'!J142","v":"Accessible"},{"$f":"'Pivot Table Data'!K142","v":0},{"$f":"'Pivot Table Data'!L142","v":0},{"$f":"'Pivot Table Data'!S142","v":0},{"$f":"'Pivot Table Data'!T142","v":0},{"$f":"IF('Pivot Table Data'!O142=\"Yes\", 'Pivot Table Data'!T142, \"\")","v":""}]
[{"$f":"'Pivot Table Data'!B143","v":0},{"$f":"'Pivot Table Data'!F143","v":"Health Sciences East"},{"$f":"'Pivot Table Data'!P143","v":"P752"},{"$f":"'Pivot Table Data'!I143","v":"-"},{"$f":"'Pivot Table Data'!J143","v":"Accessible (Van)"},{"$f":"'Pivot Table Data'!K143","v":0},{"$f":"'Pivot Table Data'!L143","v":0},{"$f":"'Pivot Table Data'!S143","v":2},{"$f":"'Pivot Table Data'!T143","v":2},{"$f":"IF('Pivot Table Data'!O143=\"Yes\", 'Pivot Table Data'!T143, \"\")","v":""}]
[{"$f":"'Pivot Table Data'!B144","v":0},{"$f":"'Pivot Table Data'!F144","v":"Health Sciences East"},{"$f":"'Pivot Table Data'!P144","v":"P752"},{"$f":"'Pivot Table Data'!I144","v":"-"},{"$f":"'Pivot Table Data'!J144","v":"Allocated"},{"$f":"'Pivot Table Data'!K144","v":"Physician On Call"},{"$f":"'Pivot Table Data'!L144","v":0},{"$f":"'Pivot Table Data'!S144","v":4},{"$f":"'Pivot Table Data'!T144","v":4},{"$f":"IF('Pivot Table Data'!O144=\"Yes\", 'Pivot Table Data'!T144, \"\")","v":""}]
[{"$f":"'Pivot Table Data'!B145","v":0},{"$f":"'Pivot Table Data'!F145","v":"Health Sciences East"},{"$f":"'Pivot Table Data'!P145","v":"P752"},{"$f":"'Pivot Table Data'!I145","v":"-"},{"$f":"'Pivot Table Data'!J145","v":"Reserved"},{"$f":"'Pivot Table Data'!K145","v":"Valet"},{"$f":"'Pivot Table Data'!L145","v":0},{"$f":"'Pivot Table Data'!S145","v":23},{"$f":"'Pivot Table Data'!T145","v":23},{"$f":"IF('Pivot Table Data'!O145=\"Yes\", 'Pivot Table Data'!T145, \"\")","v":""}]
[{"$f":"'Pivot Table Data'!B146","v":0},{"$f":"'Pivot Table Data'!F146","v":"Health Sciences East"},{"$f":"'Pivot Table Data'!P146","v":"P752"},{"$f":"'Pivot Table Data'!I146","v":"-"},{"$f":"'Pivot Table Data'!J146","v":"Reserved"},{"$f":"'Pivot Table Data'!K146","v":0},{"$f":"'Pivot Table Data'!L146","v":0},{"$f":"'Pivot Table Data'!S146","v":1},{"$f":"'Pivot Table Data'!T146","v":1},{"$f":"IF('Pivot Table Data'!O146=\"Yes\", 'Pivot Table Data'!T146, \"\")","v":""}]
[{"$f":"'Pivot Table Data'!B147","v":0},{"$f":"'Pivot Table Data'!F147","v":"Health Sciences East"},{"$f":"'Pivot Table Data'!P147","v":"P753"},{"$f":"'Pivot Table Data'!I147","v":"-"},{"$f":"'Pivot Table Data'!J147","v":"Accessible"},{"$f":"'Pivot Table Data'!K147","v":0},{"$f":"'Pivot Table Data'!L147","v":0},{"$f":"'Pivot Table Data'!S147","v":0},{"$f":"'Pivot Table Data'!T147","v":0},{"$f":"IF('Pivot Table Data'!O147=\"Yes\", 'Pivot Table Data'!T147, \"\")","v":""}]
[{"$f":"'Pivot Table Data'!B148","v":0},{"$f":"'Pivot Table Data'!F148","v":"Health Sciences East"},{"$f":"'Pivot Table Data'!P148","v":"P753"},{"$f":"'Pivot Table Data'!I148","v":"-"},{"$f":"'Pivot Table Data'!J148","v":"Accessible (Van)"},{"$f":"'Pivot Table Data'!K148","v":0},{"$f":"'Pivot Table Data'!L148","v":0},{"$f":"'Pivot Table Data'!S148","v":2},{"$f":"'Pivot Table Data'!T148","v":2},{"$f":"IF('Pivot Table Data'!O148=\"Yes\", 'Pivot Table Data'!T148, \"\")","v":""}]
[{"$f":"'Pivot Table Data'!B149","v":0},{"$f":"'Pivot Table Data'!F149","v":"Health Sciences East"},{"$f":"'Pivot Table Data'!P149","v":"P753"},{"$f":"'Pivot Table Data'!I149","v":"-"},{"$f":"'Pivot Table Data'!J149","v":"Reserved"},{"$f":"'Pivot Table Data'!K149","v":0},{"$f":"'Pivot Table Data'!L149","v":0},{"$f":"'Pivot Table Data'!S149","v":32},{"$f":"'Pivot Table Data'!T149","v":32},{"$f":"IF('Pivot Table Data'!O149=\"Yes\", 'Pivot Table Data'!T149, \"\")","v":""}]
[{"$f":"'Pivot Table Data'!B150","v":0},{"$f":"'Pivot Table Data'!F150","v":"Health Sciences East"},{"$f":"'Pivot Table Data'!P150","v":"P757"},{"$f":"'Pivot Table Data'!I150","v":"-"},{"$f":"'Pivot Table Data'!J150","v":"Loading"},{"$f":"'Pivot Table Data'!K150","v":"Shiley Surgery"},{"$f":"'Pivot Table Data'!L150","v":20},{"$f":"'Pivot Table Data'!S150","v":0},{"$f":"'Pivot Table Data'!T150","v":0},{"$f":"IF('Pivot Table Data'!O150=\"Yes\", 'Pivot Table Data'!T150, \"\")","v":""}]
[{"$f":"'Pivot Table Data'!B151","v":0},{"$f":"'Pivot Table Data'!F151","v":"Health Sciences East"},{"$f":"'Pivot Table Data'!P151","v":"P757"},{"$f":"'Pivot Table Data'!I151","v":"-"},{"$f":"'Pivot Table Data'!J151","v":"Reserved"},{"$f":"'Pivot Table Data'!K151","v":0},{"$f":"'Pivot Table Data'!L151","v":0},{"$f":"'Pivot Table Data'!S151","v":0},{"$f":"'Pivot Table Data'!T151","v":0},{"$f":"IF('Pivot Table Data'!O151=\"Yes\", 'Pivot Table Data'!T151, \"\")","v":""}]
[{"$f":"'Pivot Table Data'!B152","v":0},{"$f":"'Pivot Table Data'!F152","v":"Health Sciences East"},{"$f":"'Pivot Table Data'!P152","v":"P757"},{"$f":"'Pivot Table Data'!I152","v":"-"},{"$f":"'Pivot Table Data'!J152","v":"UC Vehicle"},{"$f":"'Pivot Table Data'!K152","v":0},{"$f":"'Pivot Table Data'!L152","v":0},{"$f":"'Pivot Table Data'!S152","v":0},{"$f":"'Pivot Table Data'!T152","v":0},{"$f":"IF('Pivot Table Data'!O152=\"Yes\", 'Pivot Table Data'!T152, \"\")","v":""}]
[{"$f":"'Pivot Table Data'!B153","v":0},{"$f":"'Pivot Table Data'!F153","v":"Health Sciences East"},{"$f":"'Pivot Table Data'!P153","v":"P758"},{"$f":"'Pivot Table Data'!I153","v":"-"},{"$f":"'Pivot Table Data'!J153","v":"Accessible"},{"$f":"'Pivot Table Data'!K153","v":0},{"$f":"'Pivot Table Data'!L153","v":0},{"$f":"'Pivot Table Data'!S153","v":2},{"$f":"'Pivot Table Data'!T153","v":2},{"$f":"IF('Pivot Table Data'!O153=\"Yes\", 'Pivot Table Data'!T153, \"\")","v":""}]
[{"$f":"'Pivot Table Data'!B154","v":0},{"$f":"'Pivot Table Data'!F154","v":"Health Sciences East"},{"$f":"'Pivot Table Data'!P154","v":"P758"},{"$f":"'Pivot Table Data'!I154","v":"-"},{"$f":"'Pivot Table Data'!J154","v":"Accessible (Van)"},{"$f":"'Pivot Table Data'!K154","v":0},{"$f":"'Pivot Table Data'!L154","v":0},{"$f":"'Pivot Table Data'!S154","v":0},{"$f":"'Pivot Table Data'!T154","v":0},{"$f":"IF('Pivot Table Data'!O154=\"Yes\", 'Pivot Table Data'!T154, \"\")","v":""}]
[{"$f":"'Pivot Table Data'!B155","v":0},{"$f":"'Pivot Table Data'!F155","v":"Health Sciences East"},{"$f":"'Pivot Table Data'!P155","v":"P758"},{"$f":"'Pivot Table Data'!I155","v":"-"},{"$f":"'Pivot Table Data'!J155","v":"Motorcycle Section"},{"$f":"'Pivot Table Data'!K155","v":0},{"$f":"'Pivot Table Data'!L155","v":0},{"$f":"'Pivot Table Data'!S155","v":0},{"$f":"'Pivot Table Data'!T155","v":0},{"$f":"IF('Pivot Table Data'!O155=\"Yes\", 'Pivot Table Data'!T155, \"\")","v":""}]
[{"$f":"'Pivot Table Data'!B156","v":0},{"$f":"'Pivot Table Data'!F156","v":"Health Sciences East"},{"$f":"'Pivot Table Data'!P156","v":"P758"},{"$f":"'Pivot Table Data'!I156","v":"-"},{"$f":"'Pivot Table Data'!J156","v":"Reserved"},{"$f":"'Pivot Table Data'!K156","v":0},{"$f":"'Pivot Table Data'!L156","v":0},{"$f":"'Pivot Table Data'!S156","v":5},{"$f":"'Pivot Table Data'!T156","v":5},{"$f":"IF('Pivot Table Data'!O156=\"Yes\", 'Pivot Table Data'!T156, \"\")","v":""}]
[{"$f":"'Pivot Table Data'!B157","v":0},{"$f":"'Pivot Table Data'!F157","v":"Health Sciences East"},{"$f":"'Pivot Table Data'!P157","v":"P759"},{"$f":"'Pivot Table Data'!I157","v":"-"},{"$f":"'Pivot Table Data'!J157","v":"A"},{"$f":"'Pivot Table Data'!K157","v":"Physician A"},{"$f":"'Pivot Table Data'!L157","v":0},{"$f":"'Pivot Table Data'!S157","v":87},{"$f":"'Pivot Table Data'!T157","v":87},{"$f":"IF('Pivot Table Data'!O157=\"Yes\", 'Pivot Table Data'!T157, \"\")","v":87}]
[{"$f":"'Pivot Table Data'!B158","v":0},{"$f":"'Pivot Table Data'!F158","v":"Health Sciences East"},{"$f":"'Pivot Table Data'!P158","v":"P759"},{"$f":"'Pivot Table Data'!I158","v":"-"},{"$f":"'Pivot Table Data'!J158","v":"Accessible"},{"$f":"'Pivot Table Data'!K158","v":0},{"$f":"'Pivot Table Data'!L158","v":0},{"$f":"'Pivot Table Data'!S158","v":4},{"$f":"'Pivot Table Data'!T158","v":4},{"$f":"IF('Pivot Table Data'!O158=\"Yes\", 'Pivot Table Data'!T158, \"\")","v":""}]
[{"$f":"'Pivot Table Data'!B159","v":0},{"$f":"'Pivot Table Data'!F159","v":"Health Sciences East"},{"$f":"'Pivot Table Data'!P159","v":"P759"},{"$f":"'Pivot Table Data'!I159","v":"-"},{"$f":"'Pivot Table Data'!J159","v":"Accessible (Van)"},{"$f":"'Pivot Table Data'!K159","v":0},{"$f":"'Pivot Table Data'!L159","v":0},{"$f":"'Pivot Table Data'!S159","v":5},{"$f":"'Pivot Table Data'!T159","v":5},{"$f":"IF('Pivot Table Data'!O159=\"Yes\", 'Pivot Table Data'!T159, \"\")","v":""}]
[{"$f":"'Pivot Table Data'!B160","v":0},{"$f":"'Pivot Table Data'!F160","v":"Health Sciences East"},{"$f":"'Pivot Table Data'!P160","v":"P759"},{"$f":"'Pivot Table Data'!I160","v":"-"},{"$f":"'Pivot Table Data'!J160","v":"Motorcycle Section"},{"$f":"'Pivot Table Data'!K160","v":0},{"$f":"'Pivot Table Data'!L160","v":0},{"$f":"'Pivot Table Data'!S160","v":1},{"$f":"'Pivot Table Data'!T160","v":1},{"$f":"IF('Pivot Table Data'!O160=\"Yes\", 'Pivot Table Data'!T160, \"\")","v":""}]
[{"$f":"'Pivot Table Data'!B161","v":0},{"$f":"'Pivot Table Data'!F161","v":"Health Sciences East"},{"$f":"'Pivot Table Data'!P161","v":"P759"},{"$f":"'Pivot Table Data'!I161","v":"-"},{"$f":"'Pivot Table Data'!J161","v":"Reserved"},{"$f":"'Pivot Table Data'!K161","v":"Alzheimer's Disease Research Center Patient"},{"$f":"'Pivot Table Data'!L161","v":0},{"$f":"'Pivot Table Data'!S161","v":10},{"$f":"'Pivot Table Data'!T161","v":10},{"$f":"IF('Pivot Table Data'!O161=\"Yes\", 'Pivot Table Data'!T161, \"\")","v":""}]
[{"$f":"'Pivot Table Data'!B162","v":0},{"$f":"'Pivot Table Data'!F162","v":"Health Sciences East"},{"$f":"'Pivot Table Data'!P162","v":"P759"},{"$f":"'Pivot Table Data'!I162","v":"-"},{"$f":"'Pivot Table Data'!J162","v":"Reserved"},{"$f":"'Pivot Table Data'!K162","v":"Brain Health and Memory Disorders"},{"$f":"'Pivot Table Data'!L162","v":0},{"$f":"'Pivot Table Data'!S162","v":5},{"$f":"'Pivot Table Data'!T162","v":5},{"$f":"IF('Pivot Table Data'!O162=\"Yes\", 'Pivot Table Data'!T162, \"\")","v":""}]
[{"$f":"'Pivot Table Data'!B163","v":0},{"$f":"'Pivot Table Data'!F163","v":"Health Sciences East"},{"$f":"'Pivot Table Data'!P163","v":"P759"},{"$f":"'Pivot Table Data'!I163","v":"-"},{"$f":"'Pivot Table Data'!J163","v":"Reserved"},{"$f":"'Pivot Table Data'!K163","v":"Huntington's Disease Clinical Research Center"},{"$f":"'Pivot Table Data'!L163","v":0},{"$f":"'Pivot Table Data'!S163","v":2},{"$f":"'Pivot Table Data'!T163","v":2},{"$f":"IF('Pivot Table Data'!O163=\"Yes\", 'Pivot Table Data'!T163, \"\")","v":""}]
[{"$f":"'Pivot Table Data'!B164","v":0},{"$f":"'Pivot Table Data'!F164","v":"Health Sciences East"},{"$f":"'Pivot Table Data'!P164","v":"P761"},{"$f":"'Pivot Table Data'!I164","v":"-"},{"$f":"'Pivot Table Data'!J164","v":"UC Vehicle"},{"$f":"'Pivot Table Data'!K164","v":0},{"$f":"'Pivot Table Data'!L164","v":0},{"$f":"'Pivot Table Data'!S164","v":3},{"$f":"'Pivot Table Data'!T164","v":3},{"$f":"IF('Pivot Table Data'!O164=\"Yes\", 'Pivot Table Data'!T164, \"\")","v":""}]
[{"$f":"'Pivot Table Data'!B165","v":0},{"$f":"'Pivot Table Data'!F165","v":"Health Sciences East"},{"$f":"'Pivot Table Data'!P165","v":"P762"},{"$f":"'Pivot Table Data'!I165","v":"-"},{"$f":"'Pivot Table Data'!J165","v":"Loading"},{"$f":"'Pivot Table Data'!K165","v":0},{"$f":"'Pivot Table Data'!L165","v":0},{"$f":"'Pivot Table Data'!S165","v":1},{"$f":"'Pivot Table Data'!T165","v":1},{"$f":"IF('Pivot Table Data'!O165=\"Yes\", 'Pivot Table Data'!T165, \"\")","v":""}]
[{"$f":"'Pivot Table Data'!B166","v":0},{"$f":"'Pivot Table Data'!F166","v":"Health Sciences East"},{"$f":"'Pivot Table Data'!P166","v":"P762"},{"$f":"'Pivot Table Data'!I166","v":"-"},{"$f":"'Pivot Table Data'!J166","v":"Service Yard"},{"$f":"'Pivot Table Data'!K166","v":0},{"$f":"'Pivot Table Data'!L166","v":0},{"$f":"'Pivot Table Data'!S166","v":3},{"$f":"'Pivot Table Data'!T166","v":3},{"$f":"IF('Pivot Table Data'!O166=\"Yes\", 'Pivot Table Data'!T166, \"\")","v":""}]
[{"$f":"'Pivot Table Data'!B167","v":0},{"$f":"'Pivot Table Data'!F167","v":"Science Research Park"},{"$f":"'Pivot Table Data'!P167","v":"P782"},{"$f":"'Pivot Table Data'!I167","v":"-"},{"$f":"'Pivot Table Data'!J167","v":"SS ($3.25)"},{"$f":"'Pivot Table Data'!K167","v":0},{"$f":"'Pivot Table Data'!L167","v":0},{"$f":"'Pivot Table Data'!S167","v":216},{"$f":"'Pivot Table Data'!T167","v":216},{"$f":"IF('Pivot Table Data'!O167=\"Yes\", 'Pivot Table Data'!T167, \"\")","v":216}]
[{"$f":"'Pivot Table Data'!B168","v":0},{"$f":"'Pivot Table Data'!F168","v":"Health Sciences East"},{"$f":"'Pivot Table Data'!P168","v":"P784"},{"$f":"'Pivot Table Data'!I168","v":"-"},{"$f":"'Pivot Table Data'!J168","v":"Accessible"},{"$f":"'Pivot Table Data'!K168","v":0},{"$f":"'Pivot Table Data'!L168","v":0},{"$f":"'Pivot Table Data'!S168","v":6},{"$f":"'Pivot Table Data'!T168","v":6},{"$f":"IF('Pivot Table Data'!O168=\"Yes\", 'Pivot Table Data'!T168, \"\")","v":""}]
[{"$f":"'Pivot Table Data'!B169","v":0},{"$f":"'Pivot Table Data'!F169","v":"Health Sciences East"},{"$f":"'Pivot Table Data'!P169","v":"P784"},{"$f":"'Pivot Table Data'!I169","v":"-"},{"$f":"'Pivot Table Data'!J169","v":"Accessible (Van)"},{"$f":"'Pivot Table Data'!K169","v":0},{"$f":"'Pivot Table Data'!L169","v":0},{"$f":"'Pivot Table Data'!S169","v":12},{"$f":"'Pivot Table Data'!T169","v":12},{"$f":"IF('Pivot Table Data'!O169=\"Yes\", 'Pivot Table Data'!T169, \"\")","v":""}]
[{"$f":"'Pivot Table Data'!B170","v":0},{"$f":"'Pivot Table Data'!F170","v":"Health Sciences East"},{"$f":"'Pivot Table Data'!P170","v":"P784"},{"$f":"'Pivot Table Data'!I170","v":"-"},{"$f":"'Pivot Table Data'!J170","v":"B"},{"$f":"'Pivot Table Data'!K170","v":0},{"$f":"'Pivot Table Data'!L170","v":0},{"$f":"'Pivot Table Data'!S170","v":81},{"$f":"'Pivot Table Data'!T170","v":81},{"$f":"IF('Pivot Table Data'!O170=\"Yes\", 'Pivot Table Data'!T170, \"\")","v":81}]
[{"$f":"'Pivot Table Data'!B171","v":0},{"$f":"'Pivot Table Data'!F171","v":"Health Sciences East"},{"$f":"'Pivot Table Data'!P171","v":"P784"},{"$f":"'Pivot Table Data'!I171","v":"-"},{"$f":"'Pivot Table Data'!J171","v":"Reserved"},{"$f":"'Pivot Table Data'!K171","v":"Valet"},{"$f":"'Pivot Table Data'!L171","v":0},{"$f":"'Pivot Table Data'!S171","v":9},{"$f":"'Pivot Table Data'!T171","v":9},{"$f":"IF('Pivot Table Data'!O171=\"Yes\", 'Pivot Table Data'!T171, \"\")","v":""}]
[{"$f":"'Pivot Table Data'!B172","v":0},{"$f":"'Pivot Table Data'!F172","v":"Health Sciences East"},{"$f":"'Pivot Table Data'!P172","v":"P785"},{"$f":"'Pivot Table Data'!I172","v":"-"},{"$f":"'Pivot Table Data'!J172","v":"Accessible"},{"$f":"'Pivot Table Data'!K172","v":0},{"$f":"'Pivot Table Data'!L172","v":0},{"$f":"'Pivot Table Data'!S172","v":0},{"$f":"'Pivot Table Data'!T172","v":0},{"$f":"IF('Pivot Table Data'!O172=\"Yes\", 'Pivot Table Data'!T172, \"\")","v":""}]
[{"$f":"'Pivot Table Data'!B173","v":0},{"$f":"'Pivot Table Data'!F173","v":"Health Sciences East"},{"$f":"'Pivot Table Data'!P173","v":"P785"},{"$f":"'Pivot Table Data'!I173","v":"-"},{"$f":"'Pivot Table Data'!J173","v":"Accessible (Van)"},{"$f":"'Pivot Table Data'!K173","v":0},{"$f":"'Pivot Table Data'!L173","v":0},{"$f":"'Pivot Table Data'!S173","v":8},{"$f":"'Pivot Table Data'!T173","v":8},{"$f":"IF('Pivot Table Data'!O173=\"Yes\", 'Pivot Table Data'!T173, \"\")","v":""}]
[{"$f":"'Pivot Table Data'!B174","v":0},{"$f":"'Pivot Table Data'!F174","v":"Health Sciences East"},{"$f":"'Pivot Table Data'!P174","v":"P785"},{"$f":"'Pivot Table Data'!I174","v":"-"},{"$f":"'Pivot Table Data'!J174","v":"B"},{"$f":"'Pivot Table Data'!K174","v":0},{"$f":"'Pivot Table Data'!L174","v":0},{"$f":"'Pivot Table Data'!S174","v":384},{"$f":"'Pivot Table Data'!T174","v":384},{"$f":"IF('Pivot Table Data'!O174=\"Yes\", 'Pivot Table Data'!T174, \"\")","v":384}]
[{"$f":"'Pivot Table Data'!B175","v":0},{"$f":"'Pivot Table Data'!F175","v":"Medical Center Hillcrest"},{"$f":"'Pivot Table Data'!P175","v":"Arbor"},{"$f":"'Pivot Table Data'!I175","v":"L1"},{"$f":"'Pivot Table Data'!J175","v":"Visitor"},{"$f":"'Pivot Table Data'!K175","v":0},{"$f":"'Pivot Table Data'!L175","v":0},{"$f":"'Pivot Table Data'!S175","v":41},{"$f":"'Pivot Table Data'!T175","v":263},{"$f":"IF('Pivot Table Data'!O175=\"Yes\", 'Pivot Table Data'!T175, \"\")","v":""}]
[{"$f":"'Pivot Table Data'!B176","v":0},{"$f":"'Pivot Table Data'!F176","v":"Medical Center Hillcrest"},{"$f":"'Pivot Table Data'!P176","v":"Arbor"},{"$f":"'Pivot Table Data'!I176","v":"L2"},{"$f":"'Pivot Table Data'!J176","v":"Visitor"},{"$f":"'Pivot Table Data'!K176","v":0},{"$f":"'Pivot Table Data'!L176","v":0},{"$f":"'Pivot Table Data'!S176","v":41},{"$f":"'Pivot Table Data'!T176","v":""},{"$f":"IF('Pivot Table Data'!O176=\"Yes\", 'Pivot Table Data'!T176, \"\")","v":""}]
[{"$f":"'Pivot Table Data'!B177","v":0},{"$f":"'Pivot Table Data'!F177","v":"Medical Center Hillcrest"},{"$f":"'Pivot Table Data'!P177","v":"Arbor"},{"$f":"'Pivot Table Data'!I177","v":"L3"},{"$f":"'Pivot Table Data'!J177","v":"Visitor"},{"$f":"'Pivot Table Data'!K177","v":0},{"$f":"'Pivot Table Data'!L177","v":0},{"$f":"'Pivot Table Data'!S177","v":39},{"$f":"'Pivot Table Data'!T177","v":""},{"$f":"IF('Pivot Table Data'!O177=\"Yes\", 'Pivot Table Data'!T177, \"\")","v":""}]
[{"$f":"'Pivot Table Data'!B178","v":0},{"$f":"'Pivot Table Data'!F178","v":"Medical Center Hillcrest"},{"$f":"'Pivot Table Data'!P178","v":"Arbor"},{"$f":"'Pivot Table Data'!I178","v":"L4"},{"$f":"'Pivot Table Data'!J178","v":"Visitor"},{"$f":"'Pivot Table Data'!K178","v":0},{"$f":"'Pivot Table Data'!L178","v":0},{"$f":"'Pivot Table Data'!S178","v":39},{"$f":"'Pivot Table Data'!T178","v":""},{"$f":"IF('Pivot Table Data'!O178=\"Yes\", 'Pivot Table Data'!T178, \"\")","v":""}]
[{"$f":"'Pivot Table Data'!B179","v":0},{"$f":"'Pivot Table Data'!F179","v":"Medical Center Hillcrest"},{"$f":"'Pivot Table Data'!P179","v":"Arbor"},{"$f":"'Pivot Table Data'!I179","v":"L5"},{"$f":"'Pivot Table Data'!J179","v":"Visitor"},{"$f":"'Pivot Table Data'!K179","v":0},{"$f":"'Pivot Table Data'!L179","v":0},{"$f":"'Pivot Table Data'!S179","v":39},{"$f":"'Pivot Table Data'!T179","v":""},{"$f":"IF('Pivot Table Data'!O179=\"Yes\", 'Pivot Table Data'!T179, \"\")","v":""}]
[{"$f":"'Pivot Table Data'!B180","v":0},{"$f":"'Pivot Table Data'!F180","v":"Medical Center Hillcrest"},{"$f":"'Pivot Table Data'!P180","v":"Arbor"},{"$f":"'Pivot Table Data'!I180","v":"L6"},{"$f":"'Pivot Table Data'!J180","v":"Visitor"},{"$f":"'Pivot Table Data'!K180","v":0},{"$f":"'Pivot Table Data'!L180","v":0},{"$f":"'Pivot Table Data'!S180","v":39},{"$f":"'Pivot Table Data'!T180","v":""},{"$f":"IF('Pivot Table Data'!O180=\"Yes\", 'Pivot Table Data'!T180, \"\")","v":""}]
[{"$f":"'Pivot Table Data'!B181","v":0},{"$f":"'Pivot Table Data'!F181","v":"Medical Center Hillcrest"},{"$f":"'Pivot Table Data'!P181","v":"Arbor"},{"$f":"'Pivot Table Data'!I181","v":"L7"},{"$f":"'Pivot Table Data'!J181","v":"Motorcycle Section"},{"$f":"'Pivot Table Data'!K181","v":0},{"$f":"'Pivot Table Data'!L181","v":0},{"$f":"'Pivot Table Data'!S181","v":10},{"$f":"'Pivot Table Data'!T181","v":10},{"$f":"IF('Pivot Table Data'!O181=\"Yes\", 'Pivot Table Data'!T181, \"\")","v":""}]
[{"$f":"'Pivot Table Data'!B182","v":0},{"$f":"'Pivot Table Data'!F182","v":"Medical Center Hillcrest"},{"$f":"'Pivot Table Data'!P182","v":"Arbor"},{"$f":"'Pivot Table Data'!I182","v":"L7"},{"$f":"'Pivot Table Data'!J182","v":"Visitor"},{"$f":"'Pivot Table Data'!K182","v":"Patient Visitor Reserved"},{"$f":"'Pivot Table Data'!L182","v":0},{"$f":"'Pivot Table Data'!S182","v":4},{"$f":"'Pivot Table Data'!T182","v":4},{"$f":"IF('Pivot Table Data'!O182=\"Yes\", 'Pivot Table Data'!T182, \"\")","v":""}]
[{"$f":"'Pivot Table Data'!B183","v":0},{"$f":"'Pivot Table Data'!F183","v":"Medical Center Hillcrest"},{"$f":"'Pivot Table Data'!P183","v":"Arbor"},{"$f":"'Pivot Table Data'!I183","v":"L7"},{"$f":"'Pivot Table Data'!J183","v":"Visitor"},{"$f":"'Pivot Table Data'!K183","v":0},{"$f":"'Pivot Table Data'!L183","v":0},{"$f":"'Pivot Table Data'!S183","v":25},{"$f":"'Pivot Table Data'!T183","v":""},{"$f":"IF('Pivot Table Data'!O183=\"Yes\", 'Pivot Table Data'!T183, \"\")","v":""}]
[{"$f":"'Pivot Table Data'!B184","v":0},{"$f":"'Pivot Table Data'!F184","v":"Medical Center Hillcrest"},{"$f":"'Pivot Table Data'!P184","v":"Arbor"},{"$f":"'Pivot Table Data'!I184","v":"L8"},{"$f":"'Pivot Table Data'!J184","v":"Accessible"},{"$f":"'Pivot Table Data'!K184","v":0},{"$f":"'Pivot Table Data'!L184","v":0},{"$f":"'Pivot Table Data'!S184","v":10},{"$f":"'Pivot Table Data'!T184","v":15},{"$f":"IF('Pivot Table Data'!O184=\"Yes\", 'Pivot Table Data'!T184, \"\")","v":""}]
[{"$f":"'Pivot Table Data'!B185","v":0},{"$f":"'Pivot Table Data'!F185","v":"Medical Center Hillcrest"},{"$f":"'Pivot Table Data'!P185","v":"Arbor"},{"$f":"'Pivot Table Data'!I185","v":"L8"},{"$f":"'Pivot Table Data'!J185","v":"Accessible (Van)"},{"$f":"'Pivot Table Data'!K185","v":0},{"$f":"'Pivot Table Data'!L185","v":0},{"$f":"'Pivot Table Data'!S185","v":0},{"$f":"'Pivot Table Data'!T185","v":0},{"$f":"IF('Pivot Table Data'!O185=\"Yes\", 'Pivot Table Data'!T185, \"\")","v":""}]
[{"$f":"'Pivot Table Data'!B186","v":0},{"$f":"'Pivot Table Data'!F186","v":"Medical Center Hillcrest"},{"$f":"'Pivot Table Data'!P186","v":"Arbor"},{"$f":"'Pivot Table Data'!I186","v":"L8"},{"$f":"'Pivot Table Data'!J186","v":"Reserved"},{"$f":"'Pivot Table Data'!K186","v":"Transportation Office"},{"$f":"'Pivot Table Data'!L186","v":0},{"$f":"'Pivot Table Data'!S186","v":1},{"$f":"'Pivot Table Data'!T186","v":1},{"$f":"IF('Pivot Table Data'!O186=\"Yes\", 'Pivot Table Data'!T186, \"\")","v":""}]
[{"$f":"'Pivot Table Data'!B187","v":0},{"$f":"'Pivot Table Data'!F187","v":"Medical Center Hillcrest"},{"$f":"'Pivot Table Data'!P187","v":"Arbor"},{"$f":"'Pivot Table Data'!I187","v":"L8"},{"$f":"'Pivot Table Data'!J187","v":"UC Vehicle"},{"$f":"'Pivot Table Data'!K187","v":0},{"$f":"'Pivot Table Data'!L187","v":0},{"$f":"'Pivot Table Data'!S187","v":2},{"$f":"'Pivot Table Data'!T187","v":2},{"$f":"IF('Pivot Table Data'!O187=\"Yes\", 'Pivot Table Data'!T187, \"\")","v":""}]
[{"$f":"'Pivot Table Data'!B188","v":0},{"$f":"'Pivot Table Data'!F188","v":"Medical Center Hillcrest"},{"$f":"'Pivot Table Data'!P188","v":"Arbor"},{"$f":"'Pivot Table Data'!I188","v":"L9"},{"$f":"'Pivot Table Data'!J188","v":"Electric Vehicle"},{"$f":"'Pivot Table Data'!K188","v":0},{"$f":"'Pivot Table Data'!L188","v":"4 Hours"},{"$f":"'Pivot Table Data'!S188","v":12},{"$f":"'Pivot Table Data'!T188","v":12},{"$f":"IF('Pivot Table Data'!O188=\"Yes\", 'Pivot Table Data'!T188, \"\")","v":""}]
[{"$f":"'Pivot Table Data'!B189","v":0},{"$f":"'Pivot Table Data'!F189","v":"Medical Center Hillcrest"},{"$f":"'Pivot Table Data'!P189","v":"Arbor"},{"$f":"'Pivot Table Data'!I189","v":"L9"},{"$f":"'Pivot Table Data'!J189","v":"Motorcycle Section"},{"$f":"'Pivot Table Data'!K189","v":0},{"$f":"'Pivot Table Data'!L189","v":0},{"$f":"'Pivot Table Data'!S189","v":0},{"$f":"'Pivot Table Data'!T189","v":""},{"$f":"IF('Pivot Table Data'!O189=\"Yes\", 'Pivot Table Data'!T189, \"\")","v":""}]
[{"$f":"'Pivot Table Data'!B190","v":0},{"$f":"'Pivot Table Data'!F190","v":"Medical Center Hillcrest"},{"$f":"'Pivot Table Data'!P190","v":"Arbor"},{"$f":"'Pivot Table Data'!I190","v":"L9"},{"$f":"'Pivot Table Data'!J190","v":"Reserved"},{"$f":"'Pivot Table Data'!K190","v":0},{"$f":"'Pivot Table Data'!L190","v":0},{"$f":"'Pivot Table Data'!S190","v":19},{"$f":"'Pivot Table Data'!T190","v":19},{"$f":"IF('Pivot Table Data'!O190=\"Yes\", 'Pivot Table Data'!T190, \"\")","v":""}]
[{"$f":"'Pivot Table Data'!B191","v":0},{"$f":"'Pivot Table Data'!F191","v":"Medical Center Hillcrest"},{"$f":"'Pivot Table Data'!P191","v":"Arbor"},{"$f":"'Pivot Table Data'!I191","v":"L10"},{"$f":"'Pivot Table Data'!J191","v":"A"},{"$f":"'Pivot Table Data'!K191","v":0},{"$f":"'Pivot Table Data'!L191","v":0},{"$f":"'Pivot Table Data'!S191","v":44},{"$f":"'Pivot Table Data'!T191","v":226},{"$f":"IF('Pivot Table Data'!O191=\"Yes\", 'Pivot Table Data'!T191, \"\")","v":""}]
[{"$f":"'Pivot Table Data'!B192","v":0},{"$f":"'Pivot Table Data'!F192","v":"Medical Center Hillcrest"},{"$f":"'Pivot Table Data'!P192","v":"Arbor"},{"$f":"'Pivot Table Data'!I192","v":"L10"},{"$f":"'Pivot Table Data'!J192","v":"Accessible"},{"$f":"'Pivot Table Data'!K192","v":0},{"$f":"'Pivot Table Data'!L192","v":0},{"$f":"'Pivot Table Data'!S192","v":3},{"$f":"'Pivot Table Data'!T192","v":""},{"$f":"IF('Pivot Table Data'!O192=\"Yes\", 'Pivot Table Data'!T192, \"\")","v":""}]
[{"$f":"'Pivot Table Data'!B193","v":0},{"$f":"'Pivot Table Data'!F193","v":"Medical Center Hillcrest"},{"$f":"'Pivot Table Data'!P193","v":"Arbor"},{"$f":"'Pivot Table Data'!I193","v":"L10"},{"$f":"'Pivot Table Data'!J193","v":"Accessible (Van)"},{"$f":"'Pivot Table Data'!K193","v":0},{"$f":"'Pivot Table Data'!L193","v":0},{"$f":"'Pivot Table Data'!S193","v":0},{"$f":"'Pivot Table Data'!T193","v":""},{"$f":"IF('Pivot Table Data'!O193=\"Yes\", 'Pivot Table Data'!T193, \"\")","v":""}]
[{"$f":"'Pivot Table Data'!B194","v":0},{"$f":"'Pivot Table Data'!F194","v":"Medical Center Hillcrest"},{"$f":"'Pivot Table Data'!P194","v":"Arbor"},{"$f":"'Pivot Table Data'!I194","v":"L11"},{"$f":"'Pivot Table Data'!J194","v":"A"},{"$f":"'Pivot Table Data'!K194","v":0},{"$f":"'Pivot Table Data'!L194","v":0},{"$f":"'Pivot Table Data'!S194","v":47},{"$f":"'Pivot Table Data'!T194","v":""},{"$f":"IF('Pivot Table Data'!O194=\"Yes\", 'Pivot Table Data'!T194, \"\")","v":""}]
[{"$f":"'Pivot Table Data'!B195","v":0},{"$f":"'Pivot Table Data'!F195","v":"Medical Center Hillcrest"},{"$f":"'Pivot Table Data'!P195","v":"Arbor"},{"$f":"'Pivot Table Data'!I195","v":"L12"},{"$f":"'Pivot Table Data'!J195","v":"A"},{"$f":"'Pivot Table Data'!K195","v":0},{"$f":"'Pivot Table Data'!L195","v":0},{"$f":"'Pivot Table Data'!S195","v":45},{"$f":"'Pivot Table Data'!T195","v":""},{"$f":"IF('Pivot Table Data'!O195=\"Yes\", 'Pivot Table Data'!T195, \"\")","v":""}]
[{"$f":"'Pivot Table Data'!B196","v":0},{"$f":"'Pivot Table Data'!F196","v":"Medical Center Hillcrest"},{"$f":"'Pivot Table Data'!P196","v":"Arbor"},{"$f":"'Pivot Table Data'!I196","v":"L12"},{"$f":"'Pivot Table Data'!J196","v":"Accessible"},{"$f":"'Pivot Table Data'!K196","v":0},{"$f":"'Pivot Table Data'!L196","v":0},{"$f":"'Pivot Table Data'!S196","v":1},{"$f":"'Pivot Table Data'!T196","v":""},{"$f":"IF('Pivot Table Data'!O196=\"Yes\", 'Pivot Table Data'!T196, \"\")","v":""}]
[{"$f":"'Pivot Table Data'!B197","v":0},{"$f":"'Pivot Table Data'!F197","v":"Medical Center Hillcrest"},{"$f":"'Pivot Table Data'!P197","v":"Arbor"},{"$f":"'Pivot Table Data'!I197","v":"L12"},{"$f":"'Pivot Table Data'!J197","v":"Accessible (Van)"},{"$f":"'Pivot Table Data'!K197","v":0},{"$f":"'Pivot Table Data'!L197","v":0},{"$f":"'Pivot Table Data'!S197","v":0},{"$f":"'Pivot Table Data'!T197","v":""},{"$f":"IF('Pivot Table Data'!O197=\"Yes\", 'Pivot Table Data'!T197, \"\")","v":""}]
[{"$f":"'Pivot Table Data'!B198","v":0},{"$f":"'Pivot Table Data'!F198","v":"Medical Center Hillcrest"},{"$f":"'Pivot Table Data'!P198","v":"Arbor"},{"$f":"'Pivot Table Data'!I198","v":"L13"},{"$f":"'Pivot Table Data'!J198","v":"A"},{"$f":"'Pivot Table Data'!K198","v":0},{"$f":"'Pivot Table Data'!L198","v":0},{"$f":"'Pivot Table Data'!S198","v":47},{"$f":"'Pivot Table Data'!T198","v":""},{"$f":"IF('Pivot Table Data'!O198=\"Yes\", 'Pivot Table Data'!T198, \"\")","v":""}]
[{"$f":"'Pivot Table Data'!B199","v":0},{"$f":"'Pivot Table Data'!F199","v":"Medical Center Hillcrest"},{"$f":"'Pivot Table Data'!P199","v":"Arbor"},{"$f":"'Pivot Table Data'!I199","v":"L14"},{"$f":"'Pivot Table Data'!J199","v":"A"},{"$f":"'Pivot Table Data'!K199","v":0},{"$f":"'Pivot Table Data'!L199","v":0},{"$f":"'Pivot Table Data'!S199","v":43},{"$f":"'Pivot Table Data'!T199","v":""},{"$f":"IF('Pivot Table Data'!O199=\"Yes\", 'Pivot Table Data'!T199, \"\")","v":""}]
[{"$f":"'Pivot Table Data'!B200","v":0},{"$f":"'Pivot Table Data'!F200","v":"Medical Center Hillcrest"},{"$f":"'Pivot Table Data'!P200","v":"Arbor"},{"$f":"'Pivot Table Data'!I200","v":"L14"},{"$f":"'Pivot Table Data'!J200","v":"Accessible"},{"$f":"'Pivot Table Data'!K200","v":0},{"$f":"'Pivot Table Data'!L200","v":0},{"$f":"'Pivot Table Data'!S200","v":1},{"$f":"'Pivot Table Data'!T200","v":""},{"$f":"IF('Pivot Table Data'!O200=\"Yes\", 'Pivot Table Data'!T200, \"\")","v":""}]
[{"$f":"'Pivot Table Data'!B201","v":0},{"$f":"'Pivot Table Data'!F201","v":"Medical Center Hillcrest"},{"$f":"'Pivot Table Data'!P201","v":"Arbor"},{"$f":"'Pivot Table Data'!I201","v":"L14"},{"$f":"'Pivot Table Data'!J201","v":"Accessible (Van)"},{"$f":"'Pivot Table Data'!K201","v":0},{"$f":"'Pivot Table Data'!L201","v":0},{"$f":"'Pivot Table Data'!S201","v":0},{"$f":"'Pivot Table Data'!T201","v":""},{"$f":"IF('Pivot Table Data'!O201=\"Yes\", 'Pivot Table Data'!T201, \"\")","v":""}]
[{"$f":"'Pivot Table Data'!B202","v":0},{"$f":"'Pivot Table Data'!F202","v":"Medical Center HIllcrest"},{"$f":"'Pivot Table Data'!P202","v":"First Ave"},{"$f":"'Pivot Table Data'!I202","v":"B2 & Ramps to Next Level"},{"$f":"'Pivot Table Data'!J202","v":"Accessible"},{"$f":"'Pivot Table Data'!K202","v":"Construction"},{"$f":"'Pivot Table Data'!L202","v":0},{"$f":"'Pivot Table Data'!S202","v":5},{"$f":"'Pivot Table Data'!T202","v":9},{"$f":"IF('Pivot Table Data'!O202=\"Yes\", 'Pivot Table Data'!T202, \"\")","v":""}]
[{"$f":"'Pivot Table Data'!B203","v":0},{"$f":"'Pivot Table Data'!F203","v":"Medical Center HIllcrest"},{"$f":"'Pivot Table Data'!P203","v":"First Ave"},{"$f":"'Pivot Table Data'!I203","v":"B2 & Ramps to Next Level"},{"$f":"'Pivot Table Data'!J203","v":"Accessible (Van)"},{"$f":"'Pivot Table Data'!K203","v":0},{"$f":"'Pivot Table Data'!L203","v":0},{"$f":"'Pivot Table Data'!S203","v":0},{"$f":"'Pivot Table Data'!T203","v":0},{"$f":"IF('Pivot Table Data'!O203=\"Yes\", 'Pivot Table Data'!T203, \"\")","v":""}]
[{"$f":"'Pivot Table Data'!B204","v":0},{"$f":"'Pivot Table Data'!F204","v":"Medical Center HIllcrest"},{"$f":"'Pivot Table Data'!P204","v":"First Ave"},{"$f":"'Pivot Table Data'!I204","v":"B2 & Ramps to Next Level"},{"$f":"'Pivot Table Data'!J204","v":"B"},{"$f":"'Pivot Table Data'!K204","v":"Construction"},{"$f":"'Pivot Table Data'!L204","v":0},{"$f":"'Pivot Table Data'!S204","v":242},{"$f":"'Pivot Table Data'!T204","v":438},{"$f":"IF('Pivot Table Data'!O204=\"Yes\", 'Pivot Table Data'!T204, \"\")","v":""}]
[{"$f":"'Pivot Table Data'!B205","v":0},{"$f":"'Pivot Table Data'!F205","v":"Medical Center HIllcrest"},{"$f":"'Pivot Table Data'!P205","v":"First Ave"},{"$f":"'Pivot Table Data'!I205","v":"B2 & Ramps to Next Level"},{"$f":"'Pivot Table Data'!J205","v":"Electric Vehicle"},{"$f":"'Pivot Table Data'!K205","v":"Construction"},{"$f":"'Pivot Table Data'!L205","v":0},{"$f":"'Pivot Table Data'!S205","v":0},{"$f":"'Pivot Table Data'!T205","v":0},{"$f":"IF('Pivot Table Data'!O205=\"Yes\", 'Pivot Table Data'!T205, \"\")","v":""}]
[{"$f":"'Pivot Table Data'!B206","v":0},{"$f":"'Pivot Table Data'!F206","v":"Medical Center HIllcrest"},{"$f":"'Pivot Table Data'!P206","v":"First Ave"},{"$f":"'Pivot Table Data'!I206","v":"B2 & Ramps to Next Level"},{"$f":"'Pivot Table Data'!J206","v":"Motorcycle Section"},{"$f":"'Pivot Table Data'!K206","v":"Construction"},{"$f":"'Pivot Table Data'!L206","v":0},{"$f":"'Pivot Table Data'!S206","v":15},{"$f":"'Pivot Table Data'!T206","v":23},{"$f":"IF('Pivot Table Data'!O206=\"Yes\", 'Pivot Table Data'!T206, \"\")","v":""}]
[{"$f":"'Pivot Table Data'!B207","v":0},{"$f":"'Pivot Table Data'!F207","v":"Medical Center HIllcrest"},{"$f":"'Pivot Table Data'!P207","v":"First Ave"},{"$f":"'Pivot Table Data'!I207","v":"B2 & Ramps to Next Level"},{"$f":"'Pivot Table Data'!J207","v":"Reserved"},{"$f":"'Pivot Table Data'!K207","v":0},{"$f":"'Pivot Table Data'!L207","v":0},{"$f":"'Pivot Table Data'!S207","v":8},{"$f":"'Pivot Table Data'!T207","v":8},{"$f":"IF('Pivot Table Data'!O207=\"Yes\", 'Pivot Table Data'!T207, \"\")","v":""}]
[{"$f":"'Pivot Table Data'!B208","v":0},{"$f":"'Pivot Table Data'!F208","v":"Medical Center HIllcrest"},{"$f":"'Pivot Table Data'!P208","v":"First Ave"},{"$f":"'Pivot Table Data'!I208","v":"B1 & Ramps to Next Level"},{"$f":"'Pivot Table Data'!J208","v":"A"},{"$f":"'Pivot Table Data'!K208","v":"Construction"},{"$f":"'Pivot Table Data'!L208","v":0},{"$f":"'Pivot Table Data'!S208","v":0},{"$f":"'Pivot Table Data'!T208","v":0},{"$f":"IF('Pivot Table Data'!O208=\"Yes\", 'Pivot Table Data'!T208, \"\")","v":""}]
[{"$f":"'Pivot Table Data'!B209","v":0},{"$f":"'Pivot Table Data'!F209","v":"Medical Center HIllcrest"},{"$f":"'Pivot Table Data'!P209","v":"First Ave"},{"$f":"'Pivot Table Data'!I209","v":"B1 & Ramps to Next Level"},{"$f":"'Pivot Table Data'!J209","v":"Accessible"},{"$f":"'Pivot Table Data'!K209","v":"Construction"},{"$f":"'Pivot Table Data'!L209","v":0},{"$f":"'Pivot Table Data'!S209","v":4},{"$f":"'Pivot Table Data'!T209","v":""},{"$f":"IF('Pivot Table Data'!O209=\"Yes\", 'Pivot Table Data'!T209, \"\")","v":""}]
[{"$f":"'Pivot Table Data'!B210","v":0},{"$f":"'Pivot Table Data'!F210","v":"Medical Center HIllcrest"},{"$f":"'Pivot Table Data'!P210","v":"First Ave"},{"$f":"'Pivot Table Data'!I210","v":"B1 & Ramps to Next Level"},{"$f":"'Pivot Table Data'!J210","v":"Accessible (Van)"},{"$f":"'Pivot Table Data'!K210","v":0},{"$f":"'Pivot Table Data'!L210","v":0},{"$f":"'Pivot Table Data'!S210","v":0},{"$f":"'Pivot Table Data'!T210","v":""},{"$f":"IF('Pivot Table Data'!O210=\"Yes\", 'Pivot Table Data'!T210, \"\")","v":""}]
[{"$f":"'Pivot Table Data'!B211","v":0},{"$f":"'Pivot Table Data'!F211","v":"Medical Center HIllcrest"},{"$f":"'Pivot Table Data'!P211","v":"First Ave"},{"$f":"'Pivot Table Data'!I211","v":"B1 & Ramps to Next Level"},{"$f":"'Pivot Table Data'!J211","v":"B"},{"$f":"'Pivot Table Data'!K211","v":"Construction"},{"$f":"'Pivot Table Data'!L211","v":0},{"$f":"'Pivot Table Data'!S211","v":196},{"$f":"'Pivot Table Data'!T211","v":""},{"$f":"IF('Pivot Table Data'!O211=\"Yes\", 'Pivot Table Data'!T211, \"\")","v":""}]
[{"$f":"'Pivot Table Data'!B212","v":0},{"$f":"'Pivot Table Data'!F212","v":"Medical Center HIllcrest"},{"$f":"'Pivot Table Data'!P212","v":"First Ave"},{"$f":"'Pivot Table Data'!I212","v":"B1 & Ramps to Next Level"},{"$f":"'Pivot Table Data'!J212","v":"Electric Vehicle"},{"$f":"'Pivot Table Data'!K212","v":"Construction"},{"$f":"'Pivot Table Data'!L212","v":0},{"$f":"'Pivot Table Data'!S212","v":0},{"$f":"'Pivot Table Data'!T212","v":""},{"$f":"IF('Pivot Table Data'!O212=\"Yes\", 'Pivot Table Data'!T212, \"\")","v":""}]
[{"$f":"'Pivot Table Data'!B213","v":0},{"$f":"'Pivot Table Data'!F213","v":"Medical Center HIllcrest"},{"$f":"'Pivot Table Data'!P213","v":"First Ave"},{"$f":"'Pivot Table Data'!I213","v":"B1 & Ramps to Next Level"},{"$f":"'Pivot Table Data'!J213","v":"Motorcycle Section"},{"$f":"'Pivot Table Data'!K213","v":"Construction"},{"$f":"'Pivot Table Data'!L213","v":0},{"$f":"'Pivot Table Data'!S213","v":8},{"$f":"'Pivot Table Data'!T213","v":""},{"$f":"IF('Pivot Table Data'!O213=\"Yes\", 'Pivot Table Data'!T213, \"\")","v":""}]
[{"$f":"'Pivot Table Data'!B214","v":0},{"$f":"'Pivot Table Data'!F214","v":"Medical Center HIllcrest"},{"$f":"'Pivot Table Data'!P214","v":"First Ave"},{"$f":"'Pivot Table Data'!I214","v":"B1 & Ramps to Next Level"},{"$f":"'Pivot Table Data'!J214","v":"Reserved"},{"$f":"'Pivot Table Data'!K214","v":0},{"$f":"'Pivot Table Data'!L214","v":0},{"$f":"'Pivot Table Data'!S214","v":0},{"$f":"'Pivot Table Data'!T214","v":""},{"$f":"IF('Pivot Table Data'!O214=\"Yes\", 'Pivot Table Data'!T214, \"\")","v":""}]
[{"$f":"'Pivot Table Data'!B215","v":0},{"$f":"'Pivot Table Data'!F215","v":"Medical Center HIllcrest"},{"$f":"'Pivot Table Data'!P215","v":"First Ave"},{"$f":"'Pivot Table Data'!I215","v":"PL & Ramps to Next Level"},{"$f":"'Pivot Table Data'!J215","v":"A"},{"$f":"'Pivot Table Data'!K215","v":0},{"$f":"'Pivot Table Data'!L215","v":0},{"$f":"'Pivot Table Data'!S215","v":0},{"$f":"'Pivot Table Data'!T215","v":0},{"$f":"IF('Pivot Table Data'!O215=\"Yes\", 'Pivot Table Data'!T215, \"\")","v":""}]
[{"$f":"'Pivot Table Data'!B216","v":0},{"$f":"'Pivot Table Data'!F216","v":"Medical Center HIllcrest"},{"$f":"'Pivot Table Data'!P216","v":"First Ave"},{"$f":"'Pivot Table Data'!I216","v":"PL & Ramps to Next Level"},{"$f":"'Pivot Table Data'!J216","v":"Accessible"},{"$f":"'Pivot Table Data'!K216","v":0},{"$f":"'Pivot Table Data'!L216","v":0},{"$f":"'Pivot Table Data'!S216","v":6},{"$f":"'Pivot Table Data'!T216","v":50},{"$f":"IF('Pivot Table Data'!O216=\"Yes\", 'Pivot Table Data'!T216, \"\")","v":""}]
[{"$f":"'Pivot Table Data'!B217","v":0},{"$f":"'Pivot Table Data'!F217","v":"Medical Center HIllcrest"},{"$f":"'Pivot Table Data'!P217","v":"First Ave"},{"$f":"'Pivot Table Data'!I217","v":"PL & Ramps to Next Level"},{"$f":"'Pivot Table Data'!J217","v":"Accessible (Van)"},{"$f":"'Pivot Table Data'!K217","v":0},{"$f":"'Pivot Table Data'!L217","v":0},{"$f":"'Pivot Table Data'!S217","v":0},{"$f":"'Pivot Table Data'!T217","v":""},{"$f":"IF('Pivot Table Data'!O217=\"Yes\", 'Pivot Table Data'!T217, \"\")","v":""}]
[{"$f":"'Pivot Table Data'!B218","v":0},{"$f":"'Pivot Table Data'!F218","v":"Medical Center HIllcrest"},{"$f":"'Pivot Table Data'!P218","v":"First Ave"},{"$f":"'Pivot Table Data'!I218","v":"PL & Ramps to Next Level"},{"$f":"'Pivot Table Data'!J218","v":"B"},{"$f":"'Pivot Table Data'!K218","v":0},{"$f":"'Pivot Table Data'!L218","v":0},{"$f":"'Pivot Table Data'!S218","v":193},{"$f":"'Pivot Table Data'!T218","v":1265},{"$f":"IF('Pivot Table Data'!O218=\"Yes\", 'Pivot Table Data'!T218, \"\")","v":""}]
[{"$f":"'Pivot Table Data'!B219","v":0},{"$f":"'Pivot Table Data'!F219","v":"Medical Center HIllcrest"},{"$f":"'Pivot Table Data'!P219","v":"First Ave"},{"$f":"'Pivot Table Data'!I219","v":"PL & Ramps to Next Level"},{"$f":"'Pivot Table Data'!J219","v":"Electric Vehicle"},{"$f":"'Pivot Table Data'!K219","v":0},{"$f":"'Pivot Table Data'!L219","v":0},{"$f":"'Pivot Table Data'!S219","v":0},{"$f":"'Pivot Table Data'!T219","v":30},{"$f":"IF('Pivot Table Data'!O219=\"Yes\", 'Pivot Table Data'!T219, \"\")","v":""}]
[{"$f":"'Pivot Table Data'!B220","v":0},{"$f":"'Pivot Table Data'!F220","v":"Medical Center HIllcrest"},{"$f":"'Pivot Table Data'!P220","v":"First Ave"},{"$f":"'Pivot Table Data'!I220","v":"PL & Ramps to Next Level"},{"$f":"'Pivot Table Data'!J220","v":"Motorcycle Section"},{"$f":"'Pivot Table Data'!K220","v":0},{"$f":"'Pivot Table Data'!L220","v":0},{"$f":"'Pivot Table Data'!S220","v":1},{"$f":"'Pivot Table Data'!T220","v":42},{"$f":"IF('Pivot Table Data'!O220=\"Yes\", 'Pivot Table Data'!T220, \"\")","v":""}]
[{"$f":"'Pivot Table Data'!B221","v":0},{"$f":"'Pivot Table Data'!F221","v":"Medical Center HIllcrest"},{"$f":"'Pivot Table Data'!P221","v":"First Ave"},{"$f":"'Pivot Table Data'!I221","v":"PL & Ramps to Next Level"},{"$f":"'Pivot Table Data'!J221","v":"Reserved"},{"$f":"'Pivot Table Data'!K221","v":0},{"$f":"'Pivot Table Data'!L221","v":0},{"$f":"'Pivot Table Data'!S221","v":0},{"$f":"'Pivot Table Data'!T221","v":""},{"$f":"IF('Pivot Table Data'!O221=\"Yes\", 'Pivot Table Data'!T221, \"\")","v":""}]
[{"$f":"'Pivot Table Data'!B222","v":0},{"$f":"'Pivot Table Data'!F222","v":"Medical Center HIllcrest"},{"$f":"'Pivot Table Data'!P222","v":"First Ave"},{"$f":"'Pivot Table Data'!I222","v":"P0 & Ramps to Next Level"},{"$f":"'Pivot Table Data'!J222","v":"A"},{"$f":"'Pivot Table Data'!K222","v":0},{"$f":"'Pivot Table Data'!L222","v":0},{"$f":"'Pivot Table Data'!S222","v":0},{"$f":"'Pivot Table Data'!T222","v":""},{"$f":"IF('Pivot Table Data'!O222=\"Yes\", 'Pivot Table Data'!T222, \"\")","v":""}]
[{"$f":"'Pivot Table Data'!B223","v":0},{"$f":"'Pivot Table Data'!F223","v":"Medical Center HIllcrest"},{"$f":"'Pivot Table Data'!P223","v":"First Ave"},{"$f":"'Pivot Table Data'!I223","v":"P0 & Ramps to Next Level"},{"$f":"'Pivot Table Data'!J223","v":"Accessible"},{"$f":"'Pivot Table Data'!K223","v":0},{"$f":"'Pivot Table Data'!L223","v":0},{"$f":"'Pivot Table Data'!S223","v":8},{"$f":"'Pivot Table Data'!T223","v":""},{"$f":"IF('Pivot Table Data'!O223=\"Yes\", 'Pivot Table Data'!T223, \"\")","v":""}]
[{"$f":"'Pivot Table Data'!B224","v":0},{"$f":"'Pivot Table Data'!F224","v":"Medical Center HIllcrest"},{"$f":"'Pivot Table Data'!P224","v":"First Ave"},{"$f":"'Pivot Table Data'!I224","v":"P0 & Ramps to Next Level"},{"$f":"'Pivot Table Data'!J224","v":"Accessible (Van)"},{"$f":"'Pivot Table Data'!K224","v":0},{"$f":"'Pivot Table Data'!L224","v":0},{"$f":"'Pivot Table Data'!S224","v":0},{"$f":"'Pivot Table Data'!T224","v":""},{"$f":"IF('Pivot Table Data'!O224=\"Yes\", 'Pivot Table Data'!T224, \"\")","v":""}]
[{"$f":"'Pivot Table Data'!B225","v":0},{"$f":"'Pivot Table Data'!F225","v":"Medical Center HIllcrest"},{"$f":"'Pivot Table Data'!P225","v":"First Ave"},{"$f":"'Pivot Table Data'!I225","v":"P0 & Ramps to Next Level"},{"$f":"'Pivot Table Data'!J225","v":"B"},{"$f":"'Pivot Table Data'!K225","v":0},{"$f":"'Pivot Table Data'!L225","v":0},{"$f":"'Pivot Table Data'!S225","v":179},{"$f":"'Pivot Table Data'!T225","v":""},{"$f":"IF('Pivot Table Data'!O225=\"Yes\", 'Pivot Table Data'!T225, \"\")","v":""}]
[{"$f":"'Pivot Table Data'!B226","v":0},{"$f":"'Pivot Table Data'!F226","v":"Medical Center HIllcrest"},{"$f":"'Pivot Table Data'!P226","v":"First Ave"},{"$f":"'Pivot Table Data'!I226","v":"P0 & Ramps to Next Level"},{"$f":"'Pivot Table Data'!J226","v":"Electric Vehicle"},{"$f":"'Pivot Table Data'!K226","v":0},{"$f":"'Pivot Table Data'!L226","v":0},{"$f":"'Pivot Table Data'!S226","v":10},{"$f":"'Pivot Table Data'!T226","v":""},{"$f":"IF('Pivot Table Data'!O226=\"Yes\", 'Pivot Table Data'!T226, \"\")","v":""}]
[{"$f":"'Pivot Table Data'!B227","v":0},{"$f":"'Pivot Table Data'!F227","v":"Medical Center HIllcrest"},{"$f":"'Pivot Table Data'!P227","v":"First Ave"},{"$f":"'Pivot Table Data'!I227","v":"P0 & Ramps to Next Level"},{"$f":"'Pivot Table Data'!J227","v":"Motorcycle Section"},{"$f":"'Pivot Table Data'!K227","v":0},{"$f":"'Pivot Table Data'!L227","v":0},{"$f":"'Pivot Table Data'!S227","v":8},{"$f":"'Pivot Table Data'!T227","v":""},{"$f":"IF('Pivot Table Data'!O227=\"Yes\", 'Pivot Table Data'!T227, \"\")","v":""}]
[{"$f":"'Pivot Table Data'!B228","v":0},{"$f":"'Pivot Table Data'!F228","v":"Medical Center HIllcrest"},{"$f":"'Pivot Table Data'!P228","v":"First Ave"},{"$f":"'Pivot Table Data'!I228","v":"P0 & Ramps to Next Level"},{"$f":"'Pivot Table Data'!J228","v":"Reserved"},{"$f":"'Pivot Table Data'!K228","v":0},{"$f":"'Pivot Table Data'!L228","v":0},{"$f":"'Pivot Table Data'!S228","v":0},{"$f":"'Pivot Table Data'!T228","v":""},{"$f":"IF('Pivot Table Data'!O228=\"Yes\", 'Pivot Table Data'!T228, \"\")","v":""}]
[{"$f":"'Pivot Table Data'!B229","v":0},{"$f":"'Pivot Table Data'!F229","v":"Medical Center HIllcrest"},{"$f":"'Pivot Table Data'!P229","v":"First Ave"},{"$f":"'Pivot Table Data'!I229","v":"P1 & Ramps to Next Level"},{"$f":"'Pivot Table Data'!J229","v":"A"},{"$f":"'Pivot Table Data'!K229","v":0},{"$f":"'Pivot Table Data'!L229","v":0},{"$f":"'Pivot Table Data'!S229","v":0},{"$f":"'Pivot Table Data'!T229","v":""},{"$f":"IF('Pivot Table Data'!O229=\"Yes\", 'Pivot Table Data'!T229, \"\")","v":""}]
[{"$f":"'Pivot Table Data'!B230","v":0},{"$f":"'Pivot Table Data'!F230","v":"Medical Center HIllcrest"},{"$f":"'Pivot Table Data'!P230","v":"First Ave"},{"$f":"'Pivot Table Data'!I230","v":"P1 & Ramps to Next Level"},{"$f":"'Pivot Table Data'!J230","v":"B"},{"$f":"'Pivot Table Data'!K230","v":0},{"$f":"'Pivot Table Data'!L230","v":0},{"$f":"'Pivot Table Data'!S230","v":158},{"$f":"'Pivot Table Data'!T230","v":""},{"$f":"IF('Pivot Table Data'!O230=\"Yes\", 'Pivot Table Data'!T230, \"\")","v":""}]
[{"$f":"'Pivot Table Data'!B231","v":0},{"$f":"'Pivot Table Data'!F231","v":"Medical Center HIllcrest"},{"$f":"'Pivot Table Data'!P231","v":"First Ave"},{"$f":"'Pivot Table Data'!I231","v":"P1 & Ramps to Next Level"},{"$f":"'Pivot Table Data'!J231","v":"Electric Vehicle"},{"$f":"'Pivot Table Data'!K231","v":0},{"$f":"'Pivot Table Data'!L231","v":0},{"$f":"'Pivot Table Data'!S231","v":10},{"$f":"'Pivot Table Data'!T231","v":""},{"$f":"IF('Pivot Table Data'!O231=\"Yes\", 'Pivot Table Data'!T231, \"\")","v":""}]
[{"$f":"'Pivot Table Data'!B232","v":0},{"$f":"'Pivot Table Data'!F232","v":"Medical Center HIllcrest"},{"$f":"'Pivot Table Data'!P232","v":"First Ave"},{"$f":"'Pivot Table Data'!I232","v":"P1 & Ramps to Next Level"},{"$f":"'Pivot Table Data'!J232","v":"Motorcycle Section"},{"$f":"'Pivot Table Data'!K232","v":0},{"$f":"'Pivot Table Data'!L232","v":0},{"$f":"'Pivot Table Data'!S232","v":6},{"$f":"'Pivot Table Data'!T232","v":""},{"$f":"IF('Pivot Table Data'!O232=\"Yes\", 'Pivot Table Data'!T232, \"\")","v":""}]
[{"$f":"'Pivot Table Data'!B233","v":0},{"$f":"'Pivot Table Data'!F233","v":"Medical Center HIllcrest"},{"$f":"'Pivot Table Data'!P233","v":"First Ave"},{"$f":"'Pivot Table Data'!I233","v":"P1 & Ramps to Next Level"},{"$f":"'Pivot Table Data'!J233","v":"Reserved"},{"$f":"'Pivot Table Data'!K233","v":0},{"$f":"'Pivot Table Data'!L233","v":0},{"$f":"'Pivot Table Data'!S233","v":0},{"$f":"'Pivot Table Data'!T233","v":""},{"$f":"IF('Pivot Table Data'!O233=\"Yes\", 'Pivot Table Data'!T233, \"\")","v":""}]
[{"$f":"'Pivot Table Data'!B234","v":0},{"$f":"'Pivot Table Data'!F234","v":"Medical Center HIllcrest"},{"$f":"'Pivot Table Data'!P234","v":"First Ave"},{"$f":"'Pivot Table Data'!I234","v":"P2 & Ramps to Next Level"},{"$f":"'Pivot Table Data'!J234","v":"Accessible"},{"$f":"'Pivot Table Data'!K234","v":0},{"$f":"'Pivot Table Data'!L234","v":0},{"$f":"'Pivot Table Data'!S234","v":6},{"$f":"'Pivot Table Data'!T234","v":""},{"$f":"IF('Pivot Table Data'!O234=\"Yes\", 'Pivot Table Data'!T234, \"\")","v":""}]
[{"$f":"'Pivot Table Data'!B235","v":0},{"$f":"'Pivot Table Data'!F235","v":"Medical Center HIllcrest"},{"$f":"'Pivot Table Data'!P235","v":"First Ave"},{"$f":"'Pivot Table Data'!I235","v":"P2 & Ramps to Next Level"},{"$f":"'Pivot Table Data'!J235","v":"Accessible (Van)"},{"$f":"'Pivot Table Data'!K235","v":0},{"$f":"'Pivot Table Data'!L235","v":0},{"$f":"'Pivot Table Data'!S235","v":0},{"$f":"'Pivot Table Data'!T235","v":""},{"$f":"IF('Pivot Table Data'!O235=\"Yes\", 'Pivot Table Data'!T235, \"\")","v":""}]
[{"$f":"'Pivot Table Data'!B236","v":0},{"$f":"'Pivot Table Data'!F236","v":"Medical Center HIllcrest"},{"$f":"'Pivot Table Data'!P236","v":"First Ave"},{"$f":"'Pivot Table Data'!I236","v":"P2 & Ramps to Next Level"},{"$f":"'Pivot Table Data'!J236","v":"Accessible"},{"$f":"'Pivot Table Data'!K236","v":0},{"$f":"'Pivot Table Data'!L236","v":0},{"$f":"'Pivot Table Data'!S236","v":8},{"$f":"'Pivot Table Data'!T236","v":""},{"$f":"IF('Pivot Table Data'!O236=\"Yes\", 'Pivot Table Data'!T236, \"\")","v":""}]
[{"$f":"'Pivot Table Data'!B237","v":0},{"$f":"'Pivot Table Data'!F237","v":"Medical Center HIllcrest"},{"$f":"'Pivot Table Data'!P237","v":"First Ave"},{"$f":"'Pivot Table Data'!I237","v":"P2 & Ramps to Next Level"},{"$f":"'Pivot Table Data'!J237","v":"Accessible (Van)"},{"$f":"'Pivot Table Data'!K237","v":0},{"$f":"'Pivot Table Data'!L237","v":0},{"$f":"'Pivot Table Data'!S237","v":0},{"$f":"'Pivot Table Data'!T237","v":""},{"$f":"IF('Pivot Table Data'!O237=\"Yes\", 'Pivot Table Data'!T237, \"\")","v":""}]
[{"$f":"'Pivot Table Data'!B238","v":0},{"$f":"'Pivot Table Data'!F238","v":"Medical Center HIllcrest"},{"$f":"'Pivot Table Data'!P238","v":"First Ave"},{"$f":"'Pivot Table Data'!I238","v":"P2 & Ramps to Next Level"},{"$f":"'Pivot Table Data'!J238","v":"B"},{"$f":"'Pivot Table Data'!K238","v":0},{"$f":"'Pivot Table Data'!L238","v":0},{"$f":"'Pivot Table Data'!S238","v":192},{"$f":"'Pivot Table Data'!T238","v":""},{"$f":"IF('Pivot Table Data'!O238=\"Yes\", 'Pivot Table Data'!T238, \"\")","v":""}]
[{"$f":"'Pivot Table Data'!B239","v":0},{"$f":"'Pivot Table Data'!F239","v":"Medical Center HIllcrest"},{"$f":"'Pivot Table Data'!P239","v":"First Ave"},{"$f":"'Pivot Table Data'!I239","v":"P2 & Ramps to Next Level"},{"$f":"'Pivot Table Data'!J239","v":"Electric Vehicle"},{"$f":"'Pivot Table Data'!K239","v":0},{"$f":"'Pivot Table Data'!L239","v":0},{"$f":"'Pivot Table Data'!S239","v":10},{"$f":"'Pivot Table Data'!T239","v":""},{"$f":"IF('Pivot Table Data'!O239=\"Yes\", 'Pivot Table Data'!T239, \"\")","v":""}]
[{"$f":"'Pivot Table Data'!B240","v":0},{"$f":"'Pivot Table Data'!F240","v":"Medical Center HIllcrest"},{"$f":"'Pivot Table Data'!P240","v":"First Ave"},{"$f":"'Pivot Table Data'!I240","v":"P2 & Ramps to Next Level"},{"$f":"'Pivot Table Data'!J240","v":"Motorcycle Section"},{"$f":"'Pivot Table Data'!K240","v":0},{"$f":"'Pivot Table Data'!L240","v":0},{"$f":"'Pivot Table Data'!S240","v":6},{"$f":"'Pivot Table Data'!T240","v":""},{"$f":"IF('Pivot Table Data'!O240=\"Yes\", 'Pivot Table Data'!T240, \"\")","v":""}]
[{"$f":"'Pivot Table Data'!B241","v":0},{"$f":"'Pivot Table Data'!F241","v":"Medical Center HIllcrest"},{"$f":"'Pivot Table Data'!P241","v":"First Ave"},{"$f":"'Pivot Table Data'!I241","v":"P2 & Ramps to Next Level"},{"$f":"'Pivot Table Data'!J241","v":"Reserved"},{"$f":"'Pivot Table Data'!K241","v":0},{"$f":"'Pivot Table Data'!L241","v":0},{"$f":"'Pivot Table Data'!S241","v":0},{"$f":"'Pivot Table Data'!T241","v":""},{"$f":"IF('Pivot Table Data'!O241=\"Yes\", 'Pivot Table Data'!T241, \"\")","v":""}]
[{"$f":"'Pivot Table Data'!B242","v":0},{"$f":"'Pivot Table Data'!F242","v":"Medical Center HIllcrest"},{"$f":"'Pivot Table Data'!P242","v":"First Ave"},{"$f":"'Pivot Table Data'!I242","v":"P3 & Ramps to Next Level"},{"$f":"'Pivot Table Data'!J242","v":"A"},{"$f":"'Pivot Table Data'!K242","v":0},{"$f":"'Pivot Table Data'!L242","v":0},{"$f":"'Pivot Table Data'!S242","v":0},{"$f":"'Pivot Table Data'!T242","v":""},{"$f":"IF('Pivot Table Data'!O242=\"Yes\", 'Pivot Table Data'!T242, \"\")","v":""}]
[{"$f":"'Pivot Table Data'!B243","v":0},{"$f":"'Pivot Table Data'!F243","v":"Medical Center HIllcrest"},{"$f":"'Pivot Table Data'!P243","v":"First Ave"},{"$f":"'Pivot Table Data'!I243","v":"P3 & Ramps to Next Level"},{"$f":"'Pivot Table Data'!J243","v":"Accessible"},{"$f":"'Pivot Table Data'!K243","v":0},{"$f":"'Pivot Table Data'!L243","v":0},{"$f":"'Pivot Table Data'!S243","v":9},{"$f":"'Pivot Table Data'!T243","v":""},{"$f":"IF('Pivot Table Data'!O243=\"Yes\", 'Pivot Table Data'!T243, \"\")","v":""}]
[{"$f":"'Pivot Table Data'!B244","v":0},{"$f":"'Pivot Table Data'!F244","v":"Medical Center HIllcrest"},{"$f":"'Pivot Table Data'!P244","v":"First Ave"},{"$f":"'Pivot Table Data'!I244","v":"P3 & Ramps to Next Level"},{"$f":"'Pivot Table Data'!J244","v":"Accessible (Van)"},{"$f":"'Pivot Table Data'!K244","v":0},{"$f":"'Pivot Table Data'!L244","v":0},{"$f":"'Pivot Table Data'!S244","v":0},{"$f":"'Pivot Table Data'!T244","v":""},{"$f":"IF('Pivot Table Data'!O244=\"Yes\", 'Pivot Table Data'!T244, \"\")","v":""}]
[{"$f":"'Pivot Table Data'!B245","v":0},{"$f":"'Pivot Table Data'!F245","v":"Medical Center HIllcrest"},{"$f":"'Pivot Table Data'!P245","v":"First Ave"},{"$f":"'Pivot Table Data'!I245","v":"P3 & Ramps to Next Level"},{"$f":"'Pivot Table Data'!J245","v":"B"},{"$f":"'Pivot Table Data'!K245","v":0},{"$f":"'Pivot Table Data'!L245","v":0},{"$f":"'Pivot Table Data'!S245","v":201},{"$f":"'Pivot Table Data'!T245","v":""},{"$f":"IF('Pivot Table Data'!O245=\"Yes\", 'Pivot Table Data'!T245, \"\")","v":""}]
[{"$f":"'Pivot Table Data'!B246","v":0},{"$f":"'Pivot Table Data'!F246","v":"Medical Center HIllcrest"},{"$f":"'Pivot Table Data'!P246","v":"First Ave"},{"$f":"'Pivot Table Data'!I246","v":"P3 & Ramps to Next Level"},{"$f":"'Pivot Table Data'!J246","v":"Electric Vehicle"},{"$f":"'Pivot Table Data'!K246","v":0},{"$f":"'Pivot Table Data'!L246","v":0},{"$f":"'Pivot Table Data'!S246","v":0},{"$f":"'Pivot Table Data'!T246","v":""},{"$f":"IF('Pivot Table Data'!O246=\"Yes\", 'Pivot Table Data'!T246, \"\")","v":""}]
[{"$f":"'Pivot Table Data'!B247","v":0},{"$f":"'Pivot Table Data'!F247","v":"Medical Center HIllcrest"},{"$f":"'Pivot Table Data'!P247","v":"First Ave"},{"$f":"'Pivot Table Data'!I247","v":"P3 & Ramps to Next Level"},{"$f":"'Pivot Table Data'!J247","v":"Motorcycle Section"},{"$f":"'Pivot Table Data'!K247","v":0},{"$f":"'Pivot Table Data'!L247","v":0},{"$f":"'Pivot Table Data'!S247","v":6},{"$f":"'Pivot Table Data'!T247","v":""},{"$f":"IF('Pivot Table Data'!O247=\"Yes\", 'Pivot Table Data'!T247, \"\")","v":""}]
[{"$f":"'Pivot Table Data'!B248","v":0},{"$f":"'Pivot Table Data'!F248","v":"Medical Center HIllcrest"},{"$f":"'Pivot Table Data'!P248","v":"First Ave"},{"$f":"'Pivot Table Data'!I248","v":"P3 & Ramps to Next Level"},{"$f":"'Pivot Table Data'!J248","v":"Reserved"},{"$f":"'Pivot Table Data'!K248","v":0},{"$f":"'Pivot Table Data'!L248","v":0},{"$f":"'Pivot Table Data'!S248","v":0},{"$f":"'Pivot Table Data'!T248","v":""},{"$f":"IF('Pivot Table Data'!O248=\"Yes\", 'Pivot Table Data'!T248, \"\")","v":""}]
[{"$f":"'Pivot Table Data'!B249","v":0},{"$f":"'Pivot Table Data'!F249","v":"Medical Center HIllcrest"},{"$f":"'Pivot Table Data'!P249","v":"First Ave"},{"$f":"'Pivot Table Data'!I249","v":"P4 & Ramps to Next Level"},{"$f":"'Pivot Table Data'!J249","v":"A"},{"$f":"'Pivot Table Data'!K249","v":0},{"$f":"'Pivot Table Data'!L249","v":0},{"$f":"'Pivot Table Data'!S249","v":0},{"$f":"'Pivot Table Data'!T249","v":""},{"$f":"IF('Pivot Table Data'!O249=\"Yes\", 'Pivot Table Data'!T249, \"\")","v":""}]
[{"$f":"'Pivot Table Data'!B250","v":0},{"$f":"'Pivot Table Data'!F250","v":"Medical Center HIllcrest"},{"$f":"'Pivot Table Data'!P250","v":"First Ave"},{"$f":"'Pivot Table Data'!I250","v":"P4 & Ramps to Next Level"},{"$f":"'Pivot Table Data'!J250","v":"Accessible"},{"$f":"'Pivot Table Data'!K250","v":0},{"$f":"'Pivot Table Data'!L250","v":0},{"$f":"'Pivot Table Data'!S250","v":8},{"$f":"'Pivot Table Data'!T250","v":""},{"$f":"IF('Pivot Table Data'!O250=\"Yes\", 'Pivot Table Data'!T250, \"\")","v":""}]
[{"$f":"'Pivot Table Data'!B251","v":0},{"$f":"'Pivot Table Data'!F251","v":"Medical Center HIllcrest"},{"$f":"'Pivot Table Data'!P251","v":"First Ave"},{"$f":"'Pivot Table Data'!I251","v":"P4 & Ramps to Next Level"},{"$f":"'Pivot Table Data'!J251","v":"Accessible (Van)"},{"$f":"'Pivot Table Data'!K251","v":0},{"$f":"'Pivot Table Data'!L251","v":0},{"$f":"'Pivot Table Data'!S251","v":0},{"$f":"'Pivot Table Data'!T251","v":""},{"$f":"IF('Pivot Table Data'!O251=\"Yes\", 'Pivot Table Data'!T251, \"\")","v":""}]
[{"$f":"'Pivot Table Data'!B252","v":0},{"$f":"'Pivot Table Data'!F252","v":"Medical Center HIllcrest"},{"$f":"'Pivot Table Data'!P252","v":"First Ave"},{"$f":"'Pivot Table Data'!I252","v":"P4 & Ramps to Next Level"},{"$f":"'Pivot Table Data'!J252","v":"B"},{"$f":"'Pivot Table Data'!K252","v":0},{"$f":"'Pivot Table Data'!L252","v":0},{"$f":"'Pivot Table Data'!S252","v":204},{"$f":"'Pivot Table Data'!T252","v":""},{"$f":"IF('Pivot Table Data'!O252=\"Yes\", 'Pivot Table Data'!T252, \"\")","v":""}]
[{"$f":"'Pivot Table Data'!B253","v":0},{"$f":"'Pivot Table Data'!F253","v":"Medical Center HIllcrest"},{"$f":"'Pivot Table Data'!P253","v":"First Ave"},{"$f":"'Pivot Table Data'!I253","v":"P4 & Ramps to Next Level"},{"$f":"'Pivot Table Data'!J253","v":"Electric Vehicle"},{"$f":"'Pivot Table Data'!K253","v":0},{"$f":"'Pivot Table Data'!L253","v":0},{"$f":"'Pivot Table Data'!S253","v":0},{"$f":"'Pivot Table Data'!T253","v":""},{"$f":"IF('Pivot Table Data'!O253=\"Yes\", 'Pivot Table Data'!T253, \"\")","v":""}]
[{"$f":"'Pivot Table Data'!B254","v":0},{"$f":"'Pivot Table Data'!F254","v":"Medical Center HIllcrest"},{"$f":"'Pivot Table Data'!P254","v":"First Ave"},{"$f":"'Pivot Table Data'!I254","v":"P4 & Ramps to Next Level"},{"$f":"'Pivot Table Data'!J254","v":"Motorcycle Section"},{"$f":"'Pivot Table Data'!K254","v":0},{"$f":"'Pivot Table Data'!L254","v":0},{"$f":"'Pivot Table Data'!S254","v":7},{"$f":"'Pivot Table Data'!T254","v":""},{"$f":"IF('Pivot Table Data'!O254=\"Yes\", 'Pivot Table Data'!T254, \"\")","v":""}]
[{"$f":"'Pivot Table Data'!B255","v":0},{"$f":"'Pivot Table Data'!F255","v":"Medical Center HIllcrest"},{"$f":"'Pivot Table Data'!P255","v":"First Ave"},{"$f":"'Pivot Table Data'!I255","v":"P4 & Ramps to Next Level"},{"$f":"'Pivot Table Data'!J255","v":"Reserved"},{"$f":"'Pivot Table Data'!K255","v":0},{"$f":"'Pivot Table Data'!L255","v":0},{"$f":"'Pivot Table Data'!S255","v":0},{"$f":"'Pivot Table Data'!T255","v":""},{"$f":"IF('Pivot Table Data'!O255=\"Yes\", 'Pivot Table Data'!T255, \"\")","v":""}]
[{"$f":"'Pivot Table Data'!B256","v":0},{"$f":"'Pivot Table Data'!F256","v":"Medical Center HIllcrest"},{"$f":"'Pivot Table Data'!P256","v":"First Ave"},{"$f":"'Pivot Table Data'!I256","v":"P5 Roof"},{"$f":"'Pivot Table Data'!J256","v":"A"},{"$f":"'Pivot Table Data'!K256","v":0},{"$f":"'Pivot Table Data'!L256","v":0},{"$f":"'Pivot Table Data'!S256","v":0},{"$f":"'Pivot Table Data'!T256","v":""},{"$f":"IF('Pivot Table Data'!O256=\"Yes\", 'Pivot Table Data'!T256, \"\")","v":""}]
[{"$f":"'Pivot Table Data'!B257","v":0},{"$f":"'Pivot Table Data'!F257","v":"Medical Center HIllcrest"},{"$f":"'Pivot Table Data'!P257","v":"First Ave"},{"$f":"'Pivot Table Data'!I257","v":"P5 Roof"},{"$f":"'Pivot Table Data'!J257","v":"Accessible"},{"$f":"'Pivot Table Data'!K257","v":0},{"$f":"'Pivot Table Data'!L257","v":0},{"$f":"'Pivot Table Data'!S257","v":5},{"$f":"'Pivot Table Data'!T257","v":""},{"$f":"IF('Pivot Table Data'!O257=\"Yes\", 'Pivot Table Data'!T257, \"\")","v":""}]
[{"$f":"'Pivot Table Data'!B258","v":0},{"$f":"'Pivot Table Data'!F258","v":"Medical Center HIllcrest"},{"$f":"'Pivot Table Data'!P258","v":"First Ave"},{"$f":"'Pivot Table Data'!I258","v":"P5 Roof"},{"$f":"'Pivot Table Data'!J258","v":"Accessible (Van)"},{"$f":"'Pivot Table Data'!K258","v":0},{"$f":"'Pivot Table Data'!L258","v":0},{"$f":"'Pivot Table Data'!S258","v":0},{"$f":"'Pivot Table Data'!T258","v":""},{"$f":"IF('Pivot Table Data'!O258=\"Yes\", 'Pivot Table Data'!T258, \"\")","v":""}]
[{"$f":"'Pivot Table Data'!B259","v":0},{"$f":"'Pivot Table Data'!F259","v":"Medical Center HIllcrest"},{"$f":"'Pivot Table Data'!P259","v":"First Ave"},{"$f":"'Pivot Table Data'!I259","v":"P5 Roof"},{"$f":"'Pivot Table Data'!J259","v":"B"},{"$f":"'Pivot Table Data'!K259","v":0},{"$f":"'Pivot Table Data'!L259","v":0},{"$f":"'Pivot Table Data'!S259","v":138},{"$f":"'Pivot Table Data'!T259","v":""},{"$f":"IF('Pivot Table Data'!O259=\"Yes\", 'Pivot Table Data'!T259, \"\")","v":""}]
[{"$f":"'Pivot Table Data'!B260","v":0},{"$f":"'Pivot Table Data'!F260","v":"Medical Center HIllcrest"},{"$f":"'Pivot Table Data'!P260","v":"First Ave"},{"$f":"'Pivot Table Data'!I260","v":"P5 Roof"},{"$f":"'Pivot Table Data'!J260","v":"Electric Vehicle"},{"$f":"'Pivot Table Data'!K260","v":0},{"$f":"'Pivot Table Data'!L260","v":0},{"$f":"'Pivot Table Data'!S260","v":0},{"$f":"'Pivot Table Data'!T260","v":""},{"$f":"IF('Pivot Table Data'!O260=\"Yes\", 'Pivot Table Data'!T260, \"\")","v":""}]
[{"$f":"'Pivot Table Data'!B261","v":0},{"$f":"'Pivot Table Data'!F261","v":"Medical Center HIllcrest"},{"$f":"'Pivot Table Data'!P261","v":"First Ave"},{"$f":"'Pivot Table Data'!I261","v":"P5 Roof"},{"$f":"'Pivot Table Data'!J261","v":"Motorcycle Section"},{"$f":"'Pivot Table Data'!K261","v":0},{"$f":"'Pivot Table Data'!L261","v":0},{"$f":"'Pivot Table Data'!S261","v":8},{"$f":"'Pivot Table Data'!T261","v":""},{"$f":"IF('Pivot Table Data'!O261=\"Yes\", 'Pivot Table Data'!T261, \"\")","v":""}]
[{"$f":"'Pivot Table Data'!B262","v":0},{"$f":"'Pivot Table Data'!F262","v":"Medical Center HIllcrest"},{"$f":"'Pivot Table Data'!P262","v":"First Ave"},{"$f":"'Pivot Table Data'!I262","v":"P5 Roof"},{"$f":"'Pivot Table Data'!J262","v":"Reserved"},{"$f":"'Pivot Table Data'!K262","v":0},{"$f":"'Pivot Table Data'!L262","v":0},{"$f":"'Pivot Table Data'!S262","v":0},{"$f":"'Pivot Table Data'!T262","v":""},{"$f":"IF('Pivot Table Data'!O262=\"Yes\", 'Pivot Table Data'!T262, \"\")","v":""}]
[{"$f":"'Pivot Table Data'!B263","v":0},{"$f":"'Pivot Table Data'!F263","v":"Medical Center Hillcrest"},{"$f":"'Pivot Table Data'!P263","v":"P952"},{"$f":"'Pivot Table Data'!I263","v":"-"},{"$f":"'Pivot Table Data'!J263","v":"Allocated"},{"$f":"'Pivot Table Data'!K263","v":"Law Enforcement Transport Vehicle"},{"$f":"'Pivot Table Data'!L263","v":0},{"$f":"'Pivot Table Data'!S263","v":4},{"$f":"'Pivot Table Data'!T263","v":4},{"$f":"IF('Pivot Table Data'!O263=\"Yes\", 'Pivot Table Data'!T263, \"\")","v":""}]
[{"$f":"'Pivot Table Data'!B264","v":0},{"$f":"'Pivot Table Data'!F264","v":"Medical Center Hillcrest"},{"$f":"'Pivot Table Data'!P264","v":"P952"},{"$f":"'Pivot Table Data'!I264","v":"-"},{"$f":"'Pivot Table Data'!J264","v":"Allocated"},{"$f":"'Pivot Table Data'!K264","v":"Mortuary Vehicle"},{"$f":"'Pivot Table Data'!L264","v":0},{"$f":"'Pivot Table Data'!S264","v":1},{"$f":"'Pivot Table Data'!T264","v":1},{"$f":"IF('Pivot Table Data'!O264=\"Yes\", 'Pivot Table Data'!T264, \"\")","v":""}]
[{"$f":"'Pivot Table Data'!B265","v":0},{"$f":"'Pivot Table Data'!F265","v":"Medical Center Hillcrest"},{"$f":"'Pivot Table Data'!P265","v":"P952"},{"$f":"'Pivot Table Data'!I265","v":"-"},{"$f":"'Pivot Table Data'!J265","v":"Loading"},{"$f":"'Pivot Table Data'!K265","v":0},{"$f":"'Pivot Table Data'!L265","v":20},{"$f":"'Pivot Table Data'!S265","v":2},{"$f":"'Pivot Table Data'!T265","v":2},{"$f":"IF('Pivot Table Data'!O265=\"Yes\", 'Pivot Table Data'!T265, \"\")","v":""}]
[{"$f":"'Pivot Table Data'!B266","v":0},{"$f":"'Pivot Table Data'!F266","v":"Medical Center Hillcrest"},{"$f":"'Pivot Table Data'!P266","v":"P952"},{"$f":"'Pivot Table Data'!I266","v":"-"},{"$f":"'Pivot Table Data'!J266","v":"Service Yard"},{"$f":"'Pivot Table Data'!K266","v":0},{"$f":"'Pivot Table Data'!L266","v":0},{"$f":"'Pivot Table Data'!S266","v":2},{"$f":"'Pivot Table Data'!T266","v":2},{"$f":"IF('Pivot Table Data'!O266=\"Yes\", 'Pivot Table Data'!T266, \"\")","v":""}]
[{"$f":"'Pivot Table Data'!B267","v":0},{"$f":"'Pivot Table Data'!F267","v":"Medical Center Hillcrest"},{"$f":"'Pivot Table Data'!P267","v":"P952"},{"$f":"'Pivot Table Data'!I267","v":"-"},{"$f":"'Pivot Table Data'!J267","v":"UC Vehicle"},{"$f":"'Pivot Table Data'!K267","v":0},{"$f":"'Pivot Table Data'!L267","v":0},{"$f":"'Pivot Table Data'!S267","v":2},{"$f":"'Pivot Table Data'!T267","v":2},{"$f":"IF('Pivot Table Data'!O267=\"Yes\", 'Pivot Table Data'!T267, \"\")","v":""}]
[{"$f":"'Pivot Table Data'!B268","v":0},{"$f":"'Pivot Table Data'!F268","v":"Medical Center Hillcrest"},{"$f":"'Pivot Table Data'!P268","v":"P953"},{"$f":"'Pivot Table Data'!I268","v":"-"},{"$f":"'Pivot Table Data'!J268","v":"Accessible"},{"$f":"'Pivot Table Data'!K268","v":0},{"$f":"'Pivot Table Data'!L268","v":0},{"$f":"'Pivot Table Data'!S268","v":3},{"$f":"'Pivot Table Data'!T268","v":3},{"$f":"IF('Pivot Table Data'!O268=\"Yes\", 'Pivot Table Data'!T268, \"\")","v":""}]
[{"$f":"'Pivot Table Data'!B269","v":0},{"$f":"'Pivot Table Data'!F269","v":"Medical Center Hillcrest"},{"$f":"'Pivot Table Data'!P269","v":"P953"},{"$f":"'Pivot Table Data'!I269","v":"-"},{"$f":"'Pivot Table Data'!J269","v":"Accessible (Van)"},{"$f":"'Pivot Table Data'!K269","v":0},{"$f":"'Pivot Table Data'!L269","v":0},{"$f":"'Pivot Table Data'!S269","v":0},{"$f":"'Pivot Table Data'!T269","v":0},{"$f":"IF('Pivot Table Data'!O269=\"Yes\", 'Pivot Table Data'!T269, \"\")","v":""}]
[{"$f":"'Pivot Table Data'!B270","v":0},{"$f":"'Pivot Table Data'!F270","v":"Medical Center Hillcrest"},{"$f":"'Pivot Table Data'!P270","v":"P953"},{"$f":"'Pivot Table Data'!I270","v":"-"},{"$f":"'Pivot Table Data'!J270","v":"B"},{"$f":"'Pivot Table Data'!K270","v":0},{"$f":"'Pivot Table Data'!L270","v":0},{"$f":"'Pivot Table Data'!S270","v":7},{"$f":"'Pivot Table Data'!T270","v":7},{"$f":"IF('Pivot Table Data'!O270=\"Yes\", 'Pivot Table Data'!T270, \"\")","v":""}]
[{"$f":"'Pivot Table Data'!B271","v":0},{"$f":"'Pivot Table Data'!F271","v":"Medical Center Hillcrest"},{"$f":"'Pivot Table Data'!P271","v":"P953"},{"$f":"'Pivot Table Data'!I271","v":"-"},{"$f":"'Pivot Table Data'!J271","v":"Reserved"},{"$f":"'Pivot Table Data'!K271","v":0},{"$f":"'Pivot Table Data'!L271","v":0},{"$f":"'Pivot Table Data'!S271","v":7},{"$f":"'Pivot Table Data'!T271","v":7},{"$f":"IF('Pivot Table Data'!O271=\"Yes\", 'Pivot Table Data'!T271, \"\")","v":""}]
[{"$f":"'Pivot Table Data'!B272","v":0},{"$f":"'Pivot Table Data'!F272","v":"Medical Center Hillcrest"},{"$f":"'Pivot Table Data'!P272","v":"P954"},{"$f":"'Pivot Table Data'!I272","v":"-"},{"$f":"'Pivot Table Data'!J272","v":"Accessible"},{"$f":"'Pivot Table Data'!K272","v":0},{"$f":"'Pivot Table Data'!L272","v":0},{"$f":"'Pivot Table Data'!S272","v":3},{"$f":"'Pivot Table Data'!T272","v":3},{"$f":"IF('Pivot Table Data'!O272=\"Yes\", 'Pivot Table Data'!T272, \"\")","v":""}]
[{"$f":"'Pivot Table Data'!B273","v":0},{"$f":"'Pivot Table Data'!F273","v":"Medical Center Hillcrest"},{"$f":"'Pivot Table Data'!P273","v":"P954"},{"$f":"'Pivot Table Data'!I273","v":"-"},{"$f":"'Pivot Table Data'!J273","v":"Accessible (Van)"},{"$f":"'Pivot Table Data'!K273","v":0},{"$f":"'Pivot Table Data'!L273","v":0},{"$f":"'Pivot Table Data'!S273","v":0},{"$f":"'Pivot Table Data'!T273","v":0},{"$f":"IF('Pivot Table Data'!O273=\"Yes\", 'Pivot Table Data'!T273, \"\")","v":""}]
[{"$f":"'Pivot Table Data'!B274","v":0},{"$f":"'Pivot Table Data'!F274","v":"Medical Center Hillcrest"},{"$f":"'Pivot Table Data'!P274","v":"P954"},{"$f":"'Pivot Table Data'!I274","v":"-"},{"$f":"'Pivot Table Data'!J274","v":"Allocated"},{"$f":"'Pivot Table Data'!K274","v":"Banister Family House"},{"$f":"'Pivot Table Data'!L274","v":0},{"$f":"'Pivot Table Data'!S274","v":12},{"$f":"'Pivot Table Data'!T274","v":12},{"$f":"IF('Pivot Table Data'!O274=\"Yes\", 'Pivot Table Data'!T274, \"\")","v":""}]
[{"$f":"'Pivot Table Data'!B275","v":0},{"$f":"'Pivot Table Data'!F275","v":"Medical Center Hillcrest"},{"$f":"'Pivot Table Data'!P275","v":"P954"},{"$f":"'Pivot Table Data'!I275","v":"-"},{"$f":"'Pivot Table Data'!J275","v":"Reserved"},{"$f":"'Pivot Table Data'!K275","v":0},{"$f":"'Pivot Table Data'!L275","v":0},{"$f":"'Pivot Table Data'!S275","v":25},{"$f":"'Pivot Table Data'!T275","v":25},{"$f":"IF('Pivot Table Data'!O275=\"Yes\", 'Pivot Table Data'!T275, \"\")","v":""}]
[{"$f":"'Pivot Table Data'!B276","v":0},{"$f":"'Pivot Table Data'!F276","v":"Medical Center Hillcrest"},{"$f":"'Pivot Table Data'!P276","v":"P955"},{"$f":"'Pivot Table Data'!I276","v":"-"},{"$f":"'Pivot Table Data'!J276","v":"A"},{"$f":"'Pivot Table Data'!K276","v":0},{"$f":"'Pivot Table Data'!L276","v":0},{"$f":"'Pivot Table Data'!S276","v":7},{"$f":"'Pivot Table Data'!T276","v":7},{"$f":"IF('Pivot Table Data'!O276=\"Yes\", 'Pivot Table Data'!T276, \"\")","v":""}]
[{"$f":"'Pivot Table Data'!B277","v":0},{"$f":"'Pivot Table Data'!F277","v":"Medical Center Hillcrest"},{"$f":"'Pivot Table Data'!P277","v":"P955"},{"$f":"'Pivot Table Data'!I277","v":"-"},{"$f":"'Pivot Table Data'!J277","v":"Accessible"},{"$f":"'Pivot Table Data'!K277","v":0},{"$f":"'Pivot Table Data'!L277","v":0},{"$f":"'Pivot Table Data'!S277","v":1},{"$f":"'Pivot Table Data'!T277","v":1},{"$f":"IF('Pivot Table Data'!O277=\"Yes\", 'Pivot Table Data'!T277, \"\")","v":""}]
[{"$f":"'Pivot Table Data'!B278","v":0},{"$f":"'Pivot Table Data'!F278","v":"Medical Center Hillcrest"},{"$f":"'Pivot Table Data'!P278","v":"P955"},{"$f":"'Pivot Table Data'!I278","v":"-"},{"$f":"'Pivot Table Data'!J278","v":"Accessible (Van)"},{"$f":"'Pivot Table Data'!K278","v":0},{"$f":"'Pivot Table Data'!L278","v":0},{"$f":"'Pivot Table Data'!S278","v":0},{"$f":"'Pivot Table Data'!T278","v":0},{"$f":"IF('Pivot Table Data'!O278=\"Yes\", 'Pivot Table Data'!T278, \"\")","v":""}]
[{"$f":"'Pivot Table Data'!B279","v":0},{"$f":"'Pivot Table Data'!F279","v":"Medical Center Hillcrest"},{"$f":"'Pivot Table Data'!P279","v":"P955"},{"$f":"'Pivot Table Data'!I279","v":"-"},{"$f":"'Pivot Table Data'!J279","v":"Loading"},{"$f":"'Pivot Table Data'!K279","v":0},{"$f":"'Pivot Table Data'!L279","v":0},{"$f":"'Pivot Table Data'!S279","v":2},{"$f":"'Pivot Table Data'!T279","v":2},{"$f":"IF('Pivot Table Data'!O279=\"Yes\", 'Pivot Table Data'!T279, \"\")","v":""}]
[{"$f":"'Pivot Table Data'!B280","v":0},{"$f":"'Pivot Table Data'!F280","v":"Medical Center Hillcrest"},{"$f":"'Pivot Table Data'!P280","v":"P955"},{"$f":"'Pivot Table Data'!I280","v":"-"},{"$f":"'Pivot Table Data'!J280","v":"Motorcycle Section"},{"$f":"'Pivot Table Data'!K280","v":0},{"$f":"'Pivot Table Data'!L280","v":0},{"$f":"'Pivot Table Data'!S280","v":3},{"$f":"'Pivot Table Data'!T280","v":3},{"$f":"IF('Pivot Table Data'!O280=\"Yes\", 'Pivot Table Data'!T280, \"\")","v":""}]
[{"$f":"'Pivot Table Data'!B281","v":0},{"$f":"'Pivot Table Data'!F281","v":"Medical Center Hillcrest"},{"$f":"'Pivot Table Data'!P281","v":"P955"},{"$f":"'Pivot Table Data'!I281","v":"-"},{"$f":"'Pivot Table Data'!J281","v":"Reserved"},{"$f":"'Pivot Table Data'!K281","v":0},{"$f":"'Pivot Table Data'!L281","v":0},{"$f":"'Pivot Table Data'!S281","v":21},{"$f":"'Pivot Table Data'!T281","v":21},{"$f":"IF('Pivot Table Data'!O281=\"Yes\", 'Pivot Table Data'!T281, \"\")","v":""}]
[{"$f":"'Pivot Table Data'!B282","v":0},{"$f":"'Pivot Table Data'!F282","v":"Medical Center Hillcrest"},{"$f":"'Pivot Table Data'!P282","v":"P955"},{"$f":"'Pivot Table Data'!I282","v":"-"},{"$f":"'Pivot Table Data'!J282","v":"Service Yard"},{"$f":"'Pivot Table Data'!K282","v":0},{"$f":"'Pivot Table Data'!L282","v":0},{"$f":"'Pivot Table Data'!S282","v":3},{"$f":"'Pivot Table Data'!T282","v":3},{"$f":"IF('Pivot Table Data'!O282=\"Yes\", 'Pivot Table Data'!T282, \"\")","v":""}]
[{"$f":"'Pivot Table Data'!B283","v":0},{"$f":"'Pivot Table Data'!F283","v":"Medical Center Hillcrest"},{"$f":"'Pivot Table Data'!P283","v":"P955"},{"$f":"'Pivot Table Data'!I283","v":"-"},{"$f":"'Pivot Table Data'!J283","v":"UC Vehicle"},{"$f":"'Pivot Table Data'!K283","v":"UC Cart"},{"$f":"'Pivot Table Data'!L283","v":0},{"$f":"'Pivot Table Data'!S283","v":1},{"$f":"'Pivot Table Data'!T283","v":1},{"$f":"IF('Pivot Table Data'!O283=\"Yes\", 'Pivot Table Data'!T283, \"\")","v":""}]
[{"$f":"'Pivot Table Data'!B284","v":0},{"$f":"'Pivot Table Data'!F284","v":"Medical Center Hillcrest"},{"$f":"'Pivot Table Data'!P284","v":"P955"},{"$f":"'Pivot Table Data'!I284","v":"-"},{"$f":"'Pivot Table Data'!J284","v":"UC Vehicle"},{"$f":"'Pivot Table Data'!K284","v":0},{"$f":"'Pivot Table Data'!L284","v":0},{"$f":"'Pivot Table Data'!S284","v":6},{"$f":"'Pivot Table Data'!T284","v":6},{"$f":"IF('Pivot Table Data'!O284=\"Yes\", 'Pivot Table Data'!T284, \"\")","v":""}]
[{"$f":"'Pivot Table Data'!B285","v":0},{"$f":"'Pivot Table Data'!F285","v":"Medical Center Hillcrest"},{"$f":"'Pivot Table Data'!P285","v":"P956"},{"$f":"'Pivot Table Data'!I285","v":"-"},{"$f":"'Pivot Table Data'!J285","v":"A"},{"$f":"'Pivot Table Data'!K285","v":0},{"$f":"'Pivot Table Data'!L285","v":0},{"$f":"'Pivot Table Data'!S285","v":2},{"$f":"'Pivot Table Data'!T285","v":2},{"$f":"IF('Pivot Table Data'!O285=\"Yes\", 'Pivot Table Data'!T285, \"\")","v":""}]
[{"$f":"'Pivot Table Data'!B286","v":0},{"$f":"'Pivot Table Data'!F286","v":"Medical Center Hillcrest"},{"$f":"'Pivot Table Data'!P286","v":"P956"},{"$f":"'Pivot Table Data'!I286","v":"-"},{"$f":"'Pivot Table Data'!J286","v":"Service Yard"},{"$f":"'Pivot Table Data'!K286","v":0},{"$f":"'Pivot Table Data'!L286","v":0},{"$f":"'Pivot Table Data'!S286","v":6},{"$f":"'Pivot Table Data'!T286","v":6},{"$f":"IF('Pivot Table Data'!O286=\"Yes\", 'Pivot Table Data'!T286, \"\")","v":""}]
[{"$f":"'Pivot Table Data'!B287","v":0},{"$f":"'Pivot Table Data'!F287","v":"Medical Center Hillcrest"},{"$f":"'Pivot Table Data'!P287","v":"P957"},{"$f":"'Pivot Table Data'!I287","v":"-"},{"$f":"'Pivot Table Data'!J287","v":"Accessible"},{"$f":"'Pivot Table Data'!K287","v":0},{"$f":"'Pivot Table Data'!L287","v":0},{"$f":"'Pivot Table Data'!S287","v":7},{"$f":"'Pivot Table Data'!T287","v":7},{"$f":"IF('Pivot Table Data'!O287=\"Yes\", 'Pivot Table Data'!T287, \"\")","v":""}]
[{"$f":"'Pivot Table Data'!B288","v":0},{"$f":"'Pivot Table Data'!F288","v":"Medical Center Hillcrest"},{"$f":"'Pivot Table Data'!P288","v":"P957"},{"$f":"'Pivot Table Data'!I288","v":"-"},{"$f":"'Pivot Table Data'!J288","v":"Accessible (Van)"},{"$f":"'Pivot Table Data'!K288","v":0},{"$f":"'Pivot Table Data'!L288","v":0},{"$f":"'Pivot Table Data'!S288","v":0},{"$f":"'Pivot Table Data'!T288","v":0},{"$f":"IF('Pivot Table Data'!O288=\"Yes\", 'Pivot Table Data'!T288, \"\")","v":""}]
[{"$f":"'Pivot Table Data'!B289","v":0},{"$f":"'Pivot Table Data'!F289","v":"Medical Center Hillcrest"},{"$f":"'Pivot Table Data'!P289","v":"P957"},{"$f":"'Pivot Table Data'!I289","v":"-"},{"$f":"'Pivot Table Data'!J289","v":"Allocated"},{"$f":"'Pivot Table Data'!K289","v":"Mail Vehicle"},{"$f":"'Pivot Table Data'!L289","v":0},{"$f":"'Pivot Table Data'!S289","v":1},{"$f":"'Pivot Table Data'!T289","v":1},{"$f":"IF('Pivot Table Data'!O289=\"Yes\", 'Pivot Table Data'!T289, \"\")","v":""}]
[{"$f":"'Pivot Table Data'!B290","v":0},{"$f":"'Pivot Table Data'!F290","v":"Medical Center Hillcrest"},{"$f":"'Pivot Table Data'!P290","v":"P957"},{"$f":"'Pivot Table Data'!I290","v":"-"},{"$f":"'Pivot Table Data'!J290","v":"Reserved"},{"$f":"'Pivot Table Data'!K290","v":"AVRC"},{"$f":"'Pivot Table Data'!L290","v":0},{"$f":"'Pivot Table Data'!S290","v":16},{"$f":"'Pivot Table Data'!T290","v":16},{"$f":"IF('Pivot Table Data'!O290=\"Yes\", 'Pivot Table Data'!T290, \"\")","v":""}]
[{"$f":"'Pivot Table Data'!B291","v":0},{"$f":"'Pivot Table Data'!F291","v":"Medical Center Hillcrest"},{"$f":"'Pivot Table Data'!P291","v":"P957"},{"$f":"'Pivot Table Data'!I291","v":"-"},{"$f":"'Pivot Table Data'!J291","v":"Reserved"},{"$f":"'Pivot Table Data'!K291","v":"Emergency Room"},{"$f":"'Pivot Table Data'!L291","v":0},{"$f":"'Pivot Table Data'!S291","v":20},{"$f":"'Pivot Table Data'!T291","v":20},{"$f":"IF('Pivot Table Data'!O291=\"Yes\", 'Pivot Table Data'!T291, \"\")","v":""}]
[{"$f":"'Pivot Table Data'!B292","v":0},{"$f":"'Pivot Table Data'!F292","v":"Medical Center Hillcrest"},{"$f":"'Pivot Table Data'!P292","v":"P957"},{"$f":"'Pivot Table Data'!I292","v":"-"},{"$f":"'Pivot Table Data'!J292","v":"Reserved"},{"$f":"'Pivot Table Data'!K292","v":"Valet"},{"$f":"'Pivot Table Data'!L292","v":0},{"$f":"'Pivot Table Data'!S292","v":10},{"$f":"'Pivot Table Data'!T292","v":10},{"$f":"IF('Pivot Table Data'!O292=\"Yes\", 'Pivot Table Data'!T292, \"\")","v":""}]
[{"$f":"'Pivot Table Data'!B293","v":0},{"$f":"'Pivot Table Data'!F293","v":"Medical Center Hillcrest"},{"$f":"'Pivot Table Data'!P293","v":"P957"},{"$f":"'Pivot Table Data'!I293","v":"-"},{"$f":"'Pivot Table Data'!J293","v":"Reserved"},{"$f":"'Pivot Table Data'!K293","v":0},{"$f":"'Pivot Table Data'!L293","v":0},{"$f":"'Pivot Table Data'!S293","v":21},{"$f":"'Pivot Table Data'!T293","v":21},{"$f":"IF('Pivot Table Data'!O293=\"Yes\", 'Pivot Table Data'!T293, \"\")","v":""}]
[{"$f":"'Pivot Table Data'!B294","v":0},{"$f":"'Pivot Table Data'!F294","v":"Medical Center Hillcrest"},{"$f":"'Pivot Table Data'!P294","v":"P957"},{"$f":"'Pivot Table Data'!I294","v":"-"},{"$f":"'Pivot Table Data'!J294","v":"UC Vehicle"},{"$f":"'Pivot Table Data'!K294","v":0},{"$f":"'Pivot Table Data'!L294","v":0},{"$f":"'Pivot Table Data'!S294","v":2},{"$f":"'Pivot Table Data'!T294","v":2},{"$f":"IF('Pivot Table Data'!O294=\"Yes\", 'Pivot Table Data'!T294, \"\")","v":""}]
[{"$f":"'Pivot Table Data'!B295","v":0},{"$f":"'Pivot Table Data'!F295","v":"Medical Center Hillcrest"},{"$f":"'Pivot Table Data'!P295","v":"P964"},{"$f":"'Pivot Table Data'!I295","v":"-"},{"$f":"'Pivot Table Data'!J295","v":"Accessible"},{"$f":"'Pivot Table Data'!K295","v":0},{"$f":"'Pivot Table Data'!L295","v":0},{"$f":"'Pivot Table Data'!S295","v":11},{"$f":"'Pivot Table Data'!T295","v":11},{"$f":"IF('Pivot Table Data'!O295=\"Yes\", 'Pivot Table Data'!T295, \"\")","v":""}]
[{"$f":"'Pivot Table Data'!B296","v":0},{"$f":"'Pivot Table Data'!F296","v":"Medical Center Hillcrest"},{"$f":"'Pivot Table Data'!P296","v":"P964"},{"$f":"'Pivot Table Data'!I296","v":"-"},{"$f":"'Pivot Table Data'!J296","v":"Accessible (Van)"},{"$f":"'Pivot Table Data'!K296","v":0},{"$f":"'Pivot Table Data'!L296","v":0},{"$f":"'Pivot Table Data'!S296","v":0},{"$f":"'Pivot Table Data'!T296","v":0},{"$f":"IF('Pivot Table Data'!O296=\"Yes\", 'Pivot Table Data'!T296, \"\")","v":""}]
[{"$f":"'Pivot Table Data'!B297","v":0},{"$f":"'Pivot Table Data'!F297","v":"Medical Center Hillcrest"},{"$f":"'Pivot Table Data'!P297","v":"P964"},{"$f":"'Pivot Table Data'!I297","v":"-"},{"$f":"'Pivot Table Data'!J297","v":"Allocated"},{"$f":"'Pivot Table Data'!K297","v":"Pulmonary Specialist"},{"$f":"'Pivot Table Data'!L297","v":0},{"$f":"'Pivot Table Data'!S297","v":12},{"$f":"'Pivot Table Data'!T297","v":12},{"$f":"IF('Pivot Table Data'!O297=\"Yes\", 'Pivot Table Data'!T297, \"\")","v":""}]
[{"$f":"'Pivot Table Data'!B298","v":0},{"$f":"'Pivot Table Data'!F298","v":"Medical Center Hillcrest"},{"$f":"'Pivot Table Data'!P298","v":"P964"},{"$f":"'Pivot Table Data'!I298","v":"-"},{"$f":"'Pivot Table Data'!J298","v":"Allocated"},{"$f":"'Pivot Table Data'!K298","v":"Security"},{"$f":"'Pivot Table Data'!L298","v":0},{"$f":"'Pivot Table Data'!S298","v":3},{"$f":"'Pivot Table Data'!T298","v":3},{"$f":"IF('Pivot Table Data'!O298=\"Yes\", 'Pivot Table Data'!T298, \"\")","v":""}]
[{"$f":"'Pivot Table Data'!B299","v":0},{"$f":"'Pivot Table Data'!F299","v":"Medical Center Hillcrest"},{"$f":"'Pivot Table Data'!P299","v":"P964"},{"$f":"'Pivot Table Data'!I299","v":"-"},{"$f":"'Pivot Table Data'!J299","v":"Reserved"},{"$f":"'Pivot Table Data'!K299","v":"Valet"},{"$f":"'Pivot Table Data'!L299","v":0},{"$f":"'Pivot Table Data'!S299","v":37},{"$f":"'Pivot Table Data'!T299","v":37},{"$f":"IF('Pivot Table Data'!O299=\"Yes\", 'Pivot Table Data'!T299, \"\")","v":""}]
[{"$f":"'Pivot Table Data'!B300","v":0},{"$f":"'Pivot Table Data'!F300","v":"Medical Center Hillcrest"},{"$f":"'Pivot Table Data'!P300","v":"P964"},{"$f":"'Pivot Table Data'!I300","v":"-"},{"$f":"'Pivot Table Data'!J300","v":"Visitor"},{"$f":"'Pivot Table Data'!K300","v":"Patient/Visitor"},{"$f":"'Pivot Table Data'!L300","v":0},{"$f":"'Pivot Table Data'!S300","v":41},{"$f":"'Pivot Table Data'!T300","v":41},{"$f":"IF('Pivot Table Data'!O300=\"Yes\", 'Pivot Table Data'!T300, \"\")","v":""}]
[{"$f":"'Pivot Table Data'!B301","v":0},{"$f":"'Pivot Table Data'!F301","v":"Medical Center Hillcrest"},{"$f":"'Pivot Table Data'!P301","v":"P964"},{"$f":"'Pivot Table Data'!I301","v":"-"},{"$f":"'Pivot Table Data'!J301","v":"Visitor"},{"$f":"'Pivot Table Data'!K301","v":"Patient/Visitor Reserved"},{"$f":"'Pivot Table Data'!L301","v":30},{"$f":"'Pivot Table Data'!S301","v":1},{"$f":"'Pivot Table Data'!T301","v":1},{"$f":"IF('Pivot Table Data'!O301=\"Yes\", 'Pivot Table Data'!T301, \"\")","v":""}]
[{"$f":"'Pivot Table Data'!B302","v":0},{"$f":"'Pivot Table Data'!F302","v":"Scripps Institution of Oceanography"},{"$f":"'Pivot Table Data'!P302","v":"P001"},{"$f":"'Pivot Table Data'!I302","v":"-"},{"$f":"'Pivot Table Data'!J302","v":"Accessible"},{"$f":"'Pivot Table Data'!K302","v":"Electric Vehicle"},{"$f":"'Pivot Table Data'!L302","v":0},{"$f":"'Pivot Table Data'!S302","v":1},{"$f":"'Pivot Table Data'!T302","v":1},{"$f":"IF('Pivot Table Data'!O302=\"Yes\", 'Pivot Table Data'!T302, \"\")","v":""}]
[{"$f":"'Pivot Table Data'!B303","v":0},{"$f":"'Pivot Table Data'!F303","v":"Scripps Institution of Oceanography"},{"$f":"'Pivot Table Data'!P303","v":"P001"},{"$f":"'Pivot Table Data'!I303","v":"-"},{"$f":"'Pivot Table Data'!J303","v":"Accessible (Van)"},{"$f":"'Pivot Table Data'!K303","v":0},{"$f":"'Pivot Table Data'!L303","v":0},{"$f":"'Pivot Table Data'!S303","v":0},{"$f":"'Pivot Table Data'!T303","v":0},{"$f":"IF('Pivot Table Data'!O303=\"Yes\", 'Pivot Table Data'!T303, \"\")","v":""}]
[{"$f":"'Pivot Table Data'!B304","v":0},{"$f":"'Pivot Table Data'!F304","v":"Scripps Institution of Oceanography"},{"$f":"'Pivot Table Data'!P304","v":"P001"},{"$f":"'Pivot Table Data'!I304","v":"-"},{"$f":"'Pivot Table Data'!J304","v":"B"},{"$f":"'Pivot Table Data'!K304","v":"Scripps Institution of Oceanography"},{"$f":"'Pivot Table Data'!L304","v":0},{"$f":"'Pivot Table Data'!S304","v":0},{"$f":"'Pivot Table Data'!T304","v":0},{"$f":"IF('Pivot Table Data'!O304=\"Yes\", 'Pivot Table Data'!T304, \"\")","v":0}]
[{"$f":"'Pivot Table Data'!B305","v":0},{"$f":"'Pivot Table Data'!F305","v":"Scripps Institution of Oceanography"},{"$f":"'Pivot Table Data'!P305","v":"P001"},{"$f":"'Pivot Table Data'!I305","v":"-"},{"$f":"'Pivot Table Data'!J305","v":"Electric Vehicle"},{"$f":"'Pivot Table Data'!K305","v":0},{"$f":"'Pivot Table Data'!L305","v":"4 hours"},{"$f":"'Pivot Table Data'!S305","v":9},{"$f":"'Pivot Table Data'!T305","v":9},{"$f":"IF('Pivot Table Data'!O305=\"Yes\", 'Pivot Table Data'!T305, \"\")","v":""}]
[{"$f":"'Pivot Table Data'!B306","v":0},{"$f":"'Pivot Table Data'!F306","v":"Scripps Institution of Oceanography"},{"$f":"'Pivot Table Data'!P306","v":"P001"},{"$f":"'Pivot Table Data'!I306","v":"-"},{"$f":"'Pivot Table Data'!J306","v":"Loading"},{"$f":"'Pivot Table Data'!K306","v":"Oversized"},{"$f":"'Pivot Table Data'!L306","v":"20 minutes"},{"$f":"'Pivot Table Data'!S306","v":1},{"$f":"'Pivot Table Data'!T306","v":1},{"$f":"IF('Pivot Table Data'!O306=\"Yes\", 'Pivot Table Data'!T306, \"\")","v":""}]
[{"$f":"'Pivot Table Data'!B307","v":0},{"$f":"'Pivot Table Data'!F307","v":"Scripps Institution of Oceanography"},{"$f":"'Pivot Table Data'!P307","v":"P001"},{"$f":"'Pivot Table Data'!I307","v":"-"},{"$f":"'Pivot Table Data'!J307","v":"Reserved"},{"$f":"'Pivot Table Data'!K307","v":0},{"$f":"'Pivot Table Data'!L307","v":0},{"$f":"'Pivot Table Data'!S307","v":1},{"$f":"'Pivot Table Data'!T307","v":1},{"$f":"IF('Pivot Table Data'!O307=\"Yes\", 'Pivot Table Data'!T307, \"\")","v":""}]
[{"$f":"'Pivot Table Data'!B308","v":0},{"$f":"'Pivot Table Data'!F308","v":"Scripps Institution of Oceanography"},{"$f":"'Pivot Table Data'!P308","v":"P002"},{"$f":"'Pivot Table Data'!I308","v":"-"},{"$f":"'Pivot Table Data'!J308","v":"Accessible"},{"$f":"'Pivot Table Data'!K308","v":0},{"$f":"'Pivot Table Data'!L308","v":0},{"$f":"'Pivot Table Data'!S308","v":2},{"$f":"'Pivot Table Data'!T308","v":2},{"$f":"IF('Pivot Table Data'!O308=\"Yes\", 'Pivot Table Data'!T308, \"\")","v":""}]
[{"$f":"'Pivot Table Data'!B309","v":0},{"$f":"'Pivot Table Data'!F309","v":"Scripps Institution of Oceanography"},{"$f":"'Pivot Table Data'!P309","v":"P002"},{"$f":"'Pivot Table Data'!I309","v":"-"},{"$f":"'Pivot Table Data'!J309","v":"Accessible (Van)"},{"$f":"'Pivot Table Data'!K309","v":0},{"$f":"'Pivot Table Data'!L309","v":0},{"$f":"'Pivot Table Data'!S309","v":0},{"$f":"'Pivot Table Data'!T309","v":0},{"$f":"IF('Pivot Table Data'!O309=\"Yes\", 'Pivot Table Data'!T309, \"\")","v":""}]
[{"$f":"'Pivot Table Data'!B310","v":0},{"$f":"'Pivot Table Data'!F310","v":"Scripps Institution of Oceanography"},{"$f":"'Pivot Table Data'!P310","v":"P002"},{"$f":"'Pivot Table Data'!I310","v":"-"},{"$f":"'Pivot Table Data'!J310","v":"B"},{"$f":"'Pivot Table Data'!K310","v":"Scripps Institution of Oceanography"},{"$f":"'Pivot Table Data'!L310","v":0},{"$f":"'Pivot Table Data'!S310","v":31},{"$f":"'Pivot Table Data'!T310","v":31},{"$f":"IF('Pivot Table Data'!O310=\"Yes\", 'Pivot Table Data'!T310, \"\")","v":31}]
[{"$f":"'Pivot Table Data'!B311","v":0},{"$f":"'Pivot Table Data'!F311","v":"Scripps Institution of Oceanography"},{"$f":"'Pivot Table Data'!P311","v":"P003"},{"$f":"'Pivot Table Data'!I311","v":"-"},{"$f":"'Pivot Table Data'!J311","v":"Accessible"},{"$f":"'Pivot Table Data'!K311","v":0},{"$f":"'Pivot Table Data'!L311","v":0},{"$f":"'Pivot Table Data'!S311","v":2},{"$f":"'Pivot Table Data'!T311","v":2},{"$f":"IF('Pivot Table Data'!O311=\"Yes\", 'Pivot Table Data'!T311, \"\")","v":""}]
[{"$f":"'Pivot Table Data'!B312","v":0},{"$f":"'Pivot Table Data'!F312","v":"Scripps Institution of Oceanography"},{"$f":"'Pivot Table Data'!P312","v":"P003"},{"$f":"'Pivot Table Data'!I312","v":"-"},{"$f":"'Pivot Table Data'!J312","v":"Accessible (Van)"},{"$f":"'Pivot Table Data'!K312","v":0},{"$f":"'Pivot Table Data'!L312","v":0},{"$f":"'Pivot Table Data'!S312","v":0},{"$f":"'Pivot Table Data'!T312","v":0},{"$f":"IF('Pivot Table Data'!O312=\"Yes\", 'Pivot Table Data'!T312, \"\")","v":""}]
[{"$f":"'Pivot Table Data'!B313","v":0},{"$f":"'Pivot Table Data'!F313","v":"Scripps Institution of Oceanography"},{"$f":"'Pivot Table Data'!P313","v":"P003"},{"$f":"'Pivot Table Data'!I313","v":"-"},{"$f":"'Pivot Table Data'!J313","v":"Allocated"},{"$f":"'Pivot Table Data'!K313","v":"Lifeguard"},{"$f":"'Pivot Table Data'!L313","v":0},{"$f":"'Pivot Table Data'!S313","v":1},{"$f":"'Pivot Table Data'!T313","v":1},{"$f":"IF('Pivot Table Data'!O313=\"Yes\", 'Pivot Table Data'!T313, \"\")","v":""}]
[{"$f":"'Pivot Table Data'!B314","v":0},{"$f":"'Pivot Table Data'!F314","v":"Scripps Institution of Oceanography"},{"$f":"'Pivot Table Data'!P314","v":"P003"},{"$f":"'Pivot Table Data'!I314","v":"-"},{"$f":"'Pivot Table Data'!J314","v":"B"},{"$f":"'Pivot Table Data'!K314","v":"Scripps Institution of Oceanography"},{"$f":"'Pivot Table Data'!L314","v":0},{"$f":"'Pivot Table Data'!S314","v":64},{"$f":"'Pivot Table Data'!T314","v":64},{"$f":"IF('Pivot Table Data'!O314=\"Yes\", 'Pivot Table Data'!T314, \"\")","v":64}]
[{"$f":"'Pivot Table Data'!B315","v":0},{"$f":"'Pivot Table Data'!F315","v":"Scripps Institution of Oceanography"},{"$f":"'Pivot Table Data'!P315","v":"P003"},{"$f":"'Pivot Table Data'!I315","v":"-"},{"$f":"'Pivot Table Data'!J315","v":"Loading"},{"$f":"'Pivot Table Data'!K315","v":"Commercial"},{"$f":"'Pivot Table Data'!L315","v":"20 minutes"},{"$f":"'Pivot Table Data'!S315","v":3},{"$f":"'Pivot Table Data'!T315","v":3},{"$f":"IF('Pivot Table Data'!O315=\"Yes\", 'Pivot Table Data'!T315, \"\")","v":""}]
[{"$f":"'Pivot Table Data'!B316","v":0},{"$f":"'Pivot Table Data'!F316","v":"Scripps Institution of Oceanography"},{"$f":"'Pivot Table Data'!P316","v":"P003"},{"$f":"'Pivot Table Data'!I316","v":"-"},{"$f":"'Pivot Table Data'!J316","v":"Loading"},{"$f":"'Pivot Table Data'!K316","v":0},{"$f":"'Pivot Table Data'!L316","v":"20 minutes"},{"$f":"'Pivot Table Data'!S316","v":2},{"$f":"'Pivot Table Data'!T316","v":2},{"$f":"IF('Pivot Table Data'!O316=\"Yes\", 'Pivot Table Data'!T316, \"\")","v":""}]
[{"$f":"'Pivot Table Data'!B317","v":0},{"$f":"'Pivot Table Data'!F317","v":"Scripps Institution of Oceanography"},{"$f":"'Pivot Table Data'!P317","v":"P003"},{"$f":"'Pivot Table Data'!I317","v":"-"},{"$f":"'Pivot Table Data'!J317","v":"Motorcycle Section"},{"$f":"'Pivot Table Data'!K317","v":0},{"$f":"'Pivot Table Data'!L317","v":0},{"$f":"'Pivot Table Data'!S317","v":0},{"$f":"'Pivot Table Data'!T317","v":0},{"$f":"IF('Pivot Table Data'!O317=\"Yes\", 'Pivot Table Data'!T317, \"\")","v":""}]
[{"$f":"'Pivot Table Data'!B318","v":0},{"$f":"'Pivot Table Data'!F318","v":"Scripps Institution of Oceanography"},{"$f":"'Pivot Table Data'!P318","v":"P004"},{"$f":"'Pivot Table Data'!I318","v":"-"},{"$f":"'Pivot Table Data'!J318","v":"Electric Vehicle"},{"$f":"'Pivot Table Data'!K318","v":0},{"$f":"'Pivot Table Data'!L318","v":0},{"$f":"'Pivot Table Data'!S318","v":1},{"$f":"'Pivot Table Data'!T318","v":1},{"$f":"IF('Pivot Table Data'!O318=\"Yes\", 'Pivot Table Data'!T318, \"\")","v":""}]
[{"$f":"'Pivot Table Data'!B319","v":0},{"$f":"'Pivot Table Data'!F319","v":"Scripps Institution of Oceanography"},{"$f":"'Pivot Table Data'!P319","v":"P004"},{"$f":"'Pivot Table Data'!I319","v":"-"},{"$f":"'Pivot Table Data'!J319","v":"Loading"},{"$f":"'Pivot Table Data'!K319","v":"Oversized Commercial"},{"$f":"'Pivot Table Data'!L319","v":"20 minutes"},{"$f":"'Pivot Table Data'!S319","v":2},{"$f":"'Pivot Table Data'!T319","v":2},{"$f":"IF('Pivot Table Data'!O319=\"Yes\", 'Pivot Table Data'!T319, \"\")","v":""}]
[{"$f":"'Pivot Table Data'!B320","v":0},{"$f":"'Pivot Table Data'!F320","v":"Scripps Institution of Oceanography"},{"$f":"'Pivot Table Data'!P320","v":"P004"},{"$f":"'Pivot Table Data'!I320","v":"-"},{"$f":"'Pivot Table Data'!J320","v":"Loading"},{"$f":"'Pivot Table Data'!K320","v":0},{"$f":"'Pivot Table Data'!L320","v":"20 minutes"},{"$f":"'Pivot Table Data'!S320","v":5},{"$f":"'Pivot Table Data'!T320","v":5},{"$f":"IF('Pivot Table Data'!O320=\"Yes\", 'Pivot Table Data'!T320, \"\")","v":""}]
[{"$f":"'Pivot Table Data'!B321","v":0},{"$f":"'Pivot Table Data'!F321","v":"Scripps Institution of Oceanography"},{"$f":"'Pivot Table Data'!P321","v":"P004"},{"$f":"'Pivot Table Data'!I321","v":"-"},{"$f":"'Pivot Table Data'!J321","v":"Service Yard"},{"$f":"'Pivot Table Data'!K321","v":0},{"$f":"'Pivot Table Data'!L321","v":0},{"$f":"'Pivot Table Data'!S321","v":1},{"$f":"'Pivot Table Data'!T321","v":1},{"$f":"IF('Pivot Table Data'!O321=\"Yes\", 'Pivot Table Data'!T321, \"\")","v":""}]
[{"$f":"'Pivot Table Data'!B322","v":0},{"$f":"'Pivot Table Data'!F322","v":"Scripps Institution of Oceanography"},{"$f":"'Pivot Table Data'!P322","v":"P004"},{"$f":"'Pivot Table Data'!I322","v":"-"},{"$f":"'Pivot Table Data'!J322","v":"UC Vehicle"},{"$f":"'Pivot Table Data'!K322","v":"UC Cart"},{"$f":"'Pivot Table Data'!L322","v":0},{"$f":"'Pivot Table Data'!S322","v":1},{"$f":"'Pivot Table Data'!T322","v":1},{"$f":"IF('Pivot Table Data'!O322=\"Yes\", 'Pivot Table Data'!T322, \"\")","v":""}]
[{"$f":"'Pivot Table Data'!B323","v":0},{"$f":"'Pivot Table Data'!F323","v":"Scripps Institution of Oceanography"},{"$f":"'Pivot Table Data'!P323","v":"P004"},{"$f":"'Pivot Table Data'!I323","v":"-"},{"$f":"'Pivot Table Data'!J323","v":"UC Vehicle"},{"$f":"'Pivot Table Data'!K323","v":0},{"$f":"'Pivot Table Data'!L323","v":0},{"$f":"'Pivot Table Data'!S323","v":5},{"$f":"'Pivot Table Data'!T323","v":5},{"$f":"IF('Pivot Table Data'!O323=\"Yes\", 'Pivot Table Data'!T323, \"\")","v":""}]
[{"$f":"'Pivot Table Data'!B324","v":0},{"$f":"'Pivot Table Data'!F324","v":"Scripps Institution of Oceanography"},{"$f":"'Pivot Table Data'!P324","v":"P005"},{"$f":"'Pivot Table Data'!I324","v":"-"},{"$f":"'Pivot Table Data'!J324","v":"Accessible"},{"$f":"'Pivot Table Data'!K324","v":0},{"$f":"'Pivot Table Data'!L324","v":0},{"$f":"'Pivot Table Data'!S324","v":1},{"$f":"'Pivot Table Data'!T324","v":1},{"$f":"IF('Pivot Table Data'!O324=\"Yes\", 'Pivot Table Data'!T324, \"\")","v":""}]
[{"$f":"'Pivot Table Data'!B325","v":0},{"$f":"'Pivot Table Data'!F325","v":"Scripps Institution of Oceanography"},{"$f":"'Pivot Table Data'!P325","v":"P005"},{"$f":"'Pivot Table Data'!I325","v":"-"},{"$f":"'Pivot Table Data'!J325","v":"Accessible (Van)"},{"$f":"'Pivot Table Data'!K325","v":0},{"$f":"'Pivot Table Data'!L325","v":0},{"$f":"'Pivot Table Data'!S325","v":0},{"$f":"'Pivot Table Data'!T325","v":0},{"$f":"IF('Pivot Table Data'!O325=\"Yes\", 'Pivot Table Data'!T325, \"\")","v":""}]
[{"$f":"'Pivot Table Data'!B326","v":0},{"$f":"'Pivot Table Data'!F326","v":"Scripps Institution of Oceanography"},{"$f":"'Pivot Table Data'!P326","v":"P005"},{"$f":"'Pivot Table Data'!I326","v":"-"},{"$f":"'Pivot Table Data'!J326","v":"Loading"},{"$f":"'Pivot Table Data'!K326","v":"Bars"},{"$f":"'Pivot Table Data'!L326","v":"20 minutes"},{"$f":"'Pivot Table Data'!S326","v":1},{"$f":"'Pivot Table Data'!T326","v":1},{"$f":"IF('Pivot Table Data'!O326=\"Yes\", 'Pivot Table Data'!T326, \"\")","v":""}]
[{"$f":"'Pivot Table Data'!B327","v":0},{"$f":"'Pivot Table Data'!F327","v":"Scripps Institution of Oceanography"},{"$f":"'Pivot Table Data'!P327","v":"P005"},{"$f":"'Pivot Table Data'!I327","v":"-"},{"$f":"'Pivot Table Data'!J327","v":"Motorcycle Section"},{"$f":"'Pivot Table Data'!K327","v":0},{"$f":"'Pivot Table Data'!L327","v":0},{"$f":"'Pivot Table Data'!S327","v":2},{"$f":"'Pivot Table Data'!T327","v":2},{"$f":"IF('Pivot Table Data'!O327=\"Yes\", 'Pivot Table Data'!T327, \"\")","v":""}]
[{"$f":"'Pivot Table Data'!B328","v":0},{"$f":"'Pivot Table Data'!F328","v":"Scripps Institution of Oceanography"},{"$f":"'Pivot Table Data'!P328","v":"P005"},{"$f":"'Pivot Table Data'!I328","v":"-"},{"$f":"'Pivot Table Data'!J328","v":"Service Yard"},{"$f":"'Pivot Table Data'!K328","v":"Bars"},{"$f":"'Pivot Table Data'!L328","v":0},{"$f":"'Pivot Table Data'!S328","v":1},{"$f":"'Pivot Table Data'!T328","v":1},{"$f":"IF('Pivot Table Data'!O328=\"Yes\", 'Pivot Table Data'!T328, \"\")","v":""}]
[{"$f":"'Pivot Table Data'!B329","v":0},{"$f":"'Pivot Table Data'!F329","v":"Scripps Institution of Oceanography"},{"$f":"'Pivot Table Data'!P329","v":"P006"},{"$f":"'Pivot Table Data'!I329","v":"-"},{"$f":"'Pivot Table Data'!J329","v":"Accessible"},{"$f":"'Pivot Table Data'!K329","v":0},{"$f":"'Pivot Table Data'!L329","v":0},{"$f":"'Pivot Table Data'!S329","v":1},{"$f":"'Pivot Table Data'!T329","v":1},{"$f":"IF('Pivot Table Data'!O329=\"Yes\", 'Pivot Table Data'!T329, \"\")","v":""}]
[{"$f":"'Pivot Table Data'!B330","v":0},{"$f":"'Pivot Table Data'!F330","v":"Scripps Institution of Oceanography"},{"$f":"'Pivot Table Data'!P330","v":"P006"},{"$f":"'Pivot Table Data'!I330","v":"-"},{"$f":"'Pivot Table Data'!J330","v":"Accessible (Van)"},{"$f":"'Pivot Table Data'!K330","v":0},{"$f":"'Pivot Table Data'!L330","v":0},{"$f":"'Pivot Table Data'!S330","v":0},{"$f":"'Pivot Table Data'!T330","v":0},{"$f":"IF('Pivot Table Data'!O330=\"Yes\", 'Pivot Table Data'!T330, \"\")","v":""}]
[{"$f":"'Pivot Table Data'!B331","v":0},{"$f":"'Pivot Table Data'!F331","v":"Scripps Institution of Oceanography"},{"$f":"'Pivot Table Data'!P331","v":"P006"},{"$f":"'Pivot Table Data'!I331","v":"-"},{"$f":"'Pivot Table Data'!J331","v":"B"},{"$f":"'Pivot Table Data'!K331","v":"Scripps Institution of Oceanography"},{"$f":"'Pivot Table Data'!L331","v":0},{"$f":"'Pivot Table Data'!S331","v":6},{"$f":"'Pivot Table Data'!T331","v":6},{"$f":"IF('Pivot Table Data'!O331=\"Yes\", 'Pivot Table Data'!T331, \"\")","v":6}]
[{"$f":"'Pivot Table Data'!B332","v":0},{"$f":"'Pivot Table Data'!F332","v":"Scripps Institution of Oceanography"},{"$f":"'Pivot Table Data'!P332","v":"P007"},{"$f":"'Pivot Table Data'!I332","v":"-"},{"$f":"'Pivot Table Data'!J332","v":"Accessible"},{"$f":"'Pivot Table Data'!K332","v":0},{"$f":"'Pivot Table Data'!L332","v":0},{"$f":"'Pivot Table Data'!S332","v":3},{"$f":"'Pivot Table Data'!T332","v":3},{"$f":"IF('Pivot Table Data'!O332=\"Yes\", 'Pivot Table Data'!T332, \"\")","v":""}]
[{"$f":"'Pivot Table Data'!B333","v":0},{"$f":"'Pivot Table Data'!F333","v":"Scripps Institution of Oceanography"},{"$f":"'Pivot Table Data'!P333","v":"P007"},{"$f":"'Pivot Table Data'!I333","v":"-"},{"$f":"'Pivot Table Data'!J333","v":"Accessible (Van)"},{"$f":"'Pivot Table Data'!K333","v":0},{"$f":"'Pivot Table Data'!L333","v":0},{"$f":"'Pivot Table Data'!S333","v":0},{"$f":"'Pivot Table Data'!T333","v":0},{"$f":"IF('Pivot Table Data'!O333=\"Yes\", 'Pivot Table Data'!T333, \"\")","v":""}]
[{"$f":"'Pivot Table Data'!B334","v":0},{"$f":"'Pivot Table Data'!F334","v":"Scripps Institution of Oceanography"},{"$f":"'Pivot Table Data'!P334","v":"P007"},{"$f":"'Pivot Table Data'!I334","v":"-"},{"$f":"'Pivot Table Data'!J334","v":"B"},{"$f":"'Pivot Table Data'!K334","v":"Scripps Institution of Oceanography"},{"$f":"'Pivot Table Data'!L334","v":0},{"$f":"'Pivot Table Data'!S334","v":22},{"$f":"'Pivot Table Data'!T334","v":22},{"$f":"IF('Pivot Table Data'!O334=\"Yes\", 'Pivot Table Data'!T334, \"\")","v":22}]
[{"$f":"'Pivot Table Data'!B335","v":0},{"$f":"'Pivot Table Data'!F335","v":"Scripps Institution of Oceanography"},{"$f":"'Pivot Table Data'!P335","v":"P007"},{"$f":"'Pivot Table Data'!I335","v":"-"},{"$f":"'Pivot Table Data'!J335","v":"Electric Vehicle"},{"$f":"'Pivot Table Data'!K335","v":0},{"$f":"'Pivot Table Data'!L335","v":0},{"$f":"'Pivot Table Data'!S335","v":8},{"$f":"'Pivot Table Data'!T335","v":8},{"$f":"IF('Pivot Table Data'!O335=\"Yes\", 'Pivot Table Data'!T335, \"\")","v":""}]
[{"$f":"'Pivot Table Data'!B336","v":0},{"$f":"'Pivot Table Data'!F336","v":"Scripps Institution of Oceanography"},{"$f":"'Pivot Table Data'!P336","v":"P007"},{"$f":"'Pivot Table Data'!I336","v":"-"},{"$f":"'Pivot Table Data'!J336","v":"Loading"},{"$f":"'Pivot Table Data'!K336","v":"Dock"},{"$f":"'Pivot Table Data'!L336","v":"20 minutes"},{"$f":"'Pivot Table Data'!S336","v":1},{"$f":"'Pivot Table Data'!T336","v":1},{"$f":"IF('Pivot Table Data'!O336=\"Yes\", 'Pivot Table Data'!T336, \"\")","v":""}]
[{"$f":"'Pivot Table Data'!B337","v":0},{"$f":"'Pivot Table Data'!F337","v":"Scripps Institution of Oceanography"},{"$f":"'Pivot Table Data'!P337","v":"P007"},{"$f":"'Pivot Table Data'!I337","v":"-"},{"$f":"'Pivot Table Data'!J337","v":"Loading"},{"$f":"'Pivot Table Data'!K337","v":0},{"$f":"'Pivot Table Data'!L337","v":"20 minutes"},{"$f":"'Pivot Table Data'!S337","v":1},{"$f":"'Pivot Table Data'!T337","v":1},{"$f":"IF('Pivot Table Data'!O337=\"Yes\", 'Pivot Table Data'!T337, \"\")","v":""}]
[{"$f":"'Pivot Table Data'!B338","v":0},{"$f":"'Pivot Table Data'!F338","v":"Scripps Institution of Oceanography"},{"$f":"'Pivot Table Data'!P338","v":"P007"},{"$f":"'Pivot Table Data'!I338","v":"-"},{"$f":"'Pivot Table Data'!J338","v":"Motorcycle Section"},{"$f":"'Pivot Table Data'!K338","v":0},{"$f":"'Pivot Table Data'!L338","v":0},{"$f":"'Pivot Table Data'!S338","v":2},{"$f":"'Pivot Table Data'!T338","v":2},{"$f":"IF('Pivot Table Data'!O338=\"Yes\", 'Pivot Table Data'!T338, \"\")","v":""}]
[{"$f":"'Pivot Table Data'!B339","v":0},{"$f":"'Pivot Table Data'!F339","v":"Scripps Institution of Oceanography"},{"$f":"'Pivot Table Data'!P339","v":"P007"},{"$f":"'Pivot Table Data'!I339","v":"-"},{"$f":"'Pivot Table Data'!J339","v":"UC Vehicle"},{"$f":"'Pivot Table Data'!K339","v":"UC Cart Bar"},{"$f":"'Pivot Table Data'!L339","v":0},{"$f":"'Pivot Table Data'!S339","v":1},{"$f":"'Pivot Table Data'!T339","v":1},{"$f":"IF('Pivot Table Data'!O339=\"Yes\", 'Pivot Table Data'!T339, \"\")","v":""}]
[{"$f":"'Pivot Table Data'!B340","v":0},{"$f":"'Pivot Table Data'!F340","v":"Scripps Institution of Oceanography"},{"$f":"'Pivot Table Data'!P340","v":"P007"},{"$f":"'Pivot Table Data'!I340","v":"-"},{"$f":"'Pivot Table Data'!J340","v":"UC Vehicle"},{"$f":"'Pivot Table Data'!K340","v":0},{"$f":"'Pivot Table Data'!L340","v":0},{"$f":"'Pivot Table Data'!S340","v":2},{"$f":"'Pivot Table Data'!T340","v":2},{"$f":"IF('Pivot Table Data'!O340=\"Yes\", 'Pivot Table Data'!T340, \"\")","v":""}]
[{"$f":"'Pivot Table Data'!B341","v":0},{"$f":"'Pivot Table Data'!F341","v":"Scripps Institution of Oceanography"},{"$f":"'Pivot Table Data'!P341","v":"P008"},{"$f":"'Pivot Table Data'!I341","v":"-"},{"$f":"'Pivot Table Data'!J341","v":"Accessible"},{"$f":"'Pivot Table Data'!K341","v":0},{"$f":"'Pivot Table Data'!L341","v":0},{"$f":"'Pivot Table Data'!S341","v":3},{"$f":"'Pivot Table Data'!T341","v":3},{"$f":"IF('Pivot Table Data'!O341=\"Yes\", 'Pivot Table Data'!T341, \"\")","v":""}]
[{"$f":"'Pivot Table Data'!B342","v":0},{"$f":"'Pivot Table Data'!F342","v":"Scripps Institution of Oceanography"},{"$f":"'Pivot Table Data'!P342","v":"P008"},{"$f":"'Pivot Table Data'!I342","v":"-"},{"$f":"'Pivot Table Data'!J342","v":"Accessible (Van)"},{"$f":"'Pivot Table Data'!K342","v":0},{"$f":"'Pivot Table Data'!L342","v":0},{"$f":"'Pivot Table Data'!S342","v":0},{"$f":"'Pivot Table Data'!T342","v":0},{"$f":"IF('Pivot Table Data'!O342=\"Yes\", 'Pivot Table Data'!T342, \"\")","v":""}]
[{"$f":"'Pivot Table Data'!B343","v":0},{"$f":"'Pivot Table Data'!F343","v":"Scripps Institution of Oceanography"},{"$f":"'Pivot Table Data'!P343","v":"P008"},{"$f":"'Pivot Table Data'!I343","v":"-"},{"$f":"'Pivot Table Data'!J343","v":"B"},{"$f":"'Pivot Table Data'!K343","v":"Scripps Institution of Oceanography"},{"$f":"'Pivot Table Data'!L343","v":0},{"$f":"'Pivot Table Data'!S343","v":26},{"$f":"'Pivot Table Data'!T343","v":26},{"$f":"IF('Pivot Table Data'!O343=\"Yes\", 'Pivot Table Data'!T343, \"\")","v":26}]
[{"$f":"'Pivot Table Data'!B344","v":0},{"$f":"'Pivot Table Data'!F344","v":"Scripps Institution of Oceanography"},{"$f":"'Pivot Table Data'!P344","v":"P008"},{"$f":"'Pivot Table Data'!I344","v":"-"},{"$f":"'Pivot Table Data'!J344","v":"Motorcycle Section"},{"$f":"'Pivot Table Data'!K344","v":0},{"$f":"'Pivot Table Data'!L344","v":0},{"$f":"'Pivot Table Data'!S344","v":1},{"$f":"'Pivot Table Data'!T344","v":1},{"$f":"IF('Pivot Table Data'!O344=\"Yes\", 'Pivot Table Data'!T344, \"\")","v":""}]
[{"$f":"'Pivot Table Data'!B345","v":0},{"$f":"'Pivot Table Data'!F345","v":"Scripps Institution of Oceanography"},{"$f":"'Pivot Table Data'!P345","v":"P009"},{"$f":"'Pivot Table Data'!I345","v":"-"},{"$f":"'Pivot Table Data'!J345","v":"Service Yard"},{"$f":"'Pivot Table Data'!K345","v":0},{"$f":"'Pivot Table Data'!L345","v":0},{"$f":"'Pivot Table Data'!S345","v":2},{"$f":"'Pivot Table Data'!T345","v":2},{"$f":"IF('Pivot Table Data'!O345=\"Yes\", 'Pivot Table Data'!T345, \"\")","v":""}]
[{"$f":"'Pivot Table Data'!B346","v":0},{"$f":"'Pivot Table Data'!F346","v":"Scripps Institution of Oceanography"},{"$f":"'Pivot Table Data'!P346","v":"P010"},{"$f":"'Pivot Table Data'!I346","v":"-"},{"$f":"'Pivot Table Data'!J346","v":"Accessible"},{"$f":"'Pivot Table Data'!K346","v":0},{"$f":"'Pivot Table Data'!L346","v":0},{"$f":"'Pivot Table Data'!S346","v":1},{"$f":"'Pivot Table Data'!T346","v":1},{"$f":"IF('Pivot Table Data'!O346=\"Yes\", 'Pivot Table Data'!T346, \"\")","v":""}]
[{"$f":"'Pivot Table Data'!B347","v":0},{"$f":"'Pivot Table Data'!F347","v":"Scripps Institution of Oceanography"},{"$f":"'Pivot Table Data'!P347","v":"P010"},{"$f":"'Pivot Table Data'!I347","v":"-"},{"$f":"'Pivot Table Data'!J347","v":"Accessible (Van)"},{"$f":"'Pivot Table Data'!K347","v":0},{"$f":"'Pivot Table Data'!L347","v":0},{"$f":"'Pivot Table Data'!S347","v":0},{"$f":"'Pivot Table Data'!T347","v":0},{"$f":"IF('Pivot Table Data'!O347=\"Yes\", 'Pivot Table Data'!T347, \"\")","v":""}]
[{"$f":"'Pivot Table Data'!B348","v":0},{"$f":"'Pivot Table Data'!F348","v":"Scripps Institution of Oceanography"},{"$f":"'Pivot Table Data'!P348","v":"P010"},{"$f":"'Pivot Table Data'!I348","v":"-"},{"$f":"'Pivot Table Data'!J348","v":"B"},{"$f":"'Pivot Table Data'!K348","v":"Scripps Institution of Oceanography"},{"$f":"'Pivot Table Data'!L348","v":0},{"$f":"'Pivot Table Data'!S348","v":23},{"$f":"'Pivot Table Data'!T348","v":23},{"$f":"IF('Pivot Table Data'!O348=\"Yes\", 'Pivot Table Data'!T348, \"\")","v":23}]
[{"$f":"'Pivot Table Data'!B349","v":0},{"$f":"'Pivot Table Data'!F349","v":"Scripps Institution of Oceanography"},{"$f":"'Pivot Table Data'!P349","v":"P011"},{"$f":"'Pivot Table Data'!I349","v":"-"},{"$f":"'Pivot Table Data'!J349","v":"Accessible"},{"$f":"'Pivot Table Data'!K349","v":0},{"$f":"'Pivot Table Data'!L349","v":0},{"$f":"'Pivot Table Data'!S349","v":1},{"$f":"'Pivot Table Data'!T349","v":1},{"$f":"IF('Pivot Table Data'!O349=\"Yes\", 'Pivot Table Data'!T349, \"\")","v":""}]
[{"$f":"'Pivot Table Data'!B350","v":0},{"$f":"'Pivot Table Data'!F350","v":"Scripps Institution of Oceanography"},{"$f":"'Pivot Table Data'!P350","v":"P011"},{"$f":"'Pivot Table Data'!I350","v":"-"},{"$f":"'Pivot Table Data'!J350","v":"Accessible (Van)"},{"$f":"'Pivot Table Data'!K350","v":0},{"$f":"'Pivot Table Data'!L350","v":0},{"$f":"'Pivot Table Data'!S350","v":0},{"$f":"'Pivot Table Data'!T350","v":0},{"$f":"IF('Pivot Table Data'!O350=\"Yes\", 'Pivot Table Data'!T350, \"\")","v":""}]
[{"$f":"'Pivot Table Data'!B351","v":0},{"$f":"'Pivot Table Data'!F351","v":"Scripps Institution of Oceanography"},{"$f":"'Pivot Table Data'!P351","v":"P011"},{"$f":"'Pivot Table Data'!I351","v":"-"},{"$f":"'Pivot Table Data'!J351","v":"Allocated"},{"$f":"'Pivot Table Data'!K351","v":"Coastal Access"},{"$f":"'Pivot Table Data'!L351","v":"1 hour"},{"$f":"'Pivot Table Data'!S351","v":4},{"$f":"'Pivot Table Data'!T351","v":4},{"$f":"IF('Pivot Table Data'!O351=\"Yes\", 'Pivot Table Data'!T351, \"\")","v":""}]
[{"$f":"'Pivot Table Data'!B352","v":0},{"$f":"'Pivot Table Data'!F352","v":"Scripps Institution of Oceanography"},{"$f":"'Pivot Table Data'!P352","v":"P011"},{"$f":"'Pivot Table Data'!I352","v":"-"},{"$f":"'Pivot Table Data'!J352","v":"B"},{"$f":"'Pivot Table Data'!K352","v":"Scripps Institution of Oceanography"},{"$f":"'Pivot Table Data'!L352","v":0},{"$f":"'Pivot Table Data'!S352","v":15},{"$f":"'Pivot Table Data'!T352","v":15},{"$f":"IF('Pivot Table Data'!O352=\"Yes\", 'Pivot Table Data'!T352, \"\")","v":15}]
[{"$f":"'Pivot Table Data'!B353","v":0},{"$f":"'Pivot Table Data'!F353","v":"Scripps Institution of Oceanography"},{"$f":"'Pivot Table Data'!P353","v":"P011"},{"$f":"'Pivot Table Data'!I353","v":"-"},{"$f":"'Pivot Table Data'!J353","v":"Loading"},{"$f":"'Pivot Table Data'!K353","v":0},{"$f":"'Pivot Table Data'!L353","v":"20 minutes"},{"$f":"'Pivot Table Data'!S353","v":1},{"$f":"'Pivot Table Data'!T353","v":1},{"$f":"IF('Pivot Table Data'!O353=\"Yes\", 'Pivot Table Data'!T353, \"\")","v":""}]
[{"$f":"'Pivot Table Data'!B354","v":0},{"$f":"'Pivot Table Data'!F354","v":"Scripps Institution of Oceanography"},{"$f":"'Pivot Table Data'!P354","v":"P011"},{"$f":"'Pivot Table Data'!I354","v":"-"},{"$f":"'Pivot Table Data'!J354","v":"Motorcycle Section"},{"$f":"'Pivot Table Data'!K354","v":0},{"$f":"'Pivot Table Data'!L354","v":0},{"$f":"'Pivot Table Data'!S354","v":1},{"$f":"'Pivot Table Data'!T354","v":1},{"$f":"IF('Pivot Table Data'!O354=\"Yes\", 'Pivot Table Data'!T354, \"\")","v":""}]
[{"$f":"'Pivot Table Data'!B355","v":0},{"$f":"'Pivot Table Data'!F355","v":"Scripps Institution of Oceanography"},{"$f":"'Pivot Table Data'!P355","v":"P012"},{"$f":"'Pivot Table Data'!I355","v":"-"},{"$f":"'Pivot Table Data'!J355","v":"Accessible"},{"$f":"'Pivot Table Data'!K355","v":0},{"$f":"'Pivot Table Data'!L355","v":0},{"$f":"'Pivot Table Data'!S355","v":1},{"$f":"'Pivot Table Data'!T355","v":1},{"$f":"IF('Pivot Table Data'!O355=\"Yes\", 'Pivot Table Data'!T355, \"\")","v":""}]
[{"$f":"'Pivot Table Data'!B356","v":0},{"$f":"'Pivot Table Data'!F356","v":"Scripps Institution of Oceanography"},{"$f":"'Pivot Table Data'!P356","v":"P012"},{"$f":"'Pivot Table Data'!I356","v":"-"},{"$f":"'Pivot Table Data'!J356","v":"Accessible (Van)"},{"$f":"'Pivot Table Data'!K356","v":0},{"$f":"'Pivot Table Data'!L356","v":0},{"$f":"'Pivot Table Data'!S356","v":0},{"$f":"'Pivot Table Data'!T356","v":0},{"$f":"IF('Pivot Table Data'!O356=\"Yes\", 'Pivot Table Data'!T356, \"\")","v":""}]
[{"$f":"'Pivot Table Data'!B357","v":0},{"$f":"'Pivot Table Data'!F357","v":"Scripps Institution of Oceanography"},{"$f":"'Pivot Table Data'!P357","v":"P012"},{"$f":"'Pivot Table Data'!I357","v":"-"},{"$f":"'Pivot Table Data'!J357","v":"B"},{"$f":"'Pivot Table Data'!K357","v":"Scripps Institution of Oceanography"},{"$f":"'Pivot Table Data'!L357","v":0},{"$f":"'Pivot Table Data'!S357","v":12},{"$f":"'Pivot Table Data'!T357","v":12},{"$f":"IF('Pivot Table Data'!O357=\"Yes\", 'Pivot Table Data'!T357, \"\")","v":12}]
[{"$f":"'Pivot Table Data'!B358","v":0},{"$f":"'Pivot Table Data'!F358","v":"Scripps Institution of Oceanography"},{"$f":"'Pivot Table Data'!P358","v":"P013"},{"$f":"'Pivot Table Data'!I358","v":"-"},{"$f":"'Pivot Table Data'!J358","v":"Accessible"},{"$f":"'Pivot Table Data'!K358","v":0},{"$f":"'Pivot Table Data'!L358","v":0},{"$f":"'Pivot Table Data'!S358","v":1},{"$f":"'Pivot Table Data'!T358","v":1},{"$f":"IF('Pivot Table Data'!O358=\"Yes\", 'Pivot Table Data'!T358, \"\")","v":""}]
[{"$f":"'Pivot Table Data'!B359","v":0},{"$f":"'Pivot Table Data'!F359","v":"Scripps Institution of Oceanography"},{"$f":"'Pivot Table Data'!P359","v":"P013"},{"$f":"'Pivot Table Data'!I359","v":"-"},{"$f":"'Pivot Table Data'!J359","v":"Accessible (Van)"},{"$f":"'Pivot Table Data'!K359","v":0},{"$f":"'Pivot Table Data'!L359","v":0},{"$f":"'Pivot Table Data'!S359","v":0},{"$f":"'Pivot Table Data'!T359","v":0},{"$f":"IF('Pivot Table Data'!O359=\"Yes\", 'Pivot Table Data'!T359, \"\")","v":""}]
[{"$f":"'Pivot Table Data'!B360","v":0},{"$f":"'Pivot Table Data'!F360","v":"Scripps Institution of Oceanography"},{"$f":"'Pivot Table Data'!P360","v":"P013"},{"$f":"'Pivot Table Data'!I360","v":"-"},{"$f":"'Pivot Table Data'!J360","v":"B"},{"$f":"'Pivot Table Data'!K360","v":"Scripps Institution of Oceanography"},{"$f":"'Pivot Table Data'!L360","v":0},{"$f":"'Pivot Table Data'!S360","v":12},{"$f":"'Pivot Table Data'!T360","v":12},{"$f":"IF('Pivot Table Data'!O360=\"Yes\", 'Pivot Table Data'!T360, \"\")","v":12}]
[{"$f":"'Pivot Table Data'!B361","v":0},{"$f":"'Pivot Table Data'!F361","v":"Scripps Institution of Oceanography"},{"$f":"'Pivot Table Data'!P361","v":"P013"},{"$f":"'Pivot Table Data'!I361","v":"-"},{"$f":"'Pivot Table Data'!J361","v":"Electric Vehicle"},{"$f":"'Pivot Table Data'!K361","v":0},{"$f":"'Pivot Table Data'!L361","v":0},{"$f":"'Pivot Table Data'!S361","v":2},{"$f":"'Pivot Table Data'!T361","v":2},{"$f":"IF('Pivot Table Data'!O361=\"Yes\", 'Pivot Table Data'!T361, \"\")","v":""}]
[{"$f":"'Pivot Table Data'!B362","v":0},{"$f":"'Pivot Table Data'!F362","v":"Scripps Institution of Oceanography"},{"$f":"'Pivot Table Data'!P362","v":"P014"},{"$f":"'Pivot Table Data'!I362","v":"-"},{"$f":"'Pivot Table Data'!J362","v":"Accessible"},{"$f":"'Pivot Table Data'!K362","v":0},{"$f":"'Pivot Table Data'!L362","v":0},{"$f":"'Pivot Table Data'!S362","v":1},{"$f":"'Pivot Table Data'!T362","v":1},{"$f":"IF('Pivot Table Data'!O362=\"Yes\", 'Pivot Table Data'!T362, \"\")","v":""}]
[{"$f":"'Pivot Table Data'!B363","v":0},{"$f":"'Pivot Table Data'!F363","v":"Scripps Institution of Oceanography"},{"$f":"'Pivot Table Data'!P363","v":"P014"},{"$f":"'Pivot Table Data'!I363","v":"-"},{"$f":"'Pivot Table Data'!J363","v":"Accessible (Van)"},{"$f":"'Pivot Table Data'!K363","v":0},{"$f":"'Pivot Table Data'!L363","v":0},{"$f":"'Pivot Table Data'!S363","v":3},{"$f":"'Pivot Table Data'!T363","v":3},{"$f":"IF('Pivot Table Data'!O363=\"Yes\", 'Pivot Table Data'!T363, \"\")","v":""}]
[{"$f":"'Pivot Table Data'!B364","v":0},{"$f":"'Pivot Table Data'!F364","v":"Scripps Institution of Oceanography"},{"$f":"'Pivot Table Data'!P364","v":"P014"},{"$f":"'Pivot Table Data'!I364","v":"-"},{"$f":"'Pivot Table Data'!J364","v":"B"},{"$f":"'Pivot Table Data'!K364","v":"Scripps Institution of Oceanography"},{"$f":"'Pivot Table Data'!L364","v":0},{"$f":"'Pivot Table Data'!S364","v":69},{"$f":"'Pivot Table Data'!T364","v":69},{"$f":"IF('Pivot Table Data'!O364=\"Yes\", 'Pivot Table Data'!T364, \"\")","v":69}]
[{"$f":"'Pivot Table Data'!B365","v":0},{"$f":"'Pivot Table Data'!F365","v":"Scripps Institution of Oceanography"},{"$f":"'Pivot Table Data'!P365","v":"P014"},{"$f":"'Pivot Table Data'!I365","v":"-"},{"$f":"'Pivot Table Data'!J365","v":"Electric Vehicle"},{"$f":"'Pivot Table Data'!K365","v":0},{"$f":"'Pivot Table Data'!L365","v":0},{"$f":"'Pivot Table Data'!S365","v":2},{"$f":"'Pivot Table Data'!T365","v":2},{"$f":"IF('Pivot Table Data'!O365=\"Yes\", 'Pivot Table Data'!T365, \"\")","v":""}]
[{"$f":"'Pivot Table Data'!B366","v":0},{"$f":"'Pivot Table Data'!F366","v":"Scripps Institution of Oceanography"},{"$f":"'Pivot Table Data'!P366","v":"P014"},{"$f":"'Pivot Table Data'!I366","v":"-"},{"$f":"'Pivot Table Data'!J366","v":"Motorcycle Section"},{"$f":"'Pivot Table Data'!K366","v":0},{"$f":"'Pivot Table Data'!L366","v":0},{"$f":"'Pivot Table Data'!S366","v":8},{"$f":"'Pivot Table Data'!T366","v":8},{"$f":"IF('Pivot Table Data'!O366=\"Yes\", 'Pivot Table Data'!T366, \"\")","v":""}]
[{"$f":"'Pivot Table Data'!B367","v":0},{"$f":"'Pivot Table Data'!F367","v":"Scripps Institution of Oceanography"},{"$f":"'Pivot Table Data'!P367","v":"P014"},{"$f":"'Pivot Table Data'!I367","v":"-"},{"$f":"'Pivot Table Data'!J367","v":"Reserved"},{"$f":"'Pivot Table Data'!K367","v":0},{"$f":"'Pivot Table Data'!L367","v":0},{"$f":"'Pivot Table Data'!S367","v":0},{"$f":"'Pivot Table Data'!T367","v":0},{"$f":"IF('Pivot Table Data'!O367=\"Yes\", 'Pivot Table Data'!T367, \"\")","v":""}]
[{"$f":"'Pivot Table Data'!B368","v":0},{"$f":"'Pivot Table Data'!F368","v":"Scripps Institution of Oceanography"},{"$f":"'Pivot Table Data'!P368","v":"P014"},{"$f":"'Pivot Table Data'!I368","v":"-"},{"$f":"'Pivot Table Data'!J368","v":"S"},{"$f":"'Pivot Table Data'!K368","v":0},{"$f":"'Pivot Table Data'!L368","v":0},{"$f":"'Pivot Table Data'!S368","v":26},{"$f":"'Pivot Table Data'!T368","v":26},{"$f":"IF('Pivot Table Data'!O368=\"Yes\", 'Pivot Table Data'!T368, \"\")","v":26}]
[{"$f":"'Pivot Table Data'!B369","v":0},{"$f":"'Pivot Table Data'!F369","v":"Scripps Institution of Oceanography"},{"$f":"'Pivot Table Data'!P369","v":"P014"},{"$f":"'Pivot Table Data'!I369","v":"-"},{"$f":"'Pivot Table Data'!J369","v":"Visitor"},{"$f":"'Pivot Table Data'!K369","v":0},{"$f":"'Pivot Table Data'!L369","v":0},{"$f":"'Pivot Table Data'!S369","v":4},{"$f":"'Pivot Table Data'!T369","v":4},{"$f":"IF('Pivot Table Data'!O369=\"Yes\", 'Pivot Table Data'!T369, \"\")","v":4}]
[{"$f":"'Pivot Table Data'!B370","v":0},{"$f":"'Pivot Table Data'!F370","v":"Scripps Institution of Oceanography"},{"$f":"'Pivot Table Data'!P370","v":"P015"},{"$f":"'Pivot Table Data'!I370","v":"-"},{"$f":"'Pivot Table Data'!J370","v":"Loading"},{"$f":"'Pivot Table Data'!K370","v":0},{"$f":"'Pivot Table Data'!L370","v":0},{"$f":"'Pivot Table Data'!S370","v":1},{"$f":"'Pivot Table Data'!T370","v":1},{"$f":"IF('Pivot Table Data'!O370=\"Yes\", 'Pivot Table Data'!T370, \"\")","v":""}]
[{"$f":"'Pivot Table Data'!B371","v":0},{"$f":"'Pivot Table Data'!F371","v":"Scripps Institution of Oceanography"},{"$f":"'Pivot Table Data'!P371","v":"P016"},{"$f":"'Pivot Table Data'!I371","v":"-"},{"$f":"'Pivot Table Data'!J371","v":"Accessible"},{"$f":"'Pivot Table Data'!K371","v":0},{"$f":"'Pivot Table Data'!L371","v":0},{"$f":"'Pivot Table Data'!S371","v":2},{"$f":"'Pivot Table Data'!T371","v":2},{"$f":"IF('Pivot Table Data'!O371=\"Yes\", 'Pivot Table Data'!T371, \"\")","v":""}]
[{"$f":"'Pivot Table Data'!B372","v":0},{"$f":"'Pivot Table Data'!F372","v":"Scripps Institution of Oceanography"},{"$f":"'Pivot Table Data'!P372","v":"P016"},{"$f":"'Pivot Table Data'!I372","v":"-"},{"$f":"'Pivot Table Data'!J372","v":"Accessible (Van)"},{"$f":"'Pivot Table Data'!K372","v":0},{"$f":"'Pivot Table Data'!L372","v":0},{"$f":"'Pivot Table Data'!S372","v":0},{"$f":"'Pivot Table Data'!T372","v":0},{"$f":"IF('Pivot Table Data'!O372=\"Yes\", 'Pivot Table Data'!T372, \"\")","v":""}]
[{"$f":"'Pivot Table Data'!B373","v":0},{"$f":"'Pivot Table Data'!F373","v":"Scripps Institution of Oceanography"},{"$f":"'Pivot Table Data'!P373","v":"P016"},{"$f":"'Pivot Table Data'!I373","v":"-"},{"$f":"'Pivot Table Data'!J373","v":"Motorcycle Section"},{"$f":"'Pivot Table Data'!K373","v":0},{"$f":"'Pivot Table Data'!L373","v":0},{"$f":"'Pivot Table Data'!S373","v":1},{"$f":"'Pivot Table Data'!T373","v":1},{"$f":"IF('Pivot Table Data'!O373=\"Yes\", 'Pivot Table Data'!T373, \"\")","v":""}]
[{"$f":"'Pivot Table Data'!B374","v":0},{"$f":"'Pivot Table Data'!F374","v":"Scripps Institution of Oceanography"},{"$f":"'Pivot Table Data'!P374","v":"P016"},{"$f":"'Pivot Table Data'!I374","v":"-"},{"$f":"'Pivot Table Data'!J374","v":"S"},{"$f":"'Pivot Table Data'!K374","v":"Scripps Institution of Oceanography"},{"$f":"'Pivot Table Data'!L374","v":0},{"$f":"'Pivot Table Data'!S374","v":58},{"$f":"'Pivot Table Data'!T374","v":58},{"$f":"IF('Pivot Table Data'!O374=\"Yes\", 'Pivot Table Data'!T374, \"\")","v":58}]
[{"$f":"'Pivot Table Data'!B375","v":0},{"$f":"'Pivot Table Data'!F375","v":"Scripps Institution of Oceanography"},{"$f":"'Pivot Table Data'!P375","v":"P017"},{"$f":"'Pivot Table Data'!I375","v":"-"},{"$f":"'Pivot Table Data'!J375","v":"Accessible"},{"$f":"'Pivot Table Data'!K375","v":0},{"$f":"'Pivot Table Data'!L375","v":0},{"$f":"'Pivot Table Data'!S375","v":2},{"$f":"'Pivot Table Data'!T375","v":2},{"$f":"IF('Pivot Table Data'!O375=\"Yes\", 'Pivot Table Data'!T375, \"\")","v":""}]
[{"$f":"'Pivot Table Data'!B376","v":0},{"$f":"'Pivot Table Data'!F376","v":"Scripps Institution of Oceanography"},{"$f":"'Pivot Table Data'!P376","v":"P017"},{"$f":"'Pivot Table Data'!I376","v":"-"},{"$f":"'Pivot Table Data'!J376","v":"Accessible (Van)"},{"$f":"'Pivot Table Data'!K376","v":0},{"$f":"'Pivot Table Data'!L376","v":0},{"$f":"'Pivot Table Data'!S376","v":7},{"$f":"'Pivot Table Data'!T376","v":7},{"$f":"IF('Pivot Table Data'!O376=\"Yes\", 'Pivot Table Data'!T376, \"\")","v":""}]
[{"$f":"'Pivot Table Data'!B377","v":0},{"$f":"'Pivot Table Data'!F377","v":"Scripps Institution of Oceanography"},{"$f":"'Pivot Table Data'!P377","v":"P017"},{"$f":"'Pivot Table Data'!I377","v":"-"},{"$f":"'Pivot Table Data'!J377","v":"Electric Vehicle"},{"$f":"'Pivot Table Data'!K377","v":0},{"$f":"'Pivot Table Data'!L377","v":0},{"$f":"'Pivot Table Data'!S377","v":2},{"$f":"'Pivot Table Data'!T377","v":2},{"$f":"IF('Pivot Table Data'!O377=\"Yes\", 'Pivot Table Data'!T377, \"\")","v":""}]
[{"$f":"'Pivot Table Data'!B378","v":0},{"$f":"'Pivot Table Data'!F378","v":"Scripps Institution of Oceanography"},{"$f":"'Pivot Table Data'!P378","v":"P017"},{"$f":"'Pivot Table Data'!I378","v":"-"},{"$f":"'Pivot Table Data'!J378","v":"Visitor"},{"$f":"'Pivot Table Data'!K378","v":"Birch Aquarium"},{"$f":"'Pivot Table Data'!L378","v":0},{"$f":"'Pivot Table Data'!S378","v":254},{"$f":"'Pivot Table Data'!T378","v":254},{"$f":"IF('Pivot Table Data'!O378=\"Yes\", 'Pivot Table Data'!T378, \"\")","v":254}]
[{"$f":"'Pivot Table Data'!B379","v":0},{"$f":"'Pivot Table Data'!F379","v":"Scripps Institution of Oceanography"},{"$f":"'Pivot Table Data'!P379","v":"P021"},{"$f":"'Pivot Table Data'!I379","v":"-"},{"$f":"'Pivot Table Data'!J379","v":"S"},{"$f":"'Pivot Table Data'!K379","v":"Scripps Institution of Oceanography"},{"$f":"'Pivot Table Data'!L379","v":0},{"$f":"'Pivot Table Data'!S379","v":75},{"$f":"'Pivot Table Data'!T379","v":75},{"$f":"IF('Pivot Table Data'!O379=\"Yes\", 'Pivot Table Data'!T379, \"\")","v":75}]
[{"$f":"'Pivot Table Data'!B380","v":0},{"$f":"'Pivot Table Data'!F380","v":"Scripps Institution of Oceanography"},{"$f":"'Pivot Table Data'!P380","v":"P032"},{"$f":"'Pivot Table Data'!I380","v":":Lower Lot"},{"$f":"'Pivot Table Data'!J380","v":"Visitor"},{"$f":"'Pivot Table Data'!K380","v":"Scripps Institution of Oceanography"},{"$f":"'Pivot Table Data'!L380","v":0},{"$f":"'Pivot Table Data'!S380","v":4},{"$f":"'Pivot Table Data'!T380","v":12},{"$f":"IF('Pivot Table Data'!O380=\"Yes\", 'Pivot Table Data'!T380, \"\")","v":12}]
[{"$f":"'Pivot Table Data'!B381","v":0},{"$f":"'Pivot Table Data'!F381","v":"Scripps Institution of Oceanography"},{"$f":"'Pivot Table Data'!P381","v":"P032"},{"$f":"'Pivot Table Data'!I381","v":"Loading Dock"},{"$f":"'Pivot Table Data'!J381","v":"Loading Zone"},{"$f":"'Pivot Table Data'!K381","v":"Scripps Institution of Oceanography"},{"$f":"'Pivot Table Data'!L381","v":0},{"$f":"'Pivot Table Data'!S381","v":4},{"$f":"'Pivot Table Data'!T381","v":4},{"$f":"IF('Pivot Table Data'!O381=\"Yes\", 'Pivot Table Data'!T381, \"\")","v":""}]
[{"$f":"'Pivot Table Data'!B382","v":0},{"$f":"'Pivot Table Data'!F382","v":"Scripps Institution of Oceanography"},{"$f":"'Pivot Table Data'!P382","v":"P032"},{"$f":"'Pivot Table Data'!I382","v":"Lower Lot"},{"$f":"'Pivot Table Data'!J382","v":"Accessible"},{"$f":"'Pivot Table Data'!K382","v":"Scripps Institution of Oceanography"},{"$f":"'Pivot Table Data'!L382","v":0},{"$f":"'Pivot Table Data'!S382","v":1},{"$f":"'Pivot Table Data'!T382","v":3},{"$f":"IF('Pivot Table Data'!O382=\"Yes\", 'Pivot Table Data'!T382, \"\")","v":3}]
[{"$f":"'Pivot Table Data'!B383","v":0},{"$f":"'Pivot Table Data'!F383","v":"Scripps Institution of Oceanography"},{"$f":"'Pivot Table Data'!P383","v":"P032"},{"$f":"'Pivot Table Data'!I383","v":"Upper Lot"},{"$f":"'Pivot Table Data'!J383","v":"Accessible"},{"$f":"'Pivot Table Data'!K383","v":"Scripps Institution of Oceanography"},{"$f":"'Pivot Table Data'!L383","v":0},{"$f":"'Pivot Table Data'!S383","v":2},{"$f":"'Pivot Table Data'!T383","v":""},{"$f":"IF('Pivot Table Data'!O383=\"Yes\", 'Pivot Table Data'!T383, \"\")","v":""}]
[{"$f":"'Pivot Table Data'!B384","v":0},{"$f":"'Pivot Table Data'!F384","v":"Scripps Institution of Oceanography"},{"$f":"'Pivot Table Data'!P384","v":"P032"},{"$f":"'Pivot Table Data'!I384","v":"Upper Lot"},{"$f":"'Pivot Table Data'!J384","v":"B"},{"$f":"'Pivot Table Data'!K384","v":"Scripps Institution of Oceanography"},{"$f":"'Pivot Table Data'!L384","v":0},{"$f":"'Pivot Table Data'!S384","v":9},{"$f":"'Pivot Table Data'!T384","v":9},{"$f":"IF('Pivot Table Data'!O384=\"Yes\", 'Pivot Table Data'!T384, \"\")","v":9}]
[{"$f":"'Pivot Table Data'!B385","v":0},{"$f":"'Pivot Table Data'!F385","v":"Scripps Institution of Oceanography"},{"$f":"'Pivot Table Data'!P385","v":"P032"},{"$f":"'Pivot Table Data'!I385","v":"Upper Lot"},{"$f":"'Pivot Table Data'!J385","v":"Construction"},{"$f":"'Pivot Table Data'!K385","v":"Scripps Institution of Oceanography"},{"$f":"'Pivot Table Data'!L385","v":0},{"$f":"'Pivot Table Data'!S385","v":4},{"$f":"'Pivot Table Data'!T385","v":4},{"$f":"IF('Pivot Table Data'!O385=\"Yes\", 'Pivot Table Data'!T385, \"\")","v":""}]
[{"$f":"'Pivot Table Data'!B386","v":0},{"$f":"'Pivot Table Data'!F386","v":"Scripps Institution of Oceanography"},{"$f":"'Pivot Table Data'!P386","v":"P032"},{"$f":"'Pivot Table Data'!I386","v":"Upper Lot"},{"$f":"'Pivot Table Data'!J386","v":"Electric Vehicle"},{"$f":"'Pivot Table Data'!K386","v":"Scripps Institution of Oceanography"},{"$f":"'Pivot Table Data'!L386","v":0},{"$f":"'Pivot Table Data'!S386","v":2},{"$f":"'Pivot Table Data'!T386","v":2},{"$f":"IF('Pivot Table Data'!O386=\"Yes\", 'Pivot Table Data'!T386, \"\")","v":2}]
[{"$f":"'Pivot Table Data'!B387","v":0},{"$f":"'Pivot Table Data'!F387","v":"Scripps Institution of Oceanography"},{"$f":"'Pivot Table Data'!P387","v":"P032"},{"$f":"'Pivot Table Data'!I387","v":"Upper Lot"},{"$f":"'Pivot Table Data'!J387","v":"Visitor"},{"$f":"'Pivot Table Data'!K387","v":"Scripps Institution of Oceanography"},{"$f":"'Pivot Table Data'!L387","v":0},{"$f":"'Pivot Table Data'!S387","v":8},{"$f":"'Pivot Table Data'!T387","v":""},{"$f":"IF('Pivot Table Data'!O387=\"Yes\", 'Pivot Table Data'!T387, \"\")","v":""}]
[{"$f":"'Pivot Table Data'!B388","v":0},{"$f":"'Pivot Table Data'!F388","v":8980},{"$f":"'Pivot Table Data'!P388","v":8980},{"$f":"'Pivot Table Data'!I388","v":"B2"},{"$f":"'Pivot Table Data'!J388","v":"A"},{"$f":"'Pivot Table Data'!K388","v":0},{"$f":"'Pivot Table Data'!L388","v":0},{"$f":"'Pivot Table Data'!S388","v":0},{"$f":"'Pivot Table Data'!T388","v":26},{"$f":"IF('Pivot Table Data'!O388=\"Yes\", 'Pivot Table Data'!T388, \"\")","v":26}]
[{"$f":"'Pivot Table Data'!B389","v":0},{"$f":"'Pivot Table Data'!F389","v":8980},{"$f":"'Pivot Table Data'!P389","v":8980},{"$f":"'Pivot Table Data'!I389","v":"B2"},{"$f":"'Pivot Table Data'!J389","v":"Accessible"},{"$f":"'Pivot Table Data'!K389","v":0},{"$f":"'Pivot Table Data'!L389","v":0},{"$f":"'Pivot Table Data'!S389","v":0},{"$f":"'Pivot Table Data'!T389","v":9},{"$f":"IF('Pivot Table Data'!O389=\"Yes\", 'Pivot Table Data'!T389, \"\")","v":""}]
[{"$f":"'Pivot Table Data'!B390","v":0},{"$f":"'Pivot Table Data'!F390","v":8980},{"$f":"'Pivot Table Data'!P390","v":8980},{"$f":"'Pivot Table Data'!I390","v":"B2"},{"$f":"'Pivot Table Data'!J390","v":"Accessible (Van)"},{"$f":"'Pivot Table Data'!K390","v":0},{"$f":"'Pivot Table Data'!L390","v":0},{"$f":"'Pivot Table Data'!S390","v":0},{"$f":"'Pivot Table Data'!T390","v":0},{"$f":"IF('Pivot Table Data'!O390=\"Yes\", 'Pivot Table Data'!T390, \"\")","v":""}]
[{"$f":"'Pivot Table Data'!B391","v":0},{"$f":"'Pivot Table Data'!F391","v":8980},{"$f":"'Pivot Table Data'!P391","v":8980},{"$f":"'Pivot Table Data'!I391","v":"B2"},{"$f":"'Pivot Table Data'!J391","v":"B"},{"$f":"'Pivot Table Data'!K391","v":0},{"$f":"'Pivot Table Data'!L391","v":0},{"$f":"'Pivot Table Data'!S391","v":0},{"$f":"'Pivot Table Data'!T391","v":33},{"$f":"IF('Pivot Table Data'!O391=\"Yes\", 'Pivot Table Data'!T391, \"\")","v":33}]
[{"$f":"'Pivot Table Data'!B392","v":0},{"$f":"'Pivot Table Data'!F392","v":8980},{"$f":"'Pivot Table Data'!P392","v":8980},{"$f":"'Pivot Table Data'!I392","v":"B2"},{"$f":"'Pivot Table Data'!J392","v":"Carpool"},{"$f":"'Pivot Table Data'!K392","v":0},{"$f":"'Pivot Table Data'!L392","v":0},{"$f":"'Pivot Table Data'!S392","v":0},{"$f":"'Pivot Table Data'!T392","v":19},{"$f":"IF('Pivot Table Data'!O392=\"Yes\", 'Pivot Table Data'!T392, \"\")","v":19}]
[{"$f":"'Pivot Table Data'!B393","v":0},{"$f":"'Pivot Table Data'!F393","v":8980},{"$f":"'Pivot Table Data'!P393","v":8980},{"$f":"'Pivot Table Data'!I393","v":"B2"},{"$f":"'Pivot Table Data'!J393","v":"Electric Vehicle"},{"$f":"'Pivot Table Data'!K393","v":0},{"$f":"'Pivot Table Data'!L393","v":0},{"$f":"'Pivot Table Data'!S393","v":0},{"$f":"'Pivot Table Data'!T393","v":18},{"$f":"IF('Pivot Table Data'!O393=\"Yes\", 'Pivot Table Data'!T393, \"\")","v":""}]
[{"$f":"'Pivot Table Data'!B394","v":0},{"$f":"'Pivot Table Data'!F394","v":8980},{"$f":"'Pivot Table Data'!P394","v":8980},{"$f":"'Pivot Table Data'!I394","v":"B2"},{"$f":"'Pivot Table Data'!J394","v":"Motorcycle Section"},{"$f":"'Pivot Table Data'!K394","v":0},{"$f":"'Pivot Table Data'!L394","v":0},{"$f":"'Pivot Table Data'!S394","v":0},{"$f":"'Pivot Table Data'!T394","v":10},{"$f":"IF('Pivot Table Data'!O394=\"Yes\", 'Pivot Table Data'!T394, \"\")","v":""}]
[{"$f":"'Pivot Table Data'!B395","v":0},{"$f":"'Pivot Table Data'!F395","v":8980},{"$f":"'Pivot Table Data'!P395","v":8980},{"$f":"'Pivot Table Data'!I395","v":"B2"},{"$f":"'Pivot Table Data'!J395","v":"Reserved"},{"$f":"'Pivot Table Data'!K395","v":0},{"$f":"'Pivot Table Data'!L395","v":0},{"$f":"'Pivot Table Data'!S395","v":0},{"$f":"'Pivot Table Data'!T395","v":5},{"$f":"IF('Pivot Table Data'!O395=\"Yes\", 'Pivot Table Data'!T395, \"\")","v":""}]
[{"$f":"'Pivot Table Data'!B396","v":0},{"$f":"'Pivot Table Data'!F396","v":8980},{"$f":"'Pivot Table Data'!P396","v":8980},{"$f":"'Pivot Table Data'!I396","v":"B2"},{"$f":"'Pivot Table Data'!J396","v":"S"},{"$f":"'Pivot Table Data'!K396","v":0},{"$f":"'Pivot Table Data'!L396","v":0},{"$f":"'Pivot Table Data'!S396","v":57},{"$f":"'Pivot Table Data'!T396","v":98},{"$f":"IF('Pivot Table Data'!O396=\"Yes\", 'Pivot Table Data'!T396, \"\")","v":98}]
[{"$f":"'Pivot Table Data'!B397","v":0},{"$f":"'Pivot Table Data'!F397","v":8980},{"$f":"'Pivot Table Data'!P397","v":8980},{"$f":"'Pivot Table Data'!I397","v":"B2"},{"$f":"'Pivot Table Data'!J397","v":"UC Cart"},{"$f":"'Pivot Table Data'!K397","v":0},{"$f":"'Pivot Table Data'!L397","v":0},{"$f":"'Pivot Table Data'!S397","v":0},{"$f":"'Pivot Table Data'!T397","v":1},{"$f":"IF('Pivot Table Data'!O397=\"Yes\", 'Pivot Table Data'!T397, \"\")","v":""}]
[{"$f":"'Pivot Table Data'!B398","v":0},{"$f":"'Pivot Table Data'!F398","v":8980},{"$f":"'Pivot Table Data'!P398","v":8980},{"$f":"'Pivot Table Data'!I398","v":"B2"},{"$f":"'Pivot Table Data'!J398","v":"UC Vehicle"},{"$f":"'Pivot Table Data'!K398","v":0},{"$f":"'Pivot Table Data'!L398","v":0},{"$f":"'Pivot Table Data'!S398","v":0},{"$f":"'Pivot Table Data'!T398","v":1},{"$f":"IF('Pivot Table Data'!O398=\"Yes\", 'Pivot Table Data'!T398, \"\")","v":""}]
[{"$f":"'Pivot Table Data'!B399","v":0},{"$f":"'Pivot Table Data'!F399","v":8980},{"$f":"'Pivot Table Data'!P399","v":8980},{"$f":"'Pivot Table Data'!I399","v":"B2"},{"$f":"'Pivot Table Data'!J399","v":"Visitor"},{"$f":"'Pivot Table Data'!K399","v":0},{"$f":"'Pivot Table Data'!L399","v":0},{"$f":"'Pivot Table Data'!S399","v":0},{"$f":"'Pivot Table Data'!T399","v":52},{"$f":"IF('Pivot Table Data'!O399=\"Yes\", 'Pivot Table Data'!T399, \"\")","v":52}]
[{"$f":"'Pivot Table Data'!B400","v":0},{"$f":"'Pivot Table Data'!F400","v":8980},{"$f":"'Pivot Table Data'!P400","v":8980},{"$f":"'Pivot Table Data'!I400","v":"B1"},{"$f":"'Pivot Table Data'!J400","v":"A"},{"$f":"'Pivot Table Data'!K400","v":0},{"$f":"'Pivot Table Data'!L400","v":0},{"$f":"'Pivot Table Data'!S400","v":26},{"$f":"'Pivot Table Data'!T400","v":""},{"$f":"IF('Pivot Table Data'!O400=\"Yes\", 'Pivot Table Data'!T400, \"\")","v":""}]
[{"$f":"'Pivot Table Data'!B401","v":0},{"$f":"'Pivot Table Data'!F401","v":8980},{"$f":"'Pivot Table Data'!P401","v":8980},{"$f":"'Pivot Table Data'!I401","v":"B1"},{"$f":"'Pivot Table Data'!J401","v":"Accessible"},{"$f":"'Pivot Table Data'!K401","v":0},{"$f":"'Pivot Table Data'!L401","v":0},{"$f":"'Pivot Table Data'!S401","v":0},{"$f":"'Pivot Table Data'!T401","v":""},{"$f":"IF('Pivot Table Data'!O401=\"Yes\", 'Pivot Table Data'!T401, \"\")","v":""}]
[{"$f":"'Pivot Table Data'!B402","v":0},{"$f":"'Pivot Table Data'!F402","v":8980},{"$f":"'Pivot Table Data'!P402","v":8980},{"$f":"'Pivot Table Data'!I402","v":"B1"},{"$f":"'Pivot Table Data'!J402","v":"Accessible (Van)"},{"$f":"'Pivot Table Data'!K402","v":0},{"$f":"'Pivot Table Data'!L402","v":0},{"$f":"'Pivot Table Data'!S402","v":0},{"$f":"'Pivot Table Data'!T402","v":""},{"$f":"IF('Pivot Table Data'!O402=\"Yes\", 'Pivot Table Data'!T402, \"\")","v":""}]
[{"$f":"'Pivot Table Data'!B403","v":0},{"$f":"'Pivot Table Data'!F403","v":8980},{"$f":"'Pivot Table Data'!P403","v":8980},{"$f":"'Pivot Table Data'!I403","v":"B1"},{"$f":"'Pivot Table Data'!J403","v":"B"},{"$f":"'Pivot Table Data'!K403","v":0},{"$f":"'Pivot Table Data'!L403","v":0},{"$f":"'Pivot Table Data'!S403","v":31},{"$f":"'Pivot Table Data'!T403","v":""},{"$f":"IF('Pivot Table Data'!O403=\"Yes\", 'Pivot Table Data'!T403, \"\")","v":""}]
[{"$f":"'Pivot Table Data'!B404","v":0},{"$f":"'Pivot Table Data'!F404","v":8980},{"$f":"'Pivot Table Data'!P404","v":8980},{"$f":"'Pivot Table Data'!I404","v":"B1"},{"$f":"'Pivot Table Data'!J404","v":"Carpool"},{"$f":"'Pivot Table Data'!K404","v":0},{"$f":"'Pivot Table Data'!L404","v":0},{"$f":"'Pivot Table Data'!S404","v":0},{"$f":"'Pivot Table Data'!T404","v":""},{"$f":"IF('Pivot Table Data'!O404=\"Yes\", 'Pivot Table Data'!T404, \"\")","v":""}]
[{"$f":"'Pivot Table Data'!B405","v":0},{"$f":"'Pivot Table Data'!F405","v":8980},{"$f":"'Pivot Table Data'!P405","v":8980},{"$f":"'Pivot Table Data'!I405","v":"B1"},{"$f":"'Pivot Table Data'!J405","v":"Electric Vehicle"},{"$f":"'Pivot Table Data'!K405","v":0},{"$f":"'Pivot Table Data'!L405","v":0},{"$f":"'Pivot Table Data'!S405","v":0},{"$f":"'Pivot Table Data'!T405","v":""},{"$f":"IF('Pivot Table Data'!O405=\"Yes\", 'Pivot Table Data'!T405, \"\")","v":""}]
[{"$f":"'Pivot Table Data'!B406","v":0},{"$f":"'Pivot Table Data'!F406","v":8980},{"$f":"'Pivot Table Data'!P406","v":8980},{"$f":"'Pivot Table Data'!I406","v":"B1"},{"$f":"'Pivot Table Data'!J406","v":"Motorcycle Section"},{"$f":"'Pivot Table Data'!K406","v":0},{"$f":"'Pivot Table Data'!L406","v":0},{"$f":"'Pivot Table Data'!S406","v":0},{"$f":"'Pivot Table Data'!T406","v":""},{"$f":"IF('Pivot Table Data'!O406=\"Yes\", 'Pivot Table Data'!T406, \"\")","v":""}]
[{"$f":"'Pivot Table Data'!B407","v":0},{"$f":"'Pivot Table Data'!F407","v":8980},{"$f":"'Pivot Table Data'!P407","v":8980},{"$f":"'Pivot Table Data'!I407","v":"B1"},{"$f":"'Pivot Table Data'!J407","v":"Reserved"},{"$f":"'Pivot Table Data'!K407","v":0},{"$f":"'Pivot Table Data'!L407","v":0},{"$f":"'Pivot Table Data'!S407","v":0},{"$f":"'Pivot Table Data'!T407","v":""},{"$f":"IF('Pivot Table Data'!O407=\"Yes\", 'Pivot Table Data'!T407, \"\")","v":""}]
[{"$f":"'Pivot Table Data'!B408","v":0},{"$f":"'Pivot Table Data'!F408","v":8980},{"$f":"'Pivot Table Data'!P408","v":8980},{"$f":"'Pivot Table Data'!I408","v":"B1"},{"$f":"'Pivot Table Data'!J408","v":"S"},{"$f":"'Pivot Table Data'!K408","v":0},{"$f":"'Pivot Table Data'!L408","v":0},{"$f":"'Pivot Table Data'!S408","v":0},{"$f":"'Pivot Table Data'!T408","v":""},{"$f":"IF('Pivot Table Data'!O408=\"Yes\", 'Pivot Table Data'!T408, \"\")","v":""}]
[{"$f":"'Pivot Table Data'!B409","v":0},{"$f":"'Pivot Table Data'!F409","v":8980},{"$f":"'Pivot Table Data'!P409","v":8980},{"$f":"'Pivot Table Data'!I409","v":"B1"},{"$f":"'Pivot Table Data'!J409","v":"UC Cart"},{"$f":"'Pivot Table Data'!K409","v":0},{"$f":"'Pivot Table Data'!L409","v":0},{"$f":"'Pivot Table Data'!S409","v":0},{"$f":"'Pivot Table Data'!T409","v":""},{"$f":"IF('Pivot Table Data'!O409=\"Yes\", 'Pivot Table Data'!T409, \"\")","v":""}]
[{"$f":"'Pivot Table Data'!B410","v":0},{"$f":"'Pivot Table Data'!F410","v":8980},{"$f":"'Pivot Table Data'!P410","v":8980},{"$f":"'Pivot Table Data'!I410","v":"B1"},{"$f":"'Pivot Table Data'!J410","v":"UC Vehicle"},{"$f":"'Pivot Table Data'!K410","v":0},{"$f":"'Pivot Table Data'!L410","v":0},{"$f":"'Pivot Table Data'!S410","v":0},{"$f":"'Pivot Table Data'!T410","v":""},{"$f":"IF('Pivot Table Data'!O410=\"Yes\", 'Pivot Table Data'!T410, \"\")","v":""}]
[{"$f":"'Pivot Table Data'!B411","v":0},{"$f":"'Pivot Table Data'!F411","v":8980},{"$f":"'Pivot Table Data'!P411","v":8980},{"$f":"'Pivot Table Data'!I411","v":"B1"},{"$f":"'Pivot Table Data'!J411","v":"Visitor"},{"$f":"'Pivot Table Data'!K411","v":0},{"$f":"'Pivot Table Data'!L411","v":0},{"$f":"'Pivot Table Data'!S411","v":0},{"$f":"'Pivot Table Data'!T411","v":""},{"$f":"IF('Pivot Table Data'!O411=\"Yes\", 'Pivot Table Data'!T411, \"\")","v":""}]
[{"$f":"'Pivot Table Data'!B412","v":0},{"$f":"'Pivot Table Data'!F412","v":8980},{"$f":"'Pivot Table Data'!P412","v":8980},{"$f":"'Pivot Table Data'!I412","v":"Ground Floor"},{"$f":"'Pivot Table Data'!J412","v":"A"},{"$f":"'Pivot Table Data'!K412","v":0},{"$f":"'Pivot Table Data'!L412","v":0},{"$f":"'Pivot Table Data'!S412","v":0},{"$f":"'Pivot Table Data'!T412","v":""},{"$f":"IF('Pivot Table Data'!O412=\"Yes\", 'Pivot Table Data'!T412, \"\")","v":""}]
[{"$f":"'Pivot Table Data'!B413","v":0},{"$f":"'Pivot Table Data'!F413","v":8980},{"$f":"'Pivot Table Data'!P413","v":8980},{"$f":"'Pivot Table Data'!I413","v":"Ground Floor"},{"$f":"'Pivot Table Data'!J413","v":"Accessible"},{"$f":"'Pivot Table Data'!K413","v":0},{"$f":"'Pivot Table Data'!L413","v":0},{"$f":"'Pivot Table Data'!S413","v":7},{"$f":"'Pivot Table Data'!T413","v":""},{"$f":"IF('Pivot Table Data'!O413=\"Yes\", 'Pivot Table Data'!T413, \"\")","v":""}]
[{"$f":"'Pivot Table Data'!B414","v":0},{"$f":"'Pivot Table Data'!F414","v":8980},{"$f":"'Pivot Table Data'!P414","v":8980},{"$f":"'Pivot Table Data'!I414","v":"Ground Floor"},{"$f":"'Pivot Table Data'!J414","v":"Accessible (Van)"},{"$f":"'Pivot Table Data'!K414","v":0},{"$f":"'Pivot Table Data'!L414","v":0},{"$f":"'Pivot Table Data'!S414","v":0},{"$f":"'Pivot Table Data'!T414","v":""},{"$f":"IF('Pivot Table Data'!O414=\"Yes\", 'Pivot Table Data'!T414, \"\")","v":""}]
[{"$f":"'Pivot Table Data'!B415","v":0},{"$f":"'Pivot Table Data'!F415","v":8980},{"$f":"'Pivot Table Data'!P415","v":8980},{"$f":"'Pivot Table Data'!I415","v":"Ground Floor"},{"$f":"'Pivot Table Data'!J415","v":"B"},{"$f":"'Pivot Table Data'!K415","v":0},{"$f":"'Pivot Table Data'!L415","v":0},{"$f":"'Pivot Table Data'!S415","v":2},{"$f":"'Pivot Table Data'!T415","v":""},{"$f":"IF('Pivot Table Data'!O415=\"Yes\", 'Pivot Table Data'!T415, \"\")","v":""}]
[{"$f":"'Pivot Table Data'!B416","v":0},{"$f":"'Pivot Table Data'!F416","v":8980},{"$f":"'Pivot Table Data'!P416","v":8980},{"$f":"'Pivot Table Data'!I416","v":"Ground Floor"},{"$f":"'Pivot Table Data'!J416","v":"Carpool"},{"$f":"'Pivot Table Data'!K416","v":0},{"$f":"'Pivot Table Data'!L416","v":0},{"$f":"'Pivot Table Data'!S416","v":0},{"$f":"'Pivot Table Data'!T416","v":""},{"$f":"IF('Pivot Table Data'!O416=\"Yes\", 'Pivot Table Data'!T416, \"\")","v":""}]
[{"$f":"'Pivot Table Data'!B417","v":0},{"$f":"'Pivot Table Data'!F417","v":8980},{"$f":"'Pivot Table Data'!P417","v":8980},{"$f":"'Pivot Table Data'!I417","v":"Ground Floor"},{"$f":"'Pivot Table Data'!J417","v":"Electric Vehicle"},{"$f":"'Pivot Table Data'!K417","v":0},{"$f":"'Pivot Table Data'!L417","v":0},{"$f":"'Pivot Table Data'!S417","v":12},{"$f":"'Pivot Table Data'!T417","v":""},{"$f":"IF('Pivot Table Data'!O417=\"Yes\", 'Pivot Table Data'!T417, \"\")","v":""}]
[{"$f":"'Pivot Table Data'!B418","v":0},{"$f":"'Pivot Table Data'!F418","v":8980},{"$f":"'Pivot Table Data'!P418","v":8980},{"$f":"'Pivot Table Data'!I418","v":"Ground Floor"},{"$f":"'Pivot Table Data'!J418","v":"Motorcycle Section"},{"$f":"'Pivot Table Data'!K418","v":0},{"$f":"'Pivot Table Data'!L418","v":0},{"$f":"'Pivot Table Data'!S418","v":10},{"$f":"'Pivot Table Data'!T418","v":""},{"$f":"IF('Pivot Table Data'!O418=\"Yes\", 'Pivot Table Data'!T418, \"\")","v":""}]
[{"$f":"'Pivot Table Data'!B419","v":0},{"$f":"'Pivot Table Data'!F419","v":8980},{"$f":"'Pivot Table Data'!P419","v":8980},{"$f":"'Pivot Table Data'!I419","v":"Ground Floor"},{"$f":"'Pivot Table Data'!J419","v":"Reserved"},{"$f":"'Pivot Table Data'!K419","v":0},{"$f":"'Pivot Table Data'!L419","v":0},{"$f":"'Pivot Table Data'!S419","v":0},{"$f":"'Pivot Table Data'!T419","v":""},{"$f":"IF('Pivot Table Data'!O419=\"Yes\", 'Pivot Table Data'!T419, \"\")","v":""}]
[{"$f":"'Pivot Table Data'!B420","v":0},{"$f":"'Pivot Table Data'!F420","v":8980},{"$f":"'Pivot Table Data'!P420","v":8980},{"$f":"'Pivot Table Data'!I420","v":"Ground Floor"},{"$f":"'Pivot Table Data'!J420","v":"S"},{"$f":"'Pivot Table Data'!K420","v":0},{"$f":"'Pivot Table Data'!L420","v":0},{"$f":"'Pivot Table Data'!S420","v":0},{"$f":"'Pivot Table Data'!T420","v":""},{"$f":"IF('Pivot Table Data'!O420=\"Yes\", 'Pivot Table Data'!T420, \"\")","v":""}]
[{"$f":"'Pivot Table Data'!B421","v":0},{"$f":"'Pivot Table Data'!F421","v":8980},{"$f":"'Pivot Table Data'!P421","v":8980},{"$f":"'Pivot Table Data'!I421","v":"Ground Floor"},{"$f":"'Pivot Table Data'!J421","v":"UC Cart"},{"$f":"'Pivot Table Data'!K421","v":0},{"$f":"'Pivot Table Data'!L421","v":0},{"$f":"'Pivot Table Data'!S421","v":0},{"$f":"'Pivot Table Data'!T421","v":""},{"$f":"IF('Pivot Table Data'!O421=\"Yes\", 'Pivot Table Data'!T421, \"\")","v":""}]
[{"$f":"'Pivot Table Data'!B422","v":0},{"$f":"'Pivot Table Data'!F422","v":8980},{"$f":"'Pivot Table Data'!P422","v":8980},{"$f":"'Pivot Table Data'!I422","v":"Ground Floor"},{"$f":"'Pivot Table Data'!J422","v":"UC Vehicle"},{"$f":"'Pivot Table Data'!K422","v":0},{"$f":"'Pivot Table Data'!L422","v":0},{"$f":"'Pivot Table Data'!S422","v":0},{"$f":"'Pivot Table Data'!T422","v":""},{"$f":"IF('Pivot Table Data'!O422=\"Yes\", 'Pivot Table Data'!T422, \"\")","v":""}]
[{"$f":"'Pivot Table Data'!B423","v":0},{"$f":"'Pivot Table Data'!F423","v":8980},{"$f":"'Pivot Table Data'!P423","v":8980},{"$f":"'Pivot Table Data'!I423","v":"Ground Floor"},{"$f":"'Pivot Table Data'!J423","v":"Visitor"},{"$f":"'Pivot Table Data'!K423","v":0},{"$f":"'Pivot Table Data'!L423","v":0},{"$f":"'Pivot Table Data'!S423","v":18},{"$f":"'Pivot Table Data'!T423","v":""},{"$f":"IF('Pivot Table Data'!O423=\"Yes\", 'Pivot Table Data'!T423, \"\")","v":""}]
[{"$f":"'Pivot Table Data'!B424","v":0},{"$f":"'Pivot Table Data'!F424","v":8980},{"$f":"'Pivot Table Data'!P424","v":8980},{"$f":"'Pivot Table Data'!I424","v":"L2"},{"$f":"'Pivot Table Data'!J424","v":"A"},{"$f":"'Pivot Table Data'!K424","v":0},{"$f":"'Pivot Table Data'!L424","v":0},{"$f":"'Pivot Table Data'!S424","v":0},{"$f":"'Pivot Table Data'!T424","v":""},{"$f":"IF('Pivot Table Data'!O424=\"Yes\", 'Pivot Table Data'!T424, \"\")","v":""}]
[{"$f":"'Pivot Table Data'!B425","v":0},{"$f":"'Pivot Table Data'!F425","v":8980},{"$f":"'Pivot Table Data'!P425","v":8980},{"$f":"'Pivot Table Data'!I425","v":"L2"},{"$f":"'Pivot Table Data'!J425","v":"Accessible"},{"$f":"'Pivot Table Data'!K425","v":0},{"$f":"'Pivot Table Data'!L425","v":0},{"$f":"'Pivot Table Data'!S425","v":0},{"$f":"'Pivot Table Data'!T425","v":""},{"$f":"IF('Pivot Table Data'!O425=\"Yes\", 'Pivot Table Data'!T425, \"\")","v":""}]
[{"$f":"'Pivot Table Data'!B426","v":0},{"$f":"'Pivot Table Data'!F426","v":8980},{"$f":"'Pivot Table Data'!P426","v":8980},{"$f":"'Pivot Table Data'!I426","v":"L2"},{"$f":"'Pivot Table Data'!J426","v":"Accessible (Van)"},{"$f":"'Pivot Table Data'!K426","v":0},{"$f":"'Pivot Table Data'!L426","v":0},{"$f":"'Pivot Table Data'!S426","v":0},{"$f":"'Pivot Table Data'!T426","v":""},{"$f":"IF('Pivot Table Data'!O426=\"Yes\", 'Pivot Table Data'!T426, \"\")","v":""}]
[{"$f":"'Pivot Table Data'!B427","v":0},{"$f":"'Pivot Table Data'!F427","v":8980},{"$f":"'Pivot Table Data'!P427","v":8980},{"$f":"'Pivot Table Data'!I427","v":"L2"},{"$f":"'Pivot Table Data'!J427","v":"B"},{"$f":"'Pivot Table Data'!K427","v":0},{"$f":"'Pivot Table Data'!L427","v":0},{"$f":"'Pivot Table Data'!S427","v":0},{"$f":"'Pivot Table Data'!T427","v":""},{"$f":"IF('Pivot Table Data'!O427=\"Yes\", 'Pivot Table Data'!T427, \"\")","v":""}]
[{"$f":"'Pivot Table Data'!B428","v":0},{"$f":"'Pivot Table Data'!F428","v":8980},{"$f":"'Pivot Table Data'!P428","v":8980},{"$f":"'Pivot Table Data'!I428","v":"L2"},{"$f":"'Pivot Table Data'!J428","v":"Carpool"},{"$f":"'Pivot Table Data'!K428","v":0},{"$f":"'Pivot Table Data'!L428","v":0},{"$f":"'Pivot Table Data'!S428","v":19},{"$f":"'Pivot Table Data'!T428","v":""},{"$f":"IF('Pivot Table Data'!O428=\"Yes\", 'Pivot Table Data'!T428, \"\")","v":""}]
[{"$f":"'Pivot Table Data'!B429","v":0},{"$f":"'Pivot Table Data'!F429","v":8980},{"$f":"'Pivot Table Data'!P429","v":8980},{"$f":"'Pivot Table Data'!I429","v":"L2"},{"$f":"'Pivot Table Data'!J429","v":"Electric Vehicle"},{"$f":"'Pivot Table Data'!K429","v":0},{"$f":"'Pivot Table Data'!L429","v":0},{"$f":"'Pivot Table Data'!S429","v":6},{"$f":"'Pivot Table Data'!T429","v":""},{"$f":"IF('Pivot Table Data'!O429=\"Yes\", 'Pivot Table Data'!T429, \"\")","v":""}]
[{"$f":"'Pivot Table Data'!B430","v":0},{"$f":"'Pivot Table Data'!F430","v":8980},{"$f":"'Pivot Table Data'!P430","v":8980},{"$f":"'Pivot Table Data'!I430","v":"L2"},{"$f":"'Pivot Table Data'!J430","v":"Motorcycle Section"},{"$f":"'Pivot Table Data'!K430","v":0},{"$f":"'Pivot Table Data'!L430","v":0},{"$f":"'Pivot Table Data'!S430","v":0},{"$f":"'Pivot Table Data'!T430","v":""},{"$f":"IF('Pivot Table Data'!O430=\"Yes\", 'Pivot Table Data'!T430, \"\")","v":""}]
[{"$f":"'Pivot Table Data'!B431","v":0},{"$f":"'Pivot Table Data'!F431","v":8980},{"$f":"'Pivot Table Data'!P431","v":8980},{"$f":"'Pivot Table Data'!I431","v":"L2"},{"$f":"'Pivot Table Data'!J431","v":"Reserved"},{"$f":"'Pivot Table Data'!K431","v":0},{"$f":"'Pivot Table Data'!L431","v":0},{"$f":"'Pivot Table Data'!S431","v":5},{"$f":"'Pivot Table Data'!T431","v":""},{"$f":"IF('Pivot Table Data'!O431=\"Yes\", 'Pivot Table Data'!T431, \"\")","v":""}]
[{"$f":"'Pivot Table Data'!B432","v":0},{"$f":"'Pivot Table Data'!F432","v":8980},{"$f":"'Pivot Table Data'!P432","v":8980},{"$f":"'Pivot Table Data'!I432","v":"L2"},{"$f":"'Pivot Table Data'!J432","v":"S"},{"$f":"'Pivot Table Data'!K432","v":0},{"$f":"'Pivot Table Data'!L432","v":0},{"$f":"'Pivot Table Data'!S432","v":0},{"$f":"'Pivot Table Data'!T432","v":""},{"$f":"IF('Pivot Table Data'!O432=\"Yes\", 'Pivot Table Data'!T432, \"\")","v":""}]
[{"$f":"'Pivot Table Data'!B433","v":0},{"$f":"'Pivot Table Data'!F433","v":8980},{"$f":"'Pivot Table Data'!P433","v":8980},{"$f":"'Pivot Table Data'!I433","v":"L2"},{"$f":"'Pivot Table Data'!J433","v":"UC Cart"},{"$f":"'Pivot Table Data'!K433","v":0},{"$f":"'Pivot Table Data'!L433","v":0},{"$f":"'Pivot Table Data'!S433","v":1},{"$f":"'Pivot Table Data'!T433","v":""},{"$f":"IF('Pivot Table Data'!O433=\"Yes\", 'Pivot Table Data'!T433, \"\")","v":""}]
[{"$f":"'Pivot Table Data'!B434","v":0},{"$f":"'Pivot Table Data'!F434","v":8980},{"$f":"'Pivot Table Data'!P434","v":8980},{"$f":"'Pivot Table Data'!I434","v":"L2"},{"$f":"'Pivot Table Data'!J434","v":"UC Vehicle"},{"$f":"'Pivot Table Data'!K434","v":0},{"$f":"'Pivot Table Data'!L434","v":0},{"$f":"'Pivot Table Data'!S434","v":1},{"$f":"'Pivot Table Data'!T434","v":""},{"$f":"IF('Pivot Table Data'!O434=\"Yes\", 'Pivot Table Data'!T434, \"\")","v":""}]
[{"$f":"'Pivot Table Data'!B435","v":0},{"$f":"'Pivot Table Data'!F435","v":8980},{"$f":"'Pivot Table Data'!P435","v":8980},{"$f":"'Pivot Table Data'!I435","v":"L2"},{"$f":"'Pivot Table Data'!J435","v":"Visitor"},{"$f":"'Pivot Table Data'!K435","v":0},{"$f":"'Pivot Table Data'!L435","v":0},{"$f":"'Pivot Table Data'!S435","v":21},{"$f":"'Pivot Table Data'!T435","v":""},{"$f":"IF('Pivot Table Data'!O435=\"Yes\", 'Pivot Table Data'!T435, \"\")","v":""}]
[{"$f":"'Pivot Table Data'!B436","v":0},{"$f":"'Pivot Table Data'!F436","v":8980},{"$f":"'Pivot Table Data'!P436","v":8980},{"$f":"'Pivot Table Data'!I436","v":"Ground"},{"$f":"'Pivot Table Data'!J436","v":"Accessible"},{"$f":"'Pivot Table Data'!K436","v":0},{"$f":"'Pivot Table Data'!L436","v":0},{"$f":"'Pivot Table Data'!S436","v":2},{"$f":"'Pivot Table Data'!T436","v":""},{"$f":"IF('Pivot Table Data'!O436=\"Yes\", 'Pivot Table Data'!T436, \"\")","v":""}]
[{"$f":"'Pivot Table Data'!B437","v":0},{"$f":"'Pivot Table Data'!F437","v":8980},{"$f":"'Pivot Table Data'!P437","v":8980},{"$f":"'Pivot Table Data'!I437","v":"Ground"},{"$f":"'Pivot Table Data'!J437","v":"S"},{"$f":"'Pivot Table Data'!K437","v":0},{"$f":"'Pivot Table Data'!L437","v":0},{"$f":"'Pivot Table Data'!S437","v":41},{"$f":"'Pivot Table Data'!T437","v":""},{"$f":"IF('Pivot Table Data'!O437=\"Yes\", 'Pivot Table Data'!T437, \"\")","v":""}]
[{"$f":"'Pivot Table Data'!B438","v":0},{"$f":"'Pivot Table Data'!F438","v":8980},{"$f":"'Pivot Table Data'!P438","v":8980},{"$f":"'Pivot Table Data'!I438","v":"Ground"},{"$f":"'Pivot Table Data'!J438","v":"Visitor"},{"$f":"'Pivot Table Data'!K438","v":"Loading"},{"$f":"'Pivot Table Data'!L438","v":20},{"$f":"'Pivot Table Data'!S438","v":4},{"$f":"'Pivot Table Data'!T438","v":4},{"$f":"IF('Pivot Table Data'!O438=\"Yes\", 'Pivot Table Data'!T438, \"\")","v":4}]
[{"$f":"'Pivot Table Data'!B439","v":0},{"$f":"'Pivot Table Data'!F439","v":8980},{"$f":"'Pivot Table Data'!P439","v":8980},{"$f":"'Pivot Table Data'!I439","v":"Ground"},{"$f":"'Pivot Table Data'!J439","v":"Visitor"},{"$f":"'Pivot Table Data'!K439","v":0},{"$f":"'Pivot Table Data'!L439","v":0},{"$f":"'Pivot Table Data'!S439","v":13},{"$f":"'Pivot Table Data'!T439","v":""},{"$f":"IF('Pivot Table Data'!O439=\"Yes\", 'Pivot Table Data'!T439, \"\")","v":""}]
[{"$f":"'Pivot Table Data'!B440","v":0},{"$f":"'Pivot Table Data'!F440","v":"University Center"},{"$f":"'Pivot Table Data'!P440","v":"Gilman"},{"$f":"'Pivot Table Data'!I440","v":"Basement"},{"$f":"'Pivot Table Data'!J440","v":"Accessible"},{"$f":"'Pivot Table Data'!K440","v":0},{"$f":"'Pivot Table Data'!L440","v":0},{"$f":"'Pivot Table Data'!S440","v":11},{"$f":"'Pivot Table Data'!T440","v":32},{"$f":"IF('Pivot Table Data'!O440=\"Yes\", 'Pivot Table Data'!T440, \"\")","v":""}]
[{"$f":"'Pivot Table Data'!B441","v":0},{"$f":"'Pivot Table Data'!F441","v":"University Center"},{"$f":"'Pivot Table Data'!P441","v":"Gilman"},{"$f":"'Pivot Table Data'!I441","v":"Basement"},{"$f":"'Pivot Table Data'!J441","v":"Accessible (Van)"},{"$f":"'Pivot Table Data'!K441","v":0},{"$f":"'Pivot Table Data'!L441","v":0},{"$f":"'Pivot Table Data'!S441","v":4},{"$f":"'Pivot Table Data'!T441","v":10},{"$f":"IF('Pivot Table Data'!O441=\"Yes\", 'Pivot Table Data'!T441, \"\")","v":""}]
[{"$f":"'Pivot Table Data'!B442","v":0},{"$f":"'Pivot Table Data'!F442","v":"University Center"},{"$f":"'Pivot Table Data'!P442","v":"Gilman"},{"$f":"'Pivot Table Data'!I442","v":"Basement"},{"$f":"'Pivot Table Data'!J442","v":"Reserved"},{"$f":"'Pivot Table Data'!K442","v":"Credit Union Member"},{"$f":"'Pivot Table Data'!L442","v":0},{"$f":"'Pivot Table Data'!S442","v":10},{"$f":"'Pivot Table Data'!T442","v":10},{"$f":"IF('Pivot Table Data'!O442=\"Yes\", 'Pivot Table Data'!T442, \"\")","v":""}]
[{"$f":"'Pivot Table Data'!B443","v":0},{"$f":"'Pivot Table Data'!F443","v":"University Center"},{"$f":"'Pivot Table Data'!P443","v":"Gilman"},{"$f":"'Pivot Table Data'!I443","v":"Basement"},{"$f":"'Pivot Table Data'!J443","v":"Reserved"},{"$f":"'Pivot Table Data'!K443","v":"Credit Union Staff"},{"$f":"'Pivot Table Data'!L443","v":0},{"$f":"'Pivot Table Data'!S443","v":10},{"$f":"'Pivot Table Data'!T443","v":10},{"$f":"IF('Pivot Table Data'!O443=\"Yes\", 'Pivot Table Data'!T443, \"\")","v":""}]
[{"$f":"'Pivot Table Data'!B444","v":0},{"$f":"'Pivot Table Data'!F444","v":"University Center"},{"$f":"'Pivot Table Data'!P444","v":"Gilman"},{"$f":"'Pivot Table Data'!I444","v":"Basement"},{"$f":"'Pivot Table Data'!J444","v":"Reserved"},{"$f":"'Pivot Table Data'!K444","v":"Target"},{"$f":"'Pivot Table Data'!L444","v":0},{"$f":"'Pivot Table Data'!S444","v":7},{"$f":"'Pivot Table Data'!T444","v":7},{"$f":"IF('Pivot Table Data'!O444=\"Yes\", 'Pivot Table Data'!T444, \"\")","v":""}]
[{"$f":"'Pivot Table Data'!B445","v":0},{"$f":"'Pivot Table Data'!F445","v":"University Center"},{"$f":"'Pivot Table Data'!P445","v":"Gilman"},{"$f":"'Pivot Table Data'!I445","v":"Basement"},{"$f":"'Pivot Table Data'!J445","v":"Reserved"},{"$f":"'Pivot Table Data'!K445","v":0},{"$f":"'Pivot Table Data'!L445","v":0},{"$f":"'Pivot Table Data'!S445","v":9},{"$f":"'Pivot Table Data'!T445","v":13},{"$f":"IF('Pivot Table Data'!O445=\"Yes\", 'Pivot Table Data'!T445, \"\")","v":""}]
[{"$f":"'Pivot Table Data'!B446","v":0},{"$f":"'Pivot Table Data'!F446","v":"University Center"},{"$f":"'Pivot Table Data'!P446","v":"Gilman"},{"$f":"'Pivot Table Data'!I446","v":"Basement"},{"$f":"'Pivot Table Data'!J446","v":"Reserved"},{"$f":"'Pivot Table Data'!K446","v":0},{"$f":"'Pivot Table Data'!L446","v":0},{"$f":"'Pivot Table Data'!S446","v":1},{"$f":"'Pivot Table Data'!T446","v":""},{"$f":"IF('Pivot Table Data'!O446=\"Yes\", 'Pivot Table Data'!T446, \"\")","v":""}]
[{"$f":"'Pivot Table Data'!B447","v":0},{"$f":"'Pivot Table Data'!F447","v":"University Center"},{"$f":"'Pivot Table Data'!P447","v":"Gilman"},{"$f":"'Pivot Table Data'!I447","v":"Basement"},{"$f":"'Pivot Table Data'!J447","v":"Visitor"},{"$f":"'Pivot Table Data'!K447","v":"2 hour"},{"$f":"'Pivot Table Data'!L447","v":"2 hour"},{"$f":"'Pivot Table Data'!S447","v":48},{"$f":"'Pivot Table Data'!T447","v":145},{"$f":"IF('Pivot Table Data'!O447=\"Yes\", 'Pivot Table Data'!T447, \"\")","v":145}]
[{"$f":"'Pivot Table Data'!B448","v":0},{"$f":"'Pivot Table Data'!F448","v":"University Center"},{"$f":"'Pivot Table Data'!P448","v":"Gilman"},{"$f":"'Pivot Table Data'!I448","v":"Basement"},{"$f":"'Pivot Table Data'!J448","v":"Visitor"},{"$f":"'Pivot Table Data'!K448","v":0},{"$f":"'Pivot Table Data'!L448","v":0},{"$f":"'Pivot Table Data'!S448","v":31},{"$f":"'Pivot Table Data'!T448","v":31},{"$f":"IF('Pivot Table Data'!O448=\"Yes\", 'Pivot Table Data'!T448, \"\")","v":31}]
[{"$f":"'Pivot Table Data'!B449","v":0},{"$f":"'Pivot Table Data'!F449","v":"University Center"},{"$f":"'Pivot Table Data'!P449","v":"Gilman"},{"$f":"'Pivot Table Data'!I449","v":"Ground Floor (Gilman)"},{"$f":"'Pivot Table Data'!J449","v":"Accessible"},{"$f":"'Pivot Table Data'!K449","v":0},{"$f":"'Pivot Table Data'!L449","v":0},{"$f":"'Pivot Table Data'!S449","v":21},{"$f":"'Pivot Table Data'!T449","v":""},{"$f":"IF('Pivot Table Data'!O449=\"Yes\", 'Pivot Table Data'!T449, \"\")","v":""}]
[{"$f":"'Pivot Table Data'!B450","v":0},{"$f":"'Pivot Table Data'!F450","v":"University Center"},{"$f":"'Pivot Table Data'!P450","v":"Gilman"},{"$f":"'Pivot Table Data'!I450","v":"Ground Floor (Gilman)"},{"$f":"'Pivot Table Data'!J450","v":"Accessible (Van)"},{"$f":"'Pivot Table Data'!K450","v":0},{"$f":"'Pivot Table Data'!L450","v":0},{"$f":"'Pivot Table Data'!S450","v":6},{"$f":"'Pivot Table Data'!T450","v":""},{"$f":"IF('Pivot Table Data'!O450=\"Yes\", 'Pivot Table Data'!T450, \"\")","v":""}]
[{"$f":"'Pivot Table Data'!B451","v":0},{"$f":"'Pivot Table Data'!F451","v":"University Center"},{"$f":"'Pivot Table Data'!P451","v":"Gilman"},{"$f":"'Pivot Table Data'!I451","v":"Ground Floor (Gilman)"},{"$f":"'Pivot Table Data'!J451","v":"Electric Vehicle"},{"$f":"'Pivot Table Data'!K451","v":"ADA"},{"$f":"'Pivot Table Data'!L451","v":0},{"$f":"'Pivot Table Data'!S451","v":1},{"$f":"'Pivot Table Data'!T451","v":1},{"$f":"IF('Pivot Table Data'!O451=\"Yes\", 'Pivot Table Data'!T451, \"\")","v":""}]
[{"$f":"'Pivot Table Data'!B452","v":0},{"$f":"'Pivot Table Data'!F452","v":"University Center"},{"$f":"'Pivot Table Data'!P452","v":"Gilman"},{"$f":"'Pivot Table Data'!I452","v":"Ground Floor (Gilman)"},{"$f":"'Pivot Table Data'!J452","v":"Electric Vehicle"},{"$f":"'Pivot Table Data'!K452","v":0},{"$f":"'Pivot Table Data'!L452","v":0},{"$f":"'Pivot Table Data'!S452","v":7},{"$f":"'Pivot Table Data'!T452","v":32},{"$f":"IF('Pivot Table Data'!O452=\"Yes\", 'Pivot Table Data'!T452, \"\")","v":""}]
[{"$f":"'Pivot Table Data'!B453","v":0},{"$f":"'Pivot Table Data'!F453","v":"University Center"},{"$f":"'Pivot Table Data'!P453","v":"Gilman"},{"$f":"'Pivot Table Data'!I453","v":"Ground Floor (Gilman)"},{"$f":"'Pivot Table Data'!J453","v":"Motorcycle Section"},{"$f":"'Pivot Table Data'!K453","v":0},{"$f":"'Pivot Table Data'!L453","v":0},{"$f":"'Pivot Table Data'!S453","v":12},{"$f":"'Pivot Table Data'!T453","v":12},{"$f":"IF('Pivot Table Data'!O453=\"Yes\", 'Pivot Table Data'!T453, \"\")","v":""}]
[{"$f":"'Pivot Table Data'!B454","v":0},{"$f":"'Pivot Table Data'!F454","v":"University Center"},{"$f":"'Pivot Table Data'!P454","v":"Gilman"},{"$f":"'Pivot Table Data'!I454","v":"Ground Floor (Gilman)"},{"$f":"'Pivot Table Data'!J454","v":"Reserved"},{"$f":"'Pivot Table Data'!K454","v":"Curbside"},{"$f":"'Pivot Table Data'!L454","v":0},{"$f":"'Pivot Table Data'!S454","v":5},{"$f":"'Pivot Table Data'!T454","v":5},{"$f":"IF('Pivot Table Data'!O454=\"Yes\", 'Pivot Table Data'!T454, \"\")","v":""}]
[{"$f":"'Pivot Table Data'!B455","v":0},{"$f":"'Pivot Table Data'!F455","v":"University Center"},{"$f":"'Pivot Table Data'!P455","v":"Gilman"},{"$f":"'Pivot Table Data'!I455","v":"Ground Floor (Gilman)"},{"$f":"'Pivot Table Data'!J455","v":"Reserved"},{"$f":"'Pivot Table Data'!K455","v":"Enterprise"},{"$f":"'Pivot Table Data'!L455","v":0},{"$f":"'Pivot Table Data'!S455","v":3},{"$f":"'Pivot Table Data'!T455","v":3},{"$f":"IF('Pivot Table Data'!O455=\"Yes\", 'Pivot Table Data'!T455, \"\")","v":""}]
[{"$f":"'Pivot Table Data'!B456","v":0},{"$f":"'Pivot Table Data'!F456","v":"University Center"},{"$f":"'Pivot Table Data'!P456","v":"Gilman"},{"$f":"'Pivot Table Data'!I456","v":"Ground Floor (Gilman)"},{"$f":"'Pivot Table Data'!J456","v":"Reserved"},{"$f":"'Pivot Table Data'!K456","v":0},{"$f":"'Pivot Table Data'!L456","v":0},{"$f":"'Pivot Table Data'!S456","v":3},{"$f":"'Pivot Table Data'!T456","v":""},{"$f":"IF('Pivot Table Data'!O456=\"Yes\", 'Pivot Table Data'!T456, \"\")","v":""}]
[{"$f":"'Pivot Table Data'!B457","v":0},{"$f":"'Pivot Table Data'!F457","v":"University Center"},{"$f":"'Pivot Table Data'!P457","v":"Gilman"},{"$f":"'Pivot Table Data'!I457","v":"Ground Floor (Gilman)"},{"$f":"'Pivot Table Data'!J457","v":"UC Vehicle"},{"$f":"'Pivot Table Data'!K457","v":"UC Cart"},{"$f":"'Pivot Table Data'!L457","v":0},{"$f":"'Pivot Table Data'!S457","v":1},{"$f":"'Pivot Table Data'!T457","v":12},{"$f":"IF('Pivot Table Data'!O457=\"Yes\", 'Pivot Table Data'!T457, \"\")","v":""}]
[{"$f":"'Pivot Table Data'!B458","v":0},{"$f":"'Pivot Table Data'!F458","v":"University Center"},{"$f":"'Pivot Table Data'!P458","v":"Gilman"},{"$f":"'Pivot Table Data'!I458","v":"Ground Floor (Gilman)"},{"$f":"'Pivot Table Data'!J458","v":"Visitor"},{"$f":"'Pivot Table Data'!K458","v":"2 hour"},{"$f":"'Pivot Table Data'!L458","v":"2 hour"},{"$f":"'Pivot Table Data'!S458","v":60},{"$f":"'Pivot Table Data'!T458","v":""},{"$f":"IF('Pivot Table Data'!O458=\"Yes\", 'Pivot Table Data'!T458, \"\")","v":""}]
[{"$f":"'Pivot Table Data'!B459","v":0},{"$f":"'Pivot Table Data'!F459","v":"University Center"},{"$f":"'Pivot Table Data'!P459","v":"Gilman"},{"$f":"'Pivot Table Data'!I459","v":"Ground Floor (Gilman)"},{"$f":"'Pivot Table Data'!J459","v":"Visitor"},{"$f":"'Pivot Table Data'!K459","v":0},{"$f":"'Pivot Table Data'!L459","v":0},{"$f":"'Pivot Table Data'!S459","v":0},{"$f":"'Pivot Table Data'!T459","v":""},{"$f":"IF('Pivot Table Data'!O459=\"Yes\", 'Pivot Table Data'!T459, \"\")","v":""}]
[{"$f":"'Pivot Table Data'!B460","v":0},{"$f":"'Pivot Table Data'!F460","v":"University Center"},{"$f":"'Pivot Table Data'!P460","v":"Gilman"},{"$f":"'Pivot Table Data'!I460","v":"L2"},{"$f":"'Pivot Table Data'!J460","v":"A"},{"$f":"'Pivot Table Data'!K460","v":0},{"$f":"'Pivot Table Data'!L460","v":0},{"$f":"'Pivot Table Data'!S460","v":93},{"$f":"'Pivot Table Data'!T460","v":401},{"$f":"IF('Pivot Table Data'!O460=\"Yes\", 'Pivot Table Data'!T460, \"\")","v":401}]
[{"$f":"'Pivot Table Data'!B461","v":0},{"$f":"'Pivot Table Data'!F461","v":"University Center"},{"$f":"'Pivot Table Data'!P461","v":"Gilman"},{"$f":"'Pivot Table Data'!I461","v":"L2"},{"$f":"'Pivot Table Data'!J461","v":"Electric Vehicle"},{"$f":"'Pivot Table Data'!K461","v":0},{"$f":"'Pivot Table Data'!L461","v":0},{"$f":"'Pivot Table Data'!S461","v":25},{"$f":"'Pivot Table Data'!T461","v":""},{"$f":"IF('Pivot Table Data'!O461=\"Yes\", 'Pivot Table Data'!T461, \"\")","v":""}]
[{"$f":"'Pivot Table Data'!B462","v":0},{"$f":"'Pivot Table Data'!F462","v":"University Center"},{"$f":"'Pivot Table Data'!P462","v":"Gilman"},{"$f":"'Pivot Table Data'!I462","v":"L2"},{"$f":"'Pivot Table Data'!J462","v":"UC Vehicle"},{"$f":"'Pivot Table Data'!K462","v":"UC Cart"},{"$f":"'Pivot Table Data'!L462","v":0},{"$f":"'Pivot Table Data'!S462","v":4},{"$f":"'Pivot Table Data'!T462","v":""},{"$f":"IF('Pivot Table Data'!O462=\"Yes\", 'Pivot Table Data'!T462, \"\")","v":""}]
[{"$f":"'Pivot Table Data'!B463","v":0},{"$f":"'Pivot Table Data'!F463","v":"University Center"},{"$f":"'Pivot Table Data'!P463","v":"Gilman"},{"$f":"'Pivot Table Data'!I463","v":"L2"},{"$f":"'Pivot Table Data'!J463","v":"Visitor"},{"$f":"'Pivot Table Data'!K463","v":"2 hour"},{"$f":"'Pivot Table Data'!L463","v":"2 hour"},{"$f":"'Pivot Table Data'!S463","v":37},{"$f":"'Pivot Table Data'!T463","v":""},{"$f":"IF('Pivot Table Data'!O463=\"Yes\", 'Pivot Table Data'!T463, \"\")","v":""}]
[{"$f":"'Pivot Table Data'!B464","v":0},{"$f":"'Pivot Table Data'!F464","v":"University Center"},{"$f":"'Pivot Table Data'!P464","v":"Gilman"},{"$f":"'Pivot Table Data'!I464","v":"L2"},{"$f":"'Pivot Table Data'!J464","v":"Visitor"},{"$f":"'Pivot Table Data'!K464","v":0},{"$f":"'Pivot Table Data'!L464","v":0},{"$f":"'Pivot Table Data'!S464","v":0},{"$f":"'Pivot Table Data'!T464","v":""},{"$f":"IF('Pivot Table Data'!O464=\"Yes\", 'Pivot Table Data'!T464, \"\")","v":""}]
[{"$f":"'Pivot Table Data'!B465","v":0},{"$f":"'Pivot Table Data'!F465","v":"University Center"},{"$f":"'Pivot Table Data'!P465","v":"Gilman"},{"$f":"'Pivot Table Data'!I465","v":"L3"},{"$f":"'Pivot Table Data'!J465","v":"A"},{"$f":"'Pivot Table Data'!K465","v":0},{"$f":"'Pivot Table Data'!L465","v":0},{"$f":"'Pivot Table Data'!S465","v":153},{"$f":"'Pivot Table Data'!T465","v":""},{"$f":"IF('Pivot Table Data'!O465=\"Yes\", 'Pivot Table Data'!T465, \"\")","v":""}]
[{"$f":"'Pivot Table Data'!B466","v":0},{"$f":"'Pivot Table Data'!F466","v":"University Center"},{"$f":"'Pivot Table Data'!P466","v":"Gilman"},{"$f":"'Pivot Table Data'!I466","v":"L3"},{"$f":"'Pivot Table Data'!J466","v":"UC Vehicle"},{"$f":"'Pivot Table Data'!K466","v":"UC Cart"},{"$f":"'Pivot Table Data'!L466","v":0},{"$f":"'Pivot Table Data'!S466","v":4},{"$f":"'Pivot Table Data'!T466","v":""},{"$f":"IF('Pivot Table Data'!O466=\"Yes\", 'Pivot Table Data'!T466, \"\")","v":""}]
[{"$f":"'Pivot Table Data'!B467","v":0},{"$f":"'Pivot Table Data'!F467","v":"University Center"},{"$f":"'Pivot Table Data'!P467","v":"Gilman"},{"$f":"'Pivot Table Data'!I467","v":"L4"},{"$f":"'Pivot Table Data'!J467","v":"A"},{"$f":"'Pivot Table Data'!K467","v":0},{"$f":"'Pivot Table Data'!L467","v":0},{"$f":"'Pivot Table Data'!S467","v":155},{"$f":"'Pivot Table Data'!T467","v":""},{"$f":"IF('Pivot Table Data'!O467=\"Yes\", 'Pivot Table Data'!T467, \"\")","v":""}]
[{"$f":"'Pivot Table Data'!B468","v":0},{"$f":"'Pivot Table Data'!F468","v":"University Center"},{"$f":"'Pivot Table Data'!P468","v":"Gilman"},{"$f":"'Pivot Table Data'!I468","v":"L4"},{"$f":"'Pivot Table Data'!J468","v":"UC Vehicle"},{"$f":"'Pivot Table Data'!K468","v":"UC Cart"},{"$f":"'Pivot Table Data'!L468","v":0},{"$f":"'Pivot Table Data'!S468","v":3},{"$f":"'Pivot Table Data'!T468","v":""},{"$f":"IF('Pivot Table Data'!O468=\"Yes\", 'Pivot Table Data'!T468, \"\")","v":""}]
[{"$f":"'Pivot Table Data'!B469","v":0},{"$f":"'Pivot Table Data'!F469","v":"University Center"},{"$f":"'Pivot Table Data'!P469","v":"Gilman"},{"$f":"'Pivot Table Data'!I469","v":"Roof"},{"$f":"'Pivot Table Data'!J469","v":"B"},{"$f":"'Pivot Table Data'!K469","v":0},{"$f":"'Pivot Table Data'!L469","v":0},{"$f":"'Pivot Table Data'!S469","v":123},{"$f":"'Pivot Table Data'!T469","v":123},{"$f":"IF('Pivot Table Data'!O469=\"Yes\", 'Pivot Table Data'!T469, \"\")","v":123}]
[{"$f":"'Pivot Table Data'!B470","v":0},{"$f":"'Pivot Table Data'!F470","v":"Roosevelt College"},{"$f":"'Pivot Table Data'!P470","v":"Hopkins"},{"$f":"'Pivot Table Data'!I470","v":"B2"},{"$f":"'Pivot Table Data'!J470","v":"Motorcycle Section"},{"$f":"'Pivot Table Data'!K470","v":0},{"$f":"'Pivot Table Data'!L470","v":0},{"$f":"'Pivot Table Data'!S470","v":7},{"$f":"'Pivot Table Data'!T470","v":21},{"$f":"IF('Pivot Table Data'!O470=\"Yes\", 'Pivot Table Data'!T470, \"\")","v":""}]
[{"$f":"'Pivot Table Data'!B471","v":0},{"$f":"'Pivot Table Data'!F471","v":"Roosevelt College"},{"$f":"'Pivot Table Data'!P471","v":"Hopkins"},{"$f":"'Pivot Table Data'!I471","v":"B2"},{"$f":"'Pivot Table Data'!J471","v":"Reserved"},{"$f":"'Pivot Table Data'!K471","v":"V2G"},{"$f":"'Pivot Table Data'!L471","v":0},{"$f":"'Pivot Table Data'!S471","v":0},{"$f":"'Pivot Table Data'!T471","v":0},{"$f":"IF('Pivot Table Data'!O471=\"Yes\", 'Pivot Table Data'!T471, \"\")","v":""}]
[{"$f":"'Pivot Table Data'!B472","v":0},{"$f":"'Pivot Table Data'!F472","v":"Roosevelt College"},{"$f":"'Pivot Table Data'!P472","v":"Hopkins"},{"$f":"'Pivot Table Data'!I472","v":"B2"},{"$f":"'Pivot Table Data'!J472","v":"S"},{"$f":"'Pivot Table Data'!K472","v":0},{"$f":"'Pivot Table Data'!L472","v":0},{"$f":"'Pivot Table Data'!S472","v":174},{"$f":"'Pivot Table Data'!T472","v":174},{"$f":"IF('Pivot Table Data'!O472=\"Yes\", 'Pivot Table Data'!T472, \"\")","v":174}]
[{"$f":"'Pivot Table Data'!B473","v":0},{"$f":"'Pivot Table Data'!F473","v":"Roosevelt College"},{"$f":"'Pivot Table Data'!P473","v":"Hopkins"},{"$f":"'Pivot Table Data'!I473","v":"B2"},{"$f":"'Pivot Table Data'!J473","v":"SR"},{"$f":"'Pivot Table Data'!K473","v":0},{"$f":"'Pivot Table Data'!L473","v":0},{"$f":"'Pivot Table Data'!S473","v":51},{"$f":"'Pivot Table Data'!T473","v":51},{"$f":"IF('Pivot Table Data'!O473=\"Yes\", 'Pivot Table Data'!T473, \"\")","v":51}]
[{"$f":"'Pivot Table Data'!B474","v":0},{"$f":"'Pivot Table Data'!F474","v":"Roosevelt College"},{"$f":"'Pivot Table Data'!P474","v":"Hopkins"},{"$f":"'Pivot Table Data'!I474","v":"B2"},{"$f":"'Pivot Table Data'!J474","v":"UC Vehicle"},{"$f":"'Pivot Table Data'!K474","v":0},{"$f":"'Pivot Table Data'!L474","v":0},{"$f":"'Pivot Table Data'!S474","v":9},{"$f":"'Pivot Table Data'!T474","v":9},{"$f":"IF('Pivot Table Data'!O474=\"Yes\", 'Pivot Table Data'!T474, \"\")","v":""}]
[{"$f":"'Pivot Table Data'!B475","v":0},{"$f":"'Pivot Table Data'!F475","v":"Roosevelt College"},{"$f":"'Pivot Table Data'!P475","v":"Hopkins"},{"$f":"'Pivot Table Data'!I475","v":"B1"},{"$f":"'Pivot Table Data'!J475","v":"Accessible"},{"$f":"'Pivot Table Data'!K475","v":0},{"$f":"'Pivot Table Data'!L475","v":0},{"$f":"'Pivot Table Data'!S475","v":3},{"$f":"'Pivot Table Data'!T475","v":17},{"$f":"IF('Pivot Table Data'!O475=\"Yes\", 'Pivot Table Data'!T475, \"\")","v":""}]
[{"$f":"'Pivot Table Data'!B476","v":0},{"$f":"'Pivot Table Data'!F476","v":"Roosevelt College"},{"$f":"'Pivot Table Data'!P476","v":"Hopkins"},{"$f":"'Pivot Table Data'!I476","v":"B1"},{"$f":"'Pivot Table Data'!J476","v":"Accessible (Van)"},{"$f":"'Pivot Table Data'!K476","v":0},{"$f":"'Pivot Table Data'!L476","v":0},{"$f":"'Pivot Table Data'!S476","v":0},{"$f":"'Pivot Table Data'!T476","v":5},{"$f":"IF('Pivot Table Data'!O476=\"Yes\", 'Pivot Table Data'!T476, \"\")","v":""}]
[{"$f":"'Pivot Table Data'!B477","v":0},{"$f":"'Pivot Table Data'!F477","v":"Roosevelt College"},{"$f":"'Pivot Table Data'!P477","v":"Hopkins"},{"$f":"'Pivot Table Data'!I477","v":"B1"},{"$f":"'Pivot Table Data'!J477","v":"Accessible (Van)"},{"$f":"'Pivot Table Data'!K477","v":0},{"$f":"'Pivot Table Data'!L477","v":0},{"$f":"'Pivot Table Data'!S477","v":0},{"$f":"'Pivot Table Data'!T477","v":""},{"$f":"IF('Pivot Table Data'!O477=\"Yes\", 'Pivot Table Data'!T477, \"\")","v":""}]
[{"$f":"'Pivot Table Data'!B478","v":0},{"$f":"'Pivot Table Data'!F478","v":"Roosevelt College"},{"$f":"'Pivot Table Data'!P478","v":"Hopkins"},{"$f":"'Pivot Table Data'!I478","v":"B1"},{"$f":"'Pivot Table Data'!J478","v":"B"},{"$f":"'Pivot Table Data'!K478","v":0},{"$f":"'Pivot Table Data'!L478","v":0},{"$f":"'Pivot Table Data'!S478","v":93},{"$f":"'Pivot Table Data'!T478","v":639},{"$f":"IF('Pivot Table Data'!O478=\"Yes\", 'Pivot Table Data'!T478, \"\")","v":639}]
[{"$f":"'Pivot Table Data'!B479","v":0},{"$f":"'Pivot Table Data'!F479","v":"Roosevelt College"},{"$f":"'Pivot Table Data'!P479","v":"Hopkins"},{"$f":"'Pivot Table Data'!I479","v":"B1"},{"$f":"'Pivot Table Data'!J479","v":"Carpool"},{"$f":"'Pivot Table Data'!K479","v":"2 Person"},{"$f":"'Pivot Table Data'!L479","v":0},{"$f":"'Pivot Table Data'!S479","v":63},{"$f":"'Pivot Table Data'!T479","v":78},{"$f":"IF('Pivot Table Data'!O479=\"Yes\", 'Pivot Table Data'!T479, \"\")","v":78}]
[{"$f":"'Pivot Table Data'!B480","v":0},{"$f":"'Pivot Table Data'!F480","v":"Roosevelt College"},{"$f":"'Pivot Table Data'!P480","v":"Hopkins"},{"$f":"'Pivot Table Data'!I480","v":"B1"},{"$f":"'Pivot Table Data'!J480","v":"Electric Vehicle"},{"$f":"'Pivot Table Data'!K480","v":"ADA"},{"$f":"'Pivot Table Data'!L480","v":0},{"$f":"'Pivot Table Data'!S480","v":2},{"$f":"'Pivot Table Data'!T480","v":2},{"$f":"IF('Pivot Table Data'!O480=\"Yes\", 'Pivot Table Data'!T480, \"\")","v":""}]
[{"$f":"'Pivot Table Data'!B481","v":0},{"$f":"'Pivot Table Data'!F481","v":"Roosevelt College"},{"$f":"'Pivot Table Data'!P481","v":"Hopkins"},{"$f":"'Pivot Table Data'!I481","v":"B1"},{"$f":"'Pivot Table Data'!J481","v":"Electric Vehicle"},{"$f":"'Pivot Table Data'!K481","v":0},{"$f":"'Pivot Table Data'!L481","v":0},{"$f":"'Pivot Table Data'!S481","v":20},{"$f":"'Pivot Table Data'!T481","v":20},{"$f":"IF('Pivot Table Data'!O481=\"Yes\", 'Pivot Table Data'!T481, \"\")","v":""}]
[{"$f":"'Pivot Table Data'!B482","v":0},{"$f":"'Pivot Table Data'!F482","v":"Roosevelt College"},{"$f":"'Pivot Table Data'!P482","v":"Hopkins"},{"$f":"'Pivot Table Data'!I482","v":"B1"},{"$f":"'Pivot Table Data'!J482","v":"Motorcycle Section"},{"$f":"'Pivot Table Data'!K482","v":0},{"$f":"'Pivot Table Data'!L482","v":0},{"$f":"'Pivot Table Data'!S482","v":7},{"$f":"'Pivot Table Data'!T482","v":""},{"$f":"IF('Pivot Table Data'!O482=\"Yes\", 'Pivot Table Data'!T482, \"\")","v":""}]
[{"$f":"'Pivot Table Data'!B483","v":0},{"$f":"'Pivot Table Data'!F483","v":"Roosevelt College"},{"$f":"'Pivot Table Data'!P483","v":"Hopkins"},{"$f":"'Pivot Table Data'!I483","v":"B1"},{"$f":"'Pivot Table Data'!J483","v":"Reserved"},{"$f":"'Pivot Table Data'!K483","v":0},{"$f":"'Pivot Table Data'!L483","v":0},{"$f":"'Pivot Table Data'!S483","v":6},{"$f":"'Pivot Table Data'!T483","v":10},{"$f":"IF('Pivot Table Data'!O483=\"Yes\", 'Pivot Table Data'!T483, \"\")","v":""}]
[{"$f":"'Pivot Table Data'!B484","v":0},{"$f":"'Pivot Table Data'!F484","v":"Roosevelt College"},{"$f":"'Pivot Table Data'!P484","v":"Hopkins"},{"$f":"'Pivot Table Data'!I484","v":"B1"},{"$f":"'Pivot Table Data'!J484","v":"S"},{"$f":"'Pivot Table Data'!K484","v":0},{"$f":"'Pivot Table Data'!L484","v":0},{"$f":"'Pivot Table Data'!S484","v":0},{"$f":"'Pivot Table Data'!T484","v":""},{"$f":"IF('Pivot Table Data'!O484=\"Yes\", 'Pivot Table Data'!T484, \"\")","v":""}]
[{"$f":"'Pivot Table Data'!B485","v":0},{"$f":"'Pivot Table Data'!F485","v":"Roosevelt College"},{"$f":"'Pivot Table Data'!P485","v":"Hopkins"},{"$f":"'Pivot Table Data'!I485","v":"B1"},{"$f":"'Pivot Table Data'!J485","v":"Visitor"},{"$f":"'Pivot Table Data'!K485","v":"5 Minute"},{"$f":"'Pivot Table Data'!L485","v":"5 minutes"},{"$f":"'Pivot Table Data'!S485","v":1},{"$f":"'Pivot Table Data'!T485","v":1},{"$f":"IF('Pivot Table Data'!O485=\"Yes\", 'Pivot Table Data'!T485, \"\")","v":1}]
[{"$f":"'Pivot Table Data'!B486","v":0},{"$f":"'Pivot Table Data'!F486","v":"Roosevelt College"},{"$f":"'Pivot Table Data'!P486","v":"Hopkins"},{"$f":"'Pivot Table Data'!I486","v":"Ground Floor"},{"$f":"'Pivot Table Data'!J486","v":"B"},{"$f":"'Pivot Table Data'!K486","v":0},{"$f":"'Pivot Table Data'!L486","v":0},{"$f":"'Pivot Table Data'!S486","v":197},{"$f":"'Pivot Table Data'!T486","v":""},{"$f":"IF('Pivot Table Data'!O486=\"Yes\", 'Pivot Table Data'!T486, \"\")","v":""}]
[{"$f":"'Pivot Table Data'!B487","v":0},{"$f":"'Pivot Table Data'!F487","v":"Roosevelt College"},{"$f":"'Pivot Table Data'!P487","v":"Hopkins"},{"$f":"'Pivot Table Data'!I487","v":"Ground Floor"},{"$f":"'Pivot Table Data'!J487","v":"Carpool"},{"$f":"'Pivot Table Data'!K487","v":"2 Person"},{"$f":"'Pivot Table Data'!L487","v":0},{"$f":"'Pivot Table Data'!S487","v":15},{"$f":"'Pivot Table Data'!T487","v":""},{"$f":"IF('Pivot Table Data'!O487=\"Yes\", 'Pivot Table Data'!T487, \"\")","v":""}]
[{"$f":"'Pivot Table Data'!B488","v":0},{"$f":"'Pivot Table Data'!F488","v":"Roosevelt College"},{"$f":"'Pivot Table Data'!P488","v":"Hopkins"},{"$f":"'Pivot Table Data'!I488","v":"L2"},{"$f":"'Pivot Table Data'!J488","v":"B"},{"$f":"'Pivot Table Data'!K488","v":0},{"$f":"'Pivot Table Data'!L488","v":0},{"$f":"'Pivot Table Data'!S488","v":209},{"$f":"'Pivot Table Data'!T488","v":""},{"$f":"IF('Pivot Table Data'!O488=\"Yes\", 'Pivot Table Data'!T488, \"\")","v":""}]
[{"$f":"'Pivot Table Data'!B489","v":0},{"$f":"'Pivot Table Data'!F489","v":"Roosevelt College"},{"$f":"'Pivot Table Data'!P489","v":"Hopkins"},{"$f":"'Pivot Table Data'!I489","v":"L2"},{"$f":"'Pivot Table Data'!J489","v":"Motorcycle Section"},{"$f":"'Pivot Table Data'!K489","v":0},{"$f":"'Pivot Table Data'!L489","v":0},{"$f":"'Pivot Table Data'!S489","v":7},{"$f":"'Pivot Table Data'!T489","v":""},{"$f":"IF('Pivot Table Data'!O489=\"Yes\", 'Pivot Table Data'!T489, \"\")","v":""}]
[{"$f":"'Pivot Table Data'!B490","v":0},{"$f":"'Pivot Table Data'!F490","v":"Roosevelt College"},{"$f":"'Pivot Table Data'!P490","v":"Hopkins"},{"$f":"'Pivot Table Data'!I490","v":"L3"},{"$f":"'Pivot Table Data'!J490","v":"A"},{"$f":"'Pivot Table Data'!K490","v":0},{"$f":"'Pivot Table Data'!L490","v":0},{"$f":"'Pivot Table Data'!S490","v":62},{"$f":"'Pivot Table Data'!T490","v":295},{"$f":"IF('Pivot Table Data'!O490=\"Yes\", 'Pivot Table Data'!T490, \"\")","v":295}]
[{"$f":"'Pivot Table Data'!B491","v":0},{"$f":"'Pivot Table Data'!F491","v":"Roosevelt College"},{"$f":"'Pivot Table Data'!P491","v":"Hopkins"},{"$f":"'Pivot Table Data'!I491","v":"L3"},{"$f":"'Pivot Table Data'!J491","v":"Accessible"},{"$f":"'Pivot Table Data'!K491","v":0},{"$f":"'Pivot Table Data'!L491","v":0},{"$f":"'Pivot Table Data'!S491","v":0},{"$f":"'Pivot Table Data'!T491","v":""},{"$f":"IF('Pivot Table Data'!O491=\"Yes\", 'Pivot Table Data'!T491, \"\")","v":""}]
[{"$f":"'Pivot Table Data'!B492","v":0},{"$f":"'Pivot Table Data'!F492","v":"Roosevelt College"},{"$f":"'Pivot Table Data'!P492","v":"Hopkins"},{"$f":"'Pivot Table Data'!I492","v":"L3"},{"$f":"'Pivot Table Data'!J492","v":"Accessible (Van)"},{"$f":"'Pivot Table Data'!K492","v":0},{"$f":"'Pivot Table Data'!L492","v":0},{"$f":"'Pivot Table Data'!S492","v":0},{"$f":"'Pivot Table Data'!T492","v":""},{"$f":"IF('Pivot Table Data'!O492=\"Yes\", 'Pivot Table Data'!T492, \"\")","v":""}]
[{"$f":"'Pivot Table Data'!B493","v":0},{"$f":"'Pivot Table Data'!F493","v":"Roosevelt College"},{"$f":"'Pivot Table Data'!P493","v":"Hopkins"},{"$f":"'Pivot Table Data'!I493","v":"L3"},{"$f":"'Pivot Table Data'!J493","v":"B"},{"$f":"'Pivot Table Data'!K493","v":0},{"$f":"'Pivot Table Data'!L493","v":0},{"$f":"'Pivot Table Data'!S493","v":140},{"$f":"'Pivot Table Data'!T493","v":""},{"$f":"IF('Pivot Table Data'!O493=\"Yes\", 'Pivot Table Data'!T493, \"\")","v":""}]
[{"$f":"'Pivot Table Data'!B494","v":0},{"$f":"'Pivot Table Data'!F494","v":"Roosevelt College"},{"$f":"'Pivot Table Data'!P494","v":"Hopkins"},{"$f":"'Pivot Table Data'!I494","v":"L3"},{"$f":"'Pivot Table Data'!J494","v":"Carpool"},{"$f":"'Pivot Table Data'!K494","v":"S 3-Person"},{"$f":"'Pivot Table Data'!L494","v":0},{"$f":"'Pivot Table Data'!S494","v":6},{"$f":"'Pivot Table Data'!T494","v":6},{"$f":"IF('Pivot Table Data'!O494=\"Yes\", 'Pivot Table Data'!T494, \"\")","v":6}]
[{"$f":"'Pivot Table Data'!B495","v":0},{"$f":"'Pivot Table Data'!F495","v":"Roosevelt College"},{"$f":"'Pivot Table Data'!P495","v":"Hopkins"},{"$f":"'Pivot Table Data'!I495","v":"L3"},{"$f":"'Pivot Table Data'!J495","v":"Carpool"},{"$f":"'Pivot Table Data'!K495","v":"S 3-Person"},{"$f":"'Pivot Table Data'!L495","v":0},{"$f":"'Pivot Table Data'!S495","v":0},{"$f":"'Pivot Table Data'!T495","v":""},{"$f":"IF('Pivot Table Data'!O495=\"Yes\", 'Pivot Table Data'!T495, \"\")","v":""}]
[{"$f":"'Pivot Table Data'!B496","v":0},{"$f":"'Pivot Table Data'!F496","v":"Roosevelt College"},{"$f":"'Pivot Table Data'!P496","v":"Hopkins"},{"$f":"'Pivot Table Data'!I496","v":"L4"},{"$f":"'Pivot Table Data'!J496","v":"A"},{"$f":"'Pivot Table Data'!K496","v":0},{"$f":"'Pivot Table Data'!L496","v":0},{"$f":"'Pivot Table Data'!S496","v":175},{"$f":"'Pivot Table Data'!T496","v":""},{"$f":"IF('Pivot Table Data'!O496=\"Yes\", 'Pivot Table Data'!T496, \"\")","v":""}]
[{"$f":"'Pivot Table Data'!B497","v":0},{"$f":"'Pivot Table Data'!F497","v":"Roosevelt College"},{"$f":"'Pivot Table Data'!P497","v":"Hopkins"},{"$f":"'Pivot Table Data'!I497","v":"L4"},{"$f":"'Pivot Table Data'!J497","v":"Accessible"},{"$f":"'Pivot Table Data'!K497","v":0},{"$f":"'Pivot Table Data'!L497","v":0},{"$f":"'Pivot Table Data'!S497","v":13},{"$f":"'Pivot Table Data'!T497","v":""},{"$f":"IF('Pivot Table Data'!O497=\"Yes\", 'Pivot Table Data'!T497, \"\")","v":""}]
[{"$f":"'Pivot Table Data'!B498","v":0},{"$f":"'Pivot Table Data'!F498","v":"Roosevelt College"},{"$f":"'Pivot Table Data'!P498","v":"Hopkins"},{"$f":"'Pivot Table Data'!I498","v":"L4"},{"$f":"'Pivot Table Data'!J498","v":"Accessible (Van)"},{"$f":"'Pivot Table Data'!K498","v":0},{"$f":"'Pivot Table Data'!L498","v":0},{"$f":"'Pivot Table Data'!S498","v":2},{"$f":"'Pivot Table Data'!T498","v":""},{"$f":"IF('Pivot Table Data'!O498=\"Yes\", 'Pivot Table Data'!T498, \"\")","v":""}]
[{"$f":"'Pivot Table Data'!B499","v":0},{"$f":"'Pivot Table Data'!F499","v":"Roosevelt College"},{"$f":"'Pivot Table Data'!P499","v":"Hopkins"},{"$f":"'Pivot Table Data'!I499","v":"L4"},{"$f":"'Pivot Table Data'!J499","v":"Reserved"},{"$f":"'Pivot Table Data'!K499","v":0},{"$f":"'Pivot Table Data'!L499","v":0},{"$f":"'Pivot Table Data'!S499","v":1},{"$f":"'Pivot Table Data'!T499","v":""},{"$f":"IF('Pivot Table Data'!O499=\"Yes\", 'Pivot Table Data'!T499, \"\")","v":""}]
[{"$f":"'Pivot Table Data'!B500","v":0},{"$f":"'Pivot Table Data'!F500","v":"Roosevelt College"},{"$f":"'Pivot Table Data'!P500","v":"Hopkins"},{"$f":"'Pivot Table Data'!I500","v":"Roof"},{"$f":"'Pivot Table Data'!J500","v":"A"},{"$f":"'Pivot Table Data'!K500","v":0},{"$f":"'Pivot Table Data'!L500","v":0},{"$f":"'Pivot Table Data'!S500","v":58},{"$f":"'Pivot Table Data'!T500","v":""},{"$f":"IF('Pivot Table Data'!O500=\"Yes\", 'Pivot Table Data'!T500, \"\")","v":""}]
[{"$f":"'Pivot Table Data'!B501","v":0},{"$f":"'Pivot Table Data'!F501","v":"Roosevelt College"},{"$f":"'Pivot Table Data'!P501","v":"Hopkins"},{"$f":"'Pivot Table Data'!I501","v":"Roof"},{"$f":"'Pivot Table Data'!J501","v":"Accessible"},{"$f":"'Pivot Table Data'!K501","v":0},{"$f":"'Pivot Table Data'!L501","v":0},{"$f":"'Pivot Table Data'!S501","v":1},{"$f":"'Pivot Table Data'!T501","v":""},{"$f":"IF('Pivot Table Data'!O501=\"Yes\", 'Pivot Table Data'!T501, \"\")","v":""}]
[{"$f":"'Pivot Table Data'!B502","v":0},{"$f":"'Pivot Table Data'!F502","v":"Roosevelt College"},{"$f":"'Pivot Table Data'!P502","v":"Hopkins"},{"$f":"'Pivot Table Data'!I502","v":"Roof"},{"$f":"'Pivot Table Data'!J502","v":"Accessible (Van)"},{"$f":"'Pivot Table Data'!K502","v":0},{"$f":"'Pivot Table Data'!L502","v":0},{"$f":"'Pivot Table Data'!S502","v":3},{"$f":"'Pivot Table Data'!T502","v":""},{"$f":"IF('Pivot Table Data'!O502=\"Yes\", 'Pivot Table Data'!T502, \"\")","v":""}]
[{"$f":"'Pivot Table Data'!B503","v":0},{"$f":"'Pivot Table Data'!F503","v":"Roosevelt College"},{"$f":"'Pivot Table Data'!P503","v":"Hopkins"},{"$f":"'Pivot Table Data'!I503","v":"Roof"},{"$f":"'Pivot Table Data'!J503","v":"Reserved"},{"$f":"'Pivot Table Data'!K503","v":0},{"$f":"'Pivot Table Data'!L503","v":0},{"$f":"'Pivot Table Data'!S503","v":3},{"$f":"'Pivot Table Data'!T503","v":""},{"$f":"IF('Pivot Table Data'!O503=\"Yes\", 'Pivot Table Data'!T503, \"\")","v":""}]
[{"$f":"'Pivot Table Data'!B504","v":0},{"$f":"'Pivot Table Data'!F504","v":"Roosevelt College"},{"$f":"'Pivot Table Data'!P504","v":"Hopkins"},{"$f":"'Pivot Table Data'!I504","v":"Roof"},{"$f":"'Pivot Table Data'!J504","v":"Visitor"},{"$f":"'Pivot Table Data'!K504","v":0},{"$f":"'Pivot Table Data'!L504","v":0},{"$f":"'Pivot Table Data'!S504","v":90},{"$f":"'Pivot Table Data'!T504","v":90},{"$f":"IF('Pivot Table Data'!O504=\"Yes\", 'Pivot Table Data'!T504, \"\")","v":90}]
[{"$f":"'Pivot Table Data'!B505","v":0},{"$f":"'Pivot Table Data'!F505","v":"Roosevelt College"},{"$f":"'Pivot Table Data'!P505","v":"Pangea"},{"$f":"'Pivot Table Data'!I505","v":"B5"},{"$f":"'Pivot Table Data'!J505","v":"S"},{"$f":"'Pivot Table Data'!K505","v":0},{"$f":"'Pivot Table Data'!L505","v":0},{"$f":"'Pivot Table Data'!S505","v":199},{"$f":"'Pivot Table Data'!T505","v":199},{"$f":"IF('Pivot Table Data'!O505=\"Yes\", 'Pivot Table Data'!T505, \"\")","v":199}]
[{"$f":"'Pivot Table Data'!B506","v":0},{"$f":"'Pivot Table Data'!F506","v":"Roosevelt College"},{"$f":"'Pivot Table Data'!P506","v":"Pangea"},{"$f":"'Pivot Table Data'!I506","v":"B5"},{"$f":"'Pivot Table Data'!J506","v":"SR"},{"$f":"'Pivot Table Data'!K506","v":0},{"$f":"'Pivot Table Data'!L506","v":0},{"$f":"'Pivot Table Data'!S506","v":0},{"$f":"'Pivot Table Data'!T506","v":184},{"$f":"IF('Pivot Table Data'!O506=\"Yes\", 'Pivot Table Data'!T506, \"\")","v":184}]
[{"$f":"'Pivot Table Data'!B507","v":0},{"$f":"'Pivot Table Data'!F507","v":"Roosevelt College"},{"$f":"'Pivot Table Data'!P507","v":"Pangea"},{"$f":"'Pivot Table Data'!I507","v":"B4"},{"$f":"'Pivot Table Data'!J507","v":"S"},{"$f":"'Pivot Table Data'!K507","v":0},{"$f":"'Pivot Table Data'!L507","v":0},{"$f":"'Pivot Table Data'!S507","v":0},{"$f":"'Pivot Table Data'!T507","v":""},{"$f":"IF('Pivot Table Data'!O507=\"Yes\", 'Pivot Table Data'!T507, \"\")","v":""}]
[{"$f":"'Pivot Table Data'!B508","v":0},{"$f":"'Pivot Table Data'!F508","v":"Roosevelt College"},{"$f":"'Pivot Table Data'!P508","v":"Pangea"},{"$f":"'Pivot Table Data'!I508","v":"B4"},{"$f":"'Pivot Table Data'!J508","v":"SR"},{"$f":"'Pivot Table Data'!K508","v":0},{"$f":"'Pivot Table Data'!L508","v":0},{"$f":"'Pivot Table Data'!S508","v":184},{"$f":"'Pivot Table Data'!T508","v":""},{"$f":"IF('Pivot Table Data'!O508=\"Yes\", 'Pivot Table Data'!T508, \"\")","v":""}]
[{"$f":"'Pivot Table Data'!B509","v":0},{"$f":"'Pivot Table Data'!F509","v":"Roosevelt College"},{"$f":"'Pivot Table Data'!P509","v":"Pangea"},{"$f":"'Pivot Table Data'!I509","v":"B4"},{"$f":"'Pivot Table Data'!J509","v":"UC Vehicle"},{"$f":"'Pivot Table Data'!K509","v":0},{"$f":"'Pivot Table Data'!L509","v":0},{"$f":"'Pivot Table Data'!S509","v":1},{"$f":"'Pivot Table Data'!T509","v":3},{"$f":"IF('Pivot Table Data'!O509=\"Yes\", 'Pivot Table Data'!T509, \"\")","v":""}]
[{"$f":"'Pivot Table Data'!B510","v":0},{"$f":"'Pivot Table Data'!F510","v":"Roosevelt College"},{"$f":"'Pivot Table Data'!P510","v":"Pangea"},{"$f":"'Pivot Table Data'!I510","v":"B3"},{"$f":"'Pivot Table Data'!J510","v":"B"},{"$f":"'Pivot Table Data'!K510","v":0},{"$f":"'Pivot Table Data'!L510","v":0},{"$f":"'Pivot Table Data'!S510","v":189},{"$f":"'Pivot Table Data'!T510","v":387},{"$f":"IF('Pivot Table Data'!O510=\"Yes\", 'Pivot Table Data'!T510, \"\")","v":387}]
[{"$f":"'Pivot Table Data'!B511","v":0},{"$f":"'Pivot Table Data'!F511","v":"Roosevelt College"},{"$f":"'Pivot Table Data'!P511","v":"Pangea"},{"$f":"'Pivot Table Data'!I511","v":"B3"},{"$f":"'Pivot Table Data'!J511","v":"Motorcycle Section"},{"$f":"'Pivot Table Data'!K511","v":0},{"$f":"'Pivot Table Data'!L511","v":0},{"$f":"'Pivot Table Data'!S511","v":30},{"$f":"'Pivot Table Data'!T511","v":30},{"$f":"IF('Pivot Table Data'!O511=\"Yes\", 'Pivot Table Data'!T511, \"\")","v":""}]
[{"$f":"'Pivot Table Data'!B512","v":0},{"$f":"'Pivot Table Data'!F512","v":"Roosevelt College"},{"$f":"'Pivot Table Data'!P512","v":"Pangea"},{"$f":"'Pivot Table Data'!I512","v":"B3"},{"$f":"'Pivot Table Data'!J512","v":"S"},{"$f":"'Pivot Table Data'!K512","v":0},{"$f":"'Pivot Table Data'!L512","v":0},{"$f":"'Pivot Table Data'!S512","v":0},{"$f":"'Pivot Table Data'!T512","v":""},{"$f":"IF('Pivot Table Data'!O512=\"Yes\", 'Pivot Table Data'!T512, \"\")","v":""}]
[{"$f":"'Pivot Table Data'!B513","v":0},{"$f":"'Pivot Table Data'!F513","v":"Roosevelt College"},{"$f":"'Pivot Table Data'!P513","v":"Pangea"},{"$f":"'Pivot Table Data'!I513","v":"B3"},{"$f":"'Pivot Table Data'!J513","v":"SR"},{"$f":"'Pivot Table Data'!K513","v":0},{"$f":"'Pivot Table Data'!L513","v":0},{"$f":"'Pivot Table Data'!S513","v":0},{"$f":"'Pivot Table Data'!T513","v":""},{"$f":"IF('Pivot Table Data'!O513=\"Yes\", 'Pivot Table Data'!T513, \"\")","v":""}]
[{"$f":"'Pivot Table Data'!B514","v":0},{"$f":"'Pivot Table Data'!F514","v":"Roosevelt College"},{"$f":"'Pivot Table Data'!P514","v":"Pangea"},{"$f":"'Pivot Table Data'!I514","v":"B2"},{"$f":"'Pivot Table Data'!J514","v":"B"},{"$f":"'Pivot Table Data'!K514","v":0},{"$f":"'Pivot Table Data'!L514","v":0},{"$f":"'Pivot Table Data'!S514","v":175},{"$f":"'Pivot Table Data'!T514","v":""},{"$f":"IF('Pivot Table Data'!O514=\"Yes\", 'Pivot Table Data'!T514, \"\")","v":""}]
[{"$f":"'Pivot Table Data'!B515","v":0},{"$f":"'Pivot Table Data'!F515","v":"Roosevelt College"},{"$f":"'Pivot Table Data'!P515","v":"Pangea"},{"$f":"'Pivot Table Data'!I515","v":"B2"},{"$f":"'Pivot Table Data'!J515","v":"Motorcycle Section"},{"$f":"'Pivot Table Data'!K515","v":0},{"$f":"'Pivot Table Data'!L515","v":0},{"$f":"'Pivot Table Data'!S515","v":0},{"$f":"'Pivot Table Data'!T515","v":""},{"$f":"IF('Pivot Table Data'!O515=\"Yes\", 'Pivot Table Data'!T515, \"\")","v":""}]
[{"$f":"'Pivot Table Data'!B516","v":0},{"$f":"'Pivot Table Data'!F516","v":"Roosevelt College"},{"$f":"'Pivot Table Data'!P516","v":"Pangea"},{"$f":"'Pivot Table Data'!I516","v":"B1 (Pangea Ent)"},{"$f":"'Pivot Table Data'!J516","v":"A"},{"$f":"'Pivot Table Data'!K516","v":0},{"$f":"'Pivot Table Data'!L516","v":0},{"$f":"'Pivot Table Data'!S516","v":90},{"$f":"'Pivot Table Data'!T516","v":142},{"$f":"IF('Pivot Table Data'!O516=\"Yes\", 'Pivot Table Data'!T516, \"\")","v":142}]
[{"$f":"'Pivot Table Data'!B517","v":0},{"$f":"'Pivot Table Data'!F517","v":"Roosevelt College"},{"$f":"'Pivot Table Data'!P517","v":"Pangea"},{"$f":"'Pivot Table Data'!I517","v":"B1 (Pangea Ent)"},{"$f":"'Pivot Table Data'!J517","v":"A"},{"$f":"'Pivot Table Data'!K517","v":0},{"$f":"'Pivot Table Data'!L517","v":0},{"$f":"'Pivot Table Data'!S517","v":29},{"$f":"'Pivot Table Data'!T517","v":""},{"$f":"IF('Pivot Table Data'!O517=\"Yes\", 'Pivot Table Data'!T517, \"\")","v":""}]
[{"$f":"'Pivot Table Data'!B518","v":0},{"$f":"'Pivot Table Data'!F518","v":"Roosevelt College"},{"$f":"'Pivot Table Data'!P518","v":"Pangea"},{"$f":"'Pivot Table Data'!I518","v":"B1 (Pangea Ent)"},{"$f":"'Pivot Table Data'!J518","v":"Accessible"},{"$f":"'Pivot Table Data'!K518","v":0},{"$f":"'Pivot Table Data'!L518","v":0},{"$f":"'Pivot Table Data'!S518","v":7},{"$f":"'Pivot Table Data'!T518","v":17},{"$f":"IF('Pivot Table Data'!O518=\"Yes\", 'Pivot Table Data'!T518, \"\")","v":""}]
[{"$f":"'Pivot Table Data'!B519","v":0},{"$f":"'Pivot Table Data'!F519","v":"Roosevelt College"},{"$f":"'Pivot Table Data'!P519","v":"Pangea"},{"$f":"'Pivot Table Data'!I519","v":"B1 (Pangea Ent)"},{"$f":"'Pivot Table Data'!J519","v":"Accessible (Van)"},{"$f":"'Pivot Table Data'!K519","v":0},{"$f":"'Pivot Table Data'!L519","v":0},{"$f":"'Pivot Table Data'!S519","v":0},{"$f":"'Pivot Table Data'!T519","v":0},{"$f":"IF('Pivot Table Data'!O519=\"Yes\", 'Pivot Table Data'!T519, \"\")","v":""}]
[{"$f":"'Pivot Table Data'!B520","v":0},{"$f":"'Pivot Table Data'!F520","v":"Roosevelt College"},{"$f":"'Pivot Table Data'!P520","v":"Pangea"},{"$f":"'Pivot Table Data'!I520","v":"B1 (Pangea Ent)"},{"$f":"'Pivot Table Data'!J520","v":"B"},{"$f":"'Pivot Table Data'!K520","v":0},{"$f":"'Pivot Table Data'!L520","v":0},{"$f":"'Pivot Table Data'!S520","v":23},{"$f":"'Pivot Table Data'!T520","v":""},{"$f":"IF('Pivot Table Data'!O520=\"Yes\", 'Pivot Table Data'!T520, \"\")","v":""}]
[{"$f":"'Pivot Table Data'!B521","v":0},{"$f":"'Pivot Table Data'!F521","v":"Roosevelt College"},{"$f":"'Pivot Table Data'!P521","v":"Pangea"},{"$f":"'Pivot Table Data'!I521","v":"B1 (Pangea Ent)"},{"$f":"'Pivot Table Data'!J521","v":"Electric Vehicle"},{"$f":"'Pivot Table Data'!K521","v":0},{"$f":"'Pivot Table Data'!L521","v":0},{"$f":"'Pivot Table Data'!S521","v":4},{"$f":"'Pivot Table Data'!T521","v":4},{"$f":"IF('Pivot Table Data'!O521=\"Yes\", 'Pivot Table Data'!T521, \"\")","v":""}]
[{"$f":"'Pivot Table Data'!B522","v":0},{"$f":"'Pivot Table Data'!F522","v":"Roosevelt College"},{"$f":"'Pivot Table Data'!P522","v":"Pangea"},{"$f":"'Pivot Table Data'!I522","v":"B1 (Pangea Ent)"},{"$f":"'Pivot Table Data'!J522","v":"Motorcycle Section"},{"$f":"'Pivot Table Data'!K522","v":0},{"$f":"'Pivot Table Data'!L522","v":0},{"$f":"'Pivot Table Data'!S522","v":0},{"$f":"'Pivot Table Data'!T522","v":""},{"$f":"IF('Pivot Table Data'!O522=\"Yes\", 'Pivot Table Data'!T522, \"\")","v":""}]
[{"$f":"'Pivot Table Data'!B523","v":0},{"$f":"'Pivot Table Data'!F523","v":"Roosevelt College"},{"$f":"'Pivot Table Data'!P523","v":"Pangea"},{"$f":"'Pivot Table Data'!I523","v":"B1 (Pangea Ent)"},{"$f":"'Pivot Table Data'!J523","v":"Reserved"},{"$f":"'Pivot Table Data'!K523","v":0},{"$f":"'Pivot Table Data'!L523","v":0},{"$f":"'Pivot Table Data'!S523","v":3},{"$f":"'Pivot Table Data'!T523","v":3},{"$f":"IF('Pivot Table Data'!O523=\"Yes\", 'Pivot Table Data'!T523, \"\")","v":""}]
[{"$f":"'Pivot Table Data'!B524","v":0},{"$f":"'Pivot Table Data'!F524","v":"Roosevelt College"},{"$f":"'Pivot Table Data'!P524","v":"Pangea"},{"$f":"'Pivot Table Data'!I524","v":"B1 (Pangea Ent)"},{"$f":"'Pivot Table Data'!J524","v":"UC Vehicle"},{"$f":"'Pivot Table Data'!K524","v":0},{"$f":"'Pivot Table Data'!L524","v":0},{"$f":"'Pivot Table Data'!S524","v":2},{"$f":"'Pivot Table Data'!T524","v":""},{"$f":"IF('Pivot Table Data'!O524=\"Yes\", 'Pivot Table Data'!T524, \"\")","v":""}]
[{"$f":"'Pivot Table Data'!B525","v":0},{"$f":"'Pivot Table Data'!F525","v":"Roosevelt College"},{"$f":"'Pivot Table Data'!P525","v":"Pangea"},{"$f":"'Pivot Table Data'!I525","v":"Roof (Ground at Scholars Dr)"},{"$f":"'Pivot Table Data'!J525","v":"A"},{"$f":"'Pivot Table Data'!K525","v":0},{"$f":"'Pivot Table Data'!L525","v":0},{"$f":"'Pivot Table Data'!S525","v":23},{"$f":"'Pivot Table Data'!T525","v":""},{"$f":"IF('Pivot Table Data'!O525=\"Yes\", 'Pivot Table Data'!T525, \"\")","v":""}]
[{"$f":"'Pivot Table Data'!B526","v":0},{"$f":"'Pivot Table Data'!F526","v":"Roosevelt College"},{"$f":"'Pivot Table Data'!P526","v":"Pangea"},{"$f":"'Pivot Table Data'!I526","v":"Roof (Ground at Scholars Dr)"},{"$f":"'Pivot Table Data'!J526","v":"Accessible"},{"$f":"'Pivot Table Data'!K526","v":0},{"$f":"'Pivot Table Data'!L526","v":0},{"$f":"'Pivot Table Data'!S526","v":10},{"$f":"'Pivot Table Data'!T526","v":""},{"$f":"IF('Pivot Table Data'!O526=\"Yes\", 'Pivot Table Data'!T526, \"\")","v":""}]
[{"$f":"'Pivot Table Data'!B527","v":0},{"$f":"'Pivot Table Data'!F527","v":"Roosevelt College"},{"$f":"'Pivot Table Data'!P527","v":"Pangea"},{"$f":"'Pivot Table Data'!I527","v":"Roof (Ground at Scholars Dr)"},{"$f":"'Pivot Table Data'!J527","v":"Accessible (Van)"},{"$f":"'Pivot Table Data'!K527","v":0},{"$f":"'Pivot Table Data'!L527","v":0},{"$f":"'Pivot Table Data'!S527","v":0},{"$f":"'Pivot Table Data'!T527","v":""},{"$f":"IF('Pivot Table Data'!O527=\"Yes\", 'Pivot Table Data'!T527, \"\")","v":""}]
[{"$f":"'Pivot Table Data'!B528","v":0},{"$f":"'Pivot Table Data'!F528","v":"Roosevelt College"},{"$f":"'Pivot Table Data'!P528","v":"Pangea"},{"$f":"'Pivot Table Data'!I528","v":"Roof (Ground at Scholars Dr)"},{"$f":"'Pivot Table Data'!J528","v":"Motorcycle Section"},{"$f":"'Pivot Table Data'!K528","v":0},{"$f":"'Pivot Table Data'!L528","v":0},{"$f":"'Pivot Table Data'!S528","v":0},{"$f":"'Pivot Table Data'!T528","v":""},{"$f":"IF('Pivot Table Data'!O528=\"Yes\", 'Pivot Table Data'!T528, \"\")","v":""}]
[{"$f":"'Pivot Table Data'!B529","v":0},{"$f":"'Pivot Table Data'!F529","v":"Roosevelt College"},{"$f":"'Pivot Table Data'!P529","v":"Pangea"},{"$f":"'Pivot Table Data'!I529","v":"Roof (Ground at Scholars Dr)"},{"$f":"'Pivot Table Data'!J529","v":"Motorcycle Section"},{"$f":"'Pivot Table Data'!K529","v":0},{"$f":"'Pivot Table Data'!L529","v":0},{"$f":"'Pivot Table Data'!S529","v":0},{"$f":"'Pivot Table Data'!T529","v":""},{"$f":"IF('Pivot Table Data'!O529=\"Yes\", 'Pivot Table Data'!T529, \"\")","v":""}]
[{"$f":"'Pivot Table Data'!B530","v":0},{"$f":"'Pivot Table Data'!F530","v":"Roosevelt College"},{"$f":"'Pivot Table Data'!P530","v":"Pangea"},{"$f":"'Pivot Table Data'!I530","v":"Roof (Ground at Scholars Dr)"},{"$f":"'Pivot Table Data'!J530","v":"Reserved"},{"$f":"'Pivot Table Data'!K530","v":"Enterprise"},{"$f":"'Pivot Table Data'!L530","v":0},{"$f":"'Pivot Table Data'!S530","v":4},{"$f":"'Pivot Table Data'!T530","v":4},{"$f":"IF('Pivot Table Data'!O530=\"Yes\", 'Pivot Table Data'!T530, \"\")","v":""}]
[{"$f":"'Pivot Table Data'!B531","v":0},{"$f":"'Pivot Table Data'!F531","v":"Roosevelt College"},{"$f":"'Pivot Table Data'!P531","v":"Pangea"},{"$f":"'Pivot Table Data'!I531","v":"Roof (Ground at Scholars Dr)"},{"$f":"'Pivot Table Data'!J531","v":"Visitor"},{"$f":"'Pivot Table Data'!K531","v":0},{"$f":"'Pivot Table Data'!L531","v":0},{"$f":"'Pivot Table Data'!S531","v":76},{"$f":"'Pivot Table Data'!T531","v":76},{"$f":"IF('Pivot Table Data'!O531=\"Yes\", 'Pivot Table Data'!T531, \"\")","v":76}]
[{"$f":"'Pivot Table Data'!B532","v":0},{"$f":"'Pivot Table Data'!F532","v":"North Torrey Pines Living and Learning"},{"$f":"'Pivot Table Data'!P532","v":"Scholars"},{"$f":"'Pivot Table Data'!I532","v":"B2"},{"$f":"'Pivot Table Data'!J532","v":"Accessible"},{"$f":"'Pivot Table Data'!K532","v":0},{"$f":"'Pivot Table Data'!L532","v":0},{"$f":"'Pivot Table Data'!S532","v":4},{"$f":"'Pivot Table Data'!T532","v":48},{"$f":"IF('Pivot Table Data'!O532=\"Yes\", 'Pivot Table Data'!T532, \"\")","v":""}]
[{"$f":"'Pivot Table Data'!B533","v":0},{"$f":"'Pivot Table Data'!F533","v":"North Torrey Pines Living and Learning"},{"$f":"'Pivot Table Data'!P533","v":"Scholars"},{"$f":"'Pivot Table Data'!I533","v":"B2"},{"$f":"'Pivot Table Data'!J533","v":"Accessible (Van)"},{"$f":"'Pivot Table Data'!K533","v":0},{"$f":"'Pivot Table Data'!L533","v":0},{"$f":"'Pivot Table Data'!S533","v":9},{"$f":"'Pivot Table Data'!T533","v":12},{"$f":"IF('Pivot Table Data'!O533=\"Yes\", 'Pivot Table Data'!T533, \"\")","v":""}]
[{"$f":"'Pivot Table Data'!B534","v":0},{"$f":"'Pivot Table Data'!F534","v":"North Torrey Pines Living and Learning"},{"$f":"'Pivot Table Data'!P534","v":"Scholars"},{"$f":"'Pivot Table Data'!I534","v":"B2"},{"$f":"'Pivot Table Data'!J534","v":"B"},{"$f":"'Pivot Table Data'!K534","v":0},{"$f":"'Pivot Table Data'!L534","v":0},{"$f":"'Pivot Table Data'!S534","v":341},{"$f":"'Pivot Table Data'!T534","v":381},{"$f":"IF('Pivot Table Data'!O534=\"Yes\", 'Pivot Table Data'!T534, \"\")","v":381}]
[{"$f":"'Pivot Table Data'!B535","v":0},{"$f":"'Pivot Table Data'!F535","v":"North Torrey Pines Living and Learning"},{"$f":"'Pivot Table Data'!P535","v":"Scholars"},{"$f":"'Pivot Table Data'!I535","v":"B2"},{"$f":"'Pivot Table Data'!J535","v":"Motorcycle Section"},{"$f":"'Pivot Table Data'!K535","v":0},{"$f":"'Pivot Table Data'!L535","v":0},{"$f":"'Pivot Table Data'!S535","v":30},{"$f":"'Pivot Table Data'!T535","v":30},{"$f":"IF('Pivot Table Data'!O535=\"Yes\", 'Pivot Table Data'!T535, \"\")","v":""}]
[{"$f":"'Pivot Table Data'!B536","v":0},{"$f":"'Pivot Table Data'!F536","v":"North Torrey Pines Living and Learning"},{"$f":"'Pivot Table Data'!P536","v":"Scholars"},{"$f":"'Pivot Table Data'!I536","v":"B2"},{"$f":"'Pivot Table Data'!J536","v":"Reserved"},{"$f":"'Pivot Table Data'!K536","v":0},{"$f":"'Pivot Table Data'!L536","v":0},{"$f":"'Pivot Table Data'!S536","v":4},{"$f":"'Pivot Table Data'!T536","v":26},{"$f":"IF('Pivot Table Data'!O536=\"Yes\", 'Pivot Table Data'!T536, \"\")","v":""}]
[{"$f":"'Pivot Table Data'!B537","v":0},{"$f":"'Pivot Table Data'!F537","v":"North Torrey Pines Living and Learning"},{"$f":"'Pivot Table Data'!P537","v":"Scholars"},{"$f":"'Pivot Table Data'!I537","v":"B2"},{"$f":"'Pivot Table Data'!J537","v":"SR"},{"$f":"'Pivot Table Data'!K537","v":0},{"$f":"'Pivot Table Data'!L537","v":0},{"$f":"'Pivot Table Data'!S537","v":103},{"$f":"'Pivot Table Data'!T537","v":103},{"$f":"IF('Pivot Table Data'!O537=\"Yes\", 'Pivot Table Data'!T537, \"\")","v":103}]
[{"$f":"'Pivot Table Data'!B538","v":0},{"$f":"'Pivot Table Data'!F538","v":"North Torrey Pines Living and Learning"},{"$f":"'Pivot Table Data'!P538","v":"Scholars"},{"$f":"'Pivot Table Data'!I538","v":"B1"},{"$f":"'Pivot Table Data'!J538","v":"A"},{"$f":"'Pivot Table Data'!K538","v":0},{"$f":"'Pivot Table Data'!L538","v":0},{"$f":"'Pivot Table Data'!S538","v":295},{"$f":"'Pivot Table Data'!T538","v":295},{"$f":"IF('Pivot Table Data'!O538=\"Yes\", 'Pivot Table Data'!T538, \"\")","v":295}]
[{"$f":"'Pivot Table Data'!B539","v":0},{"$f":"'Pivot Table Data'!F539","v":"North Torrey Pines Living and Learning"},{"$f":"'Pivot Table Data'!P539","v":"Scholars"},{"$f":"'Pivot Table Data'!I539","v":"B1"},{"$f":"'Pivot Table Data'!J539","v":"Accessible"},{"$f":"'Pivot Table Data'!K539","v":0},{"$f":"'Pivot Table Data'!L539","v":0},{"$f":"'Pivot Table Data'!S539","v":17},{"$f":"'Pivot Table Data'!T539","v":""},{"$f":"IF('Pivot Table Data'!O539=\"Yes\", 'Pivot Table Data'!T539, \"\")","v":""}]
[{"$f":"'Pivot Table Data'!B540","v":0},{"$f":"'Pivot Table Data'!F540","v":"North Torrey Pines Living and Learning"},{"$f":"'Pivot Table Data'!P540","v":"Scholars"},{"$f":"'Pivot Table Data'!I540","v":"B1"},{"$f":"'Pivot Table Data'!J540","v":"Accessible (Van)"},{"$f":"'Pivot Table Data'!K540","v":0},{"$f":"'Pivot Table Data'!L540","v":0},{"$f":"'Pivot Table Data'!S540","v":2},{"$f":"'Pivot Table Data'!T540","v":""},{"$f":"IF('Pivot Table Data'!O540=\"Yes\", 'Pivot Table Data'!T540, \"\")","v":""}]
[{"$f":"'Pivot Table Data'!B541","v":0},{"$f":"'Pivot Table Data'!F541","v":"North Torrey Pines Living and Learning"},{"$f":"'Pivot Table Data'!P541","v":"Scholars"},{"$f":"'Pivot Table Data'!I541","v":"B1"},{"$f":"'Pivot Table Data'!J541","v":"B"},{"$f":"'Pivot Table Data'!K541","v":0},{"$f":"'Pivot Table Data'!L541","v":0},{"$f":"'Pivot Table Data'!S541","v":40},{"$f":"'Pivot Table Data'!T541","v":""},{"$f":"IF('Pivot Table Data'!O541=\"Yes\", 'Pivot Table Data'!T541, \"\")","v":""}]
[{"$f":"'Pivot Table Data'!B542","v":0},{"$f":"'Pivot Table Data'!F542","v":"North Torrey Pines Living and Learning"},{"$f":"'Pivot Table Data'!P542","v":"Scholars"},{"$f":"'Pivot Table Data'!I542","v":"B1"},{"$f":"'Pivot Table Data'!J542","v":"Carpool"},{"$f":"'Pivot Table Data'!K542","v":"2 Person"},{"$f":"'Pivot Table Data'!L542","v":0},{"$f":"'Pivot Table Data'!S542","v":92},{"$f":"'Pivot Table Data'!T542","v":92},{"$f":"IF('Pivot Table Data'!O542=\"Yes\", 'Pivot Table Data'!T542, \"\")","v":92}]
[{"$f":"'Pivot Table Data'!B543","v":0},{"$f":"'Pivot Table Data'!F543","v":"North Torrey Pines Living and Learning"},{"$f":"'Pivot Table Data'!P543","v":"Scholars"},{"$f":"'Pivot Table Data'!I543","v":"B1"},{"$f":"'Pivot Table Data'!J543","v":"Motorcycle Section"},{"$f":"'Pivot Table Data'!K543","v":0},{"$f":"'Pivot Table Data'!L543","v":0},{"$f":"'Pivot Table Data'!S543","v":0},{"$f":"'Pivot Table Data'!T543","v":""},{"$f":"IF('Pivot Table Data'!O543=\"Yes\", 'Pivot Table Data'!T543, \"\")","v":""}]
[{"$f":"'Pivot Table Data'!B544","v":0},{"$f":"'Pivot Table Data'!F544","v":"North Torrey Pines Living and Learning"},{"$f":"'Pivot Table Data'!P544","v":"Scholars"},{"$f":"'Pivot Table Data'!I544","v":"B1"},{"$f":"'Pivot Table Data'!J544","v":"Reserved"},{"$f":"'Pivot Table Data'!K544","v":0},{"$f":"'Pivot Table Data'!L544","v":0},{"$f":"'Pivot Table Data'!S544","v":8},{"$f":"'Pivot Table Data'!T544","v":""},{"$f":"IF('Pivot Table Data'!O544=\"Yes\", 'Pivot Table Data'!T544, \"\")","v":""}]
[{"$f":"'Pivot Table Data'!B545","v":0},{"$f":"'Pivot Table Data'!F545","v":"North Torrey Pines Living and Learning"},{"$f":"'Pivot Table Data'!P545","v":"Scholars"},{"$f":"'Pivot Table Data'!I545","v":"B1"},{"$f":"'Pivot Table Data'!J545","v":"Service Yard"},{"$f":"'Pivot Table Data'!K545","v":0},{"$f":"'Pivot Table Data'!L545","v":0},{"$f":"'Pivot Table Data'!S545","v":4},{"$f":"'Pivot Table Data'!T545","v":4},{"$f":"IF('Pivot Table Data'!O545=\"Yes\", 'Pivot Table Data'!T545, \"\")","v":""}]
[{"$f":"'Pivot Table Data'!B546","v":0},{"$f":"'Pivot Table Data'!F546","v":"North Torrey Pines Living and Learning"},{"$f":"'Pivot Table Data'!P546","v":"Scholars"},{"$f":"'Pivot Table Data'!I546","v":"B1"},{"$f":"'Pivot Table Data'!J546","v":"Visitor"},{"$f":"'Pivot Table Data'!K546","v":0},{"$f":"'Pivot Table Data'!L546","v":0},{"$f":"'Pivot Table Data'!S546","v":42},{"$f":"'Pivot Table Data'!T546","v":42},{"$f":"IF('Pivot Table Data'!O546=\"Yes\", 'Pivot Table Data'!T546, \"\")","v":42}]
[{"$f":"'Pivot Table Data'!B547","v":0},{"$f":"'Pivot Table Data'!F547","v":"North Torrey Pines Living and Learning"},{"$f":"'Pivot Table Data'!P547","v":"Scholars"},{"$f":"'Pivot Table Data'!I547","v":"Ground"},{"$f":"'Pivot Table Data'!J547","v":"Accessible"},{"$f":"'Pivot Table Data'!K547","v":0},{"$f":"'Pivot Table Data'!L547","v":0},{"$f":"'Pivot Table Data'!S547","v":27},{"$f":"'Pivot Table Data'!T547","v":""},{"$f":"IF('Pivot Table Data'!O547=\"Yes\", 'Pivot Table Data'!T547, \"\")","v":""}]
[{"$f":"'Pivot Table Data'!B548","v":0},{"$f":"'Pivot Table Data'!F548","v":"North Torrey Pines Living and Learning"},{"$f":"'Pivot Table Data'!P548","v":"Scholars"},{"$f":"'Pivot Table Data'!I548","v":"Ground"},{"$f":"'Pivot Table Data'!J548","v":"Accessible (Van)"},{"$f":"'Pivot Table Data'!K548","v":0},{"$f":"'Pivot Table Data'!L548","v":"4-Hours"},{"$f":"'Pivot Table Data'!S548","v":0},{"$f":"'Pivot Table Data'!T548","v":0},{"$f":"IF('Pivot Table Data'!O548=\"Yes\", 'Pivot Table Data'!T548, \"\")","v":""}]
[{"$f":"'Pivot Table Data'!B549","v":0},{"$f":"'Pivot Table Data'!F549","v":"North Torrey Pines Living and Learning"},{"$f":"'Pivot Table Data'!P549","v":"Scholars"},{"$f":"'Pivot Table Data'!I549","v":"Ground"},{"$f":"'Pivot Table Data'!J549","v":"Accessible (Van)"},{"$f":"'Pivot Table Data'!K549","v":0},{"$f":"'Pivot Table Data'!L549","v":0},{"$f":"'Pivot Table Data'!S549","v":1},{"$f":"'Pivot Table Data'!T549","v":""},{"$f":"IF('Pivot Table Data'!O549=\"Yes\", 'Pivot Table Data'!T549, \"\")","v":""}]
[{"$f":"'Pivot Table Data'!B550","v":0},{"$f":"'Pivot Table Data'!F550","v":"North Torrey Pines Living and Learning"},{"$f":"'Pivot Table Data'!P550","v":"Scholars"},{"$f":"'Pivot Table Data'!I550","v":"Ground"},{"$f":"'Pivot Table Data'!J550","v":"Electric Vehicle"},{"$f":"'Pivot Table Data'!K550","v":"ADA"},{"$f":"'Pivot Table Data'!L550","v":"4-Hours"},{"$f":"'Pivot Table Data'!S550","v":5},{"$f":"'Pivot Table Data'!T550","v":5},{"$f":"IF('Pivot Table Data'!O550=\"Yes\", 'Pivot Table Data'!T550, \"\")","v":""}]
[{"$f":"'Pivot Table Data'!B551","v":0},{"$f":"'Pivot Table Data'!F551","v":"North Torrey Pines Living and Learning"},{"$f":"'Pivot Table Data'!P551","v":"Scholars"},{"$f":"'Pivot Table Data'!I551","v":"Ground"},{"$f":"'Pivot Table Data'!J551","v":"Electric Vehicle"},{"$f":"'Pivot Table Data'!K551","v":0},{"$f":"'Pivot Table Data'!L551","v":0},{"$f":"'Pivot Table Data'!S551","v":30},{"$f":"'Pivot Table Data'!T551","v":30},{"$f":"IF('Pivot Table Data'!O551=\"Yes\", 'Pivot Table Data'!T551, \"\")","v":""}]
[{"$f":"'Pivot Table Data'!B552","v":0},{"$f":"'Pivot Table Data'!F552","v":"North Torrey Pines Living and Learning"},{"$f":"'Pivot Table Data'!P552","v":"Scholars"},{"$f":"'Pivot Table Data'!I552","v":"Ground"},{"$f":"'Pivot Table Data'!J552","v":"Motorcycle Section"},{"$f":"'Pivot Table Data'!K552","v":0},{"$f":"'Pivot Table Data'!L552","v":0},{"$f":"'Pivot Table Data'!S552","v":0},{"$f":"'Pivot Table Data'!T552","v":""},{"$f":"IF('Pivot Table Data'!O552=\"Yes\", 'Pivot Table Data'!T552, \"\")","v":""}]
[{"$f":"'Pivot Table Data'!B553","v":0},{"$f":"'Pivot Table Data'!F553","v":"North Torrey Pines Living and Learning"},{"$f":"'Pivot Table Data'!P553","v":"Scholars"},{"$f":"'Pivot Table Data'!I553","v":"Ground"},{"$f":"'Pivot Table Data'!J553","v":"Reserved"},{"$f":"'Pivot Table Data'!K553","v":"Food Pickup"},{"$f":"'Pivot Table Data'!L553","v":15},{"$f":"'Pivot Table Data'!S553","v":3},{"$f":"'Pivot Table Data'!T553","v":3},{"$f":"IF('Pivot Table Data'!O553=\"Yes\", 'Pivot Table Data'!T553, \"\")","v":""}]
[{"$f":"'Pivot Table Data'!B554","v":0},{"$f":"'Pivot Table Data'!F554","v":"North Torrey Pines Living and Learning"},{"$f":"'Pivot Table Data'!P554","v":"Scholars"},{"$f":"'Pivot Table Data'!I554","v":"Ground"},{"$f":"'Pivot Table Data'!J554","v":"Reserved"},{"$f":"'Pivot Table Data'!K554","v":0},{"$f":"'Pivot Table Data'!L554","v":0},{"$f":"'Pivot Table Data'!S554","v":14},{"$f":"'Pivot Table Data'!T554","v":""},{"$f":"IF('Pivot Table Data'!O554=\"Yes\", 'Pivot Table Data'!T554, \"\")","v":""}]
[{"$f":"'Pivot Table Data'!B555","v":0},{"$f":"'Pivot Table Data'!F555","v":"North Torrey Pines Living and Learning"},{"$f":"'Pivot Table Data'!P555","v":"Scholars"},{"$f":"'Pivot Table Data'!I555","v":"Ground"},{"$f":"'Pivot Table Data'!J555","v":"Visitor"},{"$f":"'Pivot Table Data'!K555","v":"2-Hour Limit"},{"$f":"'Pivot Table Data'!L555","v":60},{"$f":"'Pivot Table Data'!S555","v":111},{"$f":"'Pivot Table Data'!T555","v":111},{"$f":"IF('Pivot Table Data'!O555=\"Yes\", 'Pivot Table Data'!T555, \"\")","v":111}]
[{"$f":"'Pivot Table Data'!B556","v":0},{"$f":"'Pivot Table Data'!F556","v":"Health Sciences West"},{"$f":"'Pivot Table Data'!P556","v":"South"},{"$f":"'Pivot Table Data'!I556","v":"Basement (Level 1)"},{"$f":"'Pivot Table Data'!J556","v":"A"},{"$f":"'Pivot Table Data'!K556","v":0},{"$f":"'Pivot Table Data'!L556","v":0},{"$f":"'Pivot Table Data'!S556","v":185},{"$f":"'Pivot Table Data'!T556","v":449},{"$f":"IF('Pivot Table Data'!O556=\"Yes\", 'Pivot Table Data'!T556, \"\")","v":449}]
[{"$f":"'Pivot Table Data'!B557","v":0},{"$f":"'Pivot Table Data'!F557","v":"Health Sciences West"},{"$f":"'Pivot Table Data'!P557","v":"South"},{"$f":"'Pivot Table Data'!I557","v":"Basement (Level 1)"},{"$f":"'Pivot Table Data'!J557","v":"Accessible"},{"$f":"'Pivot Table Data'!K557","v":0},{"$f":"'Pivot Table Data'!L557","v":0},{"$f":"'Pivot Table Data'!S557","v":1},{"$f":"'Pivot Table Data'!T557","v":22},{"$f":"IF('Pivot Table Data'!O557=\"Yes\", 'Pivot Table Data'!T557, \"\")","v":""}]
[{"$f":"'Pivot Table Data'!B558","v":0},{"$f":"'Pivot Table Data'!F558","v":"Health Sciences West"},{"$f":"'Pivot Table Data'!P558","v":"South"},{"$f":"'Pivot Table Data'!I558","v":"Basement (Level 1)"},{"$f":"'Pivot Table Data'!J558","v":"Accessible (Van)"},{"$f":"'Pivot Table Data'!K558","v":0},{"$f":"'Pivot Table Data'!L558","v":0},{"$f":"'Pivot Table Data'!S558","v":0},{"$f":"'Pivot Table Data'!T558","v":1},{"$f":"IF('Pivot Table Data'!O558=\"Yes\", 'Pivot Table Data'!T558, \"\")","v":""}]
[{"$f":"'Pivot Table Data'!B559","v":0},{"$f":"'Pivot Table Data'!F559","v":"Health Sciences West"},{"$f":"'Pivot Table Data'!P559","v":"South"},{"$f":"'Pivot Table Data'!I559","v":"Basement (Level 1)"},{"$f":"'Pivot Table Data'!J559","v":"Electric Vehicle"},{"$f":"'Pivot Table Data'!K559","v":0},{"$f":"'Pivot Table Data'!L559","v":0},{"$f":"'Pivot Table Data'!S559","v":8},{"$f":"'Pivot Table Data'!T559","v":30},{"$f":"IF('Pivot Table Data'!O559=\"Yes\", 'Pivot Table Data'!T559, \"\")","v":""}]
[{"$f":"'Pivot Table Data'!B560","v":0},{"$f":"'Pivot Table Data'!F560","v":"Health Sciences West"},{"$f":"'Pivot Table Data'!P560","v":"South"},{"$f":"'Pivot Table Data'!I560","v":"Basement (Level 1)"},{"$f":"'Pivot Table Data'!J560","v":"Motorcycle Section"},{"$f":"'Pivot Table Data'!K560","v":0},{"$f":"'Pivot Table Data'!L560","v":0},{"$f":"'Pivot Table Data'!S560","v":3},{"$f":"'Pivot Table Data'!T560","v":15},{"$f":"IF('Pivot Table Data'!O560=\"Yes\", 'Pivot Table Data'!T560, \"\")","v":""}]
[{"$f":"'Pivot Table Data'!B561","v":0},{"$f":"'Pivot Table Data'!F561","v":"Health Sciences West"},{"$f":"'Pivot Table Data'!P561","v":"South"},{"$f":"'Pivot Table Data'!I561","v":"Basement (Level 1)"},{"$f":"'Pivot Table Data'!J561","v":"S"},{"$f":"'Pivot Table Data'!K561","v":0},{"$f":"'Pivot Table Data'!L561","v":0},{"$f":"'Pivot Table Data'!S561","v":1},{"$f":"'Pivot Table Data'!T561","v":1},{"$f":"IF('Pivot Table Data'!O561=\"Yes\", 'Pivot Table Data'!T561, \"\")","v":1}]
[{"$f":"'Pivot Table Data'!B562","v":0},{"$f":"'Pivot Table Data'!F562","v":"Health Sciences West"},{"$f":"'Pivot Table Data'!P562","v":"South"},{"$f":"'Pivot Table Data'!I562","v":"Basement (Level 1)"},{"$f":"'Pivot Table Data'!J562","v":"Service Yard"},{"$f":"'Pivot Table Data'!K562","v":0},{"$f":"'Pivot Table Data'!L562","v":0},{"$f":"'Pivot Table Data'!S562","v":2},{"$f":"'Pivot Table Data'!T562","v":2},{"$f":"IF('Pivot Table Data'!O562=\"Yes\", 'Pivot Table Data'!T562, \"\")","v":""}]
[{"$f":"'Pivot Table Data'!B563","v":0},{"$f":"'Pivot Table Data'!F563","v":"Health Sciences West"},{"$f":"'Pivot Table Data'!P563","v":"South"},{"$f":"'Pivot Table Data'!I563","v":"Basement (Level 1)"},{"$f":"'Pivot Table Data'!J563","v":"SR"},{"$f":"'Pivot Table Data'!K563","v":0},{"$f":"'Pivot Table Data'!L563","v":0},{"$f":"'Pivot Table Data'!S563","v":68},{"$f":"'Pivot Table Data'!T563","v":68},{"$f":"IF('Pivot Table Data'!O563=\"Yes\", 'Pivot Table Data'!T563, \"\")","v":68}]
[{"$f":"'Pivot Table Data'!B564","v":0},{"$f":"'Pivot Table Data'!F564","v":"Health Sciences West"},{"$f":"'Pivot Table Data'!P564","v":"South"},{"$f":"'Pivot Table Data'!I564","v":"Basement (Level 1)"},{"$f":"'Pivot Table Data'!J564","v":"UC Vehicle"},{"$f":"'Pivot Table Data'!K564","v":"UC Cart"},{"$f":"'Pivot Table Data'!L564","v":0},{"$f":"'Pivot Table Data'!S564","v":3},{"$f":"'Pivot Table Data'!T564","v":9},{"$f":"IF('Pivot Table Data'!O564=\"Yes\", 'Pivot Table Data'!T564, \"\")","v":""}]
[{"$f":"'Pivot Table Data'!B565","v":0},{"$f":"'Pivot Table Data'!F565","v":"Health Sciences West"},{"$f":"'Pivot Table Data'!P565","v":"South"},{"$f":"'Pivot Table Data'!I565","v":"Basement (Level 1)"},{"$f":"'Pivot Table Data'!J565","v":"UC Vehicle"},{"$f":"'Pivot Table Data'!K565","v":0},{"$f":"'Pivot Table Data'!L565","v":0},{"$f":"'Pivot Table Data'!S565","v":4},{"$f":"'Pivot Table Data'!T565","v":4},{"$f":"IF('Pivot Table Data'!O565=\"Yes\", 'Pivot Table Data'!T565, \"\")","v":""}]
[{"$f":"'Pivot Table Data'!B566","v":0},{"$f":"'Pivot Table Data'!F566","v":"Health Sciences West"},{"$f":"'Pivot Table Data'!P566","v":"South"},{"$f":"'Pivot Table Data'!I566","v":"Level 2"},{"$f":"'Pivot Table Data'!J566","v":"A"},{"$f":"'Pivot Table Data'!K566","v":0},{"$f":"'Pivot Table Data'!L566","v":0},{"$f":"'Pivot Table Data'!S566","v":240},{"$f":"'Pivot Table Data'!T566","v":""},{"$f":"IF('Pivot Table Data'!O566=\"Yes\", 'Pivot Table Data'!T566, \"\")","v":""}]
[{"$f":"'Pivot Table Data'!B567","v":0},{"$f":"'Pivot Table Data'!F567","v":"Health Sciences West"},{"$f":"'Pivot Table Data'!P567","v":"South"},{"$f":"'Pivot Table Data'!I567","v":"Level 2"},{"$f":"'Pivot Table Data'!J567","v":"Accessible"},{"$f":"'Pivot Table Data'!K567","v":0},{"$f":"'Pivot Table Data'!L567","v":0},{"$f":"'Pivot Table Data'!S567","v":5},{"$f":"'Pivot Table Data'!T567","v":""},{"$f":"IF('Pivot Table Data'!O567=\"Yes\", 'Pivot Table Data'!T567, \"\")","v":""}]
[{"$f":"'Pivot Table Data'!B568","v":0},{"$f":"'Pivot Table Data'!F568","v":"Health Sciences West"},{"$f":"'Pivot Table Data'!P568","v":"South"},{"$f":"'Pivot Table Data'!I568","v":"Level 2"},{"$f":"'Pivot Table Data'!J568","v":"Accessible (Van)"},{"$f":"'Pivot Table Data'!K568","v":0},{"$f":"'Pivot Table Data'!L568","v":0},{"$f":"'Pivot Table Data'!S568","v":0},{"$f":"'Pivot Table Data'!T568","v":""},{"$f":"IF('Pivot Table Data'!O568=\"Yes\", 'Pivot Table Data'!T568, \"\")","v":""}]
[{"$f":"'Pivot Table Data'!B569","v":0},{"$f":"'Pivot Table Data'!F569","v":"Health Sciences West"},{"$f":"'Pivot Table Data'!P569","v":"South"},{"$f":"'Pivot Table Data'!I569","v":"Level 2"},{"$f":"'Pivot Table Data'!J569","v":"B"},{"$f":"'Pivot Table Data'!K569","v":0},{"$f":"'Pivot Table Data'!L569","v":0},{"$f":"'Pivot Table Data'!S569","v":0},{"$f":"'Pivot Table Data'!T569","v":537},{"$f":"IF('Pivot Table Data'!O569=\"Yes\", 'Pivot Table Data'!T569, \"\")","v":537}]
[{"$f":"'Pivot Table Data'!B570","v":0},{"$f":"'Pivot Table Data'!F570","v":"Health Sciences West"},{"$f":"'Pivot Table Data'!P570","v":"South"},{"$f":"'Pivot Table Data'!I570","v":"Level 2"},{"$f":"'Pivot Table Data'!J570","v":"Carpool"},{"$f":"'Pivot Table Data'!K570","v":"2 Person Carpool"},{"$f":"'Pivot Table Data'!L570","v":0},{"$f":"'Pivot Table Data'!S570","v":0},{"$f":"'Pivot Table Data'!T570","v":61},{"$f":"IF('Pivot Table Data'!O570=\"Yes\", 'Pivot Table Data'!T570, \"\")","v":61}]
[{"$f":"'Pivot Table Data'!B571","v":0},{"$f":"'Pivot Table Data'!F571","v":"Health Sciences West"},{"$f":"'Pivot Table Data'!P571","v":"South"},{"$f":"'Pivot Table Data'!I571","v":"Level 2"},{"$f":"'Pivot Table Data'!J571","v":"Electric Vehicle"},{"$f":"'Pivot Table Data'!K571","v":0},{"$f":"'Pivot Table Data'!L571","v":0},{"$f":"'Pivot Table Data'!S571","v":8},{"$f":"'Pivot Table Data'!T571","v":""},{"$f":"IF('Pivot Table Data'!O571=\"Yes\", 'Pivot Table Data'!T571, \"\")","v":""}]
[{"$f":"'Pivot Table Data'!B572","v":0},{"$f":"'Pivot Table Data'!F572","v":"Health Sciences West"},{"$f":"'Pivot Table Data'!P572","v":"South"},{"$f":"'Pivot Table Data'!I572","v":"Level 2"},{"$f":"'Pivot Table Data'!J572","v":"Motorcycle Section"},{"$f":"'Pivot Table Data'!K572","v":0},{"$f":"'Pivot Table Data'!L572","v":0},{"$f":"'Pivot Table Data'!S572","v":3},{"$f":"'Pivot Table Data'!T572","v":""},{"$f":"IF('Pivot Table Data'!O572=\"Yes\", 'Pivot Table Data'!T572, \"\")","v":""}]
[{"$f":"'Pivot Table Data'!B573","v":0},{"$f":"'Pivot Table Data'!F573","v":"Health Sciences West"},{"$f":"'Pivot Table Data'!P573","v":"South"},{"$f":"'Pivot Table Data'!I573","v":"Level 2"},{"$f":"'Pivot Table Data'!J573","v":"S"},{"$f":"'Pivot Table Data'!K573","v":0},{"$f":"'Pivot Table Data'!L573","v":0},{"$f":"'Pivot Table Data'!S573","v":0},{"$f":"'Pivot Table Data'!T573","v":""},{"$f":"IF('Pivot Table Data'!O573=\"Yes\", 'Pivot Table Data'!T573, \"\")","v":""}]
[{"$f":"'Pivot Table Data'!B574","v":0},{"$f":"'Pivot Table Data'!F574","v":"Health Sciences West"},{"$f":"'Pivot Table Data'!P574","v":"South"},{"$f":"'Pivot Table Data'!I574","v":"Level 2"},{"$f":"'Pivot Table Data'!J574","v":"UC Vehicle"},{"$f":"'Pivot Table Data'!K574","v":"UC Cart"},{"$f":"'Pivot Table Data'!L574","v":0},{"$f":"'Pivot Table Data'!S574","v":2},{"$f":"'Pivot Table Data'!T574","v":""},{"$f":"IF('Pivot Table Data'!O574=\"Yes\", 'Pivot Table Data'!T574, \"\")","v":""}]
[{"$f":"'Pivot Table Data'!B575","v":0},{"$f":"'Pivot Table Data'!F575","v":"Health Sciences West"},{"$f":"'Pivot Table Data'!P575","v":"South"},{"$f":"'Pivot Table Data'!I575","v":"Level 3"},{"$f":"'Pivot Table Data'!J575","v":"A"},{"$f":"'Pivot Table Data'!K575","v":0},{"$f":"'Pivot Table Data'!L575","v":0},{"$f":"'Pivot Table Data'!S575","v":24},{"$f":"'Pivot Table Data'!T575","v":""},{"$f":"IF('Pivot Table Data'!O575=\"Yes\", 'Pivot Table Data'!T575, \"\")","v":""}]
[{"$f":"'Pivot Table Data'!B576","v":0},{"$f":"'Pivot Table Data'!F576","v":"Health Sciences West"},{"$f":"'Pivot Table Data'!P576","v":"South"},{"$f":"'Pivot Table Data'!I576","v":"Level 3"},{"$f":"'Pivot Table Data'!J576","v":"Accessible"},{"$f":"'Pivot Table Data'!K576","v":0},{"$f":"'Pivot Table Data'!L576","v":0},{"$f":"'Pivot Table Data'!S576","v":5},{"$f":"'Pivot Table Data'!T576","v":""},{"$f":"IF('Pivot Table Data'!O576=\"Yes\", 'Pivot Table Data'!T576, \"\")","v":""}]
[{"$f":"'Pivot Table Data'!B577","v":0},{"$f":"'Pivot Table Data'!F577","v":"Health Sciences West"},{"$f":"'Pivot Table Data'!P577","v":"South"},{"$f":"'Pivot Table Data'!I577","v":"Level 3"},{"$f":"'Pivot Table Data'!J577","v":"Accessible (Van)"},{"$f":"'Pivot Table Data'!K577","v":0},{"$f":"'Pivot Table Data'!L577","v":0},{"$f":"'Pivot Table Data'!S577","v":1},{"$f":"'Pivot Table Data'!T577","v":""},{"$f":"IF('Pivot Table Data'!O577=\"Yes\", 'Pivot Table Data'!T577, \"\")","v":""}]
[{"$f":"'Pivot Table Data'!B578","v":0},{"$f":"'Pivot Table Data'!F578","v":"Health Sciences West"},{"$f":"'Pivot Table Data'!P578","v":"South"},{"$f":"'Pivot Table Data'!I578","v":"Level 3"},{"$f":"'Pivot Table Data'!J578","v":"B"},{"$f":"'Pivot Table Data'!K578","v":0},{"$f":"'Pivot Table Data'!L578","v":0},{"$f":"'Pivot Table Data'!S578","v":92},{"$f":"'Pivot Table Data'!T578","v":""},{"$f":"IF('Pivot Table Data'!O578=\"Yes\", 'Pivot Table Data'!T578, \"\")","v":""}]
[{"$f":"'Pivot Table Data'!B579","v":0},{"$f":"'Pivot Table Data'!F579","v":"Health Sciences West"},{"$f":"'Pivot Table Data'!P579","v":"South"},{"$f":"'Pivot Table Data'!I579","v":"Level 3"},{"$f":"'Pivot Table Data'!J579","v":"Carpool"},{"$f":"'Pivot Table Data'!K579","v":"B 3-Person"},{"$f":"'Pivot Table Data'!L579","v":0},{"$f":"'Pivot Table Data'!S579","v":3},{"$f":"'Pivot Table Data'!T579","v":3},{"$f":"IF('Pivot Table Data'!O579=\"Yes\", 'Pivot Table Data'!T579, \"\")","v":3}]
[{"$f":"'Pivot Table Data'!B580","v":0},{"$f":"'Pivot Table Data'!F580","v":"Health Sciences West"},{"$f":"'Pivot Table Data'!P580","v":"South"},{"$f":"'Pivot Table Data'!I580","v":"Level 3"},{"$f":"'Pivot Table Data'!J580","v":"Electric Vehicle"},{"$f":"'Pivot Table Data'!K580","v":0},{"$f":"'Pivot Table Data'!L580","v":0},{"$f":"'Pivot Table Data'!S580","v":6},{"$f":"'Pivot Table Data'!T580","v":""},{"$f":"IF('Pivot Table Data'!O580=\"Yes\", 'Pivot Table Data'!T580, \"\")","v":""}]
[{"$f":"'Pivot Table Data'!B581","v":0},{"$f":"'Pivot Table Data'!F581","v":"Health Sciences West"},{"$f":"'Pivot Table Data'!P581","v":"South"},{"$f":"'Pivot Table Data'!I581","v":"Level 3"},{"$f":"'Pivot Table Data'!J581","v":"Motorcycle Section"},{"$f":"'Pivot Table Data'!K581","v":0},{"$f":"'Pivot Table Data'!L581","v":0},{"$f":"'Pivot Table Data'!S581","v":3},{"$f":"'Pivot Table Data'!T581","v":""},{"$f":"IF('Pivot Table Data'!O581=\"Yes\", 'Pivot Table Data'!T581, \"\")","v":""}]
[{"$f":"'Pivot Table Data'!B582","v":0},{"$f":"'Pivot Table Data'!F582","v":"Health Sciences West"},{"$f":"'Pivot Table Data'!P582","v":"South"},{"$f":"'Pivot Table Data'!I582","v":"Level 3"},{"$f":"'Pivot Table Data'!J582","v":"Reserved"},{"$f":"'Pivot Table Data'!K582","v":0},{"$f":"'Pivot Table Data'!L582","v":0},{"$f":"'Pivot Table Data'!S582","v":5},{"$f":"'Pivot Table Data'!T582","v":5},{"$f":"IF('Pivot Table Data'!O582=\"Yes\", 'Pivot Table Data'!T582, \"\")","v":""}]
[{"$f":"'Pivot Table Data'!B583","v":0},{"$f":"'Pivot Table Data'!F583","v":"Health Sciences West"},{"$f":"'Pivot Table Data'!P583","v":"South"},{"$f":"'Pivot Table Data'!I583","v":"Level 3"},{"$f":"'Pivot Table Data'!J583","v":"UC Vehicle"},{"$f":"'Pivot Table Data'!K583","v":"UC Cart"},{"$f":"'Pivot Table Data'!L583","v":0},{"$f":"'Pivot Table Data'!S583","v":2},{"$f":"'Pivot Table Data'!T583","v":""},{"$f":"IF('Pivot Table Data'!O583=\"Yes\", 'Pivot Table Data'!T583, \"\")","v":""}]
[{"$f":"'Pivot Table Data'!B584","v":0},{"$f":"'Pivot Table Data'!F584","v":"Health Sciences West"},{"$f":"'Pivot Table Data'!P584","v":"South"},{"$f":"'Pivot Table Data'!I584","v":"Level 3"},{"$f":"'Pivot Table Data'!J584","v":"Visitor"},{"$f":"'Pivot Table Data'!K584","v":0},{"$f":"'Pivot Table Data'!L584","v":0},{"$f":"'Pivot Table Data'!S584","v":113},{"$f":"'Pivot Table Data'!T584","v":113},{"$f":"IF('Pivot Table Data'!O584=\"Yes\", 'Pivot Table Data'!T584, \"\")","v":113}]
[{"$f":"'Pivot Table Data'!B585","v":0},{"$f":"'Pivot Table Data'!F585","v":"Health Sciences West"},{"$f":"'Pivot Table Data'!P585","v":"South"},{"$f":"'Pivot Table Data'!I585","v":"Level 4"},{"$f":"'Pivot Table Data'!J585","v":"A"},{"$f":"'Pivot Table Data'!K585","v":0},{"$f":"'Pivot Table Data'!L585","v":0},{"$f":"'Pivot Table Data'!S585","v":0},{"$f":"'Pivot Table Data'!T585","v":""},{"$f":"IF('Pivot Table Data'!O585=\"Yes\", 'Pivot Table Data'!T585, \"\")","v":""}]
[{"$f":"'Pivot Table Data'!B586","v":0},{"$f":"'Pivot Table Data'!F586","v":"Health Sciences West"},{"$f":"'Pivot Table Data'!P586","v":"South"},{"$f":"'Pivot Table Data'!I586","v":"Level 4"},{"$f":"'Pivot Table Data'!J586","v":"Accessible"},{"$f":"'Pivot Table Data'!K586","v":0},{"$f":"'Pivot Table Data'!L586","v":0},{"$f":"'Pivot Table Data'!S586","v":6},{"$f":"'Pivot Table Data'!T586","v":""},{"$f":"IF('Pivot Table Data'!O586=\"Yes\", 'Pivot Table Data'!T586, \"\")","v":""}]
[{"$f":"'Pivot Table Data'!B587","v":0},{"$f":"'Pivot Table Data'!F587","v":"Health Sciences West"},{"$f":"'Pivot Table Data'!P587","v":"South"},{"$f":"'Pivot Table Data'!I587","v":"Level 4"},{"$f":"'Pivot Table Data'!J587","v":"Accessible (Van)"},{"$f":"'Pivot Table Data'!K587","v":0},{"$f":"'Pivot Table Data'!L587","v":0},{"$f":"'Pivot Table Data'!S587","v":0},{"$f":"'Pivot Table Data'!T587","v":""},{"$f":"IF('Pivot Table Data'!O587=\"Yes\", 'Pivot Table Data'!T587, \"\")","v":""}]
[{"$f":"'Pivot Table Data'!B588","v":0},{"$f":"'Pivot Table Data'!F588","v":"Health Sciences West"},{"$f":"'Pivot Table Data'!P588","v":"South"},{"$f":"'Pivot Table Data'!I588","v":"Level 4"},{"$f":"'Pivot Table Data'!J588","v":"B"},{"$f":"'Pivot Table Data'!K588","v":0},{"$f":"'Pivot Table Data'!L588","v":0},{"$f":"'Pivot Table Data'!S588","v":183},{"$f":"'Pivot Table Data'!T588","v":""},{"$f":"IF('Pivot Table Data'!O588=\"Yes\", 'Pivot Table Data'!T588, \"\")","v":""}]
[{"$f":"'Pivot Table Data'!B589","v":0},{"$f":"'Pivot Table Data'!F589","v":"Health Sciences West"},{"$f":"'Pivot Table Data'!P589","v":"South"},{"$f":"'Pivot Table Data'!I589","v":"Level 4"},{"$f":"'Pivot Table Data'!J589","v":"Carpool"},{"$f":"'Pivot Table Data'!K589","v":"2 Person Carpool"},{"$f":"'Pivot Table Data'!L589","v":0},{"$f":"'Pivot Table Data'!S589","v":61},{"$f":"'Pivot Table Data'!T589","v":""},{"$f":"IF('Pivot Table Data'!O589=\"Yes\", 'Pivot Table Data'!T589, \"\")","v":""}]
[{"$f":"'Pivot Table Data'!B590","v":0},{"$f":"'Pivot Table Data'!F590","v":"Health Sciences West"},{"$f":"'Pivot Table Data'!P590","v":"South"},{"$f":"'Pivot Table Data'!I590","v":"Level 4"},{"$f":"'Pivot Table Data'!J590","v":"Electric Vehicle"},{"$f":"'Pivot Table Data'!K590","v":0},{"$f":"'Pivot Table Data'!L590","v":0},{"$f":"'Pivot Table Data'!S590","v":8},{"$f":"'Pivot Table Data'!T590","v":""},{"$f":"IF('Pivot Table Data'!O590=\"Yes\", 'Pivot Table Data'!T590, \"\")","v":""}]
[{"$f":"'Pivot Table Data'!B591","v":0},{"$f":"'Pivot Table Data'!F591","v":"Health Sciences West"},{"$f":"'Pivot Table Data'!P591","v":"South"},{"$f":"'Pivot Table Data'!I591","v":"Level 4"},{"$f":"'Pivot Table Data'!J591","v":"Motorcycle Section"},{"$f":"'Pivot Table Data'!K591","v":0},{"$f":"'Pivot Table Data'!L591","v":0},{"$f":"'Pivot Table Data'!S591","v":3},{"$f":"'Pivot Table Data'!T591","v":""},{"$f":"IF('Pivot Table Data'!O591=\"Yes\", 'Pivot Table Data'!T591, \"\")","v":""}]
[{"$f":"'Pivot Table Data'!B592","v":0},{"$f":"'Pivot Table Data'!F592","v":"Health Sciences West"},{"$f":"'Pivot Table Data'!P592","v":"South"},{"$f":"'Pivot Table Data'!I592","v":"Level 4"},{"$f":"'Pivot Table Data'!J592","v":"UC Vehicle"},{"$f":"'Pivot Table Data'!K592","v":"UC Cart"},{"$f":"'Pivot Table Data'!L592","v":0},{"$f":"'Pivot Table Data'!S592","v":1},{"$f":"'Pivot Table Data'!T592","v":""},{"$f":"IF('Pivot Table Data'!O592=\"Yes\", 'Pivot Table Data'!T592, \"\")","v":""}]
[{"$f":"'Pivot Table Data'!B593","v":0},{"$f":"'Pivot Table Data'!F593","v":"Health Sciences West"},{"$f":"'Pivot Table Data'!P593","v":"South"},{"$f":"'Pivot Table Data'!I593","v":"Level 5"},{"$f":"'Pivot Table Data'!J593","v":"Accessible"},{"$f":"'Pivot Table Data'!K593","v":0},{"$f":"'Pivot Table Data'!L593","v":0},{"$f":"'Pivot Table Data'!S593","v":5},{"$f":"'Pivot Table Data'!T593","v":""},{"$f":"IF('Pivot Table Data'!O593=\"Yes\", 'Pivot Table Data'!T593, \"\")","v":""}]
[{"$f":"'Pivot Table Data'!B594","v":0},{"$f":"'Pivot Table Data'!F594","v":"Health Sciences West"},{"$f":"'Pivot Table Data'!P594","v":"South"},{"$f":"'Pivot Table Data'!I594","v":"Level 5"},{"$f":"'Pivot Table Data'!J594","v":"Accessible (Van)"},{"$f":"'Pivot Table Data'!K594","v":0},{"$f":"'Pivot Table Data'!L594","v":0},{"$f":"'Pivot Table Data'!S594","v":0},{"$f":"'Pivot Table Data'!T594","v":""},{"$f":"IF('Pivot Table Data'!O594=\"Yes\", 'Pivot Table Data'!T594, \"\")","v":""}]
[{"$f":"'Pivot Table Data'!B595","v":0},{"$f":"'Pivot Table Data'!F595","v":"Health Sciences West"},{"$f":"'Pivot Table Data'!P595","v":"South"},{"$f":"'Pivot Table Data'!I595","v":"Level 5"},{"$f":"'Pivot Table Data'!J595","v":"B"},{"$f":"'Pivot Table Data'!K595","v":0},{"$f":"'Pivot Table Data'!L595","v":0},{"$f":"'Pivot Table Data'!S595","v":262},{"$f":"'Pivot Table Data'!T595","v":""},{"$f":"IF('Pivot Table Data'!O595=\"Yes\", 'Pivot Table Data'!T595, \"\")","v":""}]
[{"$f":"'Pivot Table Data'!B596","v":0},{"$f":"'Pivot Table Data'!F596","v":"Health Sciences West"},{"$f":"'Pivot Table Data'!P596","v":"South"},{"$f":"'Pivot Table Data'!I596","v":"Level 5"},{"$f":"'Pivot Table Data'!J596","v":"Motorcycle Section"},{"$f":"'Pivot Table Data'!K596","v":0},{"$f":"'Pivot Table Data'!L596","v":0},{"$f":"'Pivot Table Data'!S596","v":3},{"$f":"'Pivot Table Data'!T596","v":""},{"$f":"IF('Pivot Table Data'!O596=\"Yes\", 'Pivot Table Data'!T596, \"\")","v":""}]
[{"$f":"'Pivot Table Data'!B597","v":0},{"$f":"'Pivot Table Data'!F597","v":"Health Sciences West"},{"$f":"'Pivot Table Data'!P597","v":"South"},{"$f":"'Pivot Table Data'!I597","v":"Level 5"},{"$f":"'Pivot Table Data'!J597","v":"UC Vehicle"},{"$f":"'Pivot Table Data'!K597","v":"UC Cart"},{"$f":"'Pivot Table Data'!L597","v":0},{"$f":"'Pivot Table Data'!S597","v":1},{"$f":"'Pivot Table Data'!T597","v":""},{"$f":"IF('Pivot Table Data'!O597=\"Yes\", 'Pivot Table Data'!T597, \"\")","v":""}]
[{"$f":"'Pivot Table Data'!B598","v":0},{"$f":"'Pivot Table Data'!F598","v":"Revelle College "},{"$f":"'Pivot Table Data'!P598","v":"-"},{"$f":"'Pivot Table Data'!I598","v":"-"},{"$f":"'Pivot Table Data'!J598","v":"Loading"},{"$f":"'Pivot Table Data'!K598","v":"Curb"},{"$f":"'Pivot Table Data'!L598","v":30},{"$f":"'Pivot Table Data'!S598","v":10},{"$f":"'Pivot Table Data'!T598","v":10},{"$f":"IF('Pivot Table Data'!O598=\"Yes\", 'Pivot Table Data'!T598, \"\")","v":""}]
[{"$f":"'Pivot Table Data'!B599","v":0},{"$f":"'Pivot Table Data'!F599","v":"Revelle College "},{"$f":"'Pivot Table Data'!P599","v":"-"},{"$f":"'Pivot Table Data'!I599","v":"-"},{"$f":"'Pivot Table Data'!J599","v":"Reserved"},{"$f":"'Pivot Table Data'!K599","v":0},{"$f":"'Pivot Table Data'!L599","v":0},{"$f":"'Pivot Table Data'!S599","v":0},{"$f":"'Pivot Table Data'!T599","v":0},{"$f":"IF('Pivot Table Data'!O599=\"Yes\", 'Pivot Table Data'!T599, \"\")","v":""}]
[{"$f":"'Pivot Table Data'!B600","v":0},{"$f":"'Pivot Table Data'!F600","v":"Revelle College "},{"$f":"'Pivot Table Data'!P600","v":"P101"},{"$f":"'Pivot Table Data'!I600","v":"-"},{"$f":"'Pivot Table Data'!J600","v":"Accessible"},{"$f":"'Pivot Table Data'!K600","v":0},{"$f":"'Pivot Table Data'!L600","v":0},{"$f":"'Pivot Table Data'!S600","v":10},{"$f":"'Pivot Table Data'!T600","v":10},{"$f":"IF('Pivot Table Data'!O600=\"Yes\", 'Pivot Table Data'!T600, \"\")","v":""}]
[{"$f":"'Pivot Table Data'!B601","v":0},{"$f":"'Pivot Table Data'!F601","v":"Revelle College "},{"$f":"'Pivot Table Data'!P601","v":"P101"},{"$f":"'Pivot Table Data'!I601","v":"-"},{"$f":"'Pivot Table Data'!J601","v":"Accessible (Van)"},{"$f":"'Pivot Table Data'!K601","v":0},{"$f":"'Pivot Table Data'!L601","v":0},{"$f":"'Pivot Table Data'!S601","v":2},{"$f":"'Pivot Table Data'!T601","v":2},{"$f":"IF('Pivot Table Data'!O601=\"Yes\", 'Pivot Table Data'!T601, \"\")","v":""}]
[{"$f":"'Pivot Table Data'!B602","v":0},{"$f":"'Pivot Table Data'!F602","v":"Revelle College "},{"$f":"'Pivot Table Data'!P602","v":"P101"},{"$f":"'Pivot Table Data'!I602","v":"-"},{"$f":"'Pivot Table Data'!J602","v":"Reserved"},{"$f":"'Pivot Table Data'!K602","v":0},{"$f":"'Pivot Table Data'!L602","v":0},{"$f":"'Pivot Table Data'!S602","v":1},{"$f":"'Pivot Table Data'!T602","v":1},{"$f":"IF('Pivot Table Data'!O602=\"Yes\", 'Pivot Table Data'!T602, \"\")","v":""}]
[{"$f":"'Pivot Table Data'!B603","v":0},{"$f":"'Pivot Table Data'!F603","v":"Revelle College "},{"$f":"'Pivot Table Data'!P603","v":"P106"},{"$f":"'Pivot Table Data'!I603","v":"-"},{"$f":"'Pivot Table Data'!J603","v":"Accessible"},{"$f":"'Pivot Table Data'!K603","v":0},{"$f":"'Pivot Table Data'!L603","v":0},{"$f":"'Pivot Table Data'!S603","v":0},{"$f":"'Pivot Table Data'!T603","v":0},{"$f":"IF('Pivot Table Data'!O603=\"Yes\", 'Pivot Table Data'!T603, \"\")","v":""}]
[{"$f":"'Pivot Table Data'!B604","v":0},{"$f":"'Pivot Table Data'!F604","v":"Revelle College "},{"$f":"'Pivot Table Data'!P604","v":"P106"},{"$f":"'Pivot Table Data'!I604","v":"-"},{"$f":"'Pivot Table Data'!J604","v":"Accessible (Van)"},{"$f":"'Pivot Table Data'!K604","v":0},{"$f":"'Pivot Table Data'!L604","v":0},{"$f":"'Pivot Table Data'!S604","v":1},{"$f":"'Pivot Table Data'!T604","v":1},{"$f":"IF('Pivot Table Data'!O604=\"Yes\", 'Pivot Table Data'!T604, \"\")","v":""}]
[{"$f":"'Pivot Table Data'!B605","v":0},{"$f":"'Pivot Table Data'!F605","v":"Revelle College "},{"$f":"'Pivot Table Data'!P605","v":"P106"},{"$f":"'Pivot Table Data'!I605","v":"-"},{"$f":"'Pivot Table Data'!J605","v":"Motorcycle Section"},{"$f":"'Pivot Table Data'!K605","v":0},{"$f":"'Pivot Table Data'!L605","v":0},{"$f":"'Pivot Table Data'!S605","v":2},{"$f":"'Pivot Table Data'!T605","v":2},{"$f":"IF('Pivot Table Data'!O605=\"Yes\", 'Pivot Table Data'!T605, \"\")","v":""}]
[{"$f":"'Pivot Table Data'!B606","v":0},{"$f":"'Pivot Table Data'!F606","v":"Revelle College "},{"$f":"'Pivot Table Data'!P606","v":"P106"},{"$f":"'Pivot Table Data'!I606","v":"-"},{"$f":"'Pivot Table Data'!J606","v":"Reserved"},{"$f":"'Pivot Table Data'!K606","v":0},{"$f":"'Pivot Table Data'!L606","v":0},{"$f":"'Pivot Table Data'!S606","v":5},{"$f":"'Pivot Table Data'!T606","v":5},{"$f":"IF('Pivot Table Data'!O606=\"Yes\", 'Pivot Table Data'!T606, \"\")","v":""}]
[{"$f":"'Pivot Table Data'!B607","v":0},{"$f":"'Pivot Table Data'!F607","v":"Revelle College "},{"$f":"'Pivot Table Data'!P607","v":"P106"},{"$f":"'Pivot Table Data'!I607","v":"-"},{"$f":"'Pivot Table Data'!J607","v":"Visitor"},{"$f":"'Pivot Table Data'!K607","v":0},{"$f":"'Pivot Table Data'!L607","v":0},{"$f":"'Pivot Table Data'!S607","v":1},{"$f":"'Pivot Table Data'!T607","v":1},{"$f":"IF('Pivot Table Data'!O607=\"Yes\", 'Pivot Table Data'!T607, \"\")","v":1}]
[{"$f":"'Pivot Table Data'!B608","v":0},{"$f":"'Pivot Table Data'!F608","v":"Revelle College "},{"$f":"'Pivot Table Data'!P608","v":"P110"},{"$f":"'Pivot Table Data'!I608","v":"-"},{"$f":"'Pivot Table Data'!J608","v":"Service Yard"},{"$f":"'Pivot Table Data'!K608","v":0},{"$f":"'Pivot Table Data'!L608","v":0},{"$f":"'Pivot Table Data'!S608","v":5},{"$f":"'Pivot Table Data'!T608","v":5},{"$f":"IF('Pivot Table Data'!O608=\"Yes\", 'Pivot Table Data'!T608, \"\")","v":""}]
[{"$f":"'Pivot Table Data'!B609","v":0},{"$f":"'Pivot Table Data'!F609","v":"Revelle College "},{"$f":"'Pivot Table Data'!P609","v":"P112"},{"$f":"'Pivot Table Data'!I609","v":"-"},{"$f":"'Pivot Table Data'!J609","v":"Service Yard"},{"$f":"'Pivot Table Data'!K609","v":0},{"$f":"'Pivot Table Data'!L609","v":0},{"$f":"'Pivot Table Data'!S609","v":6},{"$f":"'Pivot Table Data'!T609","v":6},{"$f":"IF('Pivot Table Data'!O609=\"Yes\", 'Pivot Table Data'!T609, \"\")","v":""}]
[{"$f":"'Pivot Table Data'!B610","v":0},{"$f":"'Pivot Table Data'!F610","v":"Muir College"},{"$f":"'Pivot Table Data'!P610","v":"P113"},{"$f":"'Pivot Table Data'!I610","v":"-"},{"$f":"'Pivot Table Data'!J610","v":"Accessible"},{"$f":"'Pivot Table Data'!K610","v":0},{"$f":"'Pivot Table Data'!L610","v":0},{"$f":"'Pivot Table Data'!S610","v":0},{"$f":"'Pivot Table Data'!T610","v":0},{"$f":"IF('Pivot Table Data'!O610=\"Yes\", 'Pivot Table Data'!T610, \"\")","v":""}]
[{"$f":"'Pivot Table Data'!B611","v":0},{"$f":"'Pivot Table Data'!F611","v":"Muir College"},{"$f":"'Pivot Table Data'!P611","v":"P113"},{"$f":"'Pivot Table Data'!I611","v":"-"},{"$f":"'Pivot Table Data'!J611","v":"Accessible (Van)"},{"$f":"'Pivot Table Data'!K611","v":0},{"$f":"'Pivot Table Data'!L611","v":0},{"$f":"'Pivot Table Data'!S611","v":2},{"$f":"'Pivot Table Data'!T611","v":2},{"$f":"IF('Pivot Table Data'!O611=\"Yes\", 'Pivot Table Data'!T611, \"\")","v":""}]
[{"$f":"'Pivot Table Data'!B612","v":0},{"$f":"'Pivot Table Data'!F612","v":"Muir College"},{"$f":"'Pivot Table Data'!P612","v":"P113"},{"$f":"'Pivot Table Data'!I612","v":"-"},{"$f":"'Pivot Table Data'!J612","v":"Loading"},{"$f":"'Pivot Table Data'!K612","v":0},{"$f":"'Pivot Table Data'!L612","v":0},{"$f":"'Pivot Table Data'!S612","v":1},{"$f":"'Pivot Table Data'!T612","v":1},{"$f":"IF('Pivot Table Data'!O612=\"Yes\", 'Pivot Table Data'!T612, \"\")","v":""}]
[{"$f":"'Pivot Table Data'!B613","v":0},{"$f":"'Pivot Table Data'!F613","v":"Muir College"},{"$f":"'Pivot Table Data'!P613","v":"P113"},{"$f":"'Pivot Table Data'!I613","v":"-"},{"$f":"'Pivot Table Data'!J613","v":"Motorcycle Section"},{"$f":"'Pivot Table Data'!K613","v":0},{"$f":"'Pivot Table Data'!L613","v":0},{"$f":"'Pivot Table Data'!S613","v":1},{"$f":"'Pivot Table Data'!T613","v":1},{"$f":"IF('Pivot Table Data'!O613=\"Yes\", 'Pivot Table Data'!T613, \"\")","v":""}]
[{"$f":"'Pivot Table Data'!B614","v":0},{"$f":"'Pivot Table Data'!F614","v":"Muir College"},{"$f":"'Pivot Table Data'!P614","v":"P113"},{"$f":"'Pivot Table Data'!I614","v":"-"},{"$f":"'Pivot Table Data'!J614","v":"Reserved"},{"$f":"'Pivot Table Data'!K614","v":"Food Pick-Up"},{"$f":"'Pivot Table Data'!L614","v":"15 min"},{"$f":"'Pivot Table Data'!S614","v":3},{"$f":"'Pivot Table Data'!T614","v":3},{"$f":"IF('Pivot Table Data'!O614=\"Yes\", 'Pivot Table Data'!T614, \"\")","v":""}]
[{"$f":"'Pivot Table Data'!B615","v":0},{"$f":"'Pivot Table Data'!F615","v":"Muir College"},{"$f":"'Pivot Table Data'!P615","v":"P113"},{"$f":"'Pivot Table Data'!I615","v":"-"},{"$f":"'Pivot Table Data'!J615","v":"Reserved"},{"$f":"'Pivot Table Data'!K615","v":0},{"$f":"'Pivot Table Data'!L615","v":0},{"$f":"'Pivot Table Data'!S615","v":1},{"$f":"'Pivot Table Data'!T615","v":1},{"$f":"IF('Pivot Table Data'!O615=\"Yes\", 'Pivot Table Data'!T615, \"\")","v":""}]
[{"$f":"'Pivot Table Data'!B616","v":0},{"$f":"'Pivot Table Data'!F616","v":"Muir College"},{"$f":"'Pivot Table Data'!P616","v":"P113"},{"$f":"'Pivot Table Data'!I616","v":"-"},{"$f":"'Pivot Table Data'!J616","v":"Visitor"},{"$f":"'Pivot Table Data'!K616","v":0},{"$f":"'Pivot Table Data'!L616","v":"2 hours"},{"$f":"'Pivot Table Data'!S616","v":22},{"$f":"'Pivot Table Data'!T616","v":22},{"$f":"IF('Pivot Table Data'!O616=\"Yes\", 'Pivot Table Data'!T616, \"\")","v":22}]
[{"$f":"'Pivot Table Data'!B617","v":0},{"$f":"'Pivot Table Data'!F617","v":"Revelle College "},{"$f":"'Pivot Table Data'!P617","v":"P116"},{"$f":"'Pivot Table Data'!I617","v":"-"},{"$f":"'Pivot Table Data'!J617","v":"Allocated"},{"$f":"'Pivot Table Data'!K617","v":"Catering Vehicle"},{"$f":"'Pivot Table Data'!L617","v":0},{"$f":"'Pivot Table Data'!S617","v":5},{"$f":"'Pivot Table Data'!T617","v":5},{"$f":"IF('Pivot Table Data'!O617=\"Yes\", 'Pivot Table Data'!T617, \"\")","v":""}]
[{"$f":"'Pivot Table Data'!B618","v":0},{"$f":"'Pivot Table Data'!F618","v":"Revelle College "},{"$f":"'Pivot Table Data'!P618","v":"P116"},{"$f":"'Pivot Table Data'!I618","v":"-"},{"$f":"'Pivot Table Data'!J618","v":"Allocated"},{"$f":"'Pivot Table Data'!K618","v":"Housing, Dining, and Hospitality Vehicle"},{"$f":"'Pivot Table Data'!L618","v":0},{"$f":"'Pivot Table Data'!S618","v":5},{"$f":"'Pivot Table Data'!T618","v":5},{"$f":"IF('Pivot Table Data'!O618=\"Yes\", 'Pivot Table Data'!T618, \"\")","v":""}]
[{"$f":"'Pivot Table Data'!B619","v":0},{"$f":"'Pivot Table Data'!F619","v":"Revelle College "},{"$f":"'Pivot Table Data'!P619","v":"P116"},{"$f":"'Pivot Table Data'!I619","v":"-"},{"$f":"'Pivot Table Data'!J619","v":"Allocated"},{"$f":"'Pivot Table Data'!K619","v":"UC Vehicle #0796"},{"$f":"'Pivot Table Data'!L619","v":0},{"$f":"'Pivot Table Data'!S619","v":1},{"$f":"'Pivot Table Data'!T619","v":1},{"$f":"IF('Pivot Table Data'!O619=\"Yes\", 'Pivot Table Data'!T619, \"\")","v":""}]
[{"$f":"'Pivot Table Data'!B620","v":0},{"$f":"'Pivot Table Data'!F620","v":"Revelle College "},{"$f":"'Pivot Table Data'!P620","v":"P116"},{"$f":"'Pivot Table Data'!I620","v":"-"},{"$f":"'Pivot Table Data'!J620","v":"UC Vehicle"},{"$f":"'Pivot Table Data'!K620","v":"Electric Vehicle"},{"$f":"'Pivot Table Data'!L620","v":"4-Hour"},{"$f":"'Pivot Table Data'!S620","v":2},{"$f":"'Pivot Table Data'!T620","v":2},{"$f":"IF('Pivot Table Data'!O620=\"Yes\", 'Pivot Table Data'!T620, \"\")","v":""}]
[{"$f":"'Pivot Table Data'!B621","v":0},{"$f":"'Pivot Table Data'!F621","v":"Muir College"},{"$f":"'Pivot Table Data'!P621","v":"P201"},{"$f":"'Pivot Table Data'!I621","v":"-"},{"$f":"'Pivot Table Data'!J621","v":"A"},{"$f":"'Pivot Table Data'!K621","v":0},{"$f":"'Pivot Table Data'!L621","v":0},{"$f":"'Pivot Table Data'!S621","v":11},{"$f":"'Pivot Table Data'!T621","v":11},{"$f":"IF('Pivot Table Data'!O621=\"Yes\", 'Pivot Table Data'!T621, \"\")","v":11}]
[{"$f":"'Pivot Table Data'!B622","v":0},{"$f":"'Pivot Table Data'!F622","v":"Muir College"},{"$f":"'Pivot Table Data'!P622","v":"P201"},{"$f":"'Pivot Table Data'!I622","v":"-"},{"$f":"'Pivot Table Data'!J622","v":"Accessible"},{"$f":"'Pivot Table Data'!K622","v":0},{"$f":"'Pivot Table Data'!L622","v":0},{"$f":"'Pivot Table Data'!S622","v":2},{"$f":"'Pivot Table Data'!T622","v":2},{"$f":"IF('Pivot Table Data'!O622=\"Yes\", 'Pivot Table Data'!T622, \"\")","v":""}]
[{"$f":"'Pivot Table Data'!B623","v":0},{"$f":"'Pivot Table Data'!F623","v":"Muir College"},{"$f":"'Pivot Table Data'!P623","v":"P201"},{"$f":"'Pivot Table Data'!I623","v":"-"},{"$f":"'Pivot Table Data'!J623","v":"Accessible (Van)"},{"$f":"'Pivot Table Data'!K623","v":0},{"$f":"'Pivot Table Data'!L623","v":0},{"$f":"'Pivot Table Data'!S623","v":1},{"$f":"'Pivot Table Data'!T623","v":1},{"$f":"IF('Pivot Table Data'!O623=\"Yes\", 'Pivot Table Data'!T623, \"\")","v":""}]
[{"$f":"'Pivot Table Data'!B624","v":0},{"$f":"'Pivot Table Data'!F624","v":"Muir College"},{"$f":"'Pivot Table Data'!P624","v":"P201"},{"$f":"'Pivot Table Data'!I624","v":"-"},{"$f":"'Pivot Table Data'!J624","v":"Loading"},{"$f":"'Pivot Table Data'!K624","v":"Space"},{"$f":"'Pivot Table Data'!L624","v":15},{"$f":"'Pivot Table Data'!S624","v":8},{"$f":"'Pivot Table Data'!T624","v":8},{"$f":"IF('Pivot Table Data'!O624=\"Yes\", 'Pivot Table Data'!T624, \"\")","v":""}]
[{"$f":"'Pivot Table Data'!B625","v":0},{"$f":"'Pivot Table Data'!F625","v":"Muir College"},{"$f":"'Pivot Table Data'!P625","v":"P201"},{"$f":"'Pivot Table Data'!I625","v":"-"},{"$f":"'Pivot Table Data'!J625","v":"Motorcycle Section"},{"$f":"'Pivot Table Data'!K625","v":0},{"$f":"'Pivot Table Data'!L625","v":0},{"$f":"'Pivot Table Data'!S625","v":3},{"$f":"'Pivot Table Data'!T625","v":3},{"$f":"IF('Pivot Table Data'!O625=\"Yes\", 'Pivot Table Data'!T625, \"\")","v":""}]
[{"$f":"'Pivot Table Data'!B626","v":0},{"$f":"'Pivot Table Data'!F626","v":"Muir College"},{"$f":"'Pivot Table Data'!P626","v":"P202"},{"$f":"'Pivot Table Data'!I626","v":"-"},{"$f":"'Pivot Table Data'!J626","v":"Accessible"},{"$f":"'Pivot Table Data'!K626","v":0},{"$f":"'Pivot Table Data'!L626","v":0},{"$f":"'Pivot Table Data'!S626","v":0},{"$f":"'Pivot Table Data'!T626","v":0},{"$f":"IF('Pivot Table Data'!O626=\"Yes\", 'Pivot Table Data'!T626, \"\")","v":""}]
[{"$f":"'Pivot Table Data'!B627","v":0},{"$f":"'Pivot Table Data'!F627","v":"Muir College"},{"$f":"'Pivot Table Data'!P627","v":"P202"},{"$f":"'Pivot Table Data'!I627","v":"-"},{"$f":"'Pivot Table Data'!J627","v":"Accessible (Van)"},{"$f":"'Pivot Table Data'!K627","v":0},{"$f":"'Pivot Table Data'!L627","v":0},{"$f":"'Pivot Table Data'!S627","v":2},{"$f":"'Pivot Table Data'!T627","v":2},{"$f":"IF('Pivot Table Data'!O627=\"Yes\", 'Pivot Table Data'!T627, \"\")","v":""}]
[{"$f":"'Pivot Table Data'!B628","v":0},{"$f":"'Pivot Table Data'!F628","v":"Muir College"},{"$f":"'Pivot Table Data'!P628","v":"P202"},{"$f":"'Pivot Table Data'!I628","v":"-"},{"$f":"'Pivot Table Data'!J628","v":"Loading"},{"$f":"'Pivot Table Data'!K628","v":"Space"},{"$f":"'Pivot Table Data'!L628","v":20},{"$f":"'Pivot Table Data'!S628","v":4},{"$f":"'Pivot Table Data'!T628","v":4},{"$f":"IF('Pivot Table Data'!O628=\"Yes\", 'Pivot Table Data'!T628, \"\")","v":""}]
[{"$f":"'Pivot Table Data'!B629","v":0},{"$f":"'Pivot Table Data'!F629","v":"Muir College"},{"$f":"'Pivot Table Data'!P629","v":"P202"},{"$f":"'Pivot Table Data'!I629","v":"-"},{"$f":"'Pivot Table Data'!J629","v":"Reserved"},{"$f":"'Pivot Table Data'!K629","v":0},{"$f":"'Pivot Table Data'!L629","v":0},{"$f":"'Pivot Table Data'!S629","v":1},{"$f":"'Pivot Table Data'!T629","v":1},{"$f":"IF('Pivot Table Data'!O629=\"Yes\", 'Pivot Table Data'!T629, \"\")","v":""}]
[{"$f":"'Pivot Table Data'!B630","v":0},{"$f":"'Pivot Table Data'!F630","v":"Muir College"},{"$f":"'Pivot Table Data'!P630","v":"P202"},{"$f":"'Pivot Table Data'!I630","v":"-"},{"$f":"'Pivot Table Data'!J630","v":"Service Yard"},{"$f":"'Pivot Table Data'!K630","v":0},{"$f":"'Pivot Table Data'!L630","v":0},{"$f":"'Pivot Table Data'!S630","v":2},{"$f":"'Pivot Table Data'!T630","v":2},{"$f":"IF('Pivot Table Data'!O630=\"Yes\", 'Pivot Table Data'!T630, \"\")","v":""}]
[{"$f":"'Pivot Table Data'!B631","v":0},{"$f":"'Pivot Table Data'!F631","v":"Muir College"},{"$f":"'Pivot Table Data'!P631","v":"P203"},{"$f":"'Pivot Table Data'!I631","v":"-"},{"$f":"'Pivot Table Data'!J631","v":"Reserved"},{"$f":"'Pivot Table Data'!K631","v":0},{"$f":"'Pivot Table Data'!L631","v":0},{"$f":"'Pivot Table Data'!S631","v":6},{"$f":"'Pivot Table Data'!T631","v":6},{"$f":"IF('Pivot Table Data'!O631=\"Yes\", 'Pivot Table Data'!T631, \"\")","v":""}]
[{"$f":"'Pivot Table Data'!B632","v":0},{"$f":"'Pivot Table Data'!F632","v":"Muir College"},{"$f":"'Pivot Table Data'!P632","v":"P204"},{"$f":"'Pivot Table Data'!I632","v":"-"},{"$f":"'Pivot Table Data'!J632","v":"Allocated"},{"$f":"'Pivot Table Data'!K632","v":"Housing/Dining Maintenance Vehicle"},{"$f":"'Pivot Table Data'!L632","v":0},{"$f":"'Pivot Table Data'!S632","v":2},{"$f":"'Pivot Table Data'!T632","v":2},{"$f":"IF('Pivot Table Data'!O632=\"Yes\", 'Pivot Table Data'!T632, \"\")","v":""}]
[{"$f":"'Pivot Table Data'!B633","v":0},{"$f":"'Pivot Table Data'!F633","v":"Muir College"},{"$f":"'Pivot Table Data'!P633","v":"P205"},{"$f":"'Pivot Table Data'!I633","v":"-"},{"$f":"'Pivot Table Data'!J633","v":"Service Yard"},{"$f":"'Pivot Table Data'!K633","v":0},{"$f":"'Pivot Table Data'!L633","v":0},{"$f":"'Pivot Table Data'!S633","v":4},{"$f":"'Pivot Table Data'!T633","v":4},{"$f":"IF('Pivot Table Data'!O633=\"Yes\", 'Pivot Table Data'!T633, \"\")","v":""}]
[{"$f":"'Pivot Table Data'!B634","v":0},{"$f":"'Pivot Table Data'!F634","v":"Muir College"},{"$f":"'Pivot Table Data'!P634","v":"P206"},{"$f":"'Pivot Table Data'!I634","v":"-"},{"$f":"'Pivot Table Data'!J634","v":"A"},{"$f":"'Pivot Table Data'!K634","v":0},{"$f":"'Pivot Table Data'!L634","v":"2 Hour"},{"$f":"'Pivot Table Data'!S634","v":32},{"$f":"'Pivot Table Data'!T634","v":32},{"$f":"IF('Pivot Table Data'!O634=\"Yes\", 'Pivot Table Data'!T634, \"\")","v":32}]
[{"$f":"'Pivot Table Data'!B635","v":0},{"$f":"'Pivot Table Data'!F635","v":"Muir College"},{"$f":"'Pivot Table Data'!P635","v":"P206"},{"$f":"'Pivot Table Data'!I635","v":"-"},{"$f":"'Pivot Table Data'!J635","v":"Accessible"},{"$f":"'Pivot Table Data'!K635","v":0},{"$f":"'Pivot Table Data'!L635","v":0},{"$f":"'Pivot Table Data'!S635","v":4},{"$f":"'Pivot Table Data'!T635","v":4},{"$f":"IF('Pivot Table Data'!O635=\"Yes\", 'Pivot Table Data'!T635, \"\")","v":""}]
[{"$f":"'Pivot Table Data'!B636","v":0},{"$f":"'Pivot Table Data'!F636","v":"Muir College"},{"$f":"'Pivot Table Data'!P636","v":"P206"},{"$f":"'Pivot Table Data'!I636","v":"-"},{"$f":"'Pivot Table Data'!J636","v":"Accessible (Van)"},{"$f":"'Pivot Table Data'!K636","v":0},{"$f":"'Pivot Table Data'!L636","v":0},{"$f":"'Pivot Table Data'!S636","v":2},{"$f":"'Pivot Table Data'!T636","v":2},{"$f":"IF('Pivot Table Data'!O636=\"Yes\", 'Pivot Table Data'!T636, \"\")","v":""}]
[{"$f":"'Pivot Table Data'!B637","v":0},{"$f":"'Pivot Table Data'!F637","v":"Muir College"},{"$f":"'Pivot Table Data'!P637","v":"P206"},{"$f":"'Pivot Table Data'!I637","v":"-"},{"$f":"'Pivot Table Data'!J637","v":"B"},{"$f":"'Pivot Table Data'!K637","v":0},{"$f":"'Pivot Table Data'!L637","v":"2 Hour"},{"$f":"'Pivot Table Data'!S637","v":0},{"$f":"'Pivot Table Data'!T637","v":0},{"$f":"IF('Pivot Table Data'!O637=\"Yes\", 'Pivot Table Data'!T637, \"\")","v":0}]
[{"$f":"'Pivot Table Data'!B638","v":0},{"$f":"'Pivot Table Data'!F638","v":"Muir College"},{"$f":"'Pivot Table Data'!P638","v":"P206"},{"$f":"'Pivot Table Data'!I638","v":"-"},{"$f":"'Pivot Table Data'!J638","v":"Commercial Loading"},{"$f":"'Pivot Table Data'!K638","v":0},{"$f":"'Pivot Table Data'!L638","v":0},{"$f":"'Pivot Table Data'!S638","v":4},{"$f":"'Pivot Table Data'!T638","v":4},{"$f":"IF('Pivot Table Data'!O638=\"Yes\", 'Pivot Table Data'!T638, \"\")","v":""}]
[{"$f":"'Pivot Table Data'!B639","v":0},{"$f":"'Pivot Table Data'!F639","v":"Muir College"},{"$f":"'Pivot Table Data'!P639","v":"P206"},{"$f":"'Pivot Table Data'!I639","v":"-"},{"$f":"'Pivot Table Data'!J639","v":"Electric Vehicle"},{"$f":"'Pivot Table Data'!K639","v":0},{"$f":"'Pivot Table Data'!L639","v":"4-Hour"},{"$f":"'Pivot Table Data'!S639","v":2},{"$f":"'Pivot Table Data'!T639","v":2},{"$f":"IF('Pivot Table Data'!O639=\"Yes\", 'Pivot Table Data'!T639, \"\")","v":""}]
[{"$f":"'Pivot Table Data'!B640","v":0},{"$f":"'Pivot Table Data'!F640","v":"Muir College"},{"$f":"'Pivot Table Data'!P640","v":"P206"},{"$f":"'Pivot Table Data'!I640","v":"-"},{"$f":"'Pivot Table Data'!J640","v":"Loading Zone"},{"$f":"'Pivot Table Data'!K640","v":0},{"$f":"'Pivot Table Data'!L640","v":"5 Min"},{"$f":"'Pivot Table Data'!S640","v":1},{"$f":"'Pivot Table Data'!T640","v":1},{"$f":"IF('Pivot Table Data'!O640=\"Yes\", 'Pivot Table Data'!T640, \"\")","v":""}]
[{"$f":"'Pivot Table Data'!B641","v":0},{"$f":"'Pivot Table Data'!F641","v":"Muir College"},{"$f":"'Pivot Table Data'!P641","v":"P206"},{"$f":"'Pivot Table Data'!I641","v":"-"},{"$f":"'Pivot Table Data'!J641","v":"UC Vehicle"},{"$f":"'Pivot Table Data'!K641","v":0},{"$f":"'Pivot Table Data'!L641","v":0},{"$f":"'Pivot Table Data'!S641","v":4},{"$f":"'Pivot Table Data'!T641","v":4},{"$f":"IF('Pivot Table Data'!O641=\"Yes\", 'Pivot Table Data'!T641, \"\")","v":""}]
[{"$f":"'Pivot Table Data'!B642","v":0},{"$f":"'Pivot Table Data'!F642","v":"Muir College"},{"$f":"'Pivot Table Data'!P642","v":"P206"},{"$f":"'Pivot Table Data'!I642","v":"-"},{"$f":"'Pivot Table Data'!J642","v":"Visitor"},{"$f":"'Pivot Table Data'!K642","v":0},{"$f":"'Pivot Table Data'!L642","v":"2 Hour"},{"$f":"'Pivot Table Data'!S642","v":5},{"$f":"'Pivot Table Data'!T642","v":5},{"$f":"IF('Pivot Table Data'!O642=\"Yes\", 'Pivot Table Data'!T642, \"\")","v":5}]
[{"$f":"'Pivot Table Data'!B643","v":0},{"$f":"'Pivot Table Data'!F643","v":"Marshall College"},{"$f":"'Pivot Table Data'!P643","v":"P303"},{"$f":"'Pivot Table Data'!I643","v":"-"},{"$f":"'Pivot Table Data'!J643","v":"A"},{"$f":"'Pivot Table Data'!K643","v":0},{"$f":"'Pivot Table Data'!L643","v":0},{"$f":"'Pivot Table Data'!S643","v":88},{"$f":"'Pivot Table Data'!T643","v":88},{"$f":"IF('Pivot Table Data'!O643=\"Yes\", 'Pivot Table Data'!T643, \"\")","v":88}]
[{"$f":"'Pivot Table Data'!B644","v":0},{"$f":"'Pivot Table Data'!F644","v":"Marshall College"},{"$f":"'Pivot Table Data'!P644","v":"P303"},{"$f":"'Pivot Table Data'!I644","v":"-"},{"$f":"'Pivot Table Data'!J644","v":"Accessible"},{"$f":"'Pivot Table Data'!K644","v":0},{"$f":"'Pivot Table Data'!L644","v":0},{"$f":"'Pivot Table Data'!S644","v":5},{"$f":"'Pivot Table Data'!T644","v":5},{"$f":"IF('Pivot Table Data'!O644=\"Yes\", 'Pivot Table Data'!T644, \"\")","v":""}]
[{"$f":"'Pivot Table Data'!B645","v":0},{"$f":"'Pivot Table Data'!F645","v":"Marshall College"},{"$f":"'Pivot Table Data'!P645","v":"P303"},{"$f":"'Pivot Table Data'!I645","v":"-"},{"$f":"'Pivot Table Data'!J645","v":"Accessible (Van)"},{"$f":"'Pivot Table Data'!K645","v":0},{"$f":"'Pivot Table Data'!L645","v":0},{"$f":"'Pivot Table Data'!S645","v":1},{"$f":"'Pivot Table Data'!T645","v":1},{"$f":"IF('Pivot Table Data'!O645=\"Yes\", 'Pivot Table Data'!T645, \"\")","v":""}]
[{"$f":"'Pivot Table Data'!B646","v":0},{"$f":"'Pivot Table Data'!F646","v":"Marshall College"},{"$f":"'Pivot Table Data'!P646","v":"P303"},{"$f":"'Pivot Table Data'!I646","v":"-"},{"$f":"'Pivot Table Data'!J646","v":"Loading"},{"$f":"'Pivot Table Data'!K646","v":0},{"$f":"'Pivot Table Data'!L646","v":"20 minutes"},{"$f":"'Pivot Table Data'!S646","v":2},{"$f":"'Pivot Table Data'!T646","v":2},{"$f":"IF('Pivot Table Data'!O646=\"Yes\", 'Pivot Table Data'!T646, \"\")","v":""}]
[{"$f":"'Pivot Table Data'!B647","v":0},{"$f":"'Pivot Table Data'!F647","v":"Marshall College"},{"$f":"'Pivot Table Data'!P647","v":"P303"},{"$f":"'Pivot Table Data'!I647","v":"-"},{"$f":"'Pivot Table Data'!J647","v":"Reserved"},{"$f":"'Pivot Table Data'!K647","v":0},{"$f":"'Pivot Table Data'!L647","v":0},{"$f":"'Pivot Table Data'!S647","v":5},{"$f":"'Pivot Table Data'!T647","v":5},{"$f":"IF('Pivot Table Data'!O647=\"Yes\", 'Pivot Table Data'!T647, \"\")","v":""}]
[{"$f":"'Pivot Table Data'!B648","v":0},{"$f":"'Pivot Table Data'!F648","v":"Marshall College"},{"$f":"'Pivot Table Data'!P648","v":"P303"},{"$f":"'Pivot Table Data'!I648","v":"-"},{"$f":"'Pivot Table Data'!J648","v":"Service Yard"},{"$f":"'Pivot Table Data'!K648","v":0},{"$f":"'Pivot Table Data'!L648","v":0},{"$f":"'Pivot Table Data'!S648","v":2},{"$f":"'Pivot Table Data'!T648","v":2},{"$f":"IF('Pivot Table Data'!O648=\"Yes\", 'Pivot Table Data'!T648, \"\")","v":""}]
[{"$f":"'Pivot Table Data'!B649","v":0},{"$f":"'Pivot Table Data'!F649","v":"Marshall College"},{"$f":"'Pivot Table Data'!P649","v":"P303"},{"$f":"'Pivot Table Data'!I649","v":"-"},{"$f":"'Pivot Table Data'!J649","v":"Visitor"},{"$f":"'Pivot Table Data'!K649","v":"5 Minute"},{"$f":"'Pivot Table Data'!L649","v":"5 minutes"},{"$f":"'Pivot Table Data'!S649","v":2},{"$f":"'Pivot Table Data'!T649","v":2},{"$f":"IF('Pivot Table Data'!O649=\"Yes\", 'Pivot Table Data'!T649, \"\")","v":2}]
[{"$f":"'Pivot Table Data'!B650","v":0},{"$f":"'Pivot Table Data'!F650","v":"Marshall College"},{"$f":"'Pivot Table Data'!P650","v":"P303"},{"$f":"'Pivot Table Data'!I650","v":"-"},{"$f":"'Pivot Table Data'!J650","v":"Visitor"},{"$f":"'Pivot Table Data'!K650","v":0},{"$f":"'Pivot Table Data'!L650","v":0},{"$f":"'Pivot Table Data'!S650","v":28},{"$f":"'Pivot Table Data'!T650","v":28},{"$f":"IF('Pivot Table Data'!O650=\"Yes\", 'Pivot Table Data'!T650, \"\")","v":28}]
[{"$f":"'Pivot Table Data'!B651","v":0},{"$f":"'Pivot Table Data'!F651","v":"Marshall College"},{"$f":"'Pivot Table Data'!P651","v":"P304"},{"$f":"'Pivot Table Data'!I651","v":"-"},{"$f":"'Pivot Table Data'!J651","v":"Accessible"},{"$f":"'Pivot Table Data'!K651","v":0},{"$f":"'Pivot Table Data'!L651","v":0},{"$f":"'Pivot Table Data'!S651","v":1},{"$f":"'Pivot Table Data'!T651","v":1},{"$f":"IF('Pivot Table Data'!O651=\"Yes\", 'Pivot Table Data'!T651, \"\")","v":""}]
[{"$f":"'Pivot Table Data'!B652","v":0},{"$f":"'Pivot Table Data'!F652","v":"Marshall College"},{"$f":"'Pivot Table Data'!P652","v":"P304"},{"$f":"'Pivot Table Data'!I652","v":"-"},{"$f":"'Pivot Table Data'!J652","v":"Accessible (Van)"},{"$f":"'Pivot Table Data'!K652","v":0},{"$f":"'Pivot Table Data'!L652","v":0},{"$f":"'Pivot Table Data'!S652","v":1},{"$f":"'Pivot Table Data'!T652","v":1},{"$f":"IF('Pivot Table Data'!O652=\"Yes\", 'Pivot Table Data'!T652, \"\")","v":""}]
[{"$f":"'Pivot Table Data'!B653","v":0},{"$f":"'Pivot Table Data'!F653","v":"Marshall College"},{"$f":"'Pivot Table Data'!P653","v":"P304"},{"$f":"'Pivot Table Data'!I653","v":"-"},{"$f":"'Pivot Table Data'!J653","v":"B"},{"$f":"'Pivot Table Data'!K653","v":0},{"$f":"'Pivot Table Data'!L653","v":0},{"$f":"'Pivot Table Data'!S653","v":0},{"$f":"'Pivot Table Data'!T653","v":0},{"$f":"IF('Pivot Table Data'!O653=\"Yes\", 'Pivot Table Data'!T653, \"\")","v":0}]
[{"$f":"'Pivot Table Data'!B654","v":0},{"$f":"'Pivot Table Data'!F654","v":"Marshall College"},{"$f":"'Pivot Table Data'!P654","v":"P304"},{"$f":"'Pivot Table Data'!I654","v":"-"},{"$f":"'Pivot Table Data'!J654","v":"Loading"},{"$f":"'Pivot Table Data'!K654","v":0},{"$f":"'Pivot Table Data'!L654","v":"20 minutes"},{"$f":"'Pivot Table Data'!S654","v":2},{"$f":"'Pivot Table Data'!T654","v":2},{"$f":"IF('Pivot Table Data'!O654=\"Yes\", 'Pivot Table Data'!T654, \"\")","v":""}]
[{"$f":"'Pivot Table Data'!B655","v":0},{"$f":"'Pivot Table Data'!F655","v":"Marshall College"},{"$f":"'Pivot Table Data'!P655","v":"P304"},{"$f":"'Pivot Table Data'!I655","v":"-"},{"$f":"'Pivot Table Data'!J655","v":"Motorcycle Section"},{"$f":"'Pivot Table Data'!K655","v":0},{"$f":"'Pivot Table Data'!L655","v":0},{"$f":"'Pivot Table Data'!S655","v":5},{"$f":"'Pivot Table Data'!T655","v":5},{"$f":"IF('Pivot Table Data'!O655=\"Yes\", 'Pivot Table Data'!T655, \"\")","v":""}]
[{"$f":"'Pivot Table Data'!B656","v":0},{"$f":"'Pivot Table Data'!F656","v":"Marshall College"},{"$f":"'Pivot Table Data'!P656","v":"P304"},{"$f":"'Pivot Table Data'!I656","v":"-"},{"$f":"'Pivot Table Data'!J656","v":"S"},{"$f":"'Pivot Table Data'!K656","v":0},{"$f":"'Pivot Table Data'!L656","v":0},{"$f":"'Pivot Table Data'!S656","v":72},{"$f":"'Pivot Table Data'!T656","v":72},{"$f":"IF('Pivot Table Data'!O656=\"Yes\", 'Pivot Table Data'!T656, \"\")","v":72}]
[{"$f":"'Pivot Table Data'!B657","v":0},{"$f":"'Pivot Table Data'!F657","v":"Marshall College"},{"$f":"'Pivot Table Data'!P657","v":"P304"},{"$f":"'Pivot Table Data'!I657","v":"-"},{"$f":"'Pivot Table Data'!J657","v":"Service Yard"},{"$f":"'Pivot Table Data'!K657","v":0},{"$f":"'Pivot Table Data'!L657","v":0},{"$f":"'Pivot Table Data'!S657","v":2},{"$f":"'Pivot Table Data'!T657","v":2},{"$f":"IF('Pivot Table Data'!O657=\"Yes\", 'Pivot Table Data'!T657, \"\")","v":""}]
[{"$f":"'Pivot Table Data'!B658","v":0},{"$f":"'Pivot Table Data'!F658","v":"Roosevelt College"},{"$f":"'Pivot Table Data'!P658","v":"P306"},{"$f":"'Pivot Table Data'!I658","v":"-"},{"$f":"'Pivot Table Data'!J658","v":"Accessible"},{"$f":"'Pivot Table Data'!K658","v":0},{"$f":"'Pivot Table Data'!L658","v":0},{"$f":"'Pivot Table Data'!S658","v":3},{"$f":"'Pivot Table Data'!T658","v":3},{"$f":"IF('Pivot Table Data'!O658=\"Yes\", 'Pivot Table Data'!T658, \"\")","v":""}]
[{"$f":"'Pivot Table Data'!B659","v":0},{"$f":"'Pivot Table Data'!F659","v":"Roosevelt College"},{"$f":"'Pivot Table Data'!P659","v":"P306"},{"$f":"'Pivot Table Data'!I659","v":"-"},{"$f":"'Pivot Table Data'!J659","v":"Accessible (Van)"},{"$f":"'Pivot Table Data'!K659","v":0},{"$f":"'Pivot Table Data'!L659","v":0},{"$f":"'Pivot Table Data'!S659","v":0},{"$f":"'Pivot Table Data'!T659","v":0},{"$f":"IF('Pivot Table Data'!O659=\"Yes\", 'Pivot Table Data'!T659, \"\")","v":""}]
[{"$f":"'Pivot Table Data'!B660","v":0},{"$f":"'Pivot Table Data'!F660","v":"Roosevelt College"},{"$f":"'Pivot Table Data'!P660","v":"P306"},{"$f":"'Pivot Table Data'!I660","v":"-"},{"$f":"'Pivot Table Data'!J660","v":"Loading"},{"$f":"'Pivot Table Data'!K660","v":0},{"$f":"'Pivot Table Data'!L660","v":"20 minutes"},{"$f":"'Pivot Table Data'!S660","v":4},{"$f":"'Pivot Table Data'!T660","v":4},{"$f":"IF('Pivot Table Data'!O660=\"Yes\", 'Pivot Table Data'!T660, \"\")","v":""}]
[{"$f":"'Pivot Table Data'!B661","v":0},{"$f":"'Pivot Table Data'!F661","v":"Roosevelt College"},{"$f":"'Pivot Table Data'!P661","v":"P306"},{"$f":"'Pivot Table Data'!I661","v":"-"},{"$f":"'Pivot Table Data'!J661","v":"Reserved"},{"$f":"'Pivot Table Data'!K661","v":0},{"$f":"'Pivot Table Data'!L661","v":0},{"$f":"'Pivot Table Data'!S661","v":4},{"$f":"'Pivot Table Data'!T661","v":4},{"$f":"IF('Pivot Table Data'!O661=\"Yes\", 'Pivot Table Data'!T661, \"\")","v":""}]
[{"$f":"'Pivot Table Data'!B662","v":0},{"$f":"'Pivot Table Data'!F662","v":"Roosevelt College"},{"$f":"'Pivot Table Data'!P662","v":"P306"},{"$f":"'Pivot Table Data'!I662","v":"-"},{"$f":"'Pivot Table Data'!J662","v":"UC Vehicle"},{"$f":"'Pivot Table Data'!K662","v":0},{"$f":"'Pivot Table Data'!L662","v":0},{"$f":"'Pivot Table Data'!S662","v":3},{"$f":"'Pivot Table Data'!T662","v":3},{"$f":"IF('Pivot Table Data'!O662=\"Yes\", 'Pivot Table Data'!T662, \"\")","v":""}]
[{"$f":"'Pivot Table Data'!B663","v":0},{"$f":"'Pivot Table Data'!F663","v":"Marshall College"},{"$f":"'Pivot Table Data'!P663","v":"P310"},{"$f":"'Pivot Table Data'!I663","v":"-"},{"$f":"'Pivot Table Data'!J663","v":"Accessible"},{"$f":"'Pivot Table Data'!K663","v":0},{"$f":"'Pivot Table Data'!L663","v":0},{"$f":"'Pivot Table Data'!S663","v":2},{"$f":"'Pivot Table Data'!T663","v":2},{"$f":"IF('Pivot Table Data'!O663=\"Yes\", 'Pivot Table Data'!T663, \"\")","v":""}]
[{"$f":"'Pivot Table Data'!B664","v":0},{"$f":"'Pivot Table Data'!F664","v":"Marshall College"},{"$f":"'Pivot Table Data'!P664","v":"P310"},{"$f":"'Pivot Table Data'!I664","v":"-"},{"$f":"'Pivot Table Data'!J664","v":"Accessible (Van)"},{"$f":"'Pivot Table Data'!K664","v":0},{"$f":"'Pivot Table Data'!L664","v":0},{"$f":"'Pivot Table Data'!S664","v":0},{"$f":"'Pivot Table Data'!T664","v":0},{"$f":"IF('Pivot Table Data'!O664=\"Yes\", 'Pivot Table Data'!T664, \"\")","v":""}]
[{"$f":"'Pivot Table Data'!B665","v":0},{"$f":"'Pivot Table Data'!F665","v":"Marshall College"},{"$f":"'Pivot Table Data'!P665","v":"P310"},{"$f":"'Pivot Table Data'!I665","v":"-"},{"$f":"'Pivot Table Data'!J665","v":"Loading"},{"$f":"'Pivot Table Data'!K665","v":0},{"$f":"'Pivot Table Data'!L665","v":"20 minutes"},{"$f":"'Pivot Table Data'!S665","v":2},{"$f":"'Pivot Table Data'!T665","v":2},{"$f":"IF('Pivot Table Data'!O665=\"Yes\", 'Pivot Table Data'!T665, \"\")","v":""}]
[{"$f":"'Pivot Table Data'!B666","v":0},{"$f":"'Pivot Table Data'!F666","v":"North Campus"},{"$f":"'Pivot Table Data'!P666","v":"P351"},{"$f":"'Pivot Table Data'!I666","v":"-"},{"$f":"'Pivot Table Data'!J666","v":"A"},{"$f":"'Pivot Table Data'!K666","v":0},{"$f":"'Pivot Table Data'!L666","v":0},{"$f":"'Pivot Table Data'!S666","v":22},{"$f":"'Pivot Table Data'!T666","v":22},{"$f":"IF('Pivot Table Data'!O666=\"Yes\", 'Pivot Table Data'!T666, \"\")","v":22}]
[{"$f":"'Pivot Table Data'!B667","v":0},{"$f":"'Pivot Table Data'!F667","v":"North Campus"},{"$f":"'Pivot Table Data'!P667","v":"P351"},{"$f":"'Pivot Table Data'!I667","v":"-"},{"$f":"'Pivot Table Data'!J667","v":"Reserved"},{"$f":"'Pivot Table Data'!K667","v":"Rady School"},{"$f":"'Pivot Table Data'!L667","v":0},{"$f":"'Pivot Table Data'!S667","v":3},{"$f":"'Pivot Table Data'!T667","v":3},{"$f":"IF('Pivot Table Data'!O667=\"Yes\", 'Pivot Table Data'!T667, \"\")","v":""}]
[{"$f":"'Pivot Table Data'!B668","v":0},{"$f":"'Pivot Table Data'!F668","v":"North Campus"},{"$f":"'Pivot Table Data'!P668","v":"P351"},{"$f":"'Pivot Table Data'!I668","v":"-"},{"$f":"'Pivot Table Data'!J668","v":"Reserved"},{"$f":"'Pivot Table Data'!K668","v":0},{"$f":"'Pivot Table Data'!L668","v":0},{"$f":"'Pivot Table Data'!S668","v":7},{"$f":"'Pivot Table Data'!T668","v":7},{"$f":"IF('Pivot Table Data'!O668=\"Yes\", 'Pivot Table Data'!T668, \"\")","v":""}]
[{"$f":"'Pivot Table Data'!B669","v":0},{"$f":"'Pivot Table Data'!F669","v":"North Campus"},{"$f":"'Pivot Table Data'!P669","v":"P352"},{"$f":"'Pivot Table Data'!I669","v":"-"},{"$f":"'Pivot Table Data'!J669","v":"Accessible"},{"$f":"'Pivot Table Data'!K669","v":0},{"$f":"'Pivot Table Data'!L669","v":0},{"$f":"'Pivot Table Data'!S669","v":0},{"$f":"'Pivot Table Data'!T669","v":0},{"$f":"IF('Pivot Table Data'!O669=\"Yes\", 'Pivot Table Data'!T669, \"\")","v":""}]
[{"$f":"'Pivot Table Data'!B670","v":0},{"$f":"'Pivot Table Data'!F670","v":"North Campus"},{"$f":"'Pivot Table Data'!P670","v":"P352"},{"$f":"'Pivot Table Data'!I670","v":"-"},{"$f":"'Pivot Table Data'!J670","v":"Accessible (Van)"},{"$f":"'Pivot Table Data'!K670","v":0},{"$f":"'Pivot Table Data'!L670","v":0},{"$f":"'Pivot Table Data'!S670","v":1},{"$f":"'Pivot Table Data'!T670","v":1},{"$f":"IF('Pivot Table Data'!O670=\"Yes\", 'Pivot Table Data'!T670, \"\")","v":""}]
[{"$f":"'Pivot Table Data'!B671","v":0},{"$f":"'Pivot Table Data'!F671","v":"North Campus"},{"$f":"'Pivot Table Data'!P671","v":"P352"},{"$f":"'Pivot Table Data'!I671","v":"-"},{"$f":"'Pivot Table Data'!J671","v":"Loading"},{"$f":"'Pivot Table Data'!K671","v":0},{"$f":"'Pivot Table Data'!L671","v":"20 minutes"},{"$f":"'Pivot Table Data'!S671","v":1},{"$f":"'Pivot Table Data'!T671","v":1},{"$f":"IF('Pivot Table Data'!O671=\"Yes\", 'Pivot Table Data'!T671, \"\")","v":""}]
[{"$f":"'Pivot Table Data'!B672","v":0},{"$f":"'Pivot Table Data'!F672","v":"North Campus"},{"$f":"'Pivot Table Data'!P672","v":"P352"},{"$f":"'Pivot Table Data'!I672","v":"-"},{"$f":"'Pivot Table Data'!J672","v":"Service Yard"},{"$f":"'Pivot Table Data'!K672","v":0},{"$f":"'Pivot Table Data'!L672","v":0},{"$f":"'Pivot Table Data'!S672","v":2},{"$f":"'Pivot Table Data'!T672","v":2},{"$f":"IF('Pivot Table Data'!O672=\"Yes\", 'Pivot Table Data'!T672, \"\")","v":""}]
[{"$f":"'Pivot Table Data'!B673","v":0},{"$f":"'Pivot Table Data'!F673","v":"North Campus"},{"$f":"'Pivot Table Data'!P673","v":"P353"},{"$f":"'Pivot Table Data'!I673","v":"-"},{"$f":"'Pivot Table Data'!J673","v":"Accessible"},{"$f":"'Pivot Table Data'!K673","v":0},{"$f":"'Pivot Table Data'!L673","v":0},{"$f":"'Pivot Table Data'!S673","v":3},{"$f":"'Pivot Table Data'!T673","v":3},{"$f":"IF('Pivot Table Data'!O673=\"Yes\", 'Pivot Table Data'!T673, \"\")","v":""}]
[{"$f":"'Pivot Table Data'!B674","v":0},{"$f":"'Pivot Table Data'!F674","v":"North Campus"},{"$f":"'Pivot Table Data'!P674","v":"P353"},{"$f":"'Pivot Table Data'!I674","v":"-"},{"$f":"'Pivot Table Data'!J674","v":"Accessible (Van)"},{"$f":"'Pivot Table Data'!K674","v":0},{"$f":"'Pivot Table Data'!L674","v":0},{"$f":"'Pivot Table Data'!S674","v":1},{"$f":"'Pivot Table Data'!T674","v":1},{"$f":"IF('Pivot Table Data'!O674=\"Yes\", 'Pivot Table Data'!T674, \"\")","v":""}]
[{"$f":"'Pivot Table Data'!B675","v":0},{"$f":"'Pivot Table Data'!F675","v":"North Campus"},{"$f":"'Pivot Table Data'!P675","v":"P353"},{"$f":"'Pivot Table Data'!I675","v":"-"},{"$f":"'Pivot Table Data'!J675","v":"Allocated"},{"$f":"'Pivot Table Data'!K675","v":"Fuel-efficient Vehicle"},{"$f":"'Pivot Table Data'!L675","v":0},{"$f":"'Pivot Table Data'!S675","v":1},{"$f":"'Pivot Table Data'!T675","v":1},{"$f":"IF('Pivot Table Data'!O675=\"Yes\", 'Pivot Table Data'!T675, \"\")","v":""}]
[{"$f":"'Pivot Table Data'!B676","v":0},{"$f":"'Pivot Table Data'!F676","v":"North Campus"},{"$f":"'Pivot Table Data'!P676","v":"P353"},{"$f":"'Pivot Table Data'!I676","v":"-"},{"$f":"'Pivot Table Data'!J676","v":"Loading"},{"$f":"'Pivot Table Data'!K676","v":0},{"$f":"'Pivot Table Data'!L676","v":"20 minutes"},{"$f":"'Pivot Table Data'!S676","v":17},{"$f":"'Pivot Table Data'!T676","v":17},{"$f":"IF('Pivot Table Data'!O676=\"Yes\", 'Pivot Table Data'!T676, \"\")","v":""}]
[{"$f":"'Pivot Table Data'!B677","v":0},{"$f":"'Pivot Table Data'!F677","v":"North Campus"},{"$f":"'Pivot Table Data'!P677","v":"P353"},{"$f":"'Pivot Table Data'!I677","v":"-"},{"$f":"'Pivot Table Data'!J677","v":"UC Vehicle"},{"$f":"'Pivot Table Data'!K677","v":0},{"$f":"'Pivot Table Data'!L677","v":0},{"$f":"'Pivot Table Data'!S677","v":3},{"$f":"'Pivot Table Data'!T677","v":3},{"$f":"IF('Pivot Table Data'!O677=\"Yes\", 'Pivot Table Data'!T677, \"\")","v":""}]
[{"$f":"'Pivot Table Data'!B678","v":0},{"$f":"'Pivot Table Data'!F678","v":"Roosevelt College"},{"$f":"'Pivot Table Data'!P678","v":"P354"},{"$f":"'Pivot Table Data'!I678","v":"-"},{"$f":"'Pivot Table Data'!J678","v":"Accessible"},{"$f":"'Pivot Table Data'!K678","v":0},{"$f":"'Pivot Table Data'!L678","v":0},{"$f":"'Pivot Table Data'!S678","v":4},{"$f":"'Pivot Table Data'!T678","v":4},{"$f":"IF('Pivot Table Data'!O678=\"Yes\", 'Pivot Table Data'!T678, \"\")","v":""}]
[{"$f":"'Pivot Table Data'!B679","v":0},{"$f":"'Pivot Table Data'!F679","v":"Roosevelt College"},{"$f":"'Pivot Table Data'!P679","v":"P354"},{"$f":"'Pivot Table Data'!I679","v":"-"},{"$f":"'Pivot Table Data'!J679","v":"Accessible (Van)"},{"$f":"'Pivot Table Data'!K679","v":0},{"$f":"'Pivot Table Data'!L679","v":0},{"$f":"'Pivot Table Data'!S679","v":0},{"$f":"'Pivot Table Data'!T679","v":0},{"$f":"IF('Pivot Table Data'!O679=\"Yes\", 'Pivot Table Data'!T679, \"\")","v":""}]
[{"$f":"'Pivot Table Data'!B680","v":0},{"$f":"'Pivot Table Data'!F680","v":"Roosevelt College"},{"$f":"'Pivot Table Data'!P680","v":"P354"},{"$f":"'Pivot Table Data'!I680","v":"-"},{"$f":"'Pivot Table Data'!J680","v":"Reserved"},{"$f":"'Pivot Table Data'!K680","v":0},{"$f":"'Pivot Table Data'!L680","v":0},{"$f":"'Pivot Table Data'!S680","v":1},{"$f":"'Pivot Table Data'!T680","v":1},{"$f":"IF('Pivot Table Data'!O680=\"Yes\", 'Pivot Table Data'!T680, \"\")","v":""}]
[{"$f":"'Pivot Table Data'!B681","v":0},{"$f":"'Pivot Table Data'!F681","v":"Roosevelt College"},{"$f":"'Pivot Table Data'!P681","v":"P354"},{"$f":"'Pivot Table Data'!I681","v":"-"},{"$f":"'Pivot Table Data'!J681","v":"Service Yard"},{"$f":"'Pivot Table Data'!K681","v":0},{"$f":"'Pivot Table Data'!L681","v":0},{"$f":"'Pivot Table Data'!S681","v":8},{"$f":"'Pivot Table Data'!T681","v":8},{"$f":"IF('Pivot Table Data'!O681=\"Yes\", 'Pivot Table Data'!T681, \"\")","v":""}]
[{"$f":"'Pivot Table Data'!B682","v":0},{"$f":"'Pivot Table Data'!F682","v":"Roosevelt College"},{"$f":"'Pivot Table Data'!P682","v":"P354"},{"$f":"'Pivot Table Data'!I682","v":"-"},{"$f":"'Pivot Table Data'!J682","v":"UC Vehicle"},{"$f":"'Pivot Table Data'!K682","v":0},{"$f":"'Pivot Table Data'!L682","v":0},{"$f":"'Pivot Table Data'!S682","v":2},{"$f":"'Pivot Table Data'!T682","v":2},{"$f":"IF('Pivot Table Data'!O682=\"Yes\", 'Pivot Table Data'!T682, \"\")","v":""}]
[{"$f":"'Pivot Table Data'!B683","v":0},{"$f":"'Pivot Table Data'!F683","v":"North Campus"},{"$f":"'Pivot Table Data'!P683","v":"P357"},{"$f":"'Pivot Table Data'!I683","v":"-"},{"$f":"'Pivot Table Data'!J683","v":"Accessible"},{"$f":"'Pivot Table Data'!K683","v":0},{"$f":"'Pivot Table Data'!L683","v":0},{"$f":"'Pivot Table Data'!S683","v":2},{"$f":"'Pivot Table Data'!T683","v":2},{"$f":"IF('Pivot Table Data'!O683=\"Yes\", 'Pivot Table Data'!T683, \"\")","v":""}]
[{"$f":"'Pivot Table Data'!B684","v":0},{"$f":"'Pivot Table Data'!F684","v":"North Campus"},{"$f":"'Pivot Table Data'!P684","v":"P357"},{"$f":"'Pivot Table Data'!I684","v":"-"},{"$f":"'Pivot Table Data'!J684","v":"Accessible (Van)"},{"$f":"'Pivot Table Data'!K684","v":0},{"$f":"'Pivot Table Data'!L684","v":0},{"$f":"'Pivot Table Data'!S684","v":3},{"$f":"'Pivot Table Data'!T684","v":3},{"$f":"IF('Pivot Table Data'!O684=\"Yes\", 'Pivot Table Data'!T684, \"\")","v":""}]
[{"$f":"'Pivot Table Data'!B685","v":0},{"$f":"'Pivot Table Data'!F685","v":"North Campus"},{"$f":"'Pivot Table Data'!P685","v":"P357"},{"$f":"'Pivot Table Data'!I685","v":"-"},{"$f":"'Pivot Table Data'!J685","v":"B"},{"$f":"'Pivot Table Data'!K685","v":0},{"$f":"'Pivot Table Data'!L685","v":0},{"$f":"'Pivot Table Data'!S685","v":117},{"$f":"'Pivot Table Data'!T685","v":117},{"$f":"IF('Pivot Table Data'!O685=\"Yes\", 'Pivot Table Data'!T685, \"\")","v":117}]
[{"$f":"'Pivot Table Data'!B686","v":0},{"$f":"'Pivot Table Data'!F686","v":"North Campus"},{"$f":"'Pivot Table Data'!P686","v":"P357"},{"$f":"'Pivot Table Data'!I686","v":"-"},{"$f":"'Pivot Table Data'!J686","v":"Electric Vehicle"},{"$f":"'Pivot Table Data'!K686","v":0},{"$f":"'Pivot Table Data'!L686","v":"4-Hour"},{"$f":"'Pivot Table Data'!S686","v":10},{"$f":"'Pivot Table Data'!T686","v":10},{"$f":"IF('Pivot Table Data'!O686=\"Yes\", 'Pivot Table Data'!T686, \"\")","v":""}]
[{"$f":"'Pivot Table Data'!B687","v":0},{"$f":"'Pivot Table Data'!F687","v":"North Campus"},{"$f":"'Pivot Table Data'!P687","v":"P357"},{"$f":"'Pivot Table Data'!I687","v":"-"},{"$f":"'Pivot Table Data'!J687","v":"Motorcycle Section"},{"$f":"'Pivot Table Data'!K687","v":0},{"$f":"'Pivot Table Data'!L687","v":0},{"$f":"'Pivot Table Data'!S687","v":12},{"$f":"'Pivot Table Data'!T687","v":12},{"$f":"IF('Pivot Table Data'!O687=\"Yes\", 'Pivot Table Data'!T687, \"\")","v":""}]
[{"$f":"'Pivot Table Data'!B688","v":0},{"$f":"'Pivot Table Data'!F688","v":"North Campus"},{"$f":"'Pivot Table Data'!P688","v":"P357"},{"$f":"'Pivot Table Data'!I688","v":"-"},{"$f":"'Pivot Table Data'!J688","v":"Reserved"},{"$f":"'Pivot Table Data'!K688","v":0},{"$f":"'Pivot Table Data'!L688","v":0},{"$f":"'Pivot Table Data'!S688","v":4},{"$f":"'Pivot Table Data'!T688","v":4},{"$f":"IF('Pivot Table Data'!O688=\"Yes\", 'Pivot Table Data'!T688, \"\")","v":""}]
[{"$f":"'Pivot Table Data'!B689","v":0},{"$f":"'Pivot Table Data'!F689","v":"North Campus"},{"$f":"'Pivot Table Data'!P689","v":"P357"},{"$f":"'Pivot Table Data'!I689","v":"-"},{"$f":"'Pivot Table Data'!J689","v":"Service Yard"},{"$f":"'Pivot Table Data'!K689","v":0},{"$f":"'Pivot Table Data'!L689","v":0},{"$f":"'Pivot Table Data'!S689","v":2},{"$f":"'Pivot Table Data'!T689","v":2},{"$f":"IF('Pivot Table Data'!O689=\"Yes\", 'Pivot Table Data'!T689, \"\")","v":""}]
[{"$f":"'Pivot Table Data'!B690","v":0},{"$f":"'Pivot Table Data'!F690","v":"North Campus"},{"$f":"'Pivot Table Data'!P690","v":"P357"},{"$f":"'Pivot Table Data'!I690","v":"-"},{"$f":"'Pivot Table Data'!J690","v":"Visitor"},{"$f":"'Pivot Table Data'!K690","v":0},{"$f":"'Pivot Table Data'!L690","v":0},{"$f":"'Pivot Table Data'!S690","v":13},{"$f":"'Pivot Table Data'!T690","v":13},{"$f":"IF('Pivot Table Data'!O690=\"Yes\", 'Pivot Table Data'!T690, \"\")","v":13}]
[{"$f":"'Pivot Table Data'!B691","v":0},{"$f":"'Pivot Table Data'!F691","v":"North Campus"},{"$f":"'Pivot Table Data'!P691","v":"P358"},{"$f":"'Pivot Table Data'!I691","v":"-"},{"$f":"'Pivot Table Data'!J691","v":"UC Vehicle"},{"$f":"'Pivot Table Data'!K691","v":0},{"$f":"'Pivot Table Data'!L691","v":0},{"$f":"'Pivot Table Data'!S691","v":1},{"$f":"'Pivot Table Data'!T691","v":1},{"$f":"IF('Pivot Table Data'!O691=\"Yes\", 'Pivot Table Data'!T691, \"\")","v":""}]
[{"$f":"'Pivot Table Data'!B692","v":0},{"$f":"'Pivot Table Data'!F692","v":"North Campus"},{"$f":"'Pivot Table Data'!P692","v":"P359"},{"$f":"'Pivot Table Data'!I692","v":"-"},{"$f":"'Pivot Table Data'!J692","v":"B"},{"$f":"'Pivot Table Data'!K692","v":0},{"$f":"'Pivot Table Data'!L692","v":0},{"$f":"'Pivot Table Data'!S692","v":49},{"$f":"'Pivot Table Data'!T692","v":49},{"$f":"IF('Pivot Table Data'!O692=\"Yes\", 'Pivot Table Data'!T692, \"\")","v":49}]
[{"$f":"'Pivot Table Data'!B693","v":0},{"$f":"'Pivot Table Data'!F693","v":"North Campus"},{"$f":"'Pivot Table Data'!P693","v":"P359"},{"$f":"'Pivot Table Data'!I693","v":"-"},{"$f":"'Pivot Table Data'!J693","v":"UC Vehicle"},{"$f":"'Pivot Table Data'!K693","v":0},{"$f":"'Pivot Table Data'!L693","v":0},{"$f":"'Pivot Table Data'!S693","v":7},{"$f":"'Pivot Table Data'!T693","v":7},{"$f":"IF('Pivot Table Data'!O693=\"Yes\", 'Pivot Table Data'!T693, \"\")","v":""}]
[{"$f":"'Pivot Table Data'!B694","v":0},{"$f":"'Pivot Table Data'!F694","v":"Torrey Pines Center"},{"$f":"'Pivot Table Data'!P694","v":"P384"},{"$f":"'Pivot Table Data'!I694","v":"-"},{"$f":"'Pivot Table Data'!J694","v":"Allocated"},{"$f":"'Pivot Table Data'!K694","v":"SCRM"},{"$f":"'Pivot Table Data'!L694","v":0},{"$f":"'Pivot Table Data'!S694","v":0},{"$f":"'Pivot Table Data'!T694","v":0},{"$f":"IF('Pivot Table Data'!O694=\"Yes\", 'Pivot Table Data'!T694, \"\")","v":""}]
[{"$f":"'Pivot Table Data'!B695","v":0},{"$f":"'Pivot Table Data'!F695","v":"Torrey Pines Center"},{"$f":"'Pivot Table Data'!P695","v":"P384"},{"$f":"'Pivot Table Data'!I695","v":"-"},{"$f":"'Pivot Table Data'!J695","v":"B"},{"$f":"'Pivot Table Data'!K695","v":"Sanford Consortium"},{"$f":"'Pivot Table Data'!L695","v":0},{"$f":"'Pivot Table Data'!S695","v":175},{"$f":"'Pivot Table Data'!T695","v":175},{"$f":"IF('Pivot Table Data'!O695=\"Yes\", 'Pivot Table Data'!T695, \"\")","v":175}]
[{"$f":"'Pivot Table Data'!B696","v":0},{"$f":"'Pivot Table Data'!F696","v":"Torrey Pines Center"},{"$f":"'Pivot Table Data'!P696","v":"P384"},{"$f":"'Pivot Table Data'!I696","v":"-"},{"$f":"'Pivot Table Data'!J696","v":"Motorcycle Section"},{"$f":"'Pivot Table Data'!K696","v":0},{"$f":"'Pivot Table Data'!L696","v":0},{"$f":"'Pivot Table Data'!S696","v":4},{"$f":"'Pivot Table Data'!T696","v":4},{"$f":"IF('Pivot Table Data'!O696=\"Yes\", 'Pivot Table Data'!T696, \"\")","v":""}]
[{"$f":"'Pivot Table Data'!B697","v":0},{"$f":"'Pivot Table Data'!F697","v":"Torrey Pines Center"},{"$f":"'Pivot Table Data'!P697","v":"P385"},{"$f":"'Pivot Table Data'!I697","v":"-"},{"$f":"'Pivot Table Data'!J697","v":"Accessible"},{"$f":"'Pivot Table Data'!K697","v":0},{"$f":"'Pivot Table Data'!L697","v":0},{"$f":"'Pivot Table Data'!S697","v":3},{"$f":"'Pivot Table Data'!T697","v":3},{"$f":"IF('Pivot Table Data'!O697=\"Yes\", 'Pivot Table Data'!T697, \"\")","v":""}]
[{"$f":"'Pivot Table Data'!B698","v":0},{"$f":"'Pivot Table Data'!F698","v":"Torrey Pines Center"},{"$f":"'Pivot Table Data'!P698","v":"P385"},{"$f":"'Pivot Table Data'!I698","v":"-"},{"$f":"'Pivot Table Data'!J698","v":"Accessible (Van)"},{"$f":"'Pivot Table Data'!K698","v":0},{"$f":"'Pivot Table Data'!L698","v":0},{"$f":"'Pivot Table Data'!S698","v":7},{"$f":"'Pivot Table Data'!T698","v":7},{"$f":"IF('Pivot Table Data'!O698=\"Yes\", 'Pivot Table Data'!T698, \"\")","v":""}]
[{"$f":"'Pivot Table Data'!B699","v":0},{"$f":"'Pivot Table Data'!F699","v":"Torrey Pines Center"},{"$f":"'Pivot Table Data'!P699","v":"P385"},{"$f":"'Pivot Table Data'!I699","v":"-"},{"$f":"'Pivot Table Data'!J699","v":"Reserved"},{"$f":"'Pivot Table Data'!K699","v":0},{"$f":"'Pivot Table Data'!L699","v":0},{"$f":"'Pivot Table Data'!S699","v":11},{"$f":"'Pivot Table Data'!T699","v":11},{"$f":"IF('Pivot Table Data'!O699=\"Yes\", 'Pivot Table Data'!T699, \"\")","v":""}]
[{"$f":"'Pivot Table Data'!B700","v":0},{"$f":"'Pivot Table Data'!F700","v":"Torrey Pines Center"},{"$f":"'Pivot Table Data'!P700","v":"P385"},{"$f":"'Pivot Table Data'!I700","v":"-"},{"$f":"'Pivot Table Data'!J700","v":"Visitor"},{"$f":"'Pivot Table Data'!K700","v":"Sanford Consortium"},{"$f":"'Pivot Table Data'!L700","v":0},{"$f":"'Pivot Table Data'!S700","v":202},{"$f":"'Pivot Table Data'!T700","v":202},{"$f":"IF('Pivot Table Data'!O700=\"Yes\", 'Pivot Table Data'!T700, \"\")","v":202}]
[{"$f":"'Pivot Table Data'!B701","v":0},{"$f":"'Pivot Table Data'!F701","v":"Torrey Pines Center"},{"$f":"'Pivot Table Data'!P701","v":"P386 (Gliderport)"},{"$f":"'Pivot Table Data'!I701","v":"-"},{"$f":"'Pivot Table Data'!J701","v":"SS ($3.25)"},{"$f":"'Pivot Table Data'!K701","v":0},{"$f":"'Pivot Table Data'!L701","v":0},{"$f":"'Pivot Table Data'!S701","v":335},{"$f":"'Pivot Table Data'!T701","v":335},{"$f":"IF('Pivot Table Data'!O701=\"Yes\", 'Pivot Table Data'!T701, \"\")","v":335}]
[{"$f":"'Pivot Table Data'!B702","v":0},{"$f":"'Pivot Table Data'!F702","v":"Pepper Canyon"},{"$f":"'Pivot Table Data'!P702","v":"P401"},{"$f":"'Pivot Table Data'!I702","v":"-"},{"$f":"'Pivot Table Data'!J702","v":"Accessible"},{"$f":"'Pivot Table Data'!K702","v":0},{"$f":"'Pivot Table Data'!L702","v":0},{"$f":"'Pivot Table Data'!S702","v":0},{"$f":"'Pivot Table Data'!T702","v":0},{"$f":"IF('Pivot Table Data'!O702=\"Yes\", 'Pivot Table Data'!T702, \"\")","v":""}]
[{"$f":"'Pivot Table Data'!B703","v":0},{"$f":"'Pivot Table Data'!F703","v":"Pepper Canyon"},{"$f":"'Pivot Table Data'!P703","v":"P401"},{"$f":"'Pivot Table Data'!I703","v":"-"},{"$f":"'Pivot Table Data'!J703","v":"Accessible (Van)"},{"$f":"'Pivot Table Data'!K703","v":0},{"$f":"'Pivot Table Data'!L703","v":0},{"$f":"'Pivot Table Data'!S703","v":1},{"$f":"'Pivot Table Data'!T703","v":1},{"$f":"IF('Pivot Table Data'!O703=\"Yes\", 'Pivot Table Data'!T703, \"\")","v":""}]
[{"$f":"'Pivot Table Data'!B704","v":0},{"$f":"'Pivot Table Data'!F704","v":"Pepper Canyon"},{"$f":"'Pivot Table Data'!P704","v":"P401"},{"$f":"'Pivot Table Data'!I704","v":"-"},{"$f":"'Pivot Table Data'!J704","v":"Loading"},{"$f":"'Pivot Table Data'!K704","v":0},{"$f":"'Pivot Table Data'!L704","v":20},{"$f":"'Pivot Table Data'!S704","v":2},{"$f":"'Pivot Table Data'!T704","v":2},{"$f":"IF('Pivot Table Data'!O704=\"Yes\", 'Pivot Table Data'!T704, \"\")","v":""}]
[{"$f":"'Pivot Table Data'!B705","v":0},{"$f":"'Pivot Table Data'!F705","v":"Pepper Canyon"},{"$f":"'Pivot Table Data'!P705","v":"P401"},{"$f":"'Pivot Table Data'!I705","v":"-"},{"$f":"'Pivot Table Data'!J705","v":"SR"},{"$f":"'Pivot Table Data'!K705","v":0},{"$f":"'Pivot Table Data'!L705","v":0},{"$f":"'Pivot Table Data'!S705","v":96},{"$f":"'Pivot Table Data'!T705","v":96},{"$f":"IF('Pivot Table Data'!O705=\"Yes\", 'Pivot Table Data'!T705, \"\")","v":96}]
[{"$f":"'Pivot Table Data'!B706","v":0},{"$f":"'Pivot Table Data'!F706","v":"Pepper Canyon"},{"$f":"'Pivot Table Data'!P706","v":"P402"},{"$f":"'Pivot Table Data'!I706","v":"-"},{"$f":"'Pivot Table Data'!J706","v":"A"},{"$f":"'Pivot Table Data'!K706","v":"24/7 Enforced"},{"$f":"'Pivot Table Data'!L706","v":0},{"$f":"'Pivot Table Data'!S706","v":4},{"$f":"'Pivot Table Data'!T706","v":4},{"$f":"IF('Pivot Table Data'!O706=\"Yes\", 'Pivot Table Data'!T706, \"\")","v":4}]
[{"$f":"'Pivot Table Data'!B707","v":0},{"$f":"'Pivot Table Data'!F707","v":"Pepper Canyon"},{"$f":"'Pivot Table Data'!P707","v":"P402"},{"$f":"'Pivot Table Data'!I707","v":"-"},{"$f":"'Pivot Table Data'!J707","v":"Accessible"},{"$f":"'Pivot Table Data'!K707","v":0},{"$f":"'Pivot Table Data'!L707","v":0},{"$f":"'Pivot Table Data'!S707","v":2},{"$f":"'Pivot Table Data'!T707","v":2},{"$f":"IF('Pivot Table Data'!O707=\"Yes\", 'Pivot Table Data'!T707, \"\")","v":""}]
[{"$f":"'Pivot Table Data'!B708","v":0},{"$f":"'Pivot Table Data'!F708","v":"Pepper Canyon"},{"$f":"'Pivot Table Data'!P708","v":"P402"},{"$f":"'Pivot Table Data'!I708","v":"-"},{"$f":"'Pivot Table Data'!J708","v":"Accessible (Van)"},{"$f":"'Pivot Table Data'!K708","v":0},{"$f":"'Pivot Table Data'!L708","v":0},{"$f":"'Pivot Table Data'!S708","v":1},{"$f":"'Pivot Table Data'!T708","v":1},{"$f":"IF('Pivot Table Data'!O708=\"Yes\", 'Pivot Table Data'!T708, \"\")","v":""}]
[{"$f":"'Pivot Table Data'!B709","v":0},{"$f":"'Pivot Table Data'!F709","v":"Pepper Canyon"},{"$f":"'Pivot Table Data'!P709","v":"P402"},{"$f":"'Pivot Table Data'!I709","v":"-"},{"$f":"'Pivot Table Data'!J709","v":"Loading"},{"$f":"'Pivot Table Data'!K709","v":0},{"$f":"'Pivot Table Data'!L709","v":"20 minutes"},{"$f":"'Pivot Table Data'!S709","v":7},{"$f":"'Pivot Table Data'!T709","v":7},{"$f":"IF('Pivot Table Data'!O709=\"Yes\", 'Pivot Table Data'!T709, \"\")","v":""}]
[{"$f":"'Pivot Table Data'!B710","v":0},{"$f":"'Pivot Table Data'!F710","v":"Pepper Canyon"},{"$f":"'Pivot Table Data'!P710","v":"P402"},{"$f":"'Pivot Table Data'!I710","v":"-"},{"$f":"'Pivot Table Data'!J710","v":"Motorcycle Section"},{"$f":"'Pivot Table Data'!K710","v":0},{"$f":"'Pivot Table Data'!L710","v":0},{"$f":"'Pivot Table Data'!S710","v":2},{"$f":"'Pivot Table Data'!T710","v":2},{"$f":"IF('Pivot Table Data'!O710=\"Yes\", 'Pivot Table Data'!T710, \"\")","v":""}]
[{"$f":"'Pivot Table Data'!B711","v":0},{"$f":"'Pivot Table Data'!F711","v":"Pepper Canyon"},{"$f":"'Pivot Table Data'!P711","v":"P402"},{"$f":"'Pivot Table Data'!I711","v":"-"},{"$f":"'Pivot Table Data'!J711","v":"Reserved"},{"$f":"'Pivot Table Data'!K711","v":0},{"$f":"'Pivot Table Data'!L711","v":0},{"$f":"'Pivot Table Data'!S711","v":4},{"$f":"'Pivot Table Data'!T711","v":4},{"$f":"IF('Pivot Table Data'!O711=\"Yes\", 'Pivot Table Data'!T711, \"\")","v":""}]
[{"$f":"'Pivot Table Data'!B712","v":0},{"$f":"'Pivot Table Data'!F712","v":"Pepper Canyon"},{"$f":"'Pivot Table Data'!P712","v":"P402"},{"$f":"'Pivot Table Data'!I712","v":"-"},{"$f":"'Pivot Table Data'!J712","v":"Service Yard"},{"$f":"'Pivot Table Data'!K712","v":0},{"$f":"'Pivot Table Data'!L712","v":0},{"$f":"'Pivot Table Data'!S712","v":2},{"$f":"'Pivot Table Data'!T712","v":2},{"$f":"IF('Pivot Table Data'!O712=\"Yes\", 'Pivot Table Data'!T712, \"\")","v":""}]
[{"$f":"'Pivot Table Data'!B713","v":0},{"$f":"'Pivot Table Data'!F713","v":"Pepper Canyon"},{"$f":"'Pivot Table Data'!P713","v":"P402"},{"$f":"'Pivot Table Data'!I713","v":"-"},{"$f":"'Pivot Table Data'!J713","v":"UC Vehicle"},{"$f":"'Pivot Table Data'!K713","v":0},{"$f":"'Pivot Table Data'!L713","v":0},{"$f":"'Pivot Table Data'!S713","v":2},{"$f":"'Pivot Table Data'!T713","v":2},{"$f":"IF('Pivot Table Data'!O713=\"Yes\", 'Pivot Table Data'!T713, \"\")","v":""}]
[{"$f":"'Pivot Table Data'!B714","v":0},{"$f":"'Pivot Table Data'!F714","v":"Pepper Canyon"},{"$f":"'Pivot Table Data'!P714","v":"P402"},{"$f":"'Pivot Table Data'!I714","v":"-"},{"$f":"'Pivot Table Data'!J714","v":"Visitor"},{"$f":"'Pivot Table Data'!K714","v":0},{"$f":"'Pivot Table Data'!L714","v":0},{"$f":"'Pivot Table Data'!S714","v":3},{"$f":"'Pivot Table Data'!T714","v":3},{"$f":"IF('Pivot Table Data'!O714=\"Yes\", 'Pivot Table Data'!T714, \"\")","v":3}]
[{"$f":"'Pivot Table Data'!B715","v":0},{"$f":"'Pivot Table Data'!F715","v":"University Center"},{"$f":"'Pivot Table Data'!P715","v":"P405"},{"$f":"'Pivot Table Data'!I715","v":"-"},{"$f":"'Pivot Table Data'!J715","v":"Loading"},{"$f":"'Pivot Table Data'!K715","v":"Commercial"},{"$f":"'Pivot Table Data'!L715","v":30},{"$f":"'Pivot Table Data'!S715","v":6},{"$f":"'Pivot Table Data'!T715","v":6},{"$f":"IF('Pivot Table Data'!O715=\"Yes\", 'Pivot Table Data'!T715, \"\")","v":""}]
[{"$f":"'Pivot Table Data'!B716","v":0},{"$f":"'Pivot Table Data'!F716","v":"University Center"},{"$f":"'Pivot Table Data'!P716","v":"P405"},{"$f":"'Pivot Table Data'!I716","v":"-"},{"$f":"'Pivot Table Data'!J716","v":"Loading"},{"$f":"'Pivot Table Data'!K716","v":0},{"$f":"'Pivot Table Data'!L716","v":20},{"$f":"'Pivot Table Data'!S716","v":6},{"$f":"'Pivot Table Data'!T716","v":6},{"$f":"IF('Pivot Table Data'!O716=\"Yes\", 'Pivot Table Data'!T716, \"\")","v":""}]
[{"$f":"'Pivot Table Data'!B717","v":0},{"$f":"'Pivot Table Data'!F717","v":"University Center"},{"$f":"'Pivot Table Data'!P717","v":"P405"},{"$f":"'Pivot Table Data'!I717","v":"-"},{"$f":"'Pivot Table Data'!J717","v":"Reserved"},{"$f":"'Pivot Table Data'!K717","v":0},{"$f":"'Pivot Table Data'!L717","v":0},{"$f":"'Pivot Table Data'!S717","v":1},{"$f":"'Pivot Table Data'!T717","v":1},{"$f":"IF('Pivot Table Data'!O717=\"Yes\", 'Pivot Table Data'!T717, \"\")","v":""}]
[{"$f":"'Pivot Table Data'!B718","v":0},{"$f":"'Pivot Table Data'!F718","v":"University Center"},{"$f":"'Pivot Table Data'!P718","v":"P405"},{"$f":"'Pivot Table Data'!I718","v":"-"},{"$f":"'Pivot Table Data'!J718","v":"Service Yard"},{"$f":"'Pivot Table Data'!K718","v":0},{"$f":"'Pivot Table Data'!L718","v":0},{"$f":"'Pivot Table Data'!S718","v":10},{"$f":"'Pivot Table Data'!T718","v":10},{"$f":"IF('Pivot Table Data'!O718=\"Yes\", 'Pivot Table Data'!T718, \"\")","v":""}]
[{"$f":"'Pivot Table Data'!B719","v":0},{"$f":"'Pivot Table Data'!F719","v":"Pepper Canyon"},{"$f":"'Pivot Table Data'!P719","v":"P406"},{"$f":"'Pivot Table Data'!I719","v":"-"},{"$f":"'Pivot Table Data'!J719","v":"Accessible"},{"$f":"'Pivot Table Data'!K719","v":0},{"$f":"'Pivot Table Data'!L719","v":0},{"$f":"'Pivot Table Data'!S719","v":2},{"$f":"'Pivot Table Data'!T719","v":2},{"$f":"IF('Pivot Table Data'!O719=\"Yes\", 'Pivot Table Data'!T719, \"\")","v":""}]
[{"$f":"'Pivot Table Data'!B720","v":0},{"$f":"'Pivot Table Data'!F720","v":"Pepper Canyon"},{"$f":"'Pivot Table Data'!P720","v":"P406"},{"$f":"'Pivot Table Data'!I720","v":"-"},{"$f":"'Pivot Table Data'!J720","v":"Accessible (Van)"},{"$f":"'Pivot Table Data'!K720","v":0},{"$f":"'Pivot Table Data'!L720","v":0},{"$f":"'Pivot Table Data'!S720","v":0},{"$f":"'Pivot Table Data'!T720","v":0},{"$f":"IF('Pivot Table Data'!O720=\"Yes\", 'Pivot Table Data'!T720, \"\")","v":""}]
[{"$f":"'Pivot Table Data'!B721","v":0},{"$f":"'Pivot Table Data'!F721","v":"Pepper Canyon"},{"$f":"'Pivot Table Data'!P721","v":"P406"},{"$f":"'Pivot Table Data'!I721","v":"-"},{"$f":"'Pivot Table Data'!J721","v":"B"},{"$f":"'Pivot Table Data'!K721","v":0},{"$f":"'Pivot Table Data'!L721","v":0},{"$f":"'Pivot Table Data'!S721","v":18},{"$f":"'Pivot Table Data'!T721","v":18},{"$f":"IF('Pivot Table Data'!O721=\"Yes\", 'Pivot Table Data'!T721, \"\")","v":18}]
[{"$f":"'Pivot Table Data'!B722","v":0},{"$f":"'Pivot Table Data'!F722","v":"Pepper Canyon"},{"$f":"'Pivot Table Data'!P722","v":"P406"},{"$f":"'Pivot Table Data'!I722","v":"-"},{"$f":"'Pivot Table Data'!J722","v":"Loading"},{"$f":"'Pivot Table Data'!K722","v":0},{"$f":"'Pivot Table Data'!L722","v":0},{"$f":"'Pivot Table Data'!S722","v":2},{"$f":"'Pivot Table Data'!T722","v":2},{"$f":"IF('Pivot Table Data'!O722=\"Yes\", 'Pivot Table Data'!T722, \"\")","v":""}]
[{"$f":"'Pivot Table Data'!B723","v":0},{"$f":"'Pivot Table Data'!F723","v":"Pepper Canyon"},{"$f":"'Pivot Table Data'!P723","v":"P406"},{"$f":"'Pivot Table Data'!I723","v":"-"},{"$f":"'Pivot Table Data'!J723","v":"Motorcycle Section"},{"$f":"'Pivot Table Data'!K723","v":0},{"$f":"'Pivot Table Data'!L723","v":0},{"$f":"'Pivot Table Data'!S723","v":3},{"$f":"'Pivot Table Data'!T723","v":3},{"$f":"IF('Pivot Table Data'!O723=\"Yes\", 'Pivot Table Data'!T723, \"\")","v":""}]
[{"$f":"'Pivot Table Data'!B724","v":0},{"$f":"'Pivot Table Data'!F724","v":"University Center"},{"$f":"'Pivot Table Data'!P724","v":"P407"},{"$f":"'Pivot Table Data'!I724","v":"-"},{"$f":"'Pivot Table Data'!J724","v":"Loading"},{"$f":"'Pivot Table Data'!K724","v":"Dock"},{"$f":"'Pivot Table Data'!L724","v":0},{"$f":"'Pivot Table Data'!S724","v":1},{"$f":"'Pivot Table Data'!T724","v":1},{"$f":"IF('Pivot Table Data'!O724=\"Yes\", 'Pivot Table Data'!T724, \"\")","v":""}]
[{"$f":"'Pivot Table Data'!B725","v":0},{"$f":"'Pivot Table Data'!F725","v":"University Center"},{"$f":"'Pivot Table Data'!P725","v":"P407"},{"$f":"'Pivot Table Data'!I725","v":"-"},{"$f":"'Pivot Table Data'!J725","v":"Service Yard"},{"$f":"'Pivot Table Data'!K725","v":0},{"$f":"'Pivot Table Data'!L725","v":0},{"$f":"'Pivot Table Data'!S725","v":3},{"$f":"'Pivot Table Data'!T725","v":3},{"$f":"IF('Pivot Table Data'!O725=\"Yes\", 'Pivot Table Data'!T725, \"\")","v":""}]
[{"$f":"'Pivot Table Data'!B726","v":0},{"$f":"'Pivot Table Data'!F726","v":"Muir College"},{"$f":"'Pivot Table Data'!P726","v":"P414"},{"$f":"'Pivot Table Data'!I726","v":"-"},{"$f":"'Pivot Table Data'!J726","v":"A"},{"$f":"'Pivot Table Data'!K726","v":0},{"$f":"'Pivot Table Data'!L726","v":0},{"$f":"'Pivot Table Data'!S726","v":3},{"$f":"'Pivot Table Data'!T726","v":3},{"$f":"IF('Pivot Table Data'!O726=\"Yes\", 'Pivot Table Data'!T726, \"\")","v":3}]
[{"$f":"'Pivot Table Data'!B727","v":0},{"$f":"'Pivot Table Data'!F727","v":"Muir College"},{"$f":"'Pivot Table Data'!P727","v":"P414"},{"$f":"'Pivot Table Data'!I727","v":"-"},{"$f":"'Pivot Table Data'!J727","v":"Loading"},{"$f":"'Pivot Table Data'!K727","v":0},{"$f":"'Pivot Table Data'!L727","v":0},{"$f":"'Pivot Table Data'!S727","v":7},{"$f":"'Pivot Table Data'!T727","v":7},{"$f":"IF('Pivot Table Data'!O727=\"Yes\", 'Pivot Table Data'!T727, \"\")","v":""}]
[{"$f":"'Pivot Table Data'!B728","v":0},{"$f":"'Pivot Table Data'!F728","v":"Muir College"},{"$f":"'Pivot Table Data'!P728","v":"P414"},{"$f":"'Pivot Table Data'!I728","v":"-"},{"$f":"'Pivot Table Data'!J728","v":"Reserved"},{"$f":"'Pivot Table Data'!K728","v":0},{"$f":"'Pivot Table Data'!L728","v":0},{"$f":"'Pivot Table Data'!S728","v":2},{"$f":"'Pivot Table Data'!T728","v":2},{"$f":"IF('Pivot Table Data'!O728=\"Yes\", 'Pivot Table Data'!T728, \"\")","v":""}]
[{"$f":"'Pivot Table Data'!B729","v":0},{"$f":"'Pivot Table Data'!F729","v":"Muir College"},{"$f":"'Pivot Table Data'!P729","v":"P414"},{"$f":"'Pivot Table Data'!I729","v":"-"},{"$f":"'Pivot Table Data'!J729","v":"Service Yard"},{"$f":"'Pivot Table Data'!K729","v":0},{"$f":"'Pivot Table Data'!L729","v":0},{"$f":"'Pivot Table Data'!S729","v":4},{"$f":"'Pivot Table Data'!T729","v":4},{"$f":"IF('Pivot Table Data'!O729=\"Yes\", 'Pivot Table Data'!T729, \"\")","v":""}]
[{"$f":"'Pivot Table Data'!B730","v":0},{"$f":"'Pivot Table Data'!F730","v":"Muir College"},{"$f":"'Pivot Table Data'!P730","v":"P415"},{"$f":"'Pivot Table Data'!I730","v":"-"},{"$f":"'Pivot Table Data'!J730","v":"Accessible"},{"$f":"'Pivot Table Data'!K730","v":0},{"$f":"'Pivot Table Data'!L730","v":0},{"$f":"'Pivot Table Data'!S730","v":1},{"$f":"'Pivot Table Data'!T730","v":1},{"$f":"IF('Pivot Table Data'!O730=\"Yes\", 'Pivot Table Data'!T730, \"\")","v":""}]
[{"$f":"'Pivot Table Data'!B731","v":0},{"$f":"'Pivot Table Data'!F731","v":"Muir College"},{"$f":"'Pivot Table Data'!P731","v":"P415"},{"$f":"'Pivot Table Data'!I731","v":"-"},{"$f":"'Pivot Table Data'!J731","v":"Accessible (Van)"},{"$f":"'Pivot Table Data'!K731","v":0},{"$f":"'Pivot Table Data'!L731","v":0},{"$f":"'Pivot Table Data'!S731","v":0},{"$f":"'Pivot Table Data'!T731","v":0},{"$f":"IF('Pivot Table Data'!O731=\"Yes\", 'Pivot Table Data'!T731, \"\")","v":""}]
[{"$f":"'Pivot Table Data'!B732","v":0},{"$f":"'Pivot Table Data'!F732","v":"Muir College"},{"$f":"'Pivot Table Data'!P732","v":"P415"},{"$f":"'Pivot Table Data'!I732","v":"-"},{"$f":"'Pivot Table Data'!J732","v":"Reserved"},{"$f":"'Pivot Table Data'!K732","v":"Student Health Patient"},{"$f":"'Pivot Table Data'!L732","v":0},{"$f":"'Pivot Table Data'!S732","v":5},{"$f":"'Pivot Table Data'!T732","v":5},{"$f":"IF('Pivot Table Data'!O732=\"Yes\", 'Pivot Table Data'!T732, \"\")","v":""}]
[{"$f":"'Pivot Table Data'!B733","v":0},{"$f":"'Pivot Table Data'!F733","v":"Muir College"},{"$f":"'Pivot Table Data'!P733","v":"P415"},{"$f":"'Pivot Table Data'!I733","v":"-"},{"$f":"'Pivot Table Data'!J733","v":"Reserved"},{"$f":"'Pivot Table Data'!K733","v":0},{"$f":"'Pivot Table Data'!L733","v":0},{"$f":"'Pivot Table Data'!S733","v":3},{"$f":"'Pivot Table Data'!T733","v":3},{"$f":"IF('Pivot Table Data'!O733=\"Yes\", 'Pivot Table Data'!T733, \"\")","v":""}]
[{"$f":"'Pivot Table Data'!B734","v":0},{"$f":"'Pivot Table Data'!F734","v":"Muir College"},{"$f":"'Pivot Table Data'!P734","v":"P416"},{"$f":"'Pivot Table Data'!I734","v":"-"},{"$f":"'Pivot Table Data'!J734","v":"Accessible"},{"$f":"'Pivot Table Data'!K734","v":0},{"$f":"'Pivot Table Data'!L734","v":0},{"$f":"'Pivot Table Data'!S734","v":14},{"$f":"'Pivot Table Data'!T734","v":14},{"$f":"IF('Pivot Table Data'!O734=\"Yes\", 'Pivot Table Data'!T734, \"\")","v":""}]
[{"$f":"'Pivot Table Data'!B735","v":0},{"$f":"'Pivot Table Data'!F735","v":"Muir College"},{"$f":"'Pivot Table Data'!P735","v":"P416"},{"$f":"'Pivot Table Data'!I735","v":"-"},{"$f":"'Pivot Table Data'!J735","v":"Accessible (Van)"},{"$f":"'Pivot Table Data'!K735","v":0},{"$f":"'Pivot Table Data'!L735","v":0},{"$f":"'Pivot Table Data'!S735","v":9},{"$f":"'Pivot Table Data'!T735","v":9},{"$f":"IF('Pivot Table Data'!O735=\"Yes\", 'Pivot Table Data'!T735, \"\")","v":""}]
[{"$f":"'Pivot Table Data'!B736","v":0},{"$f":"'Pivot Table Data'!F736","v":"Muir College"},{"$f":"'Pivot Table Data'!P736","v":"P416"},{"$f":"'Pivot Table Data'!I736","v":"-"},{"$f":"'Pivot Table Data'!J736","v":"Loading"},{"$f":"'Pivot Table Data'!K736","v":"Curb"},{"$f":"'Pivot Table Data'!L736","v":0},{"$f":"'Pivot Table Data'!S736","v":1},{"$f":"'Pivot Table Data'!T736","v":1},{"$f":"IF('Pivot Table Data'!O736=\"Yes\", 'Pivot Table Data'!T736, \"\")","v":""}]
[{"$f":"'Pivot Table Data'!B737","v":0},{"$f":"'Pivot Table Data'!F737","v":"Muir College"},{"$f":"'Pivot Table Data'!P737","v":"P416"},{"$f":"'Pivot Table Data'!I737","v":"-"},{"$f":"'Pivot Table Data'!J737","v":"Reserved"},{"$f":"'Pivot Table Data'!K737","v":"Blue Reserved"},{"$f":"'Pivot Table Data'!L737","v":0},{"$f":"'Pivot Table Data'!S737","v":21},{"$f":"'Pivot Table Data'!T737","v":21},{"$f":"IF('Pivot Table Data'!O737=\"Yes\", 'Pivot Table Data'!T737, \"\")","v":""}]
[{"$f":"'Pivot Table Data'!B738","v":0},{"$f":"'Pivot Table Data'!F738","v":"Muir College"},{"$f":"'Pivot Table Data'!P738","v":"P416"},{"$f":"'Pivot Table Data'!I738","v":"-"},{"$f":"'Pivot Table Data'!J738","v":"Reserved"},{"$f":"'Pivot Table Data'!K738","v":"Gold Reserved"},{"$f":"'Pivot Table Data'!L738","v":0},{"$f":"'Pivot Table Data'!S738","v":22},{"$f":"'Pivot Table Data'!T738","v":22},{"$f":"IF('Pivot Table Data'!O738=\"Yes\", 'Pivot Table Data'!T738, \"\")","v":""}]
[{"$f":"'Pivot Table Data'!B739","v":0},{"$f":"'Pivot Table Data'!F739","v":"Muir College"},{"$f":"'Pivot Table Data'!P739","v":"P416"},{"$f":"'Pivot Table Data'!I739","v":"-"},{"$f":"'Pivot Table Data'!J739","v":"Reserved"},{"$f":"'Pivot Table Data'!K739","v":"Target"},{"$f":"'Pivot Table Data'!L739","v":0},{"$f":"'Pivot Table Data'!S739","v":1},{"$f":"'Pivot Table Data'!T739","v":1},{"$f":"IF('Pivot Table Data'!O739=\"Yes\", 'Pivot Table Data'!T739, \"\")","v":""}]
[{"$f":"'Pivot Table Data'!B740","v":0},{"$f":"'Pivot Table Data'!F740","v":"Warren College"},{"$f":"'Pivot Table Data'!P740","v":"P418"},{"$f":"'Pivot Table Data'!I740","v":"-"},{"$f":"'Pivot Table Data'!J740","v":"Accessible"},{"$f":"'Pivot Table Data'!K740","v":0},{"$f":"'Pivot Table Data'!L740","v":0},{"$f":"'Pivot Table Data'!S740","v":4},{"$f":"'Pivot Table Data'!T740","v":4},{"$f":"IF('Pivot Table Data'!O740=\"Yes\", 'Pivot Table Data'!T740, \"\")","v":""}]
[{"$f":"'Pivot Table Data'!B741","v":0},{"$f":"'Pivot Table Data'!F741","v":"Warren College"},{"$f":"'Pivot Table Data'!P741","v":"P418"},{"$f":"'Pivot Table Data'!I741","v":"-"},{"$f":"'Pivot Table Data'!J741","v":"Accessible (Van)"},{"$f":"'Pivot Table Data'!K741","v":0},{"$f":"'Pivot Table Data'!L741","v":0},{"$f":"'Pivot Table Data'!S741","v":2},{"$f":"'Pivot Table Data'!T741","v":2},{"$f":"IF('Pivot Table Data'!O741=\"Yes\", 'Pivot Table Data'!T741, \"\")","v":""}]
[{"$f":"'Pivot Table Data'!B742","v":0},{"$f":"'Pivot Table Data'!F742","v":"Warren College"},{"$f":"'Pivot Table Data'!P742","v":"P418"},{"$f":"'Pivot Table Data'!I742","v":"-"},{"$f":"'Pivot Table Data'!J742","v":"Loading"},{"$f":"'Pivot Table Data'!K742","v":0},{"$f":"'Pivot Table Data'!L742","v":"20 minutes"},{"$f":"'Pivot Table Data'!S742","v":1},{"$f":"'Pivot Table Data'!T742","v":1},{"$f":"IF('Pivot Table Data'!O742=\"Yes\", 'Pivot Table Data'!T742, \"\")","v":""}]
[{"$f":"'Pivot Table Data'!B743","v":0},{"$f":"'Pivot Table Data'!F743","v":"University Center"},{"$f":"'Pivot Table Data'!P743","v":"P501"},{"$f":"'Pivot Table Data'!I743","v":"-"},{"$f":"'Pivot Table Data'!J743","v":"Accessible"},{"$f":"'Pivot Table Data'!K743","v":0},{"$f":"'Pivot Table Data'!L743","v":0},{"$f":"'Pivot Table Data'!S743","v":1},{"$f":"'Pivot Table Data'!T743","v":1},{"$f":"IF('Pivot Table Data'!O743=\"Yes\", 'Pivot Table Data'!T743, \"\")","v":""}]
[{"$f":"'Pivot Table Data'!B744","v":0},{"$f":"'Pivot Table Data'!F744","v":"University Center"},{"$f":"'Pivot Table Data'!P744","v":"P501"},{"$f":"'Pivot Table Data'!I744","v":"-"},{"$f":"'Pivot Table Data'!J744","v":"Accessible (Van)"},{"$f":"'Pivot Table Data'!K744","v":0},{"$f":"'Pivot Table Data'!L744","v":0},{"$f":"'Pivot Table Data'!S744","v":4},{"$f":"'Pivot Table Data'!T744","v":4},{"$f":"IF('Pivot Table Data'!O744=\"Yes\", 'Pivot Table Data'!T744, \"\")","v":""}]
[{"$f":"'Pivot Table Data'!B745","v":0},{"$f":"'Pivot Table Data'!F745","v":"University Center"},{"$f":"'Pivot Table Data'!P745","v":"P501"},{"$f":"'Pivot Table Data'!I745","v":"-"},{"$f":"'Pivot Table Data'!J745","v":"Loading"},{"$f":"'Pivot Table Data'!K745","v":"Dock"},{"$f":"'Pivot Table Data'!L745","v":0},{"$f":"'Pivot Table Data'!S745","v":1},{"$f":"'Pivot Table Data'!T745","v":1},{"$f":"IF('Pivot Table Data'!O745=\"Yes\", 'Pivot Table Data'!T745, \"\")","v":""}]
[{"$f":"'Pivot Table Data'!B746","v":0},{"$f":"'Pivot Table Data'!F746","v":"University Center"},{"$f":"'Pivot Table Data'!P746","v":"P501"},{"$f":"'Pivot Table Data'!I746","v":"-"},{"$f":"'Pivot Table Data'!J746","v":"Service Yard"},{"$f":"'Pivot Table Data'!K746","v":0},{"$f":"'Pivot Table Data'!L746","v":0},{"$f":"'Pivot Table Data'!S746","v":6},{"$f":"'Pivot Table Data'!T746","v":6},{"$f":"IF('Pivot Table Data'!O746=\"Yes\", 'Pivot Table Data'!T746, \"\")","v":""}]
[{"$f":"'Pivot Table Data'!B747","v":0},{"$f":"'Pivot Table Data'!F747","v":"Warren College"},{"$f":"'Pivot Table Data'!P747","v":"P502"},{"$f":"'Pivot Table Data'!I747","v":"-"},{"$f":"'Pivot Table Data'!J747","v":"Loading"},{"$f":"'Pivot Table Data'!K747","v":0},{"$f":"'Pivot Table Data'!L747","v":"20 minutes"},{"$f":"'Pivot Table Data'!S747","v":4},{"$f":"'Pivot Table Data'!T747","v":4},{"$f":"IF('Pivot Table Data'!O747=\"Yes\", 'Pivot Table Data'!T747, \"\")","v":""}]
[{"$f":"'Pivot Table Data'!B748","v":0},{"$f":"'Pivot Table Data'!F748","v":"Warren College"},{"$f":"'Pivot Table Data'!P748","v":"P502"},{"$f":"'Pivot Table Data'!I748","v":"-"},{"$f":"'Pivot Table Data'!J748","v":"Reserved"},{"$f":"'Pivot Table Data'!K748","v":0},{"$f":"'Pivot Table Data'!L748","v":0},{"$f":"'Pivot Table Data'!S748","v":6},{"$f":"'Pivot Table Data'!T748","v":6},{"$f":"IF('Pivot Table Data'!O748=\"Yes\", 'Pivot Table Data'!T748, \"\")","v":""}]
[{"$f":"'Pivot Table Data'!B749","v":0},{"$f":"'Pivot Table Data'!F749","v":"Warren College"},{"$f":"'Pivot Table Data'!P749","v":"P503"},{"$f":"'Pivot Table Data'!I749","v":"-"},{"$f":"'Pivot Table Data'!J749","v":"A"},{"$f":"'Pivot Table Data'!K749","v":0},{"$f":"'Pivot Table Data'!L749","v":"4 hours"},{"$f":"'Pivot Table Data'!S749","v":8},{"$f":"'Pivot Table Data'!T749","v":8},{"$f":"IF('Pivot Table Data'!O749=\"Yes\", 'Pivot Table Data'!T749, \"\")","v":8}]
[{"$f":"'Pivot Table Data'!B750","v":0},{"$f":"'Pivot Table Data'!F750","v":"Warren College"},{"$f":"'Pivot Table Data'!P750","v":"P503"},{"$f":"'Pivot Table Data'!I750","v":"-"},{"$f":"'Pivot Table Data'!J750","v":"Accessible"},{"$f":"'Pivot Table Data'!K750","v":0},{"$f":"'Pivot Table Data'!L750","v":0},{"$f":"'Pivot Table Data'!S750","v":1},{"$f":"'Pivot Table Data'!T750","v":1},{"$f":"IF('Pivot Table Data'!O750=\"Yes\", 'Pivot Table Data'!T750, \"\")","v":""}]
[{"$f":"'Pivot Table Data'!B751","v":0},{"$f":"'Pivot Table Data'!F751","v":"Warren College"},{"$f":"'Pivot Table Data'!P751","v":"P503"},{"$f":"'Pivot Table Data'!I751","v":"-"},{"$f":"'Pivot Table Data'!J751","v":"Accessible (Van)"},{"$f":"'Pivot Table Data'!K751","v":0},{"$f":"'Pivot Table Data'!L751","v":0},{"$f":"'Pivot Table Data'!S751","v":5},{"$f":"'Pivot Table Data'!T751","v":5},{"$f":"IF('Pivot Table Data'!O751=\"Yes\", 'Pivot Table Data'!T751, \"\")","v":""}]
[{"$f":"'Pivot Table Data'!B752","v":0},{"$f":"'Pivot Table Data'!F752","v":"Warren College"},{"$f":"'Pivot Table Data'!P752","v":"P503"},{"$f":"'Pivot Table Data'!I752","v":"-"},{"$f":"'Pivot Table Data'!J752","v":"B"},{"$f":"'Pivot Table Data'!K752","v":0},{"$f":"'Pivot Table Data'!L752","v":"1 hour"},{"$f":"'Pivot Table Data'!S752","v":2},{"$f":"'Pivot Table Data'!T752","v":2},{"$f":"IF('Pivot Table Data'!O752=\"Yes\", 'Pivot Table Data'!T752, \"\")","v":2}]
[{"$f":"'Pivot Table Data'!B753","v":0},{"$f":"'Pivot Table Data'!F753","v":"Warren College"},{"$f":"'Pivot Table Data'!P753","v":"P503"},{"$f":"'Pivot Table Data'!I753","v":"-"},{"$f":"'Pivot Table Data'!J753","v":"Motorcycle Section"},{"$f":"'Pivot Table Data'!K753","v":0},{"$f":"'Pivot Table Data'!L753","v":0},{"$f":"'Pivot Table Data'!S753","v":5},{"$f":"'Pivot Table Data'!T753","v":5},{"$f":"IF('Pivot Table Data'!O753=\"Yes\", 'Pivot Table Data'!T753, \"\")","v":""}]
[{"$f":"'Pivot Table Data'!B754","v":0},{"$f":"'Pivot Table Data'!F754","v":"Warren College"},{"$f":"'Pivot Table Data'!P754","v":"P503"},{"$f":"'Pivot Table Data'!I754","v":"-"},{"$f":"'Pivot Table Data'!J754","v":"Reserved"},{"$f":"'Pivot Table Data'!K754","v":0},{"$f":"'Pivot Table Data'!L754","v":0},{"$f":"'Pivot Table Data'!S754","v":23},{"$f":"'Pivot Table Data'!T754","v":23},{"$f":"IF('Pivot Table Data'!O754=\"Yes\", 'Pivot Table Data'!T754, \"\")","v":""}]
[{"$f":"'Pivot Table Data'!B755","v":0},{"$f":"'Pivot Table Data'!F755","v":"Warren College"},{"$f":"'Pivot Table Data'!P755","v":"P503"},{"$f":"'Pivot Table Data'!I755","v":"-"},{"$f":"'Pivot Table Data'!J755","v":"Visitor"},{"$f":"'Pivot Table Data'!K755","v":0},{"$f":"'Pivot Table Data'!L755","v":"3 hours"},{"$f":"'Pivot Table Data'!S755","v":10},{"$f":"'Pivot Table Data'!T755","v":10},{"$f":"IF('Pivot Table Data'!O755=\"Yes\", 'Pivot Table Data'!T755, \"\")","v":10}]
[{"$f":"'Pivot Table Data'!B756","v":0},{"$f":"'Pivot Table Data'!F756","v":"Warren College"},{"$f":"'Pivot Table Data'!P756","v":"P504"},{"$f":"'Pivot Table Data'!I756","v":"-"},{"$f":"'Pivot Table Data'!J756","v":"Accessible"},{"$f":"'Pivot Table Data'!K756","v":0},{"$f":"'Pivot Table Data'!L756","v":0},{"$f":"'Pivot Table Data'!S756","v":4},{"$f":"'Pivot Table Data'!T756","v":4},{"$f":"IF('Pivot Table Data'!O756=\"Yes\", 'Pivot Table Data'!T756, \"\")","v":""}]
[{"$f":"'Pivot Table Data'!B757","v":0},{"$f":"'Pivot Table Data'!F757","v":"Warren College"},{"$f":"'Pivot Table Data'!P757","v":"P504"},{"$f":"'Pivot Table Data'!I757","v":"-"},{"$f":"'Pivot Table Data'!J757","v":"Accessible (Van)"},{"$f":"'Pivot Table Data'!K757","v":0},{"$f":"'Pivot Table Data'!L757","v":0},{"$f":"'Pivot Table Data'!S757","v":2},{"$f":"'Pivot Table Data'!T757","v":2},{"$f":"IF('Pivot Table Data'!O757=\"Yes\", 'Pivot Table Data'!T757, \"\")","v":""}]
[{"$f":"'Pivot Table Data'!B758","v":0},{"$f":"'Pivot Table Data'!F758","v":"Warren College"},{"$f":"'Pivot Table Data'!P758","v":"P504"},{"$f":"'Pivot Table Data'!I758","v":"-"},{"$f":"'Pivot Table Data'!J758","v":"Loading"},{"$f":"'Pivot Table Data'!K758","v":0},{"$f":"'Pivot Table Data'!L758","v":0},{"$f":"'Pivot Table Data'!S758","v":8},{"$f":"'Pivot Table Data'!T758","v":8},{"$f":"IF('Pivot Table Data'!O758=\"Yes\", 'Pivot Table Data'!T758, \"\")","v":""}]
[{"$f":"'Pivot Table Data'!B759","v":0},{"$f":"'Pivot Table Data'!F759","v":"Warren College"},{"$f":"'Pivot Table Data'!P759","v":"P504"},{"$f":"'Pivot Table Data'!I759","v":"-"},{"$f":"'Pivot Table Data'!J759","v":"Motorcycle Section"},{"$f":"'Pivot Table Data'!K759","v":0},{"$f":"'Pivot Table Data'!L759","v":0},{"$f":"'Pivot Table Data'!S759","v":1},{"$f":"'Pivot Table Data'!T759","v":1},{"$f":"IF('Pivot Table Data'!O759=\"Yes\", 'Pivot Table Data'!T759, \"\")","v":""}]
[{"$f":"'Pivot Table Data'!B760","v":0},{"$f":"'Pivot Table Data'!F760","v":"Warren College"},{"$f":"'Pivot Table Data'!P760","v":"P504"},{"$f":"'Pivot Table Data'!I760","v":"-"},{"$f":"'Pivot Table Data'!J760","v":"Reserved"},{"$f":"'Pivot Table Data'!K760","v":0},{"$f":"'Pivot Table Data'!L760","v":0},{"$f":"'Pivot Table Data'!S760","v":6},{"$f":"'Pivot Table Data'!T760","v":6},{"$f":"IF('Pivot Table Data'!O760=\"Yes\", 'Pivot Table Data'!T760, \"\")","v":""}]
[{"$f":"'Pivot Table Data'!B761","v":0},{"$f":"'Pivot Table Data'!F761","v":"Warren College"},{"$f":"'Pivot Table Data'!P761","v":"P504"},{"$f":"'Pivot Table Data'!I761","v":"-"},{"$f":"'Pivot Table Data'!J761","v":"SR"},{"$f":"'Pivot Table Data'!K761","v":0},{"$f":"'Pivot Table Data'!L761","v":0},{"$f":"'Pivot Table Data'!S761","v":27},{"$f":"'Pivot Table Data'!T761","v":27},{"$f":"IF('Pivot Table Data'!O761=\"Yes\", 'Pivot Table Data'!T761, \"\")","v":27}]
[{"$f":"'Pivot Table Data'!B762","v":0},{"$f":"'Pivot Table Data'!F762","v":"Warren College"},{"$f":"'Pivot Table Data'!P762","v":"P504"},{"$f":"'Pivot Table Data'!I762","v":"-"},{"$f":"'Pivot Table Data'!J762","v":"Visitor"},{"$f":"'Pivot Table Data'!K762","v":0},{"$f":"'Pivot Table Data'!L762","v":0},{"$f":"'Pivot Table Data'!S762","v":6},{"$f":"'Pivot Table Data'!T762","v":6},{"$f":"IF('Pivot Table Data'!O762=\"Yes\", 'Pivot Table Data'!T762, \"\")","v":6}]
[{"$f":"'Pivot Table Data'!B763","v":0},{"$f":"'Pivot Table Data'!F763","v":"Warren College"},{"$f":"'Pivot Table Data'!P763","v":"P505"},{"$f":"'Pivot Table Data'!I763","v":"-"},{"$f":"'Pivot Table Data'!J763","v":"Loading"},{"$f":"'Pivot Table Data'!K763","v":"Dock"},{"$f":"'Pivot Table Data'!L763","v":0},{"$f":"'Pivot Table Data'!S763","v":1},{"$f":"'Pivot Table Data'!T763","v":1},{"$f":"IF('Pivot Table Data'!O763=\"Yes\", 'Pivot Table Data'!T763, \"\")","v":""}]
[{"$f":"'Pivot Table Data'!B764","v":0},{"$f":"'Pivot Table Data'!F764","v":"Warren College"},{"$f":"'Pivot Table Data'!P764","v":"P505"},{"$f":"'Pivot Table Data'!I764","v":"-"},{"$f":"'Pivot Table Data'!J764","v":"Reserved"},{"$f":"'Pivot Table Data'!K764","v":0},{"$f":"'Pivot Table Data'!L764","v":0},{"$f":"'Pivot Table Data'!S764","v":4},{"$f":"'Pivot Table Data'!T764","v":4},{"$f":"IF('Pivot Table Data'!O764=\"Yes\", 'Pivot Table Data'!T764, \"\")","v":""}]
[{"$f":"'Pivot Table Data'!B765","v":0},{"$f":"'Pivot Table Data'!F765","v":"Warren College"},{"$f":"'Pivot Table Data'!P765","v":"P505"},{"$f":"'Pivot Table Data'!I765","v":"-"},{"$f":"'Pivot Table Data'!J765","v":"Service Yard"},{"$f":"'Pivot Table Data'!K765","v":0},{"$f":"'Pivot Table Data'!L765","v":0},{"$f":"'Pivot Table Data'!S765","v":2},{"$f":"'Pivot Table Data'!T765","v":2},{"$f":"IF('Pivot Table Data'!O765=\"Yes\", 'Pivot Table Data'!T765, \"\")","v":""}]
[{"$f":"'Pivot Table Data'!B766","v":0},{"$f":"'Pivot Table Data'!F766","v":"Warren College"},{"$f":"'Pivot Table Data'!P766","v":"P506"},{"$f":"'Pivot Table Data'!I766","v":"-"},{"$f":"'Pivot Table Data'!J766","v":"A"},{"$f":"'Pivot Table Data'!K766","v":0},{"$f":"'Pivot Table Data'!L766","v":"3 hours"},{"$f":"'Pivot Table Data'!S766","v":3},{"$f":"'Pivot Table Data'!T766","v":3},{"$f":"IF('Pivot Table Data'!O766=\"Yes\", 'Pivot Table Data'!T766, \"\")","v":3}]
[{"$f":"'Pivot Table Data'!B767","v":0},{"$f":"'Pivot Table Data'!F767","v":"Warren College"},{"$f":"'Pivot Table Data'!P767","v":"P506"},{"$f":"'Pivot Table Data'!I767","v":"-"},{"$f":"'Pivot Table Data'!J767","v":"Accessible"},{"$f":"'Pivot Table Data'!K767","v":0},{"$f":"'Pivot Table Data'!L767","v":0},{"$f":"'Pivot Table Data'!S767","v":1},{"$f":"'Pivot Table Data'!T767","v":1},{"$f":"IF('Pivot Table Data'!O767=\"Yes\", 'Pivot Table Data'!T767, \"\")","v":""}]
[{"$f":"'Pivot Table Data'!B768","v":0},{"$f":"'Pivot Table Data'!F768","v":"Warren College"},{"$f":"'Pivot Table Data'!P768","v":"P506"},{"$f":"'Pivot Table Data'!I768","v":"-"},{"$f":"'Pivot Table Data'!J768","v":"Accessible (Van)"},{"$f":"'Pivot Table Data'!K768","v":0},{"$f":"'Pivot Table Data'!L768","v":0},{"$f":"'Pivot Table Data'!S768","v":1},{"$f":"'Pivot Table Data'!T768","v":1},{"$f":"IF('Pivot Table Data'!O768=\"Yes\", 'Pivot Table Data'!T768, \"\")","v":""}]
[{"$f":"'Pivot Table Data'!B769","v":0},{"$f":"'Pivot Table Data'!F769","v":"Warren College"},{"$f":"'Pivot Table Data'!P769","v":"P506"},{"$f":"'Pivot Table Data'!I769","v":"-"},{"$f":"'Pivot Table Data'!J769","v":"Motorcycle Section"},{"$f":"'Pivot Table Data'!K769","v":0},{"$f":"'Pivot Table Data'!L769","v":0},{"$f":"'Pivot Table Data'!S769","v":1},{"$f":"'Pivot Table Data'!T769","v":1},{"$f":"IF('Pivot Table Data'!O769=\"Yes\", 'Pivot Table Data'!T769, \"\")","v":""}]
[{"$f":"'Pivot Table Data'!B770","v":0},{"$f":"'Pivot Table Data'!F770","v":"Warren College"},{"$f":"'Pivot Table Data'!P770","v":"P506"},{"$f":"'Pivot Table Data'!I770","v":"-"},{"$f":"'Pivot Table Data'!J770","v":"Service Yard"},{"$f":"'Pivot Table Data'!K770","v":0},{"$f":"'Pivot Table Data'!L770","v":0},{"$f":"'Pivot Table Data'!S770","v":1},{"$f":"'Pivot Table Data'!T770","v":1},{"$f":"IF('Pivot Table Data'!O770=\"Yes\", 'Pivot Table Data'!T770, \"\")","v":""}]
[{"$f":"'Pivot Table Data'!B771","v":0},{"$f":"'Pivot Table Data'!F771","v":"Warren College"},{"$f":"'Pivot Table Data'!P771","v":"P506"},{"$f":"'Pivot Table Data'!I771","v":"-"},{"$f":"'Pivot Table Data'!J771","v":"UC Vehicle"},{"$f":"'Pivot Table Data'!K771","v":0},{"$f":"'Pivot Table Data'!L771","v":0},{"$f":"'Pivot Table Data'!S771","v":2},{"$f":"'Pivot Table Data'!T771","v":2},{"$f":"IF('Pivot Table Data'!O771=\"Yes\", 'Pivot Table Data'!T771, \"\")","v":""}]
[{"$f":"'Pivot Table Data'!B772","v":0},{"$f":"'Pivot Table Data'!F772","v":"Warren College"},{"$f":"'Pivot Table Data'!P772","v":"P506"},{"$f":"'Pivot Table Data'!I772","v":"-"},{"$f":"'Pivot Table Data'!J772","v":"Visitor"},{"$f":"'Pivot Table Data'!K772","v":0},{"$f":"'Pivot Table Data'!L772","v":"3 hours"},{"$f":"'Pivot Table Data'!S772","v":12},{"$f":"'Pivot Table Data'!T772","v":12},{"$f":"IF('Pivot Table Data'!O772=\"Yes\", 'Pivot Table Data'!T772, \"\")","v":12}]
[{"$f":"'Pivot Table Data'!B773","v":0},{"$f":"'Pivot Table Data'!F773","v":"Campus Services"},{"$f":"'Pivot Table Data'!P773","v":"P507"},{"$f":"'Pivot Table Data'!I773","v":"-"},{"$f":"'Pivot Table Data'!J773","v":"Accessible"},{"$f":"'Pivot Table Data'!K773","v":0},{"$f":"'Pivot Table Data'!L773","v":0},{"$f":"'Pivot Table Data'!S773","v":8},{"$f":"'Pivot Table Data'!T773","v":8},{"$f":"IF('Pivot Table Data'!O773=\"Yes\", 'Pivot Table Data'!T773, \"\")","v":""}]
[{"$f":"'Pivot Table Data'!B774","v":0},{"$f":"'Pivot Table Data'!F774","v":"Campus Services"},{"$f":"'Pivot Table Data'!P774","v":"P507"},{"$f":"'Pivot Table Data'!I774","v":"-"},{"$f":"'Pivot Table Data'!J774","v":"Accessible (Van)"},{"$f":"'Pivot Table Data'!K774","v":0},{"$f":"'Pivot Table Data'!L774","v":0},{"$f":"'Pivot Table Data'!S774","v":1},{"$f":"'Pivot Table Data'!T774","v":1},{"$f":"IF('Pivot Table Data'!O774=\"Yes\", 'Pivot Table Data'!T774, \"\")","v":""}]
[{"$f":"'Pivot Table Data'!B775","v":0},{"$f":"'Pivot Table Data'!F775","v":"Campus Services"},{"$f":"'Pivot Table Data'!P775","v":"P507"},{"$f":"'Pivot Table Data'!I775","v":"-"},{"$f":"'Pivot Table Data'!J775","v":"Allocated"},{"$f":"'Pivot Table Data'!K775","v":"Key Pick Up"},{"$f":"'Pivot Table Data'!L775","v":0},{"$f":"'Pivot Table Data'!S775","v":1},{"$f":"'Pivot Table Data'!T775","v":1},{"$f":"IF('Pivot Table Data'!O775=\"Yes\", 'Pivot Table Data'!T775, \"\")","v":""}]
[{"$f":"'Pivot Table Data'!B776","v":0},{"$f":"'Pivot Table Data'!F776","v":"Campus Services"},{"$f":"'Pivot Table Data'!P776","v":"P507"},{"$f":"'Pivot Table Data'!I776","v":"-"},{"$f":"'Pivot Table Data'!J776","v":"B"},{"$f":"'Pivot Table Data'!K776","v":0},{"$f":"'Pivot Table Data'!L776","v":0},{"$f":"'Pivot Table Data'!S776","v":63},{"$f":"'Pivot Table Data'!T776","v":63},{"$f":"IF('Pivot Table Data'!O776=\"Yes\", 'Pivot Table Data'!T776, \"\")","v":63}]
[{"$f":"'Pivot Table Data'!B777","v":0},{"$f":"'Pivot Table Data'!F777","v":"Campus Services"},{"$f":"'Pivot Table Data'!P777","v":"P507"},{"$f":"'Pivot Table Data'!I777","v":"-"},{"$f":"'Pivot Table Data'!J777","v":"Electric Vehicle"},{"$f":"'Pivot Table Data'!K777","v":0},{"$f":"'Pivot Table Data'!L777","v":0},{"$f":"'Pivot Table Data'!S777","v":2},{"$f":"'Pivot Table Data'!T777","v":2},{"$f":"IF('Pivot Table Data'!O777=\"Yes\", 'Pivot Table Data'!T777, \"\")","v":""}]
[{"$f":"'Pivot Table Data'!B778","v":0},{"$f":"'Pivot Table Data'!F778","v":"Campus Services"},{"$f":"'Pivot Table Data'!P778","v":"P507"},{"$f":"'Pivot Table Data'!I778","v":"-"},{"$f":"'Pivot Table Data'!J778","v":"Loading"},{"$f":"'Pivot Table Data'!K778","v":0},{"$f":"'Pivot Table Data'!L778","v":0},{"$f":"'Pivot Table Data'!S778","v":3},{"$f":"'Pivot Table Data'!T778","v":3},{"$f":"IF('Pivot Table Data'!O778=\"Yes\", 'Pivot Table Data'!T778, \"\")","v":""}]
[{"$f":"'Pivot Table Data'!B779","v":0},{"$f":"'Pivot Table Data'!F779","v":"Campus Services"},{"$f":"'Pivot Table Data'!P779","v":"P507"},{"$f":"'Pivot Table Data'!I779","v":"-"},{"$f":"'Pivot Table Data'!J779","v":"Motorcycle Section"},{"$f":"'Pivot Table Data'!K779","v":0},{"$f":"'Pivot Table Data'!L779","v":0},{"$f":"'Pivot Table Data'!S779","v":5},{"$f":"'Pivot Table Data'!T779","v":5},{"$f":"IF('Pivot Table Data'!O779=\"Yes\", 'Pivot Table Data'!T779, \"\")","v":""}]
[{"$f":"'Pivot Table Data'!B780","v":0},{"$f":"'Pivot Table Data'!F780","v":"Campus Services"},{"$f":"'Pivot Table Data'!P780","v":"P507"},{"$f":"'Pivot Table Data'!I780","v":"-"},{"$f":"'Pivot Table Data'!J780","v":"Service Yard"},{"$f":"'Pivot Table Data'!K780","v":0},{"$f":"'Pivot Table Data'!L780","v":0},{"$f":"'Pivot Table Data'!S780","v":12},{"$f":"'Pivot Table Data'!T780","v":12},{"$f":"IF('Pivot Table Data'!O780=\"Yes\", 'Pivot Table Data'!T780, \"\")","v":""}]
[{"$f":"'Pivot Table Data'!B781","v":0},{"$f":"'Pivot Table Data'!F781","v":"Campus Services"},{"$f":"'Pivot Table Data'!P781","v":"P507"},{"$f":"'Pivot Table Data'!I781","v":"-"},{"$f":"'Pivot Table Data'!J781","v":"UC Vehicle"},{"$f":"'Pivot Table Data'!K781","v":"Reserved"},{"$f":"'Pivot Table Data'!L781","v":0},{"$f":"'Pivot Table Data'!S781","v":2},{"$f":"'Pivot Table Data'!T781","v":2},{"$f":"IF('Pivot Table Data'!O781=\"Yes\", 'Pivot Table Data'!T781, \"\")","v":""}]
[{"$f":"'Pivot Table Data'!B782","v":0},{"$f":"'Pivot Table Data'!F782","v":"Campus Services"},{"$f":"'Pivot Table Data'!P782","v":"P507"},{"$f":"'Pivot Table Data'!I782","v":"-"},{"$f":"'Pivot Table Data'!J782","v":"UC Vehicle"},{"$f":"'Pivot Table Data'!K782","v":0},{"$f":"'Pivot Table Data'!L782","v":0},{"$f":"'Pivot Table Data'!S782","v":133},{"$f":"'Pivot Table Data'!T782","v":133},{"$f":"IF('Pivot Table Data'!O782=\"Yes\", 'Pivot Table Data'!T782, \"\")","v":""}]
[{"$f":"'Pivot Table Data'!B783","v":0},{"$f":"'Pivot Table Data'!F783","v":"Campus Services"},{"$f":"'Pivot Table Data'!P783","v":"P507"},{"$f":"'Pivot Table Data'!I783","v":"-"},{"$f":"'Pivot Table Data'!J783","v":"Visitor"},{"$f":"'Pivot Table Data'!K783","v":"Police Visitor"},{"$f":"'Pivot Table Data'!L783","v":0},{"$f":"'Pivot Table Data'!S783","v":4},{"$f":"'Pivot Table Data'!T783","v":4},{"$f":"IF('Pivot Table Data'!O783=\"Yes\", 'Pivot Table Data'!T783, \"\")","v":4}]
[{"$f":"'Pivot Table Data'!B784","v":0},{"$f":"'Pivot Table Data'!F784","v":"Campus Services"},{"$f":"'Pivot Table Data'!P784","v":"P507"},{"$f":"'Pivot Table Data'!I784","v":"-"},{"$f":"'Pivot Table Data'!J784","v":"Visitor"},{"$f":"'Pivot Table Data'!K784","v":0},{"$f":"'Pivot Table Data'!L784","v":0},{"$f":"'Pivot Table Data'!S784","v":16},{"$f":"'Pivot Table Data'!T784","v":16},{"$f":"IF('Pivot Table Data'!O784=\"Yes\", 'Pivot Table Data'!T784, \"\")","v":16}]
[{"$f":"'Pivot Table Data'!B785","v":0},{"$f":"'Pivot Table Data'!F785","v":"Warren College"},{"$f":"'Pivot Table Data'!P785","v":"P508"},{"$f":"'Pivot Table Data'!I785","v":"-"},{"$f":"'Pivot Table Data'!J785","v":"A"},{"$f":"'Pivot Table Data'!K785","v":"24/7 Enforced"},{"$f":"'Pivot Table Data'!L785","v":0},{"$f":"'Pivot Table Data'!S785","v":1},{"$f":"'Pivot Table Data'!T785","v":1},{"$f":"IF('Pivot Table Data'!O785=\"Yes\", 'Pivot Table Data'!T785, \"\")","v":1}]
[{"$f":"'Pivot Table Data'!B786","v":0},{"$f":"'Pivot Table Data'!F786","v":"Warren College"},{"$f":"'Pivot Table Data'!P786","v":"P508"},{"$f":"'Pivot Table Data'!I786","v":"-"},{"$f":"'Pivot Table Data'!J786","v":"Accessible"},{"$f":"'Pivot Table Data'!K786","v":0},{"$f":"'Pivot Table Data'!L786","v":0},{"$f":"'Pivot Table Data'!S786","v":3},{"$f":"'Pivot Table Data'!T786","v":3},{"$f":"IF('Pivot Table Data'!O786=\"Yes\", 'Pivot Table Data'!T786, \"\")","v":""}]
[{"$f":"'Pivot Table Data'!B787","v":0},{"$f":"'Pivot Table Data'!F787","v":"Warren College"},{"$f":"'Pivot Table Data'!P787","v":"P508"},{"$f":"'Pivot Table Data'!I787","v":"-"},{"$f":"'Pivot Table Data'!J787","v":"Accessible (Van)"},{"$f":"'Pivot Table Data'!K787","v":0},{"$f":"'Pivot Table Data'!L787","v":0},{"$f":"'Pivot Table Data'!S787","v":7},{"$f":"'Pivot Table Data'!T787","v":7},{"$f":"IF('Pivot Table Data'!O787=\"Yes\", 'Pivot Table Data'!T787, \"\")","v":""}]
[{"$f":"'Pivot Table Data'!B788","v":0},{"$f":"'Pivot Table Data'!F788","v":"Warren College"},{"$f":"'Pivot Table Data'!P788","v":"P508"},{"$f":"'Pivot Table Data'!I788","v":"-"},{"$f":"'Pivot Table Data'!J788","v":"Loading"},{"$f":"'Pivot Table Data'!K788","v":0},{"$f":"'Pivot Table Data'!L788","v":"20 minutes"},{"$f":"'Pivot Table Data'!S788","v":0},{"$f":"'Pivot Table Data'!T788","v":0},{"$f":"IF('Pivot Table Data'!O788=\"Yes\", 'Pivot Table Data'!T788, \"\")","v":""}]
[{"$f":"'Pivot Table Data'!B789","v":0},{"$f":"'Pivot Table Data'!F789","v":"Warren College"},{"$f":"'Pivot Table Data'!P789","v":"P508"},{"$f":"'Pivot Table Data'!I789","v":"-"},{"$f":"'Pivot Table Data'!J789","v":"Reserved"},{"$f":"'Pivot Table Data'!K789","v":0},{"$f":"'Pivot Table Data'!L789","v":0},{"$f":"'Pivot Table Data'!S789","v":25},{"$f":"'Pivot Table Data'!T789","v":25},{"$f":"IF('Pivot Table Data'!O789=\"Yes\", 'Pivot Table Data'!T789, \"\")","v":""}]
[{"$f":"'Pivot Table Data'!B790","v":0},{"$f":"'Pivot Table Data'!F790","v":"Warren College"},{"$f":"'Pivot Table Data'!P790","v":"P508"},{"$f":"'Pivot Table Data'!I790","v":"-"},{"$f":"'Pivot Table Data'!J790","v":"Visitor"},{"$f":"'Pivot Table Data'!K790","v":0},{"$f":"'Pivot Table Data'!L790","v":0},{"$f":"'Pivot Table Data'!S790","v":0},{"$f":"'Pivot Table Data'!T790","v":0},{"$f":"IF('Pivot Table Data'!O790=\"Yes\", 'Pivot Table Data'!T790, \"\")","v":0}]
[{"$f":"'Pivot Table Data'!B791","v":0},{"$f":"'Pivot Table Data'!F791","v":"Warren College"},{"$f":"'Pivot Table Data'!P791","v":"P509"},{"$f":"'Pivot Table Data'!I791","v":"-"},{"$f":"'Pivot Table Data'!J791","v":"Loading"},{"$f":"'Pivot Table Data'!K791","v":"Dock"},{"$f":"'Pivot Table Data'!L791","v":0},{"$f":"'Pivot Table Data'!S791","v":1},{"$f":"'Pivot Table Data'!T791","v":1},{"$f":"IF('Pivot Table Data'!O791=\"Yes\", 'Pivot Table Data'!T791, \"\")","v":""}]
[{"$f":"'Pivot Table Data'!B792","v":0},{"$f":"'Pivot Table Data'!F792","v":"Warren College"},{"$f":"'Pivot Table Data'!P792","v":"P509"},{"$f":"'Pivot Table Data'!I792","v":"-"},{"$f":"'Pivot Table Data'!J792","v":"Reserved"},{"$f":"'Pivot Table Data'!K792","v":0},{"$f":"'Pivot Table Data'!L792","v":0},{"$f":"'Pivot Table Data'!S792","v":1},{"$f":"'Pivot Table Data'!T792","v":1},{"$f":"IF('Pivot Table Data'!O792=\"Yes\", 'Pivot Table Data'!T792, \"\")","v":""}]
[{"$f":"'Pivot Table Data'!B793","v":0},{"$f":"'Pivot Table Data'!F793","v":"Warren College"},{"$f":"'Pivot Table Data'!P793","v":"P509"},{"$f":"'Pivot Table Data'!I793","v":"-"},{"$f":"'Pivot Table Data'!J793","v":"Service Yard"},{"$f":"'Pivot Table Data'!K793","v":0},{"$f":"'Pivot Table Data'!L793","v":0},{"$f":"'Pivot Table Data'!S793","v":4},{"$f":"'Pivot Table Data'!T793","v":4},{"$f":"IF('Pivot Table Data'!O793=\"Yes\", 'Pivot Table Data'!T793, \"\")","v":""}]
[{"$f":"'Pivot Table Data'!B794","v":0},{"$f":"'Pivot Table Data'!F794","v":"Warren College"},{"$f":"'Pivot Table Data'!P794","v":"P509"},{"$f":"'Pivot Table Data'!I794","v":"-"},{"$f":"'Pivot Table Data'!J794","v":"UC Vehicle"},{"$f":"'Pivot Table Data'!K794","v":"UC Cart"},{"$f":"'Pivot Table Data'!L794","v":0},{"$f":"'Pivot Table Data'!S794","v":1},{"$f":"'Pivot Table Data'!T794","v":1},{"$f":"IF('Pivot Table Data'!O794=\"Yes\", 'Pivot Table Data'!T794, \"\")","v":""}]
[{"$f":"'Pivot Table Data'!B795","v":0},{"$f":"'Pivot Table Data'!F795","v":"Campus Services"},{"$f":"'Pivot Table Data'!P795","v":"P510"},{"$f":"'Pivot Table Data'!I795","v":"-"},{"$f":"'Pivot Table Data'!J795","v":"A"},{"$f":"'Pivot Table Data'!K795","v":0},{"$f":"'Pivot Table Data'!L795","v":0},{"$f":"'Pivot Table Data'!S795","v":26},{"$f":"'Pivot Table Data'!T795","v":26},{"$f":"IF('Pivot Table Data'!O795=\"Yes\", 'Pivot Table Data'!T795, \"\")","v":26}]
[{"$f":"'Pivot Table Data'!B796","v":0},{"$f":"'Pivot Table Data'!F796","v":"Campus Services"},{"$f":"'Pivot Table Data'!P796","v":"P510"},{"$f":"'Pivot Table Data'!I796","v":"-"},{"$f":"'Pivot Table Data'!J796","v":"B"},{"$f":"'Pivot Table Data'!K796","v":0},{"$f":"'Pivot Table Data'!L796","v":0},{"$f":"'Pivot Table Data'!S796","v":157},{"$f":"'Pivot Table Data'!T796","v":157},{"$f":"IF('Pivot Table Data'!O796=\"Yes\", 'Pivot Table Data'!T796, \"\")","v":157}]
[{"$f":"'Pivot Table Data'!B797","v":0},{"$f":"'Pivot Table Data'!F797","v":"Campus Services"},{"$f":"'Pivot Table Data'!P797","v":"P510"},{"$f":"'Pivot Table Data'!I797","v":"-"},{"$f":"'Pivot Table Data'!J797","v":"Motorcycle Section"},{"$f":"'Pivot Table Data'!K797","v":0},{"$f":"'Pivot Table Data'!L797","v":0},{"$f":"'Pivot Table Data'!S797","v":3},{"$f":"'Pivot Table Data'!T797","v":3},{"$f":"IF('Pivot Table Data'!O797=\"Yes\", 'Pivot Table Data'!T797, \"\")","v":""}]
[{"$f":"'Pivot Table Data'!B798","v":0},{"$f":"'Pivot Table Data'!F798","v":"Campus Services"},{"$f":"'Pivot Table Data'!P798","v":"P510"},{"$f":"'Pivot Table Data'!I798","v":"-"},{"$f":"'Pivot Table Data'!J798","v":"Reserved"},{"$f":"'Pivot Table Data'!K798","v":0},{"$f":"'Pivot Table Data'!L798","v":0},{"$f":"'Pivot Table Data'!S798","v":3},{"$f":"'Pivot Table Data'!T798","v":3},{"$f":"IF('Pivot Table Data'!O798=\"Yes\", 'Pivot Table Data'!T798, \"\")","v":""}]
[{"$f":"'Pivot Table Data'!B799","v":0},{"$f":"'Pivot Table Data'!F799","v":"Campus Services"},{"$f":"'Pivot Table Data'!P799","v":"P510"},{"$f":"'Pivot Table Data'!I799","v":"-"},{"$f":"'Pivot Table Data'!J799","v":"Service Yard"},{"$f":"'Pivot Table Data'!K799","v":0},{"$f":"'Pivot Table Data'!L799","v":0},{"$f":"'Pivot Table Data'!S799","v":1},{"$f":"'Pivot Table Data'!T799","v":1},{"$f":"IF('Pivot Table Data'!O799=\"Yes\", 'Pivot Table Data'!T799, \"\")","v":""}]
[{"$f":"'Pivot Table Data'!B800","v":0},{"$f":"'Pivot Table Data'!F800","v":"Campus Services"},{"$f":"'Pivot Table Data'!P800","v":"P510"},{"$f":"'Pivot Table Data'!I800","v":"-"},{"$f":"'Pivot Table Data'!J800","v":"Visitor"},{"$f":"'Pivot Table Data'!K800","v":0},{"$f":"'Pivot Table Data'!L800","v":0},{"$f":"'Pivot Table Data'!S800","v":9},{"$f":"'Pivot Table Data'!T800","v":9},{"$f":"IF('Pivot Table Data'!O800=\"Yes\", 'Pivot Table Data'!T800, \"\")","v":9}]
[{"$f":"'Pivot Table Data'!B801","v":0},{"$f":"'Pivot Table Data'!F801","v":"Health Sciences West"},{"$f":"'Pivot Table Data'!P801","v":"P601"},{"$f":"'Pivot Table Data'!I801","v":"-"},{"$f":"'Pivot Table Data'!J801","v":"Accessible"},{"$f":"'Pivot Table Data'!K801","v":0},{"$f":"'Pivot Table Data'!L801","v":0},{"$f":"'Pivot Table Data'!S801","v":7},{"$f":"'Pivot Table Data'!T801","v":7},{"$f":"IF('Pivot Table Data'!O801=\"Yes\", 'Pivot Table Data'!T801, \"\")","v":""}]
[{"$f":"'Pivot Table Data'!B802","v":0},{"$f":"'Pivot Table Data'!F802","v":"Health Sciences West"},{"$f":"'Pivot Table Data'!P802","v":"P601"},{"$f":"'Pivot Table Data'!I802","v":"-"},{"$f":"'Pivot Table Data'!J802","v":"Accessible (Van)"},{"$f":"'Pivot Table Data'!K802","v":0},{"$f":"'Pivot Table Data'!L802","v":0},{"$f":"'Pivot Table Data'!S802","v":3},{"$f":"'Pivot Table Data'!T802","v":3},{"$f":"IF('Pivot Table Data'!O802=\"Yes\", 'Pivot Table Data'!T802, \"\")","v":""}]
[{"$f":"'Pivot Table Data'!B803","v":0},{"$f":"'Pivot Table Data'!F803","v":"Health Sciences West"},{"$f":"'Pivot Table Data'!P803","v":"P601"},{"$f":"'Pivot Table Data'!I803","v":"-"},{"$f":"'Pivot Table Data'!J803","v":"Loading"},{"$f":"'Pivot Table Data'!K803","v":"Dock"},{"$f":"'Pivot Table Data'!L803","v":0},{"$f":"'Pivot Table Data'!S803","v":1},{"$f":"'Pivot Table Data'!T803","v":1},{"$f":"IF('Pivot Table Data'!O803=\"Yes\", 'Pivot Table Data'!T803, \"\")","v":""}]
[{"$f":"'Pivot Table Data'!B804","v":0},{"$f":"'Pivot Table Data'!F804","v":"Health Sciences West"},{"$f":"'Pivot Table Data'!P804","v":"P602"},{"$f":"'Pivot Table Data'!I804","v":"-"},{"$f":"'Pivot Table Data'!J804","v":"A"},{"$f":"'Pivot Table Data'!K804","v":"2hr"},{"$f":"'Pivot Table Data'!L804","v":120},{"$f":"'Pivot Table Data'!S804","v":36},{"$f":"'Pivot Table Data'!T804","v":36},{"$f":"IF('Pivot Table Data'!O804=\"Yes\", 'Pivot Table Data'!T804, \"\")","v":36}]
[{"$f":"'Pivot Table Data'!B805","v":0},{"$f":"'Pivot Table Data'!F805","v":"Health Sciences West"},{"$f":"'Pivot Table Data'!P805","v":"P602"},{"$f":"'Pivot Table Data'!I805","v":"-"},{"$f":"'Pivot Table Data'!J805","v":"A"},{"$f":"'Pivot Table Data'!K805","v":0},{"$f":"'Pivot Table Data'!L805","v":0},{"$f":"'Pivot Table Data'!S805","v":73},{"$f":"'Pivot Table Data'!T805","v":73},{"$f":"IF('Pivot Table Data'!O805=\"Yes\", 'Pivot Table Data'!T805, \"\")","v":73}]
[{"$f":"'Pivot Table Data'!B806","v":0},{"$f":"'Pivot Table Data'!F806","v":"Health Sciences West"},{"$f":"'Pivot Table Data'!P806","v":"P602"},{"$f":"'Pivot Table Data'!I806","v":"-"},{"$f":"'Pivot Table Data'!J806","v":"Accessible"},{"$f":"'Pivot Table Data'!K806","v":0},{"$f":"'Pivot Table Data'!L806","v":0},{"$f":"'Pivot Table Data'!S806","v":2},{"$f":"'Pivot Table Data'!T806","v":2},{"$f":"IF('Pivot Table Data'!O806=\"Yes\", 'Pivot Table Data'!T806, \"\")","v":""}]
[{"$f":"'Pivot Table Data'!B807","v":0},{"$f":"'Pivot Table Data'!F807","v":"Health Sciences West"},{"$f":"'Pivot Table Data'!P807","v":"P602"},{"$f":"'Pivot Table Data'!I807","v":"-"},{"$f":"'Pivot Table Data'!J807","v":"Accessible (Van)"},{"$f":"'Pivot Table Data'!K807","v":0},{"$f":"'Pivot Table Data'!L807","v":0},{"$f":"'Pivot Table Data'!S807","v":2},{"$f":"'Pivot Table Data'!T807","v":2},{"$f":"IF('Pivot Table Data'!O807=\"Yes\", 'Pivot Table Data'!T807, \"\")","v":""}]
[{"$f":"'Pivot Table Data'!B808","v":0},{"$f":"'Pivot Table Data'!F808","v":"Health Sciences West"},{"$f":"'Pivot Table Data'!P808","v":"P602"},{"$f":"'Pivot Table Data'!I808","v":"-"},{"$f":"'Pivot Table Data'!J808","v":"Carpool"},{"$f":"'Pivot Table Data'!K808","v":"B 3-Person"},{"$f":"'Pivot Table Data'!L808","v":0},{"$f":"'Pivot Table Data'!S808","v":9},{"$f":"'Pivot Table Data'!T808","v":9},{"$f":"IF('Pivot Table Data'!O808=\"Yes\", 'Pivot Table Data'!T808, \"\")","v":9}]
[{"$f":"'Pivot Table Data'!B809","v":0},{"$f":"'Pivot Table Data'!F809","v":"Health Sciences West"},{"$f":"'Pivot Table Data'!P809","v":"P602"},{"$f":"'Pivot Table Data'!I809","v":"-"},{"$f":"'Pivot Table Data'!J809","v":"Electric Vehicle"},{"$f":"'Pivot Table Data'!K809","v":0},{"$f":"'Pivot Table Data'!L809","v":0},{"$f":"'Pivot Table Data'!S809","v":4},{"$f":"'Pivot Table Data'!T809","v":4},{"$f":"IF('Pivot Table Data'!O809=\"Yes\", 'Pivot Table Data'!T809, \"\")","v":""}]
[{"$f":"'Pivot Table Data'!B810","v":0},{"$f":"'Pivot Table Data'!F810","v":"Health Sciences West"},{"$f":"'Pivot Table Data'!P810","v":"P602"},{"$f":"'Pivot Table Data'!I810","v":"-"},{"$f":"'Pivot Table Data'!J810","v":"Reserved"},{"$f":"'Pivot Table Data'!K810","v":0},{"$f":"'Pivot Table Data'!L810","v":0},{"$f":"'Pivot Table Data'!S810","v":90},{"$f":"'Pivot Table Data'!T810","v":90},{"$f":"IF('Pivot Table Data'!O810=\"Yes\", 'Pivot Table Data'!T810, \"\")","v":""}]
[{"$f":"'Pivot Table Data'!B811","v":0},{"$f":"'Pivot Table Data'!F811","v":"Health Sciences West"},{"$f":"'Pivot Table Data'!P811","v":"P602"},{"$f":"'Pivot Table Data'!I811","v":"-"},{"$f":"'Pivot Table Data'!J811","v":"UC Vehicle"},{"$f":"'Pivot Table Data'!K811","v":0},{"$f":"'Pivot Table Data'!L811","v":0},{"$f":"'Pivot Table Data'!S811","v":2},{"$f":"'Pivot Table Data'!T811","v":2},{"$f":"IF('Pivot Table Data'!O811=\"Yes\", 'Pivot Table Data'!T811, \"\")","v":""}]
[{"$f":"'Pivot Table Data'!B812","v":0},{"$f":"'Pivot Table Data'!F812","v":"Health Sciences West"},{"$f":"'Pivot Table Data'!P812","v":"P602"},{"$f":"'Pivot Table Data'!I812","v":"-"},{"$f":"'Pivot Table Data'!J812","v":"Visitor"},{"$f":"'Pivot Table Data'!K812","v":0},{"$f":"'Pivot Table Data'!L812","v":0},{"$f":"'Pivot Table Data'!S812","v":12},{"$f":"'Pivot Table Data'!T812","v":12},{"$f":"IF('Pivot Table Data'!O812=\"Yes\", 'Pivot Table Data'!T812, \"\")","v":12}]
[{"$f":"'Pivot Table Data'!B813","v":0},{"$f":"'Pivot Table Data'!F813","v":"Health Sciences West"},{"$f":"'Pivot Table Data'!P813","v":"P603"},{"$f":"'Pivot Table Data'!I813","v":"-"},{"$f":"'Pivot Table Data'!J813","v":"A"},{"$f":"'Pivot Table Data'!K813","v":0},{"$f":"'Pivot Table Data'!L813","v":0},{"$f":"'Pivot Table Data'!S813","v":0},{"$f":"'Pivot Table Data'!T813","v":0},{"$f":"IF('Pivot Table Data'!O813=\"Yes\", 'Pivot Table Data'!T813, \"\")","v":0}]
[{"$f":"'Pivot Table Data'!B814","v":0},{"$f":"'Pivot Table Data'!F814","v":"Health Sciences West"},{"$f":"'Pivot Table Data'!P814","v":"P603"},{"$f":"'Pivot Table Data'!I814","v":"-"},{"$f":"'Pivot Table Data'!J814","v":"Accessible"},{"$f":"'Pivot Table Data'!K814","v":0},{"$f":"'Pivot Table Data'!L814","v":0},{"$f":"'Pivot Table Data'!S814","v":6},{"$f":"'Pivot Table Data'!T814","v":6},{"$f":"IF('Pivot Table Data'!O814=\"Yes\", 'Pivot Table Data'!T814, \"\")","v":""}]
[{"$f":"'Pivot Table Data'!B815","v":0},{"$f":"'Pivot Table Data'!F815","v":"Health Sciences West"},{"$f":"'Pivot Table Data'!P815","v":"P603"},{"$f":"'Pivot Table Data'!I815","v":"-"},{"$f":"'Pivot Table Data'!J815","v":"Accessible (Van)"},{"$f":"'Pivot Table Data'!K815","v":0},{"$f":"'Pivot Table Data'!L815","v":0},{"$f":"'Pivot Table Data'!S815","v":9},{"$f":"'Pivot Table Data'!T815","v":9},{"$f":"IF('Pivot Table Data'!O815=\"Yes\", 'Pivot Table Data'!T815, \"\")","v":""}]
[{"$f":"'Pivot Table Data'!B816","v":0},{"$f":"'Pivot Table Data'!F816","v":"Health Sciences West"},{"$f":"'Pivot Table Data'!P816","v":"P603"},{"$f":"'Pivot Table Data'!I816","v":"-"},{"$f":"'Pivot Table Data'!J816","v":"Loading"},{"$f":"'Pivot Table Data'!K816","v":0},{"$f":"'Pivot Table Data'!L816","v":0},{"$f":"'Pivot Table Data'!S816","v":4},{"$f":"'Pivot Table Data'!T816","v":4},{"$f":"IF('Pivot Table Data'!O816=\"Yes\", 'Pivot Table Data'!T816, \"\")","v":""}]
[{"$f":"'Pivot Table Data'!B817","v":0},{"$f":"'Pivot Table Data'!F817","v":"Health Sciences West"},{"$f":"'Pivot Table Data'!P817","v":"P603"},{"$f":"'Pivot Table Data'!I817","v":"-"},{"$f":"'Pivot Table Data'!J817","v":"Motorcycle Section"},{"$f":"'Pivot Table Data'!K817","v":0},{"$f":"'Pivot Table Data'!L817","v":0},{"$f":"'Pivot Table Data'!S817","v":0},{"$f":"'Pivot Table Data'!T817","v":0},{"$f":"IF('Pivot Table Data'!O817=\"Yes\", 'Pivot Table Data'!T817, \"\")","v":""}]
[{"$f":"'Pivot Table Data'!B818","v":0},{"$f":"'Pivot Table Data'!F818","v":"Health Sciences West"},{"$f":"'Pivot Table Data'!P818","v":"P603"},{"$f":"'Pivot Table Data'!I818","v":"-"},{"$f":"'Pivot Table Data'!J818","v":"Reserved"},{"$f":"'Pivot Table Data'!K818","v":"Enterprise"},{"$f":"'Pivot Table Data'!L818","v":0},{"$f":"'Pivot Table Data'!S818","v":0},{"$f":"'Pivot Table Data'!T818","v":0},{"$f":"IF('Pivot Table Data'!O818=\"Yes\", 'Pivot Table Data'!T818, \"\")","v":""}]
[{"$f":"'Pivot Table Data'!B819","v":0},{"$f":"'Pivot Table Data'!F819","v":"Health Sciences West"},{"$f":"'Pivot Table Data'!P819","v":"P603"},{"$f":"'Pivot Table Data'!I819","v":"-"},{"$f":"'Pivot Table Data'!J819","v":"Reserved"},{"$f":"'Pivot Table Data'!K819","v":0},{"$f":"'Pivot Table Data'!L819","v":0},{"$f":"'Pivot Table Data'!S819","v":0},{"$f":"'Pivot Table Data'!T819","v":0},{"$f":"IF('Pivot Table Data'!O819=\"Yes\", 'Pivot Table Data'!T819, \"\")","v":""}]
[{"$f":"'Pivot Table Data'!B820","v":0},{"$f":"'Pivot Table Data'!F820","v":"Health Sciences West"},{"$f":"'Pivot Table Data'!P820","v":"P603"},{"$f":"'Pivot Table Data'!I820","v":"-"},{"$f":"'Pivot Table Data'!J820","v":"Service Yard"},{"$f":"'Pivot Table Data'!K820","v":0},{"$f":"'Pivot Table Data'!L820","v":0},{"$f":"'Pivot Table Data'!S820","v":2},{"$f":"'Pivot Table Data'!T820","v":2},{"$f":"IF('Pivot Table Data'!O820=\"Yes\", 'Pivot Table Data'!T820, \"\")","v":""}]
[{"$f":"'Pivot Table Data'!B821","v":0},{"$f":"'Pivot Table Data'!F821","v":"Health Sciences West"},{"$f":"'Pivot Table Data'!P821","v":"P603"},{"$f":"'Pivot Table Data'!I821","v":"-"},{"$f":"'Pivot Table Data'!J821","v":"Visitor"},{"$f":"'Pivot Table Data'!K821","v":0},{"$f":"'Pivot Table Data'!L821","v":0},{"$f":"'Pivot Table Data'!S821","v":36},{"$f":"'Pivot Table Data'!T821","v":36},{"$f":"IF('Pivot Table Data'!O821=\"Yes\", 'Pivot Table Data'!T821, \"\")","v":36}]
[{"$f":"'Pivot Table Data'!B822","v":0},{"$f":"'Pivot Table Data'!F822","v":"Health Sciences West"},{"$f":"'Pivot Table Data'!P822","v":"P604"},{"$f":"'Pivot Table Data'!I822","v":"-"},{"$f":"'Pivot Table Data'!J822","v":"Accessible"},{"$f":"'Pivot Table Data'!K822","v":0},{"$f":"'Pivot Table Data'!L822","v":0},{"$f":"'Pivot Table Data'!S822","v":0},{"$f":"'Pivot Table Data'!T822","v":0},{"$f":"IF('Pivot Table Data'!O822=\"Yes\", 'Pivot Table Data'!T822, \"\")","v":""}]
[{"$f":"'Pivot Table Data'!B823","v":0},{"$f":"'Pivot Table Data'!F823","v":"Health Sciences West"},{"$f":"'Pivot Table Data'!P823","v":"P604"},{"$f":"'Pivot Table Data'!I823","v":"-"},{"$f":"'Pivot Table Data'!J823","v":"Accessible (Van)"},{"$f":"'Pivot Table Data'!K823","v":0},{"$f":"'Pivot Table Data'!L823","v":0},{"$f":"'Pivot Table Data'!S823","v":0},{"$f":"'Pivot Table Data'!T823","v":0},{"$f":"IF('Pivot Table Data'!O823=\"Yes\", 'Pivot Table Data'!T823, \"\")","v":""}]
[{"$f":"'Pivot Table Data'!B824","v":0},{"$f":"'Pivot Table Data'!F824","v":"Health Sciences West"},{"$f":"'Pivot Table Data'!P824","v":"P604"},{"$f":"'Pivot Table Data'!I824","v":"-"},{"$f":"'Pivot Table Data'!J824","v":"B"},{"$f":"'Pivot Table Data'!K824","v":0},{"$f":"'Pivot Table Data'!L824","v":0},{"$f":"'Pivot Table Data'!S824","v":0},{"$f":"'Pivot Table Data'!T824","v":0},{"$f":"IF('Pivot Table Data'!O824=\"Yes\", 'Pivot Table Data'!T824, \"\")","v":0}]
[{"$f":"'Pivot Table Data'!B825","v":0},{"$f":"'Pivot Table Data'!F825","v":"Health Sciences West"},{"$f":"'Pivot Table Data'!P825","v":"P605"},{"$f":"'Pivot Table Data'!I825","v":"-"},{"$f":"'Pivot Table Data'!J825","v":"Accessible"},{"$f":"'Pivot Table Data'!K825","v":0},{"$f":"'Pivot Table Data'!L825","v":0},{"$f":"'Pivot Table Data'!S825","v":1},{"$f":"'Pivot Table Data'!T825","v":1},{"$f":"IF('Pivot Table Data'!O825=\"Yes\", 'Pivot Table Data'!T825, \"\")","v":""}]
[{"$f":"'Pivot Table Data'!B826","v":0},{"$f":"'Pivot Table Data'!F826","v":"Health Sciences West"},{"$f":"'Pivot Table Data'!P826","v":"P605"},{"$f":"'Pivot Table Data'!I826","v":"-"},{"$f":"'Pivot Table Data'!J826","v":"Accessible (Van)"},{"$f":"'Pivot Table Data'!K826","v":0},{"$f":"'Pivot Table Data'!L826","v":0},{"$f":"'Pivot Table Data'!S826","v":0},{"$f":"'Pivot Table Data'!T826","v":0},{"$f":"IF('Pivot Table Data'!O826=\"Yes\", 'Pivot Table Data'!T826, \"\")","v":""}]
[{"$f":"'Pivot Table Data'!B827","v":0},{"$f":"'Pivot Table Data'!F827","v":"Health Sciences West"},{"$f":"'Pivot Table Data'!P827","v":"P605"},{"$f":"'Pivot Table Data'!I827","v":"-"},{"$f":"'Pivot Table Data'!J827","v":"Reserved"},{"$f":"'Pivot Table Data'!K827","v":0},{"$f":"'Pivot Table Data'!L827","v":0},{"$f":"'Pivot Table Data'!S827","v":8},{"$f":"'Pivot Table Data'!T827","v":8},{"$f":"IF('Pivot Table Data'!O827=\"Yes\", 'Pivot Table Data'!T827, \"\")","v":""}]
[{"$f":"'Pivot Table Data'!B828","v":0},{"$f":"'Pivot Table Data'!F828","v":"Health Sciences West"},{"$f":"'Pivot Table Data'!P828","v":"P605"},{"$f":"'Pivot Table Data'!I828","v":"-"},{"$f":"'Pivot Table Data'!J828","v":"UC Vehicle"},{"$f":"'Pivot Table Data'!K828","v":0},{"$f":"'Pivot Table Data'!L828","v":0},{"$f":"'Pivot Table Data'!S828","v":7},{"$f":"'Pivot Table Data'!T828","v":7},{"$f":"IF('Pivot Table Data'!O828=\"Yes\", 'Pivot Table Data'!T828, \"\")","v":""}]
[{"$f":"'Pivot Table Data'!B829","v":0},{"$f":"'Pivot Table Data'!F829","v":"Health Sciences West"},{"$f":"'Pivot Table Data'!P829","v":"P606"},{"$f":"'Pivot Table Data'!I829","v":"-"},{"$f":"'Pivot Table Data'!J829","v":"Accessible"},{"$f":"'Pivot Table Data'!K829","v":0},{"$f":"'Pivot Table Data'!L829","v":0},{"$f":"'Pivot Table Data'!S829","v":0},{"$f":"'Pivot Table Data'!T829","v":0},{"$f":"IF('Pivot Table Data'!O829=\"Yes\", 'Pivot Table Data'!T829, \"\")","v":""}]
[{"$f":"'Pivot Table Data'!B830","v":0},{"$f":"'Pivot Table Data'!F830","v":"Health Sciences West"},{"$f":"'Pivot Table Data'!P830","v":"P606"},{"$f":"'Pivot Table Data'!I830","v":"-"},{"$f":"'Pivot Table Data'!J830","v":"Accessible (Van)"},{"$f":"'Pivot Table Data'!K830","v":0},{"$f":"'Pivot Table Data'!L830","v":0},{"$f":"'Pivot Table Data'!S830","v":2},{"$f":"'Pivot Table Data'!T830","v":2},{"$f":"IF('Pivot Table Data'!O830=\"Yes\", 'Pivot Table Data'!T830, \"\")","v":""}]
[{"$f":"'Pivot Table Data'!B831","v":0},{"$f":"'Pivot Table Data'!F831","v":"Health Sciences West"},{"$f":"'Pivot Table Data'!P831","v":"P606"},{"$f":"'Pivot Table Data'!I831","v":"-"},{"$f":"'Pivot Table Data'!J831","v":"Loading"},{"$f":"'Pivot Table Data'!K831","v":"Dock"},{"$f":"'Pivot Table Data'!L831","v":0},{"$f":"'Pivot Table Data'!S831","v":2},{"$f":"'Pivot Table Data'!T831","v":2},{"$f":"IF('Pivot Table Data'!O831=\"Yes\", 'Pivot Table Data'!T831, \"\")","v":""}]
[{"$f":"'Pivot Table Data'!B832","v":0},{"$f":"'Pivot Table Data'!F832","v":"Health Sciences West"},{"$f":"'Pivot Table Data'!P832","v":"P606"},{"$f":"'Pivot Table Data'!I832","v":"-"},{"$f":"'Pivot Table Data'!J832","v":"Reserved"},{"$f":"'Pivot Table Data'!K832","v":0},{"$f":"'Pivot Table Data'!L832","v":0},{"$f":"'Pivot Table Data'!S832","v":6},{"$f":"'Pivot Table Data'!T832","v":6},{"$f":"IF('Pivot Table Data'!O832=\"Yes\", 'Pivot Table Data'!T832, \"\")","v":""}]
[{"$f":"'Pivot Table Data'!B833","v":0},{"$f":"'Pivot Table Data'!F833","v":"Health Sciences West"},{"$f":"'Pivot Table Data'!P833","v":"P607"},{"$f":"'Pivot Table Data'!I833","v":"-"},{"$f":"'Pivot Table Data'!J833","v":"Service Yard"},{"$f":"'Pivot Table Data'!K833","v":"Dock"},{"$f":"'Pivot Table Data'!L833","v":0},{"$f":"'Pivot Table Data'!S833","v":5},{"$f":"'Pivot Table Data'!T833","v":5},{"$f":"IF('Pivot Table Data'!O833=\"Yes\", 'Pivot Table Data'!T833, \"\")","v":""}]
[{"$f":"'Pivot Table Data'!B834","v":0},{"$f":"'Pivot Table Data'!F834","v":"Health Sciences West"},{"$f":"'Pivot Table Data'!P834","v":"P608"},{"$f":"'Pivot Table Data'!I834","v":"-"},{"$f":"'Pivot Table Data'!J834","v":"Accessible"},{"$f":"'Pivot Table Data'!K834","v":0},{"$f":"'Pivot Table Data'!L834","v":0},{"$f":"'Pivot Table Data'!S834","v":2},{"$f":"'Pivot Table Data'!T834","v":2},{"$f":"IF('Pivot Table Data'!O834=\"Yes\", 'Pivot Table Data'!T834, \"\")","v":""}]
[{"$f":"'Pivot Table Data'!B835","v":0},{"$f":"'Pivot Table Data'!F835","v":"Health Sciences West"},{"$f":"'Pivot Table Data'!P835","v":"P608"},{"$f":"'Pivot Table Data'!I835","v":"-"},{"$f":"'Pivot Table Data'!J835","v":"Accessible (Van)"},{"$f":"'Pivot Table Data'!K835","v":0},{"$f":"'Pivot Table Data'!L835","v":0},{"$f":"'Pivot Table Data'!S835","v":0},{"$f":"'Pivot Table Data'!T835","v":0},{"$f":"IF('Pivot Table Data'!O835=\"Yes\", 'Pivot Table Data'!T835, \"\")","v":""}]
[{"$f":"'Pivot Table Data'!B836","v":0},{"$f":"'Pivot Table Data'!F836","v":"Health Sciences West"},{"$f":"'Pivot Table Data'!P836","v":"P608"},{"$f":"'Pivot Table Data'!I836","v":"-"},{"$f":"'Pivot Table Data'!J836","v":"Loading"},{"$f":"'Pivot Table Data'!K836","v":0},{"$f":"'Pivot Table Data'!L836","v":0},{"$f":"'Pivot Table Data'!S836","v":8},{"$f":"'Pivot Table Data'!T836","v":8},{"$f":"IF('Pivot Table Data'!O836=\"Yes\", 'Pivot Table Data'!T836, \"\")","v":""}]
[{"$f":"'Pivot Table Data'!B837","v":0},{"$f":"'Pivot Table Data'!F837","v":"Health Sciences West"},{"$f":"'Pivot Table Data'!P837","v":"P608"},{"$f":"'Pivot Table Data'!I837","v":"-"},{"$f":"'Pivot Table Data'!J837","v":"Reserved"},{"$f":"'Pivot Table Data'!K837","v":0},{"$f":"'Pivot Table Data'!L837","v":0},{"$f":"'Pivot Table Data'!S837","v":1},{"$f":"'Pivot Table Data'!T837","v":1},{"$f":"IF('Pivot Table Data'!O837=\"Yes\", 'Pivot Table Data'!T837, \"\")","v":""}]
[{"$f":"'Pivot Table Data'!B838","v":0},{"$f":"'Pivot Table Data'!F838","v":"Health Sciences West"},{"$f":"'Pivot Table Data'!P838","v":"P610"},{"$f":"'Pivot Table Data'!I838","v":"-"},{"$f":"'Pivot Table Data'!J838","v":"A"},{"$f":"'Pivot Table Data'!K838","v":0},{"$f":"'Pivot Table Data'!L838","v":0},{"$f":"'Pivot Table Data'!S838","v":113},{"$f":"'Pivot Table Data'!T838","v":113},{"$f":"IF('Pivot Table Data'!O838=\"Yes\", 'Pivot Table Data'!T838, \"\")","v":113}]
[{"$f":"'Pivot Table Data'!B839","v":0},{"$f":"'Pivot Table Data'!F839","v":"Health Sciences West"},{"$f":"'Pivot Table Data'!P839","v":"P610"},{"$f":"'Pivot Table Data'!I839","v":"-"},{"$f":"'Pivot Table Data'!J839","v":"Accessible"},{"$f":"'Pivot Table Data'!K839","v":0},{"$f":"'Pivot Table Data'!L839","v":0},{"$f":"'Pivot Table Data'!S839","v":0},{"$f":"'Pivot Table Data'!T839","v":0},{"$f":"IF('Pivot Table Data'!O839=\"Yes\", 'Pivot Table Data'!T839, \"\")","v":""}]
[{"$f":"'Pivot Table Data'!B840","v":0},{"$f":"'Pivot Table Data'!F840","v":"Health Sciences West"},{"$f":"'Pivot Table Data'!P840","v":"P610"},{"$f":"'Pivot Table Data'!I840","v":"-"},{"$f":"'Pivot Table Data'!J840","v":"Accessible (Van)"},{"$f":"'Pivot Table Data'!K840","v":0},{"$f":"'Pivot Table Data'!L840","v":0},{"$f":"'Pivot Table Data'!S840","v":5},{"$f":"'Pivot Table Data'!T840","v":5},{"$f":"IF('Pivot Table Data'!O840=\"Yes\", 'Pivot Table Data'!T840, \"\")","v":""}]
[{"$f":"'Pivot Table Data'!B841","v":0},{"$f":"'Pivot Table Data'!F841","v":"Health Sciences West"},{"$f":"'Pivot Table Data'!P841","v":"P610"},{"$f":"'Pivot Table Data'!I841","v":"-"},{"$f":"'Pivot Table Data'!J841","v":"Carpool"},{"$f":"'Pivot Table Data'!K841","v":"A 3-Person"},{"$f":"'Pivot Table Data'!L841","v":0},{"$f":"'Pivot Table Data'!S841","v":2},{"$f":"'Pivot Table Data'!T841","v":2},{"$f":"IF('Pivot Table Data'!O841=\"Yes\", 'Pivot Table Data'!T841, \"\")","v":2}]
[{"$f":"'Pivot Table Data'!B842","v":0},{"$f":"'Pivot Table Data'!F842","v":"Health Sciences West"},{"$f":"'Pivot Table Data'!P842","v":"P610"},{"$f":"'Pivot Table Data'!I842","v":"-"},{"$f":"'Pivot Table Data'!J842","v":"Electric Vehicle"},{"$f":"'Pivot Table Data'!K842","v":0},{"$f":"'Pivot Table Data'!L842","v":0},{"$f":"'Pivot Table Data'!S842","v":6},{"$f":"'Pivot Table Data'!T842","v":6},{"$f":"IF('Pivot Table Data'!O842=\"Yes\", 'Pivot Table Data'!T842, \"\")","v":""}]
[{"$f":"'Pivot Table Data'!B843","v":0},{"$f":"'Pivot Table Data'!F843","v":"Health Sciences West"},{"$f":"'Pivot Table Data'!P843","v":"P610"},{"$f":"'Pivot Table Data'!I843","v":"-"},{"$f":"'Pivot Table Data'!J843","v":"Reserved"},{"$f":"'Pivot Table Data'!K843","v":"Enterprise"},{"$f":"'Pivot Table Data'!L843","v":0},{"$f":"'Pivot Table Data'!S843","v":4},{"$f":"'Pivot Table Data'!T843","v":4},{"$f":"IF('Pivot Table Data'!O843=\"Yes\", 'Pivot Table Data'!T843, \"\")","v":""}]
[{"$f":"'Pivot Table Data'!B844","v":0},{"$f":"'Pivot Table Data'!F844","v":"Health Sciences West"},{"$f":"'Pivot Table Data'!P844","v":"P610"},{"$f":"'Pivot Table Data'!I844","v":"-"},{"$f":"'Pivot Table Data'!J844","v":"Reserved"},{"$f":"'Pivot Table Data'!K844","v":"EXCITE LAB"},{"$f":"'Pivot Table Data'!L844","v":0},{"$f":"'Pivot Table Data'!S844","v":10},{"$f":"'Pivot Table Data'!T844","v":10},{"$f":"IF('Pivot Table Data'!O844=\"Yes\", 'Pivot Table Data'!T844, \"\")","v":""}]
[{"$f":"'Pivot Table Data'!B845","v":0},{"$f":"'Pivot Table Data'!F845","v":"Health Sciences West"},{"$f":"'Pivot Table Data'!P845","v":"P610"},{"$f":"'Pivot Table Data'!I845","v":"-"},{"$f":"'Pivot Table Data'!J845","v":"Reserved"},{"$f":"'Pivot Table Data'!K845","v":0},{"$f":"'Pivot Table Data'!L845","v":0},{"$f":"'Pivot Table Data'!S845","v":9},{"$f":"'Pivot Table Data'!T845","v":9},{"$f":"IF('Pivot Table Data'!O845=\"Yes\", 'Pivot Table Data'!T845, \"\")","v":""}]
[{"$f":"'Pivot Table Data'!B846","v":0},{"$f":"'Pivot Table Data'!F846","v":"Theater District Living & Learning"},{"$f":"'Pivot Table Data'!P846","v":"TDLLN"},{"$f":"'Pivot Table Data'!I846","v":"L1"},{"$f":"'Pivot Table Data'!J846","v":"Accessible"},{"$f":"'Pivot Table Data'!K846","v":0},{"$f":"'Pivot Table Data'!L846","v":0},{"$f":"'Pivot Table Data'!S846","v":17},{"$f":"'Pivot Table Data'!T846","v":17},{"$f":"IF('Pivot Table Data'!O846=\"Yes\", 'Pivot Table Data'!T846, \"\")","v":""}]
[{"$f":"'Pivot Table Data'!B847","v":0},{"$f":"'Pivot Table Data'!F847","v":"Theater District Living & Learning"},{"$f":"'Pivot Table Data'!P847","v":"TDLLN"},{"$f":"'Pivot Table Data'!I847","v":"L1"},{"$f":"'Pivot Table Data'!J847","v":"Accessible (Van)"},{"$f":"'Pivot Table Data'!K847","v":0},{"$f":"'Pivot Table Data'!L847","v":0},{"$f":"'Pivot Table Data'!S847","v":5},{"$f":"'Pivot Table Data'!T847","v":5},{"$f":"IF('Pivot Table Data'!O847=\"Yes\", 'Pivot Table Data'!T847, \"\")","v":""}]
[{"$f":"'Pivot Table Data'!B848","v":0},{"$f":"'Pivot Table Data'!F848","v":"Theater District Living & Learning"},{"$f":"'Pivot Table Data'!P848","v":"TDLLN"},{"$f":"'Pivot Table Data'!I848","v":"L1"},{"$f":"'Pivot Table Data'!J848","v":"B"},{"$f":"'Pivot Table Data'!K848","v":0},{"$f":"'Pivot Table Data'!L848","v":0},{"$f":"'Pivot Table Data'!S848","v":0},{"$f":"'Pivot Table Data'!T848","v":393},{"$f":"IF('Pivot Table Data'!O848=\"Yes\", 'Pivot Table Data'!T848, \"\")","v":393}]
[{"$f":"'Pivot Table Data'!B849","v":0},{"$f":"'Pivot Table Data'!F849","v":"Theater District Living & Learning"},{"$f":"'Pivot Table Data'!P849","v":"TDLLN"},{"$f":"'Pivot Table Data'!I849","v":"L1"},{"$f":"'Pivot Table Data'!J849","v":"Carpool"},{"$f":"'Pivot Table Data'!K849","v":0},{"$f":"'Pivot Table Data'!L849","v":0},{"$f":"'Pivot Table Data'!S849","v":0},{"$f":"'Pivot Table Data'!T849","v":87},{"$f":"IF('Pivot Table Data'!O849=\"Yes\", 'Pivot Table Data'!T849, \"\")","v":87}]
[{"$f":"'Pivot Table Data'!B850","v":0},{"$f":"'Pivot Table Data'!F850","v":"Theater District Living & Learning"},{"$f":"'Pivot Table Data'!P850","v":"TDLLN"},{"$f":"'Pivot Table Data'!I850","v":"L1"},{"$f":"'Pivot Table Data'!J850","v":"Electric Vehicle"},{"$f":"'Pivot Table Data'!K850","v":"ADA"},{"$f":"'Pivot Table Data'!L850","v":0},{"$f":"'Pivot Table Data'!S850","v":5},{"$f":"'Pivot Table Data'!T850","v":5},{"$f":"IF('Pivot Table Data'!O850=\"Yes\", 'Pivot Table Data'!T850, \"\")","v":""}]
[{"$f":"'Pivot Table Data'!B851","v":0},{"$f":"'Pivot Table Data'!F851","v":"Theater District Living & Learning"},{"$f":"'Pivot Table Data'!P851","v":"TDLLN"},{"$f":"'Pivot Table Data'!I851","v":"L1"},{"$f":"'Pivot Table Data'!J851","v":"Electric Vehicle"},{"$f":"'Pivot Table Data'!K851","v":0},{"$f":"'Pivot Table Data'!L851","v":0},{"$f":"'Pivot Table Data'!S851","v":34},{"$f":"'Pivot Table Data'!T851","v":92},{"$f":"IF('Pivot Table Data'!O851=\"Yes\", 'Pivot Table Data'!T851, \"\")","v":""}]
[{"$f":"'Pivot Table Data'!B852","v":0},{"$f":"'Pivot Table Data'!F852","v":"Theater District Living & Learning"},{"$f":"'Pivot Table Data'!P852","v":"TDLLN"},{"$f":"'Pivot Table Data'!I852","v":"L1"},{"$f":"'Pivot Table Data'!J852","v":"Motorcycle Section"},{"$f":"'Pivot Table Data'!K852","v":0},{"$f":"'Pivot Table Data'!L852","v":0},{"$f":"'Pivot Table Data'!S852","v":0},{"$f":"'Pivot Table Data'!T852","v":0},{"$f":"IF('Pivot Table Data'!O852=\"Yes\", 'Pivot Table Data'!T852, \"\")","v":""}]
[{"$f":"'Pivot Table Data'!B853","v":0},{"$f":"'Pivot Table Data'!F853","v":"Theater District Living & Learning"},{"$f":"'Pivot Table Data'!P853","v":"TDLLN"},{"$f":"'Pivot Table Data'!I853","v":"L1"},{"$f":"'Pivot Table Data'!J853","v":"Reserved"},{"$f":"'Pivot Table Data'!K853","v":0},{"$f":"'Pivot Table Data'!L853","v":0},{"$f":"'Pivot Table Data'!S853","v":0},{"$f":"'Pivot Table Data'!T853","v":0},{"$f":"IF('Pivot Table Data'!O853=\"Yes\", 'Pivot Table Data'!T853, \"\")","v":""}]
[{"$f":"'Pivot Table Data'!B854","v":0},{"$f":"'Pivot Table Data'!F854","v":"Theater District Living & Learning"},{"$f":"'Pivot Table Data'!P854","v":"TDLLN"},{"$f":"'Pivot Table Data'!I854","v":"L1"},{"$f":"'Pivot Table Data'!J854","v":"Service Yard"},{"$f":"'Pivot Table Data'!K854","v":0},{"$f":"'Pivot Table Data'!L854","v":0},{"$f":"'Pivot Table Data'!S854","v":5},{"$f":"'Pivot Table Data'!T854","v":5},{"$f":"IF('Pivot Table Data'!O854=\"Yes\", 'Pivot Table Data'!T854, \"\")","v":""}]
[{"$f":"'Pivot Table Data'!B855","v":0},{"$f":"'Pivot Table Data'!F855","v":"Theater District Living & Learning"},{"$f":"'Pivot Table Data'!P855","v":"TDLLN"},{"$f":"'Pivot Table Data'!I855","v":"L1"},{"$f":"'Pivot Table Data'!J855","v":"SR"},{"$f":"'Pivot Table Data'!K855","v":0},{"$f":"'Pivot Table Data'!L855","v":0},{"$f":"'Pivot Table Data'!S855","v":0},{"$f":"'Pivot Table Data'!T855","v":91},{"$f":"IF('Pivot Table Data'!O855=\"Yes\", 'Pivot Table Data'!T855, \"\")","v":91}]
[{"$f":"'Pivot Table Data'!B856","v":0},{"$f":"'Pivot Table Data'!F856","v":"Theater District Living & Learning"},{"$f":"'Pivot Table Data'!P856","v":"TDLLN"},{"$f":"'Pivot Table Data'!I856","v":"L1"},{"$f":"'Pivot Table Data'!J856","v":"UC Cart"},{"$f":"'Pivot Table Data'!K856","v":0},{"$f":"'Pivot Table Data'!L856","v":0},{"$f":"'Pivot Table Data'!S856","v":15},{"$f":"'Pivot Table Data'!T856","v":15},{"$f":"IF('Pivot Table Data'!O856=\"Yes\", 'Pivot Table Data'!T856, \"\")","v":""}]
[{"$f":"'Pivot Table Data'!B857","v":0},{"$f":"'Pivot Table Data'!F857","v":"Theater District Living & Learning"},{"$f":"'Pivot Table Data'!P857","v":"TDLLN"},{"$f":"'Pivot Table Data'!I857","v":"L1"},{"$f":"'Pivot Table Data'!J857","v":"UC Vehicle"},{"$f":"'Pivot Table Data'!K857","v":0},{"$f":"'Pivot Table Data'!L857","v":0},{"$f":"'Pivot Table Data'!S857","v":0},{"$f":"'Pivot Table Data'!T857","v":0},{"$f":"IF('Pivot Table Data'!O857=\"Yes\", 'Pivot Table Data'!T857, \"\")","v":""}]
[{"$f":"'Pivot Table Data'!B858","v":0},{"$f":"'Pivot Table Data'!F858","v":"Theater District Living & Learning"},{"$f":"'Pivot Table Data'!P858","v":"TDLLN"},{"$f":"'Pivot Table Data'!I858","v":"L1"},{"$f":"'Pivot Table Data'!J858","v":"Visitor"},{"$f":"'Pivot Table Data'!K858","v":0},{"$f":"'Pivot Table Data'!L858","v":0},{"$f":"'Pivot Table Data'!S858","v":132},{"$f":"'Pivot Table Data'!T858","v":156},{"$f":"IF('Pivot Table Data'!O858=\"Yes\", 'Pivot Table Data'!T858, \"\")","v":156}]
[{"$f":"'Pivot Table Data'!B859","v":0},{"$f":"'Pivot Table Data'!F859","v":"Theater District Living & Learning"},{"$f":"'Pivot Table Data'!P859","v":"TDLLN"},{"$f":"'Pivot Table Data'!I859","v":"L1"},{"$f":"'Pivot Table Data'!J859","v":"Visitor"},{"$f":"'Pivot Table Data'!K859","v":0},{"$f":"'Pivot Table Data'!L859","v":0},{"$f":"'Pivot Table Data'!S859","v":0},{"$f":"'Pivot Table Data'!T859","v":""},{"$f":"IF('Pivot Table Data'!O859=\"Yes\", 'Pivot Table Data'!T859, \"\")","v":""}]
[{"$f":"'Pivot Table Data'!B860","v":0},{"$f":"'Pivot Table Data'!F860","v":"Theater District Living & Learning"},{"$f":"'Pivot Table Data'!P860","v":"TDLLN"},{"$f":"'Pivot Table Data'!I860","v":"L2"},{"$f":"'Pivot Table Data'!J860","v":"A"},{"$f":"'Pivot Table Data'!K860","v":0},{"$f":"'Pivot Table Data'!L860","v":0},{"$f":"'Pivot Table Data'!S860","v":134},{"$f":"'Pivot Table Data'!T860","v":182},{"$f":"IF('Pivot Table Data'!O860=\"Yes\", 'Pivot Table Data'!T860, \"\")","v":182}]
[{"$f":"'Pivot Table Data'!B861","v":0},{"$f":"'Pivot Table Data'!F861","v":"Theater District Living & Learning"},{"$f":"'Pivot Table Data'!P861","v":"TDLLN"},{"$f":"'Pivot Table Data'!I861","v":"L2"},{"$f":"'Pivot Table Data'!J861","v":"Accessible"},{"$f":"'Pivot Table Data'!K861","v":0},{"$f":"'Pivot Table Data'!L861","v":0},{"$f":"'Pivot Table Data'!S861","v":0},{"$f":"'Pivot Table Data'!T861","v":""},{"$f":"IF('Pivot Table Data'!O861=\"Yes\", 'Pivot Table Data'!T861, \"\")","v":""}]
[{"$f":"'Pivot Table Data'!B862","v":0},{"$f":"'Pivot Table Data'!F862","v":"Theater District Living & Learning"},{"$f":"'Pivot Table Data'!P862","v":"TDLLN"},{"$f":"'Pivot Table Data'!I862","v":"L2"},{"$f":"'Pivot Table Data'!J862","v":"Accessible (Van)"},{"$f":"'Pivot Table Data'!K862","v":0},{"$f":"'Pivot Table Data'!L862","v":0},{"$f":"'Pivot Table Data'!S862","v":0},{"$f":"'Pivot Table Data'!T862","v":""},{"$f":"IF('Pivot Table Data'!O862=\"Yes\", 'Pivot Table Data'!T862, \"\")","v":""}]
[{"$f":"'Pivot Table Data'!B863","v":0},{"$f":"'Pivot Table Data'!F863","v":"Theater District Living & Learning"},{"$f":"'Pivot Table Data'!P863","v":"TDLLN"},{"$f":"'Pivot Table Data'!I863","v":"L2"},{"$f":"'Pivot Table Data'!J863","v":"B"},{"$f":"'Pivot Table Data'!K863","v":0},{"$f":"'Pivot Table Data'!L863","v":0},{"$f":"'Pivot Table Data'!S863","v":0},{"$f":"'Pivot Table Data'!T863","v":""},{"$f":"IF('Pivot Table Data'!O863=\"Yes\", 'Pivot Table Data'!T863, \"\")","v":""}]
[{"$f":"'Pivot Table Data'!B864","v":0},{"$f":"'Pivot Table Data'!F864","v":"Theater District Living & Learning"},{"$f":"'Pivot Table Data'!P864","v":"TDLLN"},{"$f":"'Pivot Table Data'!I864","v":"L2"},{"$f":"'Pivot Table Data'!J864","v":"Carpool"},{"$f":"'Pivot Table Data'!K864","v":0},{"$f":"'Pivot Table Data'!L864","v":0},{"$f":"'Pivot Table Data'!S864","v":87},{"$f":"'Pivot Table Data'!T864","v":""},{"$f":"IF('Pivot Table Data'!O864=\"Yes\", 'Pivot Table Data'!T864, \"\")","v":""}]
[{"$f":"'Pivot Table Data'!B865","v":0},{"$f":"'Pivot Table Data'!F865","v":"Theater District Living & Learning"},{"$f":"'Pivot Table Data'!P865","v":"TDLLN"},{"$f":"'Pivot Table Data'!I865","v":"L2"},{"$f":"'Pivot Table Data'!J865","v":"Electric Vehicle"},{"$f":"'Pivot Table Data'!K865","v":"ADA"},{"$f":"'Pivot Table Data'!L865","v":0},{"$f":"'Pivot Table Data'!S865","v":0},{"$f":"'Pivot Table Data'!T865","v":""},{"$f":"IF('Pivot Table Data'!O865=\"Yes\", 'Pivot Table Data'!T865, \"\")","v":""}]
[{"$f":"'Pivot Table Data'!B866","v":0},{"$f":"'Pivot Table Data'!F866","v":"Theater District Living & Learning"},{"$f":"'Pivot Table Data'!P866","v":"TDLLN"},{"$f":"'Pivot Table Data'!I866","v":"L2"},{"$f":"'Pivot Table Data'!J866","v":"Electric Vehicle"},{"$f":"'Pivot Table Data'!K866","v":0},{"$f":"'Pivot Table Data'!L866","v":0},{"$f":"'Pivot Table Data'!S866","v":58},{"$f":"'Pivot Table Data'!T866","v":""},{"$f":"IF('Pivot Table Data'!O866=\"Yes\", 'Pivot Table Data'!T866, \"\")","v":""}]
[{"$f":"'Pivot Table Data'!B867","v":0},{"$f":"'Pivot Table Data'!F867","v":"Theater District Living & Learning"},{"$f":"'Pivot Table Data'!P867","v":"TDLLN"},{"$f":"'Pivot Table Data'!I867","v":"L2"},{"$f":"'Pivot Table Data'!J867","v":"Motorcycle Section"},{"$f":"'Pivot Table Data'!K867","v":0},{"$f":"'Pivot Table Data'!L867","v":0},{"$f":"'Pivot Table Data'!S867","v":0},{"$f":"'Pivot Table Data'!T867","v":""},{"$f":"IF('Pivot Table Data'!O867=\"Yes\", 'Pivot Table Data'!T867, \"\")","v":""}]
[{"$f":"'Pivot Table Data'!B868","v":0},{"$f":"'Pivot Table Data'!F868","v":"Theater District Living & Learning"},{"$f":"'Pivot Table Data'!P868","v":"TDLLN"},{"$f":"'Pivot Table Data'!I868","v":"L2"},{"$f":"'Pivot Table Data'!J868","v":"Reserved"},{"$f":"'Pivot Table Data'!K868","v":0},{"$f":"'Pivot Table Data'!L868","v":0},{"$f":"'Pivot Table Data'!S868","v":0},{"$f":"'Pivot Table Data'!T868","v":""},{"$f":"IF('Pivot Table Data'!O868=\"Yes\", 'Pivot Table Data'!T868, \"\")","v":""}]
[{"$f":"'Pivot Table Data'!B869","v":0},{"$f":"'Pivot Table Data'!F869","v":"Theater District Living & Learning"},{"$f":"'Pivot Table Data'!P869","v":"TDLLN"},{"$f":"'Pivot Table Data'!I869","v":"L2"},{"$f":"'Pivot Table Data'!J869","v":"Service Yard"},{"$f":"'Pivot Table Data'!K869","v":0},{"$f":"'Pivot Table Data'!L869","v":0},{"$f":"'Pivot Table Data'!S869","v":0},{"$f":"'Pivot Table Data'!T869","v":""},{"$f":"IF('Pivot Table Data'!O869=\"Yes\", 'Pivot Table Data'!T869, \"\")","v":""}]
[{"$f":"'Pivot Table Data'!B870","v":0},{"$f":"'Pivot Table Data'!F870","v":"Theater District Living & Learning"},{"$f":"'Pivot Table Data'!P870","v":"TDLLN"},{"$f":"'Pivot Table Data'!I870","v":"L2"},{"$f":"'Pivot Table Data'!J870","v":"SR"},{"$f":"'Pivot Table Data'!K870","v":0},{"$f":"'Pivot Table Data'!L870","v":0},{"$f":"'Pivot Table Data'!S870","v":0},{"$f":"'Pivot Table Data'!T870","v":""},{"$f":"IF('Pivot Table Data'!O870=\"Yes\", 'Pivot Table Data'!T870, \"\")","v":""}]
[{"$f":"'Pivot Table Data'!B871","v":0},{"$f":"'Pivot Table Data'!F871","v":"Theater District Living & Learning"},{"$f":"'Pivot Table Data'!P871","v":"TDLLN"},{"$f":"'Pivot Table Data'!I871","v":"L2"},{"$f":"'Pivot Table Data'!J871","v":"UC Cart"},{"$f":"'Pivot Table Data'!K871","v":0},{"$f":"'Pivot Table Data'!L871","v":0},{"$f":"'Pivot Table Data'!S871","v":0},{"$f":"'Pivot Table Data'!T871","v":""},{"$f":"IF('Pivot Table Data'!O871=\"Yes\", 'Pivot Table Data'!T871, \"\")","v":""}]
[{"$f":"'Pivot Table Data'!B872","v":0},{"$f":"'Pivot Table Data'!F872","v":"Theater District Living & Learning"},{"$f":"'Pivot Table Data'!P872","v":"TDLLN"},{"$f":"'Pivot Table Data'!I872","v":"L2"},{"$f":"'Pivot Table Data'!J872","v":"Visitor"},{"$f":"'Pivot Table Data'!K872","v":0},{"$f":"'Pivot Table Data'!L872","v":0},{"$f":"'Pivot Table Data'!S872","v":24},{"$f":"'Pivot Table Data'!T872","v":""},{"$f":"IF('Pivot Table Data'!O872=\"Yes\", 'Pivot Table Data'!T872, \"\")","v":""}]
[{"$f":"'Pivot Table Data'!B873","v":0},{"$f":"'Pivot Table Data'!F873","v":"Theater District Living & Learning"},{"$f":"'Pivot Table Data'!P873","v":"TDLLN"},{"$f":"'Pivot Table Data'!I873","v":"L3"},{"$f":"'Pivot Table Data'!J873","v":"A"},{"$f":"'Pivot Table Data'!K873","v":0},{"$f":"'Pivot Table Data'!L873","v":0},{"$f":"'Pivot Table Data'!S873","v":48},{"$f":"'Pivot Table Data'!T873","v":""},{"$f":"IF('Pivot Table Data'!O873=\"Yes\", 'Pivot Table Data'!T873, \"\")","v":""}]
[{"$f":"'Pivot Table Data'!B874","v":0},{"$f":"'Pivot Table Data'!F874","v":"Theater District Living & Learning"},{"$f":"'Pivot Table Data'!P874","v":"TDLLN"},{"$f":"'Pivot Table Data'!I874","v":"L3"},{"$f":"'Pivot Table Data'!J874","v":"Accessible"},{"$f":"'Pivot Table Data'!K874","v":0},{"$f":"'Pivot Table Data'!L874","v":0},{"$f":"'Pivot Table Data'!S874","v":0},{"$f":"'Pivot Table Data'!T874","v":""},{"$f":"IF('Pivot Table Data'!O874=\"Yes\", 'Pivot Table Data'!T874, \"\")","v":""}]
[{"$f":"'Pivot Table Data'!B875","v":0},{"$f":"'Pivot Table Data'!F875","v":"Theater District Living & Learning"},{"$f":"'Pivot Table Data'!P875","v":"TDLLN"},{"$f":"'Pivot Table Data'!I875","v":"L3"},{"$f":"'Pivot Table Data'!J875","v":"Accessible (Van)"},{"$f":"'Pivot Table Data'!K875","v":0},{"$f":"'Pivot Table Data'!L875","v":0},{"$f":"'Pivot Table Data'!S875","v":0},{"$f":"'Pivot Table Data'!T875","v":""},{"$f":"IF('Pivot Table Data'!O875=\"Yes\", 'Pivot Table Data'!T875, \"\")","v":""}]
[{"$f":"'Pivot Table Data'!B876","v":0},{"$f":"'Pivot Table Data'!F876","v":"Theater District Living & Learning"},{"$f":"'Pivot Table Data'!P876","v":"TDLLN"},{"$f":"'Pivot Table Data'!I876","v":"L3"},{"$f":"'Pivot Table Data'!J876","v":"B"},{"$f":"'Pivot Table Data'!K876","v":0},{"$f":"'Pivot Table Data'!L876","v":0},{"$f":"'Pivot Table Data'!S876","v":197},{"$f":"'Pivot Table Data'!T876","v":""},{"$f":"IF('Pivot Table Data'!O876=\"Yes\", 'Pivot Table Data'!T876, \"\")","v":""}]
[{"$f":"'Pivot Table Data'!B877","v":0},{"$f":"'Pivot Table Data'!F877","v":"Theater District Living & Learning"},{"$f":"'Pivot Table Data'!P877","v":"TDLLN"},{"$f":"'Pivot Table Data'!I877","v":"L3"},{"$f":"'Pivot Table Data'!J877","v":"Carpool"},{"$f":"'Pivot Table Data'!K877","v":0},{"$f":"'Pivot Table Data'!L877","v":0},{"$f":"'Pivot Table Data'!S877","v":0},{"$f":"'Pivot Table Data'!T877","v":""},{"$f":"IF('Pivot Table Data'!O877=\"Yes\", 'Pivot Table Data'!T877, \"\")","v":""}]
[{"$f":"'Pivot Table Data'!B878","v":0},{"$f":"'Pivot Table Data'!F878","v":"Theater District Living & Learning"},{"$f":"'Pivot Table Data'!P878","v":"TDLLN"},{"$f":"'Pivot Table Data'!I878","v":"L3"},{"$f":"'Pivot Table Data'!J878","v":"Electric Vehicle"},{"$f":"'Pivot Table Data'!K878","v":"ADA"},{"$f":"'Pivot Table Data'!L878","v":0},{"$f":"'Pivot Table Data'!S878","v":0},{"$f":"'Pivot Table Data'!T878","v":""},{"$f":"IF('Pivot Table Data'!O878=\"Yes\", 'Pivot Table Data'!T878, \"\")","v":""}]
[{"$f":"'Pivot Table Data'!B879","v":0},{"$f":"'Pivot Table Data'!F879","v":"Theater District Living & Learning"},{"$f":"'Pivot Table Data'!P879","v":"TDLLN"},{"$f":"'Pivot Table Data'!I879","v":"L3"},{"$f":"'Pivot Table Data'!J879","v":"Electric Vehicle"},{"$f":"'Pivot Table Data'!K879","v":0},{"$f":"'Pivot Table Data'!L879","v":0},{"$f":"'Pivot Table Data'!S879","v":0},{"$f":"'Pivot Table Data'!T879","v":""},{"$f":"IF('Pivot Table Data'!O879=\"Yes\", 'Pivot Table Data'!T879, \"\")","v":""}]
[{"$f":"'Pivot Table Data'!B880","v":0},{"$f":"'Pivot Table Data'!F880","v":"Theater District Living & Learning"},{"$f":"'Pivot Table Data'!P880","v":"TDLLN"},{"$f":"'Pivot Table Data'!I880","v":"L3"},{"$f":"'Pivot Table Data'!J880","v":"Motorcycle Section"},{"$f":"'Pivot Table Data'!K880","v":0},{"$f":"'Pivot Table Data'!L880","v":0},{"$f":"'Pivot Table Data'!S880","v":0},{"$f":"'Pivot Table Data'!T880","v":""},{"$f":"IF('Pivot Table Data'!O880=\"Yes\", 'Pivot Table Data'!T880, \"\")","v":""}]
[{"$f":"'Pivot Table Data'!B881","v":0},{"$f":"'Pivot Table Data'!F881","v":"Theater District Living & Learning"},{"$f":"'Pivot Table Data'!P881","v":"TDLLN"},{"$f":"'Pivot Table Data'!I881","v":"L3"},{"$f":"'Pivot Table Data'!J881","v":"Reserved"},{"$f":"'Pivot Table Data'!K881","v":0},{"$f":"'Pivot Table Data'!L881","v":0},{"$f":"'Pivot Table Data'!S881","v":0},{"$f":"'Pivot Table Data'!T881","v":""},{"$f":"IF('Pivot Table Data'!O881=\"Yes\", 'Pivot Table Data'!T881, \"\")","v":""}]
[{"$f":"'Pivot Table Data'!B882","v":0},{"$f":"'Pivot Table Data'!F882","v":"Theater District Living & Learning"},{"$f":"'Pivot Table Data'!P882","v":"TDLLN"},{"$f":"'Pivot Table Data'!I882","v":"L3"},{"$f":"'Pivot Table Data'!J882","v":"Service Yard"},{"$f":"'Pivot Table Data'!K882","v":0},{"$f":"'Pivot Table Data'!L882","v":0},{"$f":"'Pivot Table Data'!S882","v":0},{"$f":"'Pivot Table Data'!T882","v":""},{"$f":"IF('Pivot Table Data'!O882=\"Yes\", 'Pivot Table Data'!T882, \"\")","v":""}]
[{"$f":"'Pivot Table Data'!B883","v":0},{"$f":"'Pivot Table Data'!F883","v":"Theater District Living & Learning"},{"$f":"'Pivot Table Data'!P883","v":"TDLLN"},{"$f":"'Pivot Table Data'!I883","v":"L3"},{"$f":"'Pivot Table Data'!J883","v":"SR"},{"$f":"'Pivot Table Data'!K883","v":0},{"$f":"'Pivot Table Data'!L883","v":0},{"$f":"'Pivot Table Data'!S883","v":0},{"$f":"'Pivot Table Data'!T883","v":""},{"$f":"IF('Pivot Table Data'!O883=\"Yes\", 'Pivot Table Data'!T883, \"\")","v":""}]
[{"$f":"'Pivot Table Data'!B884","v":0},{"$f":"'Pivot Table Data'!F884","v":"Theater District Living & Learning"},{"$f":"'Pivot Table Data'!P884","v":"TDLLN"},{"$f":"'Pivot Table Data'!I884","v":"L3"},{"$f":"'Pivot Table Data'!J884","v":"UC Cart"},{"$f":"'Pivot Table Data'!K884","v":0},{"$f":"'Pivot Table Data'!L884","v":0},{"$f":"'Pivot Table Data'!S884","v":0},{"$f":"'Pivot Table Data'!T884","v":""},{"$f":"IF('Pivot Table Data'!O884=\"Yes\", 'Pivot Table Data'!T884, \"\")","v":""}]
[{"$f":"'Pivot Table Data'!B885","v":0},{"$f":"'Pivot Table Data'!F885","v":"Theater District Living & Learning"},{"$f":"'Pivot Table Data'!P885","v":"TDLLN"},{"$f":"'Pivot Table Data'!I885","v":"L3"},{"$f":"'Pivot Table Data'!J885","v":"UC Vehicle"},{"$f":"'Pivot Table Data'!K885","v":0},{"$f":"'Pivot Table Data'!L885","v":0},{"$f":"'Pivot Table Data'!S885","v":0},{"$f":"'Pivot Table Data'!T885","v":""},{"$f":"IF('Pivot Table Data'!O885=\"Yes\", 'Pivot Table Data'!T885, \"\")","v":""}]
[{"$f":"'Pivot Table Data'!B886","v":0},{"$f":"'Pivot Table Data'!F886","v":"Theater District Living & Learning"},{"$f":"'Pivot Table Data'!P886","v":"TDLLN"},{"$f":"'Pivot Table Data'!I886","v":"L3"},{"$f":"'Pivot Table Data'!J886","v":"Visitor"},{"$f":"'Pivot Table Data'!K886","v":0},{"$f":"'Pivot Table Data'!L886","v":0},{"$f":"'Pivot Table Data'!S886","v":0},{"$f":"'Pivot Table Data'!T886","v":""},{"$f":"IF('Pivot Table Data'!O886=\"Yes\", 'Pivot Table Data'!T886, \"\")","v":""}]
[{"$f":"'Pivot Table Data'!B887","v":0},{"$f":"'Pivot Table Data'!F887","v":"Theater District Living & Learning"},{"$f":"'Pivot Table Data'!P887","v":"TDLLN"},{"$f":"'Pivot Table Data'!I887","v":"L4"},{"$f":"'Pivot Table Data'!J887","v":"A"},{"$f":"'Pivot Table Data'!K887","v":0},{"$f":"'Pivot Table Data'!L887","v":0},{"$f":"'Pivot Table Data'!S887","v":0},{"$f":"'Pivot Table Data'!T887","v":""},{"$f":"IF('Pivot Table Data'!O887=\"Yes\", 'Pivot Table Data'!T887, \"\")","v":""}]
[{"$f":"'Pivot Table Data'!B888","v":0},{"$f":"'Pivot Table Data'!F888","v":"Theater District Living & Learning"},{"$f":"'Pivot Table Data'!P888","v":"TDLLN"},{"$f":"'Pivot Table Data'!I888","v":"L4"},{"$f":"'Pivot Table Data'!J888","v":"Accessible"},{"$f":"'Pivot Table Data'!K888","v":0},{"$f":"'Pivot Table Data'!L888","v":0},{"$f":"'Pivot Table Data'!S888","v":0},{"$f":"'Pivot Table Data'!T888","v":""},{"$f":"IF('Pivot Table Data'!O888=\"Yes\", 'Pivot Table Data'!T888, \"\")","v":""}]
[{"$f":"'Pivot Table Data'!B889","v":0},{"$f":"'Pivot Table Data'!F889","v":"Theater District Living & Learning"},{"$f":"'Pivot Table Data'!P889","v":"TDLLN"},{"$f":"'Pivot Table Data'!I889","v":"L4"},{"$f":"'Pivot Table Data'!J889","v":"Accessible (Van)"},{"$f":"'Pivot Table Data'!K889","v":0},{"$f":"'Pivot Table Data'!L889","v":0},{"$f":"'Pivot Table Data'!S889","v":0},{"$f":"'Pivot Table Data'!T889","v":""},{"$f":"IF('Pivot Table Data'!O889=\"Yes\", 'Pivot Table Data'!T889, \"\")","v":""}]
[{"$f":"'Pivot Table Data'!B890","v":0},{"$f":"'Pivot Table Data'!F890","v":"Theater District Living & Learning"},{"$f":"'Pivot Table Data'!P890","v":"TDLLN"},{"$f":"'Pivot Table Data'!I890","v":"L4"},{"$f":"'Pivot Table Data'!J890","v":"B"},{"$f":"'Pivot Table Data'!K890","v":0},{"$f":"'Pivot Table Data'!L890","v":0},{"$f":"'Pivot Table Data'!S890","v":196},{"$f":"'Pivot Table Data'!T890","v":""},{"$f":"IF('Pivot Table Data'!O890=\"Yes\", 'Pivot Table Data'!T890, \"\")","v":""}]
[{"$f":"'Pivot Table Data'!B891","v":0},{"$f":"'Pivot Table Data'!F891","v":"Theater District Living & Learning"},{"$f":"'Pivot Table Data'!P891","v":"TDLLN"},{"$f":"'Pivot Table Data'!I891","v":"L4"},{"$f":"'Pivot Table Data'!J891","v":"Carpool"},{"$f":"'Pivot Table Data'!K891","v":0},{"$f":"'Pivot Table Data'!L891","v":0},{"$f":"'Pivot Table Data'!S891","v":0},{"$f":"'Pivot Table Data'!T891","v":""},{"$f":"IF('Pivot Table Data'!O891=\"Yes\", 'Pivot Table Data'!T891, \"\")","v":""}]
[{"$f":"'Pivot Table Data'!B892","v":0},{"$f":"'Pivot Table Data'!F892","v":"Theater District Living & Learning"},{"$f":"'Pivot Table Data'!P892","v":"TDLLN"},{"$f":"'Pivot Table Data'!I892","v":"L4"},{"$f":"'Pivot Table Data'!J892","v":"Electric Vehicle"},{"$f":"'Pivot Table Data'!K892","v":"ADA"},{"$f":"'Pivot Table Data'!L892","v":0},{"$f":"'Pivot Table Data'!S892","v":0},{"$f":"'Pivot Table Data'!T892","v":""},{"$f":"IF('Pivot Table Data'!O892=\"Yes\", 'Pivot Table Data'!T892, \"\")","v":""}]
[{"$f":"'Pivot Table Data'!B893","v":0},{"$f":"'Pivot Table Data'!F893","v":"Theater District Living & Learning"},{"$f":"'Pivot Table Data'!P893","v":"TDLLN"},{"$f":"'Pivot Table Data'!I893","v":"L4"},{"$f":"'Pivot Table Data'!J893","v":"Electric Vehicle"},{"$f":"'Pivot Table Data'!K893","v":0},{"$f":"'Pivot Table Data'!L893","v":0},{"$f":"'Pivot Table Data'!S893","v":0},{"$f":"'Pivot Table Data'!T893","v":""},{"$f":"IF('Pivot Table Data'!O893=\"Yes\", 'Pivot Table Data'!T893, \"\")","v":""}]
[{"$f":"'Pivot Table Data'!B894","v":0},{"$f":"'Pivot Table Data'!F894","v":"Theater District Living & Learning"},{"$f":"'Pivot Table Data'!P894","v":"TDLLN"},{"$f":"'Pivot Table Data'!I894","v":"L4"},{"$f":"'Pivot Table Data'!J894","v":"Motorcycle Section"},{"$f":"'Pivot Table Data'!K894","v":0},{"$f":"'Pivot Table Data'!L894","v":0},{"$f":"'Pivot Table Data'!S894","v":0},{"$f":"'Pivot Table Data'!T894","v":""},{"$f":"IF('Pivot Table Data'!O894=\"Yes\", 'Pivot Table Data'!T894, \"\")","v":""}]
[{"$f":"'Pivot Table Data'!B895","v":0},{"$f":"'Pivot Table Data'!F895","v":"Theater District Living & Learning"},{"$f":"'Pivot Table Data'!P895","v":"TDLLN"},{"$f":"'Pivot Table Data'!I895","v":"L4"},{"$f":"'Pivot Table Data'!J895","v":"Reserved"},{"$f":"'Pivot Table Data'!K895","v":0},{"$f":"'Pivot Table Data'!L895","v":0},{"$f":"'Pivot Table Data'!S895","v":0},{"$f":"'Pivot Table Data'!T895","v":""},{"$f":"IF('Pivot Table Data'!O895=\"Yes\", 'Pivot Table Data'!T895, \"\")","v":""}]
[{"$f":"'Pivot Table Data'!B896","v":0},{"$f":"'Pivot Table Data'!F896","v":"Theater District Living & Learning"},{"$f":"'Pivot Table Data'!P896","v":"TDLLN"},{"$f":"'Pivot Table Data'!I896","v":"L4"},{"$f":"'Pivot Table Data'!J896","v":"Service Yard"},{"$f":"'Pivot Table Data'!K896","v":0},{"$f":"'Pivot Table Data'!L896","v":0},{"$f":"'Pivot Table Data'!S896","v":0},{"$f":"'Pivot Table Data'!T896","v":""},{"$f":"IF('Pivot Table Data'!O896=\"Yes\", 'Pivot Table Data'!T896, \"\")","v":""}]
[{"$f":"'Pivot Table Data'!B897","v":0},{"$f":"'Pivot Table Data'!F897","v":"Theater District Living & Learning"},{"$f":"'Pivot Table Data'!P897","v":"TDLLN"},{"$f":"'Pivot Table Data'!I897","v":"L4"},{"$f":"'Pivot Table Data'!J897","v":"SR"},{"$f":"'Pivot Table Data'!K897","v":0},{"$f":"'Pivot Table Data'!L897","v":0},{"$f":"'Pivot Table Data'!S897","v":91},{"$f":"'Pivot Table Data'!T897","v":""},{"$f":"IF('Pivot Table Data'!O897=\"Yes\", 'Pivot Table Data'!T897, \"\")","v":""}]
[{"$f":"'Pivot Table Data'!B898","v":0},{"$f":"'Pivot Table Data'!F898","v":"Theater District Living & Learning"},{"$f":"'Pivot Table Data'!P898","v":"TDLLN"},{"$f":"'Pivot Table Data'!I898","v":"L4"},{"$f":"'Pivot Table Data'!J898","v":"UC Cart"},{"$f":"'Pivot Table Data'!K898","v":0},{"$f":"'Pivot Table Data'!L898","v":0},{"$f":"'Pivot Table Data'!S898","v":0},{"$f":"'Pivot Table Data'!T898","v":""},{"$f":"IF('Pivot Table Data'!O898=\"Yes\", 'Pivot Table Data'!T898, \"\")","v":""}]
[{"$f":"'Pivot Table Data'!B899","v":0},{"$f":"'Pivot Table Data'!F899","v":"Theater District Living & Learning"},{"$f":"'Pivot Table Data'!P899","v":"TDLLN"},{"$f":"'Pivot Table Data'!I899","v":"L4"},{"$f":"'Pivot Table Data'!J899","v":"UC Vehicle"},{"$f":"'Pivot Table Data'!K899","v":0},{"$f":"'Pivot Table Data'!L899","v":0},{"$f":"'Pivot Table Data'!S899","v":0},{"$f":"'Pivot Table Data'!T899","v":""},{"$f":"IF('Pivot Table Data'!O899=\"Yes\", 'Pivot Table Data'!T899, \"\")","v":""}]
[{"$f":"'Pivot Table Data'!B900","v":0},{"$f":"'Pivot Table Data'!F900","v":"Theater District Living & Learning"},{"$f":"'Pivot Table Data'!P900","v":"TDLLN"},{"$f":"'Pivot Table Data'!I900","v":"L4"},{"$f":"'Pivot Table Data'!J900","v":"Visitor"},{"$f":"'Pivot Table Data'!K900","v":0},{"$f":"'Pivot Table Data'!L900","v":0},{"$f":"'Pivot Table Data'!S900","v":0},{"$f":"'Pivot Table Data'!T900","v":""},{"$f":"IF('Pivot Table Data'!O900=\"Yes\", 'Pivot Table Data'!T900, \"\")","v":""}]
[{"$f":"'Pivot Table Data'!B901","v":0},{"$f":"'Pivot Table Data'!F901","v":"Torrey Pines Center"},{"$f":"'Pivot Table Data'!P901","v":"Torrey Pines Center North"},{"$f":"'Pivot Table Data'!I901","v":"-"},{"$f":"'Pivot Table Data'!J901","v":"Accessible"},{"$f":"'Pivot Table Data'!K901","v":0},{"$f":"'Pivot Table Data'!L901","v":0},{"$f":"'Pivot Table Data'!S901","v":1},{"$f":"'Pivot Table Data'!T901","v":3},{"$f":"IF('Pivot Table Data'!O901=\"Yes\", 'Pivot Table Data'!T901, \"\")","v":""}]
[{"$f":"'Pivot Table Data'!B902","v":0},{"$f":"'Pivot Table Data'!F902","v":"Torrey Pines Center"},{"$f":"'Pivot Table Data'!P902","v":"Torrey Pines Center North"},{"$f":"'Pivot Table Data'!I902","v":"-"},{"$f":"'Pivot Table Data'!J902","v":"Accessible (Van)"},{"$f":"'Pivot Table Data'!K902","v":0},{"$f":"'Pivot Table Data'!L902","v":0},{"$f":"'Pivot Table Data'!S902","v":2},{"$f":"'Pivot Table Data'!T902","v":2},{"$f":"IF('Pivot Table Data'!O902=\"Yes\", 'Pivot Table Data'!T902, \"\")","v":""}]
[{"$f":"'Pivot Table Data'!B903","v":0},{"$f":"'Pivot Table Data'!F903","v":"Torrey Pines Center"},{"$f":"'Pivot Table Data'!P903","v":"Torrey Pines Center North"},{"$f":"'Pivot Table Data'!I903","v":"-"},{"$f":"'Pivot Table Data'!J903","v":"B"},{"$f":"'Pivot Table Data'!K903","v":"Oversized"},{"$f":"'Pivot Table Data'!L903","v":0},{"$f":"'Pivot Table Data'!S903","v":5},{"$f":"'Pivot Table Data'!T903","v":5},{"$f":"IF('Pivot Table Data'!O903=\"Yes\", 'Pivot Table Data'!T903, \"\")","v":5}]
[{"$f":"'Pivot Table Data'!B904","v":0},{"$f":"'Pivot Table Data'!F904","v":"Torrey Pines Center"},{"$f":"'Pivot Table Data'!P904","v":"Torrey Pines Center North"},{"$f":"'Pivot Table Data'!I904","v":"-"},{"$f":"'Pivot Table Data'!J904","v":"B"},{"$f":"'Pivot Table Data'!K904","v":0},{"$f":"'Pivot Table Data'!L904","v":0},{"$f":"'Pivot Table Data'!S904","v":18},{"$f":"'Pivot Table Data'!T904","v":183},{"$f":"IF('Pivot Table Data'!O904=\"Yes\", 'Pivot Table Data'!T904, \"\")","v":183}]
[{"$f":"'Pivot Table Data'!B905","v":0},{"$f":"'Pivot Table Data'!F905","v":"Torrey Pines Center"},{"$f":"'Pivot Table Data'!P905","v":"Torrey Pines Center North"},{"$f":"'Pivot Table Data'!I905","v":"-"},{"$f":"'Pivot Table Data'!J905","v":"Loading"},{"$f":"'Pivot Table Data'!K905","v":0},{"$f":"'Pivot Table Data'!L905","v":0},{"$f":"'Pivot Table Data'!S905","v":1},{"$f":"'Pivot Table Data'!T905","v":1},{"$f":"IF('Pivot Table Data'!O905=\"Yes\", 'Pivot Table Data'!T905, \"\")","v":""}]
[{"$f":"'Pivot Table Data'!B906","v":0},{"$f":"'Pivot Table Data'!F906","v":"Torrey Pines Center"},{"$f":"'Pivot Table Data'!P906","v":"Torrey Pines Center North"},{"$f":"'Pivot Table Data'!I906","v":"-"},{"$f":"'Pivot Table Data'!J906","v":"Reserved"},{"$f":"'Pivot Table Data'!K906","v":0},{"$f":"'Pivot Table Data'!L906","v":0},{"$f":"'Pivot Table Data'!S906","v":7},{"$f":"'Pivot Table Data'!T906","v":10},{"$f":"IF('Pivot Table Data'!O906=\"Yes\", 'Pivot Table Data'!T906, \"\")","v":""}]
[{"$f":"'Pivot Table Data'!B907","v":0},{"$f":"'Pivot Table Data'!F907","v":"Torrey Pines Center"},{"$f":"'Pivot Table Data'!P907","v":"Torrey Pines Center North"},{"$f":"'Pivot Table Data'!I907","v":"-"},{"$f":"'Pivot Table Data'!J907","v":"Service Yard"},{"$f":"'Pivot Table Data'!K907","v":0},{"$f":"'Pivot Table Data'!L907","v":0},{"$f":"'Pivot Table Data'!S907","v":1},{"$f":"'Pivot Table Data'!T907","v":1},{"$f":"IF('Pivot Table Data'!O907=\"Yes\", 'Pivot Table Data'!T907, \"\")","v":""}]
[{"$f":"'Pivot Table Data'!B908","v":0},{"$f":"'Pivot Table Data'!F908","v":"Torrey Pines Center"},{"$f":"'Pivot Table Data'!P908","v":"Torrey Pines Center North"},{"$f":"'Pivot Table Data'!I908","v":"-"},{"$f":"'Pivot Table Data'!J908","v":"B"},{"$f":"'Pivot Table Data'!K908","v":0},{"$f":"'Pivot Table Data'!L908","v":0},{"$f":"'Pivot Table Data'!S908","v":80},{"$f":"'Pivot Table Data'!T908","v":""},{"$f":"IF('Pivot Table Data'!O908=\"Yes\", 'Pivot Table Data'!T908, \"\")","v":""}]
[{"$f":"'Pivot Table Data'!B909","v":0},{"$f":"'Pivot Table Data'!F909","v":"Torrey Pines Center"},{"$f":"'Pivot Table Data'!P909","v":"Torrey Pines Center North"},{"$f":"'Pivot Table Data'!I909","v":"-"},{"$f":"'Pivot Table Data'!J909","v":"Carpool"},{"$f":"'Pivot Table Data'!K909","v":"A 3-Person"},{"$f":"'Pivot Table Data'!L909","v":0},{"$f":"'Pivot Table Data'!S909","v":1},{"$f":"'Pivot Table Data'!T909","v":1},{"$f":"IF('Pivot Table Data'!O909=\"Yes\", 'Pivot Table Data'!T909, \"\")","v":1}]
[{"$f":"'Pivot Table Data'!B910","v":0},{"$f":"'Pivot Table Data'!F910","v":"Torrey Pines Center"},{"$f":"'Pivot Table Data'!P910","v":"Torrey Pines Center North"},{"$f":"'Pivot Table Data'!I910","v":"-"},{"$f":"'Pivot Table Data'!J910","v":"Motorcycle Section"},{"$f":"'Pivot Table Data'!K910","v":0},{"$f":"'Pivot Table Data'!L910","v":0},{"$f":"'Pivot Table Data'!S910","v":2},{"$f":"'Pivot Table Data'!T910","v":2},{"$f":"IF('Pivot Table Data'!O910=\"Yes\", 'Pivot Table Data'!T910, \"\")","v":""}]
[{"$f":"'Pivot Table Data'!B911","v":0},{"$f":"'Pivot Table Data'!F911","v":"Torrey Pines Center"},{"$f":"'Pivot Table Data'!P911","v":"Torrey Pines Center North"},{"$f":"'Pivot Table Data'!I911","v":"-"},{"$f":"'Pivot Table Data'!J911","v":"B"},{"$f":"'Pivot Table Data'!K911","v":0},{"$f":"'Pivot Table Data'!L911","v":0},{"$f":"'Pivot Table Data'!S911","v":29},{"$f":"'Pivot Table Data'!T911","v":""},{"$f":"IF('Pivot Table Data'!O911=\"Yes\", 'Pivot Table Data'!T911, \"\")","v":""}]
[{"$f":"'Pivot Table Data'!B912","v":0},{"$f":"'Pivot Table Data'!F912","v":"Torrey Pines Center"},{"$f":"'Pivot Table Data'!P912","v":"Torrey Pines Center North"},{"$f":"'Pivot Table Data'!I912","v":"-"},{"$f":"'Pivot Table Data'!J912","v":"S"},{"$f":"'Pivot Table Data'!K912","v":0},{"$f":"'Pivot Table Data'!L912","v":0},{"$f":"'Pivot Table Data'!S912","v":5},{"$f":"'Pivot Table Data'!T912","v":5},{"$f":"IF('Pivot Table Data'!O912=\"Yes\", 'Pivot Table Data'!T912, \"\")","v":5}]
[{"$f":"'Pivot Table Data'!B913","v":0},{"$f":"'Pivot Table Data'!F913","v":"Torrey Pines Center"},{"$f":"'Pivot Table Data'!P913","v":"Torrey Pines Center North"},{"$f":"'Pivot Table Data'!I913","v":"-"},{"$f":"'Pivot Table Data'!J913","v":"B"},{"$f":"'Pivot Table Data'!K913","v":0},{"$f":"'Pivot Table Data'!L913","v":0},{"$f":"'Pivot Table Data'!S913","v":55},{"$f":"'Pivot Table Data'!T913","v":""},{"$f":"IF('Pivot Table Data'!O913=\"Yes\", 'Pivot Table Data'!T913, \"\")","v":""}]
[{"$f":"'Pivot Table Data'!B914","v":0},{"$f":"'Pivot Table Data'!F914","v":"Torrey Pines Center"},{"$f":"'Pivot Table Data'!P914","v":"Torrey Pines Center North"},{"$f":"'Pivot Table Data'!I914","v":"-"},{"$f":"'Pivot Table Data'!J914","v":"Accessible"},{"$f":"'Pivot Table Data'!K914","v":0},{"$f":"'Pivot Table Data'!L914","v":0},{"$f":"'Pivot Table Data'!S914","v":2},{"$f":"'Pivot Table Data'!T914","v":""},{"$f":"IF('Pivot Table Data'!O914=\"Yes\", 'Pivot Table Data'!T914, \"\")","v":""}]
[{"$f":"'Pivot Table Data'!B915","v":0},{"$f":"'Pivot Table Data'!F915","v":"Torrey Pines Center"},{"$f":"'Pivot Table Data'!P915","v":"Torrey Pines Center North"},{"$f":"'Pivot Table Data'!I915","v":"-"},{"$f":"'Pivot Table Data'!J915","v":"Accessible (Van)"},{"$f":"'Pivot Table Data'!K915","v":0},{"$f":"'Pivot Table Data'!L915","v":0},{"$f":"'Pivot Table Data'!S915","v":0},{"$f":"'Pivot Table Data'!T915","v":""},{"$f":"IF('Pivot Table Data'!O915=\"Yes\", 'Pivot Table Data'!T915, \"\")","v":""}]
[{"$f":"'Pivot Table Data'!B916","v":0},{"$f":"'Pivot Table Data'!F916","v":"Torrey Pines Center"},{"$f":"'Pivot Table Data'!P916","v":"Torrey Pines Center North"},{"$f":"'Pivot Table Data'!I916","v":"-"},{"$f":"'Pivot Table Data'!J916","v":"B"},{"$f":"'Pivot Table Data'!K916","v":0},{"$f":"'Pivot Table Data'!L916","v":0},{"$f":"'Pivot Table Data'!S916","v":1},{"$f":"'Pivot Table Data'!T916","v":""},{"$f":"IF('Pivot Table Data'!O916=\"Yes\", 'Pivot Table Data'!T916, \"\")","v":""}]
[{"$f":"'Pivot Table Data'!B917","v":0},{"$f":"'Pivot Table Data'!F917","v":"Torrey Pines Center"},{"$f":"'Pivot Table Data'!P917","v":"Torrey Pines Center North"},{"$f":"'Pivot Table Data'!I917","v":"-"},{"$f":"'Pivot Table Data'!J917","v":"Reserved"},{"$f":"'Pivot Table Data'!K917","v":"Vanpool"},{"$f":"'Pivot Table Data'!L917","v":0},{"$f":"'Pivot Table Data'!S917","v":1},{"$f":"'Pivot Table Data'!T917","v":1},{"$f":"IF('Pivot Table Data'!O917=\"Yes\", 'Pivot Table Data'!T917, \"\")","v":""}]
[{"$f":"'Pivot Table Data'!B918","v":0},{"$f":"'Pivot Table Data'!F918","v":"Torrey Pines Center"},{"$f":"'Pivot Table Data'!P918","v":"Torrey Pines Center North"},{"$f":"'Pivot Table Data'!I918","v":"-"},{"$f":"'Pivot Table Data'!J918","v":"Reserved"},{"$f":"'Pivot Table Data'!K918","v":0},{"$f":"'Pivot Table Data'!L918","v":0},{"$f":"'Pivot Table Data'!S918","v":3},{"$f":"'Pivot Table Data'!T918","v":""},{"$f":"IF('Pivot Table Data'!O918=\"Yes\", 'Pivot Table Data'!T918, \"\")","v":""}]
[{"$f":"'Pivot Table Data'!B919","v":0},{"$f":"'Pivot Table Data'!F919","v":"Torrey Pines Center"},{"$f":"'Pivot Table Data'!P919","v":"Torrey Pines Center North"},{"$f":"'Pivot Table Data'!I919","v":"-"},{"$f":"'Pivot Table Data'!J919","v":"Visitor"},{"$f":"'Pivot Table Data'!K919","v":0},{"$f":"'Pivot Table Data'!L919","v":0},{"$f":"'Pivot Table Data'!S919","v":10},{"$f":"'Pivot Table Data'!T919","v":10},{"$f":"IF('Pivot Table Data'!O919=\"Yes\", 'Pivot Table Data'!T919, \"\")","v":10}]
[{"$f":"'Pivot Table Data'!B920","v":0},{"$f":"'Pivot Table Data'!F920","v":"Torrey Pines Center"},{"$f":"'Pivot Table Data'!P920","v":"Torrey Pines Center South"},{"$f":"'Pivot Table Data'!I920","v":"Ground (Level 2)"},{"$f":"'Pivot Table Data'!J920","v":"Accessible"},{"$f":"'Pivot Table Data'!K920","v":0},{"$f":"'Pivot Table Data'!L920","v":0},{"$f":"'Pivot Table Data'!S920","v":6},{"$f":"'Pivot Table Data'!T920","v":16},{"$f":"IF('Pivot Table Data'!O920=\"Yes\", 'Pivot Table Data'!T920, \"\")","v":""}]
[{"$f":"'Pivot Table Data'!B921","v":0},{"$f":"'Pivot Table Data'!F921","v":"Torrey Pines Center"},{"$f":"'Pivot Table Data'!P921","v":"Torrey Pines Center South"},{"$f":"'Pivot Table Data'!I921","v":"Ground (Level 2)"},{"$f":"'Pivot Table Data'!J921","v":"Accessible (Van)"},{"$f":"'Pivot Table Data'!K921","v":0},{"$f":"'Pivot Table Data'!L921","v":0},{"$f":"'Pivot Table Data'!S921","v":0},{"$f":"'Pivot Table Data'!T921","v":0},{"$f":"IF('Pivot Table Data'!O921=\"Yes\", 'Pivot Table Data'!T921, \"\")","v":""}]
[{"$f":"'Pivot Table Data'!B922","v":0},{"$f":"'Pivot Table Data'!F922","v":"Torrey Pines Center"},{"$f":"'Pivot Table Data'!P922","v":"Torrey Pines Center South"},{"$f":"'Pivot Table Data'!I922","v":"Ground (Level 2)"},{"$f":"'Pivot Table Data'!J922","v":"B"},{"$f":"'Pivot Table Data'!K922","v":0},{"$f":"'Pivot Table Data'!L922","v":0},{"$f":"'Pivot Table Data'!S922","v":98},{"$f":"'Pivot Table Data'!T922","v":373},{"$f":"IF('Pivot Table Data'!O922=\"Yes\", 'Pivot Table Data'!T922, \"\")","v":373}]
[{"$f":"'Pivot Table Data'!B923","v":0},{"$f":"'Pivot Table Data'!F923","v":"Torrey Pines Center"},{"$f":"'Pivot Table Data'!P923","v":"Torrey Pines Center South"},{"$f":"'Pivot Table Data'!I923","v":"Ground (Level 2)"},{"$f":"'Pivot Table Data'!J923","v":"Carpool"},{"$f":"'Pivot Table Data'!K923","v":"B 3-Person"},{"$f":"'Pivot Table Data'!L923","v":0},{"$f":"'Pivot Table Data'!S923","v":4},{"$f":"'Pivot Table Data'!T923","v":10},{"$f":"IF('Pivot Table Data'!O923=\"Yes\", 'Pivot Table Data'!T923, \"\")","v":10}]
[{"$f":"'Pivot Table Data'!B924","v":0},{"$f":"'Pivot Table Data'!F924","v":"Torrey Pines Center"},{"$f":"'Pivot Table Data'!P924","v":"Torrey Pines Center South"},{"$f":"'Pivot Table Data'!I924","v":"Ground (Level 2)"},{"$f":"'Pivot Table Data'!J924","v":"Loading"},{"$f":"'Pivot Table Data'!K924","v":0},{"$f":"'Pivot Table Data'!L924","v":"20 minutes"},{"$f":"'Pivot Table Data'!S924","v":2},{"$f":"'Pivot Table Data'!T924","v":2},{"$f":"IF('Pivot Table Data'!O924=\"Yes\", 'Pivot Table Data'!T924, \"\")","v":""}]
[{"$f":"'Pivot Table Data'!B925","v":0},{"$f":"'Pivot Table Data'!F925","v":"Torrey Pines Center"},{"$f":"'Pivot Table Data'!P925","v":"Torrey Pines Center South"},{"$f":"'Pivot Table Data'!I925","v":"Ground (Level 2)"},{"$f":"'Pivot Table Data'!J925","v":"Motorcycle Section"},{"$f":"'Pivot Table Data'!K925","v":0},{"$f":"'Pivot Table Data'!L925","v":0},{"$f":"'Pivot Table Data'!S925","v":2},{"$f":"'Pivot Table Data'!T925","v":10},{"$f":"IF('Pivot Table Data'!O925=\"Yes\", 'Pivot Table Data'!T925, \"\")","v":""}]
[{"$f":"'Pivot Table Data'!B926","v":0},{"$f":"'Pivot Table Data'!F926","v":"Torrey Pines Center"},{"$f":"'Pivot Table Data'!P926","v":"Torrey Pines Center South"},{"$f":"'Pivot Table Data'!I926","v":"Ground (Level 2)"},{"$f":"'Pivot Table Data'!J926","v":"Reserved"},{"$f":"'Pivot Table Data'!K926","v":"EH&S"},{"$f":"'Pivot Table Data'!L926","v":0},{"$f":"'Pivot Table Data'!S926","v":3},{"$f":"'Pivot Table Data'!T926","v":3},{"$f":"IF('Pivot Table Data'!O926=\"Yes\", 'Pivot Table Data'!T926, \"\")","v":""}]
[{"$f":"'Pivot Table Data'!B927","v":0},{"$f":"'Pivot Table Data'!F927","v":"Torrey Pines Center"},{"$f":"'Pivot Table Data'!P927","v":"Torrey Pines Center South"},{"$f":"'Pivot Table Data'!I927","v":"Ground (Level 2)"},{"$f":"'Pivot Table Data'!J927","v":"Reserved"},{"$f":"'Pivot Table Data'!K927","v":"Emergency Response Veh"},{"$f":"'Pivot Table Data'!L927","v":0},{"$f":"'Pivot Table Data'!S927","v":1},{"$f":"'Pivot Table Data'!T927","v":2},{"$f":"IF('Pivot Table Data'!O927=\"Yes\", 'Pivot Table Data'!T927, \"\")","v":""}]
[{"$f":"'Pivot Table Data'!B928","v":0},{"$f":"'Pivot Table Data'!F928","v":"Torrey Pines Center"},{"$f":"'Pivot Table Data'!P928","v":"Torrey Pines Center South"},{"$f":"'Pivot Table Data'!I928","v":"Ground (Level 2)"},{"$f":"'Pivot Table Data'!J928","v":"Reserved"},{"$f":"'Pivot Table Data'!K928","v":"Office"},{"$f":"'Pivot Table Data'!L928","v":0},{"$f":"'Pivot Table Data'!S928","v":2},{"$f":"'Pivot Table Data'!T928","v":2},{"$f":"IF('Pivot Table Data'!O928=\"Yes\", 'Pivot Table Data'!T928, \"\")","v":""}]
[{"$f":"'Pivot Table Data'!B929","v":0},{"$f":"'Pivot Table Data'!F929","v":"Torrey Pines Center"},{"$f":"'Pivot Table Data'!P929","v":"Torrey Pines Center South"},{"$f":"'Pivot Table Data'!I929","v":"Ground (Level 2)"},{"$f":"'Pivot Table Data'!J929","v":"Reserved"},{"$f":"'Pivot Table Data'!K929","v":"Property Manager"},{"$f":"'Pivot Table Data'!L929","v":0},{"$f":"'Pivot Table Data'!S929","v":3},{"$f":"'Pivot Table Data'!T929","v":3},{"$f":"IF('Pivot Table Data'!O929=\"Yes\", 'Pivot Table Data'!T929, \"\")","v":""}]
[{"$f":"'Pivot Table Data'!B930","v":0},{"$f":"'Pivot Table Data'!F930","v":"Torrey Pines Center"},{"$f":"'Pivot Table Data'!P930","v":"Torrey Pines Center South"},{"$f":"'Pivot Table Data'!I930","v":"Ground (Level 2)"},{"$f":"'Pivot Table Data'!J930","v":"UC Vehicle"},{"$f":"'Pivot Table Data'!K930","v":"UC Electric Cart"},{"$f":"'Pivot Table Data'!L930","v":0},{"$f":"'Pivot Table Data'!S930","v":6},{"$f":"'Pivot Table Data'!T930","v":12},{"$f":"IF('Pivot Table Data'!O930=\"Yes\", 'Pivot Table Data'!T930, \"\")","v":""}]
[{"$f":"'Pivot Table Data'!B931","v":0},{"$f":"'Pivot Table Data'!F931","v":"Torrey Pines Center"},{"$f":"'Pivot Table Data'!P931","v":"Torrey Pines Center South"},{"$f":"'Pivot Table Data'!I931","v":"Ground (Level 2)"},{"$f":"'Pivot Table Data'!J931","v":"UC Vehicle"},{"$f":"'Pivot Table Data'!K931","v":0},{"$f":"'Pivot Table Data'!L931","v":0},{"$f":"'Pivot Table Data'!S931","v":2},{"$f":"'Pivot Table Data'!T931","v":20},{"$f":"IF('Pivot Table Data'!O931=\"Yes\", 'Pivot Table Data'!T931, \"\")","v":""}]
[{"$f":"'Pivot Table Data'!B932","v":0},{"$f":"'Pivot Table Data'!F932","v":"Torrey Pines Center"},{"$f":"'Pivot Table Data'!P932","v":"Torrey Pines Center South"},{"$f":"'Pivot Table Data'!I932","v":"Ground (Level 2)"},{"$f":"'Pivot Table Data'!J932","v":"UC Vehicle"},{"$f":"'Pivot Table Data'!K932","v":0},{"$f":"'Pivot Table Data'!L932","v":0},{"$f":"'Pivot Table Data'!S932","v":10},{"$f":"'Pivot Table Data'!T932","v":""},{"$f":"IF('Pivot Table Data'!O932=\"Yes\", 'Pivot Table Data'!T932, \"\")","v":""}]
[{"$f":"'Pivot Table Data'!B933","v":0},{"$f":"'Pivot Table Data'!F933","v":"Torrey Pines Center"},{"$f":"'Pivot Table Data'!P933","v":"Torrey Pines Center South"},{"$f":"'Pivot Table Data'!I933","v":"Basement (Level 1)"},{"$f":"'Pivot Table Data'!J933","v":"Accessible"},{"$f":"'Pivot Table Data'!K933","v":0},{"$f":"'Pivot Table Data'!L933","v":0},{"$f":"'Pivot Table Data'!S933","v":4},{"$f":"'Pivot Table Data'!T933","v":""},{"$f":"IF('Pivot Table Data'!O933=\"Yes\", 'Pivot Table Data'!T933, \"\")","v":""}]
[{"$f":"'Pivot Table Data'!B934","v":0},{"$f":"'Pivot Table Data'!F934","v":"Torrey Pines Center"},{"$f":"'Pivot Table Data'!P934","v":"Torrey Pines Center South"},{"$f":"'Pivot Table Data'!I934","v":"Basement (Level 1)"},{"$f":"'Pivot Table Data'!J934","v":"Accessible (Van)"},{"$f":"'Pivot Table Data'!K934","v":0},{"$f":"'Pivot Table Data'!L934","v":0},{"$f":"'Pivot Table Data'!S934","v":0},{"$f":"'Pivot Table Data'!T934","v":""},{"$f":"IF('Pivot Table Data'!O934=\"Yes\", 'Pivot Table Data'!T934, \"\")","v":""}]
[{"$f":"'Pivot Table Data'!B935","v":0},{"$f":"'Pivot Table Data'!F935","v":"Torrey Pines Center"},{"$f":"'Pivot Table Data'!P935","v":"Torrey Pines Center South"},{"$f":"'Pivot Table Data'!I935","v":"Basement (Level 1)"},{"$f":"'Pivot Table Data'!J935","v":"B"},{"$f":"'Pivot Table Data'!K935","v":0},{"$f":"'Pivot Table Data'!L935","v":0},{"$f":"'Pivot Table Data'!S935","v":275},{"$f":"'Pivot Table Data'!T935","v":""},{"$f":"IF('Pivot Table Data'!O935=\"Yes\", 'Pivot Table Data'!T935, \"\")","v":""}]
[{"$f":"'Pivot Table Data'!B936","v":0},{"$f":"'Pivot Table Data'!F936","v":"Torrey Pines Center"},{"$f":"'Pivot Table Data'!P936","v":"Torrey Pines Center South"},{"$f":"'Pivot Table Data'!I936","v":"Basement (Level 1)"},{"$f":"'Pivot Table Data'!J936","v":"Carpool"},{"$f":"'Pivot Table Data'!K936","v":"B 3-Person"},{"$f":"'Pivot Table Data'!L936","v":0},{"$f":"'Pivot Table Data'!S936","v":6},{"$f":"'Pivot Table Data'!T936","v":""},{"$f":"IF('Pivot Table Data'!O936=\"Yes\", 'Pivot Table Data'!T936, \"\")","v":""}]
[{"$f":"'Pivot Table Data'!B937","v":0},{"$f":"'Pivot Table Data'!F937","v":"Torrey Pines Center"},{"$f":"'Pivot Table Data'!P937","v":"Torrey Pines Center South"},{"$f":"'Pivot Table Data'!I937","v":"Basement (Level 1)"},{"$f":"'Pivot Table Data'!J937","v":"Electric Vehicle"},{"$f":"'Pivot Table Data'!K937","v":0},{"$f":"'Pivot Table Data'!L937","v":0},{"$f":"'Pivot Table Data'!S937","v":10},{"$f":"'Pivot Table Data'!T937","v":10},{"$f":"IF('Pivot Table Data'!O937=\"Yes\", 'Pivot Table Data'!T937, \"\")","v":""}]
[{"$f":"'Pivot Table Data'!B938","v":0},{"$f":"'Pivot Table Data'!F938","v":"Torrey Pines Center"},{"$f":"'Pivot Table Data'!P938","v":"Torrey Pines Center South"},{"$f":"'Pivot Table Data'!I938","v":"Basement (Level 1)"},{"$f":"'Pivot Table Data'!J938","v":"Motorcycle Section"},{"$f":"'Pivot Table Data'!K938","v":0},{"$f":"'Pivot Table Data'!L938","v":0},{"$f":"'Pivot Table Data'!S938","v":8},{"$f":"'Pivot Table Data'!T938","v":""},{"$f":"IF('Pivot Table Data'!O938=\"Yes\", 'Pivot Table Data'!T938, \"\")","v":""}]
[{"$f":"'Pivot Table Data'!B939","v":0},{"$f":"'Pivot Table Data'!F939","v":"Torrey Pines Center"},{"$f":"'Pivot Table Data'!P939","v":"Torrey Pines Center South"},{"$f":"'Pivot Table Data'!I939","v":"Basement (Level 1)"},{"$f":"'Pivot Table Data'!J939","v":"Reserved"},{"$f":"'Pivot Table Data'!K939","v":"Emergency Response Veh"},{"$f":"'Pivot Table Data'!L939","v":0},{"$f":"'Pivot Table Data'!S939","v":1},{"$f":"'Pivot Table Data'!T939","v":""},{"$f":"IF('Pivot Table Data'!O939=\"Yes\", 'Pivot Table Data'!T939, \"\")","v":""}]
[{"$f":"'Pivot Table Data'!B940","v":0},{"$f":"'Pivot Table Data'!F940","v":"Torrey Pines Center"},{"$f":"'Pivot Table Data'!P940","v":"Torrey Pines Center South"},{"$f":"'Pivot Table Data'!I940","v":"Basement (Level 1)"},{"$f":"'Pivot Table Data'!J940","v":"Reserved"},{"$f":"'Pivot Table Data'!K940","v":0},{"$f":"'Pivot Table Data'!L940","v":0},{"$f":"'Pivot Table Data'!S940","v":2},{"$f":"'Pivot Table Data'!T940","v":2},{"$f":"IF('Pivot Table Data'!O940=\"Yes\", 'Pivot Table Data'!T940, \"\")","v":""}]
[{"$f":"'Pivot Table Data'!B941","v":0},{"$f":"'Pivot Table Data'!F941","v":"Torrey Pines Center"},{"$f":"'Pivot Table Data'!P941","v":"Torrey Pines Center South"},{"$f":"'Pivot Table Data'!I941","v":"Basement (Level 1)"},{"$f":"'Pivot Table Data'!J941","v":"S"},{"$f":"'Pivot Table Data'!K941","v":0},{"$f":"'Pivot Table Data'!L941","v":0},{"$f":"'Pivot Table Data'!S941","v":0},{"$f":"'Pivot Table Data'!T941","v":0},{"$f":"IF('Pivot Table Data'!O941=\"Yes\", 'Pivot Table Data'!T941, \"\")","v":0}]
[{"$f":"'Pivot Table Data'!B942","v":0},{"$f":"'Pivot Table Data'!F942","v":"Torrey Pines Center"},{"$f":"'Pivot Table Data'!P942","v":"Torrey Pines Center South"},{"$f":"'Pivot Table Data'!I942","v":"Basement (Level 1)"},{"$f":"'Pivot Table Data'!J942","v":"UC Vehicle"},{"$f":"'Pivot Table Data'!K942","v":"UC Electric Cart"},{"$f":"'Pivot Table Data'!L942","v":0},{"$f":"'Pivot Table Data'!S942","v":6},{"$f":"'Pivot Table Data'!T942","v":""},{"$f":"IF('Pivot Table Data'!O942=\"Yes\", 'Pivot Table Data'!T942, \"\")","v":""}]
[{"$f":"'Pivot Table Data'!B943","v":0},{"$f":"'Pivot Table Data'!F943","v":"Torrey Pines Center"},{"$f":"'Pivot Table Data'!P943","v":"Torrey Pines Center South"},{"$f":"'Pivot Table Data'!I943","v":"Basement (Level 1)"},{"$f":"'Pivot Table Data'!J943","v":"Visitor"},{"$f":"'Pivot Table Data'!K943","v":0},{"$f":"'Pivot Table Data'!L943","v":0},{"$f":"'Pivot Table Data'!S943","v":9},{"$f":"'Pivot Table Data'!T943","v":17},{"$f":"IF('Pivot Table Data'!O943=\"Yes\", 'Pivot Table Data'!T943, \"\")","v":17}]
[{"$f":"'Pivot Table Data'!B944","v":0},{"$f":"'Pivot Table Data'!F944","v":"Torrey Pines Center"},{"$f":"'Pivot Table Data'!P944","v":"Torrey Pines Center South"},{"$f":"'Pivot Table Data'!I944","v":"Surface Lot (Ground Level)"},{"$f":"'Pivot Table Data'!J944","v":"Accessible"},{"$f":"'Pivot Table Data'!K944","v":0},{"$f":"'Pivot Table Data'!L944","v":0},{"$f":"'Pivot Table Data'!S944","v":6},{"$f":"'Pivot Table Data'!T944","v":""},{"$f":"IF('Pivot Table Data'!O944=\"Yes\", 'Pivot Table Data'!T944, \"\")","v":""}]
[{"$f":"'Pivot Table Data'!B945","v":0},{"$f":"'Pivot Table Data'!F945","v":"Torrey Pines Center"},{"$f":"'Pivot Table Data'!P945","v":"Torrey Pines Center South"},{"$f":"'Pivot Table Data'!I945","v":"Surface Lot (Ground Level)"},{"$f":"'Pivot Table Data'!J945","v":"Accessible (Van)"},{"$f":"'Pivot Table Data'!K945","v":0},{"$f":"'Pivot Table Data'!L945","v":0},{"$f":"'Pivot Table Data'!S945","v":0},{"$f":"'Pivot Table Data'!T945","v":""},{"$f":"IF('Pivot Table Data'!O945=\"Yes\", 'Pivot Table Data'!T945, \"\")","v":""}]
[{"$f":"'Pivot Table Data'!B946","v":0},{"$f":"'Pivot Table Data'!F946","v":"Torrey Pines Center"},{"$f":"'Pivot Table Data'!P946","v":"Torrey Pines Center South"},{"$f":"'Pivot Table Data'!I946","v":"Surface Lot (Ground Level)"},{"$f":"'Pivot Table Data'!J946","v":"Loading"},{"$f":"'Pivot Table Data'!K946","v":"Bars"},{"$f":"'Pivot Table Data'!L946","v":"20 minutes"},{"$f":"'Pivot Table Data'!S946","v":4},{"$f":"'Pivot Table Data'!T946","v":4},{"$f":"IF('Pivot Table Data'!O946=\"Yes\", 'Pivot Table Data'!T946, \"\")","v":""}]
[{"$f":"'Pivot Table Data'!B947","v":0},{"$f":"'Pivot Table Data'!F947","v":"Torrey Pines Center"},{"$f":"'Pivot Table Data'!P947","v":"Torrey Pines Center South"},{"$f":"'Pivot Table Data'!I947","v":"Surface Lot (Ground Level)"},{"$f":"'Pivot Table Data'!J947","v":"UC Vehicle"},{"$f":"'Pivot Table Data'!K947","v":0},{"$f":"'Pivot Table Data'!L947","v":0},{"$f":"'Pivot Table Data'!S947","v":8},{"$f":"'Pivot Table Data'!T947","v":""},{"$f":"IF('Pivot Table Data'!O947=\"Yes\", 'Pivot Table Data'!T947, \"\")","v":""}]
[{"$f":"'Pivot Table Data'!B948","v":0},{"$f":"'Pivot Table Data'!F948","v":"Torrey Pines Center"},{"$f":"'Pivot Table Data'!P948","v":"Torrey Pines Center South"},{"$f":"'Pivot Table Data'!I948","v":"Surface Lot (Ground Level)"},{"$f":"'Pivot Table Data'!J948","v":"Visitor"},{"$f":"'Pivot Table Data'!K948","v":0},{"$f":"'Pivot Table Data'!L948","v":0},{"$f":"'Pivot Table Data'!S948","v":8},{"$f":"'Pivot Table Data'!T948","v":""},{"$f":"IF('Pivot Table Data'!O948=\"Yes\", 'Pivot Table Data'!T948, \"\")","v":""}]
[{"$f":"'Pivot Table Data'!B949","v":0},{"$f":"'Pivot Table Data'!F949","v":0},{"$f":"'Pivot Table Data'!P949","v":0},{"$f":"'Pivot Table Data'!I949","v":0},{"$f":"'Pivot Table Data'!J949","v":0},{"$f":"'Pivot Table Data'!K949","v":0},{"$f":"'Pivot Table Data'!L949","v":0},{"$f":"'Pivot Table Data'!S949","v":0},{"$f":"'Pivot Table Data'!T949","v":0},{"$f":"IF('Pivot Table Data'!O949=\"Yes\", 'Pivot Table Data'!T949, \"\")","v":""}]
[{"$f":"'Pivot Table Data'!B950","v":0},{"$f":"'Pivot Table Data'!F950","v":0},{"$f":"'Pivot Table Data'!P950","v":0},{"$f":"'Pivot Table Data'!I950","v":0},{"$f":"'Pivot Table Data'!J950","v":0},{"$f":"'Pivot Table Data'!K950","v":0},{"$f":"'Pivot Table Data'!L950","v":0},{"$f":"'Pivot Table Data'!S950","v":0},{"$f":"'Pivot Table Data'!T950","v":0},{"$f":"IF('Pivot Table Data'!O950=\"Yes\", 'Pivot Table Data'!T950, \"\")","v":""}]
[{"$f":"'Pivot Table Data'!B951","v":0},{"$f":"'Pivot Table Data'!F951","v":0},{"$f":"'Pivot Table Data'!P951","v":0},{"$f":"'Pivot Table Data'!I951","v":0},{"$f":"'Pivot Table Data'!J951","v":0},{"$f":"'Pivot Table Data'!K951","v":0},{"$f":"'Pivot Table Data'!L951","v":0},{"$f":"'Pivot Table Data'!S951","v":0},{"$f":"'Pivot Table Data'!T951","v":""},{"$f":"IF('Pivot Table Data'!O951=\"Yes\", 'Pivot Table Data'!T951, \"\")","v":""}]
[{"$f":"'Pivot Table Data'!B952","v":0},{"$f":"'Pivot Table Data'!F952","v":0},{"$f":"'Pivot Table Data'!P952","v":0},{"$f":"'Pivot Table Data'!I952","v":0},{"$f":"'Pivot Table Data'!J952","v":0},{"$f":"'Pivot Table Data'!K952","v":0},{"$f":"'Pivot Table Data'!L952","v":0},{"$f":"'Pivot Table Data'!S952","v":0},{"$f":"'Pivot Table Data'!T952","v":""},{"$f":"IF('Pivot Table Data'!O952=\"Yes\", 'Pivot Table Data'!T952, \"\")","v":""}]
[{"$f":"'Pivot Table Data'!B953","v":0},{"$f":"'Pivot Table Data'!F953","v":0},{"$f":"'Pivot Table Data'!P953","v":0},{"$f":"'Pivot Table Data'!I953","v":0},{"$f":"'Pivot Table Data'!J953","v":0},{"$f":"'Pivot Table Data'!K953","v":0},{"$f":"'Pivot Table Data'!L953","v":0},{"$f":"'Pivot Table Data'!S953","v":0},{"$f":"'Pivot Table Data'!T953","v":""},{"$f":"IF('Pivot Table Data'!O953=\"Yes\", 'Pivot Table Data'!T953, \"\")","v":""}]
[{"$f":"'Pivot Table Data'!B954","v":0},{"$f":"'Pivot Table Data'!F954","v":0},{"$f":"'Pivot Table Data'!P954","v":0},{"$f":"'Pivot Table Data'!I954","v":0},{"$f":"'Pivot Table Data'!J954","v":0},{"$f":"'Pivot Table Data'!K954","v":0},{"$f":"'Pivot Table Data'!L954","v":0},{"$f":"'Pivot Table Data'!S954","v":0},{"$f":"'Pivot Table Data'!T954","v":""},{"$f":"IF('Pivot Table Data'!O954=\"Yes\", 'Pivot Table Data'!T954, \"\")","v":""}]
[{"$f":"'Pivot Table Data'!B955","v":0},{"$f":"'Pivot Table Data'!F955","v":0},{"$f":"'Pivot Table Data'!P955","v":0},{"$f":"'Pivot Table Data'!I955","v":0},{"$f":"'Pivot Table Data'!J955","v":0},{"$f":"'Pivot Table Data'!K955","v":0},{"$f":"'Pivot Table Data'!L955","v":0},{"$f":"'Pivot Table Data'!S955","v":0},{"$f":"'Pivot Table Data'!T955","v":""},{"$f":"IF('Pivot Table Data'!O955=\"Yes\", 'Pivot Table Data'!T955, \"\")","v":""}]
[{"$f":"'Pivot Table Data'!B956","v":0},{"$f":"'Pivot Table Data'!F956","v":0},{"$f":"'Pivot Table Data'!P956","v":0},{"$f":"'Pivot Table Data'!I956","v":0},{"$f":"'Pivot Table Data'!J956","v":0},{"$f":"'Pivot Table Data'!K956","v":0},{"$f":"'Pivot Table Data'!L956","v":0},{"$f":"'Pivot Table Data'!S956","v":0},{"$f":"'Pivot Table Data'!T956","v":""},{"$f":"IF('Pivot Table Data'!O956=\"Yes\", 'Pivot Table Data'!T956, \"\")","v":""}]
[{"$f":"'Pivot Table Data'!B957","v":0},{"$f":"'Pivot Table Data'!F957","v":0},{"$f":"'Pivot Table Data'!P957","v":0},{"$f":"'Pivot Table Data'!I957","v":0},{"$f":"'Pivot Table Data'!J957","v":0},{"$f":"'Pivot Table Data'!K957","v":0},{"$f":"'Pivot Table Data'!L957","v":0},{"$f":"'Pivot Table Data'!S957","v":0},{"$f":"'Pivot Table Data'!T957","v":""},{"$f":"IF('Pivot Table Data'!O957=\"Yes\", 'Pivot Table Data'!T957, \"\")","v":""}]
[{"$f":"'Pivot Table Data'!B958","v":0},{"$f":"'Pivot Table Data'!F958","v":0},{"$f":"'Pivot Table Data'!P958","v":0},{"$f":"'Pivot Table Data'!I958","v":0},{"$f":"'Pivot Table Data'!J958","v":0},{"$f":"'Pivot Table Data'!K958","v":0},{"$f":"'Pivot Table Data'!L958","v":0},{"$f":"'Pivot Table Data'!S958","v":0},{"$f":"'Pivot Table Data'!T958","v":""},{"$f":"IF('Pivot Table Data'!O958=\"Yes\", 'Pivot Table Data'!T958, \"\")","v":""}]
[{"$f":"'Pivot Table Data'!B959","v":0},{"$f":"'Pivot Table Data'!F959","v":0},{"$f":"'Pivot Table Data'!P959","v":0},{"$f":"'Pivot Table Data'!I959","v":0},{"$f":"'Pivot Table Data'!J959","v":0},{"$f":"'Pivot Table Data'!K959","v":0},{"$f":"'Pivot Table Data'!L959","v":0},{"$f":"'Pivot Table Data'!S959","v":0},{"$f":"'Pivot Table Data'!T959","v":""},{"$f":"IF('Pivot Table Data'!O959=\"Yes\", 'Pivot Table Data'!T959, \"\")","v":""}]
[{"$f":"'Pivot Table Data'!B960","v":0},{"$f":"'Pivot Table Data'!F960","v":0},{"$f":"'Pivot Table Data'!P960","v":0},{"$f":"'Pivot Table Data'!I960","v":0},{"$f":"'Pivot Table Data'!J960","v":0},{"$f":"'Pivot Table Data'!K960","v":0},{"$f":"'Pivot Table Data'!L960","v":0},{"$f":"'Pivot Table Data'!S960","v":0},{"$f":"'Pivot Table Data'!T960","v":""},{"$f":"IF('Pivot Table Data'!O960=\"Yes\", 'Pivot Table Data'!T960, \"\")","v":""}]
[{"$f":"'Pivot Table Data'!B961","v":0},{"$f":"'Pivot Table Data'!F961","v":0},{"$f":"'Pivot Table Data'!P961","v":0},{"$f":"'Pivot Table Data'!I961","v":0},{"$f":"'Pivot Table Data'!J961","v":0},{"$f":"'Pivot Table Data'!K961","v":0},{"$f":"'Pivot Table Data'!L961","v":0},{"$f":"'Pivot Table Data'!S961","v":0},{"$f":"'Pivot Table Data'!T961","v":""},{"$f":"IF('Pivot Table Data'!O961=\"Yes\", 'Pivot Table Data'!T961, \"\")","v":""}]
[{"$f":"'Pivot Table Data'!B962","v":0},{"$f":"'Pivot Table Data'!F962","v":0},{"$f":"'Pivot Table Data'!P962","v":0},{"$f":"'Pivot Table Data'!I962","v":0},{"$f":"'Pivot Table Data'!J962","v":0},{"$f":"'Pivot Table Data'!K962","v":0},{"$f":"'Pivot Table Data'!L962","v":0},{"$f":"'Pivot Table Data'!S962","v":0},{"$f":"'Pivot Table Data'!T962","v":""},{"$f":"IF('Pivot Table Data'!O962=\"Yes\", 'Pivot Table Data'!T962, \"\")","v":""}]
[{"$f":"'Pivot Table Data'!B963","v":0},{"$f":"'Pivot Table Data'!F963","v":0},{"$f":"'Pivot Table Data'!P963","v":0},{"$f":"'Pivot Table Data'!I963","v":0},{"$f":"'Pivot Table Data'!J963","v":0},{"$f":"'Pivot Table Data'!K963","v":0},{"$f":"'Pivot Table Data'!L963","v":0},{"$f":"'Pivot Table Data'!S963","v":0},{"$f":"'Pivot Table Data'!T963","v":""},{"$f":"IF('Pivot Table Data'!O963=\"Yes\", 'Pivot Table Data'!T963, \"\")","v":""}]
[{"$f":"'Pivot Table Data'!B964","v":0},{"$f":"'Pivot Table Data'!F964","v":0},{"$f":"'Pivot Table Data'!P964","v":0},{"$f":"'Pivot Table Data'!I964","v":0},{"$f":"'Pivot Table Data'!J964","v":0},{"$f":"'Pivot Table Data'!K964","v":0},{"$f":"'Pivot Table Data'!L964","v":0},{"$f":"'Pivot Table Data'!S964","v":0},{"$f":"'Pivot Table Data'!T964","v":""},{"$f":"IF('Pivot Table Data'!O964=\"Yes\", 'Pivot Table Data'!T964, \"\")","v":""}]
[{"$f":"'Pivot Table Data'!B965","v":0},{"$f":"'Pivot Table Data'!F965","v":0},{"$f":"'Pivot Table Data'!P965","v":0},{"$f":"'Pivot Table Data'!I965","v":0},{"$f":"'Pivot Table Data'!J965","v":0},{"$f":"'Pivot Table Data'!K965","v":0},{"$f":"'Pivot Table Data'!L965","v":0},{"$f":"'Pivot Table Data'!S965","v":0},{"$f":"'Pivot Table Data'!T965","v":""},{"$f":"IF('Pivot Table Data'!O965=\"Yes\", 'Pivot Table Data'!T965, \"\")","v":""}]
[{"$f":"'Pivot Table Data'!B966","v":0},{"$f":"'Pivot Table Data'!F966","v":0},{"$f":"'Pivot Table Data'!P966","v":0},{"$f":"'Pivot Table Data'!I966","v":0},{"$f":"'Pivot Table Data'!J966","v":0},{"$f":"'Pivot Table Data'!K966","v":0},{"$f":"'Pivot Table Data'!L966","v":0},{"$f":"'Pivot Table Data'!S966","v":0},{"$f":"'Pivot Table Data'!T966","v":""},{"$f":"IF('Pivot Table Data'!O966=\"Yes\", 'Pivot Table Data'!T966, \"\")","v":""}]
[{"$f":"'Pivot Table Data'!B967","v":0},{"$f":"'Pivot Table Data'!F967","v":0},{"$f":"'Pivot Table Data'!P967","v":0},{"$f":"'Pivot Table Data'!I967","v":0},{"$f":"'Pivot Table Data'!J967","v":0},{"$f":"'Pivot Table Data'!K967","v":0},{"$f":"'Pivot Table Data'!L967","v":0},{"$f":"'Pivot Table Data'!S967","v":0},{"$f":"'Pivot Table Data'!T967","v":""},{"$f":"IF('Pivot Table Data'!O967=\"Yes\", 'Pivot Table Data'!T967, \"\")","v":""}]
[{"$f":"'Pivot Table Data'!B968","v":0},{"$f":"'Pivot Table Data'!F968","v":0},{"$f":"'Pivot Table Data'!P968","v":0},{"$f":"'Pivot Table Data'!I968","v":0},{"$f":"'Pivot Table Data'!J968","v":0},{"$f":"'Pivot Table Data'!K968","v":0},{"$f":"'Pivot Table Data'!L968","v":0},{"$f":"'Pivot Table Data'!S968","v":0},{"$f":"'Pivot Table Data'!T968","v":""},{"$f":"IF('Pivot Table Data'!O968=\"Yes\", 'Pivot Table Data'!T968, \"\")","v":""}]
[{"$f":"'Pivot Table Data'!B969","v":0},{"$f":"'Pivot Table Data'!F969","v":0},{"$f":"'Pivot Table Data'!P969","v":0},{"$f":"'Pivot Table Data'!I969","v":0},{"$f":"'Pivot Table Data'!J969","v":0},{"$f":"'Pivot Table Data'!K969","v":0},{"$f":"'Pivot Table Data'!L969","v":0},{"$f":"'Pivot Table Data'!S969","v":0},{"$f":"'Pivot Table Data'!T969","v":""},{"$f":"IF('Pivot Table Data'!O969=\"Yes\", 'Pivot Table Data'!T969, \"\")","v":""}]
[{"$f":"'Pivot Table Data'!B970","v":0},{"$f":"'Pivot Table Data'!F970","v":0},{"$f":"'Pivot Table Data'!P970","v":0},{"$f":"'Pivot Table Data'!I970","v":0},{"$f":"'Pivot Table Data'!J970","v":0},{"$f":"'Pivot Table Data'!K970","v":0},{"$f":"'Pivot Table Data'!L970","v":0},{"$f":"'Pivot Table Data'!S970","v":0},{"$f":"'Pivot Table Data'!T970","v":""},{"$f":"IF('Pivot Table Data'!O970=\"Yes\", 'Pivot Table Data'!T970, \"\")","v":""}]
[{"$f":"'Pivot Table Data'!B971","v":0},{"$f":"'Pivot Table Data'!F971","v":0},{"$f":"'Pivot Table Data'!P971","v":0},{"$f":"'Pivot Table Data'!I971","v":0},{"$f":"'Pivot Table Data'!J971","v":0},{"$f":"'Pivot Table Data'!K971","v":0},{"$f":"'Pivot Table Data'!L971","v":0},{"$f":"'Pivot Table Data'!S971","v":0},{"$f":"'Pivot Table Data'!T971","v":""},{"$f":"IF('Pivot Table Data'!O971=\"Yes\", 'Pivot Table Data'!T971, \"\")","v":""}]
[{"$f":"'Pivot Table Data'!B972","v":0},{"$f":"'Pivot Table Data'!F972","v":0},{"$f":"'Pivot Table Data'!P972","v":0},{"$f":"'Pivot Table Data'!I972","v":0},{"$f":"'Pivot Table Data'!J972","v":0},{"$f":"'Pivot Table Data'!K972","v":0},{"$f":"'Pivot Table Data'!L972","v":0},{"$f":"'Pivot Table Data'!S972","v":0},{"$f":"'Pivot Table Data'!T972","v":""},{"$f":"IF('Pivot Table Data'!O972=\"Yes\", 'Pivot Table Data'!T972, \"\")","v":""}]
[{"$f":"'Pivot Table Data'!B973","v":0},{"$f":"'Pivot Table Data'!F973","v":0},{"$f":"'Pivot Table Data'!P973","v":0},{"$f":"'Pivot Table Data'!I973","v":0},{"$f":"'Pivot Table Data'!J973","v":0},{"$f":"'Pivot Table Data'!K973","v":0},{"$f":"'Pivot Table Data'!L973","v":0},{"$f":"'Pivot Table Data'!S973","v":0},{"$f":"'Pivot Table Data'!T973","v":""},{"$f":"IF('Pivot Table Data'!O973=\"Yes\", 'Pivot Table Data'!T973, \"\")","v":""}]
[{"$f":"'Pivot Table Data'!B974","v":0},{"$f":"'Pivot Table Data'!F974","v":0},{"$f":"'Pivot Table Data'!P974","v":0},{"$f":"'Pivot Table Data'!I974","v":0},{"$f":"'Pivot Table Data'!J974","v":0},{"$f":"'Pivot Table Data'!K974","v":0},{"$f":"'Pivot Table Data'!L974","v":0},{"$f":"'Pivot Table Data'!S974","v":0},{"$f":"'Pivot Table Data'!T974","v":""},{"$f":"IF('Pivot Table Data'!O974=\"Yes\", 'Pivot Table Data'!T974, \"\")","v":""}]
[{"$f":"'Pivot Table Data'!B975","v":0},{"$f":"'Pivot Table Data'!F975","v":0},{"$f":"'Pivot Table Data'!P975","v":0},{"$f":"'Pivot Table Data'!I975","v":0},{"$f":"'Pivot Table Data'!J975","v":0},{"$f":"'Pivot Table Data'!K975","v":0},{"$f":"'Pivot Table Data'!L975","v":0},{"$f":"'Pivot Table Data'!S975","v":0},{"$f":"'Pivot Table Data'!T975","v":""},{"$f":"IF('Pivot Table Data'!O975=\"Yes\", 'Pivot Table Data'!T975, \"\")","v":""}]
[{"$f":"'Pivot Table Data'!B976","v":0},{"$f":"'Pivot Table Data'!F976","v":0},{"$f":"'Pivot Table Data'!P976","v":0},{"$f":"'Pivot Table Data'!I976","v":0},{"$f":"'Pivot Table Data'!J976","v":0},{"$f":"'Pivot Table Data'!K976","v":0},{"$f":"'Pivot Table Data'!L976","v":0},{"$f":"'Pivot Table Data'!S976","v":0},{"$f":"'Pivot Table Data'!T976","v":""},{"$f":"IF('Pivot Table Data'!O976=\"Yes\", 'Pivot Table Data'!T976, \"\")","v":""}]
[{"$f":"'Pivot Table Data'!B977","v":0},{"$f":"'Pivot Table Data'!F977","v":0},{"$f":"'Pivot Table Data'!P977","v":0},{"$f":"'Pivot Table Data'!I977","v":0},{"$f":"'Pivot Table Data'!J977","v":0},{"$f":"'Pivot Table Data'!K977","v":0},{"$f":"'Pivot Table Data'!L977","v":0},{"$f":"'Pivot Table Data'!S977","v":0},{"$f":"'Pivot Table Data'!T977","v":""},{"$f":"IF('Pivot Table Data'!O977=\"Yes\", 'Pivot Table Data'!T977, \"\")","v":""}]
[{"$f":"'Pivot Table Data'!B978","v":0},{"$f":"'Pivot Table Data'!F978","v":0},{"$f":"'Pivot Table Data'!P978","v":0},{"$f":"'Pivot Table Data'!I978","v":0},{"$f":"'Pivot Table Data'!J978","v":0},{"$f":"'Pivot Table Data'!K978","v":0},{"$f":"'Pivot Table Data'!L978","v":0},{"$f":"'Pivot Table Data'!S978","v":0},{"$f":"'Pivot Table Data'!T978","v":""},{"$f":"IF('Pivot Table Data'!O978=\"Yes\", 'Pivot Table Data'!T978, \"\")","v":""}]
[{"$f":"'Pivot Table Data'!B979","v":0},{"$f":"'Pivot Table Data'!F979","v":0},{"$f":"'Pivot Table Data'!P979","v":0},{"$f":"'Pivot Table Data'!I979","v":0},{"$f":"'Pivot Table Data'!J979","v":0},{"$f":"'Pivot Table Data'!K979","v":0},{"$f":"'Pivot Table Data'!L979","v":0},{"$f":"'Pivot Table Data'!S979","v":0},{"$f":"'Pivot Table Data'!T979","v":""},{"$f":"IF('Pivot Table Data'!O979=\"Yes\", 'Pivot Table Data'!T979, \"\")","v":""}]
[{"$f":"'Pivot Table Data'!B980","v":0},{"$f":"'Pivot Table Data'!F980","v":0},{"$f":"'Pivot Table Data'!P980","v":0},{"$f":"'Pivot Table Data'!I980","v":0},{"$f":"'Pivot Table Data'!J980","v":0},{"$f":"'Pivot Table Data'!K980","v":0},{"$f":"'Pivot Table Data'!L980","v":0},{"$f":"'Pivot Table Data'!S980","v":0},{"$f":"'Pivot Table Data'!T980","v":""},{"$f":"IF('Pivot Table Data'!O980=\"Yes\", 'Pivot Table Data'!T980, \"\")","v":""}]
[{"$f":"'Pivot Table Data'!B981","v":0},{"$f":"'Pivot Table Data'!F981","v":0},{"$f":"'Pivot Table Data'!P981","v":0},{"$f":"'Pivot Table Data'!I981","v":0},{"$f":"'Pivot Table Data'!J981","v":0},{"$f":"'Pivot Table Data'!K981","v":0},{"$f":"'Pivot Table Data'!L981","v":0},{"$f":"'Pivot Table Data'!S981","v":0},{"$f":"'Pivot Table Data'!T981","v":""},{"$f":"IF('Pivot Table Data'!O981=\"Yes\", 'Pivot Table Data'!T981, \"\")","v":""}]
[{"$f":"'Pivot Table Data'!B982","v":0},{"$f":"'Pivot Table Data'!F982","v":0},{"$f":"'Pivot Table Data'!P982","v":0},{"$f":"'Pivot Table Data'!I982","v":0},{"$f":"'Pivot Table Data'!J982","v":0},{"$f":"'Pivot Table Data'!K982","v":0},{"$f":"'Pivot Table Data'!L982","v":0},{"$f":"'Pivot Table Data'!S982","v":0},{"$f":"'Pivot Table Data'!T982","v":""},{"$f":"IF('Pivot Table Data'!O982=\"Yes\", 'Pivot Table Data'!T982, \"\")","v":""}]
[{"$f":"'Pivot Table Data'!B983","v":0},{"$f":"'Pivot Table Data'!F983","v":0},{"$f":"'Pivot Table Data'!P983","v":0},{"$f":"'Pivot Table Data'!I983","v":0},{"$f":"'Pivot Table Data'!J983","v":0},{"$f":"'Pivot Table Data'!K983","v":0},{"$f":"'Pivot Table Data'!L983","v":0},{"$f":"'Pivot Table Data'!S983","v":0},{"$f":"'Pivot Table Data'!T983","v":""},{"$f":"IF('Pivot Table Data'!O983=\"Yes\", 'Pivot Table Data'!T983, \"\")","v":""}]
[{"$f":"'Pivot Table Data'!B984","v":0},{"$f":"'Pivot Table Data'!F984","v":0},{"$f":"'Pivot Table Data'!P984","v":0},{"$f":"'Pivot Table Data'!I984","v":0},{"$f":"'Pivot Table Data'!J984","v":0},{"$f":"'Pivot Table Data'!K984","v":0},{"$f":"'Pivot Table Data'!L984","v":0},{"$f":"'Pivot Table Data'!S984","v":0},{"$f":"'Pivot Table Data'!T984","v":""},{"$f":"IF('Pivot Table Data'!O984=\"Yes\", 'Pivot Table Data'!T984, \"\")","v":""}]
[{"$f":"'Pivot Table Data'!B985","v":0},{"$f":"'Pivot Table Data'!F985","v":0},{"$f":"'Pivot Table Data'!P985","v":0},{"$f":"'Pivot Table Data'!I985","v":0},{"$f":"'Pivot Table Data'!J985","v":0},{"$f":"'Pivot Table Data'!K985","v":0},{"$f":"'Pivot Table Data'!L985","v":0},{"$f":"'Pivot Table Data'!S985","v":0},{"$f":"'Pivot Table Data'!T985","v":""},{"$f":"IF('Pivot Table Data'!O985=\"Yes\", 'Pivot Table Data'!T985, \"\")","v":""}]
[{"$f":"'Pivot Table Data'!B986","v":0},{"$f":"'Pivot Table Data'!F986","v":0},{"$f":"'Pivot Table Data'!P986","v":0},{"$f":"'Pivot Table Data'!I986","v":0},{"$f":"'Pivot Table Data'!J986","v":0},{"$f":"'Pivot Table Data'!K986","v":0},{"$f":"'Pivot Table Data'!L986","v":0},{"$f":"'Pivot Table Data'!S986","v":0},{"$f":"'Pivot Table Data'!T986","v":""},{"$f":"IF('Pivot Table Data'!O986=\"Yes\", 'Pivot Table Data'!T986, \"\")","v":""}]
[{"$f":"'Pivot Table Data'!B987","v":0},{"$f":"'Pivot Table Data'!F987","v":0},{"$f":"'Pivot Table Data'!P987","v":0},{"$f":"'Pivot Table Data'!I987","v":0},{"$f":"'Pivot Table Data'!J987","v":0},{"$f":"'Pivot Table Data'!K987","v":0},{"$f":"'Pivot Table Data'!L987","v":0},{"$f":"'Pivot Table Data'!S987","v":0},{"$f":"'Pivot Table Data'!T987","v":""},{"$f":"IF('Pivot Table Data'!O987=\"Yes\", 'Pivot Table Data'!T987, \"\")","v":""}]
[{"$f":"'Pivot Table Data'!B988","v":0},{"$f":"'Pivot Table Data'!F988","v":0},{"$f":"'Pivot Table Data'!P988","v":0},{"$f":"'Pivot Table Data'!I988","v":0},{"$f":"'Pivot Table Data'!J988","v":0},{"$f":"'Pivot Table Data'!K988","v":0},{"$f":"'Pivot Table Data'!L988","v":0},{"$f":"'Pivot Table Data'!S988","v":0},{"$f":"'Pivot Table Data'!T988","v":""},{"$f":"IF('Pivot Table Data'!O988=\"Yes\", 'Pivot Table Data'!T988, \"\")","v":""}]
[{"$f":"'Pivot Table Data'!B989","v":0},{"$f":"'Pivot Table Data'!F989","v":0},{"$f":"'Pivot Table Data'!P989","v":0},{"$f":"'Pivot Table Data'!I989","v":0},{"$f":"'Pivot Table Data'!J989","v":0},{"$f":"'Pivot Table Data'!K989","v":0},{"$f":"'Pivot Table Data'!L989","v":0},{"$f":"'Pivot Table Data'!S989","v":0},{"$f":"'Pivot Table Data'!T989","v":""},{"$f":"IF('Pivot Table Data'!O989=\"Yes\", 'Pivot Table Data'!T989, \"\")","v":""}]
[{"$f":"'Pivot Table Data'!B990","v":0},{"$f":"'Pivot Table Data'!F990","v":0},{"$f":"'Pivot Table Data'!P990","v":0},{"$f":"'Pivot Table Data'!I990","v":0},{"$f":"'Pivot Table Data'!J990","v":0},{"$f":"'Pivot Table Data'!K990","v":0},{"$f":"'Pivot Table Data'!L990","v":0},{"$f":"'Pivot Table Data'!S990","v":0},{"$f":"'Pivot Table Data'!T990","v":""},{"$f":"IF('Pivot Table Data'!O990=\"Yes\", 'Pivot Table Data'!T990, \"\")","v":""}]
[{"$f":"'Pivot Table Data'!B991","v":0},{"$f":"'Pivot Table Data'!F991","v":0},{"$f":"'Pivot Table Data'!P991","v":0},{"$f":"'Pivot Table Data'!I991","v":0},{"$f":"'Pivot Table Data'!J991","v":0},{"$f":"'Pivot Table Data'!K991","v":0},{"$f":"'Pivot Table Data'!L991","v":0},{"$f":"'Pivot Table Data'!S991","v":0},{"$f":"'Pivot Table Data'!T991","v":""},{"$f":"IF('Pivot Table Data'!O991=\"Yes\", 'Pivot Table Data'!T991, \"\")","v":""}]
[{"$f":"'Pivot Table Data'!B992","v":0},{"$f":"'Pivot Table Data'!F992","v":0},{"$f":"'Pivot Table Data'!P992","v":0},{"$f":"'Pivot Table Data'!I992","v":0},{"$f":"'Pivot Table Data'!J992","v":0},{"$f":"'Pivot Table Data'!K992","v":0},{"$f":"'Pivot Table Data'!L992","v":0},{"$f":"'Pivot Table Data'!S992","v":0},{"$f":"'Pivot Table Data'!T992","v":""},{"$f":"IF('Pivot Table Data'!O992=\"Yes\", 'Pivot Table Data'!T992, \"\")","v":""}]
[{"$f":"'Pivot Table Data'!B993","v":0},{"$f":"'Pivot Table Data'!F993","v":0},{"$f":"'Pivot Table Data'!P993","v":0},{"$f":"'Pivot Table Data'!I993","v":0},{"$f":"'Pivot Table Data'!J993","v":0},{"$f":"'Pivot Table Data'!K993","v":0},{"$f":"'Pivot Table Data'!L993","v":0},{"$f":"'Pivot Table Data'!S993","v":0},{"$f":"'Pivot Table Data'!T993","v":""},{"$f":"IF('Pivot Table Data'!O993=\"Yes\", 'Pivot Table Data'!T993, \"\")","v":""}]
[{"$f":"'Pivot Table Data'!B994","v":0},{"$f":"'Pivot Table Data'!F994","v":0},{"$f":"'Pivot Table Data'!P994","v":0},{"$f":"'Pivot Table Data'!I994","v":0},{"$f":"'Pivot Table Data'!J994","v":0},{"$f":"'Pivot Table Data'!K994","v":0},{"$f":"'Pivot Table Data'!L994","v":0},{"$f":"'Pivot Table Data'!S994","v":0},{"$f":"'Pivot Table Data'!T994","v":""},{"$f":"IF('Pivot Table Data'!O994=\"Yes\", 'Pivot Table Data'!T994, \"\")","v":""}]
[{"$f":"'Pivot Table Data'!B995","v":0},{"$f":"'Pivot Table Data'!F995","v":0},{"$f":"'Pivot Table Data'!P995","v":0},{"$f":"'Pivot Table Data'!I995","v":0},{"$f":"'Pivot Table Data'!J995","v":0},{"$f":"'Pivot Table Data'!K995","v":0},{"$f":"'Pivot Table Data'!L995","v":0},{"$f":"'Pivot Table Data'!S995","v":0},{"$f":"'Pivot Table Data'!T995","v":""},{"$f":"IF('Pivot Table Data'!O995=\"Yes\", 'Pivot Table Data'!T995, \"\")","v":""}]
[{"$f":"'Pivot Table Data'!B996","v":0},{"$f":"'Pivot Table Data'!F996","v":0},{"$f":"'Pivot Table Data'!P996","v":0},{"$f":"'Pivot Table Data'!I996","v":0},{"$f":"'Pivot Table Data'!J996","v":0},{"$f":"'Pivot Table Data'!K996","v":0},{"$f":"'Pivot Table Data'!L996","v":0},{"$f":"'Pivot Table Data'!S996","v":0},{"$f":"'Pivot Table Data'!T996","v":""},{"$f":"IF('Pivot Table Data'!O996=\"Yes\", 'Pivot Table Data'!T996, \"\")","v":""}]
[{"$f":"'Pivot Table Data'!B997","v":0},{"$f":"'Pivot Table Data'!F997","v":0},{"$f":"'Pivot Table Data'!P997","v":0},{"$f":"'Pivot Table Data'!I997","v":0},{"$f":"'Pivot Table Data'!J997","v":0},{"$f":"'Pivot Table Data'!K997","v":0},{"$f":"'Pivot Table Data'!L997","v":0},{"$f":"'Pivot Table Data'!S997","v":0},{"$f":"'Pivot Table Data'!T997","v":""},{"$f":"IF('Pivot Table Data'!O997=\"Yes\", 'Pivot Table Data'!T997, \"\")","v":""}]
[{"$f":"'Pivot Table Data'!B998","v":0},{"$f":"'Pivot Table Data'!F998","v":0},{"$f":"'Pivot Table Data'!P998","v":0},{"$f":"'Pivot Table Data'!I998","v":0},{"$f":"'Pivot Table Data'!J998","v":0},{"$f":"'Pivot Table Data'!K998","v":0},{"$f":"'Pivot Table Data'!L998","v":0},{"$f":"'Pivot Table Data'!S998","v":0},{"$f":"'Pivot Table Data'!T998","v":""},{"$f":"IF('Pivot Table Data'!O998=\"Yes\", 'Pivot Table Data'!T998, \"\")","v":""}]
[{"$f":"'Pivot Table Data'!B999","v":0},{"$f":"'Pivot Table Data'!F999","v":0},{"$f":"'Pivot Table Data'!P999","v":0},{"$f":"'Pivot Table Data'!I999","v":0},{"$f":"'Pivot Table Data'!J999","v":0},{"$f":"'Pivot Table Data'!K999","v":0},{"$f":"'Pivot Table Data'!L999","v":0},{"$f":"'Pivot Table Data'!S999","v":0},{"$f":"'Pivot Table Data'!T999","v":""},{"$f":"IF('Pivot Table Data'!O999=\"Yes\", 'Pivot Table Data'!T999, \"\")","v":""}]
[{"$f":"'Pivot Table Data'!B1000","v":0},{"$f":"'Pivot Table Data'!F1000","v":0},{"$f":"'Pivot Table Data'!P1000","v":0},{"$f":"'Pivot Table Data'!I1000","v":0},{"$f":"'Pivot Table Data'!J1000","v":0},{"$f":"'Pivot Table Data'!K1000","v":0},{"$f":"'Pivot Table Data'!L1000","v":0},{"$f":"'Pivot Table Data'!S1000","v":0},{"$f":"'Pivot Table Data'!T1000","v":""},{"$f":"IF('Pivot Table Data'!O1000=\"Yes\", 'Pivot Table Data'!T1000, \"\")","v":""}]
[{"$f":"'Pivot Table Data'!B1001","v":0},{"$f":"'Pivot Table Data'!F1001","v":0},{"$f":"'Pivot Table Data'!P1001","v":0},{"$f":"'Pivot Table Data'!I1001","v":0},{"$f":"'Pivot Table Data'!J1001","v":0},{"$f":"'Pivot Table Data'!K1001","v":0},{"$f":"'Pivot Table Data'!L1001","v":0},{"$f":"'Pivot Table Data'!S1001","v":0},{"$f":"'Pivot Table Data'!T1001","v":""},{"$f":"IF('Pivot Table Data'!O1001=\"Yes\", 'Pivot Table Data'!T1001, \"\")","v":""}]

{"sheet":"Graph By Neighborhood (A)","index":9,"n_rows":54,"n_cols":6,"rows_kept":54,"cut":false,"hidden":false,"merged":[]}
["Neighborhood","Space Type","Lot  / Structure","Sum of Inventory By Location","Sum of Max Open Stalls","Sum of Min Open Stalls"]
["Campus Services"]
[null,"A"]
[null,null,"P510",26,20,0]
["Health Sciences East"]
[null,"A"]
[null,null,"Athena",307,245,70]
[null,null,"Campus Point East",371,198,0]
[null,null,"Campus Point West",7,5,0]
[null,null,"P759",87,50,10]
["Health Sciences West"]
[null,"A"]
[null,null,"P602",109,81,0]
[null,null,"P603",0,0,0]
[null,null,"P610",113,63,0]
[null,null,"South",449,267,94]
["Marshall College"]
[null,"A"]
[null,null,"P303",88,79,32]
["Muir College"]
[null,"A"]
[null,null,"P201",11,8,0]
[null,null,"P206",32,28,7]
[null,null,"P414",3,3,0]
["North Campus"]
[null,"A"]
[null,null,"P351",22,16,0]
["North Torrey Pines Living and Learning"]
[null,"A"]
[null,null,"Scholars",295,252,12]
["Pepper Canyon"]
[null,"A"]
[null,null,"P402",4,3,0]
["Preuss School"]
[null,"A"]
[null,null,"P706",6,4,1]
["Roosevelt College"]
[null,"A"]
[null,null,"Hopkins",295,250,63]
[null,null,"Pangea",142,112,20]
["University Center"]
[null,"A"]
[null,null,"Gilman",401,281,63]
["Warren College"]
[null,"A"]
[null,null,"P503",8,7,0]
[null,null,"P506",3,3,0]
[null,null,"P508",1,1,1]
[8980]
[null,"A"]
[null,null,8980,26,26,16]
["Theater District Living & Learning"]
[null,"A"]
[null,null,"TDLLN",182,156,70]

{"sheet":"Graph By Neighborhood (B)","index":10,"n_rows":72,"n_cols":6,"rows_kept":72,"cut":false,"hidden":false,"merged":[]}
["Neighborhood","Space Type","Lot  / Structure","Sum of Inventory By Location","Sum of Max Open Stalls","Sum of Min Open Stalls"]
["Campus Services"]
[null,"B"]
[null,null,"P507",63,57,0]
[null,null,"P510",157,7,0]
["Health Sciences East"]
[null,"B"]
[null,null,"Athena",540,347.5,1]
[null,null,"P702",183,80,29]
[null,null,"P784",81,28,0]
[null,null,"P785",384,212,0]
["Health Sciences West"]
[null,"B"]
[null,null,"P604",0,0,0]
[null,null,"South",537,287,8]
["Marshall College"]
[null,"B"]
[null,null,"P304",0,0,0]
["Muir College"]
[null,"B"]
[null,null,"P206",0,0,0]
["North Campus"]
[null,"B"]
[null,null,"P357",117,61,0]
[null,null,"P359",49,16,0]
["North Torrey Pines Living and Learning"]
[null,"B"]
[null,null,"Scholars",381,321,141]
["Pepper Canyon"]
[null,"B"]
[null,null,"P406",18,14,0]
["Preuss School"]
[null,"B"]
[null,null,"P706",59,29,0]
["Roosevelt College"]
[null,"B"]
[null,null,"Hopkins",639,545,14]
[null,null,"Pangea",387,197,23]
["Science Research Park"]
[null,"B"]
[null,null,"Mesa Canyon",497,312,0]
["Scripps Institution of Oceanography"]
[null,"B"]
[null,null,"P001",0,0,0]
[null,null,"P002",31,26,4]
[null,null,"P003",64,51,4]
[null,null,"P006",6,4,0]
[null,null,"P007",22,13,0]
[null,null,"P008",26,14,0]
[null,null,"P010",23,19,0]
[null,null,"P011",15,15,0]
[null,null,"P012",12,12,0]
[null,null,"P013",12,12,0]
[null,null,"P014",69,60,8]
[null,null,"P032",9,0,0]
["Torrey Pines Center"]
[null,"B"]
[null,null,"P384",175,99,5]
[null,null,"Torrey Pines Center North",188,173,87]
[null,null,"Torrey Pines Center South",373,268,70]
["University Center"]
[null,"B"]
[null,null,"Gilman",123,25,0]
["Warren College"]
[null,"B"]
[null,null,"P503",2,2,0]
[8980]
[null,"B"]
[null,null,8980,33,28,18]
["Theater District Living & Learning"]
[null,"B"]
[null,null,"TDLLN",393,260,6]

{"sheet":"Graph By Neighborhood (V)","index":11,"n_rows":65,"n_cols":6,"rows_kept":65,"cut":false,"hidden":false,"merged":[]}
["Neighborhood","Space Type","Lot  / Structure","Sum of Inventory By Location","Sum of Max Open Stalls","Sum of Min Open Stalls"]
["Campus Services"]
[null,"Visitor"]
[null,null,"P507",20,15,2]
[null,null,"P510",9,4,0]
["Health Sciences East"]
[null,"Visitor"]
[null,null,"Athena",286,272,78]
[null,null,"Campus Point East",138,72,17]
[null,null,"Campus Point West",612,483,107]
[null,null,"P703",17,12,4]
[null,null,"P751",3,2,0]
["Health Sciences West"]
[null,"Visitor"]
[null,null,"P602",12,9,0]
[null,null,"P603",36,26,10]
[null,null,"South",113,58,27]
["Marshall College"]
[null,"Visitor"]
[null,null,"P303",30,28,7]
["Muir College"]
[null,"Visitor"]
[null,null,"P113",22,13,0]
[null,null,"P206",5,4,2]
["North Campus"]
[null,"Visitor"]
[null,null,"P357",13,7,0]
["North Torrey Pines Living and Learning"]
[null,"Visitor"]
[null,null,"Scholars",153,118,30]
["Pepper Canyon"]
[null,"Visitor"]
[null,null,"P402",3,3,0]
["Revelle College "]
[null,"Visitor"]
[null,null,"P106",1,1,0]
["Roosevelt College"]
[null,"Visitor"]
[null,null,"Hopkins",91,86,2]
[null,null,"Pangea",76,69,26]
["Scripps Institution of Oceanography"]
[null,"Visitor"]
[null,null,"P014",4,3,1]
[null,null,"P017",254,221,48]
[null,null,"P032",12,0,0]
["Torrey Pines Center"]
[null,"Visitor"]
[null,null,"P385",202,112,24]
[null,null,"Torrey Pines Center North",10,10,5]
[null,null,"Torrey Pines Center South",17,15,10]
["University Center"]
[null,"Visitor"]
[null,null,"Gilman",176,96,11]
["Warren College"]
[null,"Visitor"]
[null,null,"P503",10,5,0]
[null,null,"P504",6,4,1]
[null,null,"P506",12,9,0]
[null,null,"P508",0,0,0]
[8980]
[null,"Visitor"]
[null,null,8980,56,13,9]
["Theater District Living & Learning"]
[null,"Visitor"]
[null,null,"TDLLN",156,127,33]

{"sheet":"Graph By Neighborhood (S)","index":12,"n_rows":29,"n_cols":6,"rows_kept":29,"cut":false,"hidden":false,"merged":[]}
["Neighborhood","Space Type","Lot  / Structure","Sum of Inventory By Location","Sum of Max Open Stalls","Sum of Min Open Stalls"]
["East Recreation"]
[null,"S"]
[null,null,"P701",378,300,226]
["Health Sciences East"]
[null,"S"]
[null,null,"P707",194,70,35]
["Health Sciences West"]
[null,"S"]
[null,null,"South",1,1,0]
["Marshall College"]
[null,"S"]
[null,null,"P304",72,68,2]
["Roosevelt College"]
[null,"S"]
[null,null,"Hopkins",174,142,1]
[null,null,"Pangea",199,110,0]
["Scripps Institution of Oceanography"]
[null,"S"]
[null,null,"P014",26,23,5]
[null,null,"P016",58,50,14]
[null,null,"P021",75,75,61]
["Torrey Pines Center"]
[null,"S"]
[null,null,"Torrey Pines Center North",5,5,2]
[null,null,"Torrey Pines Center South",0,0,0]
[8980]
[null,"S"]
[null,null,8980,98,57,44]

{"sheet":"Graph By Neighborhood (SR)","index":13,"n_rows":20,"n_cols":6,"rows_kept":20,"cut":false,"hidden":false,"merged":[]}
["Neighborhood","Space Type","Lot  / Structure","Sum of Inventory By Location","Sum of Max Open Stalls","Sum of Min Open Stalls"]
["Health Sciences West"]
[null,"SR"]
[null,null,"South",68,31,14]
["North Torrey Pines Living and Learning"]
[null,"SR"]
[null,null,"Scholars",103,77,25]
["Pepper Canyon"]
[null,"SR"]
[null,null,"P401",96,46,1]
["Roosevelt College"]
[null,"SR"]
[null,null,"Hopkins",51,24,8]
[null,null,"Pangea",184,159,61]
["Warren College"]
[null,"SR"]
[null,null,"P504",27,3,0]
["Theater District Living & Learning"]
[null,"SR"]
[null,null,"TDLLN",91,17,1]

{"sheet":"Graph By Neighborhood (EV) ","index":14,"n_rows":54,"n_cols":6,"rows_kept":54,"cut":false,"hidden":false,"merged":[]}
["Neighborhood","Space Type","Lot  / Structure","Sum of Inventory By Location","Sum of Max Open Stalls","Sum of Min Open Stalls"]
["Campus Services"]
[null,"Electric Vehicle"]
[null,null,"P507",2,2,1]
["Health Sciences East"]
[null,"Electric Vehicle"]
[null,null,"Athena",45,39.25,10]
[null,null,"Campus Point East",3,2,0]
[null,null,"Campus Point West",6,4,0]
[null,null,"P703",12,7,3]
[null,null,"P707",2,2,1]
[null,null,"P751",0,0,0]
["Health Sciences West"]
[null,"Electric Vehicle"]
[null,null,"P602",4,3,0]
[null,null,"P610",6,4,0]
[null,null,"South",30,20,10]
["Muir College"]
[null,"Electric Vehicle"]
[null,null,"P206",2,2,1]
["North Campus"]
[null,"Electric Vehicle"]
[null,null,"P357",10,8,0]
["North Torrey Pines Living and Learning"]
[null,"Electric Vehicle"]
[null,null,"Scholars",35,27,7]
["Roosevelt College"]
[null,"Electric Vehicle"]
[null,null,"Hopkins",22,17,4]
[null,null,"Pangea",4,2,1]
["Science Research Park"]
[null,"Electric Vehicle"]
[null,null,"Mesa Canyon",33,22,9]
["Scripps Institution of Oceanography"]
[null,"Electric Vehicle"]
[null,null,"P001",9,9,6]
[null,null,"P004",1,1,0]
[null,null,"P007",8,8,0]
[null,null,"P013",2,2,0]
[null,null,"P014",2,2,1]
[null,null,"P017",2,2,0]
[null,null,"P032",2,0,0]
["Torrey Pines Center"]
[null,"Electric Vehicle"]
[null,null,"Torrey Pines Center South",10,10,4]
["University Center"]
[null,"Electric Vehicle"]
[null,null,"Gilman",33,13,2]
[8980]
[null,"Electric Vehicle"]
[null,null,8980,18,18,11]
["Theater District Living & Learning"]
[null,"Electric Vehicle"]
[null,null,"TDLLN",97,90,14]

{"sheet":"By Area","index":15,"n_rows":8,"n_cols":13,"rows_kept":8,"cut":false,"hidden":false,"merged":[]}
["Area","Space Type","Stall\nInventory","Open Stalls\n@ 8am","Open Stalls\n@ 9am","Open Stalls\n@ 10am","Open Stalls\n@ 11am","Open Stalls\n@ 12pm","Open Stalls\n@ 1pm","Open Stalls\n@ 2pm","Open Stalls\n@ 3pm","Open Stalls\n@ 4pm","Open Stalls\n@ 5pm"]
["% Open Stalls",null,null,{"$f":"D3/$C3","v":0.55202298300215469},{"$f":"E3/$C3","v":0.40660761311946375},0.33545606894900648,0.28929853962173807,0.26698587502992577,0.244481685420158,0.2587024180033517,0.31663873593488151,0.4348575532678956,0.57341393344505631]
["# Open Stalls",null,{"$f":"SUBTOTAL(9, C5:C9999)","v":20885},{"$f":"SUBTOTAL(9, D5:D9999)","v":11529},{"$f":"SUBTOTAL(9, E5:E9999)","v":8492},7006,6042,5576,5106,5403,6613,9082,11975.75]
["Area","Space Type","Sum of Inventory By Location","Sum of 8am","Sum of 9am","Sum of 10am","Sum of 11am","Sum of 12pm","Sum of 1pm","Sum of 2pm","Sum of 3pm","Sum of 4pm","Sum of 5pm"]
["East Campus",null,6607,2598,1968,1679,1541,1572,1580,1628,2202,3127,4195.75]
["Medical Center Hillcrest",null,2719,1430,994,754,637,597,586,682,804,1201,1657]
["Scripps Institution of Oceanography",null,839,667,526,370,313,234,223,245,262,380,576]
["West Campus",null,10720,6834,5004,4203,3551,3173,2717,2848,3345,4374,5547]

{"sheet":"By Surface Lot","index":16,"n_rows":102,"n_cols":21,"rows_kept":102,"cut":false,"hidden":false,"merged":[]}
["Location","Space Type","Stall\nInventory","Open Stalls\n@ 8am","Open Stalls\n@ 9am","Open Stalls\n@ 10am","Open Stalls\n@ 11am","Open Stalls\n@ 12pm","Open Stalls\n@ 1pm","Open Stalls\n@ 2pm","Open Stalls\n@ 3pm","Open Stalls\n@ 4pm","Open Stalls\n@ 5pm"]
["% Open Stalls",null,null,{"$f":"D3/$C3","v":0.54502026635784595},{"$f":"E3/$C3","v":0.39939200926462071},0.33989577301679214,0.33468442385639841,0.32513028372900982,0.31876085697741746,0.32078749276201507,0.39461493920092644,0.48335263462651995,0.59177764910248987]
["# Open Stalls",null,{"$f":"SUBTOTAL(9, C5:C9999)","v":6908},{"$f":"SUBTOTAL(9, D5:D9999)","v":3765},{"$f":"SUBTOTAL(9, E5:E9999)","v":2759},2348,2312,2246,2202,2216,2726,3339,4088]
["Lot  / Structure","Space Type","Sum of Inventory By Location","Sum of 8am","Sum of 9am","Sum of 10am","Sum of 11am","Sum of 12pm","Sum of 1pm","Sum of 2pm","Sum of 3pm","Sum of 4pm","Sum of 5pm"]
["P001",null,12,11,9,7,8,9,9,9,9,7,7]
["P002",null,33,28,15,9,12,9,5,8,11,13,19]
["P003",null,72,58,50,29,11,12,5,6,6,17,32]
["P004",null,15,12,11,5,4,2,3,4,5,4,3]
["P005",null,5,5,3,3,5,3,5,3,3,5,5]
["P006",null,7,3,1,1,0,1,1,1,1,2,4]
["P007",null,40,23,17,8,2,4,5,5,7,13,24]
["P008",null,30,18,11,0,0,0,0,0,0,5,14]
["P009",null,2,0,1,2,1,1,0,0,0,1,0]
["P010",null,24,20,14,1,0,0,1,2,2,7,13]
["P011",null,22,21,13,13,3,1,3,0,1,5,11]
["P012",null,13,13,10,6,2,0,2,0,0,4,10]
["P013",null,15,14,10,8,3,2,4,1,4,6,8]
["P014",null,113,100,84,55,53,37,31,30,32,43,70]
["P015",null,1,1,1,1,0,1,1,1,0,1,1]
["P016",null,61,50,45,41,18,21,25,16,18,30,53]
["P017",null,265,215,158,108,118,63,55,96,102,150,232]
["P021",null,75,75,73,73,73,68,68,63,61,67,70]
["P101",null,13,2,2,0,2,1,0,0,0,2,1]
["P106",null,9,9,9,7,7,7,4,5,8,7,5]
["P110",null,5,1,2,2,1,1,1,1,3,3,3]
["P112",null,6,3,3,3,2,2,3,4,0,4,5]
["P113",null,30,20,17,6,7,11,5,1,0,7,1]
["P116",null,13,1,1,2,2,2,3,0,2,1,0]
["P201",null,25,21,19,17,13,10,4,5,8,14,20]
["P202",null,9,8,8,7,6,4,1,2,6,6,8]
["P203",null,6,5,5,4,3,3,1,2,1,3,5]
["P204",null,2,2,1,2,2,1,1,0,1,2,2]
["P205",null,4,3,2,3,3,2,0,1,2,2,3]
["P206",null,54,49,43,40,29,27,22,20,20,31,46]
["P303",null,133,121,103,93,94,89,83,49,70,84,98]
["P304",null,83,77,69,65,62,57,9,9,22,51,72]
["P306",null,14,11,10,4,3,2,6,7,7,4,10]
["P310",null,4,3,3,2,3,3,4,3,3,3,3]
["P351",null,32,20,7,4,6,9,8,6,8,14,22]
["P352",null,4,0,0,2,1,1,2,2,1,1,1]
["P353",null,25,17,6,7,2,12,8,7,8,8,9]
["P354",null,15,7,3,0,2,2,5,5,4,5,7]
["P357",null,163,90,26,15,12,18,13,3,17,25,59]
["P358",null,1,0,0,1,0,0,0,0,0,1,1]
["P359",null,56,18,12,12,4,1,2,3,8,9,18]
["P384",null,179,94,36,19,54,66,7,9,23,54,103]
["P385",null,223,35,74,71,68,93,75,81,94,115,131]
["P386 (Gliderport)",null,335,155,89,80,140,118,289,301,292,309,306]
["P401",null,99,47,4,3,2,2,5,7,3,10,11]
["P402",null,27,11,5,8,10,12,13,12,14,17,15]
["P405",null,23,14,7,7,13,13,10,9,16,15,15]
["P406",null,25,21,8,4,3,3,4,7,4,9,8]
["P407",null,4,2,0,0,2,3,0,1,0,1,1]
["P414",null,16,12,7,7,6,6,8,7,9,11,9]
["P415",null,9,6,3,6,5,5,3,5,6,3,5]
["P416",null,68,55,25,34,30,35,29,40,43,37,58]
["P418",null,7,6,3,1,0,0,0,1,3,4,4]
["P501",null,12,6,5,1,1,1,8,9,10,10,10]
["P502",null,10,8,4,2,3,2,3,5,4,2,3]
["P503",null,54,37,29,21,16,19,27,28,21,22,32]
["P504",null,54,25,17,14,12,12,10,7,5,6,10]
["P505",null,7,4,4,3,4,4,7,6,6,6,6]
["P506",null,21,18,11,1,6,3,5,6,5,7,8]
["P507",null,250,90,79,57,60,70,64,58,97,121,116]
["P508",null,36,34,18,15,17,18,18,15,13,16,15]
["P509",null,7,7,7,7,4,5,5,7,5,4,5]
["P510",null,199,24,3,3,6,7,11,2,13,15,18]
["P601",null,11,7,0,0,1,1,3,3,4,7,7]
["P602",null,230,163,105,87,64,50,67,81,68,128,168]
["P603",null,57,34,17,20,17,27,16,18,24,33,35]
["P604",null,0]
["P605",null,16,15,6,9,10,9,4,4,7,9,10]
["P606",null,10,8,9,2,4,2,4,6,8,7,8]
["P607",null,5,4,2,2,5,4,2,3,2,4,4]
["P608",null,11,8,8,8,9,6,1,3,3,5,4]
["P610",null,149,84,6,5,7,5,11,17,22,25,40]
["P701",null,378,300,280,275,270,278,280,226,255,278,299]
["P702",null,189,86,53,58,74,64,52,33,48,60,75]
["P703",null,362,91,71,77,86,90,74,100,103,118,133]
["P704",null,326,200,125,140,150,130,137,185,215,209,227]
["P705",null,266,145,120,100,110,113,106,148,150,158,181]
["P706",null,72,26,10,9,8,6,6,13,20,36,39]
["P707",null,209,84,70,60,65,67,63,47,54,69,83]
["P751",null,7,2,4,3,0,1,3,0,0,0,0]
["P752",null,30,21,16,7,10,7,8,6,3,3,9,null,null,null,null,null,null,null,"                        "]
["P753",null,34,20,15,12,14,12,9,18,20,27,21]
["P757",null,0,0,0,0,0,0,0,0,0,0,0]
["P758",null,7,3,4,2,2,1,1,1,1,3,2]
["P759",null,114,66,44,31,23,26,25,22,28,51,60]
["P761",null,3,2,1,1,2,1,1,2,3,3,3]
["P762",null,4,2,3,3,2,2,0,0,0,4,4]
["P782",null,216,160,120,100,110,115,130,61,168,157,169]
["P784",null,108,7,5,0,4,7,3,9,19,26,40]
["P785",null,392,1,7,6,6,3,3,7,88,173,216]
["P952",null,11,6,8,8,5,3,4,4,5,3,6]
["P953",null,17,6,3,1,1,1,2,4,4,2,6]
["P954",null,40,28,25,21,19,17,18,18,16,15,34]
["P955",null,44,25,24,24,16,11,15,19,15,12,28]
["P956",null,8,5,5,5,1,1,2,5,3,3,5]
["P957",null,77,30,30,25,16,27,16,23,25,24,39]
["P964",null,105,61,54,34,27,30,22,13,33,46,79]
["Torrey Pines Center North",null,224,199,194,181,133,133,105,114,165,180,190]

{"sheet":"By Neighborhood","index":17,"n_rows":25,"n_cols":13,"rows_kept":25,"cut":false,"hidden":false,"merged":[]}
["Location","Space Type","Stall\nInventory","Open Stalls\n@ 8am","Open Stalls\n@ 9am","Open Stalls\n@ 10am","Open Stalls\n@ 11am","Open Stalls\n@ 12pm","Open Stalls\n@ 1pm","Open Stalls\n@ 2pm","Open Stalls\n@ 3pm","Open Stalls\n@ 4pm","Open Stalls\n@ 5pm"]
["% Open Stalls",null,null,{"$f":"D3/$C3","v":0.55202298300215469},{"$f":"E3/$C3","v":0.40660761311946375},0.33545606894900648,0.28929853962173807,0.26698587502992577,0.244481685420158,0.2587024180033517,0.31663873593488151,0.4348575532678956,0.57341393344505631]
["# Open Stalls",null,{"$f":"SUBTOTAL(9, C5:C9999)","v":20885},{"$f":"SUBTOTAL(9, D4:D9998)","v":11529},{"$f":"SUBTOTAL(9, E4:E9998)","v":8492},7006,6042,5576,5106,5403,6613,9082,11975.75]
["Neighborhood","Space Type","Sum of Inventory By Location","Sum of 8am","Sum of 9am","Sum of 10am","Sum of 11am","Sum of 12pm","Sum of 1pm","Sum of 2pm","Sum of 3pm","Sum of 4pm","Sum of 5pm"]
["Campus Services",null,449,114,82,60,66,77,75,60,110,136,134]
["East Recreation",null,378,300,280,275,270,278,280,226,255,278,299]
["Health Sciences East",null,4800,1898,1371,1096,984,1005,996,1122,1510,2113,3036.75]
["Health Sciences West",null,1809,1006,663,646,563,466,302,341,414,577,756]
["Marshall College",null,220,201,175,160,159,149,96,61,95,138,173]
["Medical Center Hillcrest",null,2719,1430,994,754,637,597,586,682,804,1201,1657]
["Muir College",null,223,181,130,126,104,104,74,83,96,116,157]
["North Campus",null,281,145,51,41,25,41,33,21,42,58,110]
["North Torrey Pines Living and Learning",null,1182,952,864,815,708,548,421,422,391,694,855]
["Pepper Canyon",null,151,79,17,15,15,17,22,26,21,36,34]
["Preuss School",null,72,26,10,9,8,6,6,13,20,36,39]
["Revelle College ",null,56,23,24,22,21,21,17,17,21,26,23]
["Roosevelt College",null,2496,1820,1197,930,721,649,467,534,718,884,1255]
["Science Research Park",null,1357,374,307,299,279,283,298,267,417,700,821]
["Scripps Institution of Oceanography",null,839,667,526,370,313,234,223,245,262,380,576]
["Torrey Pines Center",null,1447,825,621,546,534,550,606,641,730,832,977]
["University Center",null,886,453,373,260,184,155,143,148,211,251,303]
["Warren College",null,196,139,93,64,62,63,75,75,62,67,83]
[8980,null,276,169,162,145,138,137,144,147,159,171,169]
["(blank)",null,0]
["Theater District Living & Learning",null,1048,727,552,373,251,196,242,272,275,388,518]

{"sheet":"By Structure","index":18,"n_rows":19,"n_cols":13,"rows_kept":19,"cut":false,"hidden":false,"merged":[]}
["Location","Space Type","Stall\nInventory","Open Stalls\n@ 8am","Open Stalls\n@ 9am","Open Stalls\n@ 10am","Open Stalls\n@ 11am","Open Stalls\n@ 12pm","Open Stalls\n@ 1pm","Open Stalls\n@ 2pm","Open Stalls\n@ 3pm","Open Stalls\n@ 4pm","Open Stalls\n@ 5pm"]
["% Open Stalls",null,null,{"$f":"D3/$C3","v":0.55673580707672432},{"$f":"E3/$C3","v":0.41096676953994116},0.33374004162779014,0.26720734945812102,0.23842675662097179,0.20799540658867438,0.22823512524223066,0.27840378956434364,0.41154094595564489,0.56547405440321541]
["# Open Stalls",null,{"$f":"SUBTOTAL(9, C5:C9999)","v":13933},{"$f":"SUBTOTAL(9, D5:D9999)","v":7757},{"$f":"SUBTOTAL(9, E5:E9999)","v":5726},4650,3723,3322,2898,3180,3879,5734,7878.75]
["Structure","Space Type","Sum of Inventory By Location","Sum of 8am","Sum of 9am","Sum of 10am","Sum of 11am","Sum of 12pm","Sum of 1pm","Sum of 2pm","Sum of 3pm","Sum of 4pm","Sum of 5pm"]
[8980,null,276,169,162,145,138,137,144,147,159,171,169]
["Arbor",null,552,371,255,181,144,125,151,180,230,316,377]
["Athena",null,1293,637,451,303,248,274,307,316,513,853,1000.75]
["Campus Point East",null,699,267,161,97,69,84,64,81,97,200,418]
["Campus Point West",null,757,264,221,196,119,123,140,147,168,156,564]
["Curb",null,0,0,0,0,0,0,0,0,0,0,0]
["First Ave",null,1865,898,590,455,408,382,356,416,473,780,1083]
["Gilman",null,847,431,361,252,168,138,125,129,185,225,277]
["Hopkins",null,1418,1169,706,609,444,383,199,232,352,421,687]
["Mesa Canyon",null,1141,214,187,199,169,168,168,206,249,543,652]
["Pangea",null,1049,633,478,317,272,262,257,290,355,454,551]
["Scholars",null,1182,952,864,815,708,548,421,422,391,694,855]
["South",null,1320,683,510,513,446,362,194,206,276,359,480]
["TDLLN",null,1048,727,552,373,251,196,242,272,275,388,518]
["Torrey Pines Center South",null,486,342,228,195,139,140,130,136,156,174,247]

{"sheet":"By Space Type","index":19,"n_rows":25,"n_cols":12,"rows_kept":25,"cut":false,"hidden":false,"merged":[]}
["Space Type","Stall\nInventory","Open Stalls\n@ 8am","Open Stalls\n@ 9am","Open Stalls\n@ 10am","Open Stalls\n@ 11am","Open Stalls\n@ 12pm","Open Stalls\n@ 1pm","Open Stalls\n@ 2pm","Open Stalls\n@ 3pm","Open Stalls\n@ 4pm","Open Stalls\n@ 5pm"]
["% Open Stalls",null,{"$f":"C3/$B3","v":0.45898626426775002},{"$f":"D3/$B3","v":0.34378022828400079},0.2828400077384407,0.2432772296382279,0.23012188044109111,0.20642290578448444,0.21875604565680015,{"$f":"J3/$B3","v":0.27026504159411879},0.36390017411491582,0.479335945057071]
["# Open Stalls",{"$f":"SUBTOTAL(9, B5:B9999)","v":20676},{"$f":"SUBTOTAL(9, C6:C10000)","v":9490},{"$f":"SUBTOTAL(9, D6:D10000)","v":7108},5848,5030,4758,4268,4523,5588,7524,9910.75]
["Space Type","Sum of Inventory By Location","Sum of 8am","Sum of 9am","Sum of 10am","Sum of 11am","Sum of 12pm","Sum of 1pm","Sum of 2pm","Sum of 3pm","Sum of 4pm","Sum of 5pm"]
["A",3223,1939,1312,1089,947,756,776,823,964,1472,1948]
["Accessible",606,272,191,152,129,136,139,163,169,261,359]
["Allocated",59,38,31,26,29,25,19,14,18,17,31]
["B",7378,3601,2479,1693,1299,1148,779,866,1498,2638,3722.5]
["Carpool",368,308,275,251,163,145,110,124,138,152,185]
["Electric Vehicle",442,305,255,179,167,157,216,213,239,275,316.25]
["Loading",152,111,86,78,69,67,58,54,63,68,78]
["Motorcycle Section",325,269,237,235,232,228,226,212,232,239,255]
["Reserved",916,651,491,390,343,366,395,437,422,482,650]
["S",1280,857,626,686,610,603,496,429,491,627,768]
["Service Yard",115,74,60,57,56,51,43,49,39,57,63]
["SR",620,338,271,258,228,217,125,127,128,167,225]
["UC Vehicle",287,132,115,107,105,121,101,91,101,119,114]
["Visitor",2864,1649,1333,1102,890,829,707,795,1005,1275,1850]
["UC Cart",16,10,10,10,1,1,6,8,7,8,7]
["D ($5.00)",887,395,285,283,320,298,291,402,436,452,507]
["Loading Zone",5,1,1,1,1,1,0,0,1,1,1]
["Commercial Loading",4,4,3,3,2,2,3,2,3,3,4]
["(blank)",0,0,0,0,0,0,0,0,0,0,0]
["SS ($3.25)",551,315,209,180,250,233,419,362,460,466,475]
["G",578,160,150,157,136,130,135,175,138,217,300]

{"sheet":"ADA By Location","index":20,"n_rows":86,"n_cols":13,"rows_kept":86,"cut":false,"hidden":false,"merged":[]}
["Space Type","Location","Stall\nInventory","Open Stalls\n@ 8am","Open Stalls\n@ 9am","Open Stalls\n@ 10am","Open Stalls\n@ 11am","Open Stalls\n@ 12pm","Open Stalls\n@ 1pm","Open Stalls\n@ 2pm","Open Stalls\n@ 3pm","Open Stalls\n@ 4pm","Open Stalls\n@ 5pm"]
["% Open Stalls",null,null,{"$f":"D3/$C3","v":0.44884488448844884},0.31518151815181517,0.25082508250825081,0.21287128712871287,0.22442244224422442,0.22937293729372937,0.26897689768976896,0.27887788778877887,0.43069306930693069,0.59240924092409242]
["# Open Stalls",null,{"$f":"SUBTOTAL(9, C5:C9999)","v":606},{"$f":"SUBTOTAL(9, D5:D9999)","v":272},{"$f":"SUBTOTAL(9, E5:E9999)","v":191},152,129,136,139,163,169,261,359]
["Space Type","Lot  / Structure","Sum of Inventory By Location","Sum of 8am","Sum of 9am","Sum of 10am","Sum of 11am","Sum of 12pm","Sum of 1pm","Sum of 2pm","Sum of 3pm","Sum of 4pm","Sum of 5pm"]
["Accessible"]
[null,8980,9,7,7,6,6,6,7,8,7,8,8]
[null,"Arbor",15,11,9,6,5,6,8,4,3,5,8]
[null,"Athena",71,30,20,15,10,15,18,13,16,49,60]
[null,"Campus Point East",11,3,3,0,1,1,1,2,4,0,5]
[null,"Campus Point West",87,0,0,1,0,0,1,0,1,1,43]
[null,"First Ave",59,26,20,17,16,20,16,34,26,34,40]
[null,"Gilman",32,0,0,0,0,0,2,0,3,3,4]
[null,"Hopkins",17,14,9,7,6,3,4,12,11,16,15]
[null,"P001",1,1,1,0,0,1,1,1,1,1,1]
[null,"P002",2,2,0,0,1,1,1,1,1,1,1]
[null,"P003",2,1,0,0,0,0,0,0,0,1,1]
[null,"P005",1,1,1,1,1,1,1,1,1,1,1]
[null,"P006",1,1,1,1,0,1,1,0,0,0,0]
[null,"P007",3,3,3,3,0,0,1,1,1,1,2]
[null,"P008",3,3,3,0,0,0,0,0,0,2,2]
[null,"P010",1,1,0,0,0,0,0,0,0,1,0]
[null,"P011",1,1,1,1,1,0,1,0,1,1,1]
[null,"P012",1,1,1,0,0,0,1,0,0,0,1]
[null,"P013",1,1,1,1,1,0,1,1,1,1,1]
[null,"P014",1,1,1,1,1,1,1,1,1,1,1]
[null,"P016",2,2,2,2,1,1,1,1,1,2,2]
[null,"P017",2,2,2,2,2,1,1,1,1,1,2]
[null,"P101",10,0,0,0,1,0,0,0,0,1,0]
[null,"P106",0]
[null,"P113",0]
[null,"P201",2,2,2,1,1,1,0,0,1,1,2]
[null,"P202",0]
[null,"P206",4,4,3,3,2,2,3,0,1,2,2]
[null,"P303",5,4,4,3,3,4,3,4,2,3,5]
[null,"P304",1,1,1,1,1,1,0,0,1,0,1]
[null,"P306",3,2,2,1,1,0,0,0,1,0,2]
[null,"P310",2,2,1,1,1,1,2,1,2,1,1]
[null,"P352",0]
[null,"P353",3,2,1,0,1,2,1,2,2,2,2]
[null,"P354",4,2,0,0,0,0,1,2,2,2,2]
[null,"P357",2,0,0,0,0,0,2,0,1,0,2]
[null,"P385",3,1,0,1,1,1,2,2,2,3,3]
[null,"P401",0]
[null,"P402",2,1,0,0,0,0,0,0,0,0,0]
[null,"P406",2,2,1,1,0,0,1,1,1,2,2]
[null,"P415",1,1,0,0,0,0,0,1,0,0,0]
[null,"P416",14,11,5,3,3,5,0,8,8,4,12]
[null,"P418",4,3,2,1,0,0,0,1,3,3,4]
[null,"P501",1,1,1,0,0,0,0,1,1,1,1]
[null,"P503",1,1,1,0,1,0,1,1,0,1,1]
[null,"P504",4,4,0,0,0,0,0,0,0,1,0]
[null,"P506",1,1,1,0,0,1,0,1,1,1,1]
[null,"P507",8,7,6,0,0,0,0,0,6,8,7]
[null,"P508",3,3,1,0,0,0,1,0,0,2,1]
[null,"P601",7,4,0,0,0,0,2,3,3,5,5]
[null,"P602",2,0,0,0,0,0,0,0,1,2,2]
[null,"P603",6,5,0,0,0,6,2,2,2,5,6]
[null,"P604",0]
[null,"P605",1,1,1,1,1,0,0,0,0,0,1]
[null,"P606",0]
[null,"P608",2,1,0,0,0,0,0,1,1,1,1]
[null,"P610",0]
[null,"P702",3,3,1,1,2,3,2,1,1,1,1]
[null,"P703",0,0,0,0,0,0,0,0,0,0,0]
[null,"P706",1,0,1,1,1,0,1,1,1,1,1]
[null,"P707",4,4,3,4,4,2,3,2,2,4,4]
[null,"P751",2,0,1,0,0,1,2,0,0,0,0]
[null,"P752",0,0,0,0,0,0,0,0,0,0,0]
[null,"P753",0,0,0,0,0,0,0,0,0,0,0]
[null,"P758",2,1,1,0,0,0,1,0,0,1,0]
[null,"P759",4,3,2,2,1,1,3,1,1,2,2]
[null,"P784",6,0,0,0,0,1,0,2,1,2,2]
[null,"P785",0,0,0,0,0,0,0,0,0,0,0]
[null,"P953",3,1,0,0,0,0,1,1,1,0,1]
[null,"P954",3,1,1,0,0,1,0,1,1,2,2]
[null,"P955",1,1,0,0,0,0,1,1,1,0,1]
[null,"P957",7,0,0,0,0,0,0,0,1,2,1]
[null,"P964",11,0,0,0,0,0,0,0,0,1,3]
[null,"Pangea",17,7,4,4,4,0,4,8,5,9,10]
[null,"Scholars",48,33,29,27,24,17,8,7,11,25,32]
[null,"South",22,12,9,10,8,9,8,4,4,7,10]
[null,"TDLLN",17,3,2,1,1,1,1,5,1,6,5]
[null,"Torrey Pines Center North",3,3,3,3,3,3,2,3,2,3,3]
[null,"Torrey Pines Center South",16,15,11,8,7,8,7,8,10,10,12]
[null,"Mesa Canyon",12,7,5,10,5,7,6,6,4,4,4]
[null,"P032",3]

{"sheet":"EV By Location","index":21,"n_rows":34,"n_cols":13,"rows_kept":34,"cut":false,"hidden":false,"merged":[]}
["Space Type","Location","Stall\nInventory","Open Stalls\n@ 8am","Open Stalls\n@ 9am","Open Stalls\n@ 10am","Open Stalls\n@ 11am","Open Stalls\n@ 12pm","Open Stalls\n@ 1pm","Open Stalls\n@ 2pm","Open Stalls\n@ 3pm","Open Stalls\n@ 4pm","Open Stalls\n@ 5pm"]
["% Open Stalls",null,null,{"$f":"D3/$C3","v":0.69004524886877827},0.57692307692307687,0.40497737556561086,0.37782805429864252,0.35520361990950228,0.48868778280542985,0.48190045248868779,0.54072398190045246,0.62217194570135748,0.7154977375565611]
["# Open Stalls",null,{"$f":"SUBTOTAL(9, C5:C9999)","v":442},{"$f":"SUBTOTAL(9, D5:D9999)","v":305},{"$f":"SUBTOTAL(9, E5:E9999)","v":255},179,167,157,216,213,239,275,316.25]
["Space Type","Lot  / Structure","Sum of Inventory By Location","Sum of 8am","Sum of 9am","Sum of 10am","Sum of 11am","Sum of 12pm","Sum of 1pm","Sum of 2pm","Sum of 3pm","Sum of 4pm","Sum of 5pm"]
["Electric Vehicle"]
[null,8980,18,14,14,14,13,13,12,11,15,17,18]
[null,"Arbor",12,7,5,3,4,2,5,4,2,4,9]
[null,"Athena",45,36,30,10,32,26,34,28,30,33,39.25]
[null,"Campus Point East",3,0,0,0,0,1,1,1,0,0,2]
[null,"Campus Point West",6,0,1,0,0,0,2,1,0,1,4]
[null,"First Ave",30,16,12,11,9,7,9,15,19,29,17]
[null,"Gilman",33,12,4,5,4,5,2,4,8,7,13]
[null,"Hopkins",22,16,9,7,5,5,4,9,12,14,17]
[null,"P001",9,9,7,7,8,8,8,8,8,6,6]
[null,"P004",1,1,1,0,0,0,1,1,1,1,1]
[null,"P007",8,8,6,4,1,0,1,2,3,3,5]
[null,"P013",2,1,2,2,2,2,1,0,1,1,0]
[null,"P014",2,2,2,2,2,2,1,1,2,2,2]
[null,"P017",2,2,2,0,0,0,1,0,0,1,2]
[null,"P206",2,2,2,2,1,1,1,1,1,1,2]
[null,"P357",10,6,1,0,1,0,0,0,1,3,8]
[null,"P507",2,2,2,2,2,2,2,2,1,1,1]
[null,"P602",4,3,0,0,2,1,0,0,0,1,3]
[null,"P610",6,4,0,1,2,0,0,0,0,1,3]
[null,"P703",12,4,5,4,3,7,5,4,3,3,3]
[null,"P707",2,2,1,1,1,2,2,2,2,2,2]
[null,"P751",0,0,0,0,0,0,0,0,0,0,0]
[null,"Pangea",4,2,1,1,2,1,2,2,2,2,2]
[null,"Scholars",35,27,26,23,21,18,7,11,13,15,25]
[null,"South",30,12,10,13,17,17,17,14,12,18,20]
[null,"TDLLN",97,89,88,39,17,15,80,79,84,82,85]
[null,"Torrey Pines Center South",10,10,9,8,8,7,5,4,6,5,5]
[null,"Mesa Canyon",33,18,15,20,10,15,13,9,13,22,22]
[null,"P032",2]

{"sheet":"Reserved By Location","index":22,"n_rows":64,"n_cols":13,"rows_kept":64,"cut":false,"hidden":false,"merged":[]}
["Space Type","Location","Stall\nInventory","Open Stalls\n@ 8am","Open Stalls\n@ 9am","Open Stalls\n@ 10am","Open Stalls\n@ 11am","Open Stalls\n@ 12pm","Open Stalls\n@ 1pm","Open Stalls\n@ 2pm","Open Stalls\n@ 3pm","Open Stalls\n@ 4pm","Open Stalls\n@ 5pm"]
["% Open Stalls",null,null,{"$f":"D3/$C3","v":0.7106986899563319},0.53602620087336239,0.42576419213973798,0.37445414847161573,0.39956331877729256,0.43122270742358076,0.47707423580786024,0.4606986899563319,0.52620087336244536,0.70960698689956336]
["# Open Stalls",null,{"$f":"SUBTOTAL(9, C5:C9999)","v":916},{"$f":"SUBTOTAL(9, D4:D9998)","v":651},{"$f":"SUBTOTAL(9, E4:E9998)","v":491},390,343,366,395,437,422,482,650]
["Space Type","Lot  / Structure","Sum of Inventory By Location","Sum of 8am","Sum of 9am","Sum of 10am","Sum of 11am","Sum of 12pm","Sum of 1pm","Sum of 2pm","Sum of 3pm","Sum of 4pm","Sum of 5pm"]
["Reserved"]
[null,8980,5,3,4,3,3,3,3,3,3,2,2]
[null,"Arbor",20,9,7,4,3,3,6,15,17,15,19]
[null,"Athena",6,3,5,4,0,2,4,4,5,6,6]
[null,"Campus Point East",167,138,94,60,42,44,33,42,42,50,132]
[null,"Campus Point West",28,11,6,11,12,12,12,12,8,5,16]
[null,"First Ave",8,6,4,3,2,3,4,2,2,5,5]
[null,"Gilman",48,43,39,32,26,28,29,33,25,30,30]
[null,"Hopkins",10,4,3,2,1,1,6,4,5,6,6]
[null,"P001",1,0,1,0,0,0,0,0,0,0,0]
[null,"P014",0,0,0,0,0,0,0,0,0,0,0]
[null,"P101",1,1,1,0,0,0,0,0,0,0,1]
[null,"P106",5,5,5,4,4,4,3,3,4,4,2]
[null,"P113",4,4,4,0,0,0,0,1,0,2,0]
[null,"P202",1,1,1,1,1,0,0,1,1,1,1]
[null,"P203",6,5,5,4,3,3,1,2,1,3,5]
[null,"P303",5,5,0,0,1,1,3,1,2,3,3]
[null,"P306",4,4,3,2,1,1,1,2,1,3,2]
[null,"P351",10,4,3,3,3,4,6,6,4,7,7]
[null,"P354",1,1,0,0,1,0,0,0,1,1,1]
[null,"P357",4,2,1,2,0,0,0,0,1,0,4]
[null,"P385",11,6,5,5,6,9,11,11,11,11,11]
[null,"P402",4,2,1,1,3,3,1,1,1,1,0]
[null,"P405",1,1,1,0,0,1,1,0,1,1,1]
[null,"P414",2,2,1,1,1,1,2,1,1,2,2]
[null,"P415",8,5,3,6,5,5,3,4,6,3,5]
[null,"P416",44,36,16,26,25,28,29,29,33,31,37]
[null,"P502",6,4,2,1,3,2,3,4,4,2,3]
[null,"P503",23,17,12,13,11,12,19,18,16,9,18]
[null,"P504",6,4,3,2,2,1,3,3,1,2,3]
[null,"P505",4,4,4,2,2,3,4,3,3,3,3]
[null,"P508",25,23,15,14,16,17,16,14,12,12,12]
[null,"P509",1,1,1,1,1,0,1,1,1,1,1]
[null,"P510",3,0,0,0,0,0,0,0,0,0,0]
[null,"P602",90,60,41,34,38,40,64,71,46,80,78]
[null,"P603",0]
[null,"P605",8,7,2,3,5,4,4,4,5,7,7]
[null,"P606",6,5,5,1,3,2,2,4,4,4,4]
[null,"P608",1,1,1,1,1,1,1,0,0,1,1]
[null,"P610",23,15,6,4,5,5,9,7,8,8,9]
[null,"P703",2,1,1,1,1,1,2,0,1,1,1]
[null,"P707",6,5,4,3,5,6,6,6,6,6,6]
[null,"P751",0,0,0,0,0,0,0,0,0,0,0]
[null,"P752",24,19,15,5,7,4,7,5,2,3,9]
[null,"P753",32,20,15,12,13,10,8,18,20,26,20]
[null,"P757",0,0,0,0,0,0,0,0,0,0,0]
[null,"P758",5,2,3,2,2,1,0,1,1,2,2]
[null,"P759",17,10,8,5,5,9,9,9,11,12,14]
[null,"P784",9,7,5,0,3,5,2,7,7,8,7]
[null,"P953",7,4,3,1,1,1,1,2,1,1,3]
[null,"P954",25,19,17,18,14,12,15,13,11,10,23]
[null,"P955",21,17,17,18,7,4,6,11,10,5,15]
[null,"P957",67,30,30,23,14,25,16,22,23,22,38]
[null,"P964",37,36,33,18,12,14,10,8,21,29,35]
[null,"Pangea",7,5,4,4,3,4,6,6,5,6,5]
[null,"Scholars",29,23,22,21,16,16,13,11,15,17,20]
[null,"South",5,3,1,1,2,3,5,5,5,5,5]
[null,"TDLLN",0]
[null,"Torrey Pines Center North",11,2,2,2,2,2,1,2,2,2,2]
[null,"Torrey Pines Center South",12,6,6,6,6,6,4,5,6,6,8]